{"text_format":"1","workbook":"xlsx","n_sheets":9,"sheets":["Instructions","LEA Identifiers & Names","Special Ed Teachers (FS070)","Related Services Pers. (FS099)","Sp Ed Paraprofessionals (FS112)","Select LEA","Error Messages","Data Summary","Edit Check Details"],"not_rendered":{"charts":0,"images":2,"macros":1,"external_links":1,"defined_names":84,"comments":4,"pivot_tables":0},"unopened":[],"bounds":{"document_bytes":16777216,"sheet_cells":100000,"rows_first":2000,"rows_last":500,"rows_between":2000,"halvings":0,"cell_chars":16384,"cell_head_chars":4096},"cells_cut":0,"cells_raw":0,"read":"whole","date_system":"1900"}

{"sheet":"Instructions","index":0,"n_rows":51,"n_cols":8,"rows_kept":51,"cut":false,"hidden":false,"merged":[[51,2,51,10],[37,1,37,10],[38,2,38,10],[39,1,40,10],[41,2,41,10],[42,1,42,10],[43,2,43,10],[44,1,44,13],[45,1,45,3],[46,2,46,10],[48,2,48,10],[50,1,50,10],[36,1,36,10],[24,2,24,10],[26,2,26,10],[27,2,27,10],[28,2,28,10],[29,2,29,10],[30,2,30,10],[31,2,31,10],[32,2,32,10],[33,2,33,10],[34,1,34,6],[35,2,35,10],[23,2,23,10],[12,2,12,10],[13,2,13,10],[14,2,14,10],[15,2,15,10],[16,2,16,10],[17,2,17,10],[18,2,18,10],[19,2,19,10],[20,2,20,10],[21,2,21,10],[22,2,22,10],[11,2,11,10],[0,7,0,9],[1,1,1,10],[2,1,2,10],[3,1,3,3],[3,4,3,5],[4,2,4,10],[6,2,6,10],[7,2,7,10],[8,2,8,10],[9,2,9,10],[10,2,10,10]]}
[]
[null,"LEA EDFacts Edit Check and Data Display Tool - IDEA Personnel"]
[null,"The LEA EDFacts Edit Check and Data Display Tool - IDEA Personnel is designed for states to use as they prepare their data for submission via EDFacts. States use this tool to check LEA-level EDFacts data files FS070, FS099, and FS112. The tool identifies format, validation, and other errors in category sets or subtotals. State staff also can use this tool as a data display in their work with LEAs, including monitoring, performing desk audits of LEA data, and providing technical assistance and professional development to LEA staff.\n \nStates cannot submit data using this tool. They must submit all data following the guidelines provided in the data file specifications at"]
[null,"The EDFacts Initiative"]
[]
[null,"Please read the following instructions before using this tool:"]
[null,"1.","To begin using this tool, you must enter the state’s LEA identifiers and LEA names in the LEA Identifiers & Names tab.  You will use this list in the drop-down menu in the Select LEA tab. You can copy and paste the state’s LEA identifiers and LEA names into the table in the LEA Identifiers & Names tab from an existing list such as the state’s LEA-level Directory (FS029) file columns, LEA Identifier (State) and Education Entity Name."]
[]
[null,null,"The LEA names will appear in the drop-down list in the order in which they are listed on the LEA Identifiers & Names tab. Please consider alphabetizing your list of LEA names and identifiers before pasting them into the table on that tab."]
[]
[null,"2.","To select, copy, and paste data from your LEA FS070 EDFacts file into the tool, do the following:"]
[null,null,"     a.    Open your LEA-level FS070 – Special Education Teachers (FTE) data file in Excel (or similar application). "]
[null,null,"     b.    Select and copy all rows and columns from the EDFacts data file.\n                    i.   Include the EDFacts data file header row and filler columns. \n                   ii.   Do NOT use the \"Select All\" function in Excel."]
[null,null,"     c.     Paste the selected data to cell A11 in the Special Ed Teachers (FS070) tab in this tool.  "]
[null,null,"     d.     In the Special Ed Teachers (FS070) tab, click the \"Check Data Format\" button to run all format checks. If there are format errors, you \n              will see pop-up boxes containing important information about the errors. "]
[]
[null,null,"              The “Check Data Format” button identifies the following format errors:\n                      i.     compares the text in the File Type cell in the header row (in cell A11) to the required value for the LEA FS070 file, LEA SPECIAL EDUCATION TEACHER;  \n                     ii.     compares the number of records entered in the file header row (in cell B11) to confirm it matches the actual number of rows of data in the file;\n                    iii.     checks the school year date format in the header row (in cell E11);\n                    iv.     checks the filler columns for any characters (all filler columns should be blank); and\n                     v.     checks the file record number, state code, state agency number, LEA identifier (state), table name, total indicator, and FTE \n                              columns for blanks (there should be no blanks in these columns). \n\n"]
[]
[null,null,"     e.     To delete the data pasted into the Special Ed Teachers (FS070) tab, click the \"Clear Data\" button."]
[null,"3.","Repeat steps 2.a. through 2.e. for the other two IDEA personnel data files, LEA FS099 - Special Education Related Services Personnel and LEA FS112 - Special Education Paraprofessionals."]
[null,"4.","To review data for each LEA, click on the Select LEA tab.\n"]
[null,null,"     a.     The \"Select LEA\" box should have the names of the LEAs that you copied and pasted in the LEA Identifiers & Names tab.  Open the \"Select LEA\" box by \n              clicking on the down arrow to the right of the box."]
[null,null,"     b.     Select the LEA you would like to analyze or review; then click the “Select LEA Data” button to the right of the selected LEA.  The rows from the EDFacts \n              file that match that LEA's state identifier (code) will populate in the Excel sheet."]
[null,null,"     c.     To select another LEA, first click on the “Clear ‘Select LEA’ Field” button to clear the current LEA out of the yellow selection box.  Once the LEA has been \n              cleared, the full list of LEAs will be available again in the \"Select LEA\" box when you click on the down arrow.  Select another LEA, click the “Select LEA Data” \n              button, and the table will update with the newly selected LEA’s data."]
[null,null,"     d.     To quickly search for an LEA in the drop-down list in the “Select LEA” field, click on the yellow box (C6), type in three or more letters or numbers that \n              appear in the name of the LEA or group of LEAs you want to locate. Next, click the carat beside the yellow box (C6) to see the list of LEA names that \n              contain the letters or numbers you entered."]
[]
[null,"5.","To check errors for each LEA, follow these steps:"]
[null,null,"     a.     On the Select LEA tab, review the “Data quality checks\" table to the right of the data displayed for the selected LEA to see (1) lists of data category sets and \n             subtotals not included in the FS070 file for the selected LEA, (2) duplicate rows, and (3) rows that contain invalid values."]
[null,null,"     b.     To facilitate locating data errors in the EDFacts file, data with errors displayed in the Error Messages, Dashboard, and Edit Check Details tabs are highlighted in \n              red and hyperlinked. Use the hyperlinked data to trace each highlighted error through the Error Messages, Dashboard, and Edit Check Details tabs back to \n              the EDFacts data file in the Select LEA tab where the error originates."]
[null,null,"     c.      Error messages in the Error Messages tab indicate computational or other errors in reporting only for the LEA selected in the Select LEA tab. Please correct \n              all errors before submitting the data file to the U.S. Department of Education via the EDFacts Submission System. "]
[null,null,"     d.      Please note, this tool does not identify the state-specific differences in EDFacts file contents. State-specific differences noted in the EDFacts IDEA State \n              Supplemental Survey (SSS) may show up as error messages in this tool."]
[]
[null,"6.","Review and address each triggered format check and error message. If you need to make changes to the data, make these changes in the corresponding data system and/or EDFacts file. Then check the corrected IDEA Personnel files by carefully pasting the updated data into the FS070, FS099, and FS112 tabs. Do NOT make data modifications directly in the LEA Edit Check Tool. You must make these changes in the EDFacts file that you will submit, then copy them from that file back into the LEA Edit Check Tool to recheck the data and confirm correction."]
[]
[null,"If you would like assistance using this tool, please contact your IDC State Liaison or email ",null,null,null,null,null,"IDEAdata@westat.com"]
[]
[null,"Please note, this tool is currently not 508 accessible. If you need assistance with the use of this tool, please contact your IDC State Liaison or email"]
[null,"IDEAdata@westat.com"]
[]
[null,"The IDEA Data Center (IDC) created this publication under U.S. Department of Education, Office of Special Education Programs grant number H373Y190001. Richelle Davis and Rebecca Smith serve as the project officers. "]
[]
[]
[null,"The views expressed herein do not necessarily represent the positions or policies of the U.S. Department of Education. No official endorsement by the U.S. Department of Education of any product, commodity, service, or enterprise mentioned in this publication is intended or should be inferred. This product is in the public domain. Authorization to reproduce it in whole or in part is granted. \n\n"]
[]
[null,"Westat is the lead organization for IDC. For more information about the center’s work and its partners, see"]
[null,"ideadata.org"]
[]
[null,"Version Date: September 2021"]
[]
[null,"Suggested Citation:"]
[null,"Long, T., Thacker, C., and Edora, F. (2021, September). LEA EDFacts Edit Check and Data Display Tool - IDEA Personnel. IDEA Data Center. Rockville, MD: Westat."]

{"sheet":"LEA Identifiers & Names","index":1,"n_rows":5,"n_cols":3,"rows_kept":5,"cut":false,"hidden":false,"merged":[[2,1,2,2],[0,0,0,3]]}
["LEA Identifiers and Names"]
[]
[null,"Instructions:\nEnter your state's LEA identifiers and names below. You will use this list in the drop-down menu on the Select LEA tab to select the name of the LEA for data-display in the tables on the Error Messages tab, Data Summary tab, and Edit Check Details tab. The LEA identifiers must match those you used in your LEA FS070, FS099, and FS112 files.\n\nThe LEA names will appear in the drop-down list in the order in which you list them below. Please consider alphabetizing your list of LEA names before pasting them into the table below."]
[]
[null,"LEA identifier (state)","LEA name"]

{"sheet":"Special Ed Teachers (FS070)","index":2,"n_rows":10,"n_cols":26,"rows_kept":10,"cut":false,"hidden":false,"merged":[[0,0,0,12],[8,0,8,12]]}
[{"$f":"\"IDEA LEA Personnel Data for School Year \"&'Special Ed Teachers (FS070)'!E11","v":"IDEA LEA Personnel Data for School Year "},null,null,null,null,null,null,null,null,null,null,null,null,null,null,null,"End of worksheet",null,null,null,null,null,null,null,null,"End of worksheet"]
[]
[null,null,null,null,null,null,null,null,null,null,null,null,null,null,{"$f":"SUM(R12:R40)","v":0}]
[]
[]
[]
[]
[]
["FS070 — Special Education Teachers (FTE)"]
["File record \nnumber","State code","State agency number","LEA identifier (state)","Filler","Table name","Filler","Qualification status (teachers)","Filler","Age group","Total indicator","Explanation","Teacher FTE"]

{"sheet":"Related Services Pers. (FS099)","index":3,"n_rows":10,"n_cols":25,"rows_kept":10,"cut":false,"hidden":false,"merged":[[0,0,0,11],[8,0,8,11]]}
[{"$f":"\"IDEA LEA Personnel Data for School Year \"&'Special Ed Teachers (FS070)'!E11","v":"IDEA LEA Personnel Data for School Year "},null,null,null,null,null,null,null,null,null,null,null,null,null,null,"End of worksheet",null,null,null,null,null,null,null,null,"End of worksheet"]
[]
[null,null,null,null,null,null,null,null,null,null,null,null,null,{"$f":"SUM(Q12:Q70)","v":0}]
[]
[]
[]
[]
[]
["FS099 — Special Education Related Services Personnel "]
["File record \nnumber","State code","State agency number","LEA identifier (state)","Filler","Table name","Staff category (special education related service)","Certification status","Filler","Total indicator","Explanation","Staff FTE"]

{"sheet":"Sp Ed Paraprofessionals (FS112)","index":4,"n_rows":21,"n_cols":70,"rows_kept":21,"cut":false,"hidden":false,"merged":[[0,0,0,12],[8,0,8,12]]}
[{"$f":"\"IDEA LEA Personnel Data for School Year \"&'Special Ed Teachers (FS070)'!E11","v":"IDEA LEA Personnel Data for School Year "},null,null,null,null,null,null,null,null,null,null,null,null,null,"=IF(LEN(AF13)=0,\"\",IF(ISNA(MATCH(AF13,CurrentListing,0)),AG13,\"\"))",null,null,null,null,"End of worksheet",null,null,null,null,null,"End of worksheet"]
[]
[null,null,null,null,null,null,null,null,null,null,null,null,null,null,{"$f":"SUM(R12:R40)","v":0}]
[]
[]
[]
[]
[]
["FS112 — Special Education Paraprofessionals "]
["File record \nnumber","State code","State agency number","LEA identifier (state)","Filler","Table name","Filler","Age group","Qualification status","Filler","Total indicator","Explanation","Staff FTE"]
[]
[]
[null,null,null,null,null,null,null,null,null,null,null,null,null,null,null,null,null,null,null,null,null,null,null,null,null,null,null,null,null,null,"File record \nnumber","State code","State agency number","LEA identifier (state)","Filler","Table name","Filler","Qualification status (teachers)","Filler","Age group","Total indicator","Explanation","Teacher FTE",null,"File record \nnumber","State code","State agency number","LEA identifier (state)","Filler","Table name","Staff category (special education related service)","Certification status","Filler","Total indicator","Explanation","Staff FTE",null,"File record \nnumber","State code","State agency number","LEA identifier (state)","Filler","Table name","Filler","Age group","Qualification status","Filler","Total indicator","Explanation","Staff FTE"]
[null,null,null,null,null,null,null,null,null,null,null,null,null,null,null,null,null,null,null,null,null,null,null,null,null,null,null,null,null,null,6,98,"01",35,null,"TEACHSPED",null,"SPEDTCHFULCRT",null,"3TO5","N",null,2,null,147,98,"01",35,null,"SPEDUPERSNL","OCCTHERAP","FC",null,"N",null,0.1,null,32,98,"01",35,null,"SPEDPARAPROF",null,"3TO5","Q",null,"N",null,4]
[null,null,null,null,null,null,null,null,null,null,null,null,null,null,null,null,null,null,null,null,null,null,null,null,null,null,null,null,null,null,123,98,"01",35,null,"TEACHSPED",null,"SPEDTCHFULCRT",null,"6TO21","N",null,15,null,303,98,"01",35,null,"SPEDUPERSNL","PHYSTHERAP","FC",null,"N",null,0.1,null,148,98,"01",35,null,"SPEDPARAPROF",null,"6TO21","Q",null,"N",null,32.75]
[null,null,null,null,null,null,null,null,null,null,null,null,null,null,null,null,null,null,null,null,null,null,null,null,null,null,null,null,null,null,273,98,"01",35,null,"TEACHSPED",null,"SPEDTCHNFULCRT",null,"6TO21","N",null,4,null,417,98,"01",35,null,"SPEDUPERSNL","PSYCH","FC",null,"N",null,2,null,291,98,"01",35,null,"SPEDPARAPROF",null,"3TO5",null,null,"Y",null,4]
[null,null,null,null,null,null,null,null,null,null,null,null,null,null,null,null,null,null,null,null,null,null,null,null,null,null,null,null,null,null,325,98,"01",35,null,"TEACHSPED",null,"SPEDTCHFULCRT",null,null,"Y",null,17,null,565,98,"01",35,null,"SPEDUPERSNL","SPEECHPATH","FC",null,"N",null,2,null,292,98,"01",35,null,"SPEDPARAPROF",null,"6TO21",null,null,"Y",null,32.75]
[null,null,null,null,null,null,null,null,null,null,null,null,null,null,null,null,null,null,null,null,null,null,null,null,null,null,null,null,null,null,326,98,"01",35,null,"TEACHSPED",null,"SPEDTCHNFULCRT",null,null,"Y",null,4,null,772,98,"01",35,null,"SPEDUPERSNL","OCCTHERAP",null,null,"Y",null,0.1,null,543,98,"01",35,null,"SPEDPARAPROF",null,null,"Q",null,"Y",null,36.75]
[null,null,null,null,null,null,null,null,null,null,null,null,null,null,null,null,null,null,null,null,null,null,null,null,null,null,null,null,null,null,514,98,"01",35,null,"TEACHSPED",null,null,null,"3TO5","Y",null,2,null,773,98,"01",35,null,"SPEDUPERSNL","PHYSTHERAP",null,null,"Y",null,0.1,null,702,98,"01",35,null,"SPEDPARAPROF",null,null,null,null,"Y",null,36.75]
[null,null,null,null,null,null,null,null,null,null,null,null,null,null,null,null,null,null,null,null,null,null,null,null,null,null,null,null,null,null,515,98,"01",35,null,"TEACHSPED",null,null,null,"6TO21","Y",null,19,null,774,98,"01",35,null,"SPEDUPERSNL","PSYCH",null,null,"Y",null,2]
[null,null,null,null,null,null,null,null,null,null,null,null,null,null,null,null,null,null,null,null,null,null,null,null,null,null,null,null,null,null,767,98,"01",35,null,"TEACHSPED",null,null,null,null,"Y",null,21,null,775,98,"01",35,null,"SPEDUPERSNL","SPEECHPATH",null,null,"Y",null,2]

{"sheet":"Select LEA","index":5,"n_rows":5008,"n_cols":76,"rows_kept":1125,"cut":true,"hidden":false,"merged":[[0,29,11,29],[5,0,6,1],[7,0,7,1],[11,14,11,16],[5,2,6,6],[9,2,9,4],[9,0,9,1],[11,0,11,12],[2,8,2,12],[7,2,7,3],[3,8,4,9],[59,0,59,12],[23,0,23,11],[23,14,23,16],[59,14,59,16],[0,0,0,12]],"bounds":{"rows_first":500,"rows_last":125,"rows_between":500,"halvings":2}}
[{"$f":"\"IDEA LEA Personnel Data for School Year \"&'Special Ed Teachers (FS070)'!E11&CHAR(10)&\" \"&C6","v":"IDEA LEA Personnel Data for School Year \n "},null,null,null,null,null,null,null,null,null,null,null,null,null,null,null,null,null,null,null,null,null,null,null,null,null,null,null,null,"End of worksheet",null,null,null,null,null,null,null,null,null,null,null,null,null,null,null,null,null,null,null,null,null,null,null,null,null,null,null,null,null,null,null,null,null,null,null,null,null,null,null,null,null,null,null,null,null,"End of worksheet"]
[null,null,null,null,null,null,null,null,null,null,null,null,null,null,null,null,null,null,null,"LEA identifier (state)"]
[null,null,null,null,null,null,null,null,"Data quality checks",null,null,null,null,null,null,null,null,null,null,{"$f":"'Select LEA'!$C$8","v":""},null,{"$f":"SUM(V14:V39)","v":23}]
[null,null,null,null,null,null,null,null,"Type",null,"FS070","FS099","FS112"]
[null,null,null,null,null,null,null,null,null,null,"Total","Total","Total"]
["Select LEA: ",null,null,null,null,null,null,null,"Data elements not included for this LEA",null,{"$f":"COUNTIF(O14:O22,\"?*\")","v":9},{"$f":"COUNTIF(O26:O58,\"?*\")","v":33},{"$f":"COUNTIF(O62:O70,\"?*\")","v":9}]
[null,null,null,null,null,null,null,null,"Duplicate row elements",null,{"$f":"COUNTIF(P14:P23,\"?*\")","v":0},{"$f":"COUNTIF(P26:P58,\"?*\")","v":0},{"$f":"COUNTIF(P62:P70,\"?*\")","v":0}]
["LEA identifier: ",null,{"$f":"IFERROR(IF(C6=\"\", \"\", INDEX(LEA_Identifier_State,MATCH($C$6,LEA_Name,0))),\"\")","v":""},null,null,null,null,null,"Invalid data elements",null,{"$f":"COUNTIF(Q14:Q23,\"?*\")","v":0},{"$f":"COUNTIF(Q26:Q58,\"?*\")","v":0},{"$f":"COUNTIF(Q62:Q70,\"?*\")","v":0}]
[]
[]
[]
[{"$f":"AE12","v":"FS070 — Special Education Teachers (FTE)"},null,null,null,null,null,null,null,null,null,null,null,null,null,"Data quality checks",null,null,null,null,null,null,null,null,null,null,null,null,null,null,null,"FS070 — Special Education Teachers (FTE)",null,null,null,null,null,null,null,null,null,null,null,null,null,"FS099 — Special Education Related Services Personnel ",null,null,null,null,null,null,null,null,null,null,null,null,"FS112 — Special Education Paraprofessionals "]
[{"$f":"AE13","v":"File record \nnumber"},{"$f":"AF13","v":"State code"},"State agency number","LEA identifier (state)","Filler","Table name","Filler","Qualification status (teachers)","Filler","Age group","Total indicator","Explanation","Teacher FTE",null,"Data elements\nnot included for this LEA","Duplicate row\nelements","Invalid data\nelements",null,"Missing\nData Element","Current\nListing","Master\nListing","Is Blank",null,{"$f":"COUNTIF(O15:O25,\"*\" & $Y$12 & \"*\")","v":11},"MISSING","Master\nListing\n(output)","Current\nListing\n(output)",null,"Is Missing Data Element",null,"File record \nnumber","State code","State agency number","LEA identifier (state)","Filler","Table name","Filler","Qualification status (teachers)","Filler","Age group","Total indicator","Explanation","Teacher FTE",null,"File record \nnumber","State code","State agency number","LEA identifier (state)","Filler","Table name","Staff category (special education related service)","Certification status","Filler","Total indicator","Explanation","Staff FTE",null,"File record \nnumber","State code","State agency number","LEA identifier (state)","Filler","Table name","Filler","Age group","Qualification status","Filler","Total indicator","Explanation","Staff FTE",null,"Selected LEA=1","LEA_Name","Count rows","Vallidation Lookup List"]
[{"$f":"IF(AE14=\"\",\"\",AE14)","v":""},{"$f":"IF(AF14=\"\",\"\",AF14)","v":""},"","","","","","","","","","","",null,{"$f":"IFERROR(INDEX(MissingData_FS070, SMALL(IF(ISBLANK(MissingData_FS070)+ISERROR(MissingData_FS070)+LEN(MissingData_FS070)=0, \"\", ROW(MissingData_FS070)-MIN(ROW(MissingData_FS070))+1), ROW(1:1))),\"\")","v":"SPEDTCHFULCRT_3TO5_N"},{"$f":"IF(COUNTIF(CurrentListing,T14)>1,AA14,\"\")","v":""},{"$f":"IF(LEN(T14)=0,\"\",IF(ISNA(MATCH(T14,MasterListing_FS070,0)),AA14,\"\"))","v":""},null,{"$f":"IF(LEN(Z14)=0,\"\",IF(ISNA(MATCH(U14,CurrentListing,0)),Z14,\"\"))","v":"SPEDTCHFULCRT_3TO5_N"},{"$f":"H14&J14&K14","v":""},"SPEDTCHFULCRT3TO5N",{"$f":"IF(LEN(S14)>0,1,0)","v":1},null,null,null,"SPEDTCHFULCRT_3TO5_N",{"$f":"IF(LEN(H14&\"_\"&J14&\"_\"&K14)<3,\"\",H14&\"_\"&J14&\"_\"&K14)","v":""},null,{"$f":"IF(LEN(S14)>0,1,0)","v":1},null,null,null,null,null,null,null,null,null,null,null,null,null,null,null,null,null,null,null,null,null,null,null,null,null,null,null,null,null,null,null,null,null,null,null,null,null,null,null,null,null,null,{"$f":"IF(ISNUMBER(SEARCH($C$6,BU14)),MAX($BT$13:BT13)+1,0)","v":1},{"$f":"LEA_Name","v":0},{"$f":"ROWS($BV$14:BV14)","v":1},{"$f":"IFERROR(VLOOKUP(ROWS($BW$14:BW14),$BT$14:$BU$5000,2,0),\"\")","v":0}]
[{"$f":"IF(AE15=\"\",\"\",AE15)","v":""},"","","","","","","","","","","","",null,{"$f":"IFERROR(INDEX(MissingData_FS070, SMALL(IF(ISBLANK(MissingData_FS070)+ISERROR(MissingData_FS070)+LEN(MissingData_FS070)=0, \"\", ROW(MissingData_FS070)-MIN(ROW(MissingData_FS070))+1), ROW(2:2))),\"\")","v":"SPEDTCHFULCRT_6TO21_N"},"","",null,"SPEDTCHFULCRT_6TO21_N","","SPEDTCHFULCRT6TO21N",{"$f":"IF(LEN(S15)>0,1,0)","v":1},null,null,null,"SPEDTCHFULCRT_6TO21_N","",null,{"$f":"IF(LEN(S15)>0,1,0)","v":1},null,null,null,null,null,null,null,null,null,null,null,null,null,null,null,null,null,null,null,null,null,null,null,null,null,null,null,null,null,null,null,null,null,null,null,null,null,null,null,null,null,null,{"$f":"IF(ISNUMBER(SEARCH($C$6,BU15)),MAX($BT$13:BT14)+1,0)","v":2},0,{"$f":"ROWS($BV$14:BV15)","v":2},{"$f":"IFERROR(VLOOKUP(ROWS($BW$14:BW15),$BT$14:$BU$5000,2,0),\"\")","v":0}]
["","","","","","","","","","","","",{"$f":"IF(AQ16=\"\",\"\",AQ16)","v":""},null,{"$f":"IFERROR(INDEX(MissingData_FS070, SMALL(IF(ISBLANK(MissingData_FS070)+ISERROR(MissingData_FS070)+LEN(MissingData_FS070)=0, \"\", ROW(MissingData_FS070)-MIN(ROW(MissingData_FS070))+1), ROW(3:3))),\"\")","v":"SPEDTCHNFULCRT_3TO5_N"},"","",null,"SPEDTCHNFULCRT_3TO5_N","","SPEDTCHNFULCRT3TO5N",1,null,null,null,"SPEDTCHNFULCRT_3TO5_N","",null,1,null,null,null,null,null,null,null,null,null,null,null,null,null,null,null,null,null,null,null,null,null,null,null,null,null,null,null,null,null,null,null,null,null,null,null,null,null,null,null,null,null,null,{"$f":"IF(ISNUMBER(SEARCH($C$6,BU16)),MAX($BT$13:BT15)+1,0)","v":3},0,{"$f":"ROWS($BV$14:BV16)","v":3},{"$f":"IFERROR(VLOOKUP(ROWS($BW$14:BW16),$BT$14:$BU$5000,2,0),\"\")","v":0}]
["","","","","","","","","","","","","",null,{"$f":"IFERROR(INDEX(MissingData_FS070, SMALL(IF(ISBLANK(MissingData_FS070)+ISERROR(MissingData_FS070)+LEN(MissingData_FS070)=0, \"\", ROW(MissingData_FS070)-MIN(ROW(MissingData_FS070))+1), ROW(4:4))),\"\")","v":"SPEDTCHNFULCRT_6TO21_N"},"","",null,"SPEDTCHNFULCRT_6TO21_N","","SPEDTCHNFULCRT6TO21N",1,null,null,null,"SPEDTCHNFULCRT_6TO21_N","",null,1,null,null,null,null,null,null,null,null,null,null,null,null,null,null,null,null,null,null,null,null,null,null,null,null,null,null,null,null,null,null,null,null,null,null,null,null,null,null,null,null,null,null,{"$f":"IF(ISNUMBER(SEARCH($C$6,BU17)),MAX($BT$13:BT16)+1,0)","v":4},0,{"$f":"ROWS($BV$14:BV17)","v":4},{"$f":"IFERROR(VLOOKUP(ROWS($BW$14:BW17),$BT$14:$BU$5000,2,0),\"\")","v":0}]
["","","","","","","","","","","","","",null,{"$f":"IFERROR(INDEX(MissingData_FS070, SMALL(IF(ISBLANK(MissingData_FS070)+ISERROR(MissingData_FS070)+LEN(MissingData_FS070)=0, \"\", ROW(MissingData_FS070)-MIN(ROW(MissingData_FS070))+1), ROW(5:5))),\"\")","v":"_3TO5_Y"},"","",null,"_3TO5_Y","","3TO5Y",1,null,null,null,"_3TO5_Y","",null,1,null,null,null,null,null,null,null,null,null,null,null,null,null,null,null,null,null,null,null,null,null,null,null,null,null,null,null,null,null,null,null,null,null,null,null,null,null,null,null,null,null,null,{"$f":"IF(ISNUMBER(SEARCH($C$6,BU18)),MAX($BT$13:BT17)+1,0)","v":5},0,{"$f":"ROWS($BV$14:BV18)","v":5},{"$f":"IFERROR(VLOOKUP(ROWS($BW$14:BW18),$BT$14:$BU$5000,2,0),\"\")","v":0}]
["","","","","","","","","","","","","",null,{"$f":"IFERROR(INDEX(MissingData_FS070, SMALL(IF(ISBLANK(MissingData_FS070)+ISERROR(MissingData_FS070)+LEN(MissingData_FS070)=0, \"\", ROW(MissingData_FS070)-MIN(ROW(MissingData_FS070))+1), ROW(6:6))),\"\")","v":"_6TO21_Y"},"","",null,"_6TO21_Y","","6TO21Y",1,null,null,null,"_6TO21_Y","",null,1,null,null,null,null,null,null,null,null,null,null,null,null,null,null,null,null,null,null,null,null,null,null,null,null,null,null,null,null,null,null,null,null,null,null,null,null,null,null,null,null,null,null,{"$f":"IF(ISNUMBER(SEARCH($C$6,BU19)),MAX($BT$13:BT18)+1,0)","v":6},0,{"$f":"ROWS($BV$14:BV19)","v":6},{"$f":"IFERROR(VLOOKUP(ROWS($BW$14:BW19),$BT$14:$BU$5000,2,0),\"\")","v":0}]
["","","","","","","","","","","","","",null,{"$f":"IFERROR(INDEX(MissingData_FS070, SMALL(IF(ISBLANK(MissingData_FS070)+ISERROR(MissingData_FS070)+LEN(MissingData_FS070)=0, \"\", ROW(MissingData_FS070)-MIN(ROW(MissingData_FS070))+1), ROW(7:7))),\"\")","v":"SPEDTCHNFULCRT__Y"},"","",null,"SPEDTCHNFULCRT__Y","","SPEDTCHFULCRTY",1,null,null,null,"SPEDTCHNFULCRT__Y","",null,1,null,null,null,null,null,null,null,null,null,null,null,null,null,null,null,null,null,null,null,null,null,null,null,null,null,null,null,null,null,null,null,null,null,null,null,null,null,null,null,null,null,null,{"$f":"IF(ISNUMBER(SEARCH($C$6,BU20)),MAX($BT$13:BT19)+1,0)","v":7},0,{"$f":"ROWS($BV$14:BV20)","v":7},{"$f":"IFERROR(VLOOKUP(ROWS($BW$14:BW20),$BT$14:$BU$5000,2,0),\"\")","v":0}]
["","","","","","","","","","","","","",null,{"$f":"IFERROR(INDEX(MissingData_FS070, SMALL(IF(ISBLANK(MissingData_FS070)+ISERROR(MissingData_FS070)+LEN(MissingData_FS070)=0, \"\", ROW(MissingData_FS070)-MIN(ROW(MissingData_FS070))+1), ROW(8:8))),\"\")","v":"SPEDTCHFULCRT__Y"},null,null,null,"SPEDTCHFULCRT__Y","","SPEDTCHNFULCRTY",1,null,null,null,"SPEDTCHFULCRT__Y",{"$f":"IF(LEN(H22&\"_\"&J22&\"_\"&K22)<3,\"\",H22&\"_\"&J22&\"_\"&K22)","v":""},null,1,null,null,null,null,null,null,null,null,null,null,null,null,null,null,null,null,null,null,null,null,null,null,null,null,null,null,null,null,null,null,null,null,null,null,null,null,null,null,null,null,null,null,{"$f":"IF(ISNUMBER(SEARCH($C$6,BU21)),MAX($BT$13:BT20)+1,0)","v":8},0,{"$f":"ROWS($BV$14:BV21)","v":8},{"$f":"IFERROR(VLOOKUP(ROWS($BW$14:BW21),$BT$14:$BU$5000,2,0),\"\")","v":0}]
[{"$f":"IF(AE22=\"\",\"\",AE22)","v":""},"","","","","","","","","","","","",null,{"$f":"IFERROR(INDEX(MissingData_FS070, SMALL(IF(ISBLANK(MissingData_FS070)+ISERROR(MissingData_FS070)+LEN(MissingData_FS070)=0, \"\", ROW(MissingData_FS070)-MIN(ROW(MissingData_FS070))+1), ROW(9:9))),\"\")","v":"__Y"},{"$f":"IF(COUNTIF(CurrentListing,T21)>1,AA21,\"\")","v":""},{"$f":"IF(LEN(T21)=0,\"\",IF(ISNA(MATCH(T21,MasterListing_FS070,0)),AA21,\"\"))","v":""},null,"__Y","","Y",1,null,null,null,"__Y",{"$f":"IF(LEN(H23&\"_\"&J23&\"_\"&K23)<3,\"\",H23&\"_\"&J23&\"_\"&K23)","v":""},null,1,null,null,null,null,null,null,null,null,null,null,null,null,null,null,null,null,null,null,null,null,null,null,null,null,null,null,null,null,null,null,null,null,null,null,null,null,null,null,null,null,null,null,{"$f":"IF(ISNUMBER(SEARCH($C$6,BU22)),MAX($BT$13:BT21)+1,0)","v":9},0,{"$f":"ROWS($BV$14:BV22)","v":9},{"$f":"IFERROR(VLOOKUP(ROWS($BW$14:BW22),$BT$14:$BU$5000,2,0),\"\")","v":0}]
[null,null,null,null,null,null,null,null,null,null,null,null,null,null,{"$f":"IFERROR(INDEX($S$14:$S$22, SMALL(IF(ISBLANK($S$14:$S$22)+ISERROR($S$14:$S$22)+LEN($S$14:$S$22)=0, \"\", ROW($S$14:$S$22)-MIN(ROW($S$14:$S$22))+1), ROW(22:22))),\"\")","v":""},{"$f":"IF(COUNTIF(CurrentListing,T22)>1,AA22,\"\")","v":""},{"$f":"IF(LEN(T22)=0,\"\",IF(ISNA(MATCH(T22,MasterListing_FS070,0)),AA22,\"\"))","v":""},null,null,null,null,null,null,null,null,null,null,null,null,null,null,null,null,null,null,null,null,null,null,null,null,null,null,null,null,null,null,null,null,null,null,null,null,null,null,null,null,null,null,null,null,null,null,null,null,null,null,null,null,null,null,{"$f":"IF(ISNUMBER(SEARCH($C$6,BU23)),MAX($BT$13:BT22)+1,0)","v":10},0,{"$f":"ROWS($BV$14:BV23)","v":10},{"$f":"IFERROR(VLOOKUP(ROWS($BW$14:BW23),$BT$14:$BU$5000,2,0),\"\")","v":0}]
[{"$f":"AS12","v":"FS099 — Special Education Related Services Personnel "},null,null,null,null,null,null,null,null,null,null,null,null,null,"Data quality checks",null,null,null,null,null,null,null,null,null,null,null,null,null,null,null,null,null,null,null,null,null,null,null,null,null,null,null,null,null,null,null,null,null,null,null,null,null,null,null,null,null,null,null,null,null,null,null,null,null,null,null,null,null,null,null,null,{"$f":"IF(ISNUMBER(SEARCH($C$6,BU24)),MAX($BT$13:BT23)+1,0)","v":11},0,{"$f":"ROWS($BV$14:BV24)","v":11},{"$f":"IFERROR(VLOOKUP(ROWS($BW$14:BW24),$BT$14:$BU$5000,2,0),\"\")","v":0}]
[{"$f":"AS13","v":"File record \nnumber"},{"$f":"AT13","v":"State code"},"State agency number","LEA identifier (state)","Filler","Table name","Staff category (special education related service)","Certification status","Filler","Total indicator","Explanation","Staff FTE",null,null,"Data elements\nnot included for this LEA","Duplicate row\nelements","Invalid data\nelements",null,"Missing\nData Element","Current\nListing","Master\nListing","Is Blank",null,{"$f":"COUNTIF(O27:O40,\"*\" & $Y$10 & \"*\")","v":14},"MISSING","Master\nListing\n(output)","Current\nListing\n(output)",null,"Is Missing Data Element",null,null,null,null,null,null,null,null,null,null,null,null,null,null,null,null,null,null,null,null,null,null,null,null,null,null,null,null,null,null,null,null,null,null,null,null,null,null,null,null,null,null,{"$f":"IF(ISNUMBER(SEARCH($C$6,BU25)),MAX($BT$13:BT24)+1,0)","v":12},0,{"$f":"ROWS($BV$14:BV25)","v":12},{"$f":"IFERROR(VLOOKUP(ROWS($BW$14:BW25),$BT$14:$BU$5000,2,0),\"\")","v":0}]
[{"$f":"IF(AS14=\"\",\"\",AS14)","v":""},{"$f":"IF(AT14=\"\",\"\",AT14)","v":""},{"$f":"IF(AU14=\"\",\"\",AU14)","v":""},{"$f":"IF(AV14=\"\",\"\",AV14)","v":""},{"$f":"IF(AW14=\"\",\"\",AW14)","v":""},{"$f":"IF(AX14=\"\",\"\",AX14)","v":""},{"$f":"IF(AY14=\"\",\"\",AY14)","v":""},{"$f":"IF(AZ14=\"\",\"\",AZ14)","v":""},{"$f":"IF(BA14=\"\",\"\",BA14)","v":""},{"$f":"IF(BB14=\"\",\"\",BB14)","v":""},{"$f":"IF(BC14=\"\",\"\",BC14)","v":""},{"$f":"IF(BD14=\"\",\"\",BD14)","v":""},null,null,{"$f":"IFERROR(INDEX(MissingData_FS099, SMALL(IF(ISBLANK(MissingData_FS099)+ISERROR(MissingData_FS099)+LEN(MissingData_FS099)=0, \"\", ROW(MissingData_FS099)-MIN(ROW(MissingData_FS099))+1), ROW(1:1))),\"\")","v":"AUDIO_FC_N"},{"$f":"IF(COUNTIF(CurrentListing_C099,T26)>1,AA26,\"\")","v":""},{"$f":"IF(LEN(T26)=0,\"\",IF(ISNA(MATCH(T26,MasterListing_FS099,0)),AA26,\"\"))","v":""},null,{"$f":"IF(LEN(Z26)=0,\"\",IF(ISNA(MATCH(U26,CurrentListing_C099,0)),Z26,\"\"))","v":"AUDIO_FC_N"},{"$f":"G26&H26&J26","v":""},"AUDIOFCN",{"$f":"IF(LEN(S26)>0,1,0)","v":1},null,null,null,"AUDIO_FC_N",{"$f":"IF(LEN(G26&\"_\"&H26&\"_\"&J26)<3,\"\",G26&\"_\"&H26&\"_\"&J26)","v":""},null,{"$f":"IF(LEN(S26)>0,1,0)","v":1},null,null,null,null,null,null,null,null,null,null,null,null,null,null,null,null,null,null,null,null,null,null,null,null,null,null,null,null,null,null,null,null,null,null,null,null,null,null,null,null,null,null,{"$f":"IF(ISNUMBER(SEARCH($C$6,BU26)),MAX($BT$13:BT25)+1,0)","v":13},0,{"$f":"ROWS($BV$14:BV26)","v":13},{"$f":"IFERROR(VLOOKUP(ROWS($BW$14:BW26),$BT$14:$BU$5000,2,0),\"\")","v":0}]
[{"$f":"IF(AS15=\"\",\"\",AS15)","v":""},"","","","","","","","","","","",null,null,{"$f":"IFERROR(INDEX(MissingData_FS099, SMALL(IF(ISBLANK(MissingData_FS099)+ISERROR(MissingData_FS099)+LEN(MissingData_FS099)=0, \"\", ROW(MissingData_FS099)-MIN(ROW(MissingData_FS099))+1), ROW(2:2))),\"\")","v":"COUNSELOR_FC_N"},"","",null,"COUNSELOR_FC_N","","COUNSELORFCN",1,null,null,null,"COUNSELOR_FC_N","",null,1,null,null,null,null,null,null,null,null,null,null,null,null,null,null,null,null,null,null,null,null,null,null,null,null,null,null,null,null,null,null,null,null,null,null,null,null,null,null,null,null,null,null,{"$f":"IF(ISNUMBER(SEARCH($C$6,BU27)),MAX($BT$13:BT26)+1,0)","v":14},0,{"$f":"ROWS($BV$14:BV27)","v":14},{"$f":"IFERROR(VLOOKUP(ROWS($BW$14:BW27),$BT$14:$BU$5000,2,0),\"\")","v":0}]
["","","","","","","","","","","","",null,null,{"$f":"IFERROR(INDEX(MissingData_FS099, SMALL(IF(ISBLANK(MissingData_FS099)+ISERROR(MissingData_FS099)+LEN(MissingData_FS099)=0, \"\", ROW(MissingData_FS099)-MIN(ROW(MissingData_FS099))+1), ROW(3:3))),\"\")","v":"INTERPRET_FC_N"},"","",null,"INTERPRET_FC_N","","INTERPRETFCN",1,null,null,null,"INTERPRET_FC_N","",null,1,null,null,null,null,null,null,null,null,null,null,null,null,null,null,null,null,null,null,null,null,null,null,null,null,null,null,null,null,null,null,null,null,null,null,null,null,null,null,null,null,null,null,{"$f":"IF(ISNUMBER(SEARCH($C$6,BU28)),MAX($BT$13:BT27)+1,0)","v":15},0,{"$f":"ROWS($BV$14:BV28)","v":15},{"$f":"IFERROR(VLOOKUP(ROWS($BW$14:BW28),$BT$14:$BU$5000,2,0),\"\")","v":0}]
["","","","","","","","","","","","",null,null,{"$f":"IFERROR(INDEX(MissingData_FS099, SMALL(IF(ISBLANK(MissingData_FS099)+ISERROR(MissingData_FS099)+LEN(MissingData_FS099)=0, \"\", ROW(MissingData_FS099)-MIN(ROW(MissingData_FS099))+1), ROW(4:4))),\"\")","v":"MEDNURSE_FC_N"},"","",null,"MEDNURSE_FC_N","","MEDNURSEFCN",1,null,null,null,"MEDNURSE_FC_N","",null,1,null,null,null,null,null,null,null,null,null,null,null,null,null,null,null,null,null,null,null,null,null,null,null,null,null,null,null,null,null,null,null,null,null,null,null,null,null,null,null,null,null,null,{"$f":"IF(ISNUMBER(SEARCH($C$6,BU29)),MAX($BT$13:BT28)+1,0)","v":16},0,{"$f":"ROWS($BV$14:BV29)","v":16},{"$f":"IFERROR(VLOOKUP(ROWS($BW$14:BW29),$BT$14:$BU$5000,2,0),\"\")","v":0}]
["","","","","","","","","","","","",null,null,{"$f":"IFERROR(INDEX(MissingData_FS099, SMALL(IF(ISBLANK(MissingData_FS099)+ISERROR(MissingData_FS099)+LEN(MissingData_FS099)=0, \"\", ROW(MissingData_FS099)-MIN(ROW(MissingData_FS099))+1), ROW(5:5))),\"\")","v":"OCCTHERAP_FC_N"},"","",null,"OCCTHERAP_FC_N","","OCCTHERAPFCN",1,null,null,null,"OCCTHERAP_FC_N","",null,1,null,null,null,null,null,null,null,null,null,null,null,null,null,null,null,null,null,null,null,null,null,null,null,null,null,null,null,null,null,null,null,null,null,null,null,null,null,null,null,null,null,null,{"$f":"IF(ISNUMBER(SEARCH($C$6,BU30)),MAX($BT$13:BT29)+1,0)","v":17},0,{"$f":"ROWS($BV$14:BV30)","v":17},{"$f":"IFERROR(VLOOKUP(ROWS($BW$14:BW30),$BT$14:$BU$5000,2,0),\"\")","v":0}]
["","","","","","","","","","","","",null,null,{"$f":"IFERROR(INDEX(MissingData_FS099, SMALL(IF(ISBLANK(MissingData_FS099)+ISERROR(MissingData_FS099)+LEN(MissingData_FS099)=0, \"\", ROW(MissingData_FS099)-MIN(ROW(MissingData_FS099))+1), ROW(6:6))),\"\")","v":"ORIENTMOBIL_FC_N"},"","",null,"ORIENTMOBIL_FC_N","","ORIENTMOBILFCN",1,null,null,null,"ORIENTMOBIL_FC_N","",null,1,null,null,null,null,null,null,null,null,null,null,null,null,null,null,null,null,null,null,null,null,null,null,null,null,null,null,null,null,null,null,null,null,null,null,null,null,null,null,null,null,null,null,{"$f":"IF(ISNUMBER(SEARCH($C$6,BU31)),MAX($BT$13:BT30)+1,0)","v":18},0,{"$f":"ROWS($BV$14:BV31)","v":18},{"$f":"IFERROR(VLOOKUP(ROWS($BW$14:BW31),$BT$14:$BU$5000,2,0),\"\")","v":0}]
["","","","","","","","","","","","",null,null,{"$f":"IFERROR(INDEX(MissingData_FS099, SMALL(IF(ISBLANK(MissingData_FS099)+ISERROR(MissingData_FS099)+LEN(MissingData_FS099)=0, \"\", ROW(MissingData_FS099)-MIN(ROW(MissingData_FS099))+1), ROW(7:7))),\"\")","v":"PEANDREC_FC_N"},"","",null,"PEANDREC_FC_N","","PEANDRECFCN",1,null,null,null,"PEANDREC_FC_N","",null,1,null,null,null,null,null,null,null,null,null,null,null,null,null,null,null,null,null,null,null,null,null,null,null,null,null,null,null,null,null,null,null,null,null,null,null,null,null,null,null,null,null,null,{"$f":"IF(ISNUMBER(SEARCH($C$6,BU32)),MAX($BT$13:BT31)+1,0)","v":19},0,{"$f":"ROWS($BV$14:BV32)","v":19},{"$f":"IFERROR(VLOOKUP(ROWS($BW$14:BW32),$BT$14:$BU$5000,2,0),\"\")","v":0}]
["","","","","","","","","","","","",null,null,{"$f":"IFERROR(INDEX(MissingData_FS099, SMALL(IF(ISBLANK(MissingData_FS099)+ISERROR(MissingData_FS099)+LEN(MissingData_FS099)=0, \"\", ROW(MissingData_FS099)-MIN(ROW(MissingData_FS099))+1), ROW(8:8))),\"\")","v":"PHYSTHERAP_FC_N"},"","",null,"PHYSTHERAP_FC_N","","PHYSTHERAPFCN",1,null,null,null,"PHYSTHERAP_FC_N","",null,1,null,null,null,null,null,null,null,null,null,null,null,null,null,null,null,null,null,null,null,null,null,null,null,null,null,null,null,null,null,null,null,null,null,null,null,null,null,null,null,null,null,null,{"$f":"IF(ISNUMBER(SEARCH($C$6,BU33)),MAX($BT$13:BT32)+1,0)","v":20},0,{"$f":"ROWS($BV$14:BV33)","v":20},{"$f":"IFERROR(VLOOKUP(ROWS($BW$14:BW33),$BT$14:$BU$5000,2,0),\"\")","v":0}]
["","","","","","","","","","","","",null,null,{"$f":"IFERROR(INDEX(MissingData_FS099, SMALL(IF(ISBLANK(MissingData_FS099)+ISERROR(MissingData_FS099)+LEN(MissingData_FS099)=0, \"\", ROW(MissingData_FS099)-MIN(ROW(MissingData_FS099))+1), ROW(9:9))),\"\")","v":"PSYCH_FC_N"},"","",null,"PSYCH_FC_N","","PSYCHFCN",1,null,null,null,"PSYCH_FC_N","",null,1,null,null,null,null,null,null,null,null,null,null,null,null,null,null,null,null,null,null,null,null,null,null,null,null,null,null,null,null,null,null,null,null,null,null,null,null,null,null,null,null,null,null,{"$f":"IF(ISNUMBER(SEARCH($C$6,BU34)),MAX($BT$13:BT33)+1,0)","v":21},0,{"$f":"ROWS($BV$14:BV34)","v":21},{"$f":"IFERROR(VLOOKUP(ROWS($BW$14:BW34),$BT$14:$BU$5000,2,0),\"\")","v":0}]
["","","","","","","","","","","","",null,null,{"$f":"IFERROR(INDEX(MissingData_FS099, SMALL(IF(ISBLANK(MissingData_FS099)+ISERROR(MissingData_FS099)+LEN(MissingData_FS099)=0, \"\", ROW(MissingData_FS099)-MIN(ROW(MissingData_FS099))+1), ROW(10:10))),\"\")","v":"SOCIALWORK_FC_N"},"","",null,"SOCIALWORK_FC_N","","SOCIALWORKFCN",1,null,null,null,"SOCIALWORK_FC_N","",null,1,null,null,null,null,null,null,null,null,null,null,null,null,null,null,null,null,null,null,null,null,null,null,null,null,null,null,null,null,null,null,null,null,null,null,null,null,null,null,null,null,null,null,{"$f":"IF(ISNUMBER(SEARCH($C$6,BU35)),MAX($BT$13:BT34)+1,0)","v":22},0,{"$f":"ROWS($BV$14:BV35)","v":22},{"$f":"IFERROR(VLOOKUP(ROWS($BW$14:BW35),$BT$14:$BU$5000,2,0),\"\")","v":0}]
["","","","","","","","","","","","",null,null,{"$f":"IFERROR(INDEX(MissingData_FS099, SMALL(IF(ISBLANK(MissingData_FS099)+ISERROR(MissingData_FS099)+LEN(MissingData_FS099)=0, \"\", ROW(MissingData_FS099)-MIN(ROW(MissingData_FS099))+1), ROW(11:11))),\"\")","v":"SPEECHPATH_FC_N"},"","",null,"SPEECHPATH_FC_N","","SPEECHPATHFCN",1,null,null,null,"SPEECHPATH_FC_N","",null,1,null,null,null,null,null,null,null,null,null,null,null,null,null,null,null,null,null,null,null,null,null,null,null,null,null,null,null,null,null,null,null,null,null,null,null,null,null,null,null,null,null,null,{"$f":"IF(ISNUMBER(SEARCH($C$6,BU36)),MAX($BT$13:BT35)+1,0)","v":23},0,{"$f":"ROWS($BV$14:BV36)","v":23},{"$f":"IFERROR(VLOOKUP(ROWS($BW$14:BW36),$BT$14:$BU$5000,2,0),\"\")","v":0}]
["","","","","","","","","","","","",null,null,{"$f":"IFERROR(INDEX(MissingData_FS099, SMALL(IF(ISBLANK(MissingData_FS099)+ISERROR(MissingData_FS099)+LEN(MissingData_FS099)=0, \"\", ROW(MissingData_FS099)-MIN(ROW(MissingData_FS099))+1), ROW(12:12))),\"\")","v":"COUNSELOR_NFC_N"},"","",null,"COUNSELOR_NFC_N","","COUNSELORNFCN",1,null,null,null,"COUNSELOR_NFC_N","",null,1,null,null,null,null,null,null,null,null,null,null,null,null,null,null,null,null,null,null,null,null,null,null,null,null,null,null,null,null,null,null,null,null,null,null,null,null,null,null,null,null,null,null,{"$f":"IF(ISNUMBER(SEARCH($C$6,BU37)),MAX($BT$13:BT36)+1,0)","v":24},0,{"$f":"ROWS($BV$14:BV37)","v":24},{"$f":"IFERROR(VLOOKUP(ROWS($BW$14:BW37),$BT$14:$BU$5000,2,0),\"\")","v":0}]
["","","","","","","","","","","","",null,null,{"$f":"IFERROR(INDEX(MissingData_FS099, SMALL(IF(ISBLANK(MissingData_FS099)+ISERROR(MissingData_FS099)+LEN(MissingData_FS099)=0, \"\", ROW(MissingData_FS099)-MIN(ROW(MissingData_FS099))+1), ROW(13:13))),\"\")","v":"INTERPRET_NFC_N"},"","",null,"INTERPRET_NFC_N","","INTERPRETNFCN",1,null,null,null,"INTERPRET_NFC_N","",null,1,null,null,null,null,null,null,null,null,null,null,null,null,null,null,null,null,null,null,null,null,null,null,null,null,null,null,null,null,null,null,null,null,null,null,null,null,null,null,null,null,null,null,{"$f":"IF(ISNUMBER(SEARCH($C$6,BU38)),MAX($BT$13:BT37)+1,0)","v":25},0,{"$f":"ROWS($BV$14:BV38)","v":25},{"$f":"IFERROR(VLOOKUP(ROWS($BW$14:BW38),$BT$14:$BU$5000,2,0),\"\")","v":0}]
["","","","","","","","","","","","",null,null,{"$f":"IFERROR(INDEX(MissingData_FS099, SMALL(IF(ISBLANK(MissingData_FS099)+ISERROR(MissingData_FS099)+LEN(MissingData_FS099)=0, \"\", ROW(MissingData_FS099)-MIN(ROW(MissingData_FS099))+1), ROW(14:14))),\"\")","v":"OCCTHERAP_NFC_N"},"","",null,"OCCTHERAP_NFC_N","","OCCTHERAPNFCN",1,null,null,null,"OCCTHERAP_NFC_N","",null,1,null,null,null,null,null,null,null,null,null,null,null,null,null,null,null,null,null,null,null,null,null,null,null,null,null,null,null,null,null,null,null,null,null,null,null,null,null,null,null,null,null,null,{"$f":"IF(ISNUMBER(SEARCH($C$6,BU39)),MAX($BT$13:BT38)+1,0)","v":26},0,{"$f":"ROWS($BV$14:BV39)","v":26},{"$f":"IFERROR(VLOOKUP(ROWS($BW$14:BW39),$BT$14:$BU$5000,2,0),\"\")","v":0}]
["","","","","","","","","","","","",null,null,{"$f":"IFERROR(INDEX(MissingData_FS099, SMALL(IF(ISBLANK(MissingData_FS099)+ISERROR(MissingData_FS099)+LEN(MissingData_FS099)=0, \"\", ROW(MissingData_FS099)-MIN(ROW(MissingData_FS099))+1), ROW(15:15))),\"\")","v":"ORIENTMOBIL_NFC_N"},"","",null,"ORIENTMOBIL_NFC_N","","ORIENTMOBILNFCN",1,null,null,null,"ORIENTMOBIL_NFC_N","",null,1,null,null,null,null,null,null,null,null,null,null,null,null,null,null,null,null,null,null,null,null,null,null,null,null,null,null,null,null,null,null,null,null,null,null,null,null,null,null,null,null,null,null,{"$f":"IF(ISNUMBER(SEARCH($C$6,BU40)),MAX($BT$13:BT39)+1,0)","v":27},0,{"$f":"ROWS($BV$14:BV40)","v":27},{"$f":"IFERROR(VLOOKUP(ROWS($BW$14:BW40),$BT$14:$BU$5000,2,0),\"\")","v":0}]
["","","","","","","","","","","","",null,null,{"$f":"IFERROR(INDEX(MissingData_FS099, SMALL(IF(ISBLANK(MissingData_FS099)+ISERROR(MissingData_FS099)+LEN(MissingData_FS099)=0, \"\", ROW(MissingData_FS099)-MIN(ROW(MissingData_FS099))+1), ROW(16:16))),\"\")","v":"PHYSTHERAP_NFC_N"},"","",null,"PHYSTHERAP_NFC_N","","PHYSTHERAPNFCN",1,null,null,null,"PHYSTHERAP_NFC_N","",null,1,null,null,null,null,null,null,null,null,null,null,null,null,null,null,null,null,null,null,null,null,null,null,null,null,null,null,null,null,null,null,null,null,null,null,null,null,null,null,null,null,null,null,{"$f":"IF(ISNUMBER(SEARCH($C$6,BU41)),MAX($BT$13:BT40)+1,0)","v":28},0,{"$f":"ROWS($BV$14:BV41)","v":28},{"$f":"IFERROR(VLOOKUP(ROWS($BW$14:BW41),$BT$14:$BU$5000,2,0),\"\")","v":0}]
["","","","","","","","","","","","",null,null,{"$f":"IFERROR(INDEX(MissingData_FS099, SMALL(IF(ISBLANK(MissingData_FS099)+ISERROR(MissingData_FS099)+LEN(MissingData_FS099)=0, \"\", ROW(MissingData_FS099)-MIN(ROW(MissingData_FS099))+1), ROW(17:17))),\"\")","v":"PSYCH_NFC_N"},"","",null,"PSYCH_NFC_N","","PSYCHNFCN",1,null,null,null,"PSYCH_NFC_N","",null,1,null,null,null,null,null,null,null,null,null,null,null,null,null,null,null,null,null,null,null,null,null,null,null,null,null,null,null,null,null,null,null,null,null,null,null,null,null,null,null,null,null,null,{"$f":"IF(ISNUMBER(SEARCH($C$6,BU42)),MAX($BT$13:BT41)+1,0)","v":29},0,{"$f":"ROWS($BV$14:BV42)","v":29},{"$f":"IFERROR(VLOOKUP(ROWS($BW$14:BW42),$BT$14:$BU$5000,2,0),\"\")","v":0}]
["","","","","","","","","","","","",null,null,{"$f":"IFERROR(INDEX(MissingData_FS099, SMALL(IF(ISBLANK(MissingData_FS099)+ISERROR(MissingData_FS099)+LEN(MissingData_FS099)=0, \"\", ROW(MissingData_FS099)-MIN(ROW(MissingData_FS099))+1), ROW(18:18))),\"\")","v":"SOCIALWORK_NFC_N"},"","",null,"SOCIALWORK_NFC_N","","SOCIALWORKNFCN",1,null,null,null,"SOCIALWORK_NFC_N","",null,1,null,null,null,null,null,null,null,null,null,null,null,null,null,null,null,null,null,null,null,null,null,null,null,null,null,null,null,null,null,null,null,null,null,null,null,null,null,null,null,null,null,null,{"$f":"IF(ISNUMBER(SEARCH($C$6,BU43)),MAX($BT$13:BT42)+1,0)","v":30},0,{"$f":"ROWS($BV$14:BV43)","v":30},{"$f":"IFERROR(VLOOKUP(ROWS($BW$14:BW43),$BT$14:$BU$5000,2,0),\"\")","v":0}]
["","","","","","","","","","","","",null,null,{"$f":"IFERROR(INDEX(MissingData_FS099, SMALL(IF(ISBLANK(MissingData_FS099)+ISERROR(MissingData_FS099)+LEN(MissingData_FS099)=0, \"\", ROW(MissingData_FS099)-MIN(ROW(MissingData_FS099))+1), ROW(19:19))),\"\")","v":"SPEECHPATH_NFC_N"},"","",null,"SPEECHPATH_NFC_N","","SPEECHPATHNFCN",1,null,null,null,"SPEECHPATH_NFC_N","",null,1,null,null,null,null,null,null,null,null,null,null,null,null,null,null,null,null,null,null,null,null,null,null,null,null,null,null,null,null,null,null,null,null,null,null,null,null,null,null,null,null,null,null,{"$f":"IF(ISNUMBER(SEARCH($C$6,BU44)),MAX($BT$13:BT43)+1,0)","v":31},0,{"$f":"ROWS($BV$14:BV44)","v":31},{"$f":"IFERROR(VLOOKUP(ROWS($BW$14:BW44),$BT$14:$BU$5000,2,0),\"\")","v":0}]
["","","","","","","","","","","","",null,null,{"$f":"IFERROR(INDEX(MissingData_FS099, SMALL(IF(ISBLANK(MissingData_FS099)+ISERROR(MissingData_FS099)+LEN(MissingData_FS099)=0, \"\", ROW(MissingData_FS099)-MIN(ROW(MissingData_FS099))+1), ROW(20:20))),\"\")","v":"AUDIO_NFC_N"},"","",null,"AUDIO_NFC_N","","AUDIONFCN",1,null,null,null,"AUDIO_NFC_N","",null,1,null,null,null,null,null,null,null,null,null,null,null,null,null,null,null,null,null,null,null,null,null,null,null,null,null,null,null,null,null,null,null,null,null,null,null,null,null,null,null,null,null,null,{"$f":"IF(ISNUMBER(SEARCH($C$6,BU45)),MAX($BT$13:BT44)+1,0)","v":32},0,{"$f":"ROWS($BV$14:BV45)","v":32},{"$f":"IFERROR(VLOOKUP(ROWS($BW$14:BW45),$BT$14:$BU$5000,2,0),\"\")","v":0}]
["","","","","","","","","","","","",null,null,{"$f":"IFERROR(INDEX(MissingData_FS099, SMALL(IF(ISBLANK(MissingData_FS099)+ISERROR(MissingData_FS099)+LEN(MissingData_FS099)=0, \"\", ROW(MissingData_FS099)-MIN(ROW(MissingData_FS099))+1), ROW(21:21))),\"\")","v":"MEDNURSE_NFC_N"},"","",null,"MEDNURSE_NFC_N","","MEDNURSENFCN",1,null,null,null,"MEDNURSE_NFC_N","",null,1,null,null,null,null,null,null,null,null,null,null,null,null,null,null,null,null,null,null,null,null,null,null,null,null,null,null,null,null,null,null,null,null,null,null,null,null,null,null,null,null,null,null,{"$f":"IF(ISNUMBER(SEARCH($C$6,BU46)),MAX($BT$13:BT45)+1,0)","v":33},0,{"$f":"ROWS($BV$14:BV46)","v":33},{"$f":"IFERROR(VLOOKUP(ROWS($BW$14:BW46),$BT$14:$BU$5000,2,0),\"\")","v":0}]
["","","","","","","","","","","","",null,null,{"$f":"IFERROR(INDEX(MissingData_FS099, SMALL(IF(ISBLANK(MissingData_FS099)+ISERROR(MissingData_FS099)+LEN(MissingData_FS099)=0, \"\", ROW(MissingData_FS099)-MIN(ROW(MissingData_FS099))+1), ROW(22:22))),\"\")","v":"PEANDREC_NFC_N"},"","",null,"PEANDREC_NFC_N","","PEANDRECNFCN",1,null,null,null,"PEANDREC_NFC_N","",null,1,null,null,null,null,null,null,null,null,null,null,null,null,null,null,null,null,null,null,null,null,null,null,null,null,null,null,null,null,null,null,null,null,null,null,null,null,null,null,null,null,null,null,{"$f":"IF(ISNUMBER(SEARCH($C$6,BU47)),MAX($BT$13:BT46)+1,0)","v":34},0,{"$f":"ROWS($BV$14:BV47)","v":34},{"$f":"IFERROR(VLOOKUP(ROWS($BW$14:BW47),$BT$14:$BU$5000,2,0),\"\")","v":0}]
["","","","","","","","","","","","",null,null,{"$f":"IFERROR(INDEX(MissingData_FS099, SMALL(IF(ISBLANK(MissingData_FS099)+ISERROR(MissingData_FS099)+LEN(MissingData_FS099)=0, \"\", ROW(MissingData_FS099)-MIN(ROW(MissingData_FS099))+1), ROW(23:23))),\"\")","v":"AUDIO__Y"},"","",null,"AUDIO__Y","","AUDIOY",1,null,null,null,"AUDIO__Y","",null,1,null,null,null,null,null,null,null,null,null,null,null,null,null,null,null,null,null,null,null,null,null,null,null,null,null,null,null,null,null,null,null,null,null,null,null,null,null,null,null,null,null,null,{"$f":"IF(ISNUMBER(SEARCH($C$6,BU48)),MAX($BT$13:BT47)+1,0)","v":35},0,{"$f":"ROWS($BV$14:BV48)","v":35},{"$f":"IFERROR(VLOOKUP(ROWS($BW$14:BW48),$BT$14:$BU$5000,2,0),\"\")","v":0}]
["","","","","","","","","","","","",null,null,{"$f":"IFERROR(INDEX(MissingData_FS099, SMALL(IF(ISBLANK(MissingData_FS099)+ISERROR(MissingData_FS099)+LEN(MissingData_FS099)=0, \"\", ROW(MissingData_FS099)-MIN(ROW(MissingData_FS099))+1), ROW(24:24))),\"\")","v":"COUNSELOR__Y"},"","",null,"COUNSELOR__Y","","COUNSELORY",1,null,null,null,"COUNSELOR__Y","",null,1,null,null,null,null,null,null,null,null,null,null,null,null,null,null,null,null,null,null,null,null,null,null,null,null,null,null,null,null,null,null,null,null,null,null,null,null,null,null,null,null,null,null,{"$f":"IF(ISNUMBER(SEARCH($C$6,BU49)),MAX($BT$13:BT48)+1,0)","v":36},0,{"$f":"ROWS($BV$14:BV49)","v":36},{"$f":"IFERROR(VLOOKUP(ROWS($BW$14:BW49),$BT$14:$BU$5000,2,0),\"\")","v":0}]
["","","","","","","","","","","","",null,null,{"$f":"IFERROR(INDEX(MissingData_FS099, SMALL(IF(ISBLANK(MissingData_FS099)+ISERROR(MissingData_FS099)+LEN(MissingData_FS099)=0, \"\", ROW(MissingData_FS099)-MIN(ROW(MissingData_FS099))+1), ROW(25:25))),\"\")","v":"INTERPRET__Y"},"","",null,"INTERPRET__Y","","INTERPRETY",1,null,null,null,"INTERPRET__Y","",null,1,null,null,null,null,null,null,null,null,null,null,null,null,null,null,null,null,null,null,null,null,null,null,null,null,null,null,null,null,null,null,null,null,null,null,null,null,null,null,null,null,null,null,{"$f":"IF(ISNUMBER(SEARCH($C$6,BU50)),MAX($BT$13:BT49)+1,0)","v":37},0,{"$f":"ROWS($BV$14:BV50)","v":37},{"$f":"IFERROR(VLOOKUP(ROWS($BW$14:BW50),$BT$14:$BU$5000,2,0),\"\")","v":0}]
["","","","","","","","","","","","",null,null,{"$f":"IFERROR(INDEX(MissingData_FS099, SMALL(IF(ISBLANK(MissingData_FS099)+ISERROR(MissingData_FS099)+LEN(MissingData_FS099)=0, \"\", ROW(MissingData_FS099)-MIN(ROW(MissingData_FS099))+1), ROW(26:26))),\"\")","v":"MEDNURSE__Y"},"","",null,"MEDNURSE__Y","","MEDNURSEY",1,null,null,null,"MEDNURSE__Y","",null,1,null,null,null,null,null,null,null,null,null,null,null,null,null,null,null,null,null,null,null,null,null,null,null,null,null,null,null,null,null,null,null,null,null,null,null,null,null,null,null,null,null,null,{"$f":"IF(ISNUMBER(SEARCH($C$6,BU51)),MAX($BT$13:BT50)+1,0)","v":38},0,{"$f":"ROWS($BV$14:BV51)","v":38},{"$f":"IFERROR(VLOOKUP(ROWS($BW$14:BW51),$BT$14:$BU$5000,2,0),\"\")","v":0}]
["","","","","","","","","","","","",null,null,{"$f":"IFERROR(INDEX(MissingData_FS099, SMALL(IF(ISBLANK(MissingData_FS099)+ISERROR(MissingData_FS099)+LEN(MissingData_FS099)=0, \"\", ROW(MissingData_FS099)-MIN(ROW(MissingData_FS099))+1), ROW(27:27))),\"\")","v":"OCCTHERAP__Y"},"","",null,"OCCTHERAP__Y","","OCCTHERAPY",1,null,null,null,"OCCTHERAP__Y","",null,1,null,null,null,null,null,null,null,null,null,null,null,null,null,null,null,null,null,null,null,null,null,null,null,null,null,null,null,null,null,null,null,null,null,null,null,null,null,null,null,null,null,null,{"$f":"IF(ISNUMBER(SEARCH($C$6,BU52)),MAX($BT$13:BT51)+1,0)","v":39},0,{"$f":"ROWS($BV$14:BV52)","v":39},{"$f":"IFERROR(VLOOKUP(ROWS($BW$14:BW52),$BT$14:$BU$5000,2,0),\"\")","v":0}]
["","","","","","","","","","","","",null,null,{"$f":"IFERROR(INDEX(MissingData_FS099, SMALL(IF(ISBLANK(MissingData_FS099)+ISERROR(MissingData_FS099)+LEN(MissingData_FS099)=0, \"\", ROW(MissingData_FS099)-MIN(ROW(MissingData_FS099))+1), ROW(28:28))),\"\")","v":"ORIENTMOBIL__Y"},"","",null,"ORIENTMOBIL__Y","","ORIENTMOBILY",1,null,null,null,"ORIENTMOBIL__Y","",null,1,null,null,null,null,null,null,null,null,null,null,null,null,null,null,null,null,null,null,null,null,null,null,null,null,null,null,null,null,null,null,null,null,null,null,null,null,null,null,null,null,null,null,{"$f":"IF(ISNUMBER(SEARCH($C$6,BU53)),MAX($BT$13:BT52)+1,0)","v":40},0,{"$f":"ROWS($BV$14:BV53)","v":40},{"$f":"IFERROR(VLOOKUP(ROWS($BW$14:BW53),$BT$14:$BU$5000,2,0),\"\")","v":0}]
["","","","","","","","","","","","",null,null,{"$f":"IFERROR(INDEX(MissingData_FS099, SMALL(IF(ISBLANK(MissingData_FS099)+ISERROR(MissingData_FS099)+LEN(MissingData_FS099)=0, \"\", ROW(MissingData_FS099)-MIN(ROW(MissingData_FS099))+1), ROW(29:29))),\"\")","v":"PEANDREC__Y"},"","",null,"PEANDREC__Y","","PEANDRECY",1,null,null,null,"PEANDREC__Y","",null,1,null,null,null,null,null,null,null,null,null,null,null,null,null,null,null,null,null,null,null,null,null,null,null,null,null,null,null,null,null,null,null,null,null,null,null,null,null,null,null,null,null,null,{"$f":"IF(ISNUMBER(SEARCH($C$6,BU54)),MAX($BT$13:BT53)+1,0)","v":41},0,{"$f":"ROWS($BV$14:BV54)","v":41},{"$f":"IFERROR(VLOOKUP(ROWS($BW$14:BW54),$BT$14:$BU$5000,2,0),\"\")","v":0}]
["","","","","","","","","","","","",null,null,{"$f":"IFERROR(INDEX(MissingData_FS099, SMALL(IF(ISBLANK(MissingData_FS099)+ISERROR(MissingData_FS099)+LEN(MissingData_FS099)=0, \"\", ROW(MissingData_FS099)-MIN(ROW(MissingData_FS099))+1), ROW(30:30))),\"\")","v":"PHYSTHERAP__Y"},"","",null,"PHYSTHERAP__Y","","PHYSTHERAPY",1,null,null,null,"PHYSTHERAP__Y","",null,1,null,null,null,null,null,null,null,null,null,null,null,null,null,null,null,null,null,null,null,null,null,null,null,null,null,null,null,null,null,null,null,null,null,null,null,null,null,null,null,null,null,null,{"$f":"IF(ISNUMBER(SEARCH($C$6,BU55)),MAX($BT$13:BT54)+1,0)","v":42},0,{"$f":"ROWS($BV$14:BV55)","v":42},{"$f":"IFERROR(VLOOKUP(ROWS($BW$14:BW55),$BT$14:$BU$5000,2,0),\"\")","v":0}]
["","","","","","","","","","","","",null,null,{"$f":"IFERROR(INDEX(MissingData_FS099, SMALL(IF(ISBLANK(MissingData_FS099)+ISERROR(MissingData_FS099)+LEN(MissingData_FS099)=0, \"\", ROW(MissingData_FS099)-MIN(ROW(MissingData_FS099))+1), ROW(31:31))),\"\")","v":"PSYCH__Y"},"","",null,"PSYCH__Y","","PSYCHY",1,null,null,null,"PSYCH__Y","",null,1,null,null,null,null,null,null,null,null,null,null,null,null,null,null,null,null,null,null,null,null,null,null,null,null,null,null,null,null,null,null,null,null,null,null,null,null,null,null,null,null,null,null,{"$f":"IF(ISNUMBER(SEARCH($C$6,BU56)),MAX($BT$13:BT55)+1,0)","v":43},0,{"$f":"ROWS($BV$14:BV56)","v":43},{"$f":"IFERROR(VLOOKUP(ROWS($BW$14:BW56),$BT$14:$BU$5000,2,0),\"\")","v":0}]
["","","","","","","","","","","","",null,null,{"$f":"IFERROR(INDEX(MissingData_FS099, SMALL(IF(ISBLANK(MissingData_FS099)+ISERROR(MissingData_FS099)+LEN(MissingData_FS099)=0, \"\", ROW(MissingData_FS099)-MIN(ROW(MissingData_FS099))+1), ROW(32:32))),\"\")","v":"SOCIALWORK__Y"},"","",null,"SOCIALWORK__Y","","SOCIALWORKY",1,null,null,null,"SOCIALWORK__Y","",null,1,null,null,null,null,null,null,null,null,null,null,null,null,null,null,null,null,null,null,null,null,null,null,null,null,null,null,null,null,null,null,null,null,null,null,null,null,null,null,null,null,null,null,{"$f":"IF(ISNUMBER(SEARCH($C$6,BU57)),MAX($BT$13:BT56)+1,0)","v":44},0,{"$f":"ROWS($BV$14:BV57)","v":44},{"$f":"IFERROR(VLOOKUP(ROWS($BW$14:BW57),$BT$14:$BU$5000,2,0),\"\")","v":0}]
[{"$f":"IF(AS46=\"\",\"\",AS46)","v":""},"","","","","","","","","","","",null,null,{"$f":"IFERROR(INDEX(MissingData_FS099, SMALL(IF(ISBLANK(MissingData_FS099)+ISERROR(MissingData_FS099)+LEN(MissingData_FS099)=0, \"\", ROW(MissingData_FS099)-MIN(ROW(MissingData_FS099))+1), ROW(33:33))),\"\")","v":"SPEECHPATH__Y"},"","",null,"SPEECHPATH__Y","","SPEECHPATHY",1,null,null,null,"SPEECHPATH__Y","",null,1,null,null,null,null,null,null,null,null,null,null,null,null,null,null,null,null,null,null,null,null,null,null,null,null,null,null,null,null,null,null,null,null,null,null,null,null,null,null,null,null,null,null,{"$f":"IF(ISNUMBER(SEARCH($C$6,BU58)),MAX($BT$13:BT57)+1,0)","v":45},0,{"$f":"ROWS($BV$14:BV58)","v":45},{"$f":"IFERROR(VLOOKUP(ROWS($BW$14:BW58),$BT$14:$BU$5000,2,0),\"\")","v":0}]
[null,null,null,null,null,null,null,null,null,null,null,null,null,null,null,null,null,null,null,null,null,null,null,null,null,null,null,null,null,null,null,null,null,null,null,null,null,null,null,null,null,null,null,null,null,null,null,null,null,null,null,null,null,null,null,null,null,null,null,null,null,null,null,null,null,null,null,null,null,null,null,{"$f":"IF(ISNUMBER(SEARCH($C$6,BU59)),MAX($BT$13:BT58)+1,0)","v":46},0,{"$f":"ROWS($BV$14:BV59)","v":46},{"$f":"IFERROR(VLOOKUP(ROWS($BW$14:BW59),$BT$14:$BU$5000,2,0),\"\")","v":0}]
[{"$f":"BF12","v":"FS112 — Special Education Paraprofessionals "},null,null,null,null,null,null,null,null,null,null,null,null,null,"Data quality checks",null,null,null,null,null,null,null,null,null,null,null,null,null,null,null,null,null,null,null,null,null,null,null,null,null,null,null,null,null,null,null,null,null,null,null,null,null,null,null,null,null,null,null,null,null,null,null,null,null,null,null,null,null,null,null,null,{"$f":"IF(ISNUMBER(SEARCH($C$6,BU60)),MAX($BT$13:BT59)+1,0)","v":47},0,{"$f":"ROWS($BV$14:BV60)","v":47},{"$f":"IFERROR(VLOOKUP(ROWS($BW$14:BW60),$BT$14:$BU$5000,2,0),\"\")","v":0}]
[{"$f":"BF13","v":"File record \nnumber"},{"$f":"BG13","v":"State code"},"State agency number","LEA identifier (state)","Filler","Table name","Filler","Age group","Qualification status","Filler","Total indicator","Explanation","Staff FTE",null,"Data elements\nnot included for this LEA","Duplicate row\nelements","Invalid data\nelements",null,"Missing\nData Element","Current\nListing","Master\nListing","Is Blank",null,{"$f":"COUNTIF(O63:O76,\"*\" & $Y$11 & \"*\")","v":8},"MISSING","Master\nListing\n(output)","Current\nListing\n(output)",null,"Is Missing Data Element",null,null,null,null,null,null,null,null,null,null,null,null,null,null,null,null,null,null,null,null,null,null,null,null,null,null,null,null,null,null,null,null,null,null,null,null,null,null,null,null,null,null,{"$f":"IF(ISNUMBER(SEARCH($C$6,BU61)),MAX($BT$13:BT60)+1,0)","v":48},0,{"$f":"ROWS($BV$14:BV61)","v":48},{"$f":"IFERROR(VLOOKUP(ROWS($BW$14:BW61),$BT$14:$BU$5000,2,0),\"\")","v":0}]
[{"$f":"IF(BF14=\"\",\"\",BF14)","v":""},{"$f":"IF(BG14=\"\",\"\",BG14)","v":""},"","","","","","","","","","","",null,{"$f":"IFERROR(INDEX(MissingData_FS112, SMALL(IF(ISBLANK(MissingData_FS112)+ISERROR(MissingData_FS112)+LEN(MissingData_FS112)=0, \"\", ROW(MissingData_FS112)-MIN(ROW(MissingData_FS112))+1), ROW(1:1))),\"\")","v":"3TO5_Q_N"},{"$f":"IF(COUNTIF(CurrentListing_C112,T62)>1,AA62,\"\")","v":""},{"$f":"IF(LEN(T62)=0,\"\",IF(ISNA(MATCH(T62,MasterListing_FS112,0)),AA62,\"\"))","v":""},null,{"$f":"IF(LEN(Z62)=0,\"\",IF(ISNA(MATCH(U62,CurrentListing_C112,0)),Z62,\"\"))","v":"3TO5_Q_N"},{"$f":"H62&I62&K62","v":""},"3TO5QN",{"$f":"IF(LEN(O62)>0,1,0)","v":1},null,null,null,"3TO5_Q_N",{"$f":"IF(LEN(H62&\"_\"&I62&\"_\"&K62)<3,\"\",H62&\"_\"&I62&\"_\"&K62)","v":""},null,{"$f":"IF(LEN(O62)>0,1,0)","v":1},null,null,null,null,null,null,null,null,null,null,null,null,null,null,null,null,null,null,null,null,null,null,null,null,null,null,null,null,null,null,null,null,null,null,null,null,null,null,null,null,null,null,{"$f":"IF(ISNUMBER(SEARCH($C$6,BU62)),MAX($BT$13:BT61)+1,0)","v":49},0,{"$f":"ROWS($BV$14:BV62)","v":49},{"$f":"IFERROR(VLOOKUP(ROWS($BW$14:BW62),$BT$14:$BU$5000,2,0),\"\")","v":0}]
[{"$f":"IF(BF15=\"\",\"\",BF15)","v":""},"","","","","","","","","","","","",null,{"$f":"IFERROR(INDEX(MissingData_FS112, SMALL(IF(ISBLANK(MissingData_FS112)+ISERROR(MissingData_FS112)+LEN(MissingData_FS112)=0, \"\", ROW(MissingData_FS112)-MIN(ROW(MissingData_FS112))+1), ROW(2:2))),\"\")","v":"6TO21_Q_N"},"","",null,"6TO21_Q_N","","6TO21QN",1,null,null,null,"6TO21_Q_N","",null,1,null,null,null,null,null,null,null,null,null,null,null,null,null,null,null,null,null,null,null,null,null,null,null,null,null,null,null,null,null,null,null,null,null,null,null,null,null,null,null,null,null,null,{"$f":"IF(ISNUMBER(SEARCH($C$6,BU63)),MAX($BT$13:BT62)+1,0)","v":50},0,{"$f":"ROWS($BV$14:BV63)","v":50},{"$f":"IFERROR(VLOOKUP(ROWS($BW$14:BW63),$BT$14:$BU$5000,2,0),\"\")","v":0}]
["","","","","","","","","","","","","",null,{"$f":"IFERROR(INDEX(MissingData_FS112, SMALL(IF(ISBLANK(MissingData_FS112)+ISERROR(MissingData_FS112)+LEN(MissingData_FS112)=0, \"\", ROW(MissingData_FS112)-MIN(ROW(MissingData_FS112))+1), ROW(3:3))),\"\")","v":"3TO5_NQ_N"},"","",null,"3TO5_NQ_N","","3TO5NQN",1,null,null,null,"3TO5_NQ_N","",null,1,null,null,null,null,null,null,null,null,null,null,null,null,null,null,null,null,null,null,null,null,null,null,null,null,null,null,null,null,null,null,null,null,null,null,null,null,null,null,null,null,null,null,{"$f":"IF(ISNUMBER(SEARCH($C$6,BU64)),MAX($BT$13:BT63)+1,0)","v":51},0,{"$f":"ROWS($BV$14:BV64)","v":51},{"$f":"IFERROR(VLOOKUP(ROWS($BW$14:BW64),$BT$14:$BU$5000,2,0),\"\")","v":0}]
["","","","","","","","","","","","","",null,{"$f":"IFERROR(INDEX(MissingData_FS112, SMALL(IF(ISBLANK(MissingData_FS112)+ISERROR(MissingData_FS112)+LEN(MissingData_FS112)=0, \"\", ROW(MissingData_FS112)-MIN(ROW(MissingData_FS112))+1), ROW(4:4))),\"\")","v":"6TO21_NQ_N"},"","",null,"6TO21_NQ_N","","6TO21NQN",1,null,null,null,"6TO21_NQ_N","",null,1,null,null,null,null,null,null,null,null,null,null,null,null,null,null,null,null,null,null,null,null,null,null,null,null,null,null,null,null,null,null,null,null,null,null,null,null,null,null,null,null,null,null,{"$f":"IF(ISNUMBER(SEARCH($C$6,BU65)),MAX($BT$13:BT64)+1,0)","v":52},0,{"$f":"ROWS($BV$14:BV65)","v":52},{"$f":"IFERROR(VLOOKUP(ROWS($BW$14:BW65),$BT$14:$BU$5000,2,0),\"\")","v":0}]
["","","","","","","","","","","","","",null,{"$f":"IFERROR(INDEX(MissingData_FS112, SMALL(IF(ISBLANK(MissingData_FS112)+ISERROR(MissingData_FS112)+LEN(MissingData_FS112)=0, \"\", ROW(MissingData_FS112)-MIN(ROW(MissingData_FS112))+1), ROW(5:5))),\"\")","v":"3TO5__Y"},"","",null,"3TO5__Y","","3TO5Y",1,null,null,null,"3TO5__Y","",null,1,null,null,null,null,null,null,null,null,null,null,null,null,null,null,null,null,null,null,null,null,null,null,null,null,null,null,null,null,null,null,null,null,null,null,null,null,null,null,null,null,null,null,{"$f":"IF(ISNUMBER(SEARCH($C$6,BU66)),MAX($BT$13:BT65)+1,0)","v":53},0,{"$f":"ROWS($BV$14:BV66)","v":53},{"$f":"IFERROR(VLOOKUP(ROWS($BW$14:BW66),$BT$14:$BU$5000,2,0),\"\")","v":0}]
["","","","","","","","","","","","","",null,{"$f":"IFERROR(INDEX(MissingData_FS112, SMALL(IF(ISBLANK(MissingData_FS112)+ISERROR(MissingData_FS112)+LEN(MissingData_FS112)=0, \"\", ROW(MissingData_FS112)-MIN(ROW(MissingData_FS112))+1), ROW(6:6))),\"\")","v":"6TO21__Y"},"","",null,"6TO21__Y","","6TO21Y",1,null,null,null,"6TO21__Y","",null,1,null,null,null,null,null,null,null,null,null,null,null,null,null,null,null,null,null,null,null,null,null,null,null,null,null,null,null,null,null,null,null,null,null,null,null,null,null,null,null,null,null,null,{"$f":"IF(ISNUMBER(SEARCH($C$6,BU67)),MAX($BT$13:BT66)+1,0)","v":54},0,{"$f":"ROWS($BV$14:BV67)","v":54},{"$f":"IFERROR(VLOOKUP(ROWS($BW$14:BW67),$BT$14:$BU$5000,2,0),\"\")","v":0}]
["","","","","","","","","","","","","",null,{"$f":"IFERROR(INDEX(MissingData_FS112, SMALL(IF(ISBLANK(MissingData_FS112)+ISERROR(MissingData_FS112)+LEN(MissingData_FS112)=0, \"\", ROW(MissingData_FS112)-MIN(ROW(MissingData_FS112))+1), ROW(7:7))),\"\")","v":"_Q_Y"},"","",null,"_Q_Y","","QY",1,null,null,null,"_Q_Y","",null,1,null,null,null,null,null,null,null,null,null,null,null,null,null,null,null,null,null,null,null,null,null,null,null,null,null,null,null,null,null,null,null,null,null,null,null,null,null,null,null,null,null,null,{"$f":"IF(ISNUMBER(SEARCH($C$6,BU68)),MAX($BT$13:BT67)+1,0)","v":55},0,{"$f":"ROWS($BV$14:BV68)","v":55},{"$f":"IFERROR(VLOOKUP(ROWS($BW$14:BW68),$BT$14:$BU$5000,2,0),\"\")","v":0}]
["","","","","","","","","","","","","",null,{"$f":"IFERROR(INDEX(MissingData_FS112, SMALL(IF(ISBLANK(MissingData_FS112)+ISERROR(MissingData_FS112)+LEN(MissingData_FS112)=0, \"\", ROW(MissingData_FS112)-MIN(ROW(MissingData_FS112))+1), ROW(8:8))),\"\")","v":"_NQ_Y"},"","",null,"_NQ_Y","","NQY",1,null,null,null,"_NQ_Y","",null,1,null,null,null,null,null,null,null,null,null,null,null,null,null,null,null,null,null,null,null,null,null,null,null,null,null,null,null,null,null,null,null,null,null,null,null,null,null,null,null,null,null,null,{"$f":"IF(ISNUMBER(SEARCH($C$6,BU69)),MAX($BT$13:BT68)+1,0)","v":56},0,{"$f":"ROWS($BV$14:BV69)","v":56},{"$f":"IFERROR(VLOOKUP(ROWS($BW$14:BW69),$BT$14:$BU$5000,2,0),\"\")","v":0}]
["","","","","","","","","","","","","",null,{"$f":"IFERROR(INDEX(MissingData_FS112, SMALL(IF(ISBLANK(MissingData_FS112)+ISERROR(MissingData_FS112)+LEN(MissingData_FS112)=0, \"\", ROW(MissingData_FS112)-MIN(ROW(MissingData_FS112))+1), ROW(9:9))),\"\")","v":"__Y"},"","",null,"__Y","","Y",1,null,null,null,"__Y","",null,1,null,null,null,null,null,null,null,null,null,null,null,null,null,null,null,null,null,null,null,null,null,null,null,null,null,null,null,null,null,null,null,null,null,null,null,null,null,null,null,null,null,null,{"$f":"IF(ISNUMBER(SEARCH($C$6,BU70)),MAX($BT$13:BT69)+1,0)","v":57},0,{"$f":"ROWS($BV$14:BV70)","v":57},{"$f":"IFERROR(VLOOKUP(ROWS($BW$14:BW70),$BT$14:$BU$5000,2,0),\"\")","v":0}]
[null,null,null,null,null,null,null,null,null,null,null,null,null,null,null,null,null,null,null,null,null,null,null,null,null,null,null,null,null,null,null,null,null,null,null,null,null,null,null,null,null,null,null,null,null,null,null,null,null,null,null,null,null,null,null,null,null,null,null,null,null,null,null,null,null,null,null,null,null,null,null,{"$f":"IF(ISNUMBER(SEARCH($C$6,BU71)),MAX($BT$13:BT70)+1,0)","v":58},0,{"$f":"ROWS($BV$14:BV71)","v":58},{"$f":"IFERROR(VLOOKUP(ROWS($BW$14:BW71),$BT$14:$BU$5000,2,0),\"\")","v":0}]
[null,null,null,null,null,null,null,null,null,null,null,null,null,null,null,null,null,null,null,null,null,null,null,null,null,null,null,null,null,null,null,null,null,null,null,null,null,null,null,null,null,null,null,null,null,null,null,null,null,null,null,null,null,null,null,null,null,null,null,null,null,null,null,null,null,null,null,null,null,null,null,{"$f":"IF(ISNUMBER(SEARCH($C$6,BU72)),MAX($BT$13:BT71)+1,0)","v":59},0,{"$f":"ROWS($BV$14:BV72)","v":59},{"$f":"IFERROR(VLOOKUP(ROWS($BW$14:BW72),$BT$14:$BU$5000,2,0),\"\")","v":0}]
[null,null,null,null,null,null,null,null,null,null,null,null,null,null,null,null,null,null,{"$f":"IF(LEN(U73)=0,\"\",IF(ISNA(MATCH(U73,CurrentListing_C112,0)),Z73,\"\"))","v":""},{"$f":"H73&I73&K73","v":""},null,{"$f":"IF(LEN(O73)>0,1,0)","v":0},null,null,null,null,{"$f":"IF(LEN(H73&\"_\"&I73&\"_\"&K73)<3,\"\",H73&\"_\"&I73&\"_\"&K73)","v":""},null,{"$f":"IF(LEN(O73)>0,1,0)","v":0},null,null,null,null,null,null,null,null,null,null,null,null,null,null,null,null,null,null,null,null,null,null,null,null,null,null,null,null,null,null,null,null,null,null,null,null,null,null,null,null,null,null,{"$f":"IF(ISNUMBER(SEARCH($C$6,BU73)),MAX($BT$13:BT72)+1,0)","v":60},0,{"$f":"ROWS($BV$14:BV73)","v":60},{"$f":"IFERROR(VLOOKUP(ROWS($BW$14:BW73),$BT$14:$BU$5000,2,0),\"\")","v":0}]
[null,null,null,null,null,null,null,null,null,null,null,null,null,null,null,null,null,null,"",{"$f":"H74&I74&K74","v":""},null,{"$f":"IF(LEN(O74)>0,1,0)","v":0},null,null,null,null,{"$f":"IF(LEN(H74&\"_\"&I74&\"_\"&K74)<3,\"\",H74&\"_\"&I74&\"_\"&K74)","v":""},null,{"$f":"IF(LEN(O74)>0,1,0)","v":0},null,null,null,null,null,null,null,null,null,null,null,null,null,null,null,null,null,null,null,null,null,null,null,null,null,null,null,null,null,null,null,null,null,null,null,null,null,null,null,null,null,null,{"$f":"IF(ISNUMBER(SEARCH($C$6,BU74)),MAX($BT$13:BT73)+1,0)","v":61},0,{"$f":"ROWS($BV$14:BV74)","v":61},{"$f":"IFERROR(VLOOKUP(ROWS($BW$14:BW74),$BT$14:$BU$5000,2,0),\"\")","v":0}]
[null,null,null,null,null,null,null,null,null,null,null,null,null,null,null,null,null,null,"",{"$f":"H75&I75&K75","v":""},null,{"$f":"IF(LEN(O75)>0,1,0)","v":0},null,null,null,null,{"$f":"IF(LEN(H75&\"_\"&I75&\"_\"&K75)<3,\"\",H75&\"_\"&I75&\"_\"&K75)","v":""},null,{"$f":"IF(LEN(O75)>0,1,0)","v":0},null,null,null,null,null,null,null,null,null,null,null,null,null,null,null,null,null,null,null,null,null,null,null,null,null,null,null,null,null,null,null,null,null,null,null,null,null,null,null,null,null,null,{"$f":"IF(ISNUMBER(SEARCH($C$6,BU75)),MAX($BT$13:BT74)+1,0)","v":62},0,{"$f":"ROWS($BV$14:BV75)","v":62},{"$f":"IFERROR(VLOOKUP(ROWS($BW$14:BW75),$BT$14:$BU$5000,2,0),\"\")","v":0}]
[null,null,null,null,null,null,null,null,null,null,null,null,null,null,null,null,null,null,null,null,null,null,null,null,null,null,null,null,null,null,null,null,null,null,null,null,null,null,null,null,null,null,null,null,null,null,null,null,null,null,null,null,null,null,null,null,null,null,null,null,null,null,null,null,null,null,null,null,null,null,null,{"$f":"IF(ISNUMBER(SEARCH($C$6,BU76)),MAX($BT$13:BT75)+1,0)","v":63},0,{"$f":"ROWS($BV$14:BV76)","v":63},{"$f":"IFERROR(VLOOKUP(ROWS($BW$14:BW76),$BT$14:$BU$5000,2,0),\"\")","v":0}]
[null,null,null,null,null,null,null,null,null,null,null,null,null,null,null,null,null,null,null,null,null,null,null,null,null,null,null,null,null,null,null,null,null,null,null,null,null,null,null,null,null,null,null,null,null,null,null,null,null,null,null,null,null,null,null,null,null,null,null,null,null,null,null,null,null,null,null,null,null,null,null,{"$f":"IF(ISNUMBER(SEARCH($C$6,BU77)),MAX($BT$13:BT76)+1,0)","v":64},0,{"$f":"ROWS($BV$14:BV77)","v":64},{"$f":"IFERROR(VLOOKUP(ROWS($BW$14:BW77),$BT$14:$BU$5000,2,0),\"\")","v":0}]
[null,null,null,null,null,null,null,null,null,null,null,null,null,null,null,null,null,null,null,null,null,null,null,null,null,null,null,null,null,null,null,null,null,null,null,null,null,null,null,null,null,null,null,null,null,null,null,null,null,null,null,null,null,null,null,null,null,null,null,null,null,null,null,null,null,null,null,null,null,null,null,{"$f":"IF(ISNUMBER(SEARCH($C$6,BU78)),MAX($BT$13:BT77)+1,0)","v":65},0,{"$f":"ROWS($BV$14:BV78)","v":65},{"$f":"IFERROR(VLOOKUP(ROWS($BW$14:BW78),$BT$14:$BU$5000,2,0),\"\")","v":0}]
[null,null,null,null,null,null,null,null,null,null,null,null,null,null,null,null,null,null,null,null,null,null,null,null,null,null,null,null,null,null,null,null,null,null,null,null,null,null,null,null,null,null,null,null,null,null,null,null,null,null,null,null,null,null,null,null,null,null,null,null,null,null,null,null,null,null,null,null,null,null,null,{"$f":"IF(ISNUMBER(SEARCH($C$6,BU79)),MAX($BT$13:BT78)+1,0)","v":66},0,{"$f":"ROWS($BV$14:BV79)","v":66},{"$f":"IFERROR(VLOOKUP(ROWS($BW$14:BW79),$BT$14:$BU$5000,2,0),\"\")","v":0}]
[null,null,null,null,null,null,null,null,null,null,null,null,null,null,null,null,null,null,null,null,null,null,null,null,null,null,null,null,null,null,null,null,null,null,null,null,null,null,null,null,null,null,null,null,null,null,null,null,null,null,null,null,null,null,null,null,null,null,null,null,null,null,null,null,null,null,null,null,null,null,null,{"$f":"IF(ISNUMBER(SEARCH($C$6,BU80)),MAX($BT$13:BT79)+1,0)","v":67},0,{"$f":"ROWS($BV$14:BV80)","v":67},{"$f":"IFERROR(VLOOKUP(ROWS($BW$14:BW80),$BT$14:$BU$5000,2,0),\"\")","v":0}]
[null,null,null,null,null,null,null,null,null,null,null,null,null,null,null,null,null,null,null,null,null,null,null,null,null,null,null,null,null,null,null,null,null,null,null,null,null,null,null,null,null,null,null,null,null,null,null,null,null,null,null,null,null,null,null,null,null,null,null,null,null,null,null,null,null,null,null,null,null,null,null,{"$f":"IF(ISNUMBER(SEARCH($C$6,BU81)),MAX($BT$13:BT80)+1,0)","v":68},0,{"$f":"ROWS($BV$14:BV81)","v":68},{"$f":"IFERROR(VLOOKUP(ROWS($BW$14:BW81),$BT$14:$BU$5000,2,0),\"\")","v":0}]
[null,null,null,null,null,null,null,null,null,null,null,null,null,null,null,null,null,null,null,null,null,null,null,null,null,null,null,null,null,null,null,null,null,null,null,null,null,null,null,null,null,null,null,null,null,null,null,null,null,null,null,null,null,null,null,null,null,null,null,null,null,null,null,null,null,null,null,null,null,null,null,{"$f":"IF(ISNUMBER(SEARCH($C$6,BU82)),MAX($BT$13:BT81)+1,0)","v":69},0,{"$f":"ROWS($BV$14:BV82)","v":69},{"$f":"IFERROR(VLOOKUP(ROWS($BW$14:BW82),$BT$14:$BU$5000,2,0),\"\")","v":0}]
[null,null,null,null,null,null,null,null,null,null,null,null,null,null,null,null,null,null,null,null,null,null,null,null,null,null,null,null,null,null,null,null,null,null,null,null,null,null,null,null,null,null,null,null,null,null,null,null,null,null,null,null,null,null,null,null,null,null,null,null,null,null,null,null,null,null,null,null,null,null,null,{"$f":"IF(ISNUMBER(SEARCH($C$6,BU83)),MAX($BT$13:BT82)+1,0)","v":70},0,{"$f":"ROWS($BV$14:BV83)","v":70},{"$f":"IFERROR(VLOOKUP(ROWS($BW$14:BW83),$BT$14:$BU$5000,2,0),\"\")","v":0}]
[null,null,null,null,null,null,null,null,null,null,null,null,null,null,null,null,null,null,null,null,null,null,null,null,null,null,null,null,null,null,null,null,null,null,null,null,null,null,null,null,null,null,null,null,null,null,null,null,null,null,null,null,null,null,null,null,null,null,null,null,null,null,null,null,null,null,null,null,null,null,null,{"$f":"IF(ISNUMBER(SEARCH($C$6,BU84)),MAX($BT$13:BT83)+1,0)","v":71},0,{"$f":"ROWS($BV$14:BV84)","v":71},{"$f":"IFERROR(VLOOKUP(ROWS($BW$14:BW84),$BT$14:$BU$5000,2,0),\"\")","v":0}]
[null,null,null,null,null,null,null,null,null,null,null,null,null,null,null,null,null,null,null,null,null,null,null,null,null,null,null,null,null,null,null,null,null,null,null,null,null,null,null,null,null,null,null,null,null,null,null,null,null,null,null,null,null,null,null,null,null,null,null,null,null,null,null,null,null,null,null,null,null,null,null,{"$f":"IF(ISNUMBER(SEARCH($C$6,BU85)),MAX($BT$13:BT84)+1,0)","v":72},0,{"$f":"ROWS($BV$14:BV85)","v":72},{"$f":"IFERROR(VLOOKUP(ROWS($BW$14:BW85),$BT$14:$BU$5000,2,0),\"\")","v":0}]
[null,null,null,null,null,null,null,null,null,null,null,null,null,null,null,null,null,null,null,null,null,null,null,null,null,null,null,null,null,null,null,null,null,null,null,null,null,null,null,null,null,null,null,null,null,null,null,null,null,null,null,null,null,null,null,null,null,null,null,null,null,null,null,null,null,null,null,null,null,null,null,{"$f":"IF(ISNUMBER(SEARCH($C$6,BU86)),MAX($BT$13:BT85)+1,0)","v":73},0,{"$f":"ROWS($BV$14:BV86)","v":73},{"$f":"IFERROR(VLOOKUP(ROWS($BW$14:BW86),$BT$14:$BU$5000,2,0),\"\")","v":0}]
[null,null,null,null,null,null,null,null,null,null,null,null,null,null,null,null,null,null,null,null,null,null,null,null,null,null,null,null,null,null,null,null,null,null,null,null,null,null,null,null,null,null,null,null,null,null,null,null,null,null,null,null,null,null,null,null,null,null,null,null,null,null,null,null,null,null,null,null,null,null,null,{"$f":"IF(ISNUMBER(SEARCH($C$6,BU87)),MAX($BT$13:BT86)+1,0)","v":74},0,{"$f":"ROWS($BV$14:BV87)","v":74},{"$f":"IFERROR(VLOOKUP(ROWS($BW$14:BW87),$BT$14:$BU$5000,2,0),\"\")","v":0}]
[null,null,null,null,null,null,null,null,null,null,null,null,null,null,null,null,null,null,null,null,null,null,null,null,null,null,null,null,null,null,null,null,null,null,null,null,null,null,null,null,null,null,null,null,null,null,null,null,null,null,null,null,null,null,null,null,null,null,null,null,null,null,null,null,null,null,null,null,null,null,null,{"$f":"IF(ISNUMBER(SEARCH($C$6,BU88)),MAX($BT$13:BT87)+1,0)","v":75},0,{"$f":"ROWS($BV$14:BV88)","v":75},{"$f":"IFERROR(VLOOKUP(ROWS($BW$14:BW88),$BT$14:$BU$5000,2,0),\"\")","v":0}]
[null,null,null,null,null,null,null,null,null,null,null,null,null,null,null,null,null,null,null,null,null,null,null,null,null,null,null,null,null,null,null,null,null,null,null,null,null,null,null,null,null,null,null,null,null,null,null,null,null,null,null,null,null,null,null,null,null,null,null,null,null,null,null,null,null,null,null,null,null,null,null,{"$f":"IF(ISNUMBER(SEARCH($C$6,BU89)),MAX($BT$13:BT88)+1,0)","v":76},0,{"$f":"ROWS($BV$14:BV89)","v":76},{"$f":"IFERROR(VLOOKUP(ROWS($BW$14:BW89),$BT$14:$BU$5000,2,0),\"\")","v":0}]
[null,null,null,null,null,null,null,null,null,null,null,null,null,null,null,null,null,null,null,null,null,null,null,null,null,null,null,null,null,null,null,null,null,null,null,null,null,null,null,null,null,null,null,null,null,null,null,null,null,null,null,null,null,null,null,null,null,null,null,null,null,null,null,null,null,null,null,null,null,null,null,{"$f":"IF(ISNUMBER(SEARCH($C$6,BU90)),MAX($BT$13:BT89)+1,0)","v":77},0,{"$f":"ROWS($BV$14:BV90)","v":77},{"$f":"IFERROR(VLOOKUP(ROWS($BW$14:BW90),$BT$14:$BU$5000,2,0),\"\")","v":0}]
[null,null,null,null,null,null,null,null,null,null,null,null,null,null,null,null,null,null,null,null,null,null,null,null,null,null,null,null,null,null,null,null,null,null,null,null,null,null,null,null,null,null,null,null,null,null,null,null,null,null,null,null,null,null,null,null,null,null,null,null,null,null,null,null,null,null,null,null,null,null,null,{"$f":"IF(ISNUMBER(SEARCH($C$6,BU91)),MAX($BT$13:BT90)+1,0)","v":78},0,{"$f":"ROWS($BV$14:BV91)","v":78},{"$f":"IFERROR(VLOOKUP(ROWS($BW$14:BW91),$BT$14:$BU$5000,2,0),\"\")","v":0}]
[null,null,null,null,null,null,null,null,null,null,null,null,null,null,null,null,null,null,null,null,null,null,null,null,null,null,null,null,null,null,null,null,null,null,null,null,null,null,null,null,null,null,null,null,null,null,null,null,null,null,null,null,null,null,null,null,null,null,null,null,null,null,null,null,null,null,null,null,null,null,null,{"$f":"IF(ISNUMBER(SEARCH($C$6,BU92)),MAX($BT$13:BT91)+1,0)","v":79},0,{"$f":"ROWS($BV$14:BV92)","v":79},{"$f":"IFERROR(VLOOKUP(ROWS($BW$14:BW92),$BT$14:$BU$5000,2,0),\"\")","v":0}]
[null,null,null,null,null,null,null,null,null,null,null,null,null,null,null,null,null,null,null,null,null,null,null,null,null,null,null,null,null,null,null,null,null,null,null,null,null,null,null,null,null,null,null,null,null,null,null,null,null,null,null,null,null,null,null,null,null,null,null,null,null,null,null,null,null,null,null,null,null,null,null,{"$f":"IF(ISNUMBER(SEARCH($C$6,BU93)),MAX($BT$13:BT92)+1,0)","v":80},0,{"$f":"ROWS($BV$14:BV93)","v":80},{"$f":"IFERROR(VLOOKUP(ROWS($BW$14:BW93),$BT$14:$BU$5000,2,0),\"\")","v":0}]
[null,null,null,null,null,null,null,null,null,null,null,null,null,null,null,null,null,null,null,null,null,null,null,null,null,null,null,null,null,null,null,null,null,null,null,null,null,null,null,null,null,null,null,null,null,null,null,null,null,null,null,null,null,null,null,null,null,null,null,null,null,null,null,null,null,null,null,null,null,null,null,{"$f":"IF(ISNUMBER(SEARCH($C$6,BU94)),MAX($BT$13:BT93)+1,0)","v":81},0,{"$f":"ROWS($BV$14:BV94)","v":81},{"$f":"IFERROR(VLOOKUP(ROWS($BW$14:BW94),$BT$14:$BU$5000,2,0),\"\")","v":0}]
[null,null,null,null,null,null,null,null,null,null,null,null,null,null,null,null,null,null,null,null,null,null,null,null,null,null,null,null,null,null,null,null,null,null,null,null,null,null,null,null,null,null,null,null,null,null,null,null,null,null,null,null,null,null,null,null,null,null,null,null,null,null,null,null,null,null,null,null,null,null,null,{"$f":"IF(ISNUMBER(SEARCH($C$6,BU95)),MAX($BT$13:BT94)+1,0)","v":82},0,{"$f":"ROWS($BV$14:BV95)","v":82},{"$f":"IFERROR(VLOOKUP(ROWS($BW$14:BW95),$BT$14:$BU$5000,2,0),\"\")","v":0}]
[null,null,null,null,null,null,null,null,null,null,null,null,null,null,null,null,null,null,null,null,null,null,null,null,null,null,null,null,null,null,null,null,null,null,null,null,null,null,null,null,null,null,null,null,null,null,null,null,null,null,null,null,null,null,null,null,null,null,null,null,null,null,null,null,null,null,null,null,null,null,null,{"$f":"IF(ISNUMBER(SEARCH($C$6,BU96)),MAX($BT$13:BT95)+1,0)","v":83},0,{"$f":"ROWS($BV$14:BV96)","v":83},{"$f":"IFERROR(VLOOKUP(ROWS($BW$14:BW96),$BT$14:$BU$5000,2,0),\"\")","v":0}]
[null,null,null,null,null,null,null,null,null,null,null,null,null,null,null,null,null,null,null,null,null,null,null,null,null,null,null,null,null,null,null,null,null,null,null,null,null,null,null,null,null,null,null,null,null,null,null,null,null,null,null,null,null,null,null,null,null,null,null,null,null,null,null,null,null,null,null,null,null,null,null,{"$f":"IF(ISNUMBER(SEARCH($C$6,BU97)),MAX($BT$13:BT96)+1,0)","v":84},0,{"$f":"ROWS($BV$14:BV97)","v":84},{"$f":"IFERROR(VLOOKUP(ROWS($BW$14:BW97),$BT$14:$BU$5000,2,0),\"\")","v":0}]
[null,null,null,null,null,null,null,null,null,null,null,null,null,null,null,null,null,null,null,null,null,null,null,null,null,null,null,null,null,null,null,null,null,null,null,null,null,null,null,null,null,null,null,null,null,null,null,null,null,null,null,null,null,null,null,null,null,null,null,null,null,null,null,null,null,null,null,null,null,null,null,{"$f":"IF(ISNUMBER(SEARCH($C$6,BU98)),MAX($BT$13:BT97)+1,0)","v":85},0,{"$f":"ROWS($BV$14:BV98)","v":85},{"$f":"IFERROR(VLOOKUP(ROWS($BW$14:BW98),$BT$14:$BU$5000,2,0),\"\")","v":0}]
[null,null,null,null,null,null,null,null,null,null,null,null,null,null,null,null,null,null,null,null,null,null,null,null,null,null,null,null,null,null,null,null,null,null,null,null,null,null,null,null,null,null,null,null,null,null,null,null,null,null,null,null,null,null,null,null,null,null,null,null,null,null,null,null,null,null,null,null,null,null,null,{"$f":"IF(ISNUMBER(SEARCH($C$6,BU99)),MAX($BT$13:BT98)+1,0)","v":86},0,{"$f":"ROWS($BV$14:BV99)","v":86},{"$f":"IFERROR(VLOOKUP(ROWS($BW$14:BW99),$BT$14:$BU$5000,2,0),\"\")","v":0}]
[null,null,null,null,null,null,null,null,null,null,null,null,null,null,null,null,null,null,null,null,null,null,null,null,null,null,null,null,null,null,null,null,null,null,null,null,null,null,null,null,null,null,null,null,null,null,null,null,null,null,null,null,null,null,null,null,null,null,null,null,null,null,null,null,null,null,null,null,null,null,null,{"$f":"IF(ISNUMBER(SEARCH($C$6,BU100)),MAX($BT$13:BT99)+1,0)","v":87},0,{"$f":"ROWS($BV$14:BV100)","v":87},{"$f":"IFERROR(VLOOKUP(ROWS($BW$14:BW100),$BT$14:$BU$5000,2,0),\"\")","v":0}]
[null,null,null,null,null,null,null,null,null,null,null,null,null,null,null,null,null,null,null,null,null,null,null,null,null,null,null,null,null,null,null,null,null,null,null,null,null,null,null,null,null,null,null,null,null,null,null,null,null,null,null,null,null,null,null,null,null,null,null,null,null,null,null,null,null,null,null,null,null,null,null,{"$f":"IF(ISNUMBER(SEARCH($C$6,BU101)),MAX($BT$13:BT100)+1,0)","v":88},0,{"$f":"ROWS($BV$14:BV101)","v":88},{"$f":"IFERROR(VLOOKUP(ROWS($BW$14:BW101),$BT$14:$BU$5000,2,0),\"\")","v":0}]
[null,null,null,null,null,null,null,null,null,null,null,null,null,null,null,null,null,null,null,null,null,null,null,null,null,null,null,null,null,null,null,null,null,null,null,null,null,null,null,null,null,null,null,null,null,null,null,null,null,null,null,null,null,null,null,null,null,null,null,null,null,null,null,null,null,null,null,null,null,null,null,{"$f":"IF(ISNUMBER(SEARCH($C$6,BU102)),MAX($BT$13:BT101)+1,0)","v":89},0,{"$f":"ROWS($BV$14:BV102)","v":89},{"$f":"IFERROR(VLOOKUP(ROWS($BW$14:BW102),$BT$14:$BU$5000,2,0),\"\")","v":0}]
[null,null,null,null,null,null,null,null,null,null,null,null,null,null,null,null,null,null,null,null,null,null,null,null,null,null,null,null,null,null,null,null,null,null,null,null,null,null,null,null,null,null,null,null,null,null,null,null,null,null,null,null,null,null,null,null,null,null,null,null,null,null,null,null,null,null,null,null,null,null,null,{"$f":"IF(ISNUMBER(SEARCH($C$6,BU103)),MAX($BT$13:BT102)+1,0)","v":90},0,{"$f":"ROWS($BV$14:BV103)","v":90},{"$f":"IFERROR(VLOOKUP(ROWS($BW$14:BW103),$BT$14:$BU$5000,2,0),\"\")","v":0}]
[null,null,null,null,null,null,null,null,null,null,null,null,null,null,null,null,null,null,null,null,null,null,null,null,null,null,null,null,null,null,null,null,null,null,null,null,null,null,null,null,null,null,null,null,null,null,null,null,null,null,null,null,null,null,null,null,null,null,null,null,null,null,null,null,null,null,null,null,null,null,null,{"$f":"IF(ISNUMBER(SEARCH($C$6,BU104)),MAX($BT$13:BT103)+1,0)","v":91},0,{"$f":"ROWS($BV$14:BV104)","v":91},{"$f":"IFERROR(VLOOKUP(ROWS($BW$14:BW104),$BT$14:$BU$5000,2,0),\"\")","v":0}]
[null,null,null,null,null,null,null,null,null,null,null,null,null,null,null,null,null,null,null,null,null,null,null,null,null,null,null,null,null,null,null,null,null,null,null,null,null,null,null,null,null,null,null,null,null,null,null,null,null,null,null,null,null,null,null,null,null,null,null,null,null,null,null,null,null,null,null,null,null,null,null,{"$f":"IF(ISNUMBER(SEARCH($C$6,BU105)),MAX($BT$13:BT104)+1,0)","v":92},0,{"$f":"ROWS($BV$14:BV105)","v":92},{"$f":"IFERROR(VLOOKUP(ROWS($BW$14:BW105),$BT$14:$BU$5000,2,0),\"\")","v":0}]
[null,null,null,null,null,null,null,null,null,null,null,null,null,null,null,null,null,null,null,null,null,null,null,null,null,null,null,null,null,null,null,null,null,null,null,null,null,null,null,null,null,null,null,null,null,null,null,null,null,null,null,null,null,null,null,null,null,null,null,null,null,null,null,null,null,null,null,null,null,null,null,{"$f":"IF(ISNUMBER(SEARCH($C$6,BU106)),MAX($BT$13:BT105)+1,0)","v":93},0,{"$f":"ROWS($BV$14:BV106)","v":93},{"$f":"IFERROR(VLOOKUP(ROWS($BW$14:BW106),$BT$14:$BU$5000,2,0),\"\")","v":0}]
[null,null,null,null,null,null,null,null,null,null,null,null,null,null,null,null,null,null,null,null,null,null,null,null,null,null,null,null,null,null,null,null,null,null,null,null,null,null,null,null,null,null,null,null,null,null,null,null,null,null,null,null,null,null,null,null,null,null,null,null,null,null,null,null,null,null,null,null,null,null,null,{"$f":"IF(ISNUMBER(SEARCH($C$6,BU107)),MAX($BT$13:BT106)+1,0)","v":94},0,{"$f":"ROWS($BV$14:BV107)","v":94},{"$f":"IFERROR(VLOOKUP(ROWS($BW$14:BW107),$BT$14:$BU$5000,2,0),\"\")","v":0}]
[null,null,null,null,null,null,null,null,null,null,null,null,null,null,null,null,null,null,null,null,null,null,null,null,null,null,null,null,null,null,null,null,null,null,null,null,null,null,null,null,null,null,null,null,null,null,null,null,null,null,null,null,null,null,null,null,null,null,null,null,null,null,null,null,null,null,null,null,null,null,null,{"$f":"IF(ISNUMBER(SEARCH($C$6,BU108)),MAX($BT$13:BT107)+1,0)","v":95},0,{"$f":"ROWS($BV$14:BV108)","v":95},{"$f":"IFERROR(VLOOKUP(ROWS($BW$14:BW108),$BT$14:$BU$5000,2,0),\"\")","v":0}]
[null,null,null,null,null,null,null,null,null,null,null,null,null,null,null,null,null,null,null,null,null,null,null,null,null,null,null,null,null,null,null,null,null,null,null,null,null,null,null,null,null,null,null,null,null,null,null,null,null,null,null,null,null,null,null,null,null,null,null,null,null,null,null,null,null,null,null,null,null,null,null,{"$f":"IF(ISNUMBER(SEARCH($C$6,BU109)),MAX($BT$13:BT108)+1,0)","v":96},0,{"$f":"ROWS($BV$14:BV109)","v":96},{"$f":"IFERROR(VLOOKUP(ROWS($BW$14:BW109),$BT$14:$BU$5000,2,0),\"\")","v":0}]
[null,null,null,null,null,null,null,null,null,null,null,null,null,null,null,null,null,null,null,null,null,null,null,null,null,null,null,null,null,null,null,null,null,null,null,null,null,null,null,null,null,null,null,null,null,null,null,null,null,null,null,null,null,null,null,null,null,null,null,null,null,null,null,null,null,null,null,null,null,null,null,{"$f":"IF(ISNUMBER(SEARCH($C$6,BU110)),MAX($BT$13:BT109)+1,0)","v":97},0,{"$f":"ROWS($BV$14:BV110)","v":97},{"$f":"IFERROR(VLOOKUP(ROWS($BW$14:BW110),$BT$14:$BU$5000,2,0),\"\")","v":0}]
[null,null,null,null,null,null,null,null,null,null,null,null,null,null,null,null,null,null,null,null,null,null,null,null,null,null,null,null,null,null,null,null,null,null,null,null,null,null,null,null,null,null,null,null,null,null,null,null,null,null,null,null,null,null,null,null,null,null,null,null,null,null,null,null,null,null,null,null,null,null,null,{"$f":"IF(ISNUMBER(SEARCH($C$6,BU111)),MAX($BT$13:BT110)+1,0)","v":98},0,{"$f":"ROWS($BV$14:BV111)","v":98},{"$f":"IFERROR(VLOOKUP(ROWS($BW$14:BW111),$BT$14:$BU$5000,2,0),\"\")","v":0}]
[null,null,null,null,null,null,null,null,null,null,null,null,null,null,null,null,null,null,null,null,null,null,null,null,null,null,null,null,null,null,null,null,null,null,null,null,null,null,null,null,null,null,null,null,null,null,null,null,null,null,null,null,null,null,null,null,null,null,null,null,null,null,null,null,null,null,null,null,null,null,null,{"$f":"IF(ISNUMBER(SEARCH($C$6,BU112)),MAX($BT$13:BT111)+1,0)","v":99},0,{"$f":"ROWS($BV$14:BV112)","v":99},{"$f":"IFERROR(VLOOKUP(ROWS($BW$14:BW112),$BT$14:$BU$5000,2,0),\"\")","v":0}]
[null,null,null,null,null,null,null,null,null,null,null,null,null,null,null,null,null,null,null,null,null,null,null,null,null,null,null,null,null,null,null,null,null,null,null,null,null,null,null,null,null,null,null,null,null,null,null,null,null,null,null,null,null,null,null,null,null,null,null,null,null,null,null,null,null,null,null,null,null,null,null,{"$f":"IF(ISNUMBER(SEARCH($C$6,BU113)),MAX($BT$13:BT112)+1,0)","v":100},0,{"$f":"ROWS($BV$14:BV113)","v":100},{"$f":"IFERROR(VLOOKUP(ROWS($BW$14:BW113),$BT$14:$BU$5000,2,0),\"\")","v":0}]
[null,null,null,null,null,null,null,null,null,null,null,null,null,null,null,null,null,null,null,null,null,null,null,null,null,null,null,null,null,null,null,null,null,null,null,null,null,null,null,null,null,null,null,null,null,null,null,null,null,null,null,null,null,null,null,null,null,null,null,null,null,null,null,null,null,null,null,null,null,null,null,{"$f":"IF(ISNUMBER(SEARCH($C$6,BU114)),MAX($BT$13:BT113)+1,0)","v":101},0,{"$f":"ROWS($BV$14:BV114)","v":101},{"$f":"IFERROR(VLOOKUP(ROWS($BW$14:BW114),$BT$14:$BU$5000,2,0),\"\")","v":0}]
[null,null,null,null,null,null,null,null,null,null,null,null,null,null,null,null,null,null,null,null,null,null,null,null,null,null,null,null,null,null,null,null,null,null,null,null,null,null,null,null,null,null,null,null,null,null,null,null,null,null,null,null,null,null,null,null,null,null,null,null,null,null,null,null,null,null,null,null,null,null,null,{"$f":"IF(ISNUMBER(SEARCH($C$6,BU115)),MAX($BT$13:BT114)+1,0)","v":102},0,{"$f":"ROWS($BV$14:BV115)","v":102},{"$f":"IFERROR(VLOOKUP(ROWS($BW$14:BW115),$BT$14:$BU$5000,2,0),\"\")","v":0}]
[null,null,null,null,null,null,null,null,null,null,null,null,null,null,null,null,null,null,null,null,null,null,null,null,null,null,null,null,null,null,null,null,null,null,null,null,null,null,null,null,null,null,null,null,null,null,null,null,null,null,null,null,null,null,null,null,null,null,null,null,null,null,null,null,null,null,null,null,null,null,null,{"$f":"IF(ISNUMBER(SEARCH($C$6,BU116)),MAX($BT$13:BT115)+1,0)","v":103},0,{"$f":"ROWS($BV$14:BV116)","v":103},{"$f":"IFERROR(VLOOKUP(ROWS($BW$14:BW116),$BT$14:$BU$5000,2,0),\"\")","v":0}]
[null,null,null,null,null,null,null,null,null,null,null,null,null,null,null,null,null,null,null,null,null,null,null,null,null,null,null,null,null,null,null,null,null,null,null,null,null,null,null,null,null,null,null,null,null,null,null,null,null,null,null,null,null,null,null,null,null,null,null,null,null,null,null,null,null,null,null,null,null,null,null,{"$f":"IF(ISNUMBER(SEARCH($C$6,BU117)),MAX($BT$13:BT116)+1,0)","v":104},0,{"$f":"ROWS($BV$14:BV117)","v":104},{"$f":"IFERROR(VLOOKUP(ROWS($BW$14:BW117),$BT$14:$BU$5000,2,0),\"\")","v":0}]
[null,null,null,null,null,null,null,null,null,null,null,null,null,null,null,null,null,null,null,null,null,null,null,null,null,null,null,null,null,null,null,null,null,null,null,null,null,null,null,null,null,null,null,null,null,null,null,null,null,null,null,null,null,null,null,null,null,null,null,null,null,null,null,null,null,null,null,null,null,null,null,{"$f":"IF(ISNUMBER(SEARCH($C$6,BU118)),MAX($BT$13:BT117)+1,0)","v":105},0,{"$f":"ROWS($BV$14:BV118)","v":105},{"$f":"IFERROR(VLOOKUP(ROWS($BW$14:BW118),$BT$14:$BU$5000,2,0),\"\")","v":0}]
[null,null,null,null,null,null,null,null,null,null,null,null,null,null,null,null,null,null,null,null,null,null,null,null,null,null,null,null,null,null,null,null,null,null,null,null,null,null,null,null,null,null,null,null,null,null,null,null,null,null,null,null,null,null,null,null,null,null,null,null,null,null,null,null,null,null,null,null,null,null,null,{"$f":"IF(ISNUMBER(SEARCH($C$6,BU119)),MAX($BT$13:BT118)+1,0)","v":106},0,{"$f":"ROWS($BV$14:BV119)","v":106},{"$f":"IFERROR(VLOOKUP(ROWS($BW$14:BW119),$BT$14:$BU$5000,2,0),\"\")","v":0}]
[null,null,null,null,null,null,null,null,null,null,null,null,null,null,null,null,null,null,null,null,null,null,null,null,null,null,null,null,null,null,null,null,null,null,null,null,null,null,null,null,null,null,null,null,null,null,null,null,null,null,null,null,null,null,null,null,null,null,null,null,null,null,null,null,null,null,null,null,null,null,null,{"$f":"IF(ISNUMBER(SEARCH($C$6,BU120)),MAX($BT$13:BT119)+1,0)","v":107},0,{"$f":"ROWS($BV$14:BV120)","v":107},{"$f":"IFERROR(VLOOKUP(ROWS($BW$14:BW120),$BT$14:$BU$5000,2,0),\"\")","v":0}]
[null,null,null,null,null,null,null,null,null,null,null,null,null,null,null,null,null,null,null,null,null,null,null,null,null,null,null,null,null,null,null,null,null,null,null,null,null,null,null,null,null,null,null,null,null,null,null,null,null,null,null,null,null,null,null,null,null,null,null,null,null,null,null,null,null,null,null,null,null,null,null,{"$f":"IF(ISNUMBER(SEARCH($C$6,BU121)),MAX($BT$13:BT120)+1,0)","v":108},0,{"$f":"ROWS($BV$14:BV121)","v":108},{"$f":"IFERROR(VLOOKUP(ROWS($BW$14:BW121),$BT$14:$BU$5000,2,0),\"\")","v":0}]
[null,null,null,null,null,null,null,null,null,null,null,null,null,null,null,null,null,null,null,null,null,null,null,null,null,null,null,null,null,null,null,null,null,null,null,null,null,null,null,null,null,null,null,null,null,null,null,null,null,null,null,null,null,null,null,null,null,null,null,null,null,null,null,null,null,null,null,null,null,null,null,{"$f":"IF(ISNUMBER(SEARCH($C$6,BU122)),MAX($BT$13:BT121)+1,0)","v":109},0,{"$f":"ROWS($BV$14:BV122)","v":109},{"$f":"IFERROR(VLOOKUP(ROWS($BW$14:BW122),$BT$14:$BU$5000,2,0),\"\")","v":0}]
[null,null,null,null,null,null,null,null,null,null,null,null,null,null,null,null,null,null,null,null,null,null,null,null,null,null,null,null,null,null,null,null,null,null,null,null,null,null,null,null,null,null,null,null,null,null,null,null,null,null,null,null,null,null,null,null,null,null,null,null,null,null,null,null,null,null,null,null,null,null,null,{"$f":"IF(ISNUMBER(SEARCH($C$6,BU123)),MAX($BT$13:BT122)+1,0)","v":110},0,{"$f":"ROWS($BV$14:BV123)","v":110},{"$f":"IFERROR(VLOOKUP(ROWS($BW$14:BW123),$BT$14:$BU$5000,2,0),\"\")","v":0}]
[null,null,null,null,null,null,null,null,null,null,null,null,null,null,null,null,null,null,null,null,null,null,null,null,null,null,null,null,null,null,null,null,null,null,null,null,null,null,null,null,null,null,null,null,null,null,null,null,null,null,null,null,null,null,null,null,null,null,null,null,null,null,null,null,null,null,null,null,null,null,null,{"$f":"IF(ISNUMBER(SEARCH($C$6,BU124)),MAX($BT$13:BT123)+1,0)","v":111},0,{"$f":"ROWS($BV$14:BV124)","v":111},{"$f":"IFERROR(VLOOKUP(ROWS($BW$14:BW124),$BT$14:$BU$5000,2,0),\"\")","v":0}]
[null,null,null,null,null,null,null,null,null,null,null,null,null,null,null,null,null,null,null,null,null,null,null,null,null,null,null,null,null,null,null,null,null,null,null,null,null,null,null,null,null,null,null,null,null,null,null,null,null,null,null,null,null,null,null,null,null,null,null,null,null,null,null,null,null,null,null,null,null,null,null,{"$f":"IF(ISNUMBER(SEARCH($C$6,BU125)),MAX($BT$13:BT124)+1,0)","v":112},0,{"$f":"ROWS($BV$14:BV125)","v":112},{"$f":"IFERROR(VLOOKUP(ROWS($BW$14:BW125),$BT$14:$BU$5000,2,0),\"\")","v":0}]
[null,null,null,null,null,null,null,null,null,null,null,null,null,null,null,null,null,null,null,null,null,null,null,null,null,null,null,null,null,null,null,null,null,null,null,null,null,null,null,null,null,null,null,null,null,null,null,null,null,null,null,null,null,null,null,null,null,null,null,null,null,null,null,null,null,null,null,null,null,null,null,{"$f":"IF(ISNUMBER(SEARCH($C$6,BU126)),MAX($BT$13:BT125)+1,0)","v":113},0,{"$f":"ROWS($BV$14:BV126)","v":113},{"$f":"IFERROR(VLOOKUP(ROWS($BW$14:BW126),$BT$14:$BU$5000,2,0),\"\")","v":0}]
[null,null,null,null,null,null,null,null,null,null,null,null,null,null,null,null,null,null,null,null,null,null,null,null,null,null,null,null,null,null,null,null,null,null,null,null,null,null,null,null,null,null,null,null,null,null,null,null,null,null,null,null,null,null,null,null,null,null,null,null,null,null,null,null,null,null,null,null,null,null,null,{"$f":"IF(ISNUMBER(SEARCH($C$6,BU127)),MAX($BT$13:BT126)+1,0)","v":114},0,{"$f":"ROWS($BV$14:BV127)","v":114},{"$f":"IFERROR(VLOOKUP(ROWS($BW$14:BW127),$BT$14:$BU$5000,2,0),\"\")","v":0}]
[null,null,null,null,null,null,null,null,null,null,null,null,null,null,null,null,null,null,null,null,null,null,null,null,null,null,null,null,null,null,null,null,null,null,null,null,null,null,null,null,null,null,null,null,null,null,null,null,null,null,null,null,null,null,null,null,null,null,null,null,null,null,null,null,null,null,null,null,null,null,null,{"$f":"IF(ISNUMBER(SEARCH($C$6,BU128)),MAX($BT$13:BT127)+1,0)","v":115},0,{"$f":"ROWS($BV$14:BV128)","v":115},{"$f":"IFERROR(VLOOKUP(ROWS($BW$14:BW128),$BT$14:$BU$5000,2,0),\"\")","v":0}]
[null,null,null,null,null,null,null,null,null,null,null,null,null,null,null,null,null,null,null,null,null,null,null,null,null,null,null,null,null,null,null,null,null,null,null,null,null,null,null,null,null,null,null,null,null,null,null,null,null,null,null,null,null,null,null,null,null,null,null,null,null,null,null,null,null,null,null,null,null,null,null,{"$f":"IF(ISNUMBER(SEARCH($C$6,BU129)),MAX($BT$13:BT128)+1,0)","v":116},0,{"$f":"ROWS($BV$14:BV129)","v":116},{"$f":"IFERROR(VLOOKUP(ROWS($BW$14:BW129),$BT$14:$BU$5000,2,0),\"\")","v":0}]
[null,null,null,null,null,null,null,null,null,null,null,null,null,null,null,null,null,null,null,null,null,null,null,null,null,null,null,null,null,null,null,null,null,null,null,null,null,null,null,null,null,null,null,null,null,null,null,null,null,null,null,null,null,null,null,null,null,null,null,null,null,null,null,null,null,null,null,null,null,null,null,{"$f":"IF(ISNUMBER(SEARCH($C$6,BU130)),MAX($BT$13:BT129)+1,0)","v":117},0,{"$f":"ROWS($BV$14:BV130)","v":117},{"$f":"IFERROR(VLOOKUP(ROWS($BW$14:BW130),$BT$14:$BU$5000,2,0),\"\")","v":0}]
[null,null,null,null,null,null,null,null,null,null,null,null,null,null,null,null,null,null,null,null,null,null,null,null,null,null,null,null,null,null,null,null,null,null,null,null,null,null,null,null,null,null,null,null,null,null,null,null,null,null,null,null,null,null,null,null,null,null,null,null,null,null,null,null,null,null,null,null,null,null,null,{"$f":"IF(ISNUMBER(SEARCH($C$6,BU131)),MAX($BT$13:BT130)+1,0)","v":118},0,{"$f":"ROWS($BV$14:BV131)","v":118},{"$f":"IFERROR(VLOOKUP(ROWS($BW$14:BW131),$BT$14:$BU$5000,2,0),\"\")","v":0}]
[null,null,null,null,null,null,null,null,null,null,null,null,null,null,null,null,null,null,null,null,null,null,null,null,null,null,null,null,null,null,null,null,null,null,null,null,null,null,null,null,null,null,null,null,null,null,null,null,null,null,null,null,null,null,null,null,null,null,null,null,null,null,null,null,null,null,null,null,null,null,null,{"$f":"IF(ISNUMBER(SEARCH($C$6,BU132)),MAX($BT$13:BT131)+1,0)","v":119},0,{"$f":"ROWS($BV$14:BV132)","v":119},{"$f":"IFERROR(VLOOKUP(ROWS($BW$14:BW132),$BT$14:$BU$5000,2,0),\"\")","v":0}]
[null,null,null,null,null,null,null,null,null,null,null,null,null,null,null,null,null,null,null,null,null,null,null,null,null,null,null,null,null,null,null,null,null,null,null,null,null,null,null,null,null,null,null,null,null,null,null,null,null,null,null,null,null,null,null,null,null,null,null,null,null,null,null,null,null,null,null,null,null,null,null,{"$f":"IF(ISNUMBER(SEARCH($C$6,BU133)),MAX($BT$13:BT132)+1,0)","v":120},0,{"$f":"ROWS($BV$14:BV133)","v":120},{"$f":"IFERROR(VLOOKUP(ROWS($BW$14:BW133),$BT$14:$BU$5000,2,0),\"\")","v":0}]
[null,null,null,null,null,null,null,null,null,null,null,null,null,null,null,null,null,null,null,null,null,null,null,null,null,null,null,null,null,null,null,null,null,null,null,null,null,null,null,null,null,null,null,null,null,null,null,null,null,null,null,null,null,null,null,null,null,null,null,null,null,null,null,null,null,null,null,null,null,null,null,{"$f":"IF(ISNUMBER(SEARCH($C$6,BU134)),MAX($BT$13:BT133)+1,0)","v":121},0,{"$f":"ROWS($BV$14:BV134)","v":121},{"$f":"IFERROR(VLOOKUP(ROWS($BW$14:BW134),$BT$14:$BU$5000,2,0),\"\")","v":0}]
[null,null,null,null,null,null,null,null,null,null,null,null,null,null,null,null,null,null,null,null,null,null,null,null,null,null,null,null,null,null,null,null,null,null,null,null,null,null,null,null,null,null,null,null,null,null,null,null,null,null,null,null,null,null,null,null,null,null,null,null,null,null,null,null,null,null,null,null,null,null,null,{"$f":"IF(ISNUMBER(SEARCH($C$6,BU135)),MAX($BT$13:BT134)+1,0)","v":122},0,{"$f":"ROWS($BV$14:BV135)","v":122},{"$f":"IFERROR(VLOOKUP(ROWS($BW$14:BW135),$BT$14:$BU$5000,2,0),\"\")","v":0}]
[null,null,null,null,null,null,null,null,null,null,null,null,null,null,null,null,null,null,null,null,null,null,null,null,null,null,null,null,null,null,null,null,null,null,null,null,null,null,null,null,null,null,null,null,null,null,null,null,null,null,null,null,null,null,null,null,null,null,null,null,null,null,null,null,null,null,null,null,null,null,null,{"$f":"IF(ISNUMBER(SEARCH($C$6,BU136)),MAX($BT$13:BT135)+1,0)","v":123},0,{"$f":"ROWS($BV$14:BV136)","v":123},{"$f":"IFERROR(VLOOKUP(ROWS($BW$14:BW136),$BT$14:$BU$5000,2,0),\"\")","v":0}]
[null,null,null,null,null,null,null,null,null,null,null,null,null,null,null,null,null,null,null,null,null,null,null,null,null,null,null,null,null,null,null,null,null,null,null,null,null,null,null,null,null,null,null,null,null,null,null,null,null,null,null,null,null,null,null,null,null,null,null,null,null,null,null,null,null,null,null,null,null,null,null,{"$f":"IF(ISNUMBER(SEARCH($C$6,BU137)),MAX($BT$13:BT136)+1,0)","v":124},0,{"$f":"ROWS($BV$14:BV137)","v":124},{"$f":"IFERROR(VLOOKUP(ROWS($BW$14:BW137),$BT$14:$BU$5000,2,0),\"\")","v":0}]
[null,null,null,null,null,null,null,null,null,null,null,null,null,null,null,null,null,null,null,null,null,null,null,null,null,null,null,null,null,null,null,null,null,null,null,null,null,null,null,null,null,null,null,null,null,null,null,null,null,null,null,null,null,null,null,null,null,null,null,null,null,null,null,null,null,null,null,null,null,null,null,{"$f":"IF(ISNUMBER(SEARCH($C$6,BU138)),MAX($BT$13:BT137)+1,0)","v":125},0,{"$f":"ROWS($BV$14:BV138)","v":125},{"$f":"IFERROR(VLOOKUP(ROWS($BW$14:BW138),$BT$14:$BU$5000,2,0),\"\")","v":0}]
[null,null,null,null,null,null,null,null,null,null,null,null,null,null,null,null,null,null,null,null,null,null,null,null,null,null,null,null,null,null,null,null,null,null,null,null,null,null,null,null,null,null,null,null,null,null,null,null,null,null,null,null,null,null,null,null,null,null,null,null,null,null,null,null,null,null,null,null,null,null,null,{"$f":"IF(ISNUMBER(SEARCH($C$6,BU139)),MAX($BT$13:BT138)+1,0)","v":126},0,{"$f":"ROWS($BV$14:BV139)","v":126},{"$f":"IFERROR(VLOOKUP(ROWS($BW$14:BW139),$BT$14:$BU$5000,2,0),\"\")","v":0}]
[null,null,null,null,null,null,null,null,null,null,null,null,null,null,null,null,null,null,null,null,null,null,null,null,null,null,null,null,null,null,null,null,null,null,null,null,null,null,null,null,null,null,null,null,null,null,null,null,null,null,null,null,null,null,null,null,null,null,null,null,null,null,null,null,null,null,null,null,null,null,null,{"$f":"IF(ISNUMBER(SEARCH($C$6,BU140)),MAX($BT$13:BT139)+1,0)","v":127},0,{"$f":"ROWS($BV$14:BV140)","v":127},{"$f":"IFERROR(VLOOKUP(ROWS($BW$14:BW140),$BT$14:$BU$5000,2,0),\"\")","v":0}]
[null,null,null,null,null,null,null,null,null,null,null,null,null,null,null,null,null,null,null,null,null,null,null,null,null,null,null,null,null,null,null,null,null,null,null,null,null,null,null,null,null,null,null,null,null,null,null,null,null,null,null,null,null,null,null,null,null,null,null,null,null,null,null,null,null,null,null,null,null,null,null,{"$f":"IF(ISNUMBER(SEARCH($C$6,BU141)),MAX($BT$13:BT140)+1,0)","v":128},0,{"$f":"ROWS($BV$14:BV141)","v":128},{"$f":"IFERROR(VLOOKUP(ROWS($BW$14:BW141),$BT$14:$BU$5000,2,0),\"\")","v":0}]
[null,null,null,null,null,null,null,null,null,null,null,null,null,null,null,null,null,null,null,null,null,null,null,null,null,null,null,null,null,null,null,null,null,null,null,null,null,null,null,null,null,null,null,null,null,null,null,null,null,null,null,null,null,null,null,null,null,null,null,null,null,null,null,null,null,null,null,null,null,null,null,{"$f":"IF(ISNUMBER(SEARCH($C$6,BU142)),MAX($BT$13:BT141)+1,0)","v":129},0,{"$f":"ROWS($BV$14:BV142)","v":129},{"$f":"IFERROR(VLOOKUP(ROWS($BW$14:BW142),$BT$14:$BU$5000,2,0),\"\")","v":0}]
[null,null,null,null,null,null,null,null,null,null,null,null,null,null,null,null,null,null,null,null,null,null,null,null,null,null,null,null,null,null,null,null,null,null,null,null,null,null,null,null,null,null,null,null,null,null,null,null,null,null,null,null,null,null,null,null,null,null,null,null,null,null,null,null,null,null,null,null,null,null,null,{"$f":"IF(ISNUMBER(SEARCH($C$6,BU143)),MAX($BT$13:BT142)+1,0)","v":130},0,{"$f":"ROWS($BV$14:BV143)","v":130},{"$f":"IFERROR(VLOOKUP(ROWS($BW$14:BW143),$BT$14:$BU$5000,2,0),\"\")","v":0}]
[null,null,null,null,null,null,null,null,null,null,null,null,null,null,null,null,null,null,null,null,null,null,null,null,null,null,null,null,null,null,null,null,null,null,null,null,null,null,null,null,null,null,null,null,null,null,null,null,null,null,null,null,null,null,null,null,null,null,null,null,null,null,null,null,null,null,null,null,null,null,null,{"$f":"IF(ISNUMBER(SEARCH($C$6,BU144)),MAX($BT$13:BT143)+1,0)","v":131},0,{"$f":"ROWS($BV$14:BV144)","v":131},{"$f":"IFERROR(VLOOKUP(ROWS($BW$14:BW144),$BT$14:$BU$5000,2,0),\"\")","v":0}]
[null,null,null,null,null,null,null,null,null,null,null,null,null,null,null,null,null,null,null,null,null,null,null,null,null,null,null,null,null,null,null,null,null,null,null,null,null,null,null,null,null,null,null,null,null,null,null,null,null,null,null,null,null,null,null,null,null,null,null,null,null,null,null,null,null,null,null,null,null,null,null,{"$f":"IF(ISNUMBER(SEARCH($C$6,BU145)),MAX($BT$13:BT144)+1,0)","v":132},0,{"$f":"ROWS($BV$14:BV145)","v":132},{"$f":"IFERROR(VLOOKUP(ROWS($BW$14:BW145),$BT$14:$BU$5000,2,0),\"\")","v":0}]
[null,null,null,null,null,null,null,null,null,null,null,null,null,null,null,null,null,null,null,null,null,null,null,null,null,null,null,null,null,null,null,null,null,null,null,null,null,null,null,null,null,null,null,null,null,null,null,null,null,null,null,null,null,null,null,null,null,null,null,null,null,null,null,null,null,null,null,null,null,null,null,{"$f":"IF(ISNUMBER(SEARCH($C$6,BU146)),MAX($BT$13:BT145)+1,0)","v":133},0,{"$f":"ROWS($BV$14:BV146)","v":133},{"$f":"IFERROR(VLOOKUP(ROWS($BW$14:BW146),$BT$14:$BU$5000,2,0),\"\")","v":0}]
[null,null,null,null,null,null,null,null,null,null,null,null,null,null,null,null,null,null,null,null,null,null,null,null,null,null,null,null,null,null,null,null,null,null,null,null,null,null,null,null,null,null,null,null,null,null,null,null,null,null,null,null,null,null,null,null,null,null,null,null,null,null,null,null,null,null,null,null,null,null,null,{"$f":"IF(ISNUMBER(SEARCH($C$6,BU147)),MAX($BT$13:BT146)+1,0)","v":134},0,{"$f":"ROWS($BV$14:BV147)","v":134},{"$f":"IFERROR(VLOOKUP(ROWS($BW$14:BW147),$BT$14:$BU$5000,2,0),\"\")","v":0}]
[null,null,null,null,null,null,null,null,null,null,null,null,null,null,null,null,null,null,null,null,null,null,null,null,null,null,null,null,null,null,null,null,null,null,null,null,null,null,null,null,null,null,null,null,null,null,null,null,null,null,null,null,null,null,null,null,null,null,null,null,null,null,null,null,null,null,null,null,null,null,null,{"$f":"IF(ISNUMBER(SEARCH($C$6,BU148)),MAX($BT$13:BT147)+1,0)","v":135},0,{"$f":"ROWS($BV$14:BV148)","v":135},{"$f":"IFERROR(VLOOKUP(ROWS($BW$14:BW148),$BT$14:$BU$5000,2,0),\"\")","v":0}]
[null,null,null,null,null,null,null,null,null,null,null,null,null,null,null,null,null,null,null,null,null,null,null,null,null,null,null,null,null,null,null,null,null,null,null,null,null,null,null,null,null,null,null,null,null,null,null,null,null,null,null,null,null,null,null,null,null,null,null,null,null,null,null,null,null,null,null,null,null,null,null,{"$f":"IF(ISNUMBER(SEARCH($C$6,BU149)),MAX($BT$13:BT148)+1,0)","v":136},0,{"$f":"ROWS($BV$14:BV149)","v":136},{"$f":"IFERROR(VLOOKUP(ROWS($BW$14:BW149),$BT$14:$BU$5000,2,0),\"\")","v":0}]
[null,null,null,null,null,null,null,null,null,null,null,null,null,null,null,null,null,null,null,null,null,null,null,null,null,null,null,null,null,null,null,null,null,null,null,null,null,null,null,null,null,null,null,null,null,null,null,null,null,null,null,null,null,null,null,null,null,null,null,null,null,null,null,null,null,null,null,null,null,null,null,{"$f":"IF(ISNUMBER(SEARCH($C$6,BU150)),MAX($BT$13:BT149)+1,0)","v":137},0,{"$f":"ROWS($BV$14:BV150)","v":137},{"$f":"IFERROR(VLOOKUP(ROWS($BW$14:BW150),$BT$14:$BU$5000,2,0),\"\")","v":0}]
[null,null,null,null,null,null,null,null,null,null,null,null,null,null,null,null,null,null,null,null,null,null,null,null,null,null,null,null,null,null,null,null,null,null,null,null,null,null,null,null,null,null,null,null,null,null,null,null,null,null,null,null,null,null,null,null,null,null,null,null,null,null,null,null,null,null,null,null,null,null,null,{"$f":"IF(ISNUMBER(SEARCH($C$6,BU151)),MAX($BT$13:BT150)+1,0)","v":138},0,{"$f":"ROWS($BV$14:BV151)","v":138},{"$f":"IFERROR(VLOOKUP(ROWS($BW$14:BW151),$BT$14:$BU$5000,2,0),\"\")","v":0}]
[null,null,null,null,null,null,null,null,null,null,null,null,null,null,null,null,null,null,null,null,null,null,null,null,null,null,null,null,null,null,null,null,null,null,null,null,null,null,null,null,null,null,null,null,null,null,null,null,null,null,null,null,null,null,null,null,null,null,null,null,null,null,null,null,null,null,null,null,null,null,null,{"$f":"IF(ISNUMBER(SEARCH($C$6,BU152)),MAX($BT$13:BT151)+1,0)","v":139},0,{"$f":"ROWS($BV$14:BV152)","v":139},{"$f":"IFERROR(VLOOKUP(ROWS($BW$14:BW152),$BT$14:$BU$5000,2,0),\"\")","v":0}]
[null,null,null,null,null,null,null,null,null,null,null,null,null,null,null,null,null,null,null,null,null,null,null,null,null,null,null,null,null,null,null,null,null,null,null,null,null,null,null,null,null,null,null,null,null,null,null,null,null,null,null,null,null,null,null,null,null,null,null,null,null,null,null,null,null,null,null,null,null,null,null,{"$f":"IF(ISNUMBER(SEARCH($C$6,BU153)),MAX($BT$13:BT152)+1,0)","v":140},0,{"$f":"ROWS($BV$14:BV153)","v":140},{"$f":"IFERROR(VLOOKUP(ROWS($BW$14:BW153),$BT$14:$BU$5000,2,0),\"\")","v":0}]
[null,null,null,null,null,null,null,null,null,null,null,null,null,null,null,null,null,null,null,null,null,null,null,null,null,null,null,null,null,null,null,null,null,null,null,null,null,null,null,null,null,null,null,null,null,null,null,null,null,null,null,null,null,null,null,null,null,null,null,null,null,null,null,null,null,null,null,null,null,null,null,{"$f":"IF(ISNUMBER(SEARCH($C$6,BU154)),MAX($BT$13:BT153)+1,0)","v":141},0,{"$f":"ROWS($BV$14:BV154)","v":141},{"$f":"IFERROR(VLOOKUP(ROWS($BW$14:BW154),$BT$14:$BU$5000,2,0),\"\")","v":0}]
[null,null,null,null,null,null,null,null,null,null,null,null,null,null,null,null,null,null,null,null,null,null,null,null,null,null,null,null,null,null,null,null,null,null,null,null,null,null,null,null,null,null,null,null,null,null,null,null,null,null,null,null,null,null,null,null,null,null,null,null,null,null,null,null,null,null,null,null,null,null,null,{"$f":"IF(ISNUMBER(SEARCH($C$6,BU155)),MAX($BT$13:BT154)+1,0)","v":142},0,{"$f":"ROWS($BV$14:BV155)","v":142},{"$f":"IFERROR(VLOOKUP(ROWS($BW$14:BW155),$BT$14:$BU$5000,2,0),\"\")","v":0}]
[null,null,null,null,null,null,null,null,null,null,null,null,null,null,null,null,null,null,null,null,null,null,null,null,null,null,null,null,null,null,null,null,null,null,null,null,null,null,null,null,null,null,null,null,null,null,null,null,null,null,null,null,null,null,null,null,null,null,null,null,null,null,null,null,null,null,null,null,null,null,null,{"$f":"IF(ISNUMBER(SEARCH($C$6,BU156)),MAX($BT$13:BT155)+1,0)","v":143},0,{"$f":"ROWS($BV$14:BV156)","v":143},{"$f":"IFERROR(VLOOKUP(ROWS($BW$14:BW156),$BT$14:$BU$5000,2,0),\"\")","v":0}]
[null,null,null,null,null,null,null,null,null,null,null,null,null,null,null,null,null,null,null,null,null,null,null,null,null,null,null,null,null,null,null,null,null,null,null,null,null,null,null,null,null,null,null,null,null,null,null,null,null,null,null,null,null,null,null,null,null,null,null,null,null,null,null,null,null,null,null,null,null,null,null,{"$f":"IF(ISNUMBER(SEARCH($C$6,BU157)),MAX($BT$13:BT156)+1,0)","v":144},0,{"$f":"ROWS($BV$14:BV157)","v":144},{"$f":"IFERROR(VLOOKUP(ROWS($BW$14:BW157),$BT$14:$BU$5000,2,0),\"\")","v":0}]
[null,null,null,null,null,null,null,null,null,null,null,null,null,null,null,null,null,null,null,null,null,null,null,null,null,null,null,null,null,null,null,null,null,null,null,null,null,null,null,null,null,null,null,null,null,null,null,null,null,null,null,null,null,null,null,null,null,null,null,null,null,null,null,null,null,null,null,null,null,null,null,{"$f":"IF(ISNUMBER(SEARCH($C$6,BU158)),MAX($BT$13:BT157)+1,0)","v":145},0,{"$f":"ROWS($BV$14:BV158)","v":145},{"$f":"IFERROR(VLOOKUP(ROWS($BW$14:BW158),$BT$14:$BU$5000,2,0),\"\")","v":0}]
[null,null,null,null,null,null,null,null,null,null,null,null,null,null,null,null,null,null,null,null,null,null,null,null,null,null,null,null,null,null,null,null,null,null,null,null,null,null,null,null,null,null,null,null,null,null,null,null,null,null,null,null,null,null,null,null,null,null,null,null,null,null,null,null,null,null,null,null,null,null,null,{"$f":"IF(ISNUMBER(SEARCH($C$6,BU159)),MAX($BT$13:BT158)+1,0)","v":146},0,{"$f":"ROWS($BV$14:BV159)","v":146},{"$f":"IFERROR(VLOOKUP(ROWS($BW$14:BW159),$BT$14:$BU$5000,2,0),\"\")","v":0}]
[null,null,null,null,null,null,null,null,null,null,null,null,null,null,null,null,null,null,null,null,null,null,null,null,null,null,null,null,null,null,null,null,null,null,null,null,null,null,null,null,null,null,null,null,null,null,null,null,null,null,null,null,null,null,null,null,null,null,null,null,null,null,null,null,null,null,null,null,null,null,null,{"$f":"IF(ISNUMBER(SEARCH($C$6,BU160)),MAX($BT$13:BT159)+1,0)","v":147},0,{"$f":"ROWS($BV$14:BV160)","v":147},{"$f":"IFERROR(VLOOKUP(ROWS($BW$14:BW160),$BT$14:$BU$5000,2,0),\"\")","v":0}]
[null,null,null,null,null,null,null,null,null,null,null,null,null,null,null,null,null,null,null,null,null,null,null,null,null,null,null,null,null,null,null,null,null,null,null,null,null,null,null,null,null,null,null,null,null,null,null,null,null,null,null,null,null,null,null,null,null,null,null,null,null,null,null,null,null,null,null,null,null,null,null,{"$f":"IF(ISNUMBER(SEARCH($C$6,BU161)),MAX($BT$13:BT160)+1,0)","v":148},0,{"$f":"ROWS($BV$14:BV161)","v":148},{"$f":"IFERROR(VLOOKUP(ROWS($BW$14:BW161),$BT$14:$BU$5000,2,0),\"\")","v":0}]
[null,null,null,null,null,null,null,null,null,null,null,null,null,null,null,null,null,null,null,null,null,null,null,null,null,null,null,null,null,null,null,null,null,null,null,null,null,null,null,null,null,null,null,null,null,null,null,null,null,null,null,null,null,null,null,null,null,null,null,null,null,null,null,null,null,null,null,null,null,null,null,{"$f":"IF(ISNUMBER(SEARCH($C$6,BU162)),MAX($BT$13:BT161)+1,0)","v":149},0,{"$f":"ROWS($BV$14:BV162)","v":149},{"$f":"IFERROR(VLOOKUP(ROWS($BW$14:BW162),$BT$14:$BU$5000,2,0),\"\")","v":0}]
[null,null,null,null,null,null,null,null,null,null,null,null,null,null,null,null,null,null,null,null,null,null,null,null,null,null,null,null,null,null,null,null,null,null,null,null,null,null,null,null,null,null,null,null,null,null,null,null,null,null,null,null,null,null,null,null,null,null,null,null,null,null,null,null,null,null,null,null,null,null,null,{"$f":"IF(ISNUMBER(SEARCH($C$6,BU163)),MAX($BT$13:BT162)+1,0)","v":150},0,{"$f":"ROWS($BV$14:BV163)","v":150},{"$f":"IFERROR(VLOOKUP(ROWS($BW$14:BW163),$BT$14:$BU$5000,2,0),\"\")","v":0}]
[null,null,null,null,null,null,null,null,null,null,null,null,null,null,null,null,null,null,null,null,null,null,null,null,null,null,null,null,null,null,null,null,null,null,null,null,null,null,null,null,null,null,null,null,null,null,null,null,null,null,null,null,null,null,null,null,null,null,null,null,null,null,null,null,null,null,null,null,null,null,null,{"$f":"IF(ISNUMBER(SEARCH($C$6,BU164)),MAX($BT$13:BT163)+1,0)","v":151},0,{"$f":"ROWS($BV$14:BV164)","v":151},{"$f":"IFERROR(VLOOKUP(ROWS($BW$14:BW164),$BT$14:$BU$5000,2,0),\"\")","v":0}]
[null,null,null,null,null,null,null,null,null,null,null,null,null,null,null,null,null,null,null,null,null,null,null,null,null,null,null,null,null,null,null,null,null,null,null,null,null,null,null,null,null,null,null,null,null,null,null,null,null,null,null,null,null,null,null,null,null,null,null,null,null,null,null,null,null,null,null,null,null,null,null,{"$f":"IF(ISNUMBER(SEARCH($C$6,BU165)),MAX($BT$13:BT164)+1,0)","v":152},0,{"$f":"ROWS($BV$14:BV165)","v":152},{"$f":"IFERROR(VLOOKUP(ROWS($BW$14:BW165),$BT$14:$BU$5000,2,0),\"\")","v":0}]
[null,null,null,null,null,null,null,null,null,null,null,null,null,null,null,null,null,null,null,null,null,null,null,null,null,null,null,null,null,null,null,null,null,null,null,null,null,null,null,null,null,null,null,null,null,null,null,null,null,null,null,null,null,null,null,null,null,null,null,null,null,null,null,null,null,null,null,null,null,null,null,{"$f":"IF(ISNUMBER(SEARCH($C$6,BU166)),MAX($BT$13:BT165)+1,0)","v":153},0,{"$f":"ROWS($BV$14:BV166)","v":153},{"$f":"IFERROR(VLOOKUP(ROWS($BW$14:BW166),$BT$14:$BU$5000,2,0),\"\")","v":0}]
[null,null,null,null,null,null,null,null,null,null,null,null,null,null,null,null,null,null,null,null,null,null,null,null,null,null,null,null,null,null,null,null,null,null,null,null,null,null,null,null,null,null,null,null,null,null,null,null,null,null,null,null,null,null,null,null,null,null,null,null,null,null,null,null,null,null,null,null,null,null,null,{"$f":"IF(ISNUMBER(SEARCH($C$6,BU167)),MAX($BT$13:BT166)+1,0)","v":154},0,{"$f":"ROWS($BV$14:BV167)","v":154},{"$f":"IFERROR(VLOOKUP(ROWS($BW$14:BW167),$BT$14:$BU$5000,2,0),\"\")","v":0}]
[null,null,null,null,null,null,null,null,null,null,null,null,null,null,null,null,null,null,null,null,null,null,null,null,null,null,null,null,null,null,null,null,null,null,null,null,null,null,null,null,null,null,null,null,null,null,null,null,null,null,null,null,null,null,null,null,null,null,null,null,null,null,null,null,null,null,null,null,null,null,null,{"$f":"IF(ISNUMBER(SEARCH($C$6,BU168)),MAX($BT$13:BT167)+1,0)","v":155},0,{"$f":"ROWS($BV$14:BV168)","v":155},{"$f":"IFERROR(VLOOKUP(ROWS($BW$14:BW168),$BT$14:$BU$5000,2,0),\"\")","v":0}]
[null,null,null,null,null,null,null,null,null,null,null,null,null,null,null,null,null,null,null,null,null,null,null,null,null,null,null,null,null,null,null,null,null,null,null,null,null,null,null,null,null,null,null,null,null,null,null,null,null,null,null,null,null,null,null,null,null,null,null,null,null,null,null,null,null,null,null,null,null,null,null,{"$f":"IF(ISNUMBER(SEARCH($C$6,BU169)),MAX($BT$13:BT168)+1,0)","v":156},0,{"$f":"ROWS($BV$14:BV169)","v":156},{"$f":"IFERROR(VLOOKUP(ROWS($BW$14:BW169),$BT$14:$BU$5000,2,0),\"\")","v":0}]
[null,null,null,null,null,null,null,null,null,null,null,null,null,null,null,null,null,null,null,null,null,null,null,null,null,null,null,null,null,null,null,null,null,null,null,null,null,null,null,null,null,null,null,null,null,null,null,null,null,null,null,null,null,null,null,null,null,null,null,null,null,null,null,null,null,null,null,null,null,null,null,{"$f":"IF(ISNUMBER(SEARCH($C$6,BU170)),MAX($BT$13:BT169)+1,0)","v":157},0,{"$f":"ROWS($BV$14:BV170)","v":157},{"$f":"IFERROR(VLOOKUP(ROWS($BW$14:BW170),$BT$14:$BU$5000,2,0),\"\")","v":0}]
[null,null,null,null,null,null,null,null,null,null,null,null,null,null,null,null,null,null,null,null,null,null,null,null,null,null,null,null,null,null,null,null,null,null,null,null,null,null,null,null,null,null,null,null,null,null,null,null,null,null,null,null,null,null,null,null,null,null,null,null,null,null,null,null,null,null,null,null,null,null,null,{"$f":"IF(ISNUMBER(SEARCH($C$6,BU171)),MAX($BT$13:BT170)+1,0)","v":158},0,{"$f":"ROWS($BV$14:BV171)","v":158},{"$f":"IFERROR(VLOOKUP(ROWS($BW$14:BW171),$BT$14:$BU$5000,2,0),\"\")","v":0}]
[null,null,null,null,null,null,null,null,null,null,null,null,null,null,null,null,null,null,null,null,null,null,null,null,null,null,null,null,null,null,null,null,null,null,null,null,null,null,null,null,null,null,null,null,null,null,null,null,null,null,null,null,null,null,null,null,null,null,null,null,null,null,null,null,null,null,null,null,null,null,null,{"$f":"IF(ISNUMBER(SEARCH($C$6,BU172)),MAX($BT$13:BT171)+1,0)","v":159},0,{"$f":"ROWS($BV$14:BV172)","v":159},{"$f":"IFERROR(VLOOKUP(ROWS($BW$14:BW172),$BT$14:$BU$5000,2,0),\"\")","v":0}]
[null,null,null,null,null,null,null,null,null,null,null,null,null,null,null,null,null,null,null,null,null,null,null,null,null,null,null,null,null,null,null,null,null,null,null,null,null,null,null,null,null,null,null,null,null,null,null,null,null,null,null,null,null,null,null,null,null,null,null,null,null,null,null,null,null,null,null,null,null,null,null,{"$f":"IF(ISNUMBER(SEARCH($C$6,BU173)),MAX($BT$13:BT172)+1,0)","v":160},0,{"$f":"ROWS($BV$14:BV173)","v":160},{"$f":"IFERROR(VLOOKUP(ROWS($BW$14:BW173),$BT$14:$BU$5000,2,0),\"\")","v":0}]
[null,null,null,null,null,null,null,null,null,null,null,null,null,null,null,null,null,null,null,null,null,null,null,null,null,null,null,null,null,null,null,null,null,null,null,null,null,null,null,null,null,null,null,null,null,null,null,null,null,null,null,null,null,null,null,null,null,null,null,null,null,null,null,null,null,null,null,null,null,null,null,{"$f":"IF(ISNUMBER(SEARCH($C$6,BU174)),MAX($BT$13:BT173)+1,0)","v":161},0,{"$f":"ROWS($BV$14:BV174)","v":161},{"$f":"IFERROR(VLOOKUP(ROWS($BW$14:BW174),$BT$14:$BU$5000,2,0),\"\")","v":0}]
[null,null,null,null,null,null,null,null,null,null,null,null,null,null,null,null,null,null,null,null,null,null,null,null,null,null,null,null,null,null,null,null,null,null,null,null,null,null,null,null,null,null,null,null,null,null,null,null,null,null,null,null,null,null,null,null,null,null,null,null,null,null,null,null,null,null,null,null,null,null,null,{"$f":"IF(ISNUMBER(SEARCH($C$6,BU175)),MAX($BT$13:BT174)+1,0)","v":162},0,{"$f":"ROWS($BV$14:BV175)","v":162},{"$f":"IFERROR(VLOOKUP(ROWS($BW$14:BW175),$BT$14:$BU$5000,2,0),\"\")","v":0}]
[null,null,null,null,null,null,null,null,null,null,null,null,null,null,null,null,null,null,null,null,null,null,null,null,null,null,null,null,null,null,null,null,null,null,null,null,null,null,null,null,null,null,null,null,null,null,null,null,null,null,null,null,null,null,null,null,null,null,null,null,null,null,null,null,null,null,null,null,null,null,null,{"$f":"IF(ISNUMBER(SEARCH($C$6,BU176)),MAX($BT$13:BT175)+1,0)","v":163},0,{"$f":"ROWS($BV$14:BV176)","v":163},{"$f":"IFERROR(VLOOKUP(ROWS($BW$14:BW176),$BT$14:$BU$5000,2,0),\"\")","v":0}]
[null,null,null,null,null,null,null,null,null,null,null,null,null,null,null,null,null,null,null,null,null,null,null,null,null,null,null,null,null,null,null,null,null,null,null,null,null,null,null,null,null,null,null,null,null,null,null,null,null,null,null,null,null,null,null,null,null,null,null,null,null,null,null,null,null,null,null,null,null,null,null,{"$f":"IF(ISNUMBER(SEARCH($C$6,BU177)),MAX($BT$13:BT176)+1,0)","v":164},0,{"$f":"ROWS($BV$14:BV177)","v":164},{"$f":"IFERROR(VLOOKUP(ROWS($BW$14:BW177),$BT$14:$BU$5000,2,0),\"\")","v":0}]
[null,null,null,null,null,null,null,null,null,null,null,null,null,null,null,null,null,null,null,null,null,null,null,null,null,null,null,null,null,null,null,null,null,null,null,null,null,null,null,null,null,null,null,null,null,null,null,null,null,null,null,null,null,null,null,null,null,null,null,null,null,null,null,null,null,null,null,null,null,null,null,{"$f":"IF(ISNUMBER(SEARCH($C$6,BU178)),MAX($BT$13:BT177)+1,0)","v":165},0,{"$f":"ROWS($BV$14:BV178)","v":165},{"$f":"IFERROR(VLOOKUP(ROWS($BW$14:BW178),$BT$14:$BU$5000,2,0),\"\")","v":0}]
[null,null,null,null,null,null,null,null,null,null,null,null,null,null,null,null,null,null,null,null,null,null,null,null,null,null,null,null,null,null,null,null,null,null,null,null,null,null,null,null,null,null,null,null,null,null,null,null,null,null,null,null,null,null,null,null,null,null,null,null,null,null,null,null,null,null,null,null,null,null,null,{"$f":"IF(ISNUMBER(SEARCH($C$6,BU179)),MAX($BT$13:BT178)+1,0)","v":166},0,{"$f":"ROWS($BV$14:BV179)","v":166},{"$f":"IFERROR(VLOOKUP(ROWS($BW$14:BW179),$BT$14:$BU$5000,2,0),\"\")","v":0}]
[null,null,null,null,null,null,null,null,null,null,null,null,null,null,null,null,null,null,null,null,null,null,null,null,null,null,null,null,null,null,null,null,null,null,null,null,null,null,null,null,null,null,null,null,null,null,null,null,null,null,null,null,null,null,null,null,null,null,null,null,null,null,null,null,null,null,null,null,null,null,null,{"$f":"IF(ISNUMBER(SEARCH($C$6,BU180)),MAX($BT$13:BT179)+1,0)","v":167},0,{"$f":"ROWS($BV$14:BV180)","v":167},{"$f":"IFERROR(VLOOKUP(ROWS($BW$14:BW180),$BT$14:$BU$5000,2,0),\"\")","v":0}]
[null,null,null,null,null,null,null,null,null,null,null,null,null,null,null,null,null,null,null,null,null,null,null,null,null,null,null,null,null,null,null,null,null,null,null,null,null,null,null,null,null,null,null,null,null,null,null,null,null,null,null,null,null,null,null,null,null,null,null,null,null,null,null,null,null,null,null,null,null,null,null,{"$f":"IF(ISNUMBER(SEARCH($C$6,BU181)),MAX($BT$13:BT180)+1,0)","v":168},0,{"$f":"ROWS($BV$14:BV181)","v":168},{"$f":"IFERROR(VLOOKUP(ROWS($BW$14:BW181),$BT$14:$BU$5000,2,0),\"\")","v":0}]
[null,null,null,null,null,null,null,null,null,null,null,null,null,null,null,null,null,null,null,null,null,null,null,null,null,null,null,null,null,null,null,null,null,null,null,null,null,null,null,null,null,null,null,null,null,null,null,null,null,null,null,null,null,null,null,null,null,null,null,null,null,null,null,null,null,null,null,null,null,null,null,{"$f":"IF(ISNUMBER(SEARCH($C$6,BU182)),MAX($BT$13:BT181)+1,0)","v":169},0,{"$f":"ROWS($BV$14:BV182)","v":169},{"$f":"IFERROR(VLOOKUP(ROWS($BW$14:BW182),$BT$14:$BU$5000,2,0),\"\")","v":0}]
[null,null,null,null,null,null,null,null,null,null,null,null,null,null,null,null,null,null,null,null,null,null,null,null,null,null,null,null,null,null,null,null,null,null,null,null,null,null,null,null,null,null,null,null,null,null,null,null,null,null,null,null,null,null,null,null,null,null,null,null,null,null,null,null,null,null,null,null,null,null,null,{"$f":"IF(ISNUMBER(SEARCH($C$6,BU183)),MAX($BT$13:BT182)+1,0)","v":170},0,{"$f":"ROWS($BV$14:BV183)","v":170},{"$f":"IFERROR(VLOOKUP(ROWS($BW$14:BW183),$BT$14:$BU$5000,2,0),\"\")","v":0}]
[null,null,null,null,null,null,null,null,null,null,null,null,null,null,null,null,null,null,null,null,null,null,null,null,null,null,null,null,null,null,null,null,null,null,null,null,null,null,null,null,null,null,null,null,null,null,null,null,null,null,null,null,null,null,null,null,null,null,null,null,null,null,null,null,null,null,null,null,null,null,null,{"$f":"IF(ISNUMBER(SEARCH($C$6,BU184)),MAX($BT$13:BT183)+1,0)","v":171},0,{"$f":"ROWS($BV$14:BV184)","v":171},{"$f":"IFERROR(VLOOKUP(ROWS($BW$14:BW184),$BT$14:$BU$5000,2,0),\"\")","v":0}]
[null,null,null,null,null,null,null,null,null,null,null,null,null,null,null,null,null,null,null,null,null,null,null,null,null,null,null,null,null,null,null,null,null,null,null,null,null,null,null,null,null,null,null,null,null,null,null,null,null,null,null,null,null,null,null,null,null,null,null,null,null,null,null,null,null,null,null,null,null,null,null,{"$f":"IF(ISNUMBER(SEARCH($C$6,BU185)),MAX($BT$13:BT184)+1,0)","v":172},0,{"$f":"ROWS($BV$14:BV185)","v":172},{"$f":"IFERROR(VLOOKUP(ROWS($BW$14:BW185),$BT$14:$BU$5000,2,0),\"\")","v":0}]
[null,null,null,null,null,null,null,null,null,null,null,null,null,null,null,null,null,null,null,null,null,null,null,null,null,null,null,null,null,null,null,null,null,null,null,null,null,null,null,null,null,null,null,null,null,null,null,null,null,null,null,null,null,null,null,null,null,null,null,null,null,null,null,null,null,null,null,null,null,null,null,{"$f":"IF(ISNUMBER(SEARCH($C$6,BU186)),MAX($BT$13:BT185)+1,0)","v":173},0,{"$f":"ROWS($BV$14:BV186)","v":173},{"$f":"IFERROR(VLOOKUP(ROWS($BW$14:BW186),$BT$14:$BU$5000,2,0),\"\")","v":0}]
[null,null,null,null,null,null,null,null,null,null,null,null,null,null,null,null,null,null,null,null,null,null,null,null,null,null,null,null,null,null,null,null,null,null,null,null,null,null,null,null,null,null,null,null,null,null,null,null,null,null,null,null,null,null,null,null,null,null,null,null,null,null,null,null,null,null,null,null,null,null,null,{"$f":"IF(ISNUMBER(SEARCH($C$6,BU187)),MAX($BT$13:BT186)+1,0)","v":174},0,{"$f":"ROWS($BV$14:BV187)","v":174},{"$f":"IFERROR(VLOOKUP(ROWS($BW$14:BW187),$BT$14:$BU$5000,2,0),\"\")","v":0}]
[null,null,null,null,null,null,null,null,null,null,null,null,null,null,null,null,null,null,null,null,null,null,null,null,null,null,null,null,null,null,null,null,null,null,null,null,null,null,null,null,null,null,null,null,null,null,null,null,null,null,null,null,null,null,null,null,null,null,null,null,null,null,null,null,null,null,null,null,null,null,null,{"$f":"IF(ISNUMBER(SEARCH($C$6,BU188)),MAX($BT$13:BT187)+1,0)","v":175},0,{"$f":"ROWS($BV$14:BV188)","v":175},{"$f":"IFERROR(VLOOKUP(ROWS($BW$14:BW188),$BT$14:$BU$5000,2,0),\"\")","v":0}]
[null,null,null,null,null,null,null,null,null,null,null,null,null,null,null,null,null,null,null,null,null,null,null,null,null,null,null,null,null,null,null,null,null,null,null,null,null,null,null,null,null,null,null,null,null,null,null,null,null,null,null,null,null,null,null,null,null,null,null,null,null,null,null,null,null,null,null,null,null,null,null,{"$f":"IF(ISNUMBER(SEARCH($C$6,BU189)),MAX($BT$13:BT188)+1,0)","v":176},0,{"$f":"ROWS($BV$14:BV189)","v":176},{"$f":"IFERROR(VLOOKUP(ROWS($BW$14:BW189),$BT$14:$BU$5000,2,0),\"\")","v":0}]
[null,null,null,null,null,null,null,null,null,null,null,null,null,null,null,null,null,null,null,null,null,null,null,null,null,null,null,null,null,null,null,null,null,null,null,null,null,null,null,null,null,null,null,null,null,null,null,null,null,null,null,null,null,null,null,null,null,null,null,null,null,null,null,null,null,null,null,null,null,null,null,{"$f":"IF(ISNUMBER(SEARCH($C$6,BU190)),MAX($BT$13:BT189)+1,0)","v":177},0,{"$f":"ROWS($BV$14:BV190)","v":177},{"$f":"IFERROR(VLOOKUP(ROWS($BW$14:BW190),$BT$14:$BU$5000,2,0),\"\")","v":0}]
[null,null,null,null,null,null,null,null,null,null,null,null,null,null,null,null,null,null,null,null,null,null,null,null,null,null,null,null,null,null,null,null,null,null,null,null,null,null,null,null,null,null,null,null,null,null,null,null,null,null,null,null,null,null,null,null,null,null,null,null,null,null,null,null,null,null,null,null,null,null,null,{"$f":"IF(ISNUMBER(SEARCH($C$6,BU191)),MAX($BT$13:BT190)+1,0)","v":178},0,{"$f":"ROWS($BV$14:BV191)","v":178},{"$f":"IFERROR(VLOOKUP(ROWS($BW$14:BW191),$BT$14:$BU$5000,2,0),\"\")","v":0}]
[null,null,null,null,null,null,null,null,null,null,null,null,null,null,null,null,null,null,null,null,null,null,null,null,null,null,null,null,null,null,null,null,null,null,null,null,null,null,null,null,null,null,null,null,null,null,null,null,null,null,null,null,null,null,null,null,null,null,null,null,null,null,null,null,null,null,null,null,null,null,null,{"$f":"IF(ISNUMBER(SEARCH($C$6,BU192)),MAX($BT$13:BT191)+1,0)","v":179},0,{"$f":"ROWS($BV$14:BV192)","v":179},{"$f":"IFERROR(VLOOKUP(ROWS($BW$14:BW192),$BT$14:$BU$5000,2,0),\"\")","v":0}]
[null,null,null,null,null,null,null,null,null,null,null,null,null,null,null,null,null,null,null,null,null,null,null,null,null,null,null,null,null,null,null,null,null,null,null,null,null,null,null,null,null,null,null,null,null,null,null,null,null,null,null,null,null,null,null,null,null,null,null,null,null,null,null,null,null,null,null,null,null,null,null,{"$f":"IF(ISNUMBER(SEARCH($C$6,BU193)),MAX($BT$13:BT192)+1,0)","v":180},0,{"$f":"ROWS($BV$14:BV193)","v":180},{"$f":"IFERROR(VLOOKUP(ROWS($BW$14:BW193),$BT$14:$BU$5000,2,0),\"\")","v":0}]
[null,null,null,null,null,null,null,null,null,null,null,null,null,null,null,null,null,null,null,null,null,null,null,null,null,null,null,null,null,null,null,null,null,null,null,null,null,null,null,null,null,null,null,null,null,null,null,null,null,null,null,null,null,null,null,null,null,null,null,null,null,null,null,null,null,null,null,null,null,null,null,{"$f":"IF(ISNUMBER(SEARCH($C$6,BU194)),MAX($BT$13:BT193)+1,0)","v":181},0,{"$f":"ROWS($BV$14:BV194)","v":181},{"$f":"IFERROR(VLOOKUP(ROWS($BW$14:BW194),$BT$14:$BU$5000,2,0),\"\")","v":0}]
[null,null,null,null,null,null,null,null,null,null,null,null,null,null,null,null,null,null,null,null,null,null,null,null,null,null,null,null,null,null,null,null,null,null,null,null,null,null,null,null,null,null,null,null,null,null,null,null,null,null,null,null,null,null,null,null,null,null,null,null,null,null,null,null,null,null,null,null,null,null,null,{"$f":"IF(ISNUMBER(SEARCH($C$6,BU195)),MAX($BT$13:BT194)+1,0)","v":182},0,{"$f":"ROWS($BV$14:BV195)","v":182},{"$f":"IFERROR(VLOOKUP(ROWS($BW$14:BW195),$BT$14:$BU$5000,2,0),\"\")","v":0}]
[null,null,null,null,null,null,null,null,null,null,null,null,null,null,null,null,null,null,null,null,null,null,null,null,null,null,null,null,null,null,null,null,null,null,null,null,null,null,null,null,null,null,null,null,null,null,null,null,null,null,null,null,null,null,null,null,null,null,null,null,null,null,null,null,null,null,null,null,null,null,null,{"$f":"IF(ISNUMBER(SEARCH($C$6,BU196)),MAX($BT$13:BT195)+1,0)","v":183},0,{"$f":"ROWS($BV$14:BV196)","v":183},{"$f":"IFERROR(VLOOKUP(ROWS($BW$14:BW196),$BT$14:$BU$5000,2,0),\"\")","v":0}]
[null,null,null,null,null,null,null,null,null,null,null,null,null,null,null,null,null,null,null,null,null,null,null,null,null,null,null,null,null,null,null,null,null,null,null,null,null,null,null,null,null,null,null,null,null,null,null,null,null,null,null,null,null,null,null,null,null,null,null,null,null,null,null,null,null,null,null,null,null,null,null,{"$f":"IF(ISNUMBER(SEARCH($C$6,BU197)),MAX($BT$13:BT196)+1,0)","v":184},0,{"$f":"ROWS($BV$14:BV197)","v":184},{"$f":"IFERROR(VLOOKUP(ROWS($BW$14:BW197),$BT$14:$BU$5000,2,0),\"\")","v":0}]
[null,null,null,null,null,null,null,null,null,null,null,null,null,null,null,null,null,null,null,null,null,null,null,null,null,null,null,null,null,null,null,null,null,null,null,null,null,null,null,null,null,null,null,null,null,null,null,null,null,null,null,null,null,null,null,null,null,null,null,null,null,null,null,null,null,null,null,null,null,null,null,{"$f":"IF(ISNUMBER(SEARCH($C$6,BU198)),MAX($BT$13:BT197)+1,0)","v":185},0,{"$f":"ROWS($BV$14:BV198)","v":185},{"$f":"IFERROR(VLOOKUP(ROWS($BW$14:BW198),$BT$14:$BU$5000,2,0),\"\")","v":0}]
[null,null,null,null,null,null,null,null,null,null,null,null,null,null,null,null,null,null,null,null,null,null,null,null,null,null,null,null,null,null,null,null,null,null,null,null,null,null,null,null,null,null,null,null,null,null,null,null,null,null,null,null,null,null,null,null,null,null,null,null,null,null,null,null,null,null,null,null,null,null,null,{"$f":"IF(ISNUMBER(SEARCH($C$6,BU199)),MAX($BT$13:BT198)+1,0)","v":186},0,{"$f":"ROWS($BV$14:BV199)","v":186},{"$f":"IFERROR(VLOOKUP(ROWS($BW$14:BW199),$BT$14:$BU$5000,2,0),\"\")","v":0}]
[null,null,null,null,null,null,null,null,null,null,null,null,null,null,null,null,null,null,null,null,null,null,null,null,null,null,null,null,null,null,null,null,null,null,null,null,null,null,null,null,null,null,null,null,null,null,null,null,null,null,null,null,null,null,null,null,null,null,null,null,null,null,null,null,null,null,null,null,null,null,null,{"$f":"IF(ISNUMBER(SEARCH($C$6,BU200)),MAX($BT$13:BT199)+1,0)","v":187},0,{"$f":"ROWS($BV$14:BV200)","v":187},{"$f":"IFERROR(VLOOKUP(ROWS($BW$14:BW200),$BT$14:$BU$5000,2,0),\"\")","v":0}]
[null,null,null,null,null,null,null,null,null,null,null,null,null,null,null,null,null,null,null,null,null,null,null,null,null,null,null,null,null,null,null,null,null,null,null,null,null,null,null,null,null,null,null,null,null,null,null,null,null,null,null,null,null,null,null,null,null,null,null,null,null,null,null,null,null,null,null,null,null,null,null,{"$f":"IF(ISNUMBER(SEARCH($C$6,BU201)),MAX($BT$13:BT200)+1,0)","v":188},0,{"$f":"ROWS($BV$14:BV201)","v":188},{"$f":"IFERROR(VLOOKUP(ROWS($BW$14:BW201),$BT$14:$BU$5000,2,0),\"\")","v":0}]
[null,null,null,null,null,null,null,null,null,null,null,null,null,null,null,null,null,null,null,null,null,null,null,null,null,null,null,null,null,null,null,null,null,null,null,null,null,null,null,null,null,null,null,null,null,null,null,null,null,null,null,null,null,null,null,null,null,null,null,null,null,null,null,null,null,null,null,null,null,null,null,{"$f":"IF(ISNUMBER(SEARCH($C$6,BU202)),MAX($BT$13:BT201)+1,0)","v":189},0,{"$f":"ROWS($BV$14:BV202)","v":189},{"$f":"IFERROR(VLOOKUP(ROWS($BW$14:BW202),$BT$14:$BU$5000,2,0),\"\")","v":0}]
[null,null,null,null,null,null,null,null,null,null,null,null,null,null,null,null,null,null,null,null,null,null,null,null,null,null,null,null,null,null,null,null,null,null,null,null,null,null,null,null,null,null,null,null,null,null,null,null,null,null,null,null,null,null,null,null,null,null,null,null,null,null,null,null,null,null,null,null,null,null,null,{"$f":"IF(ISNUMBER(SEARCH($C$6,BU203)),MAX($BT$13:BT202)+1,0)","v":190},0,{"$f":"ROWS($BV$14:BV203)","v":190},{"$f":"IFERROR(VLOOKUP(ROWS($BW$14:BW203),$BT$14:$BU$5000,2,0),\"\")","v":0}]
[null,null,null,null,null,null,null,null,null,null,null,null,null,null,null,null,null,null,null,null,null,null,null,null,null,null,null,null,null,null,null,null,null,null,null,null,null,null,null,null,null,null,null,null,null,null,null,null,null,null,null,null,null,null,null,null,null,null,null,null,null,null,null,null,null,null,null,null,null,null,null,{"$f":"IF(ISNUMBER(SEARCH($C$6,BU204)),MAX($BT$13:BT203)+1,0)","v":191},0,{"$f":"ROWS($BV$14:BV204)","v":191},{"$f":"IFERROR(VLOOKUP(ROWS($BW$14:BW204),$BT$14:$BU$5000,2,0),\"\")","v":0}]
[null,null,null,null,null,null,null,null,null,null,null,null,null,null,null,null,null,null,null,null,null,null,null,null,null,null,null,null,null,null,null,null,null,null,null,null,null,null,null,null,null,null,null,null,null,null,null,null,null,null,null,null,null,null,null,null,null,null,null,null,null,null,null,null,null,null,null,null,null,null,null,{"$f":"IF(ISNUMBER(SEARCH($C$6,BU205)),MAX($BT$13:BT204)+1,0)","v":192},0,{"$f":"ROWS($BV$14:BV205)","v":192},{"$f":"IFERROR(VLOOKUP(ROWS($BW$14:BW205),$BT$14:$BU$5000,2,0),\"\")","v":0}]
[null,null,null,null,null,null,null,null,null,null,null,null,null,null,null,null,null,null,null,null,null,null,null,null,null,null,null,null,null,null,null,null,null,null,null,null,null,null,null,null,null,null,null,null,null,null,null,null,null,null,null,null,null,null,null,null,null,null,null,null,null,null,null,null,null,null,null,null,null,null,null,{"$f":"IF(ISNUMBER(SEARCH($C$6,BU206)),MAX($BT$13:BT205)+1,0)","v":193},0,{"$f":"ROWS($BV$14:BV206)","v":193},{"$f":"IFERROR(VLOOKUP(ROWS($BW$14:BW206),$BT$14:$BU$5000,2,0),\"\")","v":0}]
[null,null,null,null,null,null,null,null,null,null,null,null,null,null,null,null,null,null,null,null,null,null,null,null,null,null,null,null,null,null,null,null,null,null,null,null,null,null,null,null,null,null,null,null,null,null,null,null,null,null,null,null,null,null,null,null,null,null,null,null,null,null,null,null,null,null,null,null,null,null,null,{"$f":"IF(ISNUMBER(SEARCH($C$6,BU207)),MAX($BT$13:BT206)+1,0)","v":194},0,{"$f":"ROWS($BV$14:BV207)","v":194},{"$f":"IFERROR(VLOOKUP(ROWS($BW$14:BW207),$BT$14:$BU$5000,2,0),\"\")","v":0}]
[null,null,null,null,null,null,null,null,null,null,null,null,null,null,null,null,null,null,null,null,null,null,null,null,null,null,null,null,null,null,null,null,null,null,null,null,null,null,null,null,null,null,null,null,null,null,null,null,null,null,null,null,null,null,null,null,null,null,null,null,null,null,null,null,null,null,null,null,null,null,null,{"$f":"IF(ISNUMBER(SEARCH($C$6,BU208)),MAX($BT$13:BT207)+1,0)","v":195},0,{"$f":"ROWS($BV$14:BV208)","v":195},{"$f":"IFERROR(VLOOKUP(ROWS($BW$14:BW208),$BT$14:$BU$5000,2,0),\"\")","v":0}]
[null,null,null,null,null,null,null,null,null,null,null,null,null,null,null,null,null,null,null,null,null,null,null,null,null,null,null,null,null,null,null,null,null,null,null,null,null,null,null,null,null,null,null,null,null,null,null,null,null,null,null,null,null,null,null,null,null,null,null,null,null,null,null,null,null,null,null,null,null,null,null,{"$f":"IF(ISNUMBER(SEARCH($C$6,BU209)),MAX($BT$13:BT208)+1,0)","v":196},0,{"$f":"ROWS($BV$14:BV209)","v":196},{"$f":"IFERROR(VLOOKUP(ROWS($BW$14:BW209),$BT$14:$BU$5000,2,0),\"\")","v":0}]
[null,null,null,null,null,null,null,null,null,null,null,null,null,null,null,null,null,null,null,null,null,null,null,null,null,null,null,null,null,null,null,null,null,null,null,null,null,null,null,null,null,null,null,null,null,null,null,null,null,null,null,null,null,null,null,null,null,null,null,null,null,null,null,null,null,null,null,null,null,null,null,{"$f":"IF(ISNUMBER(SEARCH($C$6,BU210)),MAX($BT$13:BT209)+1,0)","v":197},0,{"$f":"ROWS($BV$14:BV210)","v":197},{"$f":"IFERROR(VLOOKUP(ROWS($BW$14:BW210),$BT$14:$BU$5000,2,0),\"\")","v":0}]
[null,null,null,null,null,null,null,null,null,null,null,null,null,null,null,null,null,null,null,null,null,null,null,null,null,null,null,null,null,null,null,null,null,null,null,null,null,null,null,null,null,null,null,null,null,null,null,null,null,null,null,null,null,null,null,null,null,null,null,null,null,null,null,null,null,null,null,null,null,null,null,{"$f":"IF(ISNUMBER(SEARCH($C$6,BU211)),MAX($BT$13:BT210)+1,0)","v":198},0,{"$f":"ROWS($BV$14:BV211)","v":198},{"$f":"IFERROR(VLOOKUP(ROWS($BW$14:BW211),$BT$14:$BU$5000,2,0),\"\")","v":0}]
[null,null,null,null,null,null,null,null,null,null,null,null,null,null,null,null,null,null,null,null,null,null,null,null,null,null,null,null,null,null,null,null,null,null,null,null,null,null,null,null,null,null,null,null,null,null,null,null,null,null,null,null,null,null,null,null,null,null,null,null,null,null,null,null,null,null,null,null,null,null,null,{"$f":"IF(ISNUMBER(SEARCH($C$6,BU212)),MAX($BT$13:BT211)+1,0)","v":199},0,{"$f":"ROWS($BV$14:BV212)","v":199},{"$f":"IFERROR(VLOOKUP(ROWS($BW$14:BW212),$BT$14:$BU$5000,2,0),\"\")","v":0}]
[null,null,null,null,null,null,null,null,null,null,null,null,null,null,null,null,null,null,null,null,null,null,null,null,null,null,null,null,null,null,null,null,null,null,null,null,null,null,null,null,null,null,null,null,null,null,null,null,null,null,null,null,null,null,null,null,null,null,null,null,null,null,null,null,null,null,null,null,null,null,null,{"$f":"IF(ISNUMBER(SEARCH($C$6,BU213)),MAX($BT$13:BT212)+1,0)","v":200},0,{"$f":"ROWS($BV$14:BV213)","v":200},{"$f":"IFERROR(VLOOKUP(ROWS($BW$14:BW213),$BT$14:$BU$5000,2,0),\"\")","v":0}]
[null,null,null,null,null,null,null,null,null,null,null,null,null,null,null,null,null,null,null,null,null,null,null,null,null,null,null,null,null,null,null,null,null,null,null,null,null,null,null,null,null,null,null,null,null,null,null,null,null,null,null,null,null,null,null,null,null,null,null,null,null,null,null,null,null,null,null,null,null,null,null,{"$f":"IF(ISNUMBER(SEARCH($C$6,BU214)),MAX($BT$13:BT213)+1,0)","v":201},0,{"$f":"ROWS($BV$14:BV214)","v":201},{"$f":"IFERROR(VLOOKUP(ROWS($BW$14:BW214),$BT$14:$BU$5000,2,0),\"\")","v":0}]
[null,null,null,null,null,null,null,null,null,null,null,null,null,null,null,null,null,null,null,null,null,null,null,null,null,null,null,null,null,null,null,null,null,null,null,null,null,null,null,null,null,null,null,null,null,null,null,null,null,null,null,null,null,null,null,null,null,null,null,null,null,null,null,null,null,null,null,null,null,null,null,{"$f":"IF(ISNUMBER(SEARCH($C$6,BU215)),MAX($BT$13:BT214)+1,0)","v":202},0,{"$f":"ROWS($BV$14:BV215)","v":202},{"$f":"IFERROR(VLOOKUP(ROWS($BW$14:BW215),$BT$14:$BU$5000,2,0),\"\")","v":0}]
[null,null,null,null,null,null,null,null,null,null,null,null,null,null,null,null,null,null,null,null,null,null,null,null,null,null,null,null,null,null,null,null,null,null,null,null,null,null,null,null,null,null,null,null,null,null,null,null,null,null,null,null,null,null,null,null,null,null,null,null,null,null,null,null,null,null,null,null,null,null,null,{"$f":"IF(ISNUMBER(SEARCH($C$6,BU216)),MAX($BT$13:BT215)+1,0)","v":203},0,{"$f":"ROWS($BV$14:BV216)","v":203},{"$f":"IFERROR(VLOOKUP(ROWS($BW$14:BW216),$BT$14:$BU$5000,2,0),\"\")","v":0}]
[null,null,null,null,null,null,null,null,null,null,null,null,null,null,null,null,null,null,null,null,null,null,null,null,null,null,null,null,null,null,null,null,null,null,null,null,null,null,null,null,null,null,null,null,null,null,null,null,null,null,null,null,null,null,null,null,null,null,null,null,null,null,null,null,null,null,null,null,null,null,null,{"$f":"IF(ISNUMBER(SEARCH($C$6,BU217)),MAX($BT$13:BT216)+1,0)","v":204},0,{"$f":"ROWS($BV$14:BV217)","v":204},{"$f":"IFERROR(VLOOKUP(ROWS($BW$14:BW217),$BT$14:$BU$5000,2,0),\"\")","v":0}]
[null,null,null,null,null,null,null,null,null,null,null,null,null,null,null,null,null,null,null,null,null,null,null,null,null,null,null,null,null,null,null,null,null,null,null,null,null,null,null,null,null,null,null,null,null,null,null,null,null,null,null,null,null,null,null,null,null,null,null,null,null,null,null,null,null,null,null,null,null,null,null,{"$f":"IF(ISNUMBER(SEARCH($C$6,BU218)),MAX($BT$13:BT217)+1,0)","v":205},0,{"$f":"ROWS($BV$14:BV218)","v":205},{"$f":"IFERROR(VLOOKUP(ROWS($BW$14:BW218),$BT$14:$BU$5000,2,0),\"\")","v":0}]
[null,null,null,null,null,null,null,null,null,null,null,null,null,null,null,null,null,null,null,null,null,null,null,null,null,null,null,null,null,null,null,null,null,null,null,null,null,null,null,null,null,null,null,null,null,null,null,null,null,null,null,null,null,null,null,null,null,null,null,null,null,null,null,null,null,null,null,null,null,null,null,{"$f":"IF(ISNUMBER(SEARCH($C$6,BU219)),MAX($BT$13:BT218)+1,0)","v":206},0,{"$f":"ROWS($BV$14:BV219)","v":206},{"$f":"IFERROR(VLOOKUP(ROWS($BW$14:BW219),$BT$14:$BU$5000,2,0),\"\")","v":0}]
[null,null,null,null,null,null,null,null,null,null,null,null,null,null,null,null,null,null,null,null,null,null,null,null,null,null,null,null,null,null,null,null,null,null,null,null,null,null,null,null,null,null,null,null,null,null,null,null,null,null,null,null,null,null,null,null,null,null,null,null,null,null,null,null,null,null,null,null,null,null,null,{"$f":"IF(ISNUMBER(SEARCH($C$6,BU220)),MAX($BT$13:BT219)+1,0)","v":207},0,{"$f":"ROWS($BV$14:BV220)","v":207},{"$f":"IFERROR(VLOOKUP(ROWS($BW$14:BW220),$BT$14:$BU$5000,2,0),\"\")","v":0}]
[null,null,null,null,null,null,null,null,null,null,null,null,null,null,null,null,null,null,null,null,null,null,null,null,null,null,null,null,null,null,null,null,null,null,null,null,null,null,null,null,null,null,null,null,null,null,null,null,null,null,null,null,null,null,null,null,null,null,null,null,null,null,null,null,null,null,null,null,null,null,null,{"$f":"IF(ISNUMBER(SEARCH($C$6,BU221)),MAX($BT$13:BT220)+1,0)","v":208},0,{"$f":"ROWS($BV$14:BV221)","v":208},{"$f":"IFERROR(VLOOKUP(ROWS($BW$14:BW221),$BT$14:$BU$5000,2,0),\"\")","v":0}]
[null,null,null,null,null,null,null,null,null,null,null,null,null,null,null,null,null,null,null,null,null,null,null,null,null,null,null,null,null,null,null,null,null,null,null,null,null,null,null,null,null,null,null,null,null,null,null,null,null,null,null,null,null,null,null,null,null,null,null,null,null,null,null,null,null,null,null,null,null,null,null,{"$f":"IF(ISNUMBER(SEARCH($C$6,BU222)),MAX($BT$13:BT221)+1,0)","v":209},0,{"$f":"ROWS($BV$14:BV222)","v":209},{"$f":"IFERROR(VLOOKUP(ROWS($BW$14:BW222),$BT$14:$BU$5000,2,0),\"\")","v":0}]
[null,null,null,null,null,null,null,null,null,null,null,null,null,null,null,null,null,null,null,null,null,null,null,null,null,null,null,null,null,null,null,null,null,null,null,null,null,null,null,null,null,null,null,null,null,null,null,null,null,null,null,null,null,null,null,null,null,null,null,null,null,null,null,null,null,null,null,null,null,null,null,{"$f":"IF(ISNUMBER(SEARCH($C$6,BU223)),MAX($BT$13:BT222)+1,0)","v":210},0,{"$f":"ROWS($BV$14:BV223)","v":210},{"$f":"IFERROR(VLOOKUP(ROWS($BW$14:BW223),$BT$14:$BU$5000,2,0),\"\")","v":0}]
[null,null,null,null,null,null,null,null,null,null,null,null,null,null,null,null,null,null,null,null,null,null,null,null,null,null,null,null,null,null,null,null,null,null,null,null,null,null,null,null,null,null,null,null,null,null,null,null,null,null,null,null,null,null,null,null,null,null,null,null,null,null,null,null,null,null,null,null,null,null,null,{"$f":"IF(ISNUMBER(SEARCH($C$6,BU224)),MAX($BT$13:BT223)+1,0)","v":211},0,{"$f":"ROWS($BV$14:BV224)","v":211},{"$f":"IFERROR(VLOOKUP(ROWS($BW$14:BW224),$BT$14:$BU$5000,2,0),\"\")","v":0}]
[null,null,null,null,null,null,null,null,null,null,null,null,null,null,null,null,null,null,null,null,null,null,null,null,null,null,null,null,null,null,null,null,null,null,null,null,null,null,null,null,null,null,null,null,null,null,null,null,null,null,null,null,null,null,null,null,null,null,null,null,null,null,null,null,null,null,null,null,null,null,null,{"$f":"IF(ISNUMBER(SEARCH($C$6,BU225)),MAX($BT$13:BT224)+1,0)","v":212},0,{"$f":"ROWS($BV$14:BV225)","v":212},{"$f":"IFERROR(VLOOKUP(ROWS($BW$14:BW225),$BT$14:$BU$5000,2,0),\"\")","v":0}]
[null,null,null,null,null,null,null,null,null,null,null,null,null,null,null,null,null,null,null,null,null,null,null,null,null,null,null,null,null,null,null,null,null,null,null,null,null,null,null,null,null,null,null,null,null,null,null,null,null,null,null,null,null,null,null,null,null,null,null,null,null,null,null,null,null,null,null,null,null,null,null,{"$f":"IF(ISNUMBER(SEARCH($C$6,BU226)),MAX($BT$13:BT225)+1,0)","v":213},0,{"$f":"ROWS($BV$14:BV226)","v":213},{"$f":"IFERROR(VLOOKUP(ROWS($BW$14:BW226),$BT$14:$BU$5000,2,0),\"\")","v":0}]
[null,null,null,null,null,null,null,null,null,null,null,null,null,null,null,null,null,null,null,null,null,null,null,null,null,null,null,null,null,null,null,null,null,null,null,null,null,null,null,null,null,null,null,null,null,null,null,null,null,null,null,null,null,null,null,null,null,null,null,null,null,null,null,null,null,null,null,null,null,null,null,{"$f":"IF(ISNUMBER(SEARCH($C$6,BU227)),MAX($BT$13:BT226)+1,0)","v":214},0,{"$f":"ROWS($BV$14:BV227)","v":214},{"$f":"IFERROR(VLOOKUP(ROWS($BW$14:BW227),$BT$14:$BU$5000,2,0),\"\")","v":0}]
[null,null,null,null,null,null,null,null,null,null,null,null,null,null,null,null,null,null,null,null,null,null,null,null,null,null,null,null,null,null,null,null,null,null,null,null,null,null,null,null,null,null,null,null,null,null,null,null,null,null,null,null,null,null,null,null,null,null,null,null,null,null,null,null,null,null,null,null,null,null,null,{"$f":"IF(ISNUMBER(SEARCH($C$6,BU228)),MAX($BT$13:BT227)+1,0)","v":215},0,{"$f":"ROWS($BV$14:BV228)","v":215},{"$f":"IFERROR(VLOOKUP(ROWS($BW$14:BW228),$BT$14:$BU$5000,2,0),\"\")","v":0}]
[null,null,null,null,null,null,null,null,null,null,null,null,null,null,null,null,null,null,null,null,null,null,null,null,null,null,null,null,null,null,null,null,null,null,null,null,null,null,null,null,null,null,null,null,null,null,null,null,null,null,null,null,null,null,null,null,null,null,null,null,null,null,null,null,null,null,null,null,null,null,null,{"$f":"IF(ISNUMBER(SEARCH($C$6,BU229)),MAX($BT$13:BT228)+1,0)","v":216},0,{"$f":"ROWS($BV$14:BV229)","v":216},{"$f":"IFERROR(VLOOKUP(ROWS($BW$14:BW229),$BT$14:$BU$5000,2,0),\"\")","v":0}]
[null,null,null,null,null,null,null,null,null,null,null,null,null,null,null,null,null,null,null,null,null,null,null,null,null,null,null,null,null,null,null,null,null,null,null,null,null,null,null,null,null,null,null,null,null,null,null,null,null,null,null,null,null,null,null,null,null,null,null,null,null,null,null,null,null,null,null,null,null,null,null,{"$f":"IF(ISNUMBER(SEARCH($C$6,BU230)),MAX($BT$13:BT229)+1,0)","v":217},0,{"$f":"ROWS($BV$14:BV230)","v":217},{"$f":"IFERROR(VLOOKUP(ROWS($BW$14:BW230),$BT$14:$BU$5000,2,0),\"\")","v":0}]
[null,null,null,null,null,null,null,null,null,null,null,null,null,null,null,null,null,null,null,null,null,null,null,null,null,null,null,null,null,null,null,null,null,null,null,null,null,null,null,null,null,null,null,null,null,null,null,null,null,null,null,null,null,null,null,null,null,null,null,null,null,null,null,null,null,null,null,null,null,null,null,{"$f":"IF(ISNUMBER(SEARCH($C$6,BU231)),MAX($BT$13:BT230)+1,0)","v":218},0,{"$f":"ROWS($BV$14:BV231)","v":218},{"$f":"IFERROR(VLOOKUP(ROWS($BW$14:BW231),$BT$14:$BU$5000,2,0),\"\")","v":0}]
[null,null,null,null,null,null,null,null,null,null,null,null,null,null,null,null,null,null,null,null,null,null,null,null,null,null,null,null,null,null,null,null,null,null,null,null,null,null,null,null,null,null,null,null,null,null,null,null,null,null,null,null,null,null,null,null,null,null,null,null,null,null,null,null,null,null,null,null,null,null,null,{"$f":"IF(ISNUMBER(SEARCH($C$6,BU232)),MAX($BT$13:BT231)+1,0)","v":219},0,{"$f":"ROWS($BV$14:BV232)","v":219},{"$f":"IFERROR(VLOOKUP(ROWS($BW$14:BW232),$BT$14:$BU$5000,2,0),\"\")","v":0}]
[null,null,null,null,null,null,null,null,null,null,null,null,null,null,null,null,null,null,null,null,null,null,null,null,null,null,null,null,null,null,null,null,null,null,null,null,null,null,null,null,null,null,null,null,null,null,null,null,null,null,null,null,null,null,null,null,null,null,null,null,null,null,null,null,null,null,null,null,null,null,null,{"$f":"IF(ISNUMBER(SEARCH($C$6,BU233)),MAX($BT$13:BT232)+1,0)","v":220},0,{"$f":"ROWS($BV$14:BV233)","v":220},{"$f":"IFERROR(VLOOKUP(ROWS($BW$14:BW233),$BT$14:$BU$5000,2,0),\"\")","v":0}]
[null,null,null,null,null,null,null,null,null,null,null,null,null,null,null,null,null,null,null,null,null,null,null,null,null,null,null,null,null,null,null,null,null,null,null,null,null,null,null,null,null,null,null,null,null,null,null,null,null,null,null,null,null,null,null,null,null,null,null,null,null,null,null,null,null,null,null,null,null,null,null,{"$f":"IF(ISNUMBER(SEARCH($C$6,BU234)),MAX($BT$13:BT233)+1,0)","v":221},0,{"$f":"ROWS($BV$14:BV234)","v":221},{"$f":"IFERROR(VLOOKUP(ROWS($BW$14:BW234),$BT$14:$BU$5000,2,0),\"\")","v":0}]
[null,null,null,null,null,null,null,null,null,null,null,null,null,null,null,null,null,null,null,null,null,null,null,null,null,null,null,null,null,null,null,null,null,null,null,null,null,null,null,null,null,null,null,null,null,null,null,null,null,null,null,null,null,null,null,null,null,null,null,null,null,null,null,null,null,null,null,null,null,null,null,{"$f":"IF(ISNUMBER(SEARCH($C$6,BU235)),MAX($BT$13:BT234)+1,0)","v":222},0,{"$f":"ROWS($BV$14:BV235)","v":222},{"$f":"IFERROR(VLOOKUP(ROWS($BW$14:BW235),$BT$14:$BU$5000,2,0),\"\")","v":0}]
[null,null,null,null,null,null,null,null,null,null,null,null,null,null,null,null,null,null,null,null,null,null,null,null,null,null,null,null,null,null,null,null,null,null,null,null,null,null,null,null,null,null,null,null,null,null,null,null,null,null,null,null,null,null,null,null,null,null,null,null,null,null,null,null,null,null,null,null,null,null,null,{"$f":"IF(ISNUMBER(SEARCH($C$6,BU236)),MAX($BT$13:BT235)+1,0)","v":223},0,{"$f":"ROWS($BV$14:BV236)","v":223},{"$f":"IFERROR(VLOOKUP(ROWS($BW$14:BW236),$BT$14:$BU$5000,2,0),\"\")","v":0}]
[null,null,null,null,null,null,null,null,null,null,null,null,null,null,null,null,null,null,null,null,null,null,null,null,null,null,null,null,null,null,null,null,null,null,null,null,null,null,null,null,null,null,null,null,null,null,null,null,null,null,null,null,null,null,null,null,null,null,null,null,null,null,null,null,null,null,null,null,null,null,null,{"$f":"IF(ISNUMBER(SEARCH($C$6,BU237)),MAX($BT$13:BT236)+1,0)","v":224},0,{"$f":"ROWS($BV$14:BV237)","v":224},{"$f":"IFERROR(VLOOKUP(ROWS($BW$14:BW237),$BT$14:$BU$5000,2,0),\"\")","v":0}]
[null,null,null,null,null,null,null,null,null,null,null,null,null,null,null,null,null,null,null,null,null,null,null,null,null,null,null,null,null,null,null,null,null,null,null,null,null,null,null,null,null,null,null,null,null,null,null,null,null,null,null,null,null,null,null,null,null,null,null,null,null,null,null,null,null,null,null,null,null,null,null,{"$f":"IF(ISNUMBER(SEARCH($C$6,BU238)),MAX($BT$13:BT237)+1,0)","v":225},0,{"$f":"ROWS($BV$14:BV238)","v":225},{"$f":"IFERROR(VLOOKUP(ROWS($BW$14:BW238),$BT$14:$BU$5000,2,0),\"\")","v":0}]
[null,null,null,null,null,null,null,null,null,null,null,null,null,null,null,null,null,null,null,null,null,null,null,null,null,null,null,null,null,null,null,null,null,null,null,null,null,null,null,null,null,null,null,null,null,null,null,null,null,null,null,null,null,null,null,null,null,null,null,null,null,null,null,null,null,null,null,null,null,null,null,{"$f":"IF(ISNUMBER(SEARCH($C$6,BU239)),MAX($BT$13:BT238)+1,0)","v":226},0,{"$f":"ROWS($BV$14:BV239)","v":226},{"$f":"IFERROR(VLOOKUP(ROWS($BW$14:BW239),$BT$14:$BU$5000,2,0),\"\")","v":0}]
[null,null,null,null,null,null,null,null,null,null,null,null,null,null,null,null,null,null,null,null,null,null,null,null,null,null,null,null,null,null,null,null,null,null,null,null,null,null,null,null,null,null,null,null,null,null,null,null,null,null,null,null,null,null,null,null,null,null,null,null,null,null,null,null,null,null,null,null,null,null,null,{"$f":"IF(ISNUMBER(SEARCH($C$6,BU240)),MAX($BT$13:BT239)+1,0)","v":227},0,{"$f":"ROWS($BV$14:BV240)","v":227},{"$f":"IFERROR(VLOOKUP(ROWS($BW$14:BW240),$BT$14:$BU$5000,2,0),\"\")","v":0}]
[null,null,null,null,null,null,null,null,null,null,null,null,null,null,null,null,null,null,null,null,null,null,null,null,null,null,null,null,null,null,null,null,null,null,null,null,null,null,null,null,null,null,null,null,null,null,null,null,null,null,null,null,null,null,null,null,null,null,null,null,null,null,null,null,null,null,null,null,null,null,null,{"$f":"IF(ISNUMBER(SEARCH($C$6,BU241)),MAX($BT$13:BT240)+1,0)","v":228},0,{"$f":"ROWS($BV$14:BV241)","v":228},{"$f":"IFERROR(VLOOKUP(ROWS($BW$14:BW241),$BT$14:$BU$5000,2,0),\"\")","v":0}]
[null,null,null,null,null,null,null,null,null,null,null,null,null,null,null,null,null,null,null,null,null,null,null,null,null,null,null,null,null,null,null,null,null,null,null,null,null,null,null,null,null,null,null,null,null,null,null,null,null,null,null,null,null,null,null,null,null,null,null,null,null,null,null,null,null,null,null,null,null,null,null,{"$f":"IF(ISNUMBER(SEARCH($C$6,BU242)),MAX($BT$13:BT241)+1,0)","v":229},0,{"$f":"ROWS($BV$14:BV242)","v":229},{"$f":"IFERROR(VLOOKUP(ROWS($BW$14:BW242),$BT$14:$BU$5000,2,0),\"\")","v":0}]
[null,null,null,null,null,null,null,null,null,null,null,null,null,null,null,null,null,null,null,null,null,null,null,null,null,null,null,null,null,null,null,null,null,null,null,null,null,null,null,null,null,null,null,null,null,null,null,null,null,null,null,null,null,null,null,null,null,null,null,null,null,null,null,null,null,null,null,null,null,null,null,{"$f":"IF(ISNUMBER(SEARCH($C$6,BU243)),MAX($BT$13:BT242)+1,0)","v":230},0,{"$f":"ROWS($BV$14:BV243)","v":230},{"$f":"IFERROR(VLOOKUP(ROWS($BW$14:BW243),$BT$14:$BU$5000,2,0),\"\")","v":0}]
[null,null,null,null,null,null,null,null,null,null,null,null,null,null,null,null,null,null,null,null,null,null,null,null,null,null,null,null,null,null,null,null,null,null,null,null,null,null,null,null,null,null,null,null,null,null,null,null,null,null,null,null,null,null,null,null,null,null,null,null,null,null,null,null,null,null,null,null,null,null,null,{"$f":"IF(ISNUMBER(SEARCH($C$6,BU244)),MAX($BT$13:BT243)+1,0)","v":231},0,{"$f":"ROWS($BV$14:BV244)","v":231},{"$f":"IFERROR(VLOOKUP(ROWS($BW$14:BW244),$BT$14:$BU$5000,2,0),\"\")","v":0}]
[null,null,null,null,null,null,null,null,null,null,null,null,null,null,null,null,null,null,null,null,null,null,null,null,null,null,null,null,null,null,null,null,null,null,null,null,null,null,null,null,null,null,null,null,null,null,null,null,null,null,null,null,null,null,null,null,null,null,null,null,null,null,null,null,null,null,null,null,null,null,null,{"$f":"IF(ISNUMBER(SEARCH($C$6,BU245)),MAX($BT$13:BT244)+1,0)","v":232},0,{"$f":"ROWS($BV$14:BV245)","v":232},{"$f":"IFERROR(VLOOKUP(ROWS($BW$14:BW245),$BT$14:$BU$5000,2,0),\"\")","v":0}]
[null,null,null,null,null,null,null,null,null,null,null,null,null,null,null,null,null,null,null,null,null,null,null,null,null,null,null,null,null,null,null,null,null,null,null,null,null,null,null,null,null,null,null,null,null,null,null,null,null,null,null,null,null,null,null,null,null,null,null,null,null,null,null,null,null,null,null,null,null,null,null,{"$f":"IF(ISNUMBER(SEARCH($C$6,BU246)),MAX($BT$13:BT245)+1,0)","v":233},0,{"$f":"ROWS($BV$14:BV246)","v":233},{"$f":"IFERROR(VLOOKUP(ROWS($BW$14:BW246),$BT$14:$BU$5000,2,0),\"\")","v":0}]
[null,null,null,null,null,null,null,null,null,null,null,null,null,null,null,null,null,null,null,null,null,null,null,null,null,null,null,null,null,null,null,null,null,null,null,null,null,null,null,null,null,null,null,null,null,null,null,null,null,null,null,null,null,null,null,null,null,null,null,null,null,null,null,null,null,null,null,null,null,null,null,{"$f":"IF(ISNUMBER(SEARCH($C$6,BU247)),MAX($BT$13:BT246)+1,0)","v":234},0,{"$f":"ROWS($BV$14:BV247)","v":234},{"$f":"IFERROR(VLOOKUP(ROWS($BW$14:BW247),$BT$14:$BU$5000,2,0),\"\")","v":0}]
[null,null,null,null,null,null,null,null,null,null,null,null,null,null,null,null,null,null,null,null,null,null,null,null,null,null,null,null,null,null,null,null,null,null,null,null,null,null,null,null,null,null,null,null,null,null,null,null,null,null,null,null,null,null,null,null,null,null,null,null,null,null,null,null,null,null,null,null,null,null,null,{"$f":"IF(ISNUMBER(SEARCH($C$6,BU248)),MAX($BT$13:BT247)+1,0)","v":235},0,{"$f":"ROWS($BV$14:BV248)","v":235},{"$f":"IFERROR(VLOOKUP(ROWS($BW$14:BW248),$BT$14:$BU$5000,2,0),\"\")","v":0}]
[null,null,null,null,null,null,null,null,null,null,null,null,null,null,null,null,null,null,null,null,null,null,null,null,null,null,null,null,null,null,null,null,null,null,null,null,null,null,null,null,null,null,null,null,null,null,null,null,null,null,null,null,null,null,null,null,null,null,null,null,null,null,null,null,null,null,null,null,null,null,null,{"$f":"IF(ISNUMBER(SEARCH($C$6,BU249)),MAX($BT$13:BT248)+1,0)","v":236},0,{"$f":"ROWS($BV$14:BV249)","v":236},{"$f":"IFERROR(VLOOKUP(ROWS($BW$14:BW249),$BT$14:$BU$5000,2,0),\"\")","v":0}]
[null,null,null,null,null,null,null,null,null,null,null,null,null,null,null,null,null,null,null,null,null,null,null,null,null,null,null,null,null,null,null,null,null,null,null,null,null,null,null,null,null,null,null,null,null,null,null,null,null,null,null,null,null,null,null,null,null,null,null,null,null,null,null,null,null,null,null,null,null,null,null,{"$f":"IF(ISNUMBER(SEARCH($C$6,BU250)),MAX($BT$13:BT249)+1,0)","v":237},0,{"$f":"ROWS($BV$14:BV250)","v":237},{"$f":"IFERROR(VLOOKUP(ROWS($BW$14:BW250),$BT$14:$BU$5000,2,0),\"\")","v":0}]
[null,null,null,null,null,null,null,null,null,null,null,null,null,null,null,null,null,null,null,null,null,null,null,null,null,null,null,null,null,null,null,null,null,null,null,null,null,null,null,null,null,null,null,null,null,null,null,null,null,null,null,null,null,null,null,null,null,null,null,null,null,null,null,null,null,null,null,null,null,null,null,{"$f":"IF(ISNUMBER(SEARCH($C$6,BU251)),MAX($BT$13:BT250)+1,0)","v":238},0,{"$f":"ROWS($BV$14:BV251)","v":238},{"$f":"IFERROR(VLOOKUP(ROWS($BW$14:BW251),$BT$14:$BU$5000,2,0),\"\")","v":0}]
[null,null,null,null,null,null,null,null,null,null,null,null,null,null,null,null,null,null,null,null,null,null,null,null,null,null,null,null,null,null,null,null,null,null,null,null,null,null,null,null,null,null,null,null,null,null,null,null,null,null,null,null,null,null,null,null,null,null,null,null,null,null,null,null,null,null,null,null,null,null,null,{"$f":"IF(ISNUMBER(SEARCH($C$6,BU252)),MAX($BT$13:BT251)+1,0)","v":239},0,{"$f":"ROWS($BV$14:BV252)","v":239},{"$f":"IFERROR(VLOOKUP(ROWS($BW$14:BW252),$BT$14:$BU$5000,2,0),\"\")","v":0}]
[null,null,null,null,null,null,null,null,null,null,null,null,null,null,null,null,null,null,null,null,null,null,null,null,null,null,null,null,null,null,null,null,null,null,null,null,null,null,null,null,null,null,null,null,null,null,null,null,null,null,null,null,null,null,null,null,null,null,null,null,null,null,null,null,null,null,null,null,null,null,null,{"$f":"IF(ISNUMBER(SEARCH($C$6,BU253)),MAX($BT$13:BT252)+1,0)","v":240},0,{"$f":"ROWS($BV$14:BV253)","v":240},{"$f":"IFERROR(VLOOKUP(ROWS($BW$14:BW253),$BT$14:$BU$5000,2,0),\"\")","v":0}]
[null,null,null,null,null,null,null,null,null,null,null,null,null,null,null,null,null,null,null,null,null,null,null,null,null,null,null,null,null,null,null,null,null,null,null,null,null,null,null,null,null,null,null,null,null,null,null,null,null,null,null,null,null,null,null,null,null,null,null,null,null,null,null,null,null,null,null,null,null,null,null,{"$f":"IF(ISNUMBER(SEARCH($C$6,BU254)),MAX($BT$13:BT253)+1,0)","v":241},0,{"$f":"ROWS($BV$14:BV254)","v":241},{"$f":"IFERROR(VLOOKUP(ROWS($BW$14:BW254),$BT$14:$BU$5000,2,0),\"\")","v":0}]
[null,null,null,null,null,null,null,null,null,null,null,null,null,null,null,null,null,null,null,null,null,null,null,null,null,null,null,null,null,null,null,null,null,null,null,null,null,null,null,null,null,null,null,null,null,null,null,null,null,null,null,null,null,null,null,null,null,null,null,null,null,null,null,null,null,null,null,null,null,null,null,{"$f":"IF(ISNUMBER(SEARCH($C$6,BU255)),MAX($BT$13:BT254)+1,0)","v":242},0,{"$f":"ROWS($BV$14:BV255)","v":242},{"$f":"IFERROR(VLOOKUP(ROWS($BW$14:BW255),$BT$14:$BU$5000,2,0),\"\")","v":0}]
[null,null,null,null,null,null,null,null,null,null,null,null,null,null,null,null,null,null,null,null,null,null,null,null,null,null,null,null,null,null,null,null,null,null,null,null,null,null,null,null,null,null,null,null,null,null,null,null,null,null,null,null,null,null,null,null,null,null,null,null,null,null,null,null,null,null,null,null,null,null,null,{"$f":"IF(ISNUMBER(SEARCH($C$6,BU256)),MAX($BT$13:BT255)+1,0)","v":243},0,{"$f":"ROWS($BV$14:BV256)","v":243},{"$f":"IFERROR(VLOOKUP(ROWS($BW$14:BW256),$BT$14:$BU$5000,2,0),\"\")","v":0}]
[null,null,null,null,null,null,null,null,null,null,null,null,null,null,null,null,null,null,null,null,null,null,null,null,null,null,null,null,null,null,null,null,null,null,null,null,null,null,null,null,null,null,null,null,null,null,null,null,null,null,null,null,null,null,null,null,null,null,null,null,null,null,null,null,null,null,null,null,null,null,null,{"$f":"IF(ISNUMBER(SEARCH($C$6,BU257)),MAX($BT$13:BT256)+1,0)","v":244},0,{"$f":"ROWS($BV$14:BV257)","v":244},{"$f":"IFERROR(VLOOKUP(ROWS($BW$14:BW257),$BT$14:$BU$5000,2,0),\"\")","v":0}]
[null,null,null,null,null,null,null,null,null,null,null,null,null,null,null,null,null,null,null,null,null,null,null,null,null,null,null,null,null,null,null,null,null,null,null,null,null,null,null,null,null,null,null,null,null,null,null,null,null,null,null,null,null,null,null,null,null,null,null,null,null,null,null,null,null,null,null,null,null,null,null,{"$f":"IF(ISNUMBER(SEARCH($C$6,BU258)),MAX($BT$13:BT257)+1,0)","v":245},0,{"$f":"ROWS($BV$14:BV258)","v":245},{"$f":"IFERROR(VLOOKUP(ROWS($BW$14:BW258),$BT$14:$BU$5000,2,0),\"\")","v":0}]
[null,null,null,null,null,null,null,null,null,null,null,null,null,null,null,null,null,null,null,null,null,null,null,null,null,null,null,null,null,null,null,null,null,null,null,null,null,null,null,null,null,null,null,null,null,null,null,null,null,null,null,null,null,null,null,null,null,null,null,null,null,null,null,null,null,null,null,null,null,null,null,{"$f":"IF(ISNUMBER(SEARCH($C$6,BU259)),MAX($BT$13:BT258)+1,0)","v":246},0,{"$f":"ROWS($BV$14:BV259)","v":246},{"$f":"IFERROR(VLOOKUP(ROWS($BW$14:BW259),$BT$14:$BU$5000,2,0),\"\")","v":0}]
[null,null,null,null,null,null,null,null,null,null,null,null,null,null,null,null,null,null,null,null,null,null,null,null,null,null,null,null,null,null,null,null,null,null,null,null,null,null,null,null,null,null,null,null,null,null,null,null,null,null,null,null,null,null,null,null,null,null,null,null,null,null,null,null,null,null,null,null,null,null,null,{"$f":"IF(ISNUMBER(SEARCH($C$6,BU260)),MAX($BT$13:BT259)+1,0)","v":247},0,{"$f":"ROWS($BV$14:BV260)","v":247},{"$f":"IFERROR(VLOOKUP(ROWS($BW$14:BW260),$BT$14:$BU$5000,2,0),\"\")","v":0}]
[null,null,null,null,null,null,null,null,null,null,null,null,null,null,null,null,null,null,null,null,null,null,null,null,null,null,null,null,null,null,null,null,null,null,null,null,null,null,null,null,null,null,null,null,null,null,null,null,null,null,null,null,null,null,null,null,null,null,null,null,null,null,null,null,null,null,null,null,null,null,null,{"$f":"IF(ISNUMBER(SEARCH($C$6,BU261)),MAX($BT$13:BT260)+1,0)","v":248},0,{"$f":"ROWS($BV$14:BV261)","v":248},{"$f":"IFERROR(VLOOKUP(ROWS($BW$14:BW261),$BT$14:$BU$5000,2,0),\"\")","v":0}]
[null,null,null,null,null,null,null,null,null,null,null,null,null,null,null,null,null,null,null,null,null,null,null,null,null,null,null,null,null,null,null,null,null,null,null,null,null,null,null,null,null,null,null,null,null,null,null,null,null,null,null,null,null,null,null,null,null,null,null,null,null,null,null,null,null,null,null,null,null,null,null,{"$f":"IF(ISNUMBER(SEARCH($C$6,BU262)),MAX($BT$13:BT261)+1,0)","v":249},0,{"$f":"ROWS($BV$14:BV262)","v":249},{"$f":"IFERROR(VLOOKUP(ROWS($BW$14:BW262),$BT$14:$BU$5000,2,0),\"\")","v":0}]
[null,null,null,null,null,null,null,null,null,null,null,null,null,null,null,null,null,null,null,null,null,null,null,null,null,null,null,null,null,null,null,null,null,null,null,null,null,null,null,null,null,null,null,null,null,null,null,null,null,null,null,null,null,null,null,null,null,null,null,null,null,null,null,null,null,null,null,null,null,null,null,{"$f":"IF(ISNUMBER(SEARCH($C$6,BU263)),MAX($BT$13:BT262)+1,0)","v":250},0,{"$f":"ROWS($BV$14:BV263)","v":250},{"$f":"IFERROR(VLOOKUP(ROWS($BW$14:BW263),$BT$14:$BU$5000,2,0),\"\")","v":0}]
[null,null,null,null,null,null,null,null,null,null,null,null,null,null,null,null,null,null,null,null,null,null,null,null,null,null,null,null,null,null,null,null,null,null,null,null,null,null,null,null,null,null,null,null,null,null,null,null,null,null,null,null,null,null,null,null,null,null,null,null,null,null,null,null,null,null,null,null,null,null,null,{"$f":"IF(ISNUMBER(SEARCH($C$6,BU264)),MAX($BT$13:BT263)+1,0)","v":251},0,{"$f":"ROWS($BV$14:BV264)","v":251},{"$f":"IFERROR(VLOOKUP(ROWS($BW$14:BW264),$BT$14:$BU$5000,2,0),\"\")","v":0}]
[null,null,null,null,null,null,null,null,null,null,null,null,null,null,null,null,null,null,null,null,null,null,null,null,null,null,null,null,null,null,null,null,null,null,null,null,null,null,null,null,null,null,null,null,null,null,null,null,null,null,null,null,null,null,null,null,null,null,null,null,null,null,null,null,null,null,null,null,null,null,null,{"$f":"IF(ISNUMBER(SEARCH($C$6,BU265)),MAX($BT$13:BT264)+1,0)","v":252},0,{"$f":"ROWS($BV$14:BV265)","v":252},{"$f":"IFERROR(VLOOKUP(ROWS($BW$14:BW265),$BT$14:$BU$5000,2,0),\"\")","v":0}]
[null,null,null,null,null,null,null,null,null,null,null,null,null,null,null,null,null,null,null,null,null,null,null,null,null,null,null,null,null,null,null,null,null,null,null,null,null,null,null,null,null,null,null,null,null,null,null,null,null,null,null,null,null,null,null,null,null,null,null,null,null,null,null,null,null,null,null,null,null,null,null,{"$f":"IF(ISNUMBER(SEARCH($C$6,BU266)),MAX($BT$13:BT265)+1,0)","v":253},0,{"$f":"ROWS($BV$14:BV266)","v":253},{"$f":"IFERROR(VLOOKUP(ROWS($BW$14:BW266),$BT$14:$BU$5000,2,0),\"\")","v":0}]
[null,null,null,null,null,null,null,null,null,null,null,null,null,null,null,null,null,null,null,null,null,null,null,null,null,null,null,null,null,null,null,null,null,null,null,null,null,null,null,null,null,null,null,null,null,null,null,null,null,null,null,null,null,null,null,null,null,null,null,null,null,null,null,null,null,null,null,null,null,null,null,{"$f":"IF(ISNUMBER(SEARCH($C$6,BU267)),MAX($BT$13:BT266)+1,0)","v":254},0,{"$f":"ROWS($BV$14:BV267)","v":254},{"$f":"IFERROR(VLOOKUP(ROWS($BW$14:BW267),$BT$14:$BU$5000,2,0),\"\")","v":0}]
[null,null,null,null,null,null,null,null,null,null,null,null,null,null,null,null,null,null,null,null,null,null,null,null,null,null,null,null,null,null,null,null,null,null,null,null,null,null,null,null,null,null,null,null,null,null,null,null,null,null,null,null,null,null,null,null,null,null,null,null,null,null,null,null,null,null,null,null,null,null,null,{"$f":"IF(ISNUMBER(SEARCH($C$6,BU268)),MAX($BT$13:BT267)+1,0)","v":255},0,{"$f":"ROWS($BV$14:BV268)","v":255},{"$f":"IFERROR(VLOOKUP(ROWS($BW$14:BW268),$BT$14:$BU$5000,2,0),\"\")","v":0}]
[null,null,null,null,null,null,null,null,null,null,null,null,null,null,null,null,null,null,null,null,null,null,null,null,null,null,null,null,null,null,null,null,null,null,null,null,null,null,null,null,null,null,null,null,null,null,null,null,null,null,null,null,null,null,null,null,null,null,null,null,null,null,null,null,null,null,null,null,null,null,null,{"$f":"IF(ISNUMBER(SEARCH($C$6,BU269)),MAX($BT$13:BT268)+1,0)","v":256},0,{"$f":"ROWS($BV$14:BV269)","v":256},{"$f":"IFERROR(VLOOKUP(ROWS($BW$14:BW269),$BT$14:$BU$5000,2,0),\"\")","v":0}]
[null,null,null,null,null,null,null,null,null,null,null,null,null,null,null,null,null,null,null,null,null,null,null,null,null,null,null,null,null,null,null,null,null,null,null,null,null,null,null,null,null,null,null,null,null,null,null,null,null,null,null,null,null,null,null,null,null,null,null,null,null,null,null,null,null,null,null,null,null,null,null,{"$f":"IF(ISNUMBER(SEARCH($C$6,BU270)),MAX($BT$13:BT269)+1,0)","v":257},0,{"$f":"ROWS($BV$14:BV270)","v":257},{"$f":"IFERROR(VLOOKUP(ROWS($BW$14:BW270),$BT$14:$BU$5000,2,0),\"\")","v":0}]
[null,null,null,null,null,null,null,null,null,null,null,null,null,null,null,null,null,null,null,null,null,null,null,null,null,null,null,null,null,null,null,null,null,null,null,null,null,null,null,null,null,null,null,null,null,null,null,null,null,null,null,null,null,null,null,null,null,null,null,null,null,null,null,null,null,null,null,null,null,null,null,{"$f":"IF(ISNUMBER(SEARCH($C$6,BU271)),MAX($BT$13:BT270)+1,0)","v":258},0,{"$f":"ROWS($BV$14:BV271)","v":258},{"$f":"IFERROR(VLOOKUP(ROWS($BW$14:BW271),$BT$14:$BU$5000,2,0),\"\")","v":0}]
[null,null,null,null,null,null,null,null,null,null,null,null,null,null,null,null,null,null,null,null,null,null,null,null,null,null,null,null,null,null,null,null,null,null,null,null,null,null,null,null,null,null,null,null,null,null,null,null,null,null,null,null,null,null,null,null,null,null,null,null,null,null,null,null,null,null,null,null,null,null,null,{"$f":"IF(ISNUMBER(SEARCH($C$6,BU272)),MAX($BT$13:BT271)+1,0)","v":259},0,{"$f":"ROWS($BV$14:BV272)","v":259},{"$f":"IFERROR(VLOOKUP(ROWS($BW$14:BW272),$BT$14:$BU$5000,2,0),\"\")","v":0}]
[null,null,null,null,null,null,null,null,null,null,null,null,null,null,null,null,null,null,null,null,null,null,null,null,null,null,null,null,null,null,null,null,null,null,null,null,null,null,null,null,null,null,null,null,null,null,null,null,null,null,null,null,null,null,null,null,null,null,null,null,null,null,null,null,null,null,null,null,null,null,null,{"$f":"IF(ISNUMBER(SEARCH($C$6,BU273)),MAX($BT$13:BT272)+1,0)","v":260},0,{"$f":"ROWS($BV$14:BV273)","v":260},{"$f":"IFERROR(VLOOKUP(ROWS($BW$14:BW273),$BT$14:$BU$5000,2,0),\"\")","v":0}]
[null,null,null,null,null,null,null,null,null,null,null,null,null,null,null,null,null,null,null,null,null,null,null,null,null,null,null,null,null,null,null,null,null,null,null,null,null,null,null,null,null,null,null,null,null,null,null,null,null,null,null,null,null,null,null,null,null,null,null,null,null,null,null,null,null,null,null,null,null,null,null,{"$f":"IF(ISNUMBER(SEARCH($C$6,BU274)),MAX($BT$13:BT273)+1,0)","v":261},0,{"$f":"ROWS($BV$14:BV274)","v":261},{"$f":"IFERROR(VLOOKUP(ROWS($BW$14:BW274),$BT$14:$BU$5000,2,0),\"\")","v":0}]
[null,null,null,null,null,null,null,null,null,null,null,null,null,null,null,null,null,null,null,null,null,null,null,null,null,null,null,null,null,null,null,null,null,null,null,null,null,null,null,null,null,null,null,null,null,null,null,null,null,null,null,null,null,null,null,null,null,null,null,null,null,null,null,null,null,null,null,null,null,null,null,{"$f":"IF(ISNUMBER(SEARCH($C$6,BU275)),MAX($BT$13:BT274)+1,0)","v":262},0,{"$f":"ROWS($BV$14:BV275)","v":262},{"$f":"IFERROR(VLOOKUP(ROWS($BW$14:BW275),$BT$14:$BU$5000,2,0),\"\")","v":0}]
[null,null,null,null,null,null,null,null,null,null,null,null,null,null,null,null,null,null,null,null,null,null,null,null,null,null,null,null,null,null,null,null,null,null,null,null,null,null,null,null,null,null,null,null,null,null,null,null,null,null,null,null,null,null,null,null,null,null,null,null,null,null,null,null,null,null,null,null,null,null,null,{"$f":"IF(ISNUMBER(SEARCH($C$6,BU276)),MAX($BT$13:BT275)+1,0)","v":263},0,{"$f":"ROWS($BV$14:BV276)","v":263},{"$f":"IFERROR(VLOOKUP(ROWS($BW$14:BW276),$BT$14:$BU$5000,2,0),\"\")","v":0}]
[null,null,null,null,null,null,null,null,null,null,null,null,null,null,null,null,null,null,null,null,null,null,null,null,null,null,null,null,null,null,null,null,null,null,null,null,null,null,null,null,null,null,null,null,null,null,null,null,null,null,null,null,null,null,null,null,null,null,null,null,null,null,null,null,null,null,null,null,null,null,null,{"$f":"IF(ISNUMBER(SEARCH($C$6,BU277)),MAX($BT$13:BT276)+1,0)","v":264},0,{"$f":"ROWS($BV$14:BV277)","v":264},{"$f":"IFERROR(VLOOKUP(ROWS($BW$14:BW277),$BT$14:$BU$5000,2,0),\"\")","v":0}]
[null,null,null,null,null,null,null,null,null,null,null,null,null,null,null,null,null,null,null,null,null,null,null,null,null,null,null,null,null,null,null,null,null,null,null,null,null,null,null,null,null,null,null,null,null,null,null,null,null,null,null,null,null,null,null,null,null,null,null,null,null,null,null,null,null,null,null,null,null,null,null,{"$f":"IF(ISNUMBER(SEARCH($C$6,BU278)),MAX($BT$13:BT277)+1,0)","v":265},0,{"$f":"ROWS($BV$14:BV278)","v":265},{"$f":"IFERROR(VLOOKUP(ROWS($BW$14:BW278),$BT$14:$BU$5000,2,0),\"\")","v":0}]
[null,null,null,null,null,null,null,null,null,null,null,null,null,null,null,null,null,null,null,null,null,null,null,null,null,null,null,null,null,null,null,null,null,null,null,null,null,null,null,null,null,null,null,null,null,null,null,null,null,null,null,null,null,null,null,null,null,null,null,null,null,null,null,null,null,null,null,null,null,null,null,{"$f":"IF(ISNUMBER(SEARCH($C$6,BU279)),MAX($BT$13:BT278)+1,0)","v":266},0,{"$f":"ROWS($BV$14:BV279)","v":266},{"$f":"IFERROR(VLOOKUP(ROWS($BW$14:BW279),$BT$14:$BU$5000,2,0),\"\")","v":0}]
[null,null,null,null,null,null,null,null,null,null,null,null,null,null,null,null,null,null,null,null,null,null,null,null,null,null,null,null,null,null,null,null,null,null,null,null,null,null,null,null,null,null,null,null,null,null,null,null,null,null,null,null,null,null,null,null,null,null,null,null,null,null,null,null,null,null,null,null,null,null,null,{"$f":"IF(ISNUMBER(SEARCH($C$6,BU280)),MAX($BT$13:BT279)+1,0)","v":267},0,{"$f":"ROWS($BV$14:BV280)","v":267},{"$f":"IFERROR(VLOOKUP(ROWS($BW$14:BW280),$BT$14:$BU$5000,2,0),\"\")","v":0}]
[null,null,null,null,null,null,null,null,null,null,null,null,null,null,null,null,null,null,null,null,null,null,null,null,null,null,null,null,null,null,null,null,null,null,null,null,null,null,null,null,null,null,null,null,null,null,null,null,null,null,null,null,null,null,null,null,null,null,null,null,null,null,null,null,null,null,null,null,null,null,null,{"$f":"IF(ISNUMBER(SEARCH($C$6,BU281)),MAX($BT$13:BT280)+1,0)","v":268},0,{"$f":"ROWS($BV$14:BV281)","v":268},{"$f":"IFERROR(VLOOKUP(ROWS($BW$14:BW281),$BT$14:$BU$5000,2,0),\"\")","v":0}]
[null,null,null,null,null,null,null,null,null,null,null,null,null,null,null,null,null,null,null,null,null,null,null,null,null,null,null,null,null,null,null,null,null,null,null,null,null,null,null,null,null,null,null,null,null,null,null,null,null,null,null,null,null,null,null,null,null,null,null,null,null,null,null,null,null,null,null,null,null,null,null,{"$f":"IF(ISNUMBER(SEARCH($C$6,BU282)),MAX($BT$13:BT281)+1,0)","v":269},0,{"$f":"ROWS($BV$14:BV282)","v":269},{"$f":"IFERROR(VLOOKUP(ROWS($BW$14:BW282),$BT$14:$BU$5000,2,0),\"\")","v":0}]
[null,null,null,null,null,null,null,null,null,null,null,null,null,null,null,null,null,null,null,null,null,null,null,null,null,null,null,null,null,null,null,null,null,null,null,null,null,null,null,null,null,null,null,null,null,null,null,null,null,null,null,null,null,null,null,null,null,null,null,null,null,null,null,null,null,null,null,null,null,null,null,{"$f":"IF(ISNUMBER(SEARCH($C$6,BU283)),MAX($BT$13:BT282)+1,0)","v":270},0,{"$f":"ROWS($BV$14:BV283)","v":270},{"$f":"IFERROR(VLOOKUP(ROWS($BW$14:BW283),$BT$14:$BU$5000,2,0),\"\")","v":0}]
[null,null,null,null,null,null,null,null,null,null,null,null,null,null,null,null,null,null,null,null,null,null,null,null,null,null,null,null,null,null,null,null,null,null,null,null,null,null,null,null,null,null,null,null,null,null,null,null,null,null,null,null,null,null,null,null,null,null,null,null,null,null,null,null,null,null,null,null,null,null,null,{"$f":"IF(ISNUMBER(SEARCH($C$6,BU284)),MAX($BT$13:BT283)+1,0)","v":271},0,{"$f":"ROWS($BV$14:BV284)","v":271},{"$f":"IFERROR(VLOOKUP(ROWS($BW$14:BW284),$BT$14:$BU$5000,2,0),\"\")","v":0}]
[null,null,null,null,null,null,null,null,null,null,null,null,null,null,null,null,null,null,null,null,null,null,null,null,null,null,null,null,null,null,null,null,null,null,null,null,null,null,null,null,null,null,null,null,null,null,null,null,null,null,null,null,null,null,null,null,null,null,null,null,null,null,null,null,null,null,null,null,null,null,null,{"$f":"IF(ISNUMBER(SEARCH($C$6,BU285)),MAX($BT$13:BT284)+1,0)","v":272},0,{"$f":"ROWS($BV$14:BV285)","v":272},{"$f":"IFERROR(VLOOKUP(ROWS($BW$14:BW285),$BT$14:$BU$5000,2,0),\"\")","v":0}]
[null,null,null,null,null,null,null,null,null,null,null,null,null,null,null,null,null,null,null,null,null,null,null,null,null,null,null,null,null,null,null,null,null,null,null,null,null,null,null,null,null,null,null,null,null,null,null,null,null,null,null,null,null,null,null,null,null,null,null,null,null,null,null,null,null,null,null,null,null,null,null,{"$f":"IF(ISNUMBER(SEARCH($C$6,BU286)),MAX($BT$13:BT285)+1,0)","v":273},0,{"$f":"ROWS($BV$14:BV286)","v":273},{"$f":"IFERROR(VLOOKUP(ROWS($BW$14:BW286),$BT$14:$BU$5000,2,0),\"\")","v":0}]
[null,null,null,null,null,null,null,null,null,null,null,null,null,null,null,null,null,null,null,null,null,null,null,null,null,null,null,null,null,null,null,null,null,null,null,null,null,null,null,null,null,null,null,null,null,null,null,null,null,null,null,null,null,null,null,null,null,null,null,null,null,null,null,null,null,null,null,null,null,null,null,{"$f":"IF(ISNUMBER(SEARCH($C$6,BU287)),MAX($BT$13:BT286)+1,0)","v":274},0,{"$f":"ROWS($BV$14:BV287)","v":274},{"$f":"IFERROR(VLOOKUP(ROWS($BW$14:BW287),$BT$14:$BU$5000,2,0),\"\")","v":0}]
[null,null,null,null,null,null,null,null,null,null,null,null,null,null,null,null,null,null,null,null,null,null,null,null,null,null,null,null,null,null,null,null,null,null,null,null,null,null,null,null,null,null,null,null,null,null,null,null,null,null,null,null,null,null,null,null,null,null,null,null,null,null,null,null,null,null,null,null,null,null,null,{"$f":"IF(ISNUMBER(SEARCH($C$6,BU288)),MAX($BT$13:BT287)+1,0)","v":275},0,{"$f":"ROWS($BV$14:BV288)","v":275},{"$f":"IFERROR(VLOOKUP(ROWS($BW$14:BW288),$BT$14:$BU$5000,2,0),\"\")","v":0}]
[null,null,null,null,null,null,null,null,null,null,null,null,null,null,null,null,null,null,null,null,null,null,null,null,null,null,null,null,null,null,null,null,null,null,null,null,null,null,null,null,null,null,null,null,null,null,null,null,null,null,null,null,null,null,null,null,null,null,null,null,null,null,null,null,null,null,null,null,null,null,null,{"$f":"IF(ISNUMBER(SEARCH($C$6,BU289)),MAX($BT$13:BT288)+1,0)","v":276},0,{"$f":"ROWS($BV$14:BV289)","v":276},{"$f":"IFERROR(VLOOKUP(ROWS($BW$14:BW289),$BT$14:$BU$5000,2,0),\"\")","v":0}]
[null,null,null,null,null,null,null,null,null,null,null,null,null,null,null,null,null,null,null,null,null,null,null,null,null,null,null,null,null,null,null,null,null,null,null,null,null,null,null,null,null,null,null,null,null,null,null,null,null,null,null,null,null,null,null,null,null,null,null,null,null,null,null,null,null,null,null,null,null,null,null,{"$f":"IF(ISNUMBER(SEARCH($C$6,BU290)),MAX($BT$13:BT289)+1,0)","v":277},0,{"$f":"ROWS($BV$14:BV290)","v":277},{"$f":"IFERROR(VLOOKUP(ROWS($BW$14:BW290),$BT$14:$BU$5000,2,0),\"\")","v":0}]
[null,null,null,null,null,null,null,null,null,null,null,null,null,null,null,null,null,null,null,null,null,null,null,null,null,null,null,null,null,null,null,null,null,null,null,null,null,null,null,null,null,null,null,null,null,null,null,null,null,null,null,null,null,null,null,null,null,null,null,null,null,null,null,null,null,null,null,null,null,null,null,{"$f":"IF(ISNUMBER(SEARCH($C$6,BU291)),MAX($BT$13:BT290)+1,0)","v":278},0,{"$f":"ROWS($BV$14:BV291)","v":278},{"$f":"IFERROR(VLOOKUP(ROWS($BW$14:BW291),$BT$14:$BU$5000,2,0),\"\")","v":0}]
[null,null,null,null,null,null,null,null,null,null,null,null,null,null,null,null,null,null,null,null,null,null,null,null,null,null,null,null,null,null,null,null,null,null,null,null,null,null,null,null,null,null,null,null,null,null,null,null,null,null,null,null,null,null,null,null,null,null,null,null,null,null,null,null,null,null,null,null,null,null,null,{"$f":"IF(ISNUMBER(SEARCH($C$6,BU292)),MAX($BT$13:BT291)+1,0)","v":279},0,{"$f":"ROWS($BV$14:BV292)","v":279},{"$f":"IFERROR(VLOOKUP(ROWS($BW$14:BW292),$BT$14:$BU$5000,2,0),\"\")","v":0}]
[null,null,null,null,null,null,null,null,null,null,null,null,null,null,null,null,null,null,null,null,null,null,null,null,null,null,null,null,null,null,null,null,null,null,null,null,null,null,null,null,null,null,null,null,null,null,null,null,null,null,null,null,null,null,null,null,null,null,null,null,null,null,null,null,null,null,null,null,null,null,null,{"$f":"IF(ISNUMBER(SEARCH($C$6,BU293)),MAX($BT$13:BT292)+1,0)","v":280},0,{"$f":"ROWS($BV$14:BV293)","v":280},{"$f":"IFERROR(VLOOKUP(ROWS($BW$14:BW293),$BT$14:$BU$5000,2,0),\"\")","v":0}]
[null,null,null,null,null,null,null,null,null,null,null,null,null,null,null,null,null,null,null,null,null,null,null,null,null,null,null,null,null,null,null,null,null,null,null,null,null,null,null,null,null,null,null,null,null,null,null,null,null,null,null,null,null,null,null,null,null,null,null,null,null,null,null,null,null,null,null,null,null,null,null,{"$f":"IF(ISNUMBER(SEARCH($C$6,BU294)),MAX($BT$13:BT293)+1,0)","v":281},0,{"$f":"ROWS($BV$14:BV294)","v":281},{"$f":"IFERROR(VLOOKUP(ROWS($BW$14:BW294),$BT$14:$BU$5000,2,0),\"\")","v":0}]
[null,null,null,null,null,null,null,null,null,null,null,null,null,null,null,null,null,null,null,null,null,null,null,null,null,null,null,null,null,null,null,null,null,null,null,null,null,null,null,null,null,null,null,null,null,null,null,null,null,null,null,null,null,null,null,null,null,null,null,null,null,null,null,null,null,null,null,null,null,null,null,{"$f":"IF(ISNUMBER(SEARCH($C$6,BU295)),MAX($BT$13:BT294)+1,0)","v":282},0,{"$f":"ROWS($BV$14:BV295)","v":282},{"$f":"IFERROR(VLOOKUP(ROWS($BW$14:BW295),$BT$14:$BU$5000,2,0),\"\")","v":0}]
[null,null,null,null,null,null,null,null,null,null,null,null,null,null,null,null,null,null,null,null,null,null,null,null,null,null,null,null,null,null,null,null,null,null,null,null,null,null,null,null,null,null,null,null,null,null,null,null,null,null,null,null,null,null,null,null,null,null,null,null,null,null,null,null,null,null,null,null,null,null,null,{"$f":"IF(ISNUMBER(SEARCH($C$6,BU296)),MAX($BT$13:BT295)+1,0)","v":283},0,{"$f":"ROWS($BV$14:BV296)","v":283},{"$f":"IFERROR(VLOOKUP(ROWS($BW$14:BW296),$BT$14:$BU$5000,2,0),\"\")","v":0}]
[null,null,null,null,null,null,null,null,null,null,null,null,null,null,null,null,null,null,null,null,null,null,null,null,null,null,null,null,null,null,null,null,null,null,null,null,null,null,null,null,null,null,null,null,null,null,null,null,null,null,null,null,null,null,null,null,null,null,null,null,null,null,null,null,null,null,null,null,null,null,null,{"$f":"IF(ISNUMBER(SEARCH($C$6,BU297)),MAX($BT$13:BT296)+1,0)","v":284},0,{"$f":"ROWS($BV$14:BV297)","v":284},{"$f":"IFERROR(VLOOKUP(ROWS($BW$14:BW297),$BT$14:$BU$5000,2,0),\"\")","v":0}]
[null,null,null,null,null,null,null,null,null,null,null,null,null,null,null,null,null,null,null,null,null,null,null,null,null,null,null,null,null,null,null,null,null,null,null,null,null,null,null,null,null,null,null,null,null,null,null,null,null,null,null,null,null,null,null,null,null,null,null,null,null,null,null,null,null,null,null,null,null,null,null,{"$f":"IF(ISNUMBER(SEARCH($C$6,BU298)),MAX($BT$13:BT297)+1,0)","v":285},0,{"$f":"ROWS($BV$14:BV298)","v":285},{"$f":"IFERROR(VLOOKUP(ROWS($BW$14:BW298),$BT$14:$BU$5000,2,0),\"\")","v":0}]
[null,null,null,null,null,null,null,null,null,null,null,null,null,null,null,null,null,null,null,null,null,null,null,null,null,null,null,null,null,null,null,null,null,null,null,null,null,null,null,null,null,null,null,null,null,null,null,null,null,null,null,null,null,null,null,null,null,null,null,null,null,null,null,null,null,null,null,null,null,null,null,{"$f":"IF(ISNUMBER(SEARCH($C$6,BU299)),MAX($BT$13:BT298)+1,0)","v":286},0,{"$f":"ROWS($BV$14:BV299)","v":286},{"$f":"IFERROR(VLOOKUP(ROWS($BW$14:BW299),$BT$14:$BU$5000,2,0),\"\")","v":0}]
[null,null,null,null,null,null,null,null,null,null,null,null,null,null,null,null,null,null,null,null,null,null,null,null,null,null,null,null,null,null,null,null,null,null,null,null,null,null,null,null,null,null,null,null,null,null,null,null,null,null,null,null,null,null,null,null,null,null,null,null,null,null,null,null,null,null,null,null,null,null,null,{"$f":"IF(ISNUMBER(SEARCH($C$6,BU300)),MAX($BT$13:BT299)+1,0)","v":287},0,{"$f":"ROWS($BV$14:BV300)","v":287},{"$f":"IFERROR(VLOOKUP(ROWS($BW$14:BW300),$BT$14:$BU$5000,2,0),\"\")","v":0}]
[null,null,null,null,null,null,null,null,null,null,null,null,null,null,null,null,null,null,null,null,null,null,null,null,null,null,null,null,null,null,null,null,null,null,null,null,null,null,null,null,null,null,null,null,null,null,null,null,null,null,null,null,null,null,null,null,null,null,null,null,null,null,null,null,null,null,null,null,null,null,null,{"$f":"IF(ISNUMBER(SEARCH($C$6,BU301)),MAX($BT$13:BT300)+1,0)","v":288},0,{"$f":"ROWS($BV$14:BV301)","v":288},{"$f":"IFERROR(VLOOKUP(ROWS($BW$14:BW301),$BT$14:$BU$5000,2,0),\"\")","v":0}]
[null,null,null,null,null,null,null,null,null,null,null,null,null,null,null,null,null,null,null,null,null,null,null,null,null,null,null,null,null,null,null,null,null,null,null,null,null,null,null,null,null,null,null,null,null,null,null,null,null,null,null,null,null,null,null,null,null,null,null,null,null,null,null,null,null,null,null,null,null,null,null,{"$f":"IF(ISNUMBER(SEARCH($C$6,BU302)),MAX($BT$13:BT301)+1,0)","v":289},0,{"$f":"ROWS($BV$14:BV302)","v":289},{"$f":"IFERROR(VLOOKUP(ROWS($BW$14:BW302),$BT$14:$BU$5000,2,0),\"\")","v":0}]
[null,null,null,null,null,null,null,null,null,null,null,null,null,null,null,null,null,null,null,null,null,null,null,null,null,null,null,null,null,null,null,null,null,null,null,null,null,null,null,null,null,null,null,null,null,null,null,null,null,null,null,null,null,null,null,null,null,null,null,null,null,null,null,null,null,null,null,null,null,null,null,{"$f":"IF(ISNUMBER(SEARCH($C$6,BU303)),MAX($BT$13:BT302)+1,0)","v":290},0,{"$f":"ROWS($BV$14:BV303)","v":290},{"$f":"IFERROR(VLOOKUP(ROWS($BW$14:BW303),$BT$14:$BU$5000,2,0),\"\")","v":0}]
[null,null,null,null,null,null,null,null,null,null,null,null,null,null,null,null,null,null,null,null,null,null,null,null,null,null,null,null,null,null,null,null,null,null,null,null,null,null,null,null,null,null,null,null,null,null,null,null,null,null,null,null,null,null,null,null,null,null,null,null,null,null,null,null,null,null,null,null,null,null,null,{"$f":"IF(ISNUMBER(SEARCH($C$6,BU304)),MAX($BT$13:BT303)+1,0)","v":291},0,{"$f":"ROWS($BV$14:BV304)","v":291},{"$f":"IFERROR(VLOOKUP(ROWS($BW$14:BW304),$BT$14:$BU$5000,2,0),\"\")","v":0}]
[null,null,null,null,null,null,null,null,null,null,null,null,null,null,null,null,null,null,null,null,null,null,null,null,null,null,null,null,null,null,null,null,null,null,null,null,null,null,null,null,null,null,null,null,null,null,null,null,null,null,null,null,null,null,null,null,null,null,null,null,null,null,null,null,null,null,null,null,null,null,null,{"$f":"IF(ISNUMBER(SEARCH($C$6,BU305)),MAX($BT$13:BT304)+1,0)","v":292},0,{"$f":"ROWS($BV$14:BV305)","v":292},{"$f":"IFERROR(VLOOKUP(ROWS($BW$14:BW305),$BT$14:$BU$5000,2,0),\"\")","v":0}]
[null,null,null,null,null,null,null,null,null,null,null,null,null,null,null,null,null,null,null,null,null,null,null,null,null,null,null,null,null,null,null,null,null,null,null,null,null,null,null,null,null,null,null,null,null,null,null,null,null,null,null,null,null,null,null,null,null,null,null,null,null,null,null,null,null,null,null,null,null,null,null,{"$f":"IF(ISNUMBER(SEARCH($C$6,BU306)),MAX($BT$13:BT305)+1,0)","v":293},0,{"$f":"ROWS($BV$14:BV306)","v":293},{"$f":"IFERROR(VLOOKUP(ROWS($BW$14:BW306),$BT$14:$BU$5000,2,0),\"\")","v":0}]
[null,null,null,null,null,null,null,null,null,null,null,null,null,null,null,null,null,null,null,null,null,null,null,null,null,null,null,null,null,null,null,null,null,null,null,null,null,null,null,null,null,null,null,null,null,null,null,null,null,null,null,null,null,null,null,null,null,null,null,null,null,null,null,null,null,null,null,null,null,null,null,{"$f":"IF(ISNUMBER(SEARCH($C$6,BU307)),MAX($BT$13:BT306)+1,0)","v":294},0,{"$f":"ROWS($BV$14:BV307)","v":294},{"$f":"IFERROR(VLOOKUP(ROWS($BW$14:BW307),$BT$14:$BU$5000,2,0),\"\")","v":0}]
[null,null,null,null,null,null,null,null,null,null,null,null,null,null,null,null,null,null,null,null,null,null,null,null,null,null,null,null,null,null,null,null,null,null,null,null,null,null,null,null,null,null,null,null,null,null,null,null,null,null,null,null,null,null,null,null,null,null,null,null,null,null,null,null,null,null,null,null,null,null,null,{"$f":"IF(ISNUMBER(SEARCH($C$6,BU308)),MAX($BT$13:BT307)+1,0)","v":295},0,{"$f":"ROWS($BV$14:BV308)","v":295},{"$f":"IFERROR(VLOOKUP(ROWS($BW$14:BW308),$BT$14:$BU$5000,2,0),\"\")","v":0}]
[null,null,null,null,null,null,null,null,null,null,null,null,null,null,null,null,null,null,null,null,null,null,null,null,null,null,null,null,null,null,null,null,null,null,null,null,null,null,null,null,null,null,null,null,null,null,null,null,null,null,null,null,null,null,null,null,null,null,null,null,null,null,null,null,null,null,null,null,null,null,null,{"$f":"IF(ISNUMBER(SEARCH($C$6,BU309)),MAX($BT$13:BT308)+1,0)","v":296},0,{"$f":"ROWS($BV$14:BV309)","v":296},{"$f":"IFERROR(VLOOKUP(ROWS($BW$14:BW309),$BT$14:$BU$5000,2,0),\"\")","v":0}]
[null,null,null,null,null,null,null,null,null,null,null,null,null,null,null,null,null,null,null,null,null,null,null,null,null,null,null,null,null,null,null,null,null,null,null,null,null,null,null,null,null,null,null,null,null,null,null,null,null,null,null,null,null,null,null,null,null,null,null,null,null,null,null,null,null,null,null,null,null,null,null,{"$f":"IF(ISNUMBER(SEARCH($C$6,BU310)),MAX($BT$13:BT309)+1,0)","v":297},0,{"$f":"ROWS($BV$14:BV310)","v":297},{"$f":"IFERROR(VLOOKUP(ROWS($BW$14:BW310),$BT$14:$BU$5000,2,0),\"\")","v":0}]
[null,null,null,null,null,null,null,null,null,null,null,null,null,null,null,null,null,null,null,null,null,null,null,null,null,null,null,null,null,null,null,null,null,null,null,null,null,null,null,null,null,null,null,null,null,null,null,null,null,null,null,null,null,null,null,null,null,null,null,null,null,null,null,null,null,null,null,null,null,null,null,{"$f":"IF(ISNUMBER(SEARCH($C$6,BU311)),MAX($BT$13:BT310)+1,0)","v":298},0,{"$f":"ROWS($BV$14:BV311)","v":298},{"$f":"IFERROR(VLOOKUP(ROWS($BW$14:BW311),$BT$14:$BU$5000,2,0),\"\")","v":0}]
[null,null,null,null,null,null,null,null,null,null,null,null,null,null,null,null,null,null,null,null,null,null,null,null,null,null,null,null,null,null,null,null,null,null,null,null,null,null,null,null,null,null,null,null,null,null,null,null,null,null,null,null,null,null,null,null,null,null,null,null,null,null,null,null,null,null,null,null,null,null,null,{"$f":"IF(ISNUMBER(SEARCH($C$6,BU312)),MAX($BT$13:BT311)+1,0)","v":299},0,{"$f":"ROWS($BV$14:BV312)","v":299},{"$f":"IFERROR(VLOOKUP(ROWS($BW$14:BW312),$BT$14:$BU$5000,2,0),\"\")","v":0}]
[null,null,null,null,null,null,null,null,null,null,null,null,null,null,null,null,null,null,null,null,null,null,null,null,null,null,null,null,null,null,null,null,null,null,null,null,null,null,null,null,null,null,null,null,null,null,null,null,null,null,null,null,null,null,null,null,null,null,null,null,null,null,null,null,null,null,null,null,null,null,null,{"$f":"IF(ISNUMBER(SEARCH($C$6,BU313)),MAX($BT$13:BT312)+1,0)","v":300},0,{"$f":"ROWS($BV$14:BV313)","v":300},{"$f":"IFERROR(VLOOKUP(ROWS($BW$14:BW313),$BT$14:$BU$5000,2,0),\"\")","v":0}]
[null,null,null,null,null,null,null,null,null,null,null,null,null,null,null,null,null,null,null,null,null,null,null,null,null,null,null,null,null,null,null,null,null,null,null,null,null,null,null,null,null,null,null,null,null,null,null,null,null,null,null,null,null,null,null,null,null,null,null,null,null,null,null,null,null,null,null,null,null,null,null,{"$f":"IF(ISNUMBER(SEARCH($C$6,BU314)),MAX($BT$13:BT313)+1,0)","v":301},0,{"$f":"ROWS($BV$14:BV314)","v":301},{"$f":"IFERROR(VLOOKUP(ROWS($BW$14:BW314),$BT$14:$BU$5000,2,0),\"\")","v":0}]
[null,null,null,null,null,null,null,null,null,null,null,null,null,null,null,null,null,null,null,null,null,null,null,null,null,null,null,null,null,null,null,null,null,null,null,null,null,null,null,null,null,null,null,null,null,null,null,null,null,null,null,null,null,null,null,null,null,null,null,null,null,null,null,null,null,null,null,null,null,null,null,{"$f":"IF(ISNUMBER(SEARCH($C$6,BU315)),MAX($BT$13:BT314)+1,0)","v":302},0,{"$f":"ROWS($BV$14:BV315)","v":302},{"$f":"IFERROR(VLOOKUP(ROWS($BW$14:BW315),$BT$14:$BU$5000,2,0),\"\")","v":0}]
[null,null,null,null,null,null,null,null,null,null,null,null,null,null,null,null,null,null,null,null,null,null,null,null,null,null,null,null,null,null,null,null,null,null,null,null,null,null,null,null,null,null,null,null,null,null,null,null,null,null,null,null,null,null,null,null,null,null,null,null,null,null,null,null,null,null,null,null,null,null,null,{"$f":"IF(ISNUMBER(SEARCH($C$6,BU316)),MAX($BT$13:BT315)+1,0)","v":303},0,{"$f":"ROWS($BV$14:BV316)","v":303},{"$f":"IFERROR(VLOOKUP(ROWS($BW$14:BW316),$BT$14:$BU$5000,2,0),\"\")","v":0}]
[null,null,null,null,null,null,null,null,null,null,null,null,null,null,null,null,null,null,null,null,null,null,null,null,null,null,null,null,null,null,null,null,null,null,null,null,null,null,null,null,null,null,null,null,null,null,null,null,null,null,null,null,null,null,null,null,null,null,null,null,null,null,null,null,null,null,null,null,null,null,null,{"$f":"IF(ISNUMBER(SEARCH($C$6,BU317)),MAX($BT$13:BT316)+1,0)","v":304},0,{"$f":"ROWS($BV$14:BV317)","v":304},{"$f":"IFERROR(VLOOKUP(ROWS($BW$14:BW317),$BT$14:$BU$5000,2,0),\"\")","v":0}]
[null,null,null,null,null,null,null,null,null,null,null,null,null,null,null,null,null,null,null,null,null,null,null,null,null,null,null,null,null,null,null,null,null,null,null,null,null,null,null,null,null,null,null,null,null,null,null,null,null,null,null,null,null,null,null,null,null,null,null,null,null,null,null,null,null,null,null,null,null,null,null,{"$f":"IF(ISNUMBER(SEARCH($C$6,BU318)),MAX($BT$13:BT317)+1,0)","v":305},0,{"$f":"ROWS($BV$14:BV318)","v":305},{"$f":"IFERROR(VLOOKUP(ROWS($BW$14:BW318),$BT$14:$BU$5000,2,0),\"\")","v":0}]
[null,null,null,null,null,null,null,null,null,null,null,null,null,null,null,null,null,null,null,null,null,null,null,null,null,null,null,null,null,null,null,null,null,null,null,null,null,null,null,null,null,null,null,null,null,null,null,null,null,null,null,null,null,null,null,null,null,null,null,null,null,null,null,null,null,null,null,null,null,null,null,{"$f":"IF(ISNUMBER(SEARCH($C$6,BU319)),MAX($BT$13:BT318)+1,0)","v":306},0,{"$f":"ROWS($BV$14:BV319)","v":306},{"$f":"IFERROR(VLOOKUP(ROWS($BW$14:BW319),$BT$14:$BU$5000,2,0),\"\")","v":0}]
[null,null,null,null,null,null,null,null,null,null,null,null,null,null,null,null,null,null,null,null,null,null,null,null,null,null,null,null,null,null,null,null,null,null,null,null,null,null,null,null,null,null,null,null,null,null,null,null,null,null,null,null,null,null,null,null,null,null,null,null,null,null,null,null,null,null,null,null,null,null,null,{"$f":"IF(ISNUMBER(SEARCH($C$6,BU320)),MAX($BT$13:BT319)+1,0)","v":307},0,{"$f":"ROWS($BV$14:BV320)","v":307},{"$f":"IFERROR(VLOOKUP(ROWS($BW$14:BW320),$BT$14:$BU$5000,2,0),\"\")","v":0}]
[null,null,null,null,null,null,null,null,null,null,null,null,null,null,null,null,null,null,null,null,null,null,null,null,null,null,null,null,null,null,null,null,null,null,null,null,null,null,null,null,null,null,null,null,null,null,null,null,null,null,null,null,null,null,null,null,null,null,null,null,null,null,null,null,null,null,null,null,null,null,null,{"$f":"IF(ISNUMBER(SEARCH($C$6,BU321)),MAX($BT$13:BT320)+1,0)","v":308},0,{"$f":"ROWS($BV$14:BV321)","v":308},{"$f":"IFERROR(VLOOKUP(ROWS($BW$14:BW321),$BT$14:$BU$5000,2,0),\"\")","v":0}]
[null,null,null,null,null,null,null,null,null,null,null,null,null,null,null,null,null,null,null,null,null,null,null,null,null,null,null,null,null,null,null,null,null,null,null,null,null,null,null,null,null,null,null,null,null,null,null,null,null,null,null,null,null,null,null,null,null,null,null,null,null,null,null,null,null,null,null,null,null,null,null,{"$f":"IF(ISNUMBER(SEARCH($C$6,BU322)),MAX($BT$13:BT321)+1,0)","v":309},0,{"$f":"ROWS($BV$14:BV322)","v":309},{"$f":"IFERROR(VLOOKUP(ROWS($BW$14:BW322),$BT$14:$BU$5000,2,0),\"\")","v":0}]
[null,null,null,null,null,null,null,null,null,null,null,null,null,null,null,null,null,null,null,null,null,null,null,null,null,null,null,null,null,null,null,null,null,null,null,null,null,null,null,null,null,null,null,null,null,null,null,null,null,null,null,null,null,null,null,null,null,null,null,null,null,null,null,null,null,null,null,null,null,null,null,{"$f":"IF(ISNUMBER(SEARCH($C$6,BU323)),MAX($BT$13:BT322)+1,0)","v":310},0,{"$f":"ROWS($BV$14:BV323)","v":310},{"$f":"IFERROR(VLOOKUP(ROWS($BW$14:BW323),$BT$14:$BU$5000,2,0),\"\")","v":0}]
[null,null,null,null,null,null,null,null,null,null,null,null,null,null,null,null,null,null,null,null,null,null,null,null,null,null,null,null,null,null,null,null,null,null,null,null,null,null,null,null,null,null,null,null,null,null,null,null,null,null,null,null,null,null,null,null,null,null,null,null,null,null,null,null,null,null,null,null,null,null,null,{"$f":"IF(ISNUMBER(SEARCH($C$6,BU324)),MAX($BT$13:BT323)+1,0)","v":311},0,{"$f":"ROWS($BV$14:BV324)","v":311},{"$f":"IFERROR(VLOOKUP(ROWS($BW$14:BW324),$BT$14:$BU$5000,2,0),\"\")","v":0}]
[null,null,null,null,null,null,null,null,null,null,null,null,null,null,null,null,null,null,null,null,null,null,null,null,null,null,null,null,null,null,null,null,null,null,null,null,null,null,null,null,null,null,null,null,null,null,null,null,null,null,null,null,null,null,null,null,null,null,null,null,null,null,null,null,null,null,null,null,null,null,null,{"$f":"IF(ISNUMBER(SEARCH($C$6,BU325)),MAX($BT$13:BT324)+1,0)","v":312},0,{"$f":"ROWS($BV$14:BV325)","v":312},{"$f":"IFERROR(VLOOKUP(ROWS($BW$14:BW325),$BT$14:$BU$5000,2,0),\"\")","v":0}]
[null,null,null,null,null,null,null,null,null,null,null,null,null,null,null,null,null,null,null,null,null,null,null,null,null,null,null,null,null,null,null,null,null,null,null,null,null,null,null,null,null,null,null,null,null,null,null,null,null,null,null,null,null,null,null,null,null,null,null,null,null,null,null,null,null,null,null,null,null,null,null,{"$f":"IF(ISNUMBER(SEARCH($C$6,BU326)),MAX($BT$13:BT325)+1,0)","v":313},0,{"$f":"ROWS($BV$14:BV326)","v":313},{"$f":"IFERROR(VLOOKUP(ROWS($BW$14:BW326),$BT$14:$BU$5000,2,0),\"\")","v":0}]
[null,null,null,null,null,null,null,null,null,null,null,null,null,null,null,null,null,null,null,null,null,null,null,null,null,null,null,null,null,null,null,null,null,null,null,null,null,null,null,null,null,null,null,null,null,null,null,null,null,null,null,null,null,null,null,null,null,null,null,null,null,null,null,null,null,null,null,null,null,null,null,{"$f":"IF(ISNUMBER(SEARCH($C$6,BU327)),MAX($BT$13:BT326)+1,0)","v":314},0,{"$f":"ROWS($BV$14:BV327)","v":314},{"$f":"IFERROR(VLOOKUP(ROWS($BW$14:BW327),$BT$14:$BU$5000,2,0),\"\")","v":0}]
[null,null,null,null,null,null,null,null,null,null,null,null,null,null,null,null,null,null,null,null,null,null,null,null,null,null,null,null,null,null,null,null,null,null,null,null,null,null,null,null,null,null,null,null,null,null,null,null,null,null,null,null,null,null,null,null,null,null,null,null,null,null,null,null,null,null,null,null,null,null,null,{"$f":"IF(ISNUMBER(SEARCH($C$6,BU328)),MAX($BT$13:BT327)+1,0)","v":315},0,{"$f":"ROWS($BV$14:BV328)","v":315},{"$f":"IFERROR(VLOOKUP(ROWS($BW$14:BW328),$BT$14:$BU$5000,2,0),\"\")","v":0}]
[null,null,null,null,null,null,null,null,null,null,null,null,null,null,null,null,null,null,null,null,null,null,null,null,null,null,null,null,null,null,null,null,null,null,null,null,null,null,null,null,null,null,null,null,null,null,null,null,null,null,null,null,null,null,null,null,null,null,null,null,null,null,null,null,null,null,null,null,null,null,null,{"$f":"IF(ISNUMBER(SEARCH($C$6,BU329)),MAX($BT$13:BT328)+1,0)","v":316},0,{"$f":"ROWS($BV$14:BV329)","v":316},{"$f":"IFERROR(VLOOKUP(ROWS($BW$14:BW329),$BT$14:$BU$5000,2,0),\"\")","v":0}]
[null,null,null,null,null,null,null,null,null,null,null,null,null,null,null,null,null,null,null,null,null,null,null,null,null,null,null,null,null,null,null,null,null,null,null,null,null,null,null,null,null,null,null,null,null,null,null,null,null,null,null,null,null,null,null,null,null,null,null,null,null,null,null,null,null,null,null,null,null,null,null,{"$f":"IF(ISNUMBER(SEARCH($C$6,BU330)),MAX($BT$13:BT329)+1,0)","v":317},0,{"$f":"ROWS($BV$14:BV330)","v":317},{"$f":"IFERROR(VLOOKUP(ROWS($BW$14:BW330),$BT$14:$BU$5000,2,0),\"\")","v":0}]
[null,null,null,null,null,null,null,null,null,null,null,null,null,null,null,null,null,null,null,null,null,null,null,null,null,null,null,null,null,null,null,null,null,null,null,null,null,null,null,null,null,null,null,null,null,null,null,null,null,null,null,null,null,null,null,null,null,null,null,null,null,null,null,null,null,null,null,null,null,null,null,{"$f":"IF(ISNUMBER(SEARCH($C$6,BU331)),MAX($BT$13:BT330)+1,0)","v":318},0,{"$f":"ROWS($BV$14:BV331)","v":318},{"$f":"IFERROR(VLOOKUP(ROWS($BW$14:BW331),$BT$14:$BU$5000,2,0),\"\")","v":0}]
[null,null,null,null,null,null,null,null,null,null,null,null,null,null,null,null,null,null,null,null,null,null,null,null,null,null,null,null,null,null,null,null,null,null,null,null,null,null,null,null,null,null,null,null,null,null,null,null,null,null,null,null,null,null,null,null,null,null,null,null,null,null,null,null,null,null,null,null,null,null,null,{"$f":"IF(ISNUMBER(SEARCH($C$6,BU332)),MAX($BT$13:BT331)+1,0)","v":319},0,{"$f":"ROWS($BV$14:BV332)","v":319},{"$f":"IFERROR(VLOOKUP(ROWS($BW$14:BW332),$BT$14:$BU$5000,2,0),\"\")","v":0}]
[null,null,null,null,null,null,null,null,null,null,null,null,null,null,null,null,null,null,null,null,null,null,null,null,null,null,null,null,null,null,null,null,null,null,null,null,null,null,null,null,null,null,null,null,null,null,null,null,null,null,null,null,null,null,null,null,null,null,null,null,null,null,null,null,null,null,null,null,null,null,null,{"$f":"IF(ISNUMBER(SEARCH($C$6,BU333)),MAX($BT$13:BT332)+1,0)","v":320},0,{"$f":"ROWS($BV$14:BV333)","v":320},{"$f":"IFERROR(VLOOKUP(ROWS($BW$14:BW333),$BT$14:$BU$5000,2,0),\"\")","v":0}]
[null,null,null,null,null,null,null,null,null,null,null,null,null,null,null,null,null,null,null,null,null,null,null,null,null,null,null,null,null,null,null,null,null,null,null,null,null,null,null,null,null,null,null,null,null,null,null,null,null,null,null,null,null,null,null,null,null,null,null,null,null,null,null,null,null,null,null,null,null,null,null,{"$f":"IF(ISNUMBER(SEARCH($C$6,BU334)),MAX($BT$13:BT333)+1,0)","v":321},0,{"$f":"ROWS($BV$14:BV334)","v":321},{"$f":"IFERROR(VLOOKUP(ROWS($BW$14:BW334),$BT$14:$BU$5000,2,0),\"\")","v":0}]
[null,null,null,null,null,null,null,null,null,null,null,null,null,null,null,null,null,null,null,null,null,null,null,null,null,null,null,null,null,null,null,null,null,null,null,null,null,null,null,null,null,null,null,null,null,null,null,null,null,null,null,null,null,null,null,null,null,null,null,null,null,null,null,null,null,null,null,null,null,null,null,{"$f":"IF(ISNUMBER(SEARCH($C$6,BU335)),MAX($BT$13:BT334)+1,0)","v":322},0,{"$f":"ROWS($BV$14:BV335)","v":322},{"$f":"IFERROR(VLOOKUP(ROWS($BW$14:BW335),$BT$14:$BU$5000,2,0),\"\")","v":0}]
[null,null,null,null,null,null,null,null,null,null,null,null,null,null,null,null,null,null,null,null,null,null,null,null,null,null,null,null,null,null,null,null,null,null,null,null,null,null,null,null,null,null,null,null,null,null,null,null,null,null,null,null,null,null,null,null,null,null,null,null,null,null,null,null,null,null,null,null,null,null,null,{"$f":"IF(ISNUMBER(SEARCH($C$6,BU336)),MAX($BT$13:BT335)+1,0)","v":323},0,{"$f":"ROWS($BV$14:BV336)","v":323},{"$f":"IFERROR(VLOOKUP(ROWS($BW$14:BW336),$BT$14:$BU$5000,2,0),\"\")","v":0}]
[null,null,null,null,null,null,null,null,null,null,null,null,null,null,null,null,null,null,null,null,null,null,null,null,null,null,null,null,null,null,null,null,null,null,null,null,null,null,null,null,null,null,null,null,null,null,null,null,null,null,null,null,null,null,null,null,null,null,null,null,null,null,null,null,null,null,null,null,null,null,null,{"$f":"IF(ISNUMBER(SEARCH($C$6,BU337)),MAX($BT$13:BT336)+1,0)","v":324},0,{"$f":"ROWS($BV$14:BV337)","v":324},{"$f":"IFERROR(VLOOKUP(ROWS($BW$14:BW337),$BT$14:$BU$5000,2,0),\"\")","v":0}]
[null,null,null,null,null,null,null,null,null,null,null,null,null,null,null,null,null,null,null,null,null,null,null,null,null,null,null,null,null,null,null,null,null,null,null,null,null,null,null,null,null,null,null,null,null,null,null,null,null,null,null,null,null,null,null,null,null,null,null,null,null,null,null,null,null,null,null,null,null,null,null,{"$f":"IF(ISNUMBER(SEARCH($C$6,BU338)),MAX($BT$13:BT337)+1,0)","v":325},0,{"$f":"ROWS($BV$14:BV338)","v":325},{"$f":"IFERROR(VLOOKUP(ROWS($BW$14:BW338),$BT$14:$BU$5000,2,0),\"\")","v":0}]
[null,null,null,null,null,null,null,null,null,null,null,null,null,null,null,null,null,null,null,null,null,null,null,null,null,null,null,null,null,null,null,null,null,null,null,null,null,null,null,null,null,null,null,null,null,null,null,null,null,null,null,null,null,null,null,null,null,null,null,null,null,null,null,null,null,null,null,null,null,null,null,{"$f":"IF(ISNUMBER(SEARCH($C$6,BU339)),MAX($BT$13:BT338)+1,0)","v":326},0,{"$f":"ROWS($BV$14:BV339)","v":326},{"$f":"IFERROR(VLOOKUP(ROWS($BW$14:BW339),$BT$14:$BU$5000,2,0),\"\")","v":0}]
[null,null,null,null,null,null,null,null,null,null,null,null,null,null,null,null,null,null,null,null,null,null,null,null,null,null,null,null,null,null,null,null,null,null,null,null,null,null,null,null,null,null,null,null,null,null,null,null,null,null,null,null,null,null,null,null,null,null,null,null,null,null,null,null,null,null,null,null,null,null,null,{"$f":"IF(ISNUMBER(SEARCH($C$6,BU340)),MAX($BT$13:BT339)+1,0)","v":327},0,{"$f":"ROWS($BV$14:BV340)","v":327},{"$f":"IFERROR(VLOOKUP(ROWS($BW$14:BW340),$BT$14:$BU$5000,2,0),\"\")","v":0}]
[null,null,null,null,null,null,null,null,null,null,null,null,null,null,null,null,null,null,null,null,null,null,null,null,null,null,null,null,null,null,null,null,null,null,null,null,null,null,null,null,null,null,null,null,null,null,null,null,null,null,null,null,null,null,null,null,null,null,null,null,null,null,null,null,null,null,null,null,null,null,null,{"$f":"IF(ISNUMBER(SEARCH($C$6,BU341)),MAX($BT$13:BT340)+1,0)","v":328},0,{"$f":"ROWS($BV$14:BV341)","v":328},{"$f":"IFERROR(VLOOKUP(ROWS($BW$14:BW341),$BT$14:$BU$5000,2,0),\"\")","v":0}]
[null,null,null,null,null,null,null,null,null,null,null,null,null,null,null,null,null,null,null,null,null,null,null,null,null,null,null,null,null,null,null,null,null,null,null,null,null,null,null,null,null,null,null,null,null,null,null,null,null,null,null,null,null,null,null,null,null,null,null,null,null,null,null,null,null,null,null,null,null,null,null,{"$f":"IF(ISNUMBER(SEARCH($C$6,BU342)),MAX($BT$13:BT341)+1,0)","v":329},0,{"$f":"ROWS($BV$14:BV342)","v":329},{"$f":"IFERROR(VLOOKUP(ROWS($BW$14:BW342),$BT$14:$BU$5000,2,0),\"\")","v":0}]
[null,null,null,null,null,null,null,null,null,null,null,null,null,null,null,null,null,null,null,null,null,null,null,null,null,null,null,null,null,null,null,null,null,null,null,null,null,null,null,null,null,null,null,null,null,null,null,null,null,null,null,null,null,null,null,null,null,null,null,null,null,null,null,null,null,null,null,null,null,null,null,{"$f":"IF(ISNUMBER(SEARCH($C$6,BU343)),MAX($BT$13:BT342)+1,0)","v":330},0,{"$f":"ROWS($BV$14:BV343)","v":330},{"$f":"IFERROR(VLOOKUP(ROWS($BW$14:BW343),$BT$14:$BU$5000,2,0),\"\")","v":0}]
[null,null,null,null,null,null,null,null,null,null,null,null,null,null,null,null,null,null,null,null,null,null,null,null,null,null,null,null,null,null,null,null,null,null,null,null,null,null,null,null,null,null,null,null,null,null,null,null,null,null,null,null,null,null,null,null,null,null,null,null,null,null,null,null,null,null,null,null,null,null,null,{"$f":"IF(ISNUMBER(SEARCH($C$6,BU344)),MAX($BT$13:BT343)+1,0)","v":331},0,{"$f":"ROWS($BV$14:BV344)","v":331},{"$f":"IFERROR(VLOOKUP(ROWS($BW$14:BW344),$BT$14:$BU$5000,2,0),\"\")","v":0}]
[null,null,null,null,null,null,null,null,null,null,null,null,null,null,null,null,null,null,null,null,null,null,null,null,null,null,null,null,null,null,null,null,null,null,null,null,null,null,null,null,null,null,null,null,null,null,null,null,null,null,null,null,null,null,null,null,null,null,null,null,null,null,null,null,null,null,null,null,null,null,null,{"$f":"IF(ISNUMBER(SEARCH($C$6,BU345)),MAX($BT$13:BT344)+1,0)","v":332},0,{"$f":"ROWS($BV$14:BV345)","v":332},{"$f":"IFERROR(VLOOKUP(ROWS($BW$14:BW345),$BT$14:$BU$5000,2,0),\"\")","v":0}]
[null,null,null,null,null,null,null,null,null,null,null,null,null,null,null,null,null,null,null,null,null,null,null,null,null,null,null,null,null,null,null,null,null,null,null,null,null,null,null,null,null,null,null,null,null,null,null,null,null,null,null,null,null,null,null,null,null,null,null,null,null,null,null,null,null,null,null,null,null,null,null,{"$f":"IF(ISNUMBER(SEARCH($C$6,BU346)),MAX($BT$13:BT345)+1,0)","v":333},0,{"$f":"ROWS($BV$14:BV346)","v":333},{"$f":"IFERROR(VLOOKUP(ROWS($BW$14:BW346),$BT$14:$BU$5000,2,0),\"\")","v":0}]
[null,null,null,null,null,null,null,null,null,null,null,null,null,null,null,null,null,null,null,null,null,null,null,null,null,null,null,null,null,null,null,null,null,null,null,null,null,null,null,null,null,null,null,null,null,null,null,null,null,null,null,null,null,null,null,null,null,null,null,null,null,null,null,null,null,null,null,null,null,null,null,{"$f":"IF(ISNUMBER(SEARCH($C$6,BU347)),MAX($BT$13:BT346)+1,0)","v":334},0,{"$f":"ROWS($BV$14:BV347)","v":334},{"$f":"IFERROR(VLOOKUP(ROWS($BW$14:BW347),$BT$14:$BU$5000,2,0),\"\")","v":0}]
[null,null,null,null,null,null,null,null,null,null,null,null,null,null,null,null,null,null,null,null,null,null,null,null,null,null,null,null,null,null,null,null,null,null,null,null,null,null,null,null,null,null,null,null,null,null,null,null,null,null,null,null,null,null,null,null,null,null,null,null,null,null,null,null,null,null,null,null,null,null,null,{"$f":"IF(ISNUMBER(SEARCH($C$6,BU348)),MAX($BT$13:BT347)+1,0)","v":335},0,{"$f":"ROWS($BV$14:BV348)","v":335},{"$f":"IFERROR(VLOOKUP(ROWS($BW$14:BW348),$BT$14:$BU$5000,2,0),\"\")","v":0}]
[null,null,null,null,null,null,null,null,null,null,null,null,null,null,null,null,null,null,null,null,null,null,null,null,null,null,null,null,null,null,null,null,null,null,null,null,null,null,null,null,null,null,null,null,null,null,null,null,null,null,null,null,null,null,null,null,null,null,null,null,null,null,null,null,null,null,null,null,null,null,null,{"$f":"IF(ISNUMBER(SEARCH($C$6,BU349)),MAX($BT$13:BT348)+1,0)","v":336},0,{"$f":"ROWS($BV$14:BV349)","v":336},{"$f":"IFERROR(VLOOKUP(ROWS($BW$14:BW349),$BT$14:$BU$5000,2,0),\"\")","v":0}]
[null,null,null,null,null,null,null,null,null,null,null,null,null,null,null,null,null,null,null,null,null,null,null,null,null,null,null,null,null,null,null,null,null,null,null,null,null,null,null,null,null,null,null,null,null,null,null,null,null,null,null,null,null,null,null,null,null,null,null,null,null,null,null,null,null,null,null,null,null,null,null,{"$f":"IF(ISNUMBER(SEARCH($C$6,BU350)),MAX($BT$13:BT349)+1,0)","v":337},0,{"$f":"ROWS($BV$14:BV350)","v":337},{"$f":"IFERROR(VLOOKUP(ROWS($BW$14:BW350),$BT$14:$BU$5000,2,0),\"\")","v":0}]
[null,null,null,null,null,null,null,null,null,null,null,null,null,null,null,null,null,null,null,null,null,null,null,null,null,null,null,null,null,null,null,null,null,null,null,null,null,null,null,null,null,null,null,null,null,null,null,null,null,null,null,null,null,null,null,null,null,null,null,null,null,null,null,null,null,null,null,null,null,null,null,{"$f":"IF(ISNUMBER(SEARCH($C$6,BU351)),MAX($BT$13:BT350)+1,0)","v":338},0,{"$f":"ROWS($BV$14:BV351)","v":338},{"$f":"IFERROR(VLOOKUP(ROWS($BW$14:BW351),$BT$14:$BU$5000,2,0),\"\")","v":0}]
[null,null,null,null,null,null,null,null,null,null,null,null,null,null,null,null,null,null,null,null,null,null,null,null,null,null,null,null,null,null,null,null,null,null,null,null,null,null,null,null,null,null,null,null,null,null,null,null,null,null,null,null,null,null,null,null,null,null,null,null,null,null,null,null,null,null,null,null,null,null,null,{"$f":"IF(ISNUMBER(SEARCH($C$6,BU352)),MAX($BT$13:BT351)+1,0)","v":339},0,{"$f":"ROWS($BV$14:BV352)","v":339},{"$f":"IFERROR(VLOOKUP(ROWS($BW$14:BW352),$BT$14:$BU$5000,2,0),\"\")","v":0}]
[null,null,null,null,null,null,null,null,null,null,null,null,null,null,null,null,null,null,null,null,null,null,null,null,null,null,null,null,null,null,null,null,null,null,null,null,null,null,null,null,null,null,null,null,null,null,null,null,null,null,null,null,null,null,null,null,null,null,null,null,null,null,null,null,null,null,null,null,null,null,null,{"$f":"IF(ISNUMBER(SEARCH($C$6,BU353)),MAX($BT$13:BT352)+1,0)","v":340},0,{"$f":"ROWS($BV$14:BV353)","v":340},{"$f":"IFERROR(VLOOKUP(ROWS($BW$14:BW353),$BT$14:$BU$5000,2,0),\"\")","v":0}]
[null,null,null,null,null,null,null,null,null,null,null,null,null,null,null,null,null,null,null,null,null,null,null,null,null,null,null,null,null,null,null,null,null,null,null,null,null,null,null,null,null,null,null,null,null,null,null,null,null,null,null,null,null,null,null,null,null,null,null,null,null,null,null,null,null,null,null,null,null,null,null,{"$f":"IF(ISNUMBER(SEARCH($C$6,BU354)),MAX($BT$13:BT353)+1,0)","v":341},0,{"$f":"ROWS($BV$14:BV354)","v":341},{"$f":"IFERROR(VLOOKUP(ROWS($BW$14:BW354),$BT$14:$BU$5000,2,0),\"\")","v":0}]
[null,null,null,null,null,null,null,null,null,null,null,null,null,null,null,null,null,null,null,null,null,null,null,null,null,null,null,null,null,null,null,null,null,null,null,null,null,null,null,null,null,null,null,null,null,null,null,null,null,null,null,null,null,null,null,null,null,null,null,null,null,null,null,null,null,null,null,null,null,null,null,{"$f":"IF(ISNUMBER(SEARCH($C$6,BU355)),MAX($BT$13:BT354)+1,0)","v":342},0,{"$f":"ROWS($BV$14:BV355)","v":342},{"$f":"IFERROR(VLOOKUP(ROWS($BW$14:BW355),$BT$14:$BU$5000,2,0),\"\")","v":0}]
[null,null,null,null,null,null,null,null,null,null,null,null,null,null,null,null,null,null,null,null,null,null,null,null,null,null,null,null,null,null,null,null,null,null,null,null,null,null,null,null,null,null,null,null,null,null,null,null,null,null,null,null,null,null,null,null,null,null,null,null,null,null,null,null,null,null,null,null,null,null,null,{"$f":"IF(ISNUMBER(SEARCH($C$6,BU356)),MAX($BT$13:BT355)+1,0)","v":343},0,{"$f":"ROWS($BV$14:BV356)","v":343},{"$f":"IFERROR(VLOOKUP(ROWS($BW$14:BW356),$BT$14:$BU$5000,2,0),\"\")","v":0}]
[null,null,null,null,null,null,null,null,null,null,null,null,null,null,null,null,null,null,null,null,null,null,null,null,null,null,null,null,null,null,null,null,null,null,null,null,null,null,null,null,null,null,null,null,null,null,null,null,null,null,null,null,null,null,null,null,null,null,null,null,null,null,null,null,null,null,null,null,null,null,null,{"$f":"IF(ISNUMBER(SEARCH($C$6,BU357)),MAX($BT$13:BT356)+1,0)","v":344},0,{"$f":"ROWS($BV$14:BV357)","v":344},{"$f":"IFERROR(VLOOKUP(ROWS($BW$14:BW357),$BT$14:$BU$5000,2,0),\"\")","v":0}]
[null,null,null,null,null,null,null,null,null,null,null,null,null,null,null,null,null,null,null,null,null,null,null,null,null,null,null,null,null,null,null,null,null,null,null,null,null,null,null,null,null,null,null,null,null,null,null,null,null,null,null,null,null,null,null,null,null,null,null,null,null,null,null,null,null,null,null,null,null,null,null,{"$f":"IF(ISNUMBER(SEARCH($C$6,BU358)),MAX($BT$13:BT357)+1,0)","v":345},0,{"$f":"ROWS($BV$14:BV358)","v":345},{"$f":"IFERROR(VLOOKUP(ROWS($BW$14:BW358),$BT$14:$BU$5000,2,0),\"\")","v":0}]
[null,null,null,null,null,null,null,null,null,null,null,null,null,null,null,null,null,null,null,null,null,null,null,null,null,null,null,null,null,null,null,null,null,null,null,null,null,null,null,null,null,null,null,null,null,null,null,null,null,null,null,null,null,null,null,null,null,null,null,null,null,null,null,null,null,null,null,null,null,null,null,{"$f":"IF(ISNUMBER(SEARCH($C$6,BU359)),MAX($BT$13:BT358)+1,0)","v":346},0,{"$f":"ROWS($BV$14:BV359)","v":346},{"$f":"IFERROR(VLOOKUP(ROWS($BW$14:BW359),$BT$14:$BU$5000,2,0),\"\")","v":0}]
[null,null,null,null,null,null,null,null,null,null,null,null,null,null,null,null,null,null,null,null,null,null,null,null,null,null,null,null,null,null,null,null,null,null,null,null,null,null,null,null,null,null,null,null,null,null,null,null,null,null,null,null,null,null,null,null,null,null,null,null,null,null,null,null,null,null,null,null,null,null,null,{"$f":"IF(ISNUMBER(SEARCH($C$6,BU360)),MAX($BT$13:BT359)+1,0)","v":347},0,{"$f":"ROWS($BV$14:BV360)","v":347},{"$f":"IFERROR(VLOOKUP(ROWS($BW$14:BW360),$BT$14:$BU$5000,2,0),\"\")","v":0}]
[null,null,null,null,null,null,null,null,null,null,null,null,null,null,null,null,null,null,null,null,null,null,null,null,null,null,null,null,null,null,null,null,null,null,null,null,null,null,null,null,null,null,null,null,null,null,null,null,null,null,null,null,null,null,null,null,null,null,null,null,null,null,null,null,null,null,null,null,null,null,null,{"$f":"IF(ISNUMBER(SEARCH($C$6,BU361)),MAX($BT$13:BT360)+1,0)","v":348},0,{"$f":"ROWS($BV$14:BV361)","v":348},{"$f":"IFERROR(VLOOKUP(ROWS($BW$14:BW361),$BT$14:$BU$5000,2,0),\"\")","v":0}]
[null,null,null,null,null,null,null,null,null,null,null,null,null,null,null,null,null,null,null,null,null,null,null,null,null,null,null,null,null,null,null,null,null,null,null,null,null,null,null,null,null,null,null,null,null,null,null,null,null,null,null,null,null,null,null,null,null,null,null,null,null,null,null,null,null,null,null,null,null,null,null,{"$f":"IF(ISNUMBER(SEARCH($C$6,BU362)),MAX($BT$13:BT361)+1,0)","v":349},0,{"$f":"ROWS($BV$14:BV362)","v":349},{"$f":"IFERROR(VLOOKUP(ROWS($BW$14:BW362),$BT$14:$BU$5000,2,0),\"\")","v":0}]
[null,null,null,null,null,null,null,null,null,null,null,null,null,null,null,null,null,null,null,null,null,null,null,null,null,null,null,null,null,null,null,null,null,null,null,null,null,null,null,null,null,null,null,null,null,null,null,null,null,null,null,null,null,null,null,null,null,null,null,null,null,null,null,null,null,null,null,null,null,null,null,{"$f":"IF(ISNUMBER(SEARCH($C$6,BU363)),MAX($BT$13:BT362)+1,0)","v":350},0,{"$f":"ROWS($BV$14:BV363)","v":350},{"$f":"IFERROR(VLOOKUP(ROWS($BW$14:BW363),$BT$14:$BU$5000,2,0),\"\")","v":0}]
[null,null,null,null,null,null,null,null,null,null,null,null,null,null,null,null,null,null,null,null,null,null,null,null,null,null,null,null,null,null,null,null,null,null,null,null,null,null,null,null,null,null,null,null,null,null,null,null,null,null,null,null,null,null,null,null,null,null,null,null,null,null,null,null,null,null,null,null,null,null,null,{"$f":"IF(ISNUMBER(SEARCH($C$6,BU364)),MAX($BT$13:BT363)+1,0)","v":351},0,{"$f":"ROWS($BV$14:BV364)","v":351},{"$f":"IFERROR(VLOOKUP(ROWS($BW$14:BW364),$BT$14:$BU$5000,2,0),\"\")","v":0}]
[null,null,null,null,null,null,null,null,null,null,null,null,null,null,null,null,null,null,null,null,null,null,null,null,null,null,null,null,null,null,null,null,null,null,null,null,null,null,null,null,null,null,null,null,null,null,null,null,null,null,null,null,null,null,null,null,null,null,null,null,null,null,null,null,null,null,null,null,null,null,null,{"$f":"IF(ISNUMBER(SEARCH($C$6,BU365)),MAX($BT$13:BT364)+1,0)","v":352},0,{"$f":"ROWS($BV$14:BV365)","v":352},{"$f":"IFERROR(VLOOKUP(ROWS($BW$14:BW365),$BT$14:$BU$5000,2,0),\"\")","v":0}]
[null,null,null,null,null,null,null,null,null,null,null,null,null,null,null,null,null,null,null,null,null,null,null,null,null,null,null,null,null,null,null,null,null,null,null,null,null,null,null,null,null,null,null,null,null,null,null,null,null,null,null,null,null,null,null,null,null,null,null,null,null,null,null,null,null,null,null,null,null,null,null,{"$f":"IF(ISNUMBER(SEARCH($C$6,BU366)),MAX($BT$13:BT365)+1,0)","v":353},0,{"$f":"ROWS($BV$14:BV366)","v":353},{"$f":"IFERROR(VLOOKUP(ROWS($BW$14:BW366),$BT$14:$BU$5000,2,0),\"\")","v":0}]
[null,null,null,null,null,null,null,null,null,null,null,null,null,null,null,null,null,null,null,null,null,null,null,null,null,null,null,null,null,null,null,null,null,null,null,null,null,null,null,null,null,null,null,null,null,null,null,null,null,null,null,null,null,null,null,null,null,null,null,null,null,null,null,null,null,null,null,null,null,null,null,{"$f":"IF(ISNUMBER(SEARCH($C$6,BU367)),MAX($BT$13:BT366)+1,0)","v":354},0,{"$f":"ROWS($BV$14:BV367)","v":354},{"$f":"IFERROR(VLOOKUP(ROWS($BW$14:BW367),$BT$14:$BU$5000,2,0),\"\")","v":0}]
[null,null,null,null,null,null,null,null,null,null,null,null,null,null,null,null,null,null,null,null,null,null,null,null,null,null,null,null,null,null,null,null,null,null,null,null,null,null,null,null,null,null,null,null,null,null,null,null,null,null,null,null,null,null,null,null,null,null,null,null,null,null,null,null,null,null,null,null,null,null,null,{"$f":"IF(ISNUMBER(SEARCH($C$6,BU368)),MAX($BT$13:BT367)+1,0)","v":355},0,{"$f":"ROWS($BV$14:BV368)","v":355},{"$f":"IFERROR(VLOOKUP(ROWS($BW$14:BW368),$BT$14:$BU$5000,2,0),\"\")","v":0}]
[null,null,null,null,null,null,null,null,null,null,null,null,null,null,null,null,null,null,null,null,null,null,null,null,null,null,null,null,null,null,null,null,null,null,null,null,null,null,null,null,null,null,null,null,null,null,null,null,null,null,null,null,null,null,null,null,null,null,null,null,null,null,null,null,null,null,null,null,null,null,null,{"$f":"IF(ISNUMBER(SEARCH($C$6,BU369)),MAX($BT$13:BT368)+1,0)","v":356},0,{"$f":"ROWS($BV$14:BV369)","v":356},{"$f":"IFERROR(VLOOKUP(ROWS($BW$14:BW369),$BT$14:$BU$5000,2,0),\"\")","v":0}]
[null,null,null,null,null,null,null,null,null,null,null,null,null,null,null,null,null,null,null,null,null,null,null,null,null,null,null,null,null,null,null,null,null,null,null,null,null,null,null,null,null,null,null,null,null,null,null,null,null,null,null,null,null,null,null,null,null,null,null,null,null,null,null,null,null,null,null,null,null,null,null,{"$f":"IF(ISNUMBER(SEARCH($C$6,BU370)),MAX($BT$13:BT369)+1,0)","v":357},0,{"$f":"ROWS($BV$14:BV370)","v":357},{"$f":"IFERROR(VLOOKUP(ROWS($BW$14:BW370),$BT$14:$BU$5000,2,0),\"\")","v":0}]
[null,null,null,null,null,null,null,null,null,null,null,null,null,null,null,null,null,null,null,null,null,null,null,null,null,null,null,null,null,null,null,null,null,null,null,null,null,null,null,null,null,null,null,null,null,null,null,null,null,null,null,null,null,null,null,null,null,null,null,null,null,null,null,null,null,null,null,null,null,null,null,{"$f":"IF(ISNUMBER(SEARCH($C$6,BU371)),MAX($BT$13:BT370)+1,0)","v":358},0,{"$f":"ROWS($BV$14:BV371)","v":358},{"$f":"IFERROR(VLOOKUP(ROWS($BW$14:BW371),$BT$14:$BU$5000,2,0),\"\")","v":0}]
[null,null,null,null,null,null,null,null,null,null,null,null,null,null,null,null,null,null,null,null,null,null,null,null,null,null,null,null,null,null,null,null,null,null,null,null,null,null,null,null,null,null,null,null,null,null,null,null,null,null,null,null,null,null,null,null,null,null,null,null,null,null,null,null,null,null,null,null,null,null,null,{"$f":"IF(ISNUMBER(SEARCH($C$6,BU372)),MAX($BT$13:BT371)+1,0)","v":359},0,{"$f":"ROWS($BV$14:BV372)","v":359},{"$f":"IFERROR(VLOOKUP(ROWS($BW$14:BW372),$BT$14:$BU$5000,2,0),\"\")","v":0}]
[null,null,null,null,null,null,null,null,null,null,null,null,null,null,null,null,null,null,null,null,null,null,null,null,null,null,null,null,null,null,null,null,null,null,null,null,null,null,null,null,null,null,null,null,null,null,null,null,null,null,null,null,null,null,null,null,null,null,null,null,null,null,null,null,null,null,null,null,null,null,null,{"$f":"IF(ISNUMBER(SEARCH($C$6,BU373)),MAX($BT$13:BT372)+1,0)","v":360},0,{"$f":"ROWS($BV$14:BV373)","v":360},{"$f":"IFERROR(VLOOKUP(ROWS($BW$14:BW373),$BT$14:$BU$5000,2,0),\"\")","v":0}]
[null,null,null,null,null,null,null,null,null,null,null,null,null,null,null,null,null,null,null,null,null,null,null,null,null,null,null,null,null,null,null,null,null,null,null,null,null,null,null,null,null,null,null,null,null,null,null,null,null,null,null,null,null,null,null,null,null,null,null,null,null,null,null,null,null,null,null,null,null,null,null,{"$f":"IF(ISNUMBER(SEARCH($C$6,BU374)),MAX($BT$13:BT373)+1,0)","v":361},0,{"$f":"ROWS($BV$14:BV374)","v":361},{"$f":"IFERROR(VLOOKUP(ROWS($BW$14:BW374),$BT$14:$BU$5000,2,0),\"\")","v":0}]
[null,null,null,null,null,null,null,null,null,null,null,null,null,null,null,null,null,null,null,null,null,null,null,null,null,null,null,null,null,null,null,null,null,null,null,null,null,null,null,null,null,null,null,null,null,null,null,null,null,null,null,null,null,null,null,null,null,null,null,null,null,null,null,null,null,null,null,null,null,null,null,{"$f":"IF(ISNUMBER(SEARCH($C$6,BU375)),MAX($BT$13:BT374)+1,0)","v":362},0,{"$f":"ROWS($BV$14:BV375)","v":362},{"$f":"IFERROR(VLOOKUP(ROWS($BW$14:BW375),$BT$14:$BU$5000,2,0),\"\")","v":0}]
[null,null,null,null,null,null,null,null,null,null,null,null,null,null,null,null,null,null,null,null,null,null,null,null,null,null,null,null,null,null,null,null,null,null,null,null,null,null,null,null,null,null,null,null,null,null,null,null,null,null,null,null,null,null,null,null,null,null,null,null,null,null,null,null,null,null,null,null,null,null,null,{"$f":"IF(ISNUMBER(SEARCH($C$6,BU376)),MAX($BT$13:BT375)+1,0)","v":363},0,{"$f":"ROWS($BV$14:BV376)","v":363},{"$f":"IFERROR(VLOOKUP(ROWS($BW$14:BW376),$BT$14:$BU$5000,2,0),\"\")","v":0}]
[null,null,null,null,null,null,null,null,null,null,null,null,null,null,null,null,null,null,null,null,null,null,null,null,null,null,null,null,null,null,null,null,null,null,null,null,null,null,null,null,null,null,null,null,null,null,null,null,null,null,null,null,null,null,null,null,null,null,null,null,null,null,null,null,null,null,null,null,null,null,null,{"$f":"IF(ISNUMBER(SEARCH($C$6,BU377)),MAX($BT$13:BT376)+1,0)","v":364},0,{"$f":"ROWS($BV$14:BV377)","v":364},{"$f":"IFERROR(VLOOKUP(ROWS($BW$14:BW377),$BT$14:$BU$5000,2,0),\"\")","v":0}]
[null,null,null,null,null,null,null,null,null,null,null,null,null,null,null,null,null,null,null,null,null,null,null,null,null,null,null,null,null,null,null,null,null,null,null,null,null,null,null,null,null,null,null,null,null,null,null,null,null,null,null,null,null,null,null,null,null,null,null,null,null,null,null,null,null,null,null,null,null,null,null,{"$f":"IF(ISNUMBER(SEARCH($C$6,BU378)),MAX($BT$13:BT377)+1,0)","v":365},0,{"$f":"ROWS($BV$14:BV378)","v":365},{"$f":"IFERROR(VLOOKUP(ROWS($BW$14:BW378),$BT$14:$BU$5000,2,0),\"\")","v":0}]
[null,null,null,null,null,null,null,null,null,null,null,null,null,null,null,null,null,null,null,null,null,null,null,null,null,null,null,null,null,null,null,null,null,null,null,null,null,null,null,null,null,null,null,null,null,null,null,null,null,null,null,null,null,null,null,null,null,null,null,null,null,null,null,null,null,null,null,null,null,null,null,{"$f":"IF(ISNUMBER(SEARCH($C$6,BU379)),MAX($BT$13:BT378)+1,0)","v":366},0,{"$f":"ROWS($BV$14:BV379)","v":366},{"$f":"IFERROR(VLOOKUP(ROWS($BW$14:BW379),$BT$14:$BU$5000,2,0),\"\")","v":0}]
[null,null,null,null,null,null,null,null,null,null,null,null,null,null,null,null,null,null,null,null,null,null,null,null,null,null,null,null,null,null,null,null,null,null,null,null,null,null,null,null,null,null,null,null,null,null,null,null,null,null,null,null,null,null,null,null,null,null,null,null,null,null,null,null,null,null,null,null,null,null,null,{"$f":"IF(ISNUMBER(SEARCH($C$6,BU380)),MAX($BT$13:BT379)+1,0)","v":367},0,{"$f":"ROWS($BV$14:BV380)","v":367},{"$f":"IFERROR(VLOOKUP(ROWS($BW$14:BW380),$BT$14:$BU$5000,2,0),\"\")","v":0}]
[null,null,null,null,null,null,null,null,null,null,null,null,null,null,null,null,null,null,null,null,null,null,null,null,null,null,null,null,null,null,null,null,null,null,null,null,null,null,null,null,null,null,null,null,null,null,null,null,null,null,null,null,null,null,null,null,null,null,null,null,null,null,null,null,null,null,null,null,null,null,null,{"$f":"IF(ISNUMBER(SEARCH($C$6,BU381)),MAX($BT$13:BT380)+1,0)","v":368},0,{"$f":"ROWS($BV$14:BV381)","v":368},{"$f":"IFERROR(VLOOKUP(ROWS($BW$14:BW381),$BT$14:$BU$5000,2,0),\"\")","v":0}]
[null,null,null,null,null,null,null,null,null,null,null,null,null,null,null,null,null,null,null,null,null,null,null,null,null,null,null,null,null,null,null,null,null,null,null,null,null,null,null,null,null,null,null,null,null,null,null,null,null,null,null,null,null,null,null,null,null,null,null,null,null,null,null,null,null,null,null,null,null,null,null,{"$f":"IF(ISNUMBER(SEARCH($C$6,BU382)),MAX($BT$13:BT381)+1,0)","v":369},0,{"$f":"ROWS($BV$14:BV382)","v":369},{"$f":"IFERROR(VLOOKUP(ROWS($BW$14:BW382),$BT$14:$BU$5000,2,0),\"\")","v":0}]
[null,null,null,null,null,null,null,null,null,null,null,null,null,null,null,null,null,null,null,null,null,null,null,null,null,null,null,null,null,null,null,null,null,null,null,null,null,null,null,null,null,null,null,null,null,null,null,null,null,null,null,null,null,null,null,null,null,null,null,null,null,null,null,null,null,null,null,null,null,null,null,{"$f":"IF(ISNUMBER(SEARCH($C$6,BU383)),MAX($BT$13:BT382)+1,0)","v":370},0,{"$f":"ROWS($BV$14:BV383)","v":370},{"$f":"IFERROR(VLOOKUP(ROWS($BW$14:BW383),$BT$14:$BU$5000,2,0),\"\")","v":0}]
[null,null,null,null,null,null,null,null,null,null,null,null,null,null,null,null,null,null,null,null,null,null,null,null,null,null,null,null,null,null,null,null,null,null,null,null,null,null,null,null,null,null,null,null,null,null,null,null,null,null,null,null,null,null,null,null,null,null,null,null,null,null,null,null,null,null,null,null,null,null,null,{"$f":"IF(ISNUMBER(SEARCH($C$6,BU384)),MAX($BT$13:BT383)+1,0)","v":371},0,{"$f":"ROWS($BV$14:BV384)","v":371},{"$f":"IFERROR(VLOOKUP(ROWS($BW$14:BW384),$BT$14:$BU$5000,2,0),\"\")","v":0}]
[null,null,null,null,null,null,null,null,null,null,null,null,null,null,null,null,null,null,null,null,null,null,null,null,null,null,null,null,null,null,null,null,null,null,null,null,null,null,null,null,null,null,null,null,null,null,null,null,null,null,null,null,null,null,null,null,null,null,null,null,null,null,null,null,null,null,null,null,null,null,null,{"$f":"IF(ISNUMBER(SEARCH($C$6,BU385)),MAX($BT$13:BT384)+1,0)","v":372},0,{"$f":"ROWS($BV$14:BV385)","v":372},{"$f":"IFERROR(VLOOKUP(ROWS($BW$14:BW385),$BT$14:$BU$5000,2,0),\"\")","v":0}]
[null,null,null,null,null,null,null,null,null,null,null,null,null,null,null,null,null,null,null,null,null,null,null,null,null,null,null,null,null,null,null,null,null,null,null,null,null,null,null,null,null,null,null,null,null,null,null,null,null,null,null,null,null,null,null,null,null,null,null,null,null,null,null,null,null,null,null,null,null,null,null,{"$f":"IF(ISNUMBER(SEARCH($C$6,BU386)),MAX($BT$13:BT385)+1,0)","v":373},0,{"$f":"ROWS($BV$14:BV386)","v":373},{"$f":"IFERROR(VLOOKUP(ROWS($BW$14:BW386),$BT$14:$BU$5000,2,0),\"\")","v":0}]
[null,null,null,null,null,null,null,null,null,null,null,null,null,null,null,null,null,null,null,null,null,null,null,null,null,null,null,null,null,null,null,null,null,null,null,null,null,null,null,null,null,null,null,null,null,null,null,null,null,null,null,null,null,null,null,null,null,null,null,null,null,null,null,null,null,null,null,null,null,null,null,{"$f":"IF(ISNUMBER(SEARCH($C$6,BU387)),MAX($BT$13:BT386)+1,0)","v":374},0,{"$f":"ROWS($BV$14:BV387)","v":374},{"$f":"IFERROR(VLOOKUP(ROWS($BW$14:BW387),$BT$14:$BU$5000,2,0),\"\")","v":0}]
[null,null,null,null,null,null,null,null,null,null,null,null,null,null,null,null,null,null,null,null,null,null,null,null,null,null,null,null,null,null,null,null,null,null,null,null,null,null,null,null,null,null,null,null,null,null,null,null,null,null,null,null,null,null,null,null,null,null,null,null,null,null,null,null,null,null,null,null,null,null,null,{"$f":"IF(ISNUMBER(SEARCH($C$6,BU388)),MAX($BT$13:BT387)+1,0)","v":375},0,{"$f":"ROWS($BV$14:BV388)","v":375},{"$f":"IFERROR(VLOOKUP(ROWS($BW$14:BW388),$BT$14:$BU$5000,2,0),\"\")","v":0}]
[null,null,null,null,null,null,null,null,null,null,null,null,null,null,null,null,null,null,null,null,null,null,null,null,null,null,null,null,null,null,null,null,null,null,null,null,null,null,null,null,null,null,null,null,null,null,null,null,null,null,null,null,null,null,null,null,null,null,null,null,null,null,null,null,null,null,null,null,null,null,null,{"$f":"IF(ISNUMBER(SEARCH($C$6,BU389)),MAX($BT$13:BT388)+1,0)","v":376},0,{"$f":"ROWS($BV$14:BV389)","v":376},{"$f":"IFERROR(VLOOKUP(ROWS($BW$14:BW389),$BT$14:$BU$5000,2,0),\"\")","v":0}]
[null,null,null,null,null,null,null,null,null,null,null,null,null,null,null,null,null,null,null,null,null,null,null,null,null,null,null,null,null,null,null,null,null,null,null,null,null,null,null,null,null,null,null,null,null,null,null,null,null,null,null,null,null,null,null,null,null,null,null,null,null,null,null,null,null,null,null,null,null,null,null,{"$f":"IF(ISNUMBER(SEARCH($C$6,BU390)),MAX($BT$13:BT389)+1,0)","v":377},0,{"$f":"ROWS($BV$14:BV390)","v":377},{"$f":"IFERROR(VLOOKUP(ROWS($BW$14:BW390),$BT$14:$BU$5000,2,0),\"\")","v":0}]
[null,null,null,null,null,null,null,null,null,null,null,null,null,null,null,null,null,null,null,null,null,null,null,null,null,null,null,null,null,null,null,null,null,null,null,null,null,null,null,null,null,null,null,null,null,null,null,null,null,null,null,null,null,null,null,null,null,null,null,null,null,null,null,null,null,null,null,null,null,null,null,{"$f":"IF(ISNUMBER(SEARCH($C$6,BU391)),MAX($BT$13:BT390)+1,0)","v":378},0,{"$f":"ROWS($BV$14:BV391)","v":378},{"$f":"IFERROR(VLOOKUP(ROWS($BW$14:BW391),$BT$14:$BU$5000,2,0),\"\")","v":0}]
[null,null,null,null,null,null,null,null,null,null,null,null,null,null,null,null,null,null,null,null,null,null,null,null,null,null,null,null,null,null,null,null,null,null,null,null,null,null,null,null,null,null,null,null,null,null,null,null,null,null,null,null,null,null,null,null,null,null,null,null,null,null,null,null,null,null,null,null,null,null,null,{"$f":"IF(ISNUMBER(SEARCH($C$6,BU392)),MAX($BT$13:BT391)+1,0)","v":379},0,{"$f":"ROWS($BV$14:BV392)","v":379},{"$f":"IFERROR(VLOOKUP(ROWS($BW$14:BW392),$BT$14:$BU$5000,2,0),\"\")","v":0}]
[null,null,null,null,null,null,null,null,null,null,null,null,null,null,null,null,null,null,null,null,null,null,null,null,null,null,null,null,null,null,null,null,null,null,null,null,null,null,null,null,null,null,null,null,null,null,null,null,null,null,null,null,null,null,null,null,null,null,null,null,null,null,null,null,null,null,null,null,null,null,null,{"$f":"IF(ISNUMBER(SEARCH($C$6,BU393)),MAX($BT$13:BT392)+1,0)","v":380},0,{"$f":"ROWS($BV$14:BV393)","v":380},{"$f":"IFERROR(VLOOKUP(ROWS($BW$14:BW393),$BT$14:$BU$5000,2,0),\"\")","v":0}]
[null,null,null,null,null,null,null,null,null,null,null,null,null,null,null,null,null,null,null,null,null,null,null,null,null,null,null,null,null,null,null,null,null,null,null,null,null,null,null,null,null,null,null,null,null,null,null,null,null,null,null,null,null,null,null,null,null,null,null,null,null,null,null,null,null,null,null,null,null,null,null,{"$f":"IF(ISNUMBER(SEARCH($C$6,BU394)),MAX($BT$13:BT393)+1,0)","v":381},0,{"$f":"ROWS($BV$14:BV394)","v":381},{"$f":"IFERROR(VLOOKUP(ROWS($BW$14:BW394),$BT$14:$BU$5000,2,0),\"\")","v":0}]
[null,null,null,null,null,null,null,null,null,null,null,null,null,null,null,null,null,null,null,null,null,null,null,null,null,null,null,null,null,null,null,null,null,null,null,null,null,null,null,null,null,null,null,null,null,null,null,null,null,null,null,null,null,null,null,null,null,null,null,null,null,null,null,null,null,null,null,null,null,null,null,{"$f":"IF(ISNUMBER(SEARCH($C$6,BU395)),MAX($BT$13:BT394)+1,0)","v":382},0,{"$f":"ROWS($BV$14:BV395)","v":382},{"$f":"IFERROR(VLOOKUP(ROWS($BW$14:BW395),$BT$14:$BU$5000,2,0),\"\")","v":0}]
[null,null,null,null,null,null,null,null,null,null,null,null,null,null,null,null,null,null,null,null,null,null,null,null,null,null,null,null,null,null,null,null,null,null,null,null,null,null,null,null,null,null,null,null,null,null,null,null,null,null,null,null,null,null,null,null,null,null,null,null,null,null,null,null,null,null,null,null,null,null,null,{"$f":"IF(ISNUMBER(SEARCH($C$6,BU396)),MAX($BT$13:BT395)+1,0)","v":383},0,{"$f":"ROWS($BV$14:BV396)","v":383},{"$f":"IFERROR(VLOOKUP(ROWS($BW$14:BW396),$BT$14:$BU$5000,2,0),\"\")","v":0}]
[null,null,null,null,null,null,null,null,null,null,null,null,null,null,null,null,null,null,null,null,null,null,null,null,null,null,null,null,null,null,null,null,null,null,null,null,null,null,null,null,null,null,null,null,null,null,null,null,null,null,null,null,null,null,null,null,null,null,null,null,null,null,null,null,null,null,null,null,null,null,null,{"$f":"IF(ISNUMBER(SEARCH($C$6,BU397)),MAX($BT$13:BT396)+1,0)","v":384},0,{"$f":"ROWS($BV$14:BV397)","v":384},{"$f":"IFERROR(VLOOKUP(ROWS($BW$14:BW397),$BT$14:$BU$5000,2,0),\"\")","v":0}]
[null,null,null,null,null,null,null,null,null,null,null,null,null,null,null,null,null,null,null,null,null,null,null,null,null,null,null,null,null,null,null,null,null,null,null,null,null,null,null,null,null,null,null,null,null,null,null,null,null,null,null,null,null,null,null,null,null,null,null,null,null,null,null,null,null,null,null,null,null,null,null,{"$f":"IF(ISNUMBER(SEARCH($C$6,BU398)),MAX($BT$13:BT397)+1,0)","v":385},0,{"$f":"ROWS($BV$14:BV398)","v":385},{"$f":"IFERROR(VLOOKUP(ROWS($BW$14:BW398),$BT$14:$BU$5000,2,0),\"\")","v":0}]
[null,null,null,null,null,null,null,null,null,null,null,null,null,null,null,null,null,null,null,null,null,null,null,null,null,null,null,null,null,null,null,null,null,null,null,null,null,null,null,null,null,null,null,null,null,null,null,null,null,null,null,null,null,null,null,null,null,null,null,null,null,null,null,null,null,null,null,null,null,null,null,{"$f":"IF(ISNUMBER(SEARCH($C$6,BU399)),MAX($BT$13:BT398)+1,0)","v":386},0,{"$f":"ROWS($BV$14:BV399)","v":386},{"$f":"IFERROR(VLOOKUP(ROWS($BW$14:BW399),$BT$14:$BU$5000,2,0),\"\")","v":0}]
[null,null,null,null,null,null,null,null,null,null,null,null,null,null,null,null,null,null,null,null,null,null,null,null,null,null,null,null,null,null,null,null,null,null,null,null,null,null,null,null,null,null,null,null,null,null,null,null,null,null,null,null,null,null,null,null,null,null,null,null,null,null,null,null,null,null,null,null,null,null,null,{"$f":"IF(ISNUMBER(SEARCH($C$6,BU400)),MAX($BT$13:BT399)+1,0)","v":387},0,{"$f":"ROWS($BV$14:BV400)","v":387},{"$f":"IFERROR(VLOOKUP(ROWS($BW$14:BW400),$BT$14:$BU$5000,2,0),\"\")","v":0}]
[null,null,null,null,null,null,null,null,null,null,null,null,null,null,null,null,null,null,null,null,null,null,null,null,null,null,null,null,null,null,null,null,null,null,null,null,null,null,null,null,null,null,null,null,null,null,null,null,null,null,null,null,null,null,null,null,null,null,null,null,null,null,null,null,null,null,null,null,null,null,null,{"$f":"IF(ISNUMBER(SEARCH($C$6,BU401)),MAX($BT$13:BT400)+1,0)","v":388},0,{"$f":"ROWS($BV$14:BV401)","v":388},{"$f":"IFERROR(VLOOKUP(ROWS($BW$14:BW401),$BT$14:$BU$5000,2,0),\"\")","v":0}]
[null,null,null,null,null,null,null,null,null,null,null,null,null,null,null,null,null,null,null,null,null,null,null,null,null,null,null,null,null,null,null,null,null,null,null,null,null,null,null,null,null,null,null,null,null,null,null,null,null,null,null,null,null,null,null,null,null,null,null,null,null,null,null,null,null,null,null,null,null,null,null,{"$f":"IF(ISNUMBER(SEARCH($C$6,BU402)),MAX($BT$13:BT401)+1,0)","v":389},0,{"$f":"ROWS($BV$14:BV402)","v":389},{"$f":"IFERROR(VLOOKUP(ROWS($BW$14:BW402),$BT$14:$BU$5000,2,0),\"\")","v":0}]
[null,null,null,null,null,null,null,null,null,null,null,null,null,null,null,null,null,null,null,null,null,null,null,null,null,null,null,null,null,null,null,null,null,null,null,null,null,null,null,null,null,null,null,null,null,null,null,null,null,null,null,null,null,null,null,null,null,null,null,null,null,null,null,null,null,null,null,null,null,null,null,{"$f":"IF(ISNUMBER(SEARCH($C$6,BU403)),MAX($BT$13:BT402)+1,0)","v":390},0,{"$f":"ROWS($BV$14:BV403)","v":390},{"$f":"IFERROR(VLOOKUP(ROWS($BW$14:BW403),$BT$14:$BU$5000,2,0),\"\")","v":0}]
[null,null,null,null,null,null,null,null,null,null,null,null,null,null,null,null,null,null,null,null,null,null,null,null,null,null,null,null,null,null,null,null,null,null,null,null,null,null,null,null,null,null,null,null,null,null,null,null,null,null,null,null,null,null,null,null,null,null,null,null,null,null,null,null,null,null,null,null,null,null,null,{"$f":"IF(ISNUMBER(SEARCH($C$6,BU404)),MAX($BT$13:BT403)+1,0)","v":391},0,{"$f":"ROWS($BV$14:BV404)","v":391},{"$f":"IFERROR(VLOOKUP(ROWS($BW$14:BW404),$BT$14:$BU$5000,2,0),\"\")","v":0}]
[null,null,null,null,null,null,null,null,null,null,null,null,null,null,null,null,null,null,null,null,null,null,null,null,null,null,null,null,null,null,null,null,null,null,null,null,null,null,null,null,null,null,null,null,null,null,null,null,null,null,null,null,null,null,null,null,null,null,null,null,null,null,null,null,null,null,null,null,null,null,null,{"$f":"IF(ISNUMBER(SEARCH($C$6,BU405)),MAX($BT$13:BT404)+1,0)","v":392},0,{"$f":"ROWS($BV$14:BV405)","v":392},{"$f":"IFERROR(VLOOKUP(ROWS($BW$14:BW405),$BT$14:$BU$5000,2,0),\"\")","v":0}]
[null,null,null,null,null,null,null,null,null,null,null,null,null,null,null,null,null,null,null,null,null,null,null,null,null,null,null,null,null,null,null,null,null,null,null,null,null,null,null,null,null,null,null,null,null,null,null,null,null,null,null,null,null,null,null,null,null,null,null,null,null,null,null,null,null,null,null,null,null,null,null,{"$f":"IF(ISNUMBER(SEARCH($C$6,BU406)),MAX($BT$13:BT405)+1,0)","v":393},0,{"$f":"ROWS($BV$14:BV406)","v":393},{"$f":"IFERROR(VLOOKUP(ROWS($BW$14:BW406),$BT$14:$BU$5000,2,0),\"\")","v":0}]
[null,null,null,null,null,null,null,null,null,null,null,null,null,null,null,null,null,null,null,null,null,null,null,null,null,null,null,null,null,null,null,null,null,null,null,null,null,null,null,null,null,null,null,null,null,null,null,null,null,null,null,null,null,null,null,null,null,null,null,null,null,null,null,null,null,null,null,null,null,null,null,{"$f":"IF(ISNUMBER(SEARCH($C$6,BU407)),MAX($BT$13:BT406)+1,0)","v":394},0,{"$f":"ROWS($BV$14:BV407)","v":394},{"$f":"IFERROR(VLOOKUP(ROWS($BW$14:BW407),$BT$14:$BU$5000,2,0),\"\")","v":0}]
[null,null,null,null,null,null,null,null,null,null,null,null,null,null,null,null,null,null,null,null,null,null,null,null,null,null,null,null,null,null,null,null,null,null,null,null,null,null,null,null,null,null,null,null,null,null,null,null,null,null,null,null,null,null,null,null,null,null,null,null,null,null,null,null,null,null,null,null,null,null,null,{"$f":"IF(ISNUMBER(SEARCH($C$6,BU408)),MAX($BT$13:BT407)+1,0)","v":395},0,{"$f":"ROWS($BV$14:BV408)","v":395},{"$f":"IFERROR(VLOOKUP(ROWS($BW$14:BW408),$BT$14:$BU$5000,2,0),\"\")","v":0}]
[null,null,null,null,null,null,null,null,null,null,null,null,null,null,null,null,null,null,null,null,null,null,null,null,null,null,null,null,null,null,null,null,null,null,null,null,null,null,null,null,null,null,null,null,null,null,null,null,null,null,null,null,null,null,null,null,null,null,null,null,null,null,null,null,null,null,null,null,null,null,null,{"$f":"IF(ISNUMBER(SEARCH($C$6,BU409)),MAX($BT$13:BT408)+1,0)","v":396},0,{"$f":"ROWS($BV$14:BV409)","v":396},{"$f":"IFERROR(VLOOKUP(ROWS($BW$14:BW409),$BT$14:$BU$5000,2,0),\"\")","v":0}]
[null,null,null,null,null,null,null,null,null,null,null,null,null,null,null,null,null,null,null,null,null,null,null,null,null,null,null,null,null,null,null,null,null,null,null,null,null,null,null,null,null,null,null,null,null,null,null,null,null,null,null,null,null,null,null,null,null,null,null,null,null,null,null,null,null,null,null,null,null,null,null,{"$f":"IF(ISNUMBER(SEARCH($C$6,BU410)),MAX($BT$13:BT409)+1,0)","v":397},0,{"$f":"ROWS($BV$14:BV410)","v":397},{"$f":"IFERROR(VLOOKUP(ROWS($BW$14:BW410),$BT$14:$BU$5000,2,0),\"\")","v":0}]
[null,null,null,null,null,null,null,null,null,null,null,null,null,null,null,null,null,null,null,null,null,null,null,null,null,null,null,null,null,null,null,null,null,null,null,null,null,null,null,null,null,null,null,null,null,null,null,null,null,null,null,null,null,null,null,null,null,null,null,null,null,null,null,null,null,null,null,null,null,null,null,{"$f":"IF(ISNUMBER(SEARCH($C$6,BU411)),MAX($BT$13:BT410)+1,0)","v":398},0,{"$f":"ROWS($BV$14:BV411)","v":398},{"$f":"IFERROR(VLOOKUP(ROWS($BW$14:BW411),$BT$14:$BU$5000,2,0),\"\")","v":0}]
[null,null,null,null,null,null,null,null,null,null,null,null,null,null,null,null,null,null,null,null,null,null,null,null,null,null,null,null,null,null,null,null,null,null,null,null,null,null,null,null,null,null,null,null,null,null,null,null,null,null,null,null,null,null,null,null,null,null,null,null,null,null,null,null,null,null,null,null,null,null,null,{"$f":"IF(ISNUMBER(SEARCH($C$6,BU412)),MAX($BT$13:BT411)+1,0)","v":399},0,{"$f":"ROWS($BV$14:BV412)","v":399},{"$f":"IFERROR(VLOOKUP(ROWS($BW$14:BW412),$BT$14:$BU$5000,2,0),\"\")","v":0}]
[null,null,null,null,null,null,null,null,null,null,null,null,null,null,null,null,null,null,null,null,null,null,null,null,null,null,null,null,null,null,null,null,null,null,null,null,null,null,null,null,null,null,null,null,null,null,null,null,null,null,null,null,null,null,null,null,null,null,null,null,null,null,null,null,null,null,null,null,null,null,null,{"$f":"IF(ISNUMBER(SEARCH($C$6,BU413)),MAX($BT$13:BT412)+1,0)","v":400},0,{"$f":"ROWS($BV$14:BV413)","v":400},{"$f":"IFERROR(VLOOKUP(ROWS($BW$14:BW413),$BT$14:$BU$5000,2,0),\"\")","v":0}]
[null,null,null,null,null,null,null,null,null,null,null,null,null,null,null,null,null,null,null,null,null,null,null,null,null,null,null,null,null,null,null,null,null,null,null,null,null,null,null,null,null,null,null,null,null,null,null,null,null,null,null,null,null,null,null,null,null,null,null,null,null,null,null,null,null,null,null,null,null,null,null,{"$f":"IF(ISNUMBER(SEARCH($C$6,BU414)),MAX($BT$13:BT413)+1,0)","v":401},0,{"$f":"ROWS($BV$14:BV414)","v":401},{"$f":"IFERROR(VLOOKUP(ROWS($BW$14:BW414),$BT$14:$BU$5000,2,0),\"\")","v":0}]
[null,null,null,null,null,null,null,null,null,null,null,null,null,null,null,null,null,null,null,null,null,null,null,null,null,null,null,null,null,null,null,null,null,null,null,null,null,null,null,null,null,null,null,null,null,null,null,null,null,null,null,null,null,null,null,null,null,null,null,null,null,null,null,null,null,null,null,null,null,null,null,{"$f":"IF(ISNUMBER(SEARCH($C$6,BU415)),MAX($BT$13:BT414)+1,0)","v":402},0,{"$f":"ROWS($BV$14:BV415)","v":402},{"$f":"IFERROR(VLOOKUP(ROWS($BW$14:BW415),$BT$14:$BU$5000,2,0),\"\")","v":0}]
[null,null,null,null,null,null,null,null,null,null,null,null,null,null,null,null,null,null,null,null,null,null,null,null,null,null,null,null,null,null,null,null,null,null,null,null,null,null,null,null,null,null,null,null,null,null,null,null,null,null,null,null,null,null,null,null,null,null,null,null,null,null,null,null,null,null,null,null,null,null,null,{"$f":"IF(ISNUMBER(SEARCH($C$6,BU416)),MAX($BT$13:BT415)+1,0)","v":403},0,{"$f":"ROWS($BV$14:BV416)","v":403},{"$f":"IFERROR(VLOOKUP(ROWS($BW$14:BW416),$BT$14:$BU$5000,2,0),\"\")","v":0}]
[null,null,null,null,null,null,null,null,null,null,null,null,null,null,null,null,null,null,null,null,null,null,null,null,null,null,null,null,null,null,null,null,null,null,null,null,null,null,null,null,null,null,null,null,null,null,null,null,null,null,null,null,null,null,null,null,null,null,null,null,null,null,null,null,null,null,null,null,null,null,null,{"$f":"IF(ISNUMBER(SEARCH($C$6,BU417)),MAX($BT$13:BT416)+1,0)","v":404},0,{"$f":"ROWS($BV$14:BV417)","v":404},{"$f":"IFERROR(VLOOKUP(ROWS($BW$14:BW417),$BT$14:$BU$5000,2,0),\"\")","v":0}]
[null,null,null,null,null,null,null,null,null,null,null,null,null,null,null,null,null,null,null,null,null,null,null,null,null,null,null,null,null,null,null,null,null,null,null,null,null,null,null,null,null,null,null,null,null,null,null,null,null,null,null,null,null,null,null,null,null,null,null,null,null,null,null,null,null,null,null,null,null,null,null,{"$f":"IF(ISNUMBER(SEARCH($C$6,BU418)),MAX($BT$13:BT417)+1,0)","v":405},0,{"$f":"ROWS($BV$14:BV418)","v":405},{"$f":"IFERROR(VLOOKUP(ROWS($BW$14:BW418),$BT$14:$BU$5000,2,0),\"\")","v":0}]
[null,null,null,null,null,null,null,null,null,null,null,null,null,null,null,null,null,null,null,null,null,null,null,null,null,null,null,null,null,null,null,null,null,null,null,null,null,null,null,null,null,null,null,null,null,null,null,null,null,null,null,null,null,null,null,null,null,null,null,null,null,null,null,null,null,null,null,null,null,null,null,{"$f":"IF(ISNUMBER(SEARCH($C$6,BU419)),MAX($BT$13:BT418)+1,0)","v":406},0,{"$f":"ROWS($BV$14:BV419)","v":406},{"$f":"IFERROR(VLOOKUP(ROWS($BW$14:BW419),$BT$14:$BU$5000,2,0),\"\")","v":0}]
[null,null,null,null,null,null,null,null,null,null,null,null,null,null,null,null,null,null,null,null,null,null,null,null,null,null,null,null,null,null,null,null,null,null,null,null,null,null,null,null,null,null,null,null,null,null,null,null,null,null,null,null,null,null,null,null,null,null,null,null,null,null,null,null,null,null,null,null,null,null,null,{"$f":"IF(ISNUMBER(SEARCH($C$6,BU420)),MAX($BT$13:BT419)+1,0)","v":407},0,{"$f":"ROWS($BV$14:BV420)","v":407},{"$f":"IFERROR(VLOOKUP(ROWS($BW$14:BW420),$BT$14:$BU$5000,2,0),\"\")","v":0}]
[null,null,null,null,null,null,null,null,null,null,null,null,null,null,null,null,null,null,null,null,null,null,null,null,null,null,null,null,null,null,null,null,null,null,null,null,null,null,null,null,null,null,null,null,null,null,null,null,null,null,null,null,null,null,null,null,null,null,null,null,null,null,null,null,null,null,null,null,null,null,null,{"$f":"IF(ISNUMBER(SEARCH($C$6,BU421)),MAX($BT$13:BT420)+1,0)","v":408},0,{"$f":"ROWS($BV$14:BV421)","v":408},{"$f":"IFERROR(VLOOKUP(ROWS($BW$14:BW421),$BT$14:$BU$5000,2,0),\"\")","v":0}]
[null,null,null,null,null,null,null,null,null,null,null,null,null,null,null,null,null,null,null,null,null,null,null,null,null,null,null,null,null,null,null,null,null,null,null,null,null,null,null,null,null,null,null,null,null,null,null,null,null,null,null,null,null,null,null,null,null,null,null,null,null,null,null,null,null,null,null,null,null,null,null,{"$f":"IF(ISNUMBER(SEARCH($C$6,BU422)),MAX($BT$13:BT421)+1,0)","v":409},0,{"$f":"ROWS($BV$14:BV422)","v":409},{"$f":"IFERROR(VLOOKUP(ROWS($BW$14:BW422),$BT$14:$BU$5000,2,0),\"\")","v":0}]
[null,null,null,null,null,null,null,null,null,null,null,null,null,null,null,null,null,null,null,null,null,null,null,null,null,null,null,null,null,null,null,null,null,null,null,null,null,null,null,null,null,null,null,null,null,null,null,null,null,null,null,null,null,null,null,null,null,null,null,null,null,null,null,null,null,null,null,null,null,null,null,{"$f":"IF(ISNUMBER(SEARCH($C$6,BU423)),MAX($BT$13:BT422)+1,0)","v":410},0,{"$f":"ROWS($BV$14:BV423)","v":410},{"$f":"IFERROR(VLOOKUP(ROWS($BW$14:BW423),$BT$14:$BU$5000,2,0),\"\")","v":0}]
[null,null,null,null,null,null,null,null,null,null,null,null,null,null,null,null,null,null,null,null,null,null,null,null,null,null,null,null,null,null,null,null,null,null,null,null,null,null,null,null,null,null,null,null,null,null,null,null,null,null,null,null,null,null,null,null,null,null,null,null,null,null,null,null,null,null,null,null,null,null,null,{"$f":"IF(ISNUMBER(SEARCH($C$6,BU424)),MAX($BT$13:BT423)+1,0)","v":411},0,{"$f":"ROWS($BV$14:BV424)","v":411},{"$f":"IFERROR(VLOOKUP(ROWS($BW$14:BW424),$BT$14:$BU$5000,2,0),\"\")","v":0}]
[null,null,null,null,null,null,null,null,null,null,null,null,null,null,null,null,null,null,null,null,null,null,null,null,null,null,null,null,null,null,null,null,null,null,null,null,null,null,null,null,null,null,null,null,null,null,null,null,null,null,null,null,null,null,null,null,null,null,null,null,null,null,null,null,null,null,null,null,null,null,null,{"$f":"IF(ISNUMBER(SEARCH($C$6,BU425)),MAX($BT$13:BT424)+1,0)","v":412},0,{"$f":"ROWS($BV$14:BV425)","v":412},{"$f":"IFERROR(VLOOKUP(ROWS($BW$14:BW425),$BT$14:$BU$5000,2,0),\"\")","v":0}]
[null,null,null,null,null,null,null,null,null,null,null,null,null,null,null,null,null,null,null,null,null,null,null,null,null,null,null,null,null,null,null,null,null,null,null,null,null,null,null,null,null,null,null,null,null,null,null,null,null,null,null,null,null,null,null,null,null,null,null,null,null,null,null,null,null,null,null,null,null,null,null,{"$f":"IF(ISNUMBER(SEARCH($C$6,BU426)),MAX($BT$13:BT425)+1,0)","v":413},0,{"$f":"ROWS($BV$14:BV426)","v":413},{"$f":"IFERROR(VLOOKUP(ROWS($BW$14:BW426),$BT$14:$BU$5000,2,0),\"\")","v":0}]
[null,null,null,null,null,null,null,null,null,null,null,null,null,null,null,null,null,null,null,null,null,null,null,null,null,null,null,null,null,null,null,null,null,null,null,null,null,null,null,null,null,null,null,null,null,null,null,null,null,null,null,null,null,null,null,null,null,null,null,null,null,null,null,null,null,null,null,null,null,null,null,{"$f":"IF(ISNUMBER(SEARCH($C$6,BU427)),MAX($BT$13:BT426)+1,0)","v":414},0,{"$f":"ROWS($BV$14:BV427)","v":414},{"$f":"IFERROR(VLOOKUP(ROWS($BW$14:BW427),$BT$14:$BU$5000,2,0),\"\")","v":0}]
[null,null,null,null,null,null,null,null,null,null,null,null,null,null,null,null,null,null,null,null,null,null,null,null,null,null,null,null,null,null,null,null,null,null,null,null,null,null,null,null,null,null,null,null,null,null,null,null,null,null,null,null,null,null,null,null,null,null,null,null,null,null,null,null,null,null,null,null,null,null,null,{"$f":"IF(ISNUMBER(SEARCH($C$6,BU428)),MAX($BT$13:BT427)+1,0)","v":415},0,{"$f":"ROWS($BV$14:BV428)","v":415},{"$f":"IFERROR(VLOOKUP(ROWS($BW$14:BW428),$BT$14:$BU$5000,2,0),\"\")","v":0}]
[null,null,null,null,null,null,null,null,null,null,null,null,null,null,null,null,null,null,null,null,null,null,null,null,null,null,null,null,null,null,null,null,null,null,null,null,null,null,null,null,null,null,null,null,null,null,null,null,null,null,null,null,null,null,null,null,null,null,null,null,null,null,null,null,null,null,null,null,null,null,null,{"$f":"IF(ISNUMBER(SEARCH($C$6,BU429)),MAX($BT$13:BT428)+1,0)","v":416},0,{"$f":"ROWS($BV$14:BV429)","v":416},{"$f":"IFERROR(VLOOKUP(ROWS($BW$14:BW429),$BT$14:$BU$5000,2,0),\"\")","v":0}]
[null,null,null,null,null,null,null,null,null,null,null,null,null,null,null,null,null,null,null,null,null,null,null,null,null,null,null,null,null,null,null,null,null,null,null,null,null,null,null,null,null,null,null,null,null,null,null,null,null,null,null,null,null,null,null,null,null,null,null,null,null,null,null,null,null,null,null,null,null,null,null,{"$f":"IF(ISNUMBER(SEARCH($C$6,BU430)),MAX($BT$13:BT429)+1,0)","v":417},0,{"$f":"ROWS($BV$14:BV430)","v":417},{"$f":"IFERROR(VLOOKUP(ROWS($BW$14:BW430),$BT$14:$BU$5000,2,0),\"\")","v":0}]
[null,null,null,null,null,null,null,null,null,null,null,null,null,null,null,null,null,null,null,null,null,null,null,null,null,null,null,null,null,null,null,null,null,null,null,null,null,null,null,null,null,null,null,null,null,null,null,null,null,null,null,null,null,null,null,null,null,null,null,null,null,null,null,null,null,null,null,null,null,null,null,{"$f":"IF(ISNUMBER(SEARCH($C$6,BU431)),MAX($BT$13:BT430)+1,0)","v":418},0,{"$f":"ROWS($BV$14:BV431)","v":418},{"$f":"IFERROR(VLOOKUP(ROWS($BW$14:BW431),$BT$14:$BU$5000,2,0),\"\")","v":0}]
[null,null,null,null,null,null,null,null,null,null,null,null,null,null,null,null,null,null,null,null,null,null,null,null,null,null,null,null,null,null,null,null,null,null,null,null,null,null,null,null,null,null,null,null,null,null,null,null,null,null,null,null,null,null,null,null,null,null,null,null,null,null,null,null,null,null,null,null,null,null,null,{"$f":"IF(ISNUMBER(SEARCH($C$6,BU432)),MAX($BT$13:BT431)+1,0)","v":419},0,{"$f":"ROWS($BV$14:BV432)","v":419},{"$f":"IFERROR(VLOOKUP(ROWS($BW$14:BW432),$BT$14:$BU$5000,2,0),\"\")","v":0}]
[null,null,null,null,null,null,null,null,null,null,null,null,null,null,null,null,null,null,null,null,null,null,null,null,null,null,null,null,null,null,null,null,null,null,null,null,null,null,null,null,null,null,null,null,null,null,null,null,null,null,null,null,null,null,null,null,null,null,null,null,null,null,null,null,null,null,null,null,null,null,null,{"$f":"IF(ISNUMBER(SEARCH($C$6,BU433)),MAX($BT$13:BT432)+1,0)","v":420},0,{"$f":"ROWS($BV$14:BV433)","v":420},{"$f":"IFERROR(VLOOKUP(ROWS($BW$14:BW433),$BT$14:$BU$5000,2,0),\"\")","v":0}]
[null,null,null,null,null,null,null,null,null,null,null,null,null,null,null,null,null,null,null,null,null,null,null,null,null,null,null,null,null,null,null,null,null,null,null,null,null,null,null,null,null,null,null,null,null,null,null,null,null,null,null,null,null,null,null,null,null,null,null,null,null,null,null,null,null,null,null,null,null,null,null,{"$f":"IF(ISNUMBER(SEARCH($C$6,BU434)),MAX($BT$13:BT433)+1,0)","v":421},0,{"$f":"ROWS($BV$14:BV434)","v":421},{"$f":"IFERROR(VLOOKUP(ROWS($BW$14:BW434),$BT$14:$BU$5000,2,0),\"\")","v":0}]
[null,null,null,null,null,null,null,null,null,null,null,null,null,null,null,null,null,null,null,null,null,null,null,null,null,null,null,null,null,null,null,null,null,null,null,null,null,null,null,null,null,null,null,null,null,null,null,null,null,null,null,null,null,null,null,null,null,null,null,null,null,null,null,null,null,null,null,null,null,null,null,{"$f":"IF(ISNUMBER(SEARCH($C$6,BU435)),MAX($BT$13:BT434)+1,0)","v":422},0,{"$f":"ROWS($BV$14:BV435)","v":422},{"$f":"IFERROR(VLOOKUP(ROWS($BW$14:BW435),$BT$14:$BU$5000,2,0),\"\")","v":0}]
[null,null,null,null,null,null,null,null,null,null,null,null,null,null,null,null,null,null,null,null,null,null,null,null,null,null,null,null,null,null,null,null,null,null,null,null,null,null,null,null,null,null,null,null,null,null,null,null,null,null,null,null,null,null,null,null,null,null,null,null,null,null,null,null,null,null,null,null,null,null,null,{"$f":"IF(ISNUMBER(SEARCH($C$6,BU436)),MAX($BT$13:BT435)+1,0)","v":423},0,{"$f":"ROWS($BV$14:BV436)","v":423},{"$f":"IFERROR(VLOOKUP(ROWS($BW$14:BW436),$BT$14:$BU$5000,2,0),\"\")","v":0}]
[null,null,null,null,null,null,null,null,null,null,null,null,null,null,null,null,null,null,null,null,null,null,null,null,null,null,null,null,null,null,null,null,null,null,null,null,null,null,null,null,null,null,null,null,null,null,null,null,null,null,null,null,null,null,null,null,null,null,null,null,null,null,null,null,null,null,null,null,null,null,null,{"$f":"IF(ISNUMBER(SEARCH($C$6,BU437)),MAX($BT$13:BT436)+1,0)","v":424},0,{"$f":"ROWS($BV$14:BV437)","v":424},{"$f":"IFERROR(VLOOKUP(ROWS($BW$14:BW437),$BT$14:$BU$5000,2,0),\"\")","v":0}]
[null,null,null,null,null,null,null,null,null,null,null,null,null,null,null,null,null,null,null,null,null,null,null,null,null,null,null,null,null,null,null,null,null,null,null,null,null,null,null,null,null,null,null,null,null,null,null,null,null,null,null,null,null,null,null,null,null,null,null,null,null,null,null,null,null,null,null,null,null,null,null,{"$f":"IF(ISNUMBER(SEARCH($C$6,BU438)),MAX($BT$13:BT437)+1,0)","v":425},0,{"$f":"ROWS($BV$14:BV438)","v":425},{"$f":"IFERROR(VLOOKUP(ROWS($BW$14:BW438),$BT$14:$BU$5000,2,0),\"\")","v":0}]
[null,null,null,null,null,null,null,null,null,null,null,null,null,null,null,null,null,null,null,null,null,null,null,null,null,null,null,null,null,null,null,null,null,null,null,null,null,null,null,null,null,null,null,null,null,null,null,null,null,null,null,null,null,null,null,null,null,null,null,null,null,null,null,null,null,null,null,null,null,null,null,{"$f":"IF(ISNUMBER(SEARCH($C$6,BU439)),MAX($BT$13:BT438)+1,0)","v":426},0,{"$f":"ROWS($BV$14:BV439)","v":426},{"$f":"IFERROR(VLOOKUP(ROWS($BW$14:BW439),$BT$14:$BU$5000,2,0),\"\")","v":0}]
[null,null,null,null,null,null,null,null,null,null,null,null,null,null,null,null,null,null,null,null,null,null,null,null,null,null,null,null,null,null,null,null,null,null,null,null,null,null,null,null,null,null,null,null,null,null,null,null,null,null,null,null,null,null,null,null,null,null,null,null,null,null,null,null,null,null,null,null,null,null,null,{"$f":"IF(ISNUMBER(SEARCH($C$6,BU440)),MAX($BT$13:BT439)+1,0)","v":427},0,{"$f":"ROWS($BV$14:BV440)","v":427},{"$f":"IFERROR(VLOOKUP(ROWS($BW$14:BW440),$BT$14:$BU$5000,2,0),\"\")","v":0}]
[null,null,null,null,null,null,null,null,null,null,null,null,null,null,null,null,null,null,null,null,null,null,null,null,null,null,null,null,null,null,null,null,null,null,null,null,null,null,null,null,null,null,null,null,null,null,null,null,null,null,null,null,null,null,null,null,null,null,null,null,null,null,null,null,null,null,null,null,null,null,null,{"$f":"IF(ISNUMBER(SEARCH($C$6,BU441)),MAX($BT$13:BT440)+1,0)","v":428},0,{"$f":"ROWS($BV$14:BV441)","v":428},{"$f":"IFERROR(VLOOKUP(ROWS($BW$14:BW441),$BT$14:$BU$5000,2,0),\"\")","v":0}]
[null,null,null,null,null,null,null,null,null,null,null,null,null,null,null,null,null,null,null,null,null,null,null,null,null,null,null,null,null,null,null,null,null,null,null,null,null,null,null,null,null,null,null,null,null,null,null,null,null,null,null,null,null,null,null,null,null,null,null,null,null,null,null,null,null,null,null,null,null,null,null,{"$f":"IF(ISNUMBER(SEARCH($C$6,BU442)),MAX($BT$13:BT441)+1,0)","v":429},0,{"$f":"ROWS($BV$14:BV442)","v":429},{"$f":"IFERROR(VLOOKUP(ROWS($BW$14:BW442),$BT$14:$BU$5000,2,0),\"\")","v":0}]
[null,null,null,null,null,null,null,null,null,null,null,null,null,null,null,null,null,null,null,null,null,null,null,null,null,null,null,null,null,null,null,null,null,null,null,null,null,null,null,null,null,null,null,null,null,null,null,null,null,null,null,null,null,null,null,null,null,null,null,null,null,null,null,null,null,null,null,null,null,null,null,{"$f":"IF(ISNUMBER(SEARCH($C$6,BU443)),MAX($BT$13:BT442)+1,0)","v":430},0,{"$f":"ROWS($BV$14:BV443)","v":430},{"$f":"IFERROR(VLOOKUP(ROWS($BW$14:BW443),$BT$14:$BU$5000,2,0),\"\")","v":0}]
[null,null,null,null,null,null,null,null,null,null,null,null,null,null,null,null,null,null,null,null,null,null,null,null,null,null,null,null,null,null,null,null,null,null,null,null,null,null,null,null,null,null,null,null,null,null,null,null,null,null,null,null,null,null,null,null,null,null,null,null,null,null,null,null,null,null,null,null,null,null,null,{"$f":"IF(ISNUMBER(SEARCH($C$6,BU444)),MAX($BT$13:BT443)+1,0)","v":431},0,{"$f":"ROWS($BV$14:BV444)","v":431},{"$f":"IFERROR(VLOOKUP(ROWS($BW$14:BW444),$BT$14:$BU$5000,2,0),\"\")","v":0}]
[null,null,null,null,null,null,null,null,null,null,null,null,null,null,null,null,null,null,null,null,null,null,null,null,null,null,null,null,null,null,null,null,null,null,null,null,null,null,null,null,null,null,null,null,null,null,null,null,null,null,null,null,null,null,null,null,null,null,null,null,null,null,null,null,null,null,null,null,null,null,null,{"$f":"IF(ISNUMBER(SEARCH($C$6,BU445)),MAX($BT$13:BT444)+1,0)","v":432},0,{"$f":"ROWS($BV$14:BV445)","v":432},{"$f":"IFERROR(VLOOKUP(ROWS($BW$14:BW445),$BT$14:$BU$5000,2,0),\"\")","v":0}]
[null,null,null,null,null,null,null,null,null,null,null,null,null,null,null,null,null,null,null,null,null,null,null,null,null,null,null,null,null,null,null,null,null,null,null,null,null,null,null,null,null,null,null,null,null,null,null,null,null,null,null,null,null,null,null,null,null,null,null,null,null,null,null,null,null,null,null,null,null,null,null,{"$f":"IF(ISNUMBER(SEARCH($C$6,BU446)),MAX($BT$13:BT445)+1,0)","v":433},0,{"$f":"ROWS($BV$14:BV446)","v":433},{"$f":"IFERROR(VLOOKUP(ROWS($BW$14:BW446),$BT$14:$BU$5000,2,0),\"\")","v":0}]
[null,null,null,null,null,null,null,null,null,null,null,null,null,null,null,null,null,null,null,null,null,null,null,null,null,null,null,null,null,null,null,null,null,null,null,null,null,null,null,null,null,null,null,null,null,null,null,null,null,null,null,null,null,null,null,null,null,null,null,null,null,null,null,null,null,null,null,null,null,null,null,{"$f":"IF(ISNUMBER(SEARCH($C$6,BU447)),MAX($BT$13:BT446)+1,0)","v":434},0,{"$f":"ROWS($BV$14:BV447)","v":434},{"$f":"IFERROR(VLOOKUP(ROWS($BW$14:BW447),$BT$14:$BU$5000,2,0),\"\")","v":0}]
[null,null,null,null,null,null,null,null,null,null,null,null,null,null,null,null,null,null,null,null,null,null,null,null,null,null,null,null,null,null,null,null,null,null,null,null,null,null,null,null,null,null,null,null,null,null,null,null,null,null,null,null,null,null,null,null,null,null,null,null,null,null,null,null,null,null,null,null,null,null,null,{"$f":"IF(ISNUMBER(SEARCH($C$6,BU448)),MAX($BT$13:BT447)+1,0)","v":435},0,{"$f":"ROWS($BV$14:BV448)","v":435},{"$f":"IFERROR(VLOOKUP(ROWS($BW$14:BW448),$BT$14:$BU$5000,2,0),\"\")","v":0}]
[null,null,null,null,null,null,null,null,null,null,null,null,null,null,null,null,null,null,null,null,null,null,null,null,null,null,null,null,null,null,null,null,null,null,null,null,null,null,null,null,null,null,null,null,null,null,null,null,null,null,null,null,null,null,null,null,null,null,null,null,null,null,null,null,null,null,null,null,null,null,null,{"$f":"IF(ISNUMBER(SEARCH($C$6,BU449)),MAX($BT$13:BT448)+1,0)","v":436},0,{"$f":"ROWS($BV$14:BV449)","v":436},{"$f":"IFERROR(VLOOKUP(ROWS($BW$14:BW449),$BT$14:$BU$5000,2,0),\"\")","v":0}]
[null,null,null,null,null,null,null,null,null,null,null,null,null,null,null,null,null,null,null,null,null,null,null,null,null,null,null,null,null,null,null,null,null,null,null,null,null,null,null,null,null,null,null,null,null,null,null,null,null,null,null,null,null,null,null,null,null,null,null,null,null,null,null,null,null,null,null,null,null,null,null,{"$f":"IF(ISNUMBER(SEARCH($C$6,BU450)),MAX($BT$13:BT449)+1,0)","v":437},0,{"$f":"ROWS($BV$14:BV450)","v":437},{"$f":"IFERROR(VLOOKUP(ROWS($BW$14:BW450),$BT$14:$BU$5000,2,0),\"\")","v":0}]
[null,null,null,null,null,null,null,null,null,null,null,null,null,null,null,null,null,null,null,null,null,null,null,null,null,null,null,null,null,null,null,null,null,null,null,null,null,null,null,null,null,null,null,null,null,null,null,null,null,null,null,null,null,null,null,null,null,null,null,null,null,null,null,null,null,null,null,null,null,null,null,{"$f":"IF(ISNUMBER(SEARCH($C$6,BU451)),MAX($BT$13:BT450)+1,0)","v":438},0,{"$f":"ROWS($BV$14:BV451)","v":438},{"$f":"IFERROR(VLOOKUP(ROWS($BW$14:BW451),$BT$14:$BU$5000,2,0),\"\")","v":0}]
[null,null,null,null,null,null,null,null,null,null,null,null,null,null,null,null,null,null,null,null,null,null,null,null,null,null,null,null,null,null,null,null,null,null,null,null,null,null,null,null,null,null,null,null,null,null,null,null,null,null,null,null,null,null,null,null,null,null,null,null,null,null,null,null,null,null,null,null,null,null,null,{"$f":"IF(ISNUMBER(SEARCH($C$6,BU452)),MAX($BT$13:BT451)+1,0)","v":439},0,{"$f":"ROWS($BV$14:BV452)","v":439},{"$f":"IFERROR(VLOOKUP(ROWS($BW$14:BW452),$BT$14:$BU$5000,2,0),\"\")","v":0}]
[null,null,null,null,null,null,null,null,null,null,null,null,null,null,null,null,null,null,null,null,null,null,null,null,null,null,null,null,null,null,null,null,null,null,null,null,null,null,null,null,null,null,null,null,null,null,null,null,null,null,null,null,null,null,null,null,null,null,null,null,null,null,null,null,null,null,null,null,null,null,null,{"$f":"IF(ISNUMBER(SEARCH($C$6,BU453)),MAX($BT$13:BT452)+1,0)","v":440},0,{"$f":"ROWS($BV$14:BV453)","v":440},{"$f":"IFERROR(VLOOKUP(ROWS($BW$14:BW453),$BT$14:$BU$5000,2,0),\"\")","v":0}]
[null,null,null,null,null,null,null,null,null,null,null,null,null,null,null,null,null,null,null,null,null,null,null,null,null,null,null,null,null,null,null,null,null,null,null,null,null,null,null,null,null,null,null,null,null,null,null,null,null,null,null,null,null,null,null,null,null,null,null,null,null,null,null,null,null,null,null,null,null,null,null,{"$f":"IF(ISNUMBER(SEARCH($C$6,BU454)),MAX($BT$13:BT453)+1,0)","v":441},0,{"$f":"ROWS($BV$14:BV454)","v":441},{"$f":"IFERROR(VLOOKUP(ROWS($BW$14:BW454),$BT$14:$BU$5000,2,0),\"\")","v":0}]
[null,null,null,null,null,null,null,null,null,null,null,null,null,null,null,null,null,null,null,null,null,null,null,null,null,null,null,null,null,null,null,null,null,null,null,null,null,null,null,null,null,null,null,null,null,null,null,null,null,null,null,null,null,null,null,null,null,null,null,null,null,null,null,null,null,null,null,null,null,null,null,{"$f":"IF(ISNUMBER(SEARCH($C$6,BU455)),MAX($BT$13:BT454)+1,0)","v":442},0,{"$f":"ROWS($BV$14:BV455)","v":442},{"$f":"IFERROR(VLOOKUP(ROWS($BW$14:BW455),$BT$14:$BU$5000,2,0),\"\")","v":0}]
[null,null,null,null,null,null,null,null,null,null,null,null,null,null,null,null,null,null,null,null,null,null,null,null,null,null,null,null,null,null,null,null,null,null,null,null,null,null,null,null,null,null,null,null,null,null,null,null,null,null,null,null,null,null,null,null,null,null,null,null,null,null,null,null,null,null,null,null,null,null,null,{"$f":"IF(ISNUMBER(SEARCH($C$6,BU456)),MAX($BT$13:BT455)+1,0)","v":443},0,{"$f":"ROWS($BV$14:BV456)","v":443},{"$f":"IFERROR(VLOOKUP(ROWS($BW$14:BW456),$BT$14:$BU$5000,2,0),\"\")","v":0}]
[null,null,null,null,null,null,null,null,null,null,null,null,null,null,null,null,null,null,null,null,null,null,null,null,null,null,null,null,null,null,null,null,null,null,null,null,null,null,null,null,null,null,null,null,null,null,null,null,null,null,null,null,null,null,null,null,null,null,null,null,null,null,null,null,null,null,null,null,null,null,null,{"$f":"IF(ISNUMBER(SEARCH($C$6,BU457)),MAX($BT$13:BT456)+1,0)","v":444},0,{"$f":"ROWS($BV$14:BV457)","v":444},{"$f":"IFERROR(VLOOKUP(ROWS($BW$14:BW457),$BT$14:$BU$5000,2,0),\"\")","v":0}]
[null,null,null,null,null,null,null,null,null,null,null,null,null,null,null,null,null,null,null,null,null,null,null,null,null,null,null,null,null,null,null,null,null,null,null,null,null,null,null,null,null,null,null,null,null,null,null,null,null,null,null,null,null,null,null,null,null,null,null,null,null,null,null,null,null,null,null,null,null,null,null,{"$f":"IF(ISNUMBER(SEARCH($C$6,BU458)),MAX($BT$13:BT457)+1,0)","v":445},0,{"$f":"ROWS($BV$14:BV458)","v":445},{"$f":"IFERROR(VLOOKUP(ROWS($BW$14:BW458),$BT$14:$BU$5000,2,0),\"\")","v":0}]
[null,null,null,null,null,null,null,null,null,null,null,null,null,null,null,null,null,null,null,null,null,null,null,null,null,null,null,null,null,null,null,null,null,null,null,null,null,null,null,null,null,null,null,null,null,null,null,null,null,null,null,null,null,null,null,null,null,null,null,null,null,null,null,null,null,null,null,null,null,null,null,{"$f":"IF(ISNUMBER(SEARCH($C$6,BU459)),MAX($BT$13:BT458)+1,0)","v":446},0,{"$f":"ROWS($BV$14:BV459)","v":446},{"$f":"IFERROR(VLOOKUP(ROWS($BW$14:BW459),$BT$14:$BU$5000,2,0),\"\")","v":0}]
[null,null,null,null,null,null,null,null,null,null,null,null,null,null,null,null,null,null,null,null,null,null,null,null,null,null,null,null,null,null,null,null,null,null,null,null,null,null,null,null,null,null,null,null,null,null,null,null,null,null,null,null,null,null,null,null,null,null,null,null,null,null,null,null,null,null,null,null,null,null,null,{"$f":"IF(ISNUMBER(SEARCH($C$6,BU460)),MAX($BT$13:BT459)+1,0)","v":447},0,{"$f":"ROWS($BV$14:BV460)","v":447},{"$f":"IFERROR(VLOOKUP(ROWS($BW$14:BW460),$BT$14:$BU$5000,2,0),\"\")","v":0}]
[null,null,null,null,null,null,null,null,null,null,null,null,null,null,null,null,null,null,null,null,null,null,null,null,null,null,null,null,null,null,null,null,null,null,null,null,null,null,null,null,null,null,null,null,null,null,null,null,null,null,null,null,null,null,null,null,null,null,null,null,null,null,null,null,null,null,null,null,null,null,null,{"$f":"IF(ISNUMBER(SEARCH($C$6,BU461)),MAX($BT$13:BT460)+1,0)","v":448},0,{"$f":"ROWS($BV$14:BV461)","v":448},{"$f":"IFERROR(VLOOKUP(ROWS($BW$14:BW461),$BT$14:$BU$5000,2,0),\"\")","v":0}]
[null,null,null,null,null,null,null,null,null,null,null,null,null,null,null,null,null,null,null,null,null,null,null,null,null,null,null,null,null,null,null,null,null,null,null,null,null,null,null,null,null,null,null,null,null,null,null,null,null,null,null,null,null,null,null,null,null,null,null,null,null,null,null,null,null,null,null,null,null,null,null,{"$f":"IF(ISNUMBER(SEARCH($C$6,BU462)),MAX($BT$13:BT461)+1,0)","v":449},0,{"$f":"ROWS($BV$14:BV462)","v":449},{"$f":"IFERROR(VLOOKUP(ROWS($BW$14:BW462),$BT$14:$BU$5000,2,0),\"\")","v":0}]
[null,null,null,null,null,null,null,null,null,null,null,null,null,null,null,null,null,null,null,null,null,null,null,null,null,null,null,null,null,null,null,null,null,null,null,null,null,null,null,null,null,null,null,null,null,null,null,null,null,null,null,null,null,null,null,null,null,null,null,null,null,null,null,null,null,null,null,null,null,null,null,{"$f":"IF(ISNUMBER(SEARCH($C$6,BU463)),MAX($BT$13:BT462)+1,0)","v":450},0,{"$f":"ROWS($BV$14:BV463)","v":450},{"$f":"IFERROR(VLOOKUP(ROWS($BW$14:BW463),$BT$14:$BU$5000,2,0),\"\")","v":0}]
[null,null,null,null,null,null,null,null,null,null,null,null,null,null,null,null,null,null,null,null,null,null,null,null,null,null,null,null,null,null,null,null,null,null,null,null,null,null,null,null,null,null,null,null,null,null,null,null,null,null,null,null,null,null,null,null,null,null,null,null,null,null,null,null,null,null,null,null,null,null,null,{"$f":"IF(ISNUMBER(SEARCH($C$6,BU464)),MAX($BT$13:BT463)+1,0)","v":451},0,{"$f":"ROWS($BV$14:BV464)","v":451},{"$f":"IFERROR(VLOOKUP(ROWS($BW$14:BW464),$BT$14:$BU$5000,2,0),\"\")","v":0}]
[null,null,null,null,null,null,null,null,null,null,null,null,null,null,null,null,null,null,null,null,null,null,null,null,null,null,null,null,null,null,null,null,null,null,null,null,null,null,null,null,null,null,null,null,null,null,null,null,null,null,null,null,null,null,null,null,null,null,null,null,null,null,null,null,null,null,null,null,null,null,null,{"$f":"IF(ISNUMBER(SEARCH($C$6,BU465)),MAX($BT$13:BT464)+1,0)","v":452},0,{"$f":"ROWS($BV$14:BV465)","v":452},{"$f":"IFERROR(VLOOKUP(ROWS($BW$14:BW465),$BT$14:$BU$5000,2,0),\"\")","v":0}]
[null,null,null,null,null,null,null,null,null,null,null,null,null,null,null,null,null,null,null,null,null,null,null,null,null,null,null,null,null,null,null,null,null,null,null,null,null,null,null,null,null,null,null,null,null,null,null,null,null,null,null,null,null,null,null,null,null,null,null,null,null,null,null,null,null,null,null,null,null,null,null,{"$f":"IF(ISNUMBER(SEARCH($C$6,BU466)),MAX($BT$13:BT465)+1,0)","v":453},0,{"$f":"ROWS($BV$14:BV466)","v":453},{"$f":"IFERROR(VLOOKUP(ROWS($BW$14:BW466),$BT$14:$BU$5000,2,0),\"\")","v":0}]
[null,null,null,null,null,null,null,null,null,null,null,null,null,null,null,null,null,null,null,null,null,null,null,null,null,null,null,null,null,null,null,null,null,null,null,null,null,null,null,null,null,null,null,null,null,null,null,null,null,null,null,null,null,null,null,null,null,null,null,null,null,null,null,null,null,null,null,null,null,null,null,{"$f":"IF(ISNUMBER(SEARCH($C$6,BU467)),MAX($BT$13:BT466)+1,0)","v":454},0,{"$f":"ROWS($BV$14:BV467)","v":454},{"$f":"IFERROR(VLOOKUP(ROWS($BW$14:BW467),$BT$14:$BU$5000,2,0),\"\")","v":0}]
[null,null,null,null,null,null,null,null,null,null,null,null,null,null,null,null,null,null,null,null,null,null,null,null,null,null,null,null,null,null,null,null,null,null,null,null,null,null,null,null,null,null,null,null,null,null,null,null,null,null,null,null,null,null,null,null,null,null,null,null,null,null,null,null,null,null,null,null,null,null,null,{"$f":"IF(ISNUMBER(SEARCH($C$6,BU468)),MAX($BT$13:BT467)+1,0)","v":455},0,{"$f":"ROWS($BV$14:BV468)","v":455},{"$f":"IFERROR(VLOOKUP(ROWS($BW$14:BW468),$BT$14:$BU$5000,2,0),\"\")","v":0}]
[null,null,null,null,null,null,null,null,null,null,null,null,null,null,null,null,null,null,null,null,null,null,null,null,null,null,null,null,null,null,null,null,null,null,null,null,null,null,null,null,null,null,null,null,null,null,null,null,null,null,null,null,null,null,null,null,null,null,null,null,null,null,null,null,null,null,null,null,null,null,null,{"$f":"IF(ISNUMBER(SEARCH($C$6,BU469)),MAX($BT$13:BT468)+1,0)","v":456},0,{"$f":"ROWS($BV$14:BV469)","v":456},{"$f":"IFERROR(VLOOKUP(ROWS($BW$14:BW469),$BT$14:$BU$5000,2,0),\"\")","v":0}]
[null,null,null,null,null,null,null,null,null,null,null,null,null,null,null,null,null,null,null,null,null,null,null,null,null,null,null,null,null,null,null,null,null,null,null,null,null,null,null,null,null,null,null,null,null,null,null,null,null,null,null,null,null,null,null,null,null,null,null,null,null,null,null,null,null,null,null,null,null,null,null,{"$f":"IF(ISNUMBER(SEARCH($C$6,BU470)),MAX($BT$13:BT469)+1,0)","v":457},0,{"$f":"ROWS($BV$14:BV470)","v":457},{"$f":"IFERROR(VLOOKUP(ROWS($BW$14:BW470),$BT$14:$BU$5000,2,0),\"\")","v":0}]
[null,null,null,null,null,null,null,null,null,null,null,null,null,null,null,null,null,null,null,null,null,null,null,null,null,null,null,null,null,null,null,null,null,null,null,null,null,null,null,null,null,null,null,null,null,null,null,null,null,null,null,null,null,null,null,null,null,null,null,null,null,null,null,null,null,null,null,null,null,null,null,{"$f":"IF(ISNUMBER(SEARCH($C$6,BU471)),MAX($BT$13:BT470)+1,0)","v":458},0,{"$f":"ROWS($BV$14:BV471)","v":458},{"$f":"IFERROR(VLOOKUP(ROWS($BW$14:BW471),$BT$14:$BU$5000,2,0),\"\")","v":0}]
[null,null,null,null,null,null,null,null,null,null,null,null,null,null,null,null,null,null,null,null,null,null,null,null,null,null,null,null,null,null,null,null,null,null,null,null,null,null,null,null,null,null,null,null,null,null,null,null,null,null,null,null,null,null,null,null,null,null,null,null,null,null,null,null,null,null,null,null,null,null,null,{"$f":"IF(ISNUMBER(SEARCH($C$6,BU472)),MAX($BT$13:BT471)+1,0)","v":459},0,{"$f":"ROWS($BV$14:BV472)","v":459},{"$f":"IFERROR(VLOOKUP(ROWS($BW$14:BW472),$BT$14:$BU$5000,2,0),\"\")","v":0}]
[null,null,null,null,null,null,null,null,null,null,null,null,null,null,null,null,null,null,null,null,null,null,null,null,null,null,null,null,null,null,null,null,null,null,null,null,null,null,null,null,null,null,null,null,null,null,null,null,null,null,null,null,null,null,null,null,null,null,null,null,null,null,null,null,null,null,null,null,null,null,null,{"$f":"IF(ISNUMBER(SEARCH($C$6,BU473)),MAX($BT$13:BT472)+1,0)","v":460},0,{"$f":"ROWS($BV$14:BV473)","v":460},{"$f":"IFERROR(VLOOKUP(ROWS($BW$14:BW473),$BT$14:$BU$5000,2,0),\"\")","v":0}]
[null,null,null,null,null,null,null,null,null,null,null,null,null,null,null,null,null,null,null,null,null,null,null,null,null,null,null,null,null,null,null,null,null,null,null,null,null,null,null,null,null,null,null,null,null,null,null,null,null,null,null,null,null,null,null,null,null,null,null,null,null,null,null,null,null,null,null,null,null,null,null,{"$f":"IF(ISNUMBER(SEARCH($C$6,BU474)),MAX($BT$13:BT473)+1,0)","v":461},0,{"$f":"ROWS($BV$14:BV474)","v":461},{"$f":"IFERROR(VLOOKUP(ROWS($BW$14:BW474),$BT$14:$BU$5000,2,0),\"\")","v":0}]
[null,null,null,null,null,null,null,null,null,null,null,null,null,null,null,null,null,null,null,null,null,null,null,null,null,null,null,null,null,null,null,null,null,null,null,null,null,null,null,null,null,null,null,null,null,null,null,null,null,null,null,null,null,null,null,null,null,null,null,null,null,null,null,null,null,null,null,null,null,null,null,{"$f":"IF(ISNUMBER(SEARCH($C$6,BU475)),MAX($BT$13:BT474)+1,0)","v":462},0,{"$f":"ROWS($BV$14:BV475)","v":462},{"$f":"IFERROR(VLOOKUP(ROWS($BW$14:BW475),$BT$14:$BU$5000,2,0),\"\")","v":0}]
[null,null,null,null,null,null,null,null,null,null,null,null,null,null,null,null,null,null,null,null,null,null,null,null,null,null,null,null,null,null,null,null,null,null,null,null,null,null,null,null,null,null,null,null,null,null,null,null,null,null,null,null,null,null,null,null,null,null,null,null,null,null,null,null,null,null,null,null,null,null,null,{"$f":"IF(ISNUMBER(SEARCH($C$6,BU476)),MAX($BT$13:BT475)+1,0)","v":463},0,{"$f":"ROWS($BV$14:BV476)","v":463},{"$f":"IFERROR(VLOOKUP(ROWS($BW$14:BW476),$BT$14:$BU$5000,2,0),\"\")","v":0}]
[null,null,null,null,null,null,null,null,null,null,null,null,null,null,null,null,null,null,null,null,null,null,null,null,null,null,null,null,null,null,null,null,null,null,null,null,null,null,null,null,null,null,null,null,null,null,null,null,null,null,null,null,null,null,null,null,null,null,null,null,null,null,null,null,null,null,null,null,null,null,null,{"$f":"IF(ISNUMBER(SEARCH($C$6,BU477)),MAX($BT$13:BT476)+1,0)","v":464},0,{"$f":"ROWS($BV$14:BV477)","v":464},{"$f":"IFERROR(VLOOKUP(ROWS($BW$14:BW477),$BT$14:$BU$5000,2,0),\"\")","v":0}]
[null,null,null,null,null,null,null,null,null,null,null,null,null,null,null,null,null,null,null,null,null,null,null,null,null,null,null,null,null,null,null,null,null,null,null,null,null,null,null,null,null,null,null,null,null,null,null,null,null,null,null,null,null,null,null,null,null,null,null,null,null,null,null,null,null,null,null,null,null,null,null,{"$f":"IF(ISNUMBER(SEARCH($C$6,BU478)),MAX($BT$13:BT477)+1,0)","v":465},0,{"$f":"ROWS($BV$14:BV478)","v":465},{"$f":"IFERROR(VLOOKUP(ROWS($BW$14:BW478),$BT$14:$BU$5000,2,0),\"\")","v":0}]
[null,null,null,null,null,null,null,null,null,null,null,null,null,null,null,null,null,null,null,null,null,null,null,null,null,null,null,null,null,null,null,null,null,null,null,null,null,null,null,null,null,null,null,null,null,null,null,null,null,null,null,null,null,null,null,null,null,null,null,null,null,null,null,null,null,null,null,null,null,null,null,{"$f":"IF(ISNUMBER(SEARCH($C$6,BU479)),MAX($BT$13:BT478)+1,0)","v":466},0,{"$f":"ROWS($BV$14:BV479)","v":466},{"$f":"IFERROR(VLOOKUP(ROWS($BW$14:BW479),$BT$14:$BU$5000,2,0),\"\")","v":0}]
[null,null,null,null,null,null,null,null,null,null,null,null,null,null,null,null,null,null,null,null,null,null,null,null,null,null,null,null,null,null,null,null,null,null,null,null,null,null,null,null,null,null,null,null,null,null,null,null,null,null,null,null,null,null,null,null,null,null,null,null,null,null,null,null,null,null,null,null,null,null,null,{"$f":"IF(ISNUMBER(SEARCH($C$6,BU480)),MAX($BT$13:BT479)+1,0)","v":467},0,{"$f":"ROWS($BV$14:BV480)","v":467},{"$f":"IFERROR(VLOOKUP(ROWS($BW$14:BW480),$BT$14:$BU$5000,2,0),\"\")","v":0}]
[null,null,null,null,null,null,null,null,null,null,null,null,null,null,null,null,null,null,null,null,null,null,null,null,null,null,null,null,null,null,null,null,null,null,null,null,null,null,null,null,null,null,null,null,null,null,null,null,null,null,null,null,null,null,null,null,null,null,null,null,null,null,null,null,null,null,null,null,null,null,null,{"$f":"IF(ISNUMBER(SEARCH($C$6,BU481)),MAX($BT$13:BT480)+1,0)","v":468},0,{"$f":"ROWS($BV$14:BV481)","v":468},{"$f":"IFERROR(VLOOKUP(ROWS($BW$14:BW481),$BT$14:$BU$5000,2,0),\"\")","v":0}]
[null,null,null,null,null,null,null,null,null,null,null,null,null,null,null,null,null,null,null,null,null,null,null,null,null,null,null,null,null,null,null,null,null,null,null,null,null,null,null,null,null,null,null,null,null,null,null,null,null,null,null,null,null,null,null,null,null,null,null,null,null,null,null,null,null,null,null,null,null,null,null,{"$f":"IF(ISNUMBER(SEARCH($C$6,BU482)),MAX($BT$13:BT481)+1,0)","v":469},0,{"$f":"ROWS($BV$14:BV482)","v":469},{"$f":"IFERROR(VLOOKUP(ROWS($BW$14:BW482),$BT$14:$BU$5000,2,0),\"\")","v":0}]
[null,null,null,null,null,null,null,null,null,null,null,null,null,null,null,null,null,null,null,null,null,null,null,null,null,null,null,null,null,null,null,null,null,null,null,null,null,null,null,null,null,null,null,null,null,null,null,null,null,null,null,null,null,null,null,null,null,null,null,null,null,null,null,null,null,null,null,null,null,null,null,{"$f":"IF(ISNUMBER(SEARCH($C$6,BU483)),MAX($BT$13:BT482)+1,0)","v":470},0,{"$f":"ROWS($BV$14:BV483)","v":470},{"$f":"IFERROR(VLOOKUP(ROWS($BW$14:BW483),$BT$14:$BU$5000,2,0),\"\")","v":0}]
[null,null,null,null,null,null,null,null,null,null,null,null,null,null,null,null,null,null,null,null,null,null,null,null,null,null,null,null,null,null,null,null,null,null,null,null,null,null,null,null,null,null,null,null,null,null,null,null,null,null,null,null,null,null,null,null,null,null,null,null,null,null,null,null,null,null,null,null,null,null,null,{"$f":"IF(ISNUMBER(SEARCH($C$6,BU484)),MAX($BT$13:BT483)+1,0)","v":471},0,{"$f":"ROWS($BV$14:BV484)","v":471},{"$f":"IFERROR(VLOOKUP(ROWS($BW$14:BW484),$BT$14:$BU$5000,2,0),\"\")","v":0}]
[null,null,null,null,null,null,null,null,null,null,null,null,null,null,null,null,null,null,null,null,null,null,null,null,null,null,null,null,null,null,null,null,null,null,null,null,null,null,null,null,null,null,null,null,null,null,null,null,null,null,null,null,null,null,null,null,null,null,null,null,null,null,null,null,null,null,null,null,null,null,null,{"$f":"IF(ISNUMBER(SEARCH($C$6,BU485)),MAX($BT$13:BT484)+1,0)","v":472},0,{"$f":"ROWS($BV$14:BV485)","v":472},{"$f":"IFERROR(VLOOKUP(ROWS($BW$14:BW485),$BT$14:$BU$5000,2,0),\"\")","v":0}]
[null,null,null,null,null,null,null,null,null,null,null,null,null,null,null,null,null,null,null,null,null,null,null,null,null,null,null,null,null,null,null,null,null,null,null,null,null,null,null,null,null,null,null,null,null,null,null,null,null,null,null,null,null,null,null,null,null,null,null,null,null,null,null,null,null,null,null,null,null,null,null,{"$f":"IF(ISNUMBER(SEARCH($C$6,BU486)),MAX($BT$13:BT485)+1,0)","v":473},0,{"$f":"ROWS($BV$14:BV486)","v":473},{"$f":"IFERROR(VLOOKUP(ROWS($BW$14:BW486),$BT$14:$BU$5000,2,0),\"\")","v":0}]
[null,null,null,null,null,null,null,null,null,null,null,null,null,null,null,null,null,null,null,null,null,null,null,null,null,null,null,null,null,null,null,null,null,null,null,null,null,null,null,null,null,null,null,null,null,null,null,null,null,null,null,null,null,null,null,null,null,null,null,null,null,null,null,null,null,null,null,null,null,null,null,{"$f":"IF(ISNUMBER(SEARCH($C$6,BU487)),MAX($BT$13:BT486)+1,0)","v":474},0,{"$f":"ROWS($BV$14:BV487)","v":474},{"$f":"IFERROR(VLOOKUP(ROWS($BW$14:BW487),$BT$14:$BU$5000,2,0),\"\")","v":0}]
[null,null,null,null,null,null,null,null,null,null,null,null,null,null,null,null,null,null,null,null,null,null,null,null,null,null,null,null,null,null,null,null,null,null,null,null,null,null,null,null,null,null,null,null,null,null,null,null,null,null,null,null,null,null,null,null,null,null,null,null,null,null,null,null,null,null,null,null,null,null,null,{"$f":"IF(ISNUMBER(SEARCH($C$6,BU488)),MAX($BT$13:BT487)+1,0)","v":475},0,{"$f":"ROWS($BV$14:BV488)","v":475},{"$f":"IFERROR(VLOOKUP(ROWS($BW$14:BW488),$BT$14:$BU$5000,2,0),\"\")","v":0}]
[null,null,null,null,null,null,null,null,null,null,null,null,null,null,null,null,null,null,null,null,null,null,null,null,null,null,null,null,null,null,null,null,null,null,null,null,null,null,null,null,null,null,null,null,null,null,null,null,null,null,null,null,null,null,null,null,null,null,null,null,null,null,null,null,null,null,null,null,null,null,null,{"$f":"IF(ISNUMBER(SEARCH($C$6,BU489)),MAX($BT$13:BT488)+1,0)","v":476},0,{"$f":"ROWS($BV$14:BV489)","v":476},{"$f":"IFERROR(VLOOKUP(ROWS($BW$14:BW489),$BT$14:$BU$5000,2,0),\"\")","v":0}]
[null,null,null,null,null,null,null,null,null,null,null,null,null,null,null,null,null,null,null,null,null,null,null,null,null,null,null,null,null,null,null,null,null,null,null,null,null,null,null,null,null,null,null,null,null,null,null,null,null,null,null,null,null,null,null,null,null,null,null,null,null,null,null,null,null,null,null,null,null,null,null,{"$f":"IF(ISNUMBER(SEARCH($C$6,BU490)),MAX($BT$13:BT489)+1,0)","v":477},0,{"$f":"ROWS($BV$14:BV490)","v":477},{"$f":"IFERROR(VLOOKUP(ROWS($BW$14:BW490),$BT$14:$BU$5000,2,0),\"\")","v":0}]
[null,null,null,null,null,null,null,null,null,null,null,null,null,null,null,null,null,null,null,null,null,null,null,null,null,null,null,null,null,null,null,null,null,null,null,null,null,null,null,null,null,null,null,null,null,null,null,null,null,null,null,null,null,null,null,null,null,null,null,null,null,null,null,null,null,null,null,null,null,null,null,{"$f":"IF(ISNUMBER(SEARCH($C$6,BU491)),MAX($BT$13:BT490)+1,0)","v":478},0,{"$f":"ROWS($BV$14:BV491)","v":478},{"$f":"IFERROR(VLOOKUP(ROWS($BW$14:BW491),$BT$14:$BU$5000,2,0),\"\")","v":0}]
[null,null,null,null,null,null,null,null,null,null,null,null,null,null,null,null,null,null,null,null,null,null,null,null,null,null,null,null,null,null,null,null,null,null,null,null,null,null,null,null,null,null,null,null,null,null,null,null,null,null,null,null,null,null,null,null,null,null,null,null,null,null,null,null,null,null,null,null,null,null,null,{"$f":"IF(ISNUMBER(SEARCH($C$6,BU492)),MAX($BT$13:BT491)+1,0)","v":479},0,{"$f":"ROWS($BV$14:BV492)","v":479},{"$f":"IFERROR(VLOOKUP(ROWS($BW$14:BW492),$BT$14:$BU$5000,2,0),\"\")","v":0}]
[null,null,null,null,null,null,null,null,null,null,null,null,null,null,null,null,null,null,null,null,null,null,null,null,null,null,null,null,null,null,null,null,null,null,null,null,null,null,null,null,null,null,null,null,null,null,null,null,null,null,null,null,null,null,null,null,null,null,null,null,null,null,null,null,null,null,null,null,null,null,null,{"$f":"IF(ISNUMBER(SEARCH($C$6,BU493)),MAX($BT$13:BT492)+1,0)","v":480},0,{"$f":"ROWS($BV$14:BV493)","v":480},{"$f":"IFERROR(VLOOKUP(ROWS($BW$14:BW493),$BT$14:$BU$5000,2,0),\"\")","v":0}]
[null,null,null,null,null,null,null,null,null,null,null,null,null,null,null,null,null,null,null,null,null,null,null,null,null,null,null,null,null,null,null,null,null,null,null,null,null,null,null,null,null,null,null,null,null,null,null,null,null,null,null,null,null,null,null,null,null,null,null,null,null,null,null,null,null,null,null,null,null,null,null,{"$f":"IF(ISNUMBER(SEARCH($C$6,BU494)),MAX($BT$13:BT493)+1,0)","v":481},0,{"$f":"ROWS($BV$14:BV494)","v":481},{"$f":"IFERROR(VLOOKUP(ROWS($BW$14:BW494),$BT$14:$BU$5000,2,0),\"\")","v":0}]
[null,null,null,null,null,null,null,null,null,null,null,null,null,null,null,null,null,null,null,null,null,null,null,null,null,null,null,null,null,null,null,null,null,null,null,null,null,null,null,null,null,null,null,null,null,null,null,null,null,null,null,null,null,null,null,null,null,null,null,null,null,null,null,null,null,null,null,null,null,null,null,{"$f":"IF(ISNUMBER(SEARCH($C$6,BU495)),MAX($BT$13:BT494)+1,0)","v":482},0,{"$f":"ROWS($BV$14:BV495)","v":482},{"$f":"IFERROR(VLOOKUP(ROWS($BW$14:BW495),$BT$14:$BU$5000,2,0),\"\")","v":0}]
[null,null,null,null,null,null,null,null,null,null,null,null,null,null,null,null,null,null,null,null,null,null,null,null,null,null,null,null,null,null,null,null,null,null,null,null,null,null,null,null,null,null,null,null,null,null,null,null,null,null,null,null,null,null,null,null,null,null,null,null,null,null,null,null,null,null,null,null,null,null,null,{"$f":"IF(ISNUMBER(SEARCH($C$6,BU496)),MAX($BT$13:BT495)+1,0)","v":483},0,{"$f":"ROWS($BV$14:BV496)","v":483},{"$f":"IFERROR(VLOOKUP(ROWS($BW$14:BW496),$BT$14:$BU$5000,2,0),\"\")","v":0}]
[null,null,null,null,null,null,null,null,null,null,null,null,null,null,null,null,null,null,null,null,null,null,null,null,null,null,null,null,null,null,null,null,null,null,null,null,null,null,null,null,null,null,null,null,null,null,null,null,null,null,null,null,null,null,null,null,null,null,null,null,null,null,null,null,null,null,null,null,null,null,null,{"$f":"IF(ISNUMBER(SEARCH($C$6,BU497)),MAX($BT$13:BT496)+1,0)","v":484},0,{"$f":"ROWS($BV$14:BV497)","v":484},{"$f":"IFERROR(VLOOKUP(ROWS($BW$14:BW497),$BT$14:$BU$5000,2,0),\"\")","v":0}]
[null,null,null,null,null,null,null,null,null,null,null,null,null,null,null,null,null,null,null,null,null,null,null,null,null,null,null,null,null,null,null,null,null,null,null,null,null,null,null,null,null,null,null,null,null,null,null,null,null,null,null,null,null,null,null,null,null,null,null,null,null,null,null,null,null,null,null,null,null,null,null,{"$f":"IF(ISNUMBER(SEARCH($C$6,BU498)),MAX($BT$13:BT497)+1,0)","v":485},0,{"$f":"ROWS($BV$14:BV498)","v":485},{"$f":"IFERROR(VLOOKUP(ROWS($BW$14:BW498),$BT$14:$BU$5000,2,0),\"\")","v":0}]
[null,null,null,null,null,null,null,null,null,null,null,null,null,null,null,null,null,null,null,null,null,null,null,null,null,null,null,null,null,null,null,null,null,null,null,null,null,null,null,null,null,null,null,null,null,null,null,null,null,null,null,null,null,null,null,null,null,null,null,null,null,null,null,null,null,null,null,null,null,null,null,{"$f":"IF(ISNUMBER(SEARCH($C$6,BU499)),MAX($BT$13:BT498)+1,0)","v":486},0,{"$f":"ROWS($BV$14:BV499)","v":486},{"$f":"IFERROR(VLOOKUP(ROWS($BW$14:BW499),$BT$14:$BU$5000,2,0),\"\")","v":0}]
[null,null,null,null,null,null,null,null,null,null,null,null,null,null,null,null,null,null,null,null,null,null,null,null,null,null,null,null,null,null,null,null,null,null,null,null,null,null,null,null,null,null,null,null,null,null,null,null,null,null,null,null,null,null,null,null,null,null,null,null,null,null,null,null,null,null,null,null,null,null,null,{"$f":"IF(ISNUMBER(SEARCH($C$6,BU500)),MAX($BT$13:BT499)+1,0)","v":487},0,{"$f":"ROWS($BV$14:BV500)","v":487},{"$f":"IFERROR(VLOOKUP(ROWS($BW$14:BW500),$BT$14:$BU$5000,2,0),\"\")","v":0}]
[null,null,null,null,null,null,null,null,null,null,null,null,null,null,null,null,null,null,null,null,null,null,null,null,null,null,null,null,null,null,null,null,null,null,null,null,null,null,null,null,null,null,null,null,null,null,null,null,null,null,null,null,null,null,null,null,null,null,null,null,null,null,null,null,null,null,null,null,null,null,null,{"$f":"IF(ISNUMBER(SEARCH($C$6,BU502)),MAX($BT$13:BT501)+1,0)","v":489},0,{"$f":"ROWS($BV$14:BV502)","v":489},{"$f":"IFERROR(VLOOKUP(ROWS($BW$14:BW502),$BT$14:$BU$5000,2,0),\"\")","v":0}]
[null,null,null,null,null,null,null,null,null,null,null,null,null,null,null,null,null,null,null,null,null,null,null,null,null,null,null,null,null,null,null,null,null,null,null,null,null,null,null,null,null,null,null,null,null,null,null,null,null,null,null,null,null,null,null,null,null,null,null,null,null,null,null,null,null,null,null,null,null,null,null,{"$f":"IF(ISNUMBER(SEARCH($C$6,BU513)),MAX($BT$13:BT512)+1,0)","v":500},0,{"$f":"ROWS($BV$14:BV513)","v":500},{"$f":"IFERROR(VLOOKUP(ROWS($BW$14:BW513),$BT$14:$BU$5000,2,0),\"\")","v":0}]
[null,null,null,null,null,null,null,null,null,null,null,null,null,null,null,null,null,null,null,null,null,null,null,null,null,null,null,null,null,null,null,null,null,null,null,null,null,null,null,null,null,null,null,null,null,null,null,null,null,null,null,null,null,null,null,null,null,null,null,null,null,null,null,null,null,null,null,null,null,null,null,{"$f":"IF(ISNUMBER(SEARCH($C$6,BU525)),MAX($BT$13:BT524)+1,0)","v":512},0,{"$f":"ROWS($BV$14:BV525)","v":512},{"$f":"IFERROR(VLOOKUP(ROWS($BW$14:BW525),$BT$14:$BU$5000,2,0),\"\")","v":0}]
[null,null,null,null,null,null,null,null,null,null,null,null,null,null,null,null,null,null,null,null,null,null,null,null,null,null,null,null,null,null,null,null,null,null,null,null,null,null,null,null,null,null,null,null,null,null,null,null,null,null,null,null,null,null,null,null,null,null,null,null,null,null,null,null,null,null,null,null,null,null,null,{"$f":"IF(ISNUMBER(SEARCH($C$6,BU532)),MAX($BT$13:BT531)+1,0)","v":519},0,{"$f":"ROWS($BV$14:BV532)","v":519},{"$f":"IFERROR(VLOOKUP(ROWS($BW$14:BW532),$BT$14:$BU$5000,2,0),\"\")","v":0}]
[null,null,null,null,null,null,null,null,null,null,null,null,null,null,null,null,null,null,null,null,null,null,null,null,null,null,null,null,null,null,null,null,null,null,null,null,null,null,null,null,null,null,null,null,null,null,null,null,null,null,null,null,null,null,null,null,null,null,null,null,null,null,null,null,null,null,null,null,null,null,null,{"$f":"IF(ISNUMBER(SEARCH($C$6,BU541)),MAX($BT$13:BT540)+1,0)","v":528},0,{"$f":"ROWS($BV$14:BV541)","v":528},{"$f":"IFERROR(VLOOKUP(ROWS($BW$14:BW541),$BT$14:$BU$5000,2,0),\"\")","v":0}]
[null,null,null,null,null,null,null,null,null,null,null,null,null,null,null,null,null,null,null,null,null,null,null,null,null,null,null,null,null,null,null,null,null,null,null,null,null,null,null,null,null,null,null,null,null,null,null,null,null,null,null,null,null,null,null,null,null,null,null,null,null,null,null,null,null,null,null,null,null,null,null,{"$f":"IF(ISNUMBER(SEARCH($C$6,BU546)),MAX($BT$13:BT545)+1,0)","v":533},0,{"$f":"ROWS($BV$14:BV546)","v":533},{"$f":"IFERROR(VLOOKUP(ROWS($BW$14:BW546),$BT$14:$BU$5000,2,0),\"\")","v":0}]
[null,null,null,null,null,null,null,null,null,null,null,null,null,null,null,null,null,null,null,null,null,null,null,null,null,null,null,null,null,null,null,null,null,null,null,null,null,null,null,null,null,null,null,null,null,null,null,null,null,null,null,null,null,null,null,null,null,null,null,null,null,null,null,null,null,null,null,null,null,null,null,{"$f":"IF(ISNUMBER(SEARCH($C$6,BU553)),MAX($BT$13:BT552)+1,0)","v":540},0,{"$f":"ROWS($BV$14:BV553)","v":540},{"$f":"IFERROR(VLOOKUP(ROWS($BW$14:BW553),$BT$14:$BU$5000,2,0),\"\")","v":0}]
[null,null,null,null,null,null,null,null,null,null,null,null,null,null,null,null,null,null,null,null,null,null,null,null,null,null,null,null,null,null,null,null,null,null,null,null,null,null,null,null,null,null,null,null,null,null,null,null,null,null,null,null,null,null,null,null,null,null,null,null,null,null,null,null,null,null,null,null,null,null,null,{"$f":"IF(ISNUMBER(SEARCH($C$6,BU565)),MAX($BT$13:BT564)+1,0)","v":552},0,{"$f":"ROWS($BV$14:BV565)","v":552},{"$f":"IFERROR(VLOOKUP(ROWS($BW$14:BW565),$BT$14:$BU$5000,2,0),\"\")","v":0}]
[null,null,null,null,null,null,null,null,null,null,null,null,null,null,null,null,null,null,null,null,null,null,null,null,null,null,null,null,null,null,null,null,null,null,null,null,null,null,null,null,null,null,null,null,null,null,null,null,null,null,null,null,null,null,null,null,null,null,null,null,null,null,null,null,null,null,null,null,null,null,null,{"$f":"IF(ISNUMBER(SEARCH($C$6,BU572)),MAX($BT$13:BT571)+1,0)","v":559},0,{"$f":"ROWS($BV$14:BV572)","v":559},{"$f":"IFERROR(VLOOKUP(ROWS($BW$14:BW572),$BT$14:$BU$5000,2,0),\"\")","v":0}]
[null,null,null,null,null,null,null,null,null,null,null,null,null,null,null,null,null,null,null,null,null,null,null,null,null,null,null,null,null,null,null,null,null,null,null,null,null,null,null,null,null,null,null,null,null,null,null,null,null,null,null,null,null,null,null,null,null,null,null,null,null,null,null,null,null,null,null,null,null,null,null,{"$f":"IF(ISNUMBER(SEARCH($C$6,BU583)),MAX($BT$13:BT582)+1,0)","v":570},0,{"$f":"ROWS($BV$14:BV583)","v":570},{"$f":"IFERROR(VLOOKUP(ROWS($BW$14:BW583),$BT$14:$BU$5000,2,0),\"\")","v":0}]
[null,null,null,null,null,null,null,null,null,null,null,null,null,null,null,null,null,null,null,null,null,null,null,null,null,null,null,null,null,null,null,null,null,null,null,null,null,null,null,null,null,null,null,null,null,null,null,null,null,null,null,null,null,null,null,null,null,null,null,null,null,null,null,null,null,null,null,null,null,null,null,{"$f":"IF(ISNUMBER(SEARCH($C$6,BU595)),MAX($BT$13:BT594)+1,0)","v":582},0,{"$f":"ROWS($BV$14:BV595)","v":582},{"$f":"IFERROR(VLOOKUP(ROWS($BW$14:BW595),$BT$14:$BU$5000,2,0),\"\")","v":0}]
[null,null,null,null,null,null,null,null,null,null,null,null,null,null,null,null,null,null,null,null,null,null,null,null,null,null,null,null,null,null,null,null,null,null,null,null,null,null,null,null,null,null,null,null,null,null,null,null,null,null,null,null,null,null,null,null,null,null,null,null,null,null,null,null,null,null,null,null,null,null,null,{"$f":"IF(ISNUMBER(SEARCH($C$6,BU602)),MAX($BT$13:BT601)+1,0)","v":589},0,{"$f":"ROWS($BV$14:BV602)","v":589},{"$f":"IFERROR(VLOOKUP(ROWS($BW$14:BW602),$BT$14:$BU$5000,2,0),\"\")","v":0}]
[null,null,null,null,null,null,null,null,null,null,null,null,null,null,null,null,null,null,null,null,null,null,null,null,null,null,null,null,null,null,null,null,null,null,null,null,null,null,null,null,null,null,null,null,null,null,null,null,null,null,null,null,null,null,null,null,null,null,null,null,null,null,null,null,null,null,null,null,null,null,null,{"$f":"IF(ISNUMBER(SEARCH($C$6,BU611)),MAX($BT$13:BT610)+1,0)","v":598},0,{"$f":"ROWS($BV$14:BV611)","v":598},{"$f":"IFERROR(VLOOKUP(ROWS($BW$14:BW611),$BT$14:$BU$5000,2,0),\"\")","v":0}]
[null,null,null,null,null,null,null,null,null,null,null,null,null,null,null,null,null,null,null,null,null,null,null,null,null,null,null,null,null,null,null,null,null,null,null,null,null,null,null,null,null,null,null,null,null,null,null,null,null,null,null,null,null,null,null,null,null,null,null,null,null,null,null,null,null,null,null,null,null,null,null,{"$f":"IF(ISNUMBER(SEARCH($C$6,BU616)),MAX($BT$13:BT615)+1,0)","v":603},0,{"$f":"ROWS($BV$14:BV616)","v":603},{"$f":"IFERROR(VLOOKUP(ROWS($BW$14:BW616),$BT$14:$BU$5000,2,0),\"\")","v":0}]
[null,null,null,null,null,null,null,null,null,null,null,null,null,null,null,null,null,null,null,null,null,null,null,null,null,null,null,null,null,null,null,null,null,null,null,null,null,null,null,null,null,null,null,null,null,null,null,null,null,null,null,null,null,null,null,null,null,null,null,null,null,null,null,null,null,null,null,null,null,null,null,{"$f":"IF(ISNUMBER(SEARCH($C$6,BU623)),MAX($BT$13:BT622)+1,0)","v":610},0,{"$f":"ROWS($BV$14:BV623)","v":610},{"$f":"IFERROR(VLOOKUP(ROWS($BW$14:BW623),$BT$14:$BU$5000,2,0),\"\")","v":0}]
[null,null,null,null,null,null,null,null,null,null,null,null,null,null,null,null,null,null,null,null,null,null,null,null,null,null,null,null,null,null,null,null,null,null,null,null,null,null,null,null,null,null,null,null,null,null,null,null,null,null,null,null,null,null,null,null,null,null,null,null,null,null,null,null,null,null,null,null,null,null,null,{"$f":"IF(ISNUMBER(SEARCH($C$6,BU635)),MAX($BT$13:BT634)+1,0)","v":622},0,{"$f":"ROWS($BV$14:BV635)","v":622},{"$f":"IFERROR(VLOOKUP(ROWS($BW$14:BW635),$BT$14:$BU$5000,2,0),\"\")","v":0}]
[null,null,null,null,null,null,null,null,null,null,null,null,null,null,null,null,null,null,null,null,null,null,null,null,null,null,null,null,null,null,null,null,null,null,null,null,null,null,null,null,null,null,null,null,null,null,null,null,null,null,null,null,null,null,null,null,null,null,null,null,null,null,null,null,null,null,null,null,null,null,null,{"$f":"IF(ISNUMBER(SEARCH($C$6,BU642)),MAX($BT$13:BT641)+1,0)","v":629},0,{"$f":"ROWS($BV$14:BV642)","v":629},{"$f":"IFERROR(VLOOKUP(ROWS($BW$14:BW642),$BT$14:$BU$5000,2,0),\"\")","v":0}]
[null,null,null,null,null,null,null,null,null,null,null,null,null,null,null,null,null,null,null,null,null,null,null,null,null,null,null,null,null,null,null,null,null,null,null,null,null,null,null,null,null,null,null,null,null,null,null,null,null,null,null,null,null,null,null,null,null,null,null,null,null,null,null,null,null,null,null,null,null,null,null,{"$f":"IF(ISNUMBER(SEARCH($C$6,BU652)),MAX($BT$13:BT651)+1,0)","v":639},0,{"$f":"ROWS($BV$14:BV652)","v":639},{"$f":"IFERROR(VLOOKUP(ROWS($BW$14:BW652),$BT$14:$BU$5000,2,0),\"\")","v":0}]
[null,null,null,null,null,null,null,null,null,null,null,null,null,null,null,null,null,null,null,null,null,null,null,null,null,null,null,null,null,null,null,null,null,null,null,null,null,null,null,null,null,null,null,null,null,null,null,null,null,null,null,null,null,null,null,null,null,null,null,null,null,null,null,null,null,null,null,null,null,null,null,{"$f":"IF(ISNUMBER(SEARCH($C$6,BU665)),MAX($BT$13:BT664)+1,0)","v":652},0,{"$f":"ROWS($BV$14:BV665)","v":652},{"$f":"IFERROR(VLOOKUP(ROWS($BW$14:BW665),$BT$14:$BU$5000,2,0),\"\")","v":0}]
[null,null,null,null,null,null,null,null,null,null,null,null,null,null,null,null,null,null,null,null,null,null,null,null,null,null,null,null,null,null,null,null,null,null,null,null,null,null,null,null,null,null,null,null,null,null,null,null,null,null,null,null,null,null,null,null,null,null,null,null,null,null,null,null,null,null,null,null,null,null,null,{"$f":"IF(ISNUMBER(SEARCH($C$6,BU672)),MAX($BT$13:BT671)+1,0)","v":659},0,{"$f":"ROWS($BV$14:BV672)","v":659},{"$f":"IFERROR(VLOOKUP(ROWS($BW$14:BW672),$BT$14:$BU$5000,2,0),\"\")","v":0}]
[null,null,null,null,null,null,null,null,null,null,null,null,null,null,null,null,null,null,null,null,null,null,null,null,null,null,null,null,null,null,null,null,null,null,null,null,null,null,null,null,null,null,null,null,null,null,null,null,null,null,null,null,null,null,null,null,null,null,null,null,null,null,null,null,null,null,null,null,null,null,null,{"$f":"IF(ISNUMBER(SEARCH($C$6,BU684)),MAX($BT$13:BT683)+1,0)","v":671},0,{"$f":"ROWS($BV$14:BV684)","v":671},{"$f":"IFERROR(VLOOKUP(ROWS($BW$14:BW684),$BT$14:$BU$5000,2,0),\"\")","v":0}]
[null,null,null,null,null,null,null,null,null,null,null,null,null,null,null,null,null,null,null,null,null,null,null,null,null,null,null,null,null,null,null,null,null,null,null,null,null,null,null,null,null,null,null,null,null,null,null,null,null,null,null,null,null,null,null,null,null,null,null,null,null,null,null,null,null,null,null,null,null,null,null,{"$f":"IF(ISNUMBER(SEARCH($C$6,BU691)),MAX($BT$13:BT690)+1,0)","v":678},0,{"$f":"ROWS($BV$14:BV691)","v":678},{"$f":"IFERROR(VLOOKUP(ROWS($BW$14:BW691),$BT$14:$BU$5000,2,0),\"\")","v":0}]
[null,null,null,null,null,null,null,null,null,null,null,null,null,null,null,null,null,null,null,null,null,null,null,null,null,null,null,null,null,null,null,null,null,null,null,null,null,null,null,null,null,null,null,null,null,null,null,null,null,null,null,null,null,null,null,null,null,null,null,null,null,null,null,null,null,null,null,null,null,null,null,{"$f":"IF(ISNUMBER(SEARCH($C$6,BU693)),MAX($BT$13:BT692)+1,0)","v":680},0,{"$f":"ROWS($BV$14:BV693)","v":680},{"$f":"IFERROR(VLOOKUP(ROWS($BW$14:BW693),$BT$14:$BU$5000,2,0),\"\")","v":0}]
[null,null,null,null,null,null,null,null,null,null,null,null,null,null,null,null,null,null,null,null,null,null,null,null,null,null,null,null,null,null,null,null,null,null,null,null,null,null,null,null,null,null,null,null,null,null,null,null,null,null,null,null,null,null,null,null,null,null,null,null,null,null,null,null,null,null,null,null,null,null,null,{"$f":"IF(ISNUMBER(SEARCH($C$6,BU705)),MAX($BT$13:BT704)+1,0)","v":692},0,{"$f":"ROWS($BV$14:BV705)","v":692},{"$f":"IFERROR(VLOOKUP(ROWS($BW$14:BW705),$BT$14:$BU$5000,2,0),\"\")","v":0}]
[null,null,null,null,null,null,null,null,null,null,null,null,null,null,null,null,null,null,null,null,null,null,null,null,null,null,null,null,null,null,null,null,null,null,null,null,null,null,null,null,null,null,null,null,null,null,null,null,null,null,null,null,null,null,null,null,null,null,null,null,null,null,null,null,null,null,null,null,null,null,null,{"$f":"IF(ISNUMBER(SEARCH($C$6,BU712)),MAX($BT$13:BT711)+1,0)","v":699},0,{"$f":"ROWS($BV$14:BV712)","v":699},{"$f":"IFERROR(VLOOKUP(ROWS($BW$14:BW712),$BT$14:$BU$5000,2,0),\"\")","v":0}]
[null,null,null,null,null,null,null,null,null,null,null,null,null,null,null,null,null,null,null,null,null,null,null,null,null,null,null,null,null,null,null,null,null,null,null,null,null,null,null,null,null,null,null,null,null,null,null,null,null,null,null,null,null,null,null,null,null,null,null,null,null,null,null,null,null,null,null,null,null,null,null,{"$f":"IF(ISNUMBER(SEARCH($C$6,BU722)),MAX($BT$13:BT721)+1,0)","v":709},0,{"$f":"ROWS($BV$14:BV722)","v":709},{"$f":"IFERROR(VLOOKUP(ROWS($BW$14:BW722),$BT$14:$BU$5000,2,0),\"\")","v":0}]
[null,null,null,null,null,null,null,null,null,null,null,null,null,null,null,null,null,null,null,null,null,null,null,null,null,null,null,null,null,null,null,null,null,null,null,null,null,null,null,null,null,null,null,null,null,null,null,null,null,null,null,null,null,null,null,null,null,null,null,null,null,null,null,null,null,null,null,null,null,null,null,{"$f":"IF(ISNUMBER(SEARCH($C$6,BU735)),MAX($BT$13:BT734)+1,0)","v":722},0,{"$f":"ROWS($BV$14:BV735)","v":722},{"$f":"IFERROR(VLOOKUP(ROWS($BW$14:BW735),$BT$14:$BU$5000,2,0),\"\")","v":0}]
[null,null,null,null,null,null,null,null,null,null,null,null,null,null,null,null,null,null,null,null,null,null,null,null,null,null,null,null,null,null,null,null,null,null,null,null,null,null,null,null,null,null,null,null,null,null,null,null,null,null,null,null,null,null,null,null,null,null,null,null,null,null,null,null,null,null,null,null,null,null,null,{"$f":"IF(ISNUMBER(SEARCH($C$6,BU742)),MAX($BT$13:BT741)+1,0)","v":729},0,{"$f":"ROWS($BV$14:BV742)","v":729},{"$f":"IFERROR(VLOOKUP(ROWS($BW$14:BW742),$BT$14:$BU$5000,2,0),\"\")","v":0}]
[null,null,null,null,null,null,null,null,null,null,null,null,null,null,null,null,null,null,null,null,null,null,null,null,null,null,null,null,null,null,null,null,null,null,null,null,null,null,null,null,null,null,null,null,null,null,null,null,null,null,null,null,null,null,null,null,null,null,null,null,null,null,null,null,null,null,null,null,null,null,null,{"$f":"IF(ISNUMBER(SEARCH($C$6,BU754)),MAX($BT$13:BT753)+1,0)","v":741},0,{"$f":"ROWS($BV$14:BV754)","v":741},{"$f":"IFERROR(VLOOKUP(ROWS($BW$14:BW754),$BT$14:$BU$5000,2,0),\"\")","v":0}]
[null,null,null,null,null,null,null,null,null,null,null,null,null,null,null,null,null,null,null,null,null,null,null,null,null,null,null,null,null,null,null,null,null,null,null,null,null,null,null,null,null,null,null,null,null,null,null,null,null,null,null,null,null,null,null,null,null,null,null,null,null,null,null,null,null,null,null,null,null,null,null,{"$f":"IF(ISNUMBER(SEARCH($C$6,BU761)),MAX($BT$13:BT760)+1,0)","v":748},0,{"$f":"ROWS($BV$14:BV761)","v":748},{"$f":"IFERROR(VLOOKUP(ROWS($BW$14:BW761),$BT$14:$BU$5000,2,0),\"\")","v":0}]
[null,null,null,null,null,null,null,null,null,null,null,null,null,null,null,null,null,null,null,null,null,null,null,null,null,null,null,null,null,null,null,null,null,null,null,null,null,null,null,null,null,null,null,null,null,null,null,null,null,null,null,null,null,null,null,null,null,null,null,null,null,null,null,null,null,null,null,null,null,null,null,{"$f":"IF(ISNUMBER(SEARCH($C$6,BU763)),MAX($BT$13:BT762)+1,0)","v":750},0,{"$f":"ROWS($BV$14:BV763)","v":750},{"$f":"IFERROR(VLOOKUP(ROWS($BW$14:BW763),$BT$14:$BU$5000,2,0),\"\")","v":0}]
[null,null,null,null,null,null,null,null,null,null,null,null,null,null,null,null,null,null,null,null,null,null,null,null,null,null,null,null,null,null,null,null,null,null,null,null,null,null,null,null,null,null,null,null,null,null,null,null,null,null,null,null,null,null,null,null,null,null,null,null,null,null,null,null,null,null,null,null,null,null,null,{"$f":"IF(ISNUMBER(SEARCH($C$6,BU775)),MAX($BT$13:BT774)+1,0)","v":762},0,{"$f":"ROWS($BV$14:BV775)","v":762},{"$f":"IFERROR(VLOOKUP(ROWS($BW$14:BW775),$BT$14:$BU$5000,2,0),\"\")","v":0}]
[null,null,null,null,null,null,null,null,null,null,null,null,null,null,null,null,null,null,null,null,null,null,null,null,null,null,null,null,null,null,null,null,null,null,null,null,null,null,null,null,null,null,null,null,null,null,null,null,null,null,null,null,null,null,null,null,null,null,null,null,null,null,null,null,null,null,null,null,null,null,null,{"$f":"IF(ISNUMBER(SEARCH($C$6,BU782)),MAX($BT$13:BT781)+1,0)","v":769},0,{"$f":"ROWS($BV$14:BV782)","v":769},{"$f":"IFERROR(VLOOKUP(ROWS($BW$14:BW782),$BT$14:$BU$5000,2,0),\"\")","v":0}]
[null,null,null,null,null,null,null,null,null,null,null,null,null,null,null,null,null,null,null,null,null,null,null,null,null,null,null,null,null,null,null,null,null,null,null,null,null,null,null,null,null,null,null,null,null,null,null,null,null,null,null,null,null,null,null,null,null,null,null,null,null,null,null,null,null,null,null,null,null,null,null,{"$f":"IF(ISNUMBER(SEARCH($C$6,BU794)),MAX($BT$13:BT793)+1,0)","v":781},0,{"$f":"ROWS($BV$14:BV794)","v":781},{"$f":"IFERROR(VLOOKUP(ROWS($BW$14:BW794),$BT$14:$BU$5000,2,0),\"\")","v":0}]
[null,null,null,null,null,null,null,null,null,null,null,null,null,null,null,null,null,null,null,null,null,null,null,null,null,null,null,null,null,null,null,null,null,null,null,null,null,null,null,null,null,null,null,null,null,null,null,null,null,null,null,null,null,null,null,null,null,null,null,null,null,null,null,null,null,null,null,null,null,null,null,{"$f":"IF(ISNUMBER(SEARCH($C$6,BU802)),MAX($BT$13:BT801)+1,0)","v":789},0,{"$f":"ROWS($BV$14:BV802)","v":789},{"$f":"IFERROR(VLOOKUP(ROWS($BW$14:BW802),$BT$14:$BU$5000,2,0),\"\")","v":0}]
[null,null,null,null,null,null,null,null,null,null,null,null,null,null,null,null,null,null,null,null,null,null,null,null,null,null,null,null,null,null,null,null,null,null,null,null,null,null,null,null,null,null,null,null,null,null,null,null,null,null,null,null,null,null,null,null,null,null,null,null,null,null,null,null,null,null,null,null,null,null,null,{"$f":"IF(ISNUMBER(SEARCH($C$6,BU812)),MAX($BT$13:BT811)+1,0)","v":799},0,{"$f":"ROWS($BV$14:BV812)","v":799},{"$f":"IFERROR(VLOOKUP(ROWS($BW$14:BW812),$BT$14:$BU$5000,2,0),\"\")","v":0}]
[null,null,null,null,null,null,null,null,null,null,null,null,null,null,null,null,null,null,null,null,null,null,null,null,null,null,null,null,null,null,null,null,null,null,null,null,null,null,null,null,null,null,null,null,null,null,null,null,null,null,null,null,null,null,null,null,null,null,null,null,null,null,null,null,null,null,null,null,null,null,null,{"$f":"IF(ISNUMBER(SEARCH($C$6,BU824)),MAX($BT$13:BT823)+1,0)","v":811},0,{"$f":"ROWS($BV$14:BV824)","v":811},{"$f":"IFERROR(VLOOKUP(ROWS($BW$14:BW824),$BT$14:$BU$5000,2,0),\"\")","v":0}]
[null,null,null,null,null,null,null,null,null,null,null,null,null,null,null,null,null,null,null,null,null,null,null,null,null,null,null,null,null,null,null,null,null,null,null,null,null,null,null,null,null,null,null,null,null,null,null,null,null,null,null,null,null,null,null,null,null,null,null,null,null,null,null,null,null,null,null,null,null,null,null,{"$f":"IF(ISNUMBER(SEARCH($C$6,BU831)),MAX($BT$13:BT830)+1,0)","v":818},0,{"$f":"ROWS($BV$14:BV831)","v":818},{"$f":"IFERROR(VLOOKUP(ROWS($BW$14:BW831),$BT$14:$BU$5000,2,0),\"\")","v":0}]
[null,null,null,null,null,null,null,null,null,null,null,null,null,null,null,null,null,null,null,null,null,null,null,null,null,null,null,null,null,null,null,null,null,null,null,null,null,null,null,null,null,null,null,null,null,null,null,null,null,null,null,null,null,null,null,null,null,null,null,null,null,null,null,null,null,null,null,null,null,null,null,{"$f":"IF(ISNUMBER(SEARCH($C$6,BU841)),MAX($BT$13:BT840)+1,0)","v":828},0,{"$f":"ROWS($BV$14:BV841)","v":828},{"$f":"IFERROR(VLOOKUP(ROWS($BW$14:BW841),$BT$14:$BU$5000,2,0),\"\")","v":0}]
[null,null,null,null,null,null,null,null,null,null,null,null,null,null,null,null,null,null,null,null,null,null,null,null,null,null,null,null,null,null,null,null,null,null,null,null,null,null,null,null,null,null,null,null,null,null,null,null,null,null,null,null,null,null,null,null,null,null,null,null,null,null,null,null,null,null,null,null,null,null,null,{"$f":"IF(ISNUMBER(SEARCH($C$6,BU845)),MAX($BT$13:BT844)+1,0)","v":832},0,{"$f":"ROWS($BV$14:BV845)","v":832},{"$f":"IFERROR(VLOOKUP(ROWS($BW$14:BW845),$BT$14:$BU$5000,2,0),\"\")","v":0}]
[null,null,null,null,null,null,null,null,null,null,null,null,null,null,null,null,null,null,null,null,null,null,null,null,null,null,null,null,null,null,null,null,null,null,null,null,null,null,null,null,null,null,null,null,null,null,null,null,null,null,null,null,null,null,null,null,null,null,null,null,null,null,null,null,null,null,null,null,null,null,null,{"$f":"IF(ISNUMBER(SEARCH($C$6,BU852)),MAX($BT$13:BT851)+1,0)","v":839},0,{"$f":"ROWS($BV$14:BV852)","v":839},{"$f":"IFERROR(VLOOKUP(ROWS($BW$14:BW852),$BT$14:$BU$5000,2,0),\"\")","v":0}]
[null,null,null,null,null,null,null,null,null,null,null,null,null,null,null,null,null,null,null,null,null,null,null,null,null,null,null,null,null,null,null,null,null,null,null,null,null,null,null,null,null,null,null,null,null,null,null,null,null,null,null,null,null,null,null,null,null,null,null,null,null,null,null,null,null,null,null,null,null,null,null,{"$f":"IF(ISNUMBER(SEARCH($C$6,BU864)),MAX($BT$13:BT863)+1,0)","v":851},0,{"$f":"ROWS($BV$14:BV864)","v":851},{"$f":"IFERROR(VLOOKUP(ROWS($BW$14:BW864),$BT$14:$BU$5000,2,0),\"\")","v":0}]
[null,null,null,null,null,null,null,null,null,null,null,null,null,null,null,null,null,null,null,null,null,null,null,null,null,null,null,null,null,null,null,null,null,null,null,null,null,null,null,null,null,null,null,null,null,null,null,null,null,null,null,null,null,null,null,null,null,null,null,null,null,null,null,null,null,null,null,null,null,null,null,{"$f":"IF(ISNUMBER(SEARCH($C$6,BU872)),MAX($BT$13:BT871)+1,0)","v":859},0,{"$f":"ROWS($BV$14:BV872)","v":859},{"$f":"IFERROR(VLOOKUP(ROWS($BW$14:BW872),$BT$14:$BU$5000,2,0),\"\")","v":0}]
[null,null,null,null,null,null,null,null,null,null,null,null,null,null,null,null,null,null,null,null,null,null,null,null,null,null,null,null,null,null,null,null,null,null,null,null,null,null,null,null,null,null,null,null,null,null,null,null,null,null,null,null,null,null,null,null,null,null,null,null,null,null,null,null,null,null,null,null,null,null,null,{"$f":"IF(ISNUMBER(SEARCH($C$6,BU882)),MAX($BT$13:BT881)+1,0)","v":869},0,{"$f":"ROWS($BV$14:BV882)","v":869},{"$f":"IFERROR(VLOOKUP(ROWS($BW$14:BW882),$BT$14:$BU$5000,2,0),\"\")","v":0}]
[null,null,null,null,null,null,null,null,null,null,null,null,null,null,null,null,null,null,null,null,null,null,null,null,null,null,null,null,null,null,null,null,null,null,null,null,null,null,null,null,null,null,null,null,null,null,null,null,null,null,null,null,null,null,null,null,null,null,null,null,null,null,null,null,null,null,null,null,null,null,null,{"$f":"IF(ISNUMBER(SEARCH($C$6,BU894)),MAX($BT$13:BT893)+1,0)","v":881},0,{"$f":"ROWS($BV$14:BV894)","v":881},{"$f":"IFERROR(VLOOKUP(ROWS($BW$14:BW894),$BT$14:$BU$5000,2,0),\"\")","v":0}]
[null,null,null,null,null,null,null,null,null,null,null,null,null,null,null,null,null,null,null,null,null,null,null,null,null,null,null,null,null,null,null,null,null,null,null,null,null,null,null,null,null,null,null,null,null,null,null,null,null,null,null,null,null,null,null,null,null,null,null,null,null,null,null,null,null,null,null,null,null,null,null,{"$f":"IF(ISNUMBER(SEARCH($C$6,BU901)),MAX($BT$13:BT900)+1,0)","v":888},0,{"$f":"ROWS($BV$14:BV901)","v":888},{"$f":"IFERROR(VLOOKUP(ROWS($BW$14:BW901),$BT$14:$BU$5000,2,0),\"\")","v":0}]
[null,null,null,null,null,null,null,null,null,null,null,null,null,null,null,null,null,null,null,null,null,null,null,null,null,null,null,null,null,null,null,null,null,null,null,null,null,null,null,null,null,null,null,null,null,null,null,null,null,null,null,null,null,null,null,null,null,null,null,null,null,null,null,null,null,null,null,null,null,null,null,{"$f":"IF(ISNUMBER(SEARCH($C$6,BU904)),MAX($BT$13:BT903)+1,0)","v":891},0,{"$f":"ROWS($BV$14:BV904)","v":891},{"$f":"IFERROR(VLOOKUP(ROWS($BW$14:BW904),$BT$14:$BU$5000,2,0),\"\")","v":0}]
[null,null,null,null,null,null,null,null,null,null,null,null,null,null,null,null,null,null,null,null,null,null,null,null,null,null,null,null,null,null,null,null,null,null,null,null,null,null,null,null,null,null,null,null,null,null,null,null,null,null,null,null,null,null,null,null,null,null,null,null,null,null,null,null,null,null,null,null,null,null,null,{"$f":"IF(ISNUMBER(SEARCH($C$6,BU913)),MAX($BT$13:BT912)+1,0)","v":900},0,{"$f":"ROWS($BV$14:BV913)","v":900},{"$f":"IFERROR(VLOOKUP(ROWS($BW$14:BW913),$BT$14:$BU$5000,2,0),\"\")","v":0}]
[null,null,null,null,null,null,null,null,null,null,null,null,null,null,null,null,null,null,null,null,null,null,null,null,null,null,null,null,null,null,null,null,null,null,null,null,null,null,null,null,null,null,null,null,null,null,null,null,null,null,null,null,null,null,null,null,null,null,null,null,null,null,null,null,null,null,null,null,null,null,null,{"$f":"IF(ISNUMBER(SEARCH($C$6,BU922)),MAX($BT$13:BT921)+1,0)","v":909},0,{"$f":"ROWS($BV$14:BV922)","v":909},{"$f":"IFERROR(VLOOKUP(ROWS($BW$14:BW922),$BT$14:$BU$5000,2,0),\"\")","v":0}]
[null,null,null,null,null,null,null,null,null,null,null,null,null,null,null,null,null,null,null,null,null,null,null,null,null,null,null,null,null,null,null,null,null,null,null,null,null,null,null,null,null,null,null,null,null,null,null,null,null,null,null,null,null,null,null,null,null,null,null,null,null,null,null,null,null,null,null,null,null,null,null,{"$f":"IF(ISNUMBER(SEARCH($C$6,BU934)),MAX($BT$13:BT933)+1,0)","v":921},0,{"$f":"ROWS($BV$14:BV934)","v":921},{"$f":"IFERROR(VLOOKUP(ROWS($BW$14:BW934),$BT$14:$BU$5000,2,0),\"\")","v":0}]
[null,null,null,null,null,null,null,null,null,null,null,null,null,null,null,null,null,null,null,null,null,null,null,null,null,null,null,null,null,null,null,null,null,null,null,null,null,null,null,null,null,null,null,null,null,null,null,null,null,null,null,null,null,null,null,null,null,null,null,null,null,null,null,null,null,null,null,null,null,null,null,{"$f":"IF(ISNUMBER(SEARCH($C$6,BU941)),MAX($BT$13:BT940)+1,0)","v":928},0,{"$f":"ROWS($BV$14:BV941)","v":928},{"$f":"IFERROR(VLOOKUP(ROWS($BW$14:BW941),$BT$14:$BU$5000,2,0),\"\")","v":0}]
[null,null,null,null,null,null,null,null,null,null,null,null,null,null,null,null,null,null,null,null,null,null,null,null,null,null,null,null,null,null,null,null,null,null,null,null,null,null,null,null,null,null,null,null,null,null,null,null,null,null,null,null,null,null,null,null,null,null,null,null,null,null,null,null,null,null,null,null,null,null,null,{"$f":"IF(ISNUMBER(SEARCH($C$6,BU952)),MAX($BT$13:BT951)+1,0)","v":939},0,{"$f":"ROWS($BV$14:BV952)","v":939},{"$f":"IFERROR(VLOOKUP(ROWS($BW$14:BW952),$BT$14:$BU$5000,2,0),\"\")","v":0}]
[null,null,null,null,null,null,null,null,null,null,null,null,null,null,null,null,null,null,null,null,null,null,null,null,null,null,null,null,null,null,null,null,null,null,null,null,null,null,null,null,null,null,null,null,null,null,null,null,null,null,null,null,null,null,null,null,null,null,null,null,null,null,null,null,null,null,null,null,null,null,null,{"$f":"IF(ISNUMBER(SEARCH($C$6,BU964)),MAX($BT$13:BT963)+1,0)","v":951},0,{"$f":"ROWS($BV$14:BV964)","v":951},{"$f":"IFERROR(VLOOKUP(ROWS($BW$14:BW964),$BT$14:$BU$5000,2,0),\"\")","v":0}]
[null,null,null,null,null,null,null,null,null,null,null,null,null,null,null,null,null,null,null,null,null,null,null,null,null,null,null,null,null,null,null,null,null,null,null,null,null,null,null,null,null,null,null,null,null,null,null,null,null,null,null,null,null,null,null,null,null,null,null,null,null,null,null,null,null,null,null,null,null,null,null,{"$f":"IF(ISNUMBER(SEARCH($C$6,BU971)),MAX($BT$13:BT970)+1,0)","v":958},0,{"$f":"ROWS($BV$14:BV971)","v":958},{"$f":"IFERROR(VLOOKUP(ROWS($BW$14:BW971),$BT$14:$BU$5000,2,0),\"\")","v":0}]
[null,null,null,null,null,null,null,null,null,null,null,null,null,null,null,null,null,null,null,null,null,null,null,null,null,null,null,null,null,null,null,null,null,null,null,null,null,null,null,null,null,null,null,null,null,null,null,null,null,null,null,null,null,null,null,null,null,null,null,null,null,null,null,null,null,null,null,null,null,null,null,{"$f":"IF(ISNUMBER(SEARCH($C$6,BU974)),MAX($BT$13:BT973)+1,0)","v":961},0,{"$f":"ROWS($BV$14:BV974)","v":961},{"$f":"IFERROR(VLOOKUP(ROWS($BW$14:BW974),$BT$14:$BU$5000,2,0),\"\")","v":0}]
[null,null,null,null,null,null,null,null,null,null,null,null,null,null,null,null,null,null,null,null,null,null,null,null,null,null,null,null,null,null,null,null,null,null,null,null,null,null,null,null,null,null,null,null,null,null,null,null,null,null,null,null,null,null,null,null,null,null,null,null,null,null,null,null,null,null,null,null,null,null,null,{"$f":"IF(ISNUMBER(SEARCH($C$6,BU983)),MAX($BT$13:BT982)+1,0)","v":970},0,{"$f":"ROWS($BV$14:BV983)","v":970},{"$f":"IFERROR(VLOOKUP(ROWS($BW$14:BW983),$BT$14:$BU$5000,2,0),\"\")","v":0}]
[null,null,null,null,null,null,null,null,null,null,null,null,null,null,null,null,null,null,null,null,null,null,null,null,null,null,null,null,null,null,null,null,null,null,null,null,null,null,null,null,null,null,null,null,null,null,null,null,null,null,null,null,null,null,null,null,null,null,null,null,null,null,null,null,null,null,null,null,null,null,null,{"$f":"IF(ISNUMBER(SEARCH($C$6,BU992)),MAX($BT$13:BT991)+1,0)","v":979},0,{"$f":"ROWS($BV$14:BV992)","v":979},{"$f":"IFERROR(VLOOKUP(ROWS($BW$14:BW992),$BT$14:$BU$5000,2,0),\"\")","v":0}]
[null,null,null,null,null,null,null,null,null,null,null,null,null,null,null,null,null,null,null,null,null,null,null,null,null,null,null,null,null,null,null,null,null,null,null,null,null,null,null,null,null,null,null,null,null,null,null,null,null,null,null,null,null,null,null,null,null,null,null,null,null,null,null,null,null,null,null,null,null,null,null,{"$f":"IF(ISNUMBER(SEARCH($C$6,BU1004)),MAX($BT$13:BT1003)+1,0)","v":991},0,{"$f":"ROWS($BV$14:BV1004)","v":991},{"$f":"IFERROR(VLOOKUP(ROWS($BW$14:BW1004),$BT$14:$BU$5000,2,0),\"\")","v":0}]
[null,null,null,null,null,null,null,null,null,null,null,null,null,null,null,null,null,null,null,null,null,null,null,null,null,null,null,null,null,null,null,null,null,null,null,null,null,null,null,null,null,null,null,null,null,null,null,null,null,null,null,null,null,null,null,null,null,null,null,null,null,null,null,null,null,null,null,null,null,null,null,{"$f":"IF(ISNUMBER(SEARCH($C$6,BU1011)),MAX($BT$13:BT1010)+1,0)","v":998},0,{"$f":"ROWS($BV$14:BV1011)","v":998},{"$f":"IFERROR(VLOOKUP(ROWS($BW$14:BW1011),$BT$14:$BU$5000,2,0),\"\")","v":0}]
[null,null,null,null,null,null,null,null,null,null,null,null,null,null,null,null,null,null,null,null,null,null,null,null,null,null,null,null,null,null,null,null,null,null,null,null,null,null,null,null,null,null,null,null,null,null,null,null,null,null,null,null,null,null,null,null,null,null,null,null,null,null,null,null,null,null,null,null,null,null,null,{"$f":"IF(ISNUMBER(SEARCH($C$6,BU1022)),MAX($BT$13:BT1021)+1,0)","v":1009},0,{"$f":"ROWS($BV$14:BV1022)","v":1009},{"$f":"IFERROR(VLOOKUP(ROWS($BW$14:BW1022),$BT$14:$BU$5000,2,0),\"\")","v":0}]
[null,null,null,null,null,null,null,null,null,null,null,null,null,null,null,null,null,null,null,null,null,null,null,null,null,null,null,null,null,null,null,null,null,null,null,null,null,null,null,null,null,null,null,null,null,null,null,null,null,null,null,null,null,null,null,null,null,null,null,null,null,null,null,null,null,null,null,null,null,null,null,{"$f":"IF(ISNUMBER(SEARCH($C$6,BU1034)),MAX($BT$13:BT1033)+1,0)","v":1021},0,{"$f":"ROWS($BV$14:BV1034)","v":1021},{"$f":"IFERROR(VLOOKUP(ROWS($BW$14:BW1034),$BT$14:$BU$5000,2,0),\"\")","v":0}]
[null,null,null,null,null,null,null,null,null,null,null,null,null,null,null,null,null,null,null,null,null,null,null,null,null,null,null,null,null,null,null,null,null,null,null,null,null,null,null,null,null,null,null,null,null,null,null,null,null,null,null,null,null,null,null,null,null,null,null,null,null,null,null,null,null,null,null,null,null,null,null,{"$f":"IF(ISNUMBER(SEARCH($C$6,BU1041)),MAX($BT$13:BT1040)+1,0)","v":1028},0,{"$f":"ROWS($BV$14:BV1041)","v":1028},{"$f":"IFERROR(VLOOKUP(ROWS($BW$14:BW1041),$BT$14:$BU$5000,2,0),\"\")","v":0}]
[null,null,null,null,null,null,null,null,null,null,null,null,null,null,null,null,null,null,null,null,null,null,null,null,null,null,null,null,null,null,null,null,null,null,null,null,null,null,null,null,null,null,null,null,null,null,null,null,null,null,null,null,null,null,null,null,null,null,null,null,null,null,null,null,null,null,null,null,null,null,null,{"$f":"IF(ISNUMBER(SEARCH($C$6,BU1044)),MAX($BT$13:BT1043)+1,0)","v":1031},0,{"$f":"ROWS($BV$14:BV1044)","v":1031},{"$f":"IFERROR(VLOOKUP(ROWS($BW$14:BW1044),$BT$14:$BU$5000,2,0),\"\")","v":0}]
[null,null,null,null,null,null,null,null,null,null,null,null,null,null,null,null,null,null,null,null,null,null,null,null,null,null,null,null,null,null,null,null,null,null,null,null,null,null,null,null,null,null,null,null,null,null,null,null,null,null,null,null,null,null,null,null,null,null,null,null,null,null,null,null,null,null,null,null,null,null,null,{"$f":"IF(ISNUMBER(SEARCH($C$6,BU1060)),MAX($BT$13:BT1059)+1,0)","v":1047},0,{"$f":"ROWS($BV$14:BV1060)","v":1047},{"$f":"IFERROR(VLOOKUP(ROWS($BW$14:BW1060),$BT$14:$BU$5000,2,0),\"\")","v":0}]
[null,null,null,null,null,null,null,null,null,null,null,null,null,null,null,null,null,null,null,null,null,null,null,null,null,null,null,null,null,null,null,null,null,null,null,null,null,null,null,null,null,null,null,null,null,null,null,null,null,null,null,null,null,null,null,null,null,null,null,null,null,null,null,null,null,null,null,null,null,null,null,{"$f":"IF(ISNUMBER(SEARCH($C$6,BU1063)),MAX($BT$13:BT1062)+1,0)","v":1050},0,{"$f":"ROWS($BV$14:BV1063)","v":1050},{"$f":"IFERROR(VLOOKUP(ROWS($BW$14:BW1063),$BT$14:$BU$5000,2,0),\"\")","v":0}]
[null,null,null,null,null,null,null,null,null,null,null,null,null,null,null,null,null,null,null,null,null,null,null,null,null,null,null,null,null,null,null,null,null,null,null,null,null,null,null,null,null,null,null,null,null,null,null,null,null,null,null,null,null,null,null,null,null,null,null,null,null,null,null,null,null,null,null,null,null,null,null,{"$f":"IF(ISNUMBER(SEARCH($C$6,BU1074)),MAX($BT$13:BT1073)+1,0)","v":1061},0,{"$f":"ROWS($BV$14:BV1074)","v":1061},{"$f":"IFERROR(VLOOKUP(ROWS($BW$14:BW1074),$BT$14:$BU$5000,2,0),\"\")","v":0}]
[null,null,null,null,null,null,null,null,null,null,null,null,null,null,null,null,null,null,null,null,null,null,null,null,null,null,null,null,null,null,null,null,null,null,null,null,null,null,null,null,null,null,null,null,null,null,null,null,null,null,null,null,null,null,null,null,null,null,null,null,null,null,null,null,null,null,null,null,null,null,null,{"$f":"IF(ISNUMBER(SEARCH($C$6,BU1081)),MAX($BT$13:BT1080)+1,0)","v":1068},0,{"$f":"ROWS($BV$14:BV1081)","v":1068},{"$f":"IFERROR(VLOOKUP(ROWS($BW$14:BW1081),$BT$14:$BU$5000,2,0),\"\")","v":0}]
[null,null,null,null,null,null,null,null,null,null,null,null,null,null,null,null,null,null,null,null,null,null,null,null,null,null,null,null,null,null,null,null,null,null,null,null,null,null,null,null,null,null,null,null,null,null,null,null,null,null,null,null,null,null,null,null,null,null,null,null,null,null,null,null,null,null,null,null,null,null,null,{"$f":"IF(ISNUMBER(SEARCH($C$6,BU1093)),MAX($BT$13:BT1092)+1,0)","v":1080},0,{"$f":"ROWS($BV$14:BV1093)","v":1080},{"$f":"IFERROR(VLOOKUP(ROWS($BW$14:BW1093),$BT$14:$BU$5000,2,0),\"\")","v":0}]
[null,null,null,null,null,null,null,null,null,null,null,null,null,null,null,null,null,null,null,null,null,null,null,null,null,null,null,null,null,null,null,null,null,null,null,null,null,null,null,null,null,null,null,null,null,null,null,null,null,null,null,null,null,null,null,null,null,null,null,null,null,null,null,null,null,null,null,null,null,null,null,{"$f":"IF(ISNUMBER(SEARCH($C$6,BU1102)),MAX($BT$13:BT1101)+1,0)","v":1089},0,{"$f":"ROWS($BV$14:BV1102)","v":1089},{"$f":"IFERROR(VLOOKUP(ROWS($BW$14:BW1102),$BT$14:$BU$5000,2,0),\"\")","v":0}]
[null,null,null,null,null,null,null,null,null,null,null,null,null,null,null,null,null,null,null,null,null,null,null,null,null,null,null,null,null,null,null,null,null,null,null,null,null,null,null,null,null,null,null,null,null,null,null,null,null,null,null,null,null,null,null,null,null,null,null,null,null,null,null,null,null,null,null,null,null,null,null,{"$f":"IF(ISNUMBER(SEARCH($C$6,BU1111)),MAX($BT$13:BT1110)+1,0)","v":1098},0,{"$f":"ROWS($BV$14:BV1111)","v":1098},{"$f":"IFERROR(VLOOKUP(ROWS($BW$14:BW1111),$BT$14:$BU$5000,2,0),\"\")","v":0}]
[null,null,null,null,null,null,null,null,null,null,null,null,null,null,null,null,null,null,null,null,null,null,null,null,null,null,null,null,null,null,null,null,null,null,null,null,null,null,null,null,null,null,null,null,null,null,null,null,null,null,null,null,null,null,null,null,null,null,null,null,null,null,null,null,null,null,null,null,null,null,null,{"$f":"IF(ISNUMBER(SEARCH($C$6,BU1114)),MAX($BT$13:BT1113)+1,0)","v":1101},0,{"$f":"ROWS($BV$14:BV1114)","v":1101},{"$f":"IFERROR(VLOOKUP(ROWS($BW$14:BW1114),$BT$14:$BU$5000,2,0),\"\")","v":0}]
[null,null,null,null,null,null,null,null,null,null,null,null,null,null,null,null,null,null,null,null,null,null,null,null,null,null,null,null,null,null,null,null,null,null,null,null,null,null,null,null,null,null,null,null,null,null,null,null,null,null,null,null,null,null,null,null,null,null,null,null,null,null,null,null,null,null,null,null,null,null,null,{"$f":"IF(ISNUMBER(SEARCH($C$6,BU1130)),MAX($BT$13:BT1129)+1,0)","v":1117},0,{"$f":"ROWS($BV$14:BV1130)","v":1117},{"$f":"IFERROR(VLOOKUP(ROWS($BW$14:BW1130),$BT$14:$BU$5000,2,0),\"\")","v":0}]
[null,null,null,null,null,null,null,null,null,null,null,null,null,null,null,null,null,null,null,null,null,null,null,null,null,null,null,null,null,null,null,null,null,null,null,null,null,null,null,null,null,null,null,null,null,null,null,null,null,null,null,null,null,null,null,null,null,null,null,null,null,null,null,null,null,null,null,null,null,null,null,{"$f":"IF(ISNUMBER(SEARCH($C$6,BU1133)),MAX($BT$13:BT1132)+1,0)","v":1120},0,{"$f":"ROWS($BV$14:BV1133)","v":1120},{"$f":"IFERROR(VLOOKUP(ROWS($BW$14:BW1133),$BT$14:$BU$5000,2,0),\"\")","v":0}]
[null,null,null,null,null,null,null,null,null,null,null,null,null,null,null,null,null,null,null,null,null,null,null,null,null,null,null,null,null,null,null,null,null,null,null,null,null,null,null,null,null,null,null,null,null,null,null,null,null,null,null,null,null,null,null,null,null,null,null,null,null,null,null,null,null,null,null,null,null,null,null,{"$f":"IF(ISNUMBER(SEARCH($C$6,BU1144)),MAX($BT$13:BT1143)+1,0)","v":1131},0,{"$f":"ROWS($BV$14:BV1144)","v":1131},{"$f":"IFERROR(VLOOKUP(ROWS($BW$14:BW1144),$BT$14:$BU$5000,2,0),\"\")","v":0}]
[null,null,null,null,null,null,null,null,null,null,null,null,null,null,null,null,null,null,null,null,null,null,null,null,null,null,null,null,null,null,null,null,null,null,null,null,null,null,null,null,null,null,null,null,null,null,null,null,null,null,null,null,null,null,null,null,null,null,null,null,null,null,null,null,null,null,null,null,null,null,null,{"$f":"IF(ISNUMBER(SEARCH($C$6,BU1151)),MAX($BT$13:BT1150)+1,0)","v":1138},0,{"$f":"ROWS($BV$14:BV1151)","v":1138},{"$f":"IFERROR(VLOOKUP(ROWS($BW$14:BW1151),$BT$14:$BU$5000,2,0),\"\")","v":0}]
[null,null,null,null,null,null,null,null,null,null,null,null,null,null,null,null,null,null,null,null,null,null,null,null,null,null,null,null,null,null,null,null,null,null,null,null,null,null,null,null,null,null,null,null,null,null,null,null,null,null,null,null,null,null,null,null,null,null,null,null,null,null,null,null,null,null,null,null,null,null,null,{"$f":"IF(ISNUMBER(SEARCH($C$6,BU1163)),MAX($BT$13:BT1162)+1,0)","v":1150},0,{"$f":"ROWS($BV$14:BV1163)","v":1150},{"$f":"IFERROR(VLOOKUP(ROWS($BW$14:BW1163),$BT$14:$BU$5000,2,0),\"\")","v":0}]
[null,null,null,null,null,null,null,null,null,null,null,null,null,null,null,null,null,null,null,null,null,null,null,null,null,null,null,null,null,null,null,null,null,null,null,null,null,null,null,null,null,null,null,null,null,null,null,null,null,null,null,null,null,null,null,null,null,null,null,null,null,null,null,null,null,null,null,null,null,null,null,{"$f":"IF(ISNUMBER(SEARCH($C$6,BU1172)),MAX($BT$13:BT1171)+1,0)","v":1159},0,{"$f":"ROWS($BV$14:BV1172)","v":1159},{"$f":"IFERROR(VLOOKUP(ROWS($BW$14:BW1172),$BT$14:$BU$5000,2,0),\"\")","v":0}]
[null,null,null,null,null,null,null,null,null,null,null,null,null,null,null,null,null,null,null,null,null,null,null,null,null,null,null,null,null,null,null,null,null,null,null,null,null,null,null,null,null,null,null,null,null,null,null,null,null,null,null,null,null,null,null,null,null,null,null,null,null,null,null,null,null,null,null,null,null,null,null,{"$f":"IF(ISNUMBER(SEARCH($C$6,BU1181)),MAX($BT$13:BT1180)+1,0)","v":1168},0,{"$f":"ROWS($BV$14:BV1181)","v":1168},{"$f":"IFERROR(VLOOKUP(ROWS($BW$14:BW1181),$BT$14:$BU$5000,2,0),\"\")","v":0}]
[null,null,null,null,null,null,null,null,null,null,null,null,null,null,null,null,null,null,null,null,null,null,null,null,null,null,null,null,null,null,null,null,null,null,null,null,null,null,null,null,null,null,null,null,null,null,null,null,null,null,null,null,null,null,null,null,null,null,null,null,null,null,null,null,null,null,null,null,null,null,null,{"$f":"IF(ISNUMBER(SEARCH($C$6,BU1184)),MAX($BT$13:BT1183)+1,0)","v":1171},0,{"$f":"ROWS($BV$14:BV1184)","v":1171},{"$f":"IFERROR(VLOOKUP(ROWS($BW$14:BW1184),$BT$14:$BU$5000,2,0),\"\")","v":0}]
[null,null,null,null,null,null,null,null,null,null,null,null,null,null,null,null,null,null,null,null,null,null,null,null,null,null,null,null,null,null,null,null,null,null,null,null,null,null,null,null,null,null,null,null,null,null,null,null,null,null,null,null,null,null,null,null,null,null,null,null,null,null,null,null,null,null,null,null,null,null,null,{"$f":"IF(ISNUMBER(SEARCH($C$6,BU1200)),MAX($BT$13:BT1199)+1,0)","v":1187},0,{"$f":"ROWS($BV$14:BV1200)","v":1187},{"$f":"IFERROR(VLOOKUP(ROWS($BW$14:BW1200),$BT$14:$BU$5000,2,0),\"\")","v":0}]
[null,null,null,null,null,null,null,null,null,null,null,null,null,null,null,null,null,null,null,null,null,null,null,null,null,null,null,null,null,null,null,null,null,null,null,null,null,null,null,null,null,null,null,null,null,null,null,null,null,null,null,null,null,null,null,null,null,null,null,null,null,null,null,null,null,null,null,null,null,null,null,{"$f":"IF(ISNUMBER(SEARCH($C$6,BU1203)),MAX($BT$13:BT1202)+1,0)","v":1190},0,{"$f":"ROWS($BV$14:BV1203)","v":1190},{"$f":"IFERROR(VLOOKUP(ROWS($BW$14:BW1203),$BT$14:$BU$5000,2,0),\"\")","v":0}]
[null,null,null,null,null,null,null,null,null,null,null,null,null,null,null,null,null,null,null,null,null,null,null,null,null,null,null,null,null,null,null,null,null,null,null,null,null,null,null,null,null,null,null,null,null,null,null,null,null,null,null,null,null,null,null,null,null,null,null,null,null,null,null,null,null,null,null,null,null,null,null,{"$f":"IF(ISNUMBER(SEARCH($C$6,BU1213)),MAX($BT$13:BT1212)+1,0)","v":1200},0,{"$f":"ROWS($BV$14:BV1213)","v":1200},{"$f":"IFERROR(VLOOKUP(ROWS($BW$14:BW1213),$BT$14:$BU$5000,2,0),\"\")","v":0}]
[null,null,null,null,null,null,null,null,null,null,null,null,null,null,null,null,null,null,null,null,null,null,null,null,null,null,null,null,null,null,null,null,null,null,null,null,null,null,null,null,null,null,null,null,null,null,null,null,null,null,null,null,null,null,null,null,null,null,null,null,null,null,null,null,null,null,null,null,null,null,null,{"$f":"IF(ISNUMBER(SEARCH($C$6,BU1221)),MAX($BT$13:BT1220)+1,0)","v":1208},0,{"$f":"ROWS($BV$14:BV1221)","v":1208},{"$f":"IFERROR(VLOOKUP(ROWS($BW$14:BW1221),$BT$14:$BU$5000,2,0),\"\")","v":0}]
[null,null,null,null,null,null,null,null,null,null,null,null,null,null,null,null,null,null,null,null,null,null,null,null,null,null,null,null,null,null,null,null,null,null,null,null,null,null,null,null,null,null,null,null,null,null,null,null,null,null,null,null,null,null,null,null,null,null,null,null,null,null,null,null,null,null,null,null,null,null,null,{"$f":"IF(ISNUMBER(SEARCH($C$6,BU1233)),MAX($BT$13:BT1232)+1,0)","v":1220},0,{"$f":"ROWS($BV$14:BV1233)","v":1220},{"$f":"IFERROR(VLOOKUP(ROWS($BW$14:BW1233),$BT$14:$BU$5000,2,0),\"\")","v":0}]
[null,null,null,null,null,null,null,null,null,null,null,null,null,null,null,null,null,null,null,null,null,null,null,null,null,null,null,null,null,null,null,null,null,null,null,null,null,null,null,null,null,null,null,null,null,null,null,null,null,null,null,null,null,null,null,null,null,null,null,null,null,null,null,null,null,null,null,null,null,null,null,{"$f":"IF(ISNUMBER(SEARCH($C$6,BU1240)),MAX($BT$13:BT1239)+1,0)","v":1227},0,{"$f":"ROWS($BV$14:BV1240)","v":1227},{"$f":"IFERROR(VLOOKUP(ROWS($BW$14:BW1240),$BT$14:$BU$5000,2,0),\"\")","v":0}]
[null,null,null,null,null,null,null,null,null,null,null,null,null,null,null,null,null,null,null,null,null,null,null,null,null,null,null,null,null,null,null,null,null,null,null,null,null,null,null,null,null,null,null,null,null,null,null,null,null,null,null,null,null,null,null,null,null,null,null,null,null,null,null,null,null,null,null,null,null,null,null,{"$f":"IF(ISNUMBER(SEARCH($C$6,BU1252)),MAX($BT$13:BT1251)+1,0)","v":1239},0,{"$f":"ROWS($BV$14:BV1252)","v":1239},{"$f":"IFERROR(VLOOKUP(ROWS($BW$14:BW1252),$BT$14:$BU$5000,2,0),\"\")","v":0}]
[null,null,null,null,null,null,null,null,null,null,null,null,null,null,null,null,null,null,null,null,null,null,null,null,null,null,null,null,null,null,null,null,null,null,null,null,null,null,null,null,null,null,null,null,null,null,null,null,null,null,null,null,null,null,null,null,null,null,null,null,null,null,null,null,null,null,null,null,null,null,null,{"$f":"IF(ISNUMBER(SEARCH($C$6,BU1254)),MAX($BT$13:BT1253)+1,0)","v":1241},0,{"$f":"ROWS($BV$14:BV1254)","v":1241},{"$f":"IFERROR(VLOOKUP(ROWS($BW$14:BW1254),$BT$14:$BU$5000,2,0),\"\")","v":0}]
[null,null,null,null,null,null,null,null,null,null,null,null,null,null,null,null,null,null,null,null,null,null,null,null,null,null,null,null,null,null,null,null,null,null,null,null,null,null,null,null,null,null,null,null,null,null,null,null,null,null,null,null,null,null,null,null,null,null,null,null,null,null,null,null,null,null,null,null,null,null,null,{"$f":"IF(ISNUMBER(SEARCH($C$6,BU1270)),MAX($BT$13:BT1269)+1,0)","v":1257},0,{"$f":"ROWS($BV$14:BV1270)","v":1257},{"$f":"IFERROR(VLOOKUP(ROWS($BW$14:BW1270),$BT$14:$BU$5000,2,0),\"\")","v":0}]
[null,null,null,null,null,null,null,null,null,null,null,null,null,null,null,null,null,null,null,null,null,null,null,null,null,null,null,null,null,null,null,null,null,null,null,null,null,null,null,null,null,null,null,null,null,null,null,null,null,null,null,null,null,null,null,null,null,null,null,null,null,null,null,null,null,null,null,null,null,null,null,{"$f":"IF(ISNUMBER(SEARCH($C$6,BU1273)),MAX($BT$13:BT1272)+1,0)","v":1260},0,{"$f":"ROWS($BV$14:BV1273)","v":1260},{"$f":"IFERROR(VLOOKUP(ROWS($BW$14:BW1273),$BT$14:$BU$5000,2,0),\"\")","v":0}]
[null,null,null,null,null,null,null,null,null,null,null,null,null,null,null,null,null,null,null,null,null,null,null,null,null,null,null,null,null,null,null,null,null,null,null,null,null,null,null,null,null,null,null,null,null,null,null,null,null,null,null,null,null,null,null,null,null,null,null,null,null,null,null,null,null,null,null,null,null,null,null,{"$f":"IF(ISNUMBER(SEARCH($C$6,BU1283)),MAX($BT$13:BT1282)+1,0)","v":1270},0,{"$f":"ROWS($BV$14:BV1283)","v":1270},{"$f":"IFERROR(VLOOKUP(ROWS($BW$14:BW1283),$BT$14:$BU$5000,2,0),\"\")","v":0}]
[null,null,null,null,null,null,null,null,null,null,null,null,null,null,null,null,null,null,null,null,null,null,null,null,null,null,null,null,null,null,null,null,null,null,null,null,null,null,null,null,null,null,null,null,null,null,null,null,null,null,null,null,null,null,null,null,null,null,null,null,null,null,null,null,null,null,null,null,null,null,null,{"$f":"IF(ISNUMBER(SEARCH($C$6,BU1291)),MAX($BT$13:BT1290)+1,0)","v":1278},0,{"$f":"ROWS($BV$14:BV1291)","v":1278},{"$f":"IFERROR(VLOOKUP(ROWS($BW$14:BW1291),$BT$14:$BU$5000,2,0),\"\")","v":0}]
[null,null,null,null,null,null,null,null,null,null,null,null,null,null,null,null,null,null,null,null,null,null,null,null,null,null,null,null,null,null,null,null,null,null,null,null,null,null,null,null,null,null,null,null,null,null,null,null,null,null,null,null,null,null,null,null,null,null,null,null,null,null,null,null,null,null,null,null,null,null,null,{"$f":"IF(ISNUMBER(SEARCH($C$6,BU1303)),MAX($BT$13:BT1302)+1,0)","v":1290},0,{"$f":"ROWS($BV$14:BV1303)","v":1290},{"$f":"IFERROR(VLOOKUP(ROWS($BW$14:BW1303),$BT$14:$BU$5000,2,0),\"\")","v":0}]
[null,null,null,null,null,null,null,null,null,null,null,null,null,null,null,null,null,null,null,null,null,null,null,null,null,null,null,null,null,null,null,null,null,null,null,null,null,null,null,null,null,null,null,null,null,null,null,null,null,null,null,null,null,null,null,null,null,null,null,null,null,null,null,null,null,null,null,null,null,null,null,{"$f":"IF(ISNUMBER(SEARCH($C$6,BU1310)),MAX($BT$13:BT1309)+1,0)","v":1297},0,{"$f":"ROWS($BV$14:BV1310)","v":1297},{"$f":"IFERROR(VLOOKUP(ROWS($BW$14:BW1310),$BT$14:$BU$5000,2,0),\"\")","v":0}]
[null,null,null,null,null,null,null,null,null,null,null,null,null,null,null,null,null,null,null,null,null,null,null,null,null,null,null,null,null,null,null,null,null,null,null,null,null,null,null,null,null,null,null,null,null,null,null,null,null,null,null,null,null,null,null,null,null,null,null,null,null,null,null,null,null,null,null,null,null,null,null,{"$f":"IF(ISNUMBER(SEARCH($C$6,BU1322)),MAX($BT$13:BT1321)+1,0)","v":1309},0,{"$f":"ROWS($BV$14:BV1322)","v":1309},{"$f":"IFERROR(VLOOKUP(ROWS($BW$14:BW1322),$BT$14:$BU$5000,2,0),\"\")","v":0}]
[null,null,null,null,null,null,null,null,null,null,null,null,null,null,null,null,null,null,null,null,null,null,null,null,null,null,null,null,null,null,null,null,null,null,null,null,null,null,null,null,null,null,null,null,null,null,null,null,null,null,null,null,null,null,null,null,null,null,null,null,null,null,null,null,null,null,null,null,null,null,null,{"$f":"IF(ISNUMBER(SEARCH($C$6,BU1332)),MAX($BT$13:BT1331)+1,0)","v":1319},0,{"$f":"ROWS($BV$14:BV1332)","v":1319},{"$f":"IFERROR(VLOOKUP(ROWS($BW$14:BW1332),$BT$14:$BU$5000,2,0),\"\")","v":0}]
[null,null,null,null,null,null,null,null,null,null,null,null,null,null,null,null,null,null,null,null,null,null,null,null,null,null,null,null,null,null,null,null,null,null,null,null,null,null,null,null,null,null,null,null,null,null,null,null,null,null,null,null,null,null,null,null,null,null,null,null,null,null,null,null,null,null,null,null,null,null,null,{"$f":"IF(ISNUMBER(SEARCH($C$6,BU1340)),MAX($BT$13:BT1339)+1,0)","v":1327},0,{"$f":"ROWS($BV$14:BV1340)","v":1327},{"$f":"IFERROR(VLOOKUP(ROWS($BW$14:BW1340),$BT$14:$BU$5000,2,0),\"\")","v":0}]
[null,null,null,null,null,null,null,null,null,null,null,null,null,null,null,null,null,null,null,null,null,null,null,null,null,null,null,null,null,null,null,null,null,null,null,null,null,null,null,null,null,null,null,null,null,null,null,null,null,null,null,null,null,null,null,null,null,null,null,null,null,null,null,null,null,null,null,null,null,null,null,{"$f":"IF(ISNUMBER(SEARCH($C$6,BU1343)),MAX($BT$13:BT1342)+1,0)","v":1330},0,{"$f":"ROWS($BV$14:BV1343)","v":1330},{"$f":"IFERROR(VLOOKUP(ROWS($BW$14:BW1343),$BT$14:$BU$5000,2,0),\"\")","v":0}]
[null,null,null,null,null,null,null,null,null,null,null,null,null,null,null,null,null,null,null,null,null,null,null,null,null,null,null,null,null,null,null,null,null,null,null,null,null,null,null,null,null,null,null,null,null,null,null,null,null,null,null,null,null,null,null,null,null,null,null,null,null,null,null,null,null,null,null,null,null,null,null,{"$f":"IF(ISNUMBER(SEARCH($C$6,BU1359)),MAX($BT$13:BT1358)+1,0)","v":1346},0,{"$f":"ROWS($BV$14:BV1359)","v":1346},{"$f":"IFERROR(VLOOKUP(ROWS($BW$14:BW1359),$BT$14:$BU$5000,2,0),\"\")","v":0}]
[null,null,null,null,null,null,null,null,null,null,null,null,null,null,null,null,null,null,null,null,null,null,null,null,null,null,null,null,null,null,null,null,null,null,null,null,null,null,null,null,null,null,null,null,null,null,null,null,null,null,null,null,null,null,null,null,null,null,null,null,null,null,null,null,null,null,null,null,null,null,null,{"$f":"IF(ISNUMBER(SEARCH($C$6,BU1363)),MAX($BT$13:BT1362)+1,0)","v":1350},0,{"$f":"ROWS($BV$14:BV1363)","v":1350},{"$f":"IFERROR(VLOOKUP(ROWS($BW$14:BW1363),$BT$14:$BU$5000,2,0),\"\")","v":0}]
[null,null,null,null,null,null,null,null,null,null,null,null,null,null,null,null,null,null,null,null,null,null,null,null,null,null,null,null,null,null,null,null,null,null,null,null,null,null,null,null,null,null,null,null,null,null,null,null,null,null,null,null,null,null,null,null,null,null,null,null,null,null,null,null,null,null,null,null,null,null,null,{"$f":"IF(ISNUMBER(SEARCH($C$6,BU1373)),MAX($BT$13:BT1372)+1,0)","v":1360},0,{"$f":"ROWS($BV$14:BV1373)","v":1360},{"$f":"IFERROR(VLOOKUP(ROWS($BW$14:BW1373),$BT$14:$BU$5000,2,0),\"\")","v":0}]
[null,null,null,null,null,null,null,null,null,null,null,null,null,null,null,null,null,null,null,null,null,null,null,null,null,null,null,null,null,null,null,null,null,null,null,null,null,null,null,null,null,null,null,null,null,null,null,null,null,null,null,null,null,null,null,null,null,null,null,null,null,null,null,null,null,null,null,null,null,null,null,{"$f":"IF(ISNUMBER(SEARCH($C$6,BU1380)),MAX($BT$13:BT1379)+1,0)","v":1367},0,{"$f":"ROWS($BV$14:BV1380)","v":1367},{"$f":"IFERROR(VLOOKUP(ROWS($BW$14:BW1380),$BT$14:$BU$5000,2,0),\"\")","v":0}]
[null,null,null,null,null,null,null,null,null,null,null,null,null,null,null,null,null,null,null,null,null,null,null,null,null,null,null,null,null,null,null,null,null,null,null,null,null,null,null,null,null,null,null,null,null,null,null,null,null,null,null,null,null,null,null,null,null,null,null,null,null,null,null,null,null,null,null,null,null,null,null,{"$f":"IF(ISNUMBER(SEARCH($C$6,BU1392)),MAX($BT$13:BT1391)+1,0)","v":1379},0,{"$f":"ROWS($BV$14:BV1392)","v":1379},{"$f":"IFERROR(VLOOKUP(ROWS($BW$14:BW1392),$BT$14:$BU$5000,2,0),\"\")","v":0}]
[null,null,null,null,null,null,null,null,null,null,null,null,null,null,null,null,null,null,null,null,null,null,null,null,null,null,null,null,null,null,null,null,null,null,null,null,null,null,null,null,null,null,null,null,null,null,null,null,null,null,null,null,null,null,null,null,null,null,null,null,null,null,null,null,null,null,null,null,null,null,null,{"$f":"IF(ISNUMBER(SEARCH($C$6,BU1402)),MAX($BT$13:BT1401)+1,0)","v":1389},0,{"$f":"ROWS($BV$14:BV1402)","v":1389},{"$f":"IFERROR(VLOOKUP(ROWS($BW$14:BW1402),$BT$14:$BU$5000,2,0),\"\")","v":0}]
[null,null,null,null,null,null,null,null,null,null,null,null,null,null,null,null,null,null,null,null,null,null,null,null,null,null,null,null,null,null,null,null,null,null,null,null,null,null,null,null,null,null,null,null,null,null,null,null,null,null,null,null,null,null,null,null,null,null,null,null,null,null,null,null,null,null,null,null,null,null,null,{"$f":"IF(ISNUMBER(SEARCH($C$6,BU1410)),MAX($BT$13:BT1409)+1,0)","v":1397},0,{"$f":"ROWS($BV$14:BV1410)","v":1397},{"$f":"IFERROR(VLOOKUP(ROWS($BW$14:BW1410),$BT$14:$BU$5000,2,0),\"\")","v":0}]
[null,null,null,null,null,null,null,null,null,null,null,null,null,null,null,null,null,null,null,null,null,null,null,null,null,null,null,null,null,null,null,null,null,null,null,null,null,null,null,null,null,null,null,null,null,null,null,null,null,null,null,null,null,null,null,null,null,null,null,null,null,null,null,null,null,null,null,null,null,null,null,{"$f":"IF(ISNUMBER(SEARCH($C$6,BU1413)),MAX($BT$13:BT1412)+1,0)","v":1400},0,{"$f":"ROWS($BV$14:BV1413)","v":1400},{"$f":"IFERROR(VLOOKUP(ROWS($BW$14:BW1413),$BT$14:$BU$5000,2,0),\"\")","v":0}]
[null,null,null,null,null,null,null,null,null,null,null,null,null,null,null,null,null,null,null,null,null,null,null,null,null,null,null,null,null,null,null,null,null,null,null,null,null,null,null,null,null,null,null,null,null,null,null,null,null,null,null,null,null,null,null,null,null,null,null,null,null,null,null,null,null,null,null,null,null,null,null,{"$f":"IF(ISNUMBER(SEARCH($C$6,BU1429)),MAX($BT$13:BT1428)+1,0)","v":1416},0,{"$f":"ROWS($BV$14:BV1429)","v":1416},{"$f":"IFERROR(VLOOKUP(ROWS($BW$14:BW1429),$BT$14:$BU$5000,2,0),\"\")","v":0}]
[null,null,null,null,null,null,null,null,null,null,null,null,null,null,null,null,null,null,null,null,null,null,null,null,null,null,null,null,null,null,null,null,null,null,null,null,null,null,null,null,null,null,null,null,null,null,null,null,null,null,null,null,null,null,null,null,null,null,null,null,null,null,null,null,null,null,null,null,null,null,null,{"$f":"IF(ISNUMBER(SEARCH($C$6,BU1433)),MAX($BT$13:BT1432)+1,0)","v":1420},0,{"$f":"ROWS($BV$14:BV1433)","v":1420},{"$f":"IFERROR(VLOOKUP(ROWS($BW$14:BW1433),$BT$14:$BU$5000,2,0),\"\")","v":0}]
[null,null,null,null,null,null,null,null,null,null,null,null,null,null,null,null,null,null,null,null,null,null,null,null,null,null,null,null,null,null,null,null,null,null,null,null,null,null,null,null,null,null,null,null,null,null,null,null,null,null,null,null,null,null,null,null,null,null,null,null,null,null,null,null,null,null,null,null,null,null,null,{"$f":"IF(ISNUMBER(SEARCH($C$6,BU1443)),MAX($BT$13:BT1442)+1,0)","v":1430},0,{"$f":"ROWS($BV$14:BV1443)","v":1430},{"$f":"IFERROR(VLOOKUP(ROWS($BW$14:BW1443),$BT$14:$BU$5000,2,0),\"\")","v":0}]
[null,null,null,null,null,null,null,null,null,null,null,null,null,null,null,null,null,null,null,null,null,null,null,null,null,null,null,null,null,null,null,null,null,null,null,null,null,null,null,null,null,null,null,null,null,null,null,null,null,null,null,null,null,null,null,null,null,null,null,null,null,null,null,null,null,null,null,null,null,null,null,{"$f":"IF(ISNUMBER(SEARCH($C$6,BU1450)),MAX($BT$13:BT1449)+1,0)","v":1437},0,{"$f":"ROWS($BV$14:BV1450)","v":1437},{"$f":"IFERROR(VLOOKUP(ROWS($BW$14:BW1450),$BT$14:$BU$5000,2,0),\"\")","v":0}]
[null,null,null,null,null,null,null,null,null,null,null,null,null,null,null,null,null,null,null,null,null,null,null,null,null,null,null,null,null,null,null,null,null,null,null,null,null,null,null,null,null,null,null,null,null,null,null,null,null,null,null,null,null,null,null,null,null,null,null,null,null,null,null,null,null,null,null,null,null,null,null,{"$f":"IF(ISNUMBER(SEARCH($C$6,BU1462)),MAX($BT$13:BT1461)+1,0)","v":1449},0,{"$f":"ROWS($BV$14:BV1462)","v":1449},{"$f":"IFERROR(VLOOKUP(ROWS($BW$14:BW1462),$BT$14:$BU$5000,2,0),\"\")","v":0}]
[null,null,null,null,null,null,null,null,null,null,null,null,null,null,null,null,null,null,null,null,null,null,null,null,null,null,null,null,null,null,null,null,null,null,null,null,null,null,null,null,null,null,null,null,null,null,null,null,null,null,null,null,null,null,null,null,null,null,null,null,null,null,null,null,null,null,null,null,null,null,null,{"$f":"IF(ISNUMBER(SEARCH($C$6,BU1469)),MAX($BT$13:BT1468)+1,0)","v":1456},0,{"$f":"ROWS($BV$14:BV1469)","v":1456},{"$f":"IFERROR(VLOOKUP(ROWS($BW$14:BW1469),$BT$14:$BU$5000,2,0),\"\")","v":0}]
[null,null,null,null,null,null,null,null,null,null,null,null,null,null,null,null,null,null,null,null,null,null,null,null,null,null,null,null,null,null,null,null,null,null,null,null,null,null,null,null,null,null,null,null,null,null,null,null,null,null,null,null,null,null,null,null,null,null,null,null,null,null,null,null,null,null,null,null,null,null,null,{"$f":"IF(ISNUMBER(SEARCH($C$6,BU1474)),MAX($BT$13:BT1473)+1,0)","v":1461},0,{"$f":"ROWS($BV$14:BV1474)","v":1461},{"$f":"IFERROR(VLOOKUP(ROWS($BW$14:BW1474),$BT$14:$BU$5000,2,0),\"\")","v":0}]
[null,null,null,null,null,null,null,null,null,null,null,null,null,null,null,null,null,null,null,null,null,null,null,null,null,null,null,null,null,null,null,null,null,null,null,null,null,null,null,null,null,null,null,null,null,null,null,null,null,null,null,null,null,null,null,null,null,null,null,null,null,null,null,null,null,null,null,null,null,null,null,{"$f":"IF(ISNUMBER(SEARCH($C$6,BU1483)),MAX($BT$13:BT1482)+1,0)","v":1470},0,{"$f":"ROWS($BV$14:BV1483)","v":1470},{"$f":"IFERROR(VLOOKUP(ROWS($BW$14:BW1483),$BT$14:$BU$5000,2,0),\"\")","v":0}]
[null,null,null,null,null,null,null,null,null,null,null,null,null,null,null,null,null,null,null,null,null,null,null,null,null,null,null,null,null,null,null,null,null,null,null,null,null,null,null,null,null,null,null,null,null,null,null,null,null,null,null,null,null,null,null,null,null,null,null,null,null,null,null,null,null,null,null,null,null,null,null,{"$f":"IF(ISNUMBER(SEARCH($C$6,BU1499)),MAX($BT$13:BT1498)+1,0)","v":1486},0,{"$f":"ROWS($BV$14:BV1499)","v":1486},{"$f":"IFERROR(VLOOKUP(ROWS($BW$14:BW1499),$BT$14:$BU$5000,2,0),\"\")","v":0}]
[null,null,null,null,null,null,null,null,null,null,null,null,null,null,null,null,null,null,null,null,null,null,null,null,null,null,null,null,null,null,null,null,null,null,null,null,null,null,null,null,null,null,null,null,null,null,null,null,null,null,null,null,null,null,null,null,null,null,null,null,null,null,null,null,null,null,null,null,null,null,null,{"$f":"IF(ISNUMBER(SEARCH($C$6,BU1502)),MAX($BT$13:BT1501)+1,0)","v":1489},0,{"$f":"ROWS($BV$14:BV1502)","v":1489},{"$f":"IFERROR(VLOOKUP(ROWS($BW$14:BW1502),$BT$14:$BU$5000,2,0),\"\")","v":0}]
[null,null,null,null,null,null,null,null,null,null,null,null,null,null,null,null,null,null,null,null,null,null,null,null,null,null,null,null,null,null,null,null,null,null,null,null,null,null,null,null,null,null,null,null,null,null,null,null,null,null,null,null,null,null,null,null,null,null,null,null,null,null,null,null,null,null,null,null,null,null,null,{"$f":"IF(ISNUMBER(SEARCH($C$6,BU1513)),MAX($BT$13:BT1512)+1,0)","v":1500},0,{"$f":"ROWS($BV$14:BV1513)","v":1500},{"$f":"IFERROR(VLOOKUP(ROWS($BW$14:BW1513),$BT$14:$BU$5000,2,0),\"\")","v":0}]
[null,null,null,null,null,null,null,null,null,null,null,null,null,null,null,null,null,null,null,null,null,null,null,null,null,null,null,null,null,null,null,null,null,null,null,null,null,null,null,null,null,null,null,null,null,null,null,null,null,null,null,null,null,null,null,null,null,null,null,null,null,null,null,null,null,null,null,null,null,null,null,{"$f":"IF(ISNUMBER(SEARCH($C$6,BU1520)),MAX($BT$13:BT1519)+1,0)","v":1507},0,{"$f":"ROWS($BV$14:BV1520)","v":1507},{"$f":"IFERROR(VLOOKUP(ROWS($BW$14:BW1520),$BT$14:$BU$5000,2,0),\"\")","v":0}]
[null,null,null,null,null,null,null,null,null,null,null,null,null,null,null,null,null,null,null,null,null,null,null,null,null,null,null,null,null,null,null,null,null,null,null,null,null,null,null,null,null,null,null,null,null,null,null,null,null,null,null,null,null,null,null,null,null,null,null,null,null,null,null,null,null,null,null,null,null,null,null,{"$f":"IF(ISNUMBER(SEARCH($C$6,BU1532)),MAX($BT$13:BT1531)+1,0)","v":1519},0,{"$f":"ROWS($BV$14:BV1532)","v":1519},{"$f":"IFERROR(VLOOKUP(ROWS($BW$14:BW1532),$BT$14:$BU$5000,2,0),\"\")","v":0}]
[null,null,null,null,null,null,null,null,null,null,null,null,null,null,null,null,null,null,null,null,null,null,null,null,null,null,null,null,null,null,null,null,null,null,null,null,null,null,null,null,null,null,null,null,null,null,null,null,null,null,null,null,null,null,null,null,null,null,null,null,null,null,null,null,null,null,null,null,null,null,null,{"$f":"IF(ISNUMBER(SEARCH($C$6,BU1539)),MAX($BT$13:BT1538)+1,0)","v":1526},0,{"$f":"ROWS($BV$14:BV1539)","v":1526},{"$f":"IFERROR(VLOOKUP(ROWS($BW$14:BW1539),$BT$14:$BU$5000,2,0),\"\")","v":0}]
[null,null,null,null,null,null,null,null,null,null,null,null,null,null,null,null,null,null,null,null,null,null,null,null,null,null,null,null,null,null,null,null,null,null,null,null,null,null,null,null,null,null,null,null,null,null,null,null,null,null,null,null,null,null,null,null,null,null,null,null,null,null,null,null,null,null,null,null,null,null,null,{"$f":"IF(ISNUMBER(SEARCH($C$6,BU1544)),MAX($BT$13:BT1543)+1,0)","v":1531},0,{"$f":"ROWS($BV$14:BV1544)","v":1531},{"$f":"IFERROR(VLOOKUP(ROWS($BW$14:BW1544),$BT$14:$BU$5000,2,0),\"\")","v":0}]
[null,null,null,null,null,null,null,null,null,null,null,null,null,null,null,null,null,null,null,null,null,null,null,null,null,null,null,null,null,null,null,null,null,null,null,null,null,null,null,null,null,null,null,null,null,null,null,null,null,null,null,null,null,null,null,null,null,null,null,null,null,null,null,null,null,null,null,null,null,null,null,{"$f":"IF(ISNUMBER(SEARCH($C$6,BU1553)),MAX($BT$13:BT1552)+1,0)","v":1540},0,{"$f":"ROWS($BV$14:BV1553)","v":1540},{"$f":"IFERROR(VLOOKUP(ROWS($BW$14:BW1553),$BT$14:$BU$5000,2,0),\"\")","v":0}]
[null,null,null,null,null,null,null,null,null,null,null,null,null,null,null,null,null,null,null,null,null,null,null,null,null,null,null,null,null,null,null,null,null,null,null,null,null,null,null,null,null,null,null,null,null,null,null,null,null,null,null,null,null,null,null,null,null,null,null,null,null,null,null,null,null,null,null,null,null,null,null,{"$f":"IF(ISNUMBER(SEARCH($C$6,BU1569)),MAX($BT$13:BT1568)+1,0)","v":1556},0,{"$f":"ROWS($BV$14:BV1569)","v":1556},{"$f":"IFERROR(VLOOKUP(ROWS($BW$14:BW1569),$BT$14:$BU$5000,2,0),\"\")","v":0}]
[null,null,null,null,null,null,null,null,null,null,null,null,null,null,null,null,null,null,null,null,null,null,null,null,null,null,null,null,null,null,null,null,null,null,null,null,null,null,null,null,null,null,null,null,null,null,null,null,null,null,null,null,null,null,null,null,null,null,null,null,null,null,null,null,null,null,null,null,null,null,null,{"$f":"IF(ISNUMBER(SEARCH($C$6,BU1572)),MAX($BT$13:BT1571)+1,0)","v":1559},0,{"$f":"ROWS($BV$14:BV1572)","v":1559},{"$f":"IFERROR(VLOOKUP(ROWS($BW$14:BW1572),$BT$14:$BU$5000,2,0),\"\")","v":0}]
[null,null,null,null,null,null,null,null,null,null,null,null,null,null,null,null,null,null,null,null,null,null,null,null,null,null,null,null,null,null,null,null,null,null,null,null,null,null,null,null,null,null,null,null,null,null,null,null,null,null,null,null,null,null,null,null,null,null,null,null,null,null,null,null,null,null,null,null,null,null,null,{"$f":"IF(ISNUMBER(SEARCH($C$6,BU1583)),MAX($BT$13:BT1582)+1,0)","v":1570},0,{"$f":"ROWS($BV$14:BV1583)","v":1570},{"$f":"IFERROR(VLOOKUP(ROWS($BW$14:BW1583),$BT$14:$BU$5000,2,0),\"\")","v":0}]
[null,null,null,null,null,null,null,null,null,null,null,null,null,null,null,null,null,null,null,null,null,null,null,null,null,null,null,null,null,null,null,null,null,null,null,null,null,null,null,null,null,null,null,null,null,null,null,null,null,null,null,null,null,null,null,null,null,null,null,null,null,null,null,null,null,null,null,null,null,null,null,{"$f":"IF(ISNUMBER(SEARCH($C$6,BU1590)),MAX($BT$13:BT1589)+1,0)","v":1577},0,{"$f":"ROWS($BV$14:BV1590)","v":1577},{"$f":"IFERROR(VLOOKUP(ROWS($BW$14:BW1590),$BT$14:$BU$5000,2,0),\"\")","v":0}]
[null,null,null,null,null,null,null,null,null,null,null,null,null,null,null,null,null,null,null,null,null,null,null,null,null,null,null,null,null,null,null,null,null,null,null,null,null,null,null,null,null,null,null,null,null,null,null,null,null,null,null,null,null,null,null,null,null,null,null,null,null,null,null,null,null,null,null,null,null,null,null,{"$f":"IF(ISNUMBER(SEARCH($C$6,BU1602)),MAX($BT$13:BT1601)+1,0)","v":1589},0,{"$f":"ROWS($BV$14:BV1602)","v":1589},{"$f":"IFERROR(VLOOKUP(ROWS($BW$14:BW1602),$BT$14:$BU$5000,2,0),\"\")","v":0}]
[null,null,null,null,null,null,null,null,null,null,null,null,null,null,null,null,null,null,null,null,null,null,null,null,null,null,null,null,null,null,null,null,null,null,null,null,null,null,null,null,null,null,null,null,null,null,null,null,null,null,null,null,null,null,null,null,null,null,null,null,null,null,null,null,null,null,null,null,null,null,null,{"$f":"IF(ISNUMBER(SEARCH($C$6,BU1609)),MAX($BT$13:BT1608)+1,0)","v":1596},0,{"$f":"ROWS($BV$14:BV1609)","v":1596},{"$f":"IFERROR(VLOOKUP(ROWS($BW$14:BW1609),$BT$14:$BU$5000,2,0),\"\")","v":0}]
[null,null,null,null,null,null,null,null,null,null,null,null,null,null,null,null,null,null,null,null,null,null,null,null,null,null,null,null,null,null,null,null,null,null,null,null,null,null,null,null,null,null,null,null,null,null,null,null,null,null,null,null,null,null,null,null,null,null,null,null,null,null,null,null,null,null,null,null,null,null,null,{"$f":"IF(ISNUMBER(SEARCH($C$6,BU1621)),MAX($BT$13:BT1620)+1,0)","v":1608},0,{"$f":"ROWS($BV$14:BV1621)","v":1608},{"$f":"IFERROR(VLOOKUP(ROWS($BW$14:BW1621),$BT$14:$BU$5000,2,0),\"\")","v":0}]
[null,null,null,null,null,null,null,null,null,null,null,null,null,null,null,null,null,null,null,null,null,null,null,null,null,null,null,null,null,null,null,null,null,null,null,null,null,null,null,null,null,null,null,null,null,null,null,null,null,null,null,null,null,null,null,null,null,null,null,null,null,null,null,null,null,null,null,null,null,null,null,{"$f":"IF(ISNUMBER(SEARCH($C$6,BU1624)),MAX($BT$13:BT1623)+1,0)","v":1611},0,{"$f":"ROWS($BV$14:BV1624)","v":1611},{"$f":"IFERROR(VLOOKUP(ROWS($BW$14:BW1624),$BT$14:$BU$5000,2,0),\"\")","v":0}]
[null,null,null,null,null,null,null,null,null,null,null,null,null,null,null,null,null,null,null,null,null,null,null,null,null,null,null,null,null,null,null,null,null,null,null,null,null,null,null,null,null,null,null,null,null,null,null,null,null,null,null,null,null,null,null,null,null,null,null,null,null,null,null,null,null,null,null,null,null,null,null,{"$f":"IF(ISNUMBER(SEARCH($C$6,BU1639)),MAX($BT$13:BT1638)+1,0)","v":1626},0,{"$f":"ROWS($BV$14:BV1639)","v":1626},{"$f":"IFERROR(VLOOKUP(ROWS($BW$14:BW1639),$BT$14:$BU$5000,2,0),\"\")","v":0}]
[null,null,null,null,null,null,null,null,null,null,null,null,null,null,null,null,null,null,null,null,null,null,null,null,null,null,null,null,null,null,null,null,null,null,null,null,null,null,null,null,null,null,null,null,null,null,null,null,null,null,null,null,null,null,null,null,null,null,null,null,null,null,null,null,null,null,null,null,null,null,null,{"$f":"IF(ISNUMBER(SEARCH($C$6,BU1642)),MAX($BT$13:BT1641)+1,0)","v":1629},0,{"$f":"ROWS($BV$14:BV1642)","v":1629},{"$f":"IFERROR(VLOOKUP(ROWS($BW$14:BW1642),$BT$14:$BU$5000,2,0),\"\")","v":0}]
[null,null,null,null,null,null,null,null,null,null,null,null,null,null,null,null,null,null,null,null,null,null,null,null,null,null,null,null,null,null,null,null,null,null,null,null,null,null,null,null,null,null,null,null,null,null,null,null,null,null,null,null,null,null,null,null,null,null,null,null,null,null,null,null,null,null,null,null,null,null,null,{"$f":"IF(ISNUMBER(SEARCH($C$6,BU1649)),MAX($BT$13:BT1648)+1,0)","v":1636},0,{"$f":"ROWS($BV$14:BV1649)","v":1636},{"$f":"IFERROR(VLOOKUP(ROWS($BW$14:BW1649),$BT$14:$BU$5000,2,0),\"\")","v":0}]
[null,null,null,null,null,null,null,null,null,null,null,null,null,null,null,null,null,null,null,null,null,null,null,null,null,null,null,null,null,null,null,null,null,null,null,null,null,null,null,null,null,null,null,null,null,null,null,null,null,null,null,null,null,null,null,null,null,null,null,null,null,null,null,null,null,null,null,null,null,null,null,{"$f":"IF(ISNUMBER(SEARCH($C$6,BU1663)),MAX($BT$13:BT1662)+1,0)","v":1650},0,{"$f":"ROWS($BV$14:BV1663)","v":1650},{"$f":"IFERROR(VLOOKUP(ROWS($BW$14:BW1663),$BT$14:$BU$5000,2,0),\"\")","v":0}]
[null,null,null,null,null,null,null,null,null,null,null,null,null,null,null,null,null,null,null,null,null,null,null,null,null,null,null,null,null,null,null,null,null,null,null,null,null,null,null,null,null,null,null,null,null,null,null,null,null,null,null,null,null,null,null,null,null,null,null,null,null,null,null,null,null,null,null,null,null,null,null,{"$f":"IF(ISNUMBER(SEARCH($C$6,BU1672)),MAX($BT$13:BT1671)+1,0)","v":1659},0,{"$f":"ROWS($BV$14:BV1672)","v":1659},{"$f":"IFERROR(VLOOKUP(ROWS($BW$14:BW1672),$BT$14:$BU$5000,2,0),\"\")","v":0}]
[null,null,null,null,null,null,null,null,null,null,null,null,null,null,null,null,null,null,null,null,null,null,null,null,null,null,null,null,null,null,null,null,null,null,null,null,null,null,null,null,null,null,null,null,null,null,null,null,null,null,null,null,null,null,null,null,null,null,null,null,null,null,null,null,null,null,null,null,null,null,null,{"$f":"IF(ISNUMBER(SEARCH($C$6,BU1679)),MAX($BT$13:BT1678)+1,0)","v":1666},0,{"$f":"ROWS($BV$14:BV1679)","v":1666},{"$f":"IFERROR(VLOOKUP(ROWS($BW$14:BW1679),$BT$14:$BU$5000,2,0),\"\")","v":0}]
[null,null,null,null,null,null,null,null,null,null,null,null,null,null,null,null,null,null,null,null,null,null,null,null,null,null,null,null,null,null,null,null,null,null,null,null,null,null,null,null,null,null,null,null,null,null,null,null,null,null,null,null,null,null,null,null,null,null,null,null,null,null,null,null,null,null,null,null,null,null,null,{"$f":"IF(ISNUMBER(SEARCH($C$6,BU1691)),MAX($BT$13:BT1690)+1,0)","v":1678},0,{"$f":"ROWS($BV$14:BV1691)","v":1678},{"$f":"IFERROR(VLOOKUP(ROWS($BW$14:BW1691),$BT$14:$BU$5000,2,0),\"\")","v":0}]
[null,null,null,null,null,null,null,null,null,null,null,null,null,null,null,null,null,null,null,null,null,null,null,null,null,null,null,null,null,null,null,null,null,null,null,null,null,null,null,null,null,null,null,null,null,null,null,null,null,null,null,null,null,null,null,null,null,null,null,null,null,null,null,null,null,null,null,null,null,null,null,{"$f":"IF(ISNUMBER(SEARCH($C$6,BU1694)),MAX($BT$13:BT1693)+1,0)","v":1681},0,{"$f":"ROWS($BV$14:BV1694)","v":1681},{"$f":"IFERROR(VLOOKUP(ROWS($BW$14:BW1694),$BT$14:$BU$5000,2,0),\"\")","v":0}]
[null,null,null,null,null,null,null,null,null,null,null,null,null,null,null,null,null,null,null,null,null,null,null,null,null,null,null,null,null,null,null,null,null,null,null,null,null,null,null,null,null,null,null,null,null,null,null,null,null,null,null,null,null,null,null,null,null,null,null,null,null,null,null,null,null,null,null,null,null,null,null,{"$f":"IF(ISNUMBER(SEARCH($C$6,BU1709)),MAX($BT$13:BT1708)+1,0)","v":1696},0,{"$f":"ROWS($BV$14:BV1709)","v":1696},{"$f":"IFERROR(VLOOKUP(ROWS($BW$14:BW1709),$BT$14:$BU$5000,2,0),\"\")","v":0}]
[null,null,null,null,null,null,null,null,null,null,null,null,null,null,null,null,null,null,null,null,null,null,null,null,null,null,null,null,null,null,null,null,null,null,null,null,null,null,null,null,null,null,null,null,null,null,null,null,null,null,null,null,null,null,null,null,null,null,null,null,null,null,null,null,null,null,null,null,null,null,null,{"$f":"IF(ISNUMBER(SEARCH($C$6,BU1712)),MAX($BT$13:BT1711)+1,0)","v":1699},0,{"$f":"ROWS($BV$14:BV1712)","v":1699},{"$f":"IFERROR(VLOOKUP(ROWS($BW$14:BW1712),$BT$14:$BU$5000,2,0),\"\")","v":0}]
[null,null,null,null,null,null,null,null,null,null,null,null,null,null,null,null,null,null,null,null,null,null,null,null,null,null,null,null,null,null,null,null,null,null,null,null,null,null,null,null,null,null,null,null,null,null,null,null,null,null,null,null,null,null,null,null,null,null,null,null,null,null,null,null,null,null,null,null,null,null,null,{"$f":"IF(ISNUMBER(SEARCH($C$6,BU1719)),MAX($BT$13:BT1718)+1,0)","v":1706},0,{"$f":"ROWS($BV$14:BV1719)","v":1706},{"$f":"IFERROR(VLOOKUP(ROWS($BW$14:BW1719),$BT$14:$BU$5000,2,0),\"\")","v":0}]
[null,null,null,null,null,null,null,null,null,null,null,null,null,null,null,null,null,null,null,null,null,null,null,null,null,null,null,null,null,null,null,null,null,null,null,null,null,null,null,null,null,null,null,null,null,null,null,null,null,null,null,null,null,null,null,null,null,null,null,null,null,null,null,null,null,null,null,null,null,null,null,{"$f":"IF(ISNUMBER(SEARCH($C$6,BU1731)),MAX($BT$13:BT1730)+1,0)","v":1718},0,{"$f":"ROWS($BV$14:BV1731)","v":1718},{"$f":"IFERROR(VLOOKUP(ROWS($BW$14:BW1731),$BT$14:$BU$5000,2,0),\"\")","v":0}]
[null,null,null,null,null,null,null,null,null,null,null,null,null,null,null,null,null,null,null,null,null,null,null,null,null,null,null,null,null,null,null,null,null,null,null,null,null,null,null,null,null,null,null,null,null,null,null,null,null,null,null,null,null,null,null,null,null,null,null,null,null,null,null,null,null,null,null,null,null,null,null,{"$f":"IF(ISNUMBER(SEARCH($C$6,BU1743)),MAX($BT$13:BT1742)+1,0)","v":1730},0,{"$f":"ROWS($BV$14:BV1743)","v":1730},{"$f":"IFERROR(VLOOKUP(ROWS($BW$14:BW1743),$BT$14:$BU$5000,2,0),\"\")","v":0}]
[null,null,null,null,null,null,null,null,null,null,null,null,null,null,null,null,null,null,null,null,null,null,null,null,null,null,null,null,null,null,null,null,null,null,null,null,null,null,null,null,null,null,null,null,null,null,null,null,null,null,null,null,null,null,null,null,null,null,null,null,null,null,null,null,null,null,null,null,null,null,null,{"$f":"IF(ISNUMBER(SEARCH($C$6,BU1749)),MAX($BT$13:BT1748)+1,0)","v":1736},0,{"$f":"ROWS($BV$14:BV1749)","v":1736},{"$f":"IFERROR(VLOOKUP(ROWS($BW$14:BW1749),$BT$14:$BU$5000,2,0),\"\")","v":0}]
[null,null,null,null,null,null,null,null,null,null,null,null,null,null,null,null,null,null,null,null,null,null,null,null,null,null,null,null,null,null,null,null,null,null,null,null,null,null,null,null,null,null,null,null,null,null,null,null,null,null,null,null,null,null,null,null,null,null,null,null,null,null,null,null,null,null,null,null,null,null,null,{"$f":"IF(ISNUMBER(SEARCH($C$6,BU1761)),MAX($BT$13:BT1760)+1,0)","v":1748},0,{"$f":"ROWS($BV$14:BV1761)","v":1748},{"$f":"IFERROR(VLOOKUP(ROWS($BW$14:BW1761),$BT$14:$BU$5000,2,0),\"\")","v":0}]
[null,null,null,null,null,null,null,null,null,null,null,null,null,null,null,null,null,null,null,null,null,null,null,null,null,null,null,null,null,null,null,null,null,null,null,null,null,null,null,null,null,null,null,null,null,null,null,null,null,null,null,null,null,null,null,null,null,null,null,null,null,null,null,null,null,null,null,null,null,null,null,{"$f":"IF(ISNUMBER(SEARCH($C$6,BU1768)),MAX($BT$13:BT1767)+1,0)","v":1755},0,{"$f":"ROWS($BV$14:BV1768)","v":1755},{"$f":"IFERROR(VLOOKUP(ROWS($BW$14:BW1768),$BT$14:$BU$5000,2,0),\"\")","v":0}]
[null,null,null,null,null,null,null,null,null,null,null,null,null,null,null,null,null,null,null,null,null,null,null,null,null,null,null,null,null,null,null,null,null,null,null,null,null,null,null,null,null,null,null,null,null,null,null,null,null,null,null,null,null,null,null,null,null,null,null,null,null,null,null,null,null,null,null,null,null,null,null,{"$f":"IF(ISNUMBER(SEARCH($C$6,BU1774)),MAX($BT$13:BT1773)+1,0)","v":1761},0,{"$f":"ROWS($BV$14:BV1774)","v":1761},{"$f":"IFERROR(VLOOKUP(ROWS($BW$14:BW1774),$BT$14:$BU$5000,2,0),\"\")","v":0}]
[null,null,null,null,null,null,null,null,null,null,null,null,null,null,null,null,null,null,null,null,null,null,null,null,null,null,null,null,null,null,null,null,null,null,null,null,null,null,null,null,null,null,null,null,null,null,null,null,null,null,null,null,null,null,null,null,null,null,null,null,null,null,null,null,null,null,null,null,null,null,null,{"$f":"IF(ISNUMBER(SEARCH($C$6,BU1782)),MAX($BT$13:BT1781)+1,0)","v":1769},0,{"$f":"ROWS($BV$14:BV1782)","v":1769},{"$f":"IFERROR(VLOOKUP(ROWS($BW$14:BW1782),$BT$14:$BU$5000,2,0),\"\")","v":0}]
[null,null,null,null,null,null,null,null,null,null,null,null,null,null,null,null,null,null,null,null,null,null,null,null,null,null,null,null,null,null,null,null,null,null,null,null,null,null,null,null,null,null,null,null,null,null,null,null,null,null,null,null,null,null,null,null,null,null,null,null,null,null,null,null,null,null,null,null,null,null,null,{"$f":"IF(ISNUMBER(SEARCH($C$6,BU1789)),MAX($BT$13:BT1788)+1,0)","v":1776},0,{"$f":"ROWS($BV$14:BV1789)","v":1776},{"$f":"IFERROR(VLOOKUP(ROWS($BW$14:BW1789),$BT$14:$BU$5000,2,0),\"\")","v":0}]
[null,null,null,null,null,null,null,null,null,null,null,null,null,null,null,null,null,null,null,null,null,null,null,null,null,null,null,null,null,null,null,null,null,null,null,null,null,null,null,null,null,null,null,null,null,null,null,null,null,null,null,null,null,null,null,null,null,null,null,null,null,null,null,null,null,null,null,null,null,null,null,{"$f":"IF(ISNUMBER(SEARCH($C$6,BU1801)),MAX($BT$13:BT1800)+1,0)","v":1788},0,{"$f":"ROWS($BV$14:BV1801)","v":1788},{"$f":"IFERROR(VLOOKUP(ROWS($BW$14:BW1801),$BT$14:$BU$5000,2,0),\"\")","v":0}]
[null,null,null,null,null,null,null,null,null,null,null,null,null,null,null,null,null,null,null,null,null,null,null,null,null,null,null,null,null,null,null,null,null,null,null,null,null,null,null,null,null,null,null,null,null,null,null,null,null,null,null,null,null,null,null,null,null,null,null,null,null,null,null,null,null,null,null,null,null,null,null,{"$f":"IF(ISNUMBER(SEARCH($C$6,BU1813)),MAX($BT$13:BT1812)+1,0)","v":1800},0,{"$f":"ROWS($BV$14:BV1813)","v":1800},{"$f":"IFERROR(VLOOKUP(ROWS($BW$14:BW1813),$BT$14:$BU$5000,2,0),\"\")","v":0}]
[null,null,null,null,null,null,null,null,null,null,null,null,null,null,null,null,null,null,null,null,null,null,null,null,null,null,null,null,null,null,null,null,null,null,null,null,null,null,null,null,null,null,null,null,null,null,null,null,null,null,null,null,null,null,null,null,null,null,null,null,null,null,null,null,null,null,null,null,null,null,null,{"$f":"IF(ISNUMBER(SEARCH($C$6,BU1819)),MAX($BT$13:BT1818)+1,0)","v":1806},0,{"$f":"ROWS($BV$14:BV1819)","v":1806},{"$f":"IFERROR(VLOOKUP(ROWS($BW$14:BW1819),$BT$14:$BU$5000,2,0),\"\")","v":0}]
[null,null,null,null,null,null,null,null,null,null,null,null,null,null,null,null,null,null,null,null,null,null,null,null,null,null,null,null,null,null,null,null,null,null,null,null,null,null,null,null,null,null,null,null,null,null,null,null,null,null,null,null,null,null,null,null,null,null,null,null,null,null,null,null,null,null,null,null,null,null,null,{"$f":"IF(ISNUMBER(SEARCH($C$6,BU1831)),MAX($BT$13:BT1830)+1,0)","v":1818},0,{"$f":"ROWS($BV$14:BV1831)","v":1818},{"$f":"IFERROR(VLOOKUP(ROWS($BW$14:BW1831),$BT$14:$BU$5000,2,0),\"\")","v":0}]
[null,null,null,null,null,null,null,null,null,null,null,null,null,null,null,null,null,null,null,null,null,null,null,null,null,null,null,null,null,null,null,null,null,null,null,null,null,null,null,null,null,null,null,null,null,null,null,null,null,null,null,null,null,null,null,null,null,null,null,null,null,null,null,null,null,null,null,null,null,null,null,{"$f":"IF(ISNUMBER(SEARCH($C$6,BU1838)),MAX($BT$13:BT1837)+1,0)","v":1825},0,{"$f":"ROWS($BV$14:BV1838)","v":1825},{"$f":"IFERROR(VLOOKUP(ROWS($BW$14:BW1838),$BT$14:$BU$5000,2,0),\"\")","v":0}]
[null,null,null,null,null,null,null,null,null,null,null,null,null,null,null,null,null,null,null,null,null,null,null,null,null,null,null,null,null,null,null,null,null,null,null,null,null,null,null,null,null,null,null,null,null,null,null,null,null,null,null,null,null,null,null,null,null,null,null,null,null,null,null,null,null,null,null,null,null,null,null,{"$f":"IF(ISNUMBER(SEARCH($C$6,BU1844)),MAX($BT$13:BT1843)+1,0)","v":1831},0,{"$f":"ROWS($BV$14:BV1844)","v":1831},{"$f":"IFERROR(VLOOKUP(ROWS($BW$14:BW1844),$BT$14:$BU$5000,2,0),\"\")","v":0}]
[null,null,null,null,null,null,null,null,null,null,null,null,null,null,null,null,null,null,null,null,null,null,null,null,null,null,null,null,null,null,null,null,null,null,null,null,null,null,null,null,null,null,null,null,null,null,null,null,null,null,null,null,null,null,null,null,null,null,null,null,null,null,null,null,null,null,null,null,null,null,null,{"$f":"IF(ISNUMBER(SEARCH($C$6,BU1852)),MAX($BT$13:BT1851)+1,0)","v":1839},0,{"$f":"ROWS($BV$14:BV1852)","v":1839},{"$f":"IFERROR(VLOOKUP(ROWS($BW$14:BW1852),$BT$14:$BU$5000,2,0),\"\")","v":0}]
[null,null,null,null,null,null,null,null,null,null,null,null,null,null,null,null,null,null,null,null,null,null,null,null,null,null,null,null,null,null,null,null,null,null,null,null,null,null,null,null,null,null,null,null,null,null,null,null,null,null,null,null,null,null,null,null,null,null,null,null,null,null,null,null,null,null,null,null,null,null,null,{"$f":"IF(ISNUMBER(SEARCH($C$6,BU1859)),MAX($BT$13:BT1858)+1,0)","v":1846},0,{"$f":"ROWS($BV$14:BV1859)","v":1846},{"$f":"IFERROR(VLOOKUP(ROWS($BW$14:BW1859),$BT$14:$BU$5000,2,0),\"\")","v":0}]
[null,null,null,null,null,null,null,null,null,null,null,null,null,null,null,null,null,null,null,null,null,null,null,null,null,null,null,null,null,null,null,null,null,null,null,null,null,null,null,null,null,null,null,null,null,null,null,null,null,null,null,null,null,null,null,null,null,null,null,null,null,null,null,null,null,null,null,null,null,null,null,{"$f":"IF(ISNUMBER(SEARCH($C$6,BU1871)),MAX($BT$13:BT1870)+1,0)","v":1858},0,{"$f":"ROWS($BV$14:BV1871)","v":1858},{"$f":"IFERROR(VLOOKUP(ROWS($BW$14:BW1871),$BT$14:$BU$5000,2,0),\"\")","v":0}]
[null,null,null,null,null,null,null,null,null,null,null,null,null,null,null,null,null,null,null,null,null,null,null,null,null,null,null,null,null,null,null,null,null,null,null,null,null,null,null,null,null,null,null,null,null,null,null,null,null,null,null,null,null,null,null,null,null,null,null,null,null,null,null,null,null,null,null,null,null,null,null,{"$f":"IF(ISNUMBER(SEARCH($C$6,BU1883)),MAX($BT$13:BT1882)+1,0)","v":1870},0,{"$f":"ROWS($BV$14:BV1883)","v":1870},{"$f":"IFERROR(VLOOKUP(ROWS($BW$14:BW1883),$BT$14:$BU$5000,2,0),\"\")","v":0}]
[null,null,null,null,null,null,null,null,null,null,null,null,null,null,null,null,null,null,null,null,null,null,null,null,null,null,null,null,null,null,null,null,null,null,null,null,null,null,null,null,null,null,null,null,null,null,null,null,null,null,null,null,null,null,null,null,null,null,null,null,null,null,null,null,null,null,null,null,null,null,null,{"$f":"IF(ISNUMBER(SEARCH($C$6,BU1893)),MAX($BT$13:BT1892)+1,0)","v":1880},0,{"$f":"ROWS($BV$14:BV1893)","v":1880},{"$f":"IFERROR(VLOOKUP(ROWS($BW$14:BW1893),$BT$14:$BU$5000,2,0),\"\")","v":0}]
[null,null,null,null,null,null,null,null,null,null,null,null,null,null,null,null,null,null,null,null,null,null,null,null,null,null,null,null,null,null,null,null,null,null,null,null,null,null,null,null,null,null,null,null,null,null,null,null,null,null,null,null,null,null,null,null,null,null,null,null,null,null,null,null,null,null,null,null,null,null,null,{"$f":"IF(ISNUMBER(SEARCH($C$6,BU1901)),MAX($BT$13:BT1900)+1,0)","v":1888},0,{"$f":"ROWS($BV$14:BV1901)","v":1888},{"$f":"IFERROR(VLOOKUP(ROWS($BW$14:BW1901),$BT$14:$BU$5000,2,0),\"\")","v":0}]
[null,null,null,null,null,null,null,null,null,null,null,null,null,null,null,null,null,null,null,null,null,null,null,null,null,null,null,null,null,null,null,null,null,null,null,null,null,null,null,null,null,null,null,null,null,null,null,null,null,null,null,null,null,null,null,null,null,null,null,null,null,null,null,null,null,null,null,null,null,null,null,{"$f":"IF(ISNUMBER(SEARCH($C$6,BU1908)),MAX($BT$13:BT1907)+1,0)","v":1895},0,{"$f":"ROWS($BV$14:BV1908)","v":1895},{"$f":"IFERROR(VLOOKUP(ROWS($BW$14:BW1908),$BT$14:$BU$5000,2,0),\"\")","v":0}]
[null,null,null,null,null,null,null,null,null,null,null,null,null,null,null,null,null,null,null,null,null,null,null,null,null,null,null,null,null,null,null,null,null,null,null,null,null,null,null,null,null,null,null,null,null,null,null,null,null,null,null,null,null,null,null,null,null,null,null,null,null,null,null,null,null,null,null,null,null,null,null,{"$f":"IF(ISNUMBER(SEARCH($C$6,BU1920)),MAX($BT$13:BT1919)+1,0)","v":1907},0,{"$f":"ROWS($BV$14:BV1920)","v":1907},{"$f":"IFERROR(VLOOKUP(ROWS($BW$14:BW1920),$BT$14:$BU$5000,2,0),\"\")","v":0}]
[null,null,null,null,null,null,null,null,null,null,null,null,null,null,null,null,null,null,null,null,null,null,null,null,null,null,null,null,null,null,null,null,null,null,null,null,null,null,null,null,null,null,null,null,null,null,null,null,null,null,null,null,null,null,null,null,null,null,null,null,null,null,null,null,null,null,null,null,null,null,null,{"$f":"IF(ISNUMBER(SEARCH($C$6,BU1924)),MAX($BT$13:BT1923)+1,0)","v":1911},0,{"$f":"ROWS($BV$14:BV1924)","v":1911},{"$f":"IFERROR(VLOOKUP(ROWS($BW$14:BW1924),$BT$14:$BU$5000,2,0),\"\")","v":0}]
[null,null,null,null,null,null,null,null,null,null,null,null,null,null,null,null,null,null,null,null,null,null,null,null,null,null,null,null,null,null,null,null,null,null,null,null,null,null,null,null,null,null,null,null,null,null,null,null,null,null,null,null,null,null,null,null,null,null,null,null,null,null,null,null,null,null,null,null,null,null,null,{"$f":"IF(ISNUMBER(SEARCH($C$6,BU1929)),MAX($BT$13:BT1928)+1,0)","v":1916},0,{"$f":"ROWS($BV$14:BV1929)","v":1916},{"$f":"IFERROR(VLOOKUP(ROWS($BW$14:BW1929),$BT$14:$BU$5000,2,0),\"\")","v":0}]
[null,null,null,null,null,null,null,null,null,null,null,null,null,null,null,null,null,null,null,null,null,null,null,null,null,null,null,null,null,null,null,null,null,null,null,null,null,null,null,null,null,null,null,null,null,null,null,null,null,null,null,null,null,null,null,null,null,null,null,null,null,null,null,null,null,null,null,null,null,null,null,{"$f":"IF(ISNUMBER(SEARCH($C$6,BU1941)),MAX($BT$13:BT1940)+1,0)","v":1928},0,{"$f":"ROWS($BV$14:BV1941)","v":1928},{"$f":"IFERROR(VLOOKUP(ROWS($BW$14:BW1941),$BT$14:$BU$5000,2,0),\"\")","v":0}]
[null,null,null,null,null,null,null,null,null,null,null,null,null,null,null,null,null,null,null,null,null,null,null,null,null,null,null,null,null,null,null,null,null,null,null,null,null,null,null,null,null,null,null,null,null,null,null,null,null,null,null,null,null,null,null,null,null,null,null,null,null,null,null,null,null,null,null,null,null,null,null,{"$f":"IF(ISNUMBER(SEARCH($C$6,BU1948)),MAX($BT$13:BT1947)+1,0)","v":1935},0,{"$f":"ROWS($BV$14:BV1948)","v":1935},{"$f":"IFERROR(VLOOKUP(ROWS($BW$14:BW1948),$BT$14:$BU$5000,2,0),\"\")","v":0}]
[null,null,null,null,null,null,null,null,null,null,null,null,null,null,null,null,null,null,null,null,null,null,null,null,null,null,null,null,null,null,null,null,null,null,null,null,null,null,null,null,null,null,null,null,null,null,null,null,null,null,null,null,null,null,null,null,null,null,null,null,null,null,null,null,null,null,null,null,null,null,null,{"$f":"IF(ISNUMBER(SEARCH($C$6,BU1963)),MAX($BT$13:BT1962)+1,0)","v":1950},0,{"$f":"ROWS($BV$14:BV1963)","v":1950},{"$f":"IFERROR(VLOOKUP(ROWS($BW$14:BW1963),$BT$14:$BU$5000,2,0),\"\")","v":0}]
[null,null,null,null,null,null,null,null,null,null,null,null,null,null,null,null,null,null,null,null,null,null,null,null,null,null,null,null,null,null,null,null,null,null,null,null,null,null,null,null,null,null,null,null,null,null,null,null,null,null,null,null,null,null,null,null,null,null,null,null,null,null,null,null,null,null,null,null,null,null,null,{"$f":"IF(ISNUMBER(SEARCH($C$6,BU1971)),MAX($BT$13:BT1970)+1,0)","v":1958},0,{"$f":"ROWS($BV$14:BV1971)","v":1958},{"$f":"IFERROR(VLOOKUP(ROWS($BW$14:BW1971),$BT$14:$BU$5000,2,0),\"\")","v":0}]
[null,null,null,null,null,null,null,null,null,null,null,null,null,null,null,null,null,null,null,null,null,null,null,null,null,null,null,null,null,null,null,null,null,null,null,null,null,null,null,null,null,null,null,null,null,null,null,null,null,null,null,null,null,null,null,null,null,null,null,null,null,null,null,null,null,null,null,null,null,null,null,{"$f":"IF(ISNUMBER(SEARCH($C$6,BU1978)),MAX($BT$13:BT1977)+1,0)","v":1965},0,{"$f":"ROWS($BV$14:BV1978)","v":1965},{"$f":"IFERROR(VLOOKUP(ROWS($BW$14:BW1978),$BT$14:$BU$5000,2,0),\"\")","v":0}]
[null,null,null,null,null,null,null,null,null,null,null,null,null,null,null,null,null,null,null,null,null,null,null,null,null,null,null,null,null,null,null,null,null,null,null,null,null,null,null,null,null,null,null,null,null,null,null,null,null,null,null,null,null,null,null,null,null,null,null,null,null,null,null,null,null,null,null,null,null,null,null,{"$f":"IF(ISNUMBER(SEARCH($C$6,BU1990)),MAX($BT$13:BT1989)+1,0)","v":1977},0,{"$f":"ROWS($BV$14:BV1990)","v":1977},{"$f":"IFERROR(VLOOKUP(ROWS($BW$14:BW1990),$BT$14:$BU$5000,2,0),\"\")","v":0}]
[null,null,null,null,null,null,null,null,null,null,null,null,null,null,null,null,null,null,null,null,null,null,null,null,null,null,null,null,null,null,null,null,null,null,null,null,null,null,null,null,null,null,null,null,null,null,null,null,null,null,null,null,null,null,null,null,null,null,null,null,null,null,null,null,null,null,null,null,null,null,null,{"$f":"IF(ISNUMBER(SEARCH($C$6,BU1994)),MAX($BT$13:BT1993)+1,0)","v":1981},0,{"$f":"ROWS($BV$14:BV1994)","v":1981},{"$f":"IFERROR(VLOOKUP(ROWS($BW$14:BW1994),$BT$14:$BU$5000,2,0),\"\")","v":0}]
[null,null,null,null,null,null,null,null,null,null,null,null,null,null,null,null,null,null,null,null,null,null,null,null,null,null,null,null,null,null,null,null,null,null,null,null,null,null,null,null,null,null,null,null,null,null,null,null,null,null,null,null,null,null,null,null,null,null,null,null,null,null,null,null,null,null,null,null,null,null,null,{"$f":"IF(ISNUMBER(SEARCH($C$6,BU1999)),MAX($BT$13:BT1998)+1,0)","v":1986},0,{"$f":"ROWS($BV$14:BV1999)","v":1986},{"$f":"IFERROR(VLOOKUP(ROWS($BW$14:BW1999),$BT$14:$BU$5000,2,0),\"\")","v":0}]
[null,null,null,null,null,null,null,null,null,null,null,null,null,null,null,null,null,null,null,null,null,null,null,null,null,null,null,null,null,null,null,null,null,null,null,null,null,null,null,null,null,null,null,null,null,null,null,null,null,null,null,null,null,null,null,null,null,null,null,null,null,null,null,null,null,null,null,null,null,null,null,{"$f":"IF(ISNUMBER(SEARCH($C$6,BU2011)),MAX($BT$13:BT2010)+1,0)","v":1998},0,{"$f":"ROWS($BV$14:BV2011)","v":1998},{"$f":"IFERROR(VLOOKUP(ROWS($BW$14:BW2011),$BT$14:$BU$5000,2,0),\"\")","v":0}]
[null,null,null,null,null,null,null,null,null,null,null,null,null,null,null,null,null,null,null,null,null,null,null,null,null,null,null,null,null,null,null,null,null,null,null,null,null,null,null,null,null,null,null,null,null,null,null,null,null,null,null,null,null,null,null,null,null,null,null,null,null,null,null,null,null,null,null,null,null,null,null,{"$f":"IF(ISNUMBER(SEARCH($C$6,BU2018)),MAX($BT$13:BT2017)+1,0)","v":2005},0,{"$f":"ROWS($BV$14:BV2018)","v":2005},{"$f":"IFERROR(VLOOKUP(ROWS($BW$14:BW2018),$BT$14:$BU$5000,2,0),\"\")","v":0}]
[null,null,null,null,null,null,null,null,null,null,null,null,null,null,null,null,null,null,null,null,null,null,null,null,null,null,null,null,null,null,null,null,null,null,null,null,null,null,null,null,null,null,null,null,null,null,null,null,null,null,null,null,null,null,null,null,null,null,null,null,null,null,null,null,null,null,null,null,null,null,null,{"$f":"IF(ISNUMBER(SEARCH($C$6,BU2030)),MAX($BT$13:BT2029)+1,0)","v":2017},0,{"$f":"ROWS($BV$14:BV2030)","v":2017},{"$f":"IFERROR(VLOOKUP(ROWS($BW$14:BW2030),$BT$14:$BU$5000,2,0),\"\")","v":0}]
[null,null,null,null,null,null,null,null,null,null,null,null,null,null,null,null,null,null,null,null,null,null,null,null,null,null,null,null,null,null,null,null,null,null,null,null,null,null,null,null,null,null,null,null,null,null,null,null,null,null,null,null,null,null,null,null,null,null,null,null,null,null,null,null,null,null,null,null,null,null,null,{"$f":"IF(ISNUMBER(SEARCH($C$6,BU2035)),MAX($BT$13:BT2034)+1,0)","v":2022},0,{"$f":"ROWS($BV$14:BV2035)","v":2022},{"$f":"IFERROR(VLOOKUP(ROWS($BW$14:BW2035),$BT$14:$BU$5000,2,0),\"\")","v":0}]
[null,null,null,null,null,null,null,null,null,null,null,null,null,null,null,null,null,null,null,null,null,null,null,null,null,null,null,null,null,null,null,null,null,null,null,null,null,null,null,null,null,null,null,null,null,null,null,null,null,null,null,null,null,null,null,null,null,null,null,null,null,null,null,null,null,null,null,null,null,null,null,{"$f":"IF(ISNUMBER(SEARCH($C$6,BU2048)),MAX($BT$13:BT2047)+1,0)","v":2035},0,{"$f":"ROWS($BV$14:BV2048)","v":2035},{"$f":"IFERROR(VLOOKUP(ROWS($BW$14:BW2048),$BT$14:$BU$5000,2,0),\"\")","v":0}]
[null,null,null,null,null,null,null,null,null,null,null,null,null,null,null,null,null,null,null,null,null,null,null,null,null,null,null,null,null,null,null,null,null,null,null,null,null,null,null,null,null,null,null,null,null,null,null,null,null,null,null,null,null,null,null,null,null,null,null,null,null,null,null,null,null,null,null,null,null,null,null,{"$f":"IF(ISNUMBER(SEARCH($C$6,BU2060)),MAX($BT$13:BT2059)+1,0)","v":2047},0,{"$f":"ROWS($BV$14:BV2060)","v":2047},{"$f":"IFERROR(VLOOKUP(ROWS($BW$14:BW2060),$BT$14:$BU$5000,2,0),\"\")","v":0}]
[null,null,null,null,null,null,null,null,null,null,null,null,null,null,null,null,null,null,null,null,null,null,null,null,null,null,null,null,null,null,null,null,null,null,null,null,null,null,null,null,null,null,null,null,null,null,null,null,null,null,null,null,null,null,null,null,null,null,null,null,null,null,null,null,null,null,null,null,null,null,null,{"$f":"IF(ISNUMBER(SEARCH($C$6,BU2063)),MAX($BT$13:BT2062)+1,0)","v":2050},0,{"$f":"ROWS($BV$14:BV2063)","v":2050},{"$f":"IFERROR(VLOOKUP(ROWS($BW$14:BW2063),$BT$14:$BU$5000,2,0),\"\")","v":0}]
[null,null,null,null,null,null,null,null,null,null,null,null,null,null,null,null,null,null,null,null,null,null,null,null,null,null,null,null,null,null,null,null,null,null,null,null,null,null,null,null,null,null,null,null,null,null,null,null,null,null,null,null,null,null,null,null,null,null,null,null,null,null,null,null,null,null,null,null,null,null,null,{"$f":"IF(ISNUMBER(SEARCH($C$6,BU2074)),MAX($BT$13:BT2073)+1,0)","v":2061},0,{"$f":"ROWS($BV$14:BV2074)","v":2061},{"$f":"IFERROR(VLOOKUP(ROWS($BW$14:BW2074),$BT$14:$BU$5000,2,0),\"\")","v":0}]
[null,null,null,null,null,null,null,null,null,null,null,null,null,null,null,null,null,null,null,null,null,null,null,null,null,null,null,null,null,null,null,null,null,null,null,null,null,null,null,null,null,null,null,null,null,null,null,null,null,null,null,null,null,null,null,null,null,null,null,null,null,null,null,null,null,null,null,null,null,null,null,{"$f":"IF(ISNUMBER(SEARCH($C$6,BU2081)),MAX($BT$13:BT2080)+1,0)","v":2068},0,{"$f":"ROWS($BV$14:BV2081)","v":2068},{"$f":"IFERROR(VLOOKUP(ROWS($BW$14:BW2081),$BT$14:$BU$5000,2,0),\"\")","v":0}]
[null,null,null,null,null,null,null,null,null,null,null,null,null,null,null,null,null,null,null,null,null,null,null,null,null,null,null,null,null,null,null,null,null,null,null,null,null,null,null,null,null,null,null,null,null,null,null,null,null,null,null,null,null,null,null,null,null,null,null,null,null,null,null,null,null,null,null,null,null,null,null,{"$f":"IF(ISNUMBER(SEARCH($C$6,BU2088)),MAX($BT$13:BT2087)+1,0)","v":2075},0,{"$f":"ROWS($BV$14:BV2088)","v":2075},{"$f":"IFERROR(VLOOKUP(ROWS($BW$14:BW2088),$BT$14:$BU$5000,2,0),\"\")","v":0}]
[null,null,null,null,null,null,null,null,null,null,null,null,null,null,null,null,null,null,null,null,null,null,null,null,null,null,null,null,null,null,null,null,null,null,null,null,null,null,null,null,null,null,null,null,null,null,null,null,null,null,null,null,null,null,null,null,null,null,null,null,null,null,null,null,null,null,null,null,null,null,null,{"$f":"IF(ISNUMBER(SEARCH($C$6,BU2100)),MAX($BT$13:BT2099)+1,0)","v":2087},0,{"$f":"ROWS($BV$14:BV2100)","v":2087},{"$f":"IFERROR(VLOOKUP(ROWS($BW$14:BW2100),$BT$14:$BU$5000,2,0),\"\")","v":0}]
[null,null,null,null,null,null,null,null,null,null,null,null,null,null,null,null,null,null,null,null,null,null,null,null,null,null,null,null,null,null,null,null,null,null,null,null,null,null,null,null,null,null,null,null,null,null,null,null,null,null,null,null,null,null,null,null,null,null,null,null,null,null,null,null,null,null,null,null,null,null,null,{"$f":"IF(ISNUMBER(SEARCH($C$6,BU2105)),MAX($BT$13:BT2104)+1,0)","v":2092},0,{"$f":"ROWS($BV$14:BV2105)","v":2092},{"$f":"IFERROR(VLOOKUP(ROWS($BW$14:BW2105),$BT$14:$BU$5000,2,0),\"\")","v":0}]
[null,null,null,null,null,null,null,null,null,null,null,null,null,null,null,null,null,null,null,null,null,null,null,null,null,null,null,null,null,null,null,null,null,null,null,null,null,null,null,null,null,null,null,null,null,null,null,null,null,null,null,null,null,null,null,null,null,null,null,null,null,null,null,null,null,null,null,null,null,null,null,{"$f":"IF(ISNUMBER(SEARCH($C$6,BU2118)),MAX($BT$13:BT2117)+1,0)","v":2105},0,{"$f":"ROWS($BV$14:BV2118)","v":2105},{"$f":"IFERROR(VLOOKUP(ROWS($BW$14:BW2118),$BT$14:$BU$5000,2,0),\"\")","v":0}]
[null,null,null,null,null,null,null,null,null,null,null,null,null,null,null,null,null,null,null,null,null,null,null,null,null,null,null,null,null,null,null,null,null,null,null,null,null,null,null,null,null,null,null,null,null,null,null,null,null,null,null,null,null,null,null,null,null,null,null,null,null,null,null,null,null,null,null,null,null,null,null,{"$f":"IF(ISNUMBER(SEARCH($C$6,BU2130)),MAX($BT$13:BT2129)+1,0)","v":2117},0,{"$f":"ROWS($BV$14:BV2130)","v":2117},{"$f":"IFERROR(VLOOKUP(ROWS($BW$14:BW2130),$BT$14:$BU$5000,2,0),\"\")","v":0}]
[null,null,null,null,null,null,null,null,null,null,null,null,null,null,null,null,null,null,null,null,null,null,null,null,null,null,null,null,null,null,null,null,null,null,null,null,null,null,null,null,null,null,null,null,null,null,null,null,null,null,null,null,null,null,null,null,null,null,null,null,null,null,null,null,null,null,null,null,null,null,null,{"$f":"IF(ISNUMBER(SEARCH($C$6,BU2137)),MAX($BT$13:BT2136)+1,0)","v":2124},0,{"$f":"ROWS($BV$14:BV2137)","v":2124},{"$f":"IFERROR(VLOOKUP(ROWS($BW$14:BW2137),$BT$14:$BU$5000,2,0),\"\")","v":0}]
[null,null,null,null,null,null,null,null,null,null,null,null,null,null,null,null,null,null,null,null,null,null,null,null,null,null,null,null,null,null,null,null,null,null,null,null,null,null,null,null,null,null,null,null,null,null,null,null,null,null,null,null,null,null,null,null,null,null,null,null,null,null,null,null,null,null,null,null,null,null,null,{"$f":"IF(ISNUMBER(SEARCH($C$6,BU2140)),MAX($BT$13:BT2139)+1,0)","v":2127},0,{"$f":"ROWS($BV$14:BV2140)","v":2127},{"$f":"IFERROR(VLOOKUP(ROWS($BW$14:BW2140),$BT$14:$BU$5000,2,0),\"\")","v":0}]
[null,null,null,null,null,null,null,null,null,null,null,null,null,null,null,null,null,null,null,null,null,null,null,null,null,null,null,null,null,null,null,null,null,null,null,null,null,null,null,null,null,null,null,null,null,null,null,null,null,null,null,null,null,null,null,null,null,null,null,null,null,null,null,null,null,null,null,null,null,null,null,{"$f":"IF(ISNUMBER(SEARCH($C$6,BU2154)),MAX($BT$13:BT2153)+1,0)","v":2141},0,{"$f":"ROWS($BV$14:BV2154)","v":2141},{"$f":"IFERROR(VLOOKUP(ROWS($BW$14:BW2154),$BT$14:$BU$5000,2,0),\"\")","v":0}]
[null,null,null,null,null,null,null,null,null,null,null,null,null,null,null,null,null,null,null,null,null,null,null,null,null,null,null,null,null,null,null,null,null,null,null,null,null,null,null,null,null,null,null,null,null,null,null,null,null,null,null,null,null,null,null,null,null,null,null,null,null,null,null,null,null,null,null,null,null,null,null,{"$f":"IF(ISNUMBER(SEARCH($C$6,BU2158)),MAX($BT$13:BT2157)+1,0)","v":2145},0,{"$f":"ROWS($BV$14:BV2158)","v":2145},{"$f":"IFERROR(VLOOKUP(ROWS($BW$14:BW2158),$BT$14:$BU$5000,2,0),\"\")","v":0}]
[null,null,null,null,null,null,null,null,null,null,null,null,null,null,null,null,null,null,null,null,null,null,null,null,null,null,null,null,null,null,null,null,null,null,null,null,null,null,null,null,null,null,null,null,null,null,null,null,null,null,null,null,null,null,null,null,null,null,null,null,null,null,null,null,null,null,null,null,null,null,null,{"$f":"IF(ISNUMBER(SEARCH($C$6,BU2170)),MAX($BT$13:BT2169)+1,0)","v":2157},0,{"$f":"ROWS($BV$14:BV2170)","v":2157},{"$f":"IFERROR(VLOOKUP(ROWS($BW$14:BW2170),$BT$14:$BU$5000,2,0),\"\")","v":0}]
[null,null,null,null,null,null,null,null,null,null,null,null,null,null,null,null,null,null,null,null,null,null,null,null,null,null,null,null,null,null,null,null,null,null,null,null,null,null,null,null,null,null,null,null,null,null,null,null,null,null,null,null,null,null,null,null,null,null,null,null,null,null,null,null,null,null,null,null,null,null,null,{"$f":"IF(ISNUMBER(SEARCH($C$6,BU2182)),MAX($BT$13:BT2181)+1,0)","v":2169},0,{"$f":"ROWS($BV$14:BV2182)","v":2169},{"$f":"IFERROR(VLOOKUP(ROWS($BW$14:BW2182),$BT$14:$BU$5000,2,0),\"\")","v":0}]
[null,null,null,null,null,null,null,null,null,null,null,null,null,null,null,null,null,null,null,null,null,null,null,null,null,null,null,null,null,null,null,null,null,null,null,null,null,null,null,null,null,null,null,null,null,null,null,null,null,null,null,null,null,null,null,null,null,null,null,null,null,null,null,null,null,null,null,null,null,null,null,{"$f":"IF(ISNUMBER(SEARCH($C$6,BU2185)),MAX($BT$13:BT2184)+1,0)","v":2172},0,{"$f":"ROWS($BV$14:BV2185)","v":2172},{"$f":"IFERROR(VLOOKUP(ROWS($BW$14:BW2185),$BT$14:$BU$5000,2,0),\"\")","v":0}]
[null,null,null,null,null,null,null,null,null,null,null,null,null,null,null,null,null,null,null,null,null,null,null,null,null,null,null,null,null,null,null,null,null,null,null,null,null,null,null,null,null,null,null,null,null,null,null,null,null,null,null,null,null,null,null,null,null,null,null,null,null,null,null,null,null,null,null,null,null,null,null,{"$f":"IF(ISNUMBER(SEARCH($C$6,BU2200)),MAX($BT$13:BT2199)+1,0)","v":2187},0,{"$f":"ROWS($BV$14:BV2200)","v":2187},{"$f":"IFERROR(VLOOKUP(ROWS($BW$14:BW2200),$BT$14:$BU$5000,2,0),\"\")","v":0}]
[null,null,null,null,null,null,null,null,null,null,null,null,null,null,null,null,null,null,null,null,null,null,null,null,null,null,null,null,null,null,null,null,null,null,null,null,null,null,null,null,null,null,null,null,null,null,null,null,null,null,null,null,null,null,null,null,null,null,null,null,null,null,null,null,null,null,null,null,null,null,null,{"$f":"IF(ISNUMBER(SEARCH($C$6,BU2207)),MAX($BT$13:BT2206)+1,0)","v":2194},0,{"$f":"ROWS($BV$14:BV2207)","v":2194},{"$f":"IFERROR(VLOOKUP(ROWS($BW$14:BW2207),$BT$14:$BU$5000,2,0),\"\")","v":0}]
[null,null,null,null,null,null,null,null,null,null,null,null,null,null,null,null,null,null,null,null,null,null,null,null,null,null,null,null,null,null,null,null,null,null,null,null,null,null,null,null,null,null,null,null,null,null,null,null,null,null,null,null,null,null,null,null,null,null,null,null,null,null,null,null,null,null,null,null,null,null,null,{"$f":"IF(ISNUMBER(SEARCH($C$6,BU2210)),MAX($BT$13:BT2209)+1,0)","v":2197},0,{"$f":"ROWS($BV$14:BV2210)","v":2197},{"$f":"IFERROR(VLOOKUP(ROWS($BW$14:BW2210),$BT$14:$BU$5000,2,0),\"\")","v":0}]
[null,null,null,null,null,null,null,null,null,null,null,null,null,null,null,null,null,null,null,null,null,null,null,null,null,null,null,null,null,null,null,null,null,null,null,null,null,null,null,null,null,null,null,null,null,null,null,null,null,null,null,null,null,null,null,null,null,null,null,null,null,null,null,null,null,null,null,null,null,null,null,{"$f":"IF(ISNUMBER(SEARCH($C$6,BU2224)),MAX($BT$13:BT2223)+1,0)","v":2211},0,{"$f":"ROWS($BV$14:BV2224)","v":2211},{"$f":"IFERROR(VLOOKUP(ROWS($BW$14:BW2224),$BT$14:$BU$5000,2,0),\"\")","v":0}]
[null,null,null,null,null,null,null,null,null,null,null,null,null,null,null,null,null,null,null,null,null,null,null,null,null,null,null,null,null,null,null,null,null,null,null,null,null,null,null,null,null,null,null,null,null,null,null,null,null,null,null,null,null,null,null,null,null,null,null,null,null,null,null,null,null,null,null,null,null,null,null,{"$f":"IF(ISNUMBER(SEARCH($C$6,BU2228)),MAX($BT$13:BT2227)+1,0)","v":2215},0,{"$f":"ROWS($BV$14:BV2228)","v":2215},{"$f":"IFERROR(VLOOKUP(ROWS($BW$14:BW2228),$BT$14:$BU$5000,2,0),\"\")","v":0}]
[null,null,null,null,null,null,null,null,null,null,null,null,null,null,null,null,null,null,null,null,null,null,null,null,null,null,null,null,null,null,null,null,null,null,null,null,null,null,null,null,null,null,null,null,null,null,null,null,null,null,null,null,null,null,null,null,null,null,null,null,null,null,null,null,null,null,null,null,null,null,null,{"$f":"IF(ISNUMBER(SEARCH($C$6,BU2240)),MAX($BT$13:BT2239)+1,0)","v":2227},0,{"$f":"ROWS($BV$14:BV2240)","v":2227},{"$f":"IFERROR(VLOOKUP(ROWS($BW$14:BW2240),$BT$14:$BU$5000,2,0),\"\")","v":0}]
[null,null,null,null,null,null,null,null,null,null,null,null,null,null,null,null,null,null,null,null,null,null,null,null,null,null,null,null,null,null,null,null,null,null,null,null,null,null,null,null,null,null,null,null,null,null,null,null,null,null,null,null,null,null,null,null,null,null,null,null,null,null,null,null,null,null,null,null,null,null,null,{"$f":"IF(ISNUMBER(SEARCH($C$6,BU2247)),MAX($BT$13:BT2246)+1,0)","v":2234},0,{"$f":"ROWS($BV$14:BV2247)","v":2234},{"$f":"IFERROR(VLOOKUP(ROWS($BW$14:BW2247),$BT$14:$BU$5000,2,0),\"\")","v":0}]
[null,null,null,null,null,null,null,null,null,null,null,null,null,null,null,null,null,null,null,null,null,null,null,null,null,null,null,null,null,null,null,null,null,null,null,null,null,null,null,null,null,null,null,null,null,null,null,null,null,null,null,null,null,null,null,null,null,null,null,null,null,null,null,null,null,null,null,null,null,null,null,{"$f":"IF(ISNUMBER(SEARCH($C$6,BU2255)),MAX($BT$13:BT2254)+1,0)","v":2242},0,{"$f":"ROWS($BV$14:BV2255)","v":2242},{"$f":"IFERROR(VLOOKUP(ROWS($BW$14:BW2255),$BT$14:$BU$5000,2,0),\"\")","v":0}]
[null,null,null,null,null,null,null,null,null,null,null,null,null,null,null,null,null,null,null,null,null,null,null,null,null,null,null,null,null,null,null,null,null,null,null,null,null,null,null,null,null,null,null,null,null,null,null,null,null,null,null,null,null,null,null,null,null,null,null,null,null,null,null,null,null,null,null,null,null,null,null,{"$f":"IF(ISNUMBER(SEARCH($C$6,BU2270)),MAX($BT$13:BT2269)+1,0)","v":2257},0,{"$f":"ROWS($BV$14:BV2270)","v":2257},{"$f":"IFERROR(VLOOKUP(ROWS($BW$14:BW2270),$BT$14:$BU$5000,2,0),\"\")","v":0}]
[null,null,null,null,null,null,null,null,null,null,null,null,null,null,null,null,null,null,null,null,null,null,null,null,null,null,null,null,null,null,null,null,null,null,null,null,null,null,null,null,null,null,null,null,null,null,null,null,null,null,null,null,null,null,null,null,null,null,null,null,null,null,null,null,null,null,null,null,null,null,null,{"$f":"IF(ISNUMBER(SEARCH($C$6,BU2277)),MAX($BT$13:BT2276)+1,0)","v":2264},0,{"$f":"ROWS($BV$14:BV2277)","v":2264},{"$f":"IFERROR(VLOOKUP(ROWS($BW$14:BW2277),$BT$14:$BU$5000,2,0),\"\")","v":0}]
[null,null,null,null,null,null,null,null,null,null,null,null,null,null,null,null,null,null,null,null,null,null,null,null,null,null,null,null,null,null,null,null,null,null,null,null,null,null,null,null,null,null,null,null,null,null,null,null,null,null,null,null,null,null,null,null,null,null,null,null,null,null,null,null,null,null,null,null,null,null,null,{"$f":"IF(ISNUMBER(SEARCH($C$6,BU2280)),MAX($BT$13:BT2279)+1,0)","v":2267},0,{"$f":"ROWS($BV$14:BV2280)","v":2267},{"$f":"IFERROR(VLOOKUP(ROWS($BW$14:BW2280),$BT$14:$BU$5000,2,0),\"\")","v":0}]
[null,null,null,null,null,null,null,null,null,null,null,null,null,null,null,null,null,null,null,null,null,null,null,null,null,null,null,null,null,null,null,null,null,null,null,null,null,null,null,null,null,null,null,null,null,null,null,null,null,null,null,null,null,null,null,null,null,null,null,null,null,null,null,null,null,null,null,null,null,null,null,{"$f":"IF(ISNUMBER(SEARCH($C$6,BU2292)),MAX($BT$13:BT2291)+1,0)","v":2279},0,{"$f":"ROWS($BV$14:BV2292)","v":2279},{"$f":"IFERROR(VLOOKUP(ROWS($BW$14:BW2292),$BT$14:$BU$5000,2,0),\"\")","v":0}]
[null,null,null,null,null,null,null,null,null,null,null,null,null,null,null,null,null,null,null,null,null,null,null,null,null,null,null,null,null,null,null,null,null,null,null,null,null,null,null,null,null,null,null,null,null,null,null,null,null,null,null,null,null,null,null,null,null,null,null,null,null,null,null,null,null,null,null,null,null,null,null,{"$f":"IF(ISNUMBER(SEARCH($C$6,BU2304)),MAX($BT$13:BT2303)+1,0)","v":2291},0,{"$f":"ROWS($BV$14:BV2304)","v":2291},{"$f":"IFERROR(VLOOKUP(ROWS($BW$14:BW2304),$BT$14:$BU$5000,2,0),\"\")","v":0}]
[null,null,null,null,null,null,null,null,null,null,null,null,null,null,null,null,null,null,null,null,null,null,null,null,null,null,null,null,null,null,null,null,null,null,null,null,null,null,null,null,null,null,null,null,null,null,null,null,null,null,null,null,null,null,null,null,null,null,null,null,null,null,null,null,null,null,null,null,null,null,null,{"$f":"IF(ISNUMBER(SEARCH($C$6,BU2310)),MAX($BT$13:BT2309)+1,0)","v":2297},0,{"$f":"ROWS($BV$14:BV2310)","v":2297},{"$f":"IFERROR(VLOOKUP(ROWS($BW$14:BW2310),$BT$14:$BU$5000,2,0),\"\")","v":0}]
[null,null,null,null,null,null,null,null,null,null,null,null,null,null,null,null,null,null,null,null,null,null,null,null,null,null,null,null,null,null,null,null,null,null,null,null,null,null,null,null,null,null,null,null,null,null,null,null,null,null,null,null,null,null,null,null,null,null,null,null,null,null,null,null,null,null,null,null,null,null,null,{"$f":"IF(ISNUMBER(SEARCH($C$6,BU2317)),MAX($BT$13:BT2316)+1,0)","v":2304},0,{"$f":"ROWS($BV$14:BV2317)","v":2304},{"$f":"IFERROR(VLOOKUP(ROWS($BW$14:BW2317),$BT$14:$BU$5000,2,0),\"\")","v":0}]
[null,null,null,null,null,null,null,null,null,null,null,null,null,null,null,null,null,null,null,null,null,null,null,null,null,null,null,null,null,null,null,null,null,null,null,null,null,null,null,null,null,null,null,null,null,null,null,null,null,null,null,null,null,null,null,null,null,null,null,null,null,null,null,null,null,null,null,null,null,null,null,{"$f":"IF(ISNUMBER(SEARCH($C$6,BU2329)),MAX($BT$13:BT2328)+1,0)","v":2316},0,{"$f":"ROWS($BV$14:BV2329)","v":2316},{"$f":"IFERROR(VLOOKUP(ROWS($BW$14:BW2329),$BT$14:$BU$5000,2,0),\"\")","v":0}]
[null,null,null,null,null,null,null,null,null,null,null,null,null,null,null,null,null,null,null,null,null,null,null,null,null,null,null,null,null,null,null,null,null,null,null,null,null,null,null,null,null,null,null,null,null,null,null,null,null,null,null,null,null,null,null,null,null,null,null,null,null,null,null,null,null,null,null,null,null,null,null,{"$f":"IF(ISNUMBER(SEARCH($C$6,BU2335)),MAX($BT$13:BT2334)+1,0)","v":2322},0,{"$f":"ROWS($BV$14:BV2335)","v":2322},{"$f":"IFERROR(VLOOKUP(ROWS($BW$14:BW2335),$BT$14:$BU$5000,2,0),\"\")","v":0}]
[null,null,null,null,null,null,null,null,null,null,null,null,null,null,null,null,null,null,null,null,null,null,null,null,null,null,null,null,null,null,null,null,null,null,null,null,null,null,null,null,null,null,null,null,null,null,null,null,null,null,null,null,null,null,null,null,null,null,null,null,null,null,null,null,null,null,null,null,null,null,null,{"$f":"IF(ISNUMBER(SEARCH($C$6,BU2347)),MAX($BT$13:BT2346)+1,0)","v":2334},0,{"$f":"ROWS($BV$14:BV2347)","v":2334},{"$f":"IFERROR(VLOOKUP(ROWS($BW$14:BW2347),$BT$14:$BU$5000,2,0),\"\")","v":0}]
[null,null,null,null,null,null,null,null,null,null,null,null,null,null,null,null,null,null,null,null,null,null,null,null,null,null,null,null,null,null,null,null,null,null,null,null,null,null,null,null,null,null,null,null,null,null,null,null,null,null,null,null,null,null,null,null,null,null,null,null,null,null,null,null,null,null,null,null,null,null,null,{"$f":"IF(ISNUMBER(SEARCH($C$6,BU2350)),MAX($BT$13:BT2349)+1,0)","v":2337},0,{"$f":"ROWS($BV$14:BV2350)","v":2337},{"$f":"IFERROR(VLOOKUP(ROWS($BW$14:BW2350),$BT$14:$BU$5000,2,0),\"\")","v":0}]
[null,null,null,null,null,null,null,null,null,null,null,null,null,null,null,null,null,null,null,null,null,null,null,null,null,null,null,null,null,null,null,null,null,null,null,null,null,null,null,null,null,null,null,null,null,null,null,null,null,null,null,null,null,null,null,null,null,null,null,null,null,null,null,null,null,null,null,null,null,null,null,{"$f":"IF(ISNUMBER(SEARCH($C$6,BU2362)),MAX($BT$13:BT2361)+1,0)","v":2349},0,{"$f":"ROWS($BV$14:BV2362)","v":2349},{"$f":"IFERROR(VLOOKUP(ROWS($BW$14:BW2362),$BT$14:$BU$5000,2,0),\"\")","v":0}]
[null,null,null,null,null,null,null,null,null,null,null,null,null,null,null,null,null,null,null,null,null,null,null,null,null,null,null,null,null,null,null,null,null,null,null,null,null,null,null,null,null,null,null,null,null,null,null,null,null,null,null,null,null,null,null,null,null,null,null,null,null,null,null,null,null,null,null,null,null,null,null,{"$f":"IF(ISNUMBER(SEARCH($C$6,BU2374)),MAX($BT$13:BT2373)+1,0)","v":2361},0,{"$f":"ROWS($BV$14:BV2374)","v":2361},{"$f":"IFERROR(VLOOKUP(ROWS($BW$14:BW2374),$BT$14:$BU$5000,2,0),\"\")","v":0}]
[null,null,null,null,null,null,null,null,null,null,null,null,null,null,null,null,null,null,null,null,null,null,null,null,null,null,null,null,null,null,null,null,null,null,null,null,null,null,null,null,null,null,null,null,null,null,null,null,null,null,null,null,null,null,null,null,null,null,null,null,null,null,null,null,null,null,null,null,null,null,null,{"$f":"IF(ISNUMBER(SEARCH($C$6,BU2380)),MAX($BT$13:BT2379)+1,0)","v":2367},0,{"$f":"ROWS($BV$14:BV2380)","v":2367},{"$f":"IFERROR(VLOOKUP(ROWS($BW$14:BW2380),$BT$14:$BU$5000,2,0),\"\")","v":0}]
[null,null,null,null,null,null,null,null,null,null,null,null,null,null,null,null,null,null,null,null,null,null,null,null,null,null,null,null,null,null,null,null,null,null,null,null,null,null,null,null,null,null,null,null,null,null,null,null,null,null,null,null,null,null,null,null,null,null,null,null,null,null,null,null,null,null,null,null,null,null,null,{"$f":"IF(ISNUMBER(SEARCH($C$6,BU2387)),MAX($BT$13:BT2386)+1,0)","v":2374},0,{"$f":"ROWS($BV$14:BV2387)","v":2374},{"$f":"IFERROR(VLOOKUP(ROWS($BW$14:BW2387),$BT$14:$BU$5000,2,0),\"\")","v":0}]
[null,null,null,null,null,null,null,null,null,null,null,null,null,null,null,null,null,null,null,null,null,null,null,null,null,null,null,null,null,null,null,null,null,null,null,null,null,null,null,null,null,null,null,null,null,null,null,null,null,null,null,null,null,null,null,null,null,null,null,null,null,null,null,null,null,null,null,null,null,null,null,{"$f":"IF(ISNUMBER(SEARCH($C$6,BU2399)),MAX($BT$13:BT2398)+1,0)","v":2386},0,{"$f":"ROWS($BV$14:BV2399)","v":2386},{"$f":"IFERROR(VLOOKUP(ROWS($BW$14:BW2399),$BT$14:$BU$5000,2,0),\"\")","v":0}]
[null,null,null,null,null,null,null,null,null,null,null,null,null,null,null,null,null,null,null,null,null,null,null,null,null,null,null,null,null,null,null,null,null,null,null,null,null,null,null,null,null,null,null,null,null,null,null,null,null,null,null,null,null,null,null,null,null,null,null,null,null,null,null,null,null,null,null,null,null,null,null,{"$f":"IF(ISNUMBER(SEARCH($C$6,BU2405)),MAX($BT$13:BT2404)+1,0)","v":2392},0,{"$f":"ROWS($BV$14:BV2405)","v":2392},{"$f":"IFERROR(VLOOKUP(ROWS($BW$14:BW2405),$BT$14:$BU$5000,2,0),\"\")","v":0}]
[null,null,null,null,null,null,null,null,null,null,null,null,null,null,null,null,null,null,null,null,null,null,null,null,null,null,null,null,null,null,null,null,null,null,null,null,null,null,null,null,null,null,null,null,null,null,null,null,null,null,null,null,null,null,null,null,null,null,null,null,null,null,null,null,null,null,null,null,null,null,null,{"$f":"IF(ISNUMBER(SEARCH($C$6,BU2417)),MAX($BT$13:BT2416)+1,0)","v":2404},0,{"$f":"ROWS($BV$14:BV2417)","v":2404},{"$f":"IFERROR(VLOOKUP(ROWS($BW$14:BW2417),$BT$14:$BU$5000,2,0),\"\")","v":0}]
[null,null,null,null,null,null,null,null,null,null,null,null,null,null,null,null,null,null,null,null,null,null,null,null,null,null,null,null,null,null,null,null,null,null,null,null,null,null,null,null,null,null,null,null,null,null,null,null,null,null,null,null,null,null,null,null,null,null,null,null,null,null,null,null,null,null,null,null,null,null,null,{"$f":"IF(ISNUMBER(SEARCH($C$6,BU2420)),MAX($BT$13:BT2419)+1,0)","v":2407},0,{"$f":"ROWS($BV$14:BV2420)","v":2407},{"$f":"IFERROR(VLOOKUP(ROWS($BW$14:BW2420),$BT$14:$BU$5000,2,0),\"\")","v":0}]
[null,null,null,null,null,null,null,null,null,null,null,null,null,null,null,null,null,null,null,null,null,null,null,null,null,null,null,null,null,null,null,null,null,null,null,null,null,null,null,null,null,null,null,null,null,null,null,null,null,null,null,null,null,null,null,null,null,null,null,null,null,null,null,null,null,null,null,null,null,null,null,{"$f":"IF(ISNUMBER(SEARCH($C$6,BU2436)),MAX($BT$13:BT2435)+1,0)","v":2423},0,{"$f":"ROWS($BV$14:BV2436)","v":2423},{"$f":"IFERROR(VLOOKUP(ROWS($BW$14:BW2436),$BT$14:$BU$5000,2,0),\"\")","v":0}]
[null,null,null,null,null,null,null,null,null,null,null,null,null,null,null,null,null,null,null,null,null,null,null,null,null,null,null,null,null,null,null,null,null,null,null,null,null,null,null,null,null,null,null,null,null,null,null,null,null,null,null,null,null,null,null,null,null,null,null,null,null,null,null,null,null,null,null,null,null,null,null,{"$f":"IF(ISNUMBER(SEARCH($C$6,BU2439)),MAX($BT$13:BT2438)+1,0)","v":2426},0,{"$f":"ROWS($BV$14:BV2439)","v":2426},{"$f":"IFERROR(VLOOKUP(ROWS($BW$14:BW2439),$BT$14:$BU$5000,2,0),\"\")","v":0}]
[null,null,null,null,null,null,null,null,null,null,null,null,null,null,null,null,null,null,null,null,null,null,null,null,null,null,null,null,null,null,null,null,null,null,null,null,null,null,null,null,null,null,null,null,null,null,null,null,null,null,null,null,null,null,null,null,null,null,null,null,null,null,null,null,null,null,null,null,null,null,null,{"$f":"IF(ISNUMBER(SEARCH($C$6,BU2454)),MAX($BT$13:BT2453)+1,0)","v":2441},0,{"$f":"ROWS($BV$14:BV2454)","v":2441},{"$f":"IFERROR(VLOOKUP(ROWS($BW$14:BW2454),$BT$14:$BU$5000,2,0),\"\")","v":0}]
[null,null,null,null,null,null,null,null,null,null,null,null,null,null,null,null,null,null,null,null,null,null,null,null,null,null,null,null,null,null,null,null,null,null,null,null,null,null,null,null,null,null,null,null,null,null,null,null,null,null,null,null,null,null,null,null,null,null,null,null,null,null,null,null,null,null,null,null,null,null,null,{"$f":"IF(ISNUMBER(SEARCH($C$6,BU2457)),MAX($BT$13:BT2456)+1,0)","v":2444},0,{"$f":"ROWS($BV$14:BV2457)","v":2444},{"$f":"IFERROR(VLOOKUP(ROWS($BW$14:BW2457),$BT$14:$BU$5000,2,0),\"\")","v":0}]
[null,null,null,null,null,null,null,null,null,null,null,null,null,null,null,null,null,null,null,null,null,null,null,null,null,null,null,null,null,null,null,null,null,null,null,null,null,null,null,null,null,null,null,null,null,null,null,null,null,null,null,null,null,null,null,null,null,null,null,null,null,null,null,null,null,null,null,null,null,null,null,{"$f":"IF(ISNUMBER(SEARCH($C$6,BU2469)),MAX($BT$13:BT2468)+1,0)","v":2456},0,{"$f":"ROWS($BV$14:BV2469)","v":2456},{"$f":"IFERROR(VLOOKUP(ROWS($BW$14:BW2469),$BT$14:$BU$5000,2,0),\"\")","v":0}]
[null,null,null,null,null,null,null,null,null,null,null,null,null,null,null,null,null,null,null,null,null,null,null,null,null,null,null,null,null,null,null,null,null,null,null,null,null,null,null,null,null,null,null,null,null,null,null,null,null,null,null,null,null,null,null,null,null,null,null,null,null,null,null,null,null,null,null,null,null,null,null,{"$f":"IF(ISNUMBER(SEARCH($C$6,BU2481)),MAX($BT$13:BT2480)+1,0)","v":2468},0,{"$f":"ROWS($BV$14:BV2481)","v":2468},{"$f":"IFERROR(VLOOKUP(ROWS($BW$14:BW2481),$BT$14:$BU$5000,2,0),\"\")","v":0}]
[null,null,null,null,null,null,null,null,null,null,null,null,null,null,null,null,null,null,null,null,null,null,null,null,null,null,null,null,null,null,null,null,null,null,null,null,null,null,null,null,null,null,null,null,null,null,null,null,null,null,null,null,null,null,null,null,null,null,null,null,null,null,null,null,null,null,null,null,null,null,null,{"$f":"IF(ISNUMBER(SEARCH($C$6,BU2485)),MAX($BT$13:BT2484)+1,0)","v":2472},0,{"$f":"ROWS($BV$14:BV2485)","v":2472},{"$f":"IFERROR(VLOOKUP(ROWS($BW$14:BW2485),$BT$14:$BU$5000,2,0),\"\")","v":0}]
[null,null,null,null,null,null,null,null,null,null,null,null,null,null,null,null,null,null,null,null,null,null,null,null,null,null,null,null,null,null,null,null,null,null,null,null,null,null,null,null,null,null,null,null,null,null,null,null,null,null,null,null,null,null,null,null,null,null,null,null,null,null,null,null,null,null,null,null,null,null,null,{"$f":"IF(ISNUMBER(SEARCH($C$6,BU2490)),MAX($BT$13:BT2489)+1,0)","v":2477},0,{"$f":"ROWS($BV$14:BV2490)","v":2477},{"$f":"IFERROR(VLOOKUP(ROWS($BW$14:BW2490),$BT$14:$BU$5000,2,0),\"\")","v":0}]
[null,null,null,null,null,null,null,null,null,null,null,null,null,null,null,null,null,null,null,null,null,null,null,null,null,null,null,null,null,null,null,null,null,null,null,null,null,null,null,null,null,null,null,null,null,null,null,null,null,null,null,null,null,null,null,null,null,null,null,null,null,null,null,null,null,null,null,null,null,null,null,{"$f":"IF(ISNUMBER(SEARCH($C$6,BU2506)),MAX($BT$13:BT2505)+1,0)","v":2493},0,{"$f":"ROWS($BV$14:BV2506)","v":2493},{"$f":"IFERROR(VLOOKUP(ROWS($BW$14:BW2506),$BT$14:$BU$5000,2,0),\"\")","v":0}]
[null,null,null,null,null,null,null,null,null,null,null,null,null,null,null,null,null,null,null,null,null,null,null,null,null,null,null,null,null,null,null,null,null,null,null,null,null,null,null,null,null,null,null,null,null,null,null,null,null,null,null,null,null,null,null,null,null,null,null,null,null,null,null,null,null,null,null,null,null,null,null,{"$f":"IF(ISNUMBER(SEARCH($C$6,BU2509)),MAX($BT$13:BT2508)+1,0)","v":2496},0,{"$f":"ROWS($BV$14:BV2509)","v":2496},{"$f":"IFERROR(VLOOKUP(ROWS($BW$14:BW2509),$BT$14:$BU$5000,2,0),\"\")","v":0}]
[null,null,null,null,null,null,null,null,null,null,null,null,null,null,null,null,null,null,null,null,null,null,null,null,null,null,null,null,null,null,null,null,null,null,null,null,null,null,null,null,null,null,null,null,null,null,null,null,null,null,null,null,null,null,null,null,null,null,null,null,null,null,null,null,null,null,null,null,null,null,null,{"$f":"IF(ISNUMBER(SEARCH($C$6,BU2524)),MAX($BT$13:BT2523)+1,0)","v":2511},0,{"$f":"ROWS($BV$14:BV2524)","v":2511},{"$f":"IFERROR(VLOOKUP(ROWS($BW$14:BW2524),$BT$14:$BU$5000,2,0),\"\")","v":0}]
[null,null,null,null,null,null,null,null,null,null,null,null,null,null,null,null,null,null,null,null,null,null,null,null,null,null,null,null,null,null,null,null,null,null,null,null,null,null,null,null,null,null,null,null,null,null,null,null,null,null,null,null,null,null,null,null,null,null,null,null,null,null,null,null,null,null,null,null,null,null,null,{"$f":"IF(ISNUMBER(SEARCH($C$6,BU2527)),MAX($BT$13:BT2526)+1,0)","v":2514},0,{"$f":"ROWS($BV$14:BV2527)","v":2514},{"$f":"IFERROR(VLOOKUP(ROWS($BW$14:BW2527),$BT$14:$BU$5000,2,0),\"\")","v":0}]
[null,null,null,null,null,null,null,null,null,null,null,null,null,null,null,null,null,null,null,null,null,null,null,null,null,null,null,null,null,null,null,null,null,null,null,null,null,null,null,null,null,null,null,null,null,null,null,null,null,null,null,null,null,null,null,null,null,null,null,null,null,null,null,null,null,null,null,null,null,null,null,{"$f":"IF(ISNUMBER(SEARCH($C$6,BU2539)),MAX($BT$13:BT2538)+1,0)","v":2526},0,{"$f":"ROWS($BV$14:BV2539)","v":2526},{"$f":"IFERROR(VLOOKUP(ROWS($BW$14:BW2539),$BT$14:$BU$5000,2,0),\"\")","v":0}]
[null,null,null,null,null,null,null,null,null,null,null,null,null,null,null,null,null,null,null,null,null,null,null,null,null,null,null,null,null,null,null,null,null,null,null,null,null,null,null,null,null,null,null,null,null,null,null,null,null,null,null,null,null,null,null,null,null,null,null,null,null,null,null,null,null,null,null,null,null,null,null,{"$f":"IF(ISNUMBER(SEARCH($C$6,BU2551)),MAX($BT$13:BT2550)+1,0)","v":2538},0,{"$f":"ROWS($BV$14:BV2551)","v":2538},{"$f":"IFERROR(VLOOKUP(ROWS($BW$14:BW2551),$BT$14:$BU$5000,2,0),\"\")","v":0}]
[null,null,null,null,null,null,null,null,null,null,null,null,null,null,null,null,null,null,null,null,null,null,null,null,null,null,null,null,null,null,null,null,null,null,null,null,null,null,null,null,null,null,null,null,null,null,null,null,null,null,null,null,null,null,null,null,null,null,null,null,null,null,null,null,null,null,null,null,null,null,null,{"$f":"IF(ISNUMBER(SEARCH($C$6,BU2558)),MAX($BT$13:BT2557)+1,0)","v":2545},0,{"$f":"ROWS($BV$14:BV2558)","v":2545},{"$f":"IFERROR(VLOOKUP(ROWS($BW$14:BW2558),$BT$14:$BU$5000,2,0),\"\")","v":0}]
[null,null,null,null,null,null,null,null,null,null,null,null,null,null,null,null,null,null,null,null,null,null,null,null,null,null,null,null,null,null,null,null,null,null,null,null,null,null,null,null,null,null,null,null,null,null,null,null,null,null,null,null,null,null,null,null,null,null,null,null,null,null,null,null,null,null,null,null,null,null,null,{"$f":"IF(ISNUMBER(SEARCH($C$6,BU2565)),MAX($BT$13:BT2564)+1,0)","v":2552},0,{"$f":"ROWS($BV$14:BV2565)","v":2552},{"$f":"IFERROR(VLOOKUP(ROWS($BW$14:BW2565),$BT$14:$BU$5000,2,0),\"\")","v":0}]
[null,null,null,null,null,null,null,null,null,null,null,null,null,null,null,null,null,null,null,null,null,null,null,null,null,null,null,null,null,null,null,null,null,null,null,null,null,null,null,null,null,null,null,null,null,null,null,null,null,null,null,null,null,null,null,null,null,null,null,null,null,null,null,null,null,null,null,null,null,null,null,{"$f":"IF(ISNUMBER(SEARCH($C$6,BU2576)),MAX($BT$13:BT2575)+1,0)","v":2563},0,{"$f":"ROWS($BV$14:BV2576)","v":2563},{"$f":"IFERROR(VLOOKUP(ROWS($BW$14:BW2576),$BT$14:$BU$5000,2,0),\"\")","v":0}]
[null,null,null,null,null,null,null,null,null,null,null,null,null,null,null,null,null,null,null,null,null,null,null,null,null,null,null,null,null,null,null,null,null,null,null,null,null,null,null,null,null,null,null,null,null,null,null,null,null,null,null,null,null,null,null,null,null,null,null,null,null,null,null,null,null,null,null,null,null,null,null,{"$f":"IF(ISNUMBER(SEARCH($C$6,BU2579)),MAX($BT$13:BT2578)+1,0)","v":2566},0,{"$f":"ROWS($BV$14:BV2579)","v":2566},{"$f":"IFERROR(VLOOKUP(ROWS($BW$14:BW2579),$BT$14:$BU$5000,2,0),\"\")","v":0}]
[null,null,null,null,null,null,null,null,null,null,null,null,null,null,null,null,null,null,null,null,null,null,null,null,null,null,null,null,null,null,null,null,null,null,null,null,null,null,null,null,null,null,null,null,null,null,null,null,null,null,null,null,null,null,null,null,null,null,null,null,null,null,null,null,null,null,null,null,null,null,null,{"$f":"IF(ISNUMBER(SEARCH($C$6,BU2591)),MAX($BT$13:BT2590)+1,0)","v":2578},0,{"$f":"ROWS($BV$14:BV2591)","v":2578},{"$f":"IFERROR(VLOOKUP(ROWS($BW$14:BW2591),$BT$14:$BU$5000,2,0),\"\")","v":0}]
[null,null,null,null,null,null,null,null,null,null,null,null,null,null,null,null,null,null,null,null,null,null,null,null,null,null,null,null,null,null,null,null,null,null,null,null,null,null,null,null,null,null,null,null,null,null,null,null,null,null,null,null,null,null,null,null,null,null,null,null,null,null,null,null,null,null,null,null,null,null,null,{"$f":"IF(ISNUMBER(SEARCH($C$6,BU2596)),MAX($BT$13:BT2595)+1,0)","v":2583},0,{"$f":"ROWS($BV$14:BV2596)","v":2583},{"$f":"IFERROR(VLOOKUP(ROWS($BW$14:BW2596),$BT$14:$BU$5000,2,0),\"\")","v":0}]
[null,null,null,null,null,null,null,null,null,null,null,null,null,null,null,null,null,null,null,null,null,null,null,null,null,null,null,null,null,null,null,null,null,null,null,null,null,null,null,null,null,null,null,null,null,null,null,null,null,null,null,null,null,null,null,null,null,null,null,null,null,null,null,null,null,null,null,null,null,null,null,{"$f":"IF(ISNUMBER(SEARCH($C$6,BU2609)),MAX($BT$13:BT2608)+1,0)","v":2596},0,{"$f":"ROWS($BV$14:BV2609)","v":2596},{"$f":"IFERROR(VLOOKUP(ROWS($BW$14:BW2609),$BT$14:$BU$5000,2,0),\"\")","v":0}]
[null,null,null,null,null,null,null,null,null,null,null,null,null,null,null,null,null,null,null,null,null,null,null,null,null,null,null,null,null,null,null,null,null,null,null,null,null,null,null,null,null,null,null,null,null,null,null,null,null,null,null,null,null,null,null,null,null,null,null,null,null,null,null,null,null,null,null,null,null,null,null,{"$f":"IF(ISNUMBER(SEARCH($C$6,BU2616)),MAX($BT$13:BT2615)+1,0)","v":2603},0,{"$f":"ROWS($BV$14:BV2616)","v":2603},{"$f":"IFERROR(VLOOKUP(ROWS($BW$14:BW2616),$BT$14:$BU$5000,2,0),\"\")","v":0}]
[null,null,null,null,null,null,null,null,null,null,null,null,null,null,null,null,null,null,null,null,null,null,null,null,null,null,null,null,null,null,null,null,null,null,null,null,null,null,null,null,null,null,null,null,null,null,null,null,null,null,null,null,null,null,null,null,null,null,null,null,null,null,null,null,null,null,null,null,null,null,null,{"$f":"IF(ISNUMBER(SEARCH($C$6,BU2628)),MAX($BT$13:BT2627)+1,0)","v":2615},0,{"$f":"ROWS($BV$14:BV2628)","v":2615},{"$f":"IFERROR(VLOOKUP(ROWS($BW$14:BW2628),$BT$14:$BU$5000,2,0),\"\")","v":0}]
[null,null,null,null,null,null,null,null,null,null,null,null,null,null,null,null,null,null,null,null,null,null,null,null,null,null,null,null,null,null,null,null,null,null,null,null,null,null,null,null,null,null,null,null,null,null,null,null,null,null,null,null,null,null,null,null,null,null,null,null,null,null,null,null,null,null,null,null,null,null,null,{"$f":"IF(ISNUMBER(SEARCH($C$6,BU2635)),MAX($BT$13:BT2634)+1,0)","v":2622},0,{"$f":"ROWS($BV$14:BV2635)","v":2622},{"$f":"IFERROR(VLOOKUP(ROWS($BW$14:BW2635),$BT$14:$BU$5000,2,0),\"\")","v":0}]
[null,null,null,null,null,null,null,null,null,null,null,null,null,null,null,null,null,null,null,null,null,null,null,null,null,null,null,null,null,null,null,null,null,null,null,null,null,null,null,null,null,null,null,null,null,null,null,null,null,null,null,null,null,null,null,null,null,null,null,null,null,null,null,null,null,null,null,null,null,null,null,{"$f":"IF(ISNUMBER(SEARCH($C$6,BU2646)),MAX($BT$13:BT2645)+1,0)","v":2633},0,{"$f":"ROWS($BV$14:BV2646)","v":2633},{"$f":"IFERROR(VLOOKUP(ROWS($BW$14:BW2646),$BT$14:$BU$5000,2,0),\"\")","v":0}]
[null,null,null,null,null,null,null,null,null,null,null,null,null,null,null,null,null,null,null,null,null,null,null,null,null,null,null,null,null,null,null,null,null,null,null,null,null,null,null,null,null,null,null,null,null,null,null,null,null,null,null,null,null,null,null,null,null,null,null,null,null,null,null,null,null,null,null,null,null,null,null,{"$f":"IF(ISNUMBER(SEARCH($C$6,BU2649)),MAX($BT$13:BT2648)+1,0)","v":2636},0,{"$f":"ROWS($BV$14:BV2649)","v":2636},{"$f":"IFERROR(VLOOKUP(ROWS($BW$14:BW2649),$BT$14:$BU$5000,2,0),\"\")","v":0}]
[null,null,null,null,null,null,null,null,null,null,null,null,null,null,null,null,null,null,null,null,null,null,null,null,null,null,null,null,null,null,null,null,null,null,null,null,null,null,null,null,null,null,null,null,null,null,null,null,null,null,null,null,null,null,null,null,null,null,null,null,null,null,null,null,null,null,null,null,null,null,null,{"$f":"IF(ISNUMBER(SEARCH($C$6,BU2661)),MAX($BT$13:BT2660)+1,0)","v":2648},0,{"$f":"ROWS($BV$14:BV2661)","v":2648},{"$f":"IFERROR(VLOOKUP(ROWS($BW$14:BW2661),$BT$14:$BU$5000,2,0),\"\")","v":0}]
[null,null,null,null,null,null,null,null,null,null,null,null,null,null,null,null,null,null,null,null,null,null,null,null,null,null,null,null,null,null,null,null,null,null,null,null,null,null,null,null,null,null,null,null,null,null,null,null,null,null,null,null,null,null,null,null,null,null,null,null,null,null,null,null,null,null,null,null,null,null,null,{"$f":"IF(ISNUMBER(SEARCH($C$6,BU2666)),MAX($BT$13:BT2665)+1,0)","v":2653},0,{"$f":"ROWS($BV$14:BV2666)","v":2653},{"$f":"IFERROR(VLOOKUP(ROWS($BW$14:BW2666),$BT$14:$BU$5000,2,0),\"\")","v":0}]
[null,null,null,null,null,null,null,null,null,null,null,null,null,null,null,null,null,null,null,null,null,null,null,null,null,null,null,null,null,null,null,null,null,null,null,null,null,null,null,null,null,null,null,null,null,null,null,null,null,null,null,null,null,null,null,null,null,null,null,null,null,null,null,null,null,null,null,null,null,null,null,{"$f":"IF(ISNUMBER(SEARCH($C$6,BU2679)),MAX($BT$13:BT2678)+1,0)","v":2666},0,{"$f":"ROWS($BV$14:BV2679)","v":2666},{"$f":"IFERROR(VLOOKUP(ROWS($BW$14:BW2679),$BT$14:$BU$5000,2,0),\"\")","v":0}]
[null,null,null,null,null,null,null,null,null,null,null,null,null,null,null,null,null,null,null,null,null,null,null,null,null,null,null,null,null,null,null,null,null,null,null,null,null,null,null,null,null,null,null,null,null,null,null,null,null,null,null,null,null,null,null,null,null,null,null,null,null,null,null,null,null,null,null,null,null,null,null,{"$f":"IF(ISNUMBER(SEARCH($C$6,BU2686)),MAX($BT$13:BT2685)+1,0)","v":2673},0,{"$f":"ROWS($BV$14:BV2686)","v":2673},{"$f":"IFERROR(VLOOKUP(ROWS($BW$14:BW2686),$BT$14:$BU$5000,2,0),\"\")","v":0}]
[null,null,null,null,null,null,null,null,null,null,null,null,null,null,null,null,null,null,null,null,null,null,null,null,null,null,null,null,null,null,null,null,null,null,null,null,null,null,null,null,null,null,null,null,null,null,null,null,null,null,null,null,null,null,null,null,null,null,null,null,null,null,null,null,null,null,null,null,null,null,null,{"$f":"IF(ISNUMBER(SEARCH($C$6,BU2698)),MAX($BT$13:BT2697)+1,0)","v":2685},0,{"$f":"ROWS($BV$14:BV2698)","v":2685},{"$f":"IFERROR(VLOOKUP(ROWS($BW$14:BW2698),$BT$14:$BU$5000,2,0),\"\")","v":0}]
[null,null,null,null,null,null,null,null,null,null,null,null,null,null,null,null,null,null,null,null,null,null,null,null,null,null,null,null,null,null,null,null,null,null,null,null,null,null,null,null,null,null,null,null,null,null,null,null,null,null,null,null,null,null,null,null,null,null,null,null,null,null,null,null,null,null,null,null,null,null,null,{"$f":"IF(ISNUMBER(SEARCH($C$6,BU2701)),MAX($BT$13:BT2700)+1,0)","v":2688},0,{"$f":"ROWS($BV$14:BV2701)","v":2688},{"$f":"IFERROR(VLOOKUP(ROWS($BW$14:BW2701),$BT$14:$BU$5000,2,0),\"\")","v":0}]
[null,null,null,null,null,null,null,null,null,null,null,null,null,null,null,null,null,null,null,null,null,null,null,null,null,null,null,null,null,null,null,null,null,null,null,null,null,null,null,null,null,null,null,null,null,null,null,null,null,null,null,null,null,null,null,null,null,null,null,null,null,null,null,null,null,null,null,null,null,null,null,{"$f":"IF(ISNUMBER(SEARCH($C$6,BU2715)),MAX($BT$13:BT2714)+1,0)","v":2702},0,{"$f":"ROWS($BV$14:BV2715)","v":2702},{"$f":"IFERROR(VLOOKUP(ROWS($BW$14:BW2715),$BT$14:$BU$5000,2,0),\"\")","v":0}]
[null,null,null,null,null,null,null,null,null,null,null,null,null,null,null,null,null,null,null,null,null,null,null,null,null,null,null,null,null,null,null,null,null,null,null,null,null,null,null,null,null,null,null,null,null,null,null,null,null,null,null,null,null,null,null,null,null,null,null,null,null,null,null,null,null,null,null,null,null,null,null,{"$f":"IF(ISNUMBER(SEARCH($C$6,BU2719)),MAX($BT$13:BT2718)+1,0)","v":2706},0,{"$f":"ROWS($BV$14:BV2719)","v":2706},{"$f":"IFERROR(VLOOKUP(ROWS($BW$14:BW2719),$BT$14:$BU$5000,2,0),\"\")","v":0}]
[null,null,null,null,null,null,null,null,null,null,null,null,null,null,null,null,null,null,null,null,null,null,null,null,null,null,null,null,null,null,null,null,null,null,null,null,null,null,null,null,null,null,null,null,null,null,null,null,null,null,null,null,null,null,null,null,null,null,null,null,null,null,null,null,null,null,null,null,null,null,null,{"$f":"IF(ISNUMBER(SEARCH($C$6,BU2735)),MAX($BT$13:BT2734)+1,0)","v":2722},0,{"$f":"ROWS($BV$14:BV2735)","v":2722},{"$f":"IFERROR(VLOOKUP(ROWS($BW$14:BW2735),$BT$14:$BU$5000,2,0),\"\")","v":0}]
[null,null,null,null,null,null,null,null,null,null,null,null,null,null,null,null,null,null,null,null,null,null,null,null,null,null,null,null,null,null,null,null,null,null,null,null,null,null,null,null,null,null,null,null,null,null,null,null,null,null,null,null,null,null,null,null,null,null,null,null,null,null,null,null,null,null,null,null,null,null,null,{"$f":"IF(ISNUMBER(SEARCH($C$6,BU2738)),MAX($BT$13:BT2737)+1,0)","v":2725},0,{"$f":"ROWS($BV$14:BV2738)","v":2725},{"$f":"IFERROR(VLOOKUP(ROWS($BW$14:BW2738),$BT$14:$BU$5000,2,0),\"\")","v":0}]
[null,null,null,null,null,null,null,null,null,null,null,null,null,null,null,null,null,null,null,null,null,null,null,null,null,null,null,null,null,null,null,null,null,null,null,null,null,null,null,null,null,null,null,null,null,null,null,null,null,null,null,null,null,null,null,null,null,null,null,null,null,null,null,null,null,null,null,null,null,null,null,{"$f":"IF(ISNUMBER(SEARCH($C$6,BU2746)),MAX($BT$13:BT2745)+1,0)","v":2733},0,{"$f":"ROWS($BV$14:BV2746)","v":2733},{"$f":"IFERROR(VLOOKUP(ROWS($BW$14:BW2746),$BT$14:$BU$5000,2,0),\"\")","v":0}]
[null,null,null,null,null,null,null,null,null,null,null,null,null,null,null,null,null,null,null,null,null,null,null,null,null,null,null,null,null,null,null,null,null,null,null,null,null,null,null,null,null,null,null,null,null,null,null,null,null,null,null,null,null,null,null,null,null,null,null,null,null,null,null,null,null,null,null,null,null,null,null,{"$f":"IF(ISNUMBER(SEARCH($C$6,BU2756)),MAX($BT$13:BT2755)+1,0)","v":2743},0,{"$f":"ROWS($BV$14:BV2756)","v":2743},{"$f":"IFERROR(VLOOKUP(ROWS($BW$14:BW2756),$BT$14:$BU$5000,2,0),\"\")","v":0}]
[null,null,null,null,null,null,null,null,null,null,null,null,null,null,null,null,null,null,null,null,null,null,null,null,null,null,null,null,null,null,null,null,null,null,null,null,null,null,null,null,null,null,null,null,null,null,null,null,null,null,null,null,null,null,null,null,null,null,null,null,null,null,null,null,null,null,null,null,null,null,null,{"$f":"IF(ISNUMBER(SEARCH($C$6,BU2768)),MAX($BT$13:BT2767)+1,0)","v":2755},0,{"$f":"ROWS($BV$14:BV2768)","v":2755},{"$f":"IFERROR(VLOOKUP(ROWS($BW$14:BW2768),$BT$14:$BU$5000,2,0),\"\")","v":0}]
[null,null,null,null,null,null,null,null,null,null,null,null,null,null,null,null,null,null,null,null,null,null,null,null,null,null,null,null,null,null,null,null,null,null,null,null,null,null,null,null,null,null,null,null,null,null,null,null,null,null,null,null,null,null,null,null,null,null,null,null,null,null,null,null,null,null,null,null,null,null,null,{"$f":"IF(ISNUMBER(SEARCH($C$6,BU2771)),MAX($BT$13:BT2770)+1,0)","v":2758},0,{"$f":"ROWS($BV$14:BV2771)","v":2758},{"$f":"IFERROR(VLOOKUP(ROWS($BW$14:BW2771),$BT$14:$BU$5000,2,0),\"\")","v":0}]
[null,null,null,null,null,null,null,null,null,null,null,null,null,null,null,null,null,null,null,null,null,null,null,null,null,null,null,null,null,null,null,null,null,null,null,null,null,null,null,null,null,null,null,null,null,null,null,null,null,null,null,null,null,null,null,null,null,null,null,null,null,null,null,null,null,null,null,null,null,null,null,{"$f":"IF(ISNUMBER(SEARCH($C$6,BU2785)),MAX($BT$13:BT2784)+1,0)","v":2772},0,{"$f":"ROWS($BV$14:BV2785)","v":2772},{"$f":"IFERROR(VLOOKUP(ROWS($BW$14:BW2785),$BT$14:$BU$5000,2,0),\"\")","v":0}]
[null,null,null,null,null,null,null,null,null,null,null,null,null,null,null,null,null,null,null,null,null,null,null,null,null,null,null,null,null,null,null,null,null,null,null,null,null,null,null,null,null,null,null,null,null,null,null,null,null,null,null,null,null,null,null,null,null,null,null,null,null,null,null,null,null,null,null,null,null,null,null,{"$f":"IF(ISNUMBER(SEARCH($C$6,BU2789)),MAX($BT$13:BT2788)+1,0)","v":2776},0,{"$f":"ROWS($BV$14:BV2789)","v":2776},{"$f":"IFERROR(VLOOKUP(ROWS($BW$14:BW2789),$BT$14:$BU$5000,2,0),\"\")","v":0}]
[null,null,null,null,null,null,null,null,null,null,null,null,null,null,null,null,null,null,null,null,null,null,null,null,null,null,null,null,null,null,null,null,null,null,null,null,null,null,null,null,null,null,null,null,null,null,null,null,null,null,null,null,null,null,null,null,null,null,null,null,null,null,null,null,null,null,null,null,null,null,null,{"$f":"IF(ISNUMBER(SEARCH($C$6,BU2805)),MAX($BT$13:BT2804)+1,0)","v":2792},0,{"$f":"ROWS($BV$14:BV2805)","v":2792},{"$f":"IFERROR(VLOOKUP(ROWS($BW$14:BW2805),$BT$14:$BU$5000,2,0),\"\")","v":0}]
[null,null,null,null,null,null,null,null,null,null,null,null,null,null,null,null,null,null,null,null,null,null,null,null,null,null,null,null,null,null,null,null,null,null,null,null,null,null,null,null,null,null,null,null,null,null,null,null,null,null,null,null,null,null,null,null,null,null,null,null,null,null,null,null,null,null,null,null,null,null,null,{"$f":"IF(ISNUMBER(SEARCH($C$6,BU2808)),MAX($BT$13:BT2807)+1,0)","v":2795},0,{"$f":"ROWS($BV$14:BV2808)","v":2795},{"$f":"IFERROR(VLOOKUP(ROWS($BW$14:BW2808),$BT$14:$BU$5000,2,0),\"\")","v":0}]
[null,null,null,null,null,null,null,null,null,null,null,null,null,null,null,null,null,null,null,null,null,null,null,null,null,null,null,null,null,null,null,null,null,null,null,null,null,null,null,null,null,null,null,null,null,null,null,null,null,null,null,null,null,null,null,null,null,null,null,null,null,null,null,null,null,null,null,null,null,null,null,{"$f":"IF(ISNUMBER(SEARCH($C$6,BU2816)),MAX($BT$13:BT2815)+1,0)","v":2803},0,{"$f":"ROWS($BV$14:BV2816)","v":2803},{"$f":"IFERROR(VLOOKUP(ROWS($BW$14:BW2816),$BT$14:$BU$5000,2,0),\"\")","v":0}]
[null,null,null,null,null,null,null,null,null,null,null,null,null,null,null,null,null,null,null,null,null,null,null,null,null,null,null,null,null,null,null,null,null,null,null,null,null,null,null,null,null,null,null,null,null,null,null,null,null,null,null,null,null,null,null,null,null,null,null,null,null,null,null,null,null,null,null,null,null,null,null,{"$f":"IF(ISNUMBER(SEARCH($C$6,BU2826)),MAX($BT$13:BT2825)+1,0)","v":2813},0,{"$f":"ROWS($BV$14:BV2826)","v":2813},{"$f":"IFERROR(VLOOKUP(ROWS($BW$14:BW2826),$BT$14:$BU$5000,2,0),\"\")","v":0}]
[null,null,null,null,null,null,null,null,null,null,null,null,null,null,null,null,null,null,null,null,null,null,null,null,null,null,null,null,null,null,null,null,null,null,null,null,null,null,null,null,null,null,null,null,null,null,null,null,null,null,null,null,null,null,null,null,null,null,null,null,null,null,null,null,null,null,null,null,null,null,null,{"$f":"IF(ISNUMBER(SEARCH($C$6,BU2838)),MAX($BT$13:BT2837)+1,0)","v":2825},0,{"$f":"ROWS($BV$14:BV2838)","v":2825},{"$f":"IFERROR(VLOOKUP(ROWS($BW$14:BW2838),$BT$14:$BU$5000,2,0),\"\")","v":0}]
[null,null,null,null,null,null,null,null,null,null,null,null,null,null,null,null,null,null,null,null,null,null,null,null,null,null,null,null,null,null,null,null,null,null,null,null,null,null,null,null,null,null,null,null,null,null,null,null,null,null,null,null,null,null,null,null,null,null,null,null,null,null,null,null,null,null,null,null,null,null,null,{"$f":"IF(ISNUMBER(SEARCH($C$6,BU2841)),MAX($BT$13:BT2840)+1,0)","v":2828},0,{"$f":"ROWS($BV$14:BV2841)","v":2828},{"$f":"IFERROR(VLOOKUP(ROWS($BW$14:BW2841),$BT$14:$BU$5000,2,0),\"\")","v":0}]
[null,null,null,null,null,null,null,null,null,null,null,null,null,null,null,null,null,null,null,null,null,null,null,null,null,null,null,null,null,null,null,null,null,null,null,null,null,null,null,null,null,null,null,null,null,null,null,null,null,null,null,null,null,null,null,null,null,null,null,null,null,null,null,null,null,null,null,null,null,null,null,{"$f":"IF(ISNUMBER(SEARCH($C$6,BU2857)),MAX($BT$13:BT2856)+1,0)","v":2844},0,{"$f":"ROWS($BV$14:BV2857)","v":2844},{"$f":"IFERROR(VLOOKUP(ROWS($BW$14:BW2857),$BT$14:$BU$5000,2,0),\"\")","v":0}]
[null,null,null,null,null,null,null,null,null,null,null,null,null,null,null,null,null,null,null,null,null,null,null,null,null,null,null,null,null,null,null,null,null,null,null,null,null,null,null,null,null,null,null,null,null,null,null,null,null,null,null,null,null,null,null,null,null,null,null,null,null,null,null,null,null,null,null,null,null,null,null,{"$f":"IF(ISNUMBER(SEARCH($C$6,BU2865)),MAX($BT$13:BT2864)+1,0)","v":2852},0,{"$f":"ROWS($BV$14:BV2865)","v":2852},{"$f":"IFERROR(VLOOKUP(ROWS($BW$14:BW2865),$BT$14:$BU$5000,2,0),\"\")","v":0}]
[null,null,null,null,null,null,null,null,null,null,null,null,null,null,null,null,null,null,null,null,null,null,null,null,null,null,null,null,null,null,null,null,null,null,null,null,null,null,null,null,null,null,null,null,null,null,null,null,null,null,null,null,null,null,null,null,null,null,null,null,null,null,null,null,null,null,null,null,null,null,null,{"$f":"IF(ISNUMBER(SEARCH($C$6,BU2875)),MAX($BT$13:BT2874)+1,0)","v":2862},0,{"$f":"ROWS($BV$14:BV2875)","v":2862},{"$f":"IFERROR(VLOOKUP(ROWS($BW$14:BW2875),$BT$14:$BU$5000,2,0),\"\")","v":0}]
[null,null,null,null,null,null,null,null,null,null,null,null,null,null,null,null,null,null,null,null,null,null,null,null,null,null,null,null,null,null,null,null,null,null,null,null,null,null,null,null,null,null,null,null,null,null,null,null,null,null,null,null,null,null,null,null,null,null,null,null,null,null,null,null,null,null,null,null,null,null,null,{"$f":"IF(ISNUMBER(SEARCH($C$6,BU2878)),MAX($BT$13:BT2877)+1,0)","v":2865},0,{"$f":"ROWS($BV$14:BV2878)","v":2865},{"$f":"IFERROR(VLOOKUP(ROWS($BW$14:BW2878),$BT$14:$BU$5000,2,0),\"\")","v":0}]
[null,null,null,null,null,null,null,null,null,null,null,null,null,null,null,null,null,null,null,null,null,null,null,null,null,null,null,null,null,null,null,null,null,null,null,null,null,null,null,null,null,null,null,null,null,null,null,null,null,null,null,null,null,null,null,null,null,null,null,null,null,null,null,null,null,null,null,null,null,null,null,{"$f":"IF(ISNUMBER(SEARCH($C$6,BU2890)),MAX($BT$13:BT2889)+1,0)","v":2877},0,{"$f":"ROWS($BV$14:BV2890)","v":2877},{"$f":"IFERROR(VLOOKUP(ROWS($BW$14:BW2890),$BT$14:$BU$5000,2,0),\"\")","v":0}]
[null,null,null,null,null,null,null,null,null,null,null,null,null,null,null,null,null,null,null,null,null,null,null,null,null,null,null,null,null,null,null,null,null,null,null,null,null,null,null,null,null,null,null,null,null,null,null,null,null,null,null,null,null,null,null,null,null,null,null,null,null,null,null,null,null,null,null,null,null,null,null,{"$f":"IF(ISNUMBER(SEARCH($C$6,BU2896)),MAX($BT$13:BT2895)+1,0)","v":2883},0,{"$f":"ROWS($BV$14:BV2896)","v":2883},{"$f":"IFERROR(VLOOKUP(ROWS($BW$14:BW2896),$BT$14:$BU$5000,2,0),\"\")","v":0}]
[null,null,null,null,null,null,null,null,null,null,null,null,null,null,null,null,null,null,null,null,null,null,null,null,null,null,null,null,null,null,null,null,null,null,null,null,null,null,null,null,null,null,null,null,null,null,null,null,null,null,null,null,null,null,null,null,null,null,null,null,null,null,null,null,null,null,null,null,null,null,null,{"$f":"IF(ISNUMBER(SEARCH($C$6,BU2908)),MAX($BT$13:BT2907)+1,0)","v":2895},0,{"$f":"ROWS($BV$14:BV2908)","v":2895},{"$f":"IFERROR(VLOOKUP(ROWS($BW$14:BW2908),$BT$14:$BU$5000,2,0),\"\")","v":0}]
[null,null,null,null,null,null,null,null,null,null,null,null,null,null,null,null,null,null,null,null,null,null,null,null,null,null,null,null,null,null,null,null,null,null,null,null,null,null,null,null,null,null,null,null,null,null,null,null,null,null,null,null,null,null,null,null,null,null,null,null,null,null,null,null,null,null,null,null,null,null,null,{"$f":"IF(ISNUMBER(SEARCH($C$6,BU2915)),MAX($BT$13:BT2914)+1,0)","v":2902},0,{"$f":"ROWS($BV$14:BV2915)","v":2902},{"$f":"IFERROR(VLOOKUP(ROWS($BW$14:BW2915),$BT$14:$BU$5000,2,0),\"\")","v":0}]
[null,null,null,null,null,null,null,null,null,null,null,null,null,null,null,null,null,null,null,null,null,null,null,null,null,null,null,null,null,null,null,null,null,null,null,null,null,null,null,null,null,null,null,null,null,null,null,null,null,null,null,null,null,null,null,null,null,null,null,null,null,null,null,null,null,null,null,null,null,null,null,{"$f":"IF(ISNUMBER(SEARCH($C$6,BU2927)),MAX($BT$13:BT2926)+1,0)","v":2914},0,{"$f":"ROWS($BV$14:BV2927)","v":2914},{"$f":"IFERROR(VLOOKUP(ROWS($BW$14:BW2927),$BT$14:$BU$5000,2,0),\"\")","v":0}]
[null,null,null,null,null,null,null,null,null,null,null,null,null,null,null,null,null,null,null,null,null,null,null,null,null,null,null,null,null,null,null,null,null,null,null,null,null,null,null,null,null,null,null,null,null,null,null,null,null,null,null,null,null,null,null,null,null,null,null,null,null,null,null,null,null,null,null,null,null,null,null,{"$f":"IF(ISNUMBER(SEARCH($C$6,BU2935)),MAX($BT$13:BT2934)+1,0)","v":2922},0,{"$f":"ROWS($BV$14:BV2935)","v":2922},{"$f":"IFERROR(VLOOKUP(ROWS($BW$14:BW2935),$BT$14:$BU$5000,2,0),\"\")","v":0}]
[null,null,null,null,null,null,null,null,null,null,null,null,null,null,null,null,null,null,null,null,null,null,null,null,null,null,null,null,null,null,null,null,null,null,null,null,null,null,null,null,null,null,null,null,null,null,null,null,null,null,null,null,null,null,null,null,null,null,null,null,null,null,null,null,null,null,null,null,null,null,null,{"$f":"IF(ISNUMBER(SEARCH($C$6,BU2945)),MAX($BT$13:BT2944)+1,0)","v":2932},0,{"$f":"ROWS($BV$14:BV2945)","v":2932},{"$f":"IFERROR(VLOOKUP(ROWS($BW$14:BW2945),$BT$14:$BU$5000,2,0),\"\")","v":0}]
[null,null,null,null,null,null,null,null,null,null,null,null,null,null,null,null,null,null,null,null,null,null,null,null,null,null,null,null,null,null,null,null,null,null,null,null,null,null,null,null,null,null,null,null,null,null,null,null,null,null,null,null,null,null,null,null,null,null,null,null,null,null,null,null,null,null,null,null,null,null,null,{"$f":"IF(ISNUMBER(SEARCH($C$6,BU2948)),MAX($BT$13:BT2947)+1,0)","v":2935},0,{"$f":"ROWS($BV$14:BV2948)","v":2935},{"$f":"IFERROR(VLOOKUP(ROWS($BW$14:BW2948),$BT$14:$BU$5000,2,0),\"\")","v":0}]
[null,null,null,null,null,null,null,null,null,null,null,null,null,null,null,null,null,null,null,null,null,null,null,null,null,null,null,null,null,null,null,null,null,null,null,null,null,null,null,null,null,null,null,null,null,null,null,null,null,null,null,null,null,null,null,null,null,null,null,null,null,null,null,null,null,null,null,null,null,null,null,{"$f":"IF(ISNUMBER(SEARCH($C$6,BU2960)),MAX($BT$13:BT2959)+1,0)","v":2947},0,{"$f":"ROWS($BV$14:BV2960)","v":2947},{"$f":"IFERROR(VLOOKUP(ROWS($BW$14:BW2960),$BT$14:$BU$5000,2,0),\"\")","v":0}]
[null,null,null,null,null,null,null,null,null,null,null,null,null,null,null,null,null,null,null,null,null,null,null,null,null,null,null,null,null,null,null,null,null,null,null,null,null,null,null,null,null,null,null,null,null,null,null,null,null,null,null,null,null,null,null,null,null,null,null,null,null,null,null,null,null,null,null,null,null,null,null,{"$f":"IF(ISNUMBER(SEARCH($C$6,BU2967)),MAX($BT$13:BT2966)+1,0)","v":2954},0,{"$f":"ROWS($BV$14:BV2967)","v":2954},{"$f":"IFERROR(VLOOKUP(ROWS($BW$14:BW2967),$BT$14:$BU$5000,2,0),\"\")","v":0}]
[null,null,null,null,null,null,null,null,null,null,null,null,null,null,null,null,null,null,null,null,null,null,null,null,null,null,null,null,null,null,null,null,null,null,null,null,null,null,null,null,null,null,null,null,null,null,null,null,null,null,null,null,null,null,null,null,null,null,null,null,null,null,null,null,null,null,null,null,null,null,null,{"$f":"IF(ISNUMBER(SEARCH($C$6,BU2976)),MAX($BT$13:BT2975)+1,0)","v":2963},0,{"$f":"ROWS($BV$14:BV2976)","v":2963},{"$f":"IFERROR(VLOOKUP(ROWS($BW$14:BW2976),$BT$14:$BU$5000,2,0),\"\")","v":0}]
[null,null,null,null,null,null,null,null,null,null,null,null,null,null,null,null,null,null,null,null,null,null,null,null,null,null,null,null,null,null,null,null,null,null,null,null,null,null,null,null,null,null,null,null,null,null,null,null,null,null,null,null,null,null,null,null,null,null,null,null,null,null,null,null,null,null,null,null,null,null,null,{"$f":"IF(ISNUMBER(SEARCH($C$6,BU2985)),MAX($BT$13:BT2984)+1,0)","v":2972},0,{"$f":"ROWS($BV$14:BV2985)","v":2972},{"$f":"IFERROR(VLOOKUP(ROWS($BW$14:BW2985),$BT$14:$BU$5000,2,0),\"\")","v":0}]
[null,null,null,null,null,null,null,null,null,null,null,null,null,null,null,null,null,null,null,null,null,null,null,null,null,null,null,null,null,null,null,null,null,null,null,null,null,null,null,null,null,null,null,null,null,null,null,null,null,null,null,null,null,null,null,null,null,null,null,null,null,null,null,null,null,null,null,null,null,null,null,{"$f":"IF(ISNUMBER(SEARCH($C$6,BU2997)),MAX($BT$13:BT2996)+1,0)","v":2984},0,{"$f":"ROWS($BV$14:BV2997)","v":2984},{"$f":"IFERROR(VLOOKUP(ROWS($BW$14:BW2997),$BT$14:$BU$5000,2,0),\"\")","v":0}]
[null,null,null,null,null,null,null,null,null,null,null,null,null,null,null,null,null,null,null,null,null,null,null,null,null,null,null,null,null,null,null,null,null,null,null,null,null,null,null,null,null,null,null,null,null,null,null,null,null,null,null,null,null,null,null,null,null,null,null,null,null,null,null,null,null,null,null,null,null,null,null,{"$f":"IF(ISNUMBER(SEARCH($C$6,BU3000)),MAX($BT$13:BT2999)+1,0)","v":2987},0,{"$f":"ROWS($BV$14:BV3000)","v":2987},{"$f":"IFERROR(VLOOKUP(ROWS($BW$14:BW3000),$BT$14:$BU$5000,2,0),\"\")","v":0}]
[null,null,null,null,null,null,null,null,null,null,null,null,null,null,null,null,null,null,null,null,null,null,null,null,null,null,null,null,null,null,null,null,null,null,null,null,null,null,null,null,null,null,null,null,null,null,null,null,null,null,null,null,null,null,null,null,null,null,null,null,null,null,null,null,null,null,null,null,null,null,null,{"$f":"IF(ISNUMBER(SEARCH($C$6,BU3015)),MAX($BT$13:BT3014)+1,0)","v":3002},0,{"$f":"ROWS($BV$14:BV3015)","v":3002},{"$f":"IFERROR(VLOOKUP(ROWS($BW$14:BW3015),$BT$14:$BU$5000,2,0),\"\")","v":0}]
[null,null,null,null,null,null,null,null,null,null,null,null,null,null,null,null,null,null,null,null,null,null,null,null,null,null,null,null,null,null,null,null,null,null,null,null,null,null,null,null,null,null,null,null,null,null,null,null,null,null,null,null,null,null,null,null,null,null,null,null,null,null,null,null,null,null,null,null,null,null,null,{"$f":"IF(ISNUMBER(SEARCH($C$6,BU3018)),MAX($BT$13:BT3017)+1,0)","v":3005},0,{"$f":"ROWS($BV$14:BV3018)","v":3005},{"$f":"IFERROR(VLOOKUP(ROWS($BW$14:BW3018),$BT$14:$BU$5000,2,0),\"\")","v":0}]
[null,null,null,null,null,null,null,null,null,null,null,null,null,null,null,null,null,null,null,null,null,null,null,null,null,null,null,null,null,null,null,null,null,null,null,null,null,null,null,null,null,null,null,null,null,null,null,null,null,null,null,null,null,null,null,null,null,null,null,null,null,null,null,null,null,null,null,null,null,null,null,{"$f":"IF(ISNUMBER(SEARCH($C$6,BU3025)),MAX($BT$13:BT3024)+1,0)","v":3012},0,{"$f":"ROWS($BV$14:BV3025)","v":3012},{"$f":"IFERROR(VLOOKUP(ROWS($BW$14:BW3025),$BT$14:$BU$5000,2,0),\"\")","v":0}]
[null,null,null,null,null,null,null,null,null,null,null,null,null,null,null,null,null,null,null,null,null,null,null,null,null,null,null,null,null,null,null,null,null,null,null,null,null,null,null,null,null,null,null,null,null,null,null,null,null,null,null,null,null,null,null,null,null,null,null,null,null,null,null,null,null,null,null,null,null,null,null,{"$f":"IF(ISNUMBER(SEARCH($C$6,BU3037)),MAX($BT$13:BT3036)+1,0)","v":3024},0,{"$f":"ROWS($BV$14:BV3037)","v":3024},{"$f":"IFERROR(VLOOKUP(ROWS($BW$14:BW3037),$BT$14:$BU$5000,2,0),\"\")","v":0}]
[null,null,null,null,null,null,null,null,null,null,null,null,null,null,null,null,null,null,null,null,null,null,null,null,null,null,null,null,null,null,null,null,null,null,null,null,null,null,null,null,null,null,null,null,null,null,null,null,null,null,null,null,null,null,null,null,null,null,null,null,null,null,null,null,null,null,null,null,null,null,null,{"$f":"IF(ISNUMBER(SEARCH($C$6,BU3046)),MAX($BT$13:BT3045)+1,0)","v":3033},0,{"$f":"ROWS($BV$14:BV3046)","v":3033},{"$f":"IFERROR(VLOOKUP(ROWS($BW$14:BW3046),$BT$14:$BU$5000,2,0),\"\")","v":0}]
[null,null,null,null,null,null,null,null,null,null,null,null,null,null,null,null,null,null,null,null,null,null,null,null,null,null,null,null,null,null,null,null,null,null,null,null,null,null,null,null,null,null,null,null,null,null,null,null,null,null,null,null,null,null,null,null,null,null,null,null,null,null,null,null,null,null,null,null,null,null,null,{"$f":"IF(ISNUMBER(SEARCH($C$6,BU3055)),MAX($BT$13:BT3054)+1,0)","v":3042},0,{"$f":"ROWS($BV$14:BV3055)","v":3042},{"$f":"IFERROR(VLOOKUP(ROWS($BW$14:BW3055),$BT$14:$BU$5000,2,0),\"\")","v":0}]
[null,null,null,null,null,null,null,null,null,null,null,null,null,null,null,null,null,null,null,null,null,null,null,null,null,null,null,null,null,null,null,null,null,null,null,null,null,null,null,null,null,null,null,null,null,null,null,null,null,null,null,null,null,null,null,null,null,null,null,null,null,null,null,null,null,null,null,null,null,null,null,{"$f":"IF(ISNUMBER(SEARCH($C$6,BU3067)),MAX($BT$13:BT3066)+1,0)","v":3054},0,{"$f":"ROWS($BV$14:BV3067)","v":3054},{"$f":"IFERROR(VLOOKUP(ROWS($BW$14:BW3067),$BT$14:$BU$5000,2,0),\"\")","v":0}]
[null,null,null,null,null,null,null,null,null,null,null,null,null,null,null,null,null,null,null,null,null,null,null,null,null,null,null,null,null,null,null,null,null,null,null,null,null,null,null,null,null,null,null,null,null,null,null,null,null,null,null,null,null,null,null,null,null,null,null,null,null,null,null,null,null,null,null,null,null,null,null,{"$f":"IF(ISNUMBER(SEARCH($C$6,BU3070)),MAX($BT$13:BT3069)+1,0)","v":3057},0,{"$f":"ROWS($BV$14:BV3070)","v":3057},{"$f":"IFERROR(VLOOKUP(ROWS($BW$14:BW3070),$BT$14:$BU$5000,2,0),\"\")","v":0}]
[null,null,null,null,null,null,null,null,null,null,null,null,null,null,null,null,null,null,null,null,null,null,null,null,null,null,null,null,null,null,null,null,null,null,null,null,null,null,null,null,null,null,null,null,null,null,null,null,null,null,null,null,null,null,null,null,null,null,null,null,null,null,null,null,null,null,null,null,null,null,null,{"$f":"IF(ISNUMBER(SEARCH($C$6,BU3085)),MAX($BT$13:BT3084)+1,0)","v":3072},0,{"$f":"ROWS($BV$14:BV3085)","v":3072},{"$f":"IFERROR(VLOOKUP(ROWS($BW$14:BW3085),$BT$14:$BU$5000,2,0),\"\")","v":0}]
[null,null,null,null,null,null,null,null,null,null,null,null,null,null,null,null,null,null,null,null,null,null,null,null,null,null,null,null,null,null,null,null,null,null,null,null,null,null,null,null,null,null,null,null,null,null,null,null,null,null,null,null,null,null,null,null,null,null,null,null,null,null,null,null,null,null,null,null,null,null,null,{"$f":"IF(ISNUMBER(SEARCH($C$6,BU3088)),MAX($BT$13:BT3087)+1,0)","v":3075},0,{"$f":"ROWS($BV$14:BV3088)","v":3075},{"$f":"IFERROR(VLOOKUP(ROWS($BW$14:BW3088),$BT$14:$BU$5000,2,0),\"\")","v":0}]
[null,null,null,null,null,null,null,null,null,null,null,null,null,null,null,null,null,null,null,null,null,null,null,null,null,null,null,null,null,null,null,null,null,null,null,null,null,null,null,null,null,null,null,null,null,null,null,null,null,null,null,null,null,null,null,null,null,null,null,null,null,null,null,null,null,null,null,null,null,null,null,{"$f":"IF(ISNUMBER(SEARCH($C$6,BU3095)),MAX($BT$13:BT3094)+1,0)","v":3082},0,{"$f":"ROWS($BV$14:BV3095)","v":3082},{"$f":"IFERROR(VLOOKUP(ROWS($BW$14:BW3095),$BT$14:$BU$5000,2,0),\"\")","v":0}]
[null,null,null,null,null,null,null,null,null,null,null,null,null,null,null,null,null,null,null,null,null,null,null,null,null,null,null,null,null,null,null,null,null,null,null,null,null,null,null,null,null,null,null,null,null,null,null,null,null,null,null,null,null,null,null,null,null,null,null,null,null,null,null,null,null,null,null,null,null,null,null,{"$f":"IF(ISNUMBER(SEARCH($C$6,BU3107)),MAX($BT$13:BT3106)+1,0)","v":3094},0,{"$f":"ROWS($BV$14:BV3107)","v":3094},{"$f":"IFERROR(VLOOKUP(ROWS($BW$14:BW3107),$BT$14:$BU$5000,2,0),\"\")","v":0}]
[null,null,null,null,null,null,null,null,null,null,null,null,null,null,null,null,null,null,null,null,null,null,null,null,null,null,null,null,null,null,null,null,null,null,null,null,null,null,null,null,null,null,null,null,null,null,null,null,null,null,null,null,null,null,null,null,null,null,null,null,null,null,null,null,null,null,null,null,null,null,null,{"$f":"IF(ISNUMBER(SEARCH($C$6,BU3119)),MAX($BT$13:BT3118)+1,0)","v":3106},0,{"$f":"ROWS($BV$14:BV3119)","v":3106},{"$f":"IFERROR(VLOOKUP(ROWS($BW$14:BW3119),$BT$14:$BU$5000,2,0),\"\")","v":0}]
[null,null,null,null,null,null,null,null,null,null,null,null,null,null,null,null,null,null,null,null,null,null,null,null,null,null,null,null,null,null,null,null,null,null,null,null,null,null,null,null,null,null,null,null,null,null,null,null,null,null,null,null,null,null,null,null,null,null,null,null,null,null,null,null,null,null,null,null,null,null,null,{"$f":"IF(ISNUMBER(SEARCH($C$6,BU3126)),MAX($BT$13:BT3125)+1,0)","v":3113},0,{"$f":"ROWS($BV$14:BV3126)","v":3113},{"$f":"IFERROR(VLOOKUP(ROWS($BW$14:BW3126),$BT$14:$BU$5000,2,0),\"\")","v":0}]
[null,null,null,null,null,null,null,null,null,null,null,null,null,null,null,null,null,null,null,null,null,null,null,null,null,null,null,null,null,null,null,null,null,null,null,null,null,null,null,null,null,null,null,null,null,null,null,null,null,null,null,null,null,null,null,null,null,null,null,null,null,null,null,null,null,null,null,null,null,null,null,{"$f":"IF(ISNUMBER(SEARCH($C$6,BU3137)),MAX($BT$13:BT3136)+1,0)","v":3124},0,{"$f":"ROWS($BV$14:BV3137)","v":3124},{"$f":"IFERROR(VLOOKUP(ROWS($BW$14:BW3137),$BT$14:$BU$5000,2,0),\"\")","v":0}]
[null,null,null,null,null,null,null,null,null,null,null,null,null,null,null,null,null,null,null,null,null,null,null,null,null,null,null,null,null,null,null,null,null,null,null,null,null,null,null,null,null,null,null,null,null,null,null,null,null,null,null,null,null,null,null,null,null,null,null,null,null,null,null,null,null,null,null,null,null,null,null,{"$f":"IF(ISNUMBER(SEARCH($C$6,BU3140)),MAX($BT$13:BT3139)+1,0)","v":3127},0,{"$f":"ROWS($BV$14:BV3140)","v":3127},{"$f":"IFERROR(VLOOKUP(ROWS($BW$14:BW3140),$BT$14:$BU$5000,2,0),\"\")","v":0}]
[null,null,null,null,null,null,null,null,null,null,null,null,null,null,null,null,null,null,null,null,null,null,null,null,null,null,null,null,null,null,null,null,null,null,null,null,null,null,null,null,null,null,null,null,null,null,null,null,null,null,null,null,null,null,null,null,null,null,null,null,null,null,null,null,null,null,null,null,null,null,null,{"$f":"IF(ISNUMBER(SEARCH($C$6,BU3156)),MAX($BT$13:BT3155)+1,0)","v":3143},0,{"$f":"ROWS($BV$14:BV3156)","v":3143},{"$f":"IFERROR(VLOOKUP(ROWS($BW$14:BW3156),$BT$14:$BU$5000,2,0),\"\")","v":0}]
[null,null,null,null,null,null,null,null,null,null,null,null,null,null,null,null,null,null,null,null,null,null,null,null,null,null,null,null,null,null,null,null,null,null,null,null,null,null,null,null,null,null,null,null,null,null,null,null,null,null,null,null,null,null,null,null,null,null,null,null,null,null,null,null,null,null,null,null,null,null,null,{"$f":"IF(ISNUMBER(SEARCH($C$6,BU3157)),MAX($BT$13:BT3156)+1,0)","v":3144},0,{"$f":"ROWS($BV$14:BV3157)","v":3144},{"$f":"IFERROR(VLOOKUP(ROWS($BW$14:BW3157),$BT$14:$BU$5000,2,0),\"\")","v":0}]
[null,null,null,null,null,null,null,null,null,null,null,null,null,null,null,null,null,null,null,null,null,null,null,null,null,null,null,null,null,null,null,null,null,null,null,null,null,null,null,null,null,null,null,null,null,null,null,null,null,null,null,null,null,null,null,null,null,null,null,null,null,null,null,null,null,null,null,null,null,null,null,{"$f":"IF(ISNUMBER(SEARCH($C$6,BU3165)),MAX($BT$13:BT3164)+1,0)","v":3152},0,{"$f":"ROWS($BV$14:BV3165)","v":3152},{"$f":"IFERROR(VLOOKUP(ROWS($BW$14:BW3165),$BT$14:$BU$5000,2,0),\"\")","v":0}]
[null,null,null,null,null,null,null,null,null,null,null,null,null,null,null,null,null,null,null,null,null,null,null,null,null,null,null,null,null,null,null,null,null,null,null,null,null,null,null,null,null,null,null,null,null,null,null,null,null,null,null,null,null,null,null,null,null,null,null,null,null,null,null,null,null,null,null,null,null,null,null,{"$f":"IF(ISNUMBER(SEARCH($C$6,BU3177)),MAX($BT$13:BT3176)+1,0)","v":3164},0,{"$f":"ROWS($BV$14:BV3177)","v":3164},{"$f":"IFERROR(VLOOKUP(ROWS($BW$14:BW3177),$BT$14:$BU$5000,2,0),\"\")","v":0}]
[null,null,null,null,null,null,null,null,null,null,null,null,null,null,null,null,null,null,null,null,null,null,null,null,null,null,null,null,null,null,null,null,null,null,null,null,null,null,null,null,null,null,null,null,null,null,null,null,null,null,null,null,null,null,null,null,null,null,null,null,null,null,null,null,null,null,null,null,null,null,null,{"$f":"IF(ISNUMBER(SEARCH($C$6,BU3189)),MAX($BT$13:BT3188)+1,0)","v":3176},0,{"$f":"ROWS($BV$14:BV3189)","v":3176},{"$f":"IFERROR(VLOOKUP(ROWS($BW$14:BW3189),$BT$14:$BU$5000,2,0),\"\")","v":0}]
[null,null,null,null,null,null,null,null,null,null,null,null,null,null,null,null,null,null,null,null,null,null,null,null,null,null,null,null,null,null,null,null,null,null,null,null,null,null,null,null,null,null,null,null,null,null,null,null,null,null,null,null,null,null,null,null,null,null,null,null,null,null,null,null,null,null,null,null,null,null,null,{"$f":"IF(ISNUMBER(SEARCH($C$6,BU3196)),MAX($BT$13:BT3195)+1,0)","v":3183},0,{"$f":"ROWS($BV$14:BV3196)","v":3183},{"$f":"IFERROR(VLOOKUP(ROWS($BW$14:BW3196),$BT$14:$BU$5000,2,0),\"\")","v":0}]
[null,null,null,null,null,null,null,null,null,null,null,null,null,null,null,null,null,null,null,null,null,null,null,null,null,null,null,null,null,null,null,null,null,null,null,null,null,null,null,null,null,null,null,null,null,null,null,null,null,null,null,null,null,null,null,null,null,null,null,null,null,null,null,null,null,null,null,null,null,null,null,{"$f":"IF(ISNUMBER(SEARCH($C$6,BU3207)),MAX($BT$13:BT3206)+1,0)","v":3194},0,{"$f":"ROWS($BV$14:BV3207)","v":3194},{"$f":"IFERROR(VLOOKUP(ROWS($BW$14:BW3207),$BT$14:$BU$5000,2,0),\"\")","v":0}]
[null,null,null,null,null,null,null,null,null,null,null,null,null,null,null,null,null,null,null,null,null,null,null,null,null,null,null,null,null,null,null,null,null,null,null,null,null,null,null,null,null,null,null,null,null,null,null,null,null,null,null,null,null,null,null,null,null,null,null,null,null,null,null,null,null,null,null,null,null,null,null,{"$f":"IF(ISNUMBER(SEARCH($C$6,BU3214)),MAX($BT$13:BT3213)+1,0)","v":3201},0,{"$f":"ROWS($BV$14:BV3214)","v":3201},{"$f":"IFERROR(VLOOKUP(ROWS($BW$14:BW3214),$BT$14:$BU$5000,2,0),\"\")","v":0}]
[null,null,null,null,null,null,null,null,null,null,null,null,null,null,null,null,null,null,null,null,null,null,null,null,null,null,null,null,null,null,null,null,null,null,null,null,null,null,null,null,null,null,null,null,null,null,null,null,null,null,null,null,null,null,null,null,null,null,null,null,null,null,null,null,null,null,null,null,null,null,null,{"$f":"IF(ISNUMBER(SEARCH($C$6,BU3226)),MAX($BT$13:BT3225)+1,0)","v":3213},0,{"$f":"ROWS($BV$14:BV3226)","v":3213},{"$f":"IFERROR(VLOOKUP(ROWS($BW$14:BW3226),$BT$14:$BU$5000,2,0),\"\")","v":0}]
[null,null,null,null,null,null,null,null,null,null,null,null,null,null,null,null,null,null,null,null,null,null,null,null,null,null,null,null,null,null,null,null,null,null,null,null,null,null,null,null,null,null,null,null,null,null,null,null,null,null,null,null,null,null,null,null,null,null,null,null,null,null,null,null,null,null,null,null,null,null,null,{"$f":"IF(ISNUMBER(SEARCH($C$6,BU3227)),MAX($BT$13:BT3226)+1,0)","v":3214},0,{"$f":"ROWS($BV$14:BV3227)","v":3214},{"$f":"IFERROR(VLOOKUP(ROWS($BW$14:BW3227),$BT$14:$BU$5000,2,0),\"\")","v":0}]
[null,null,null,null,null,null,null,null,null,null,null,null,null,null,null,null,null,null,null,null,null,null,null,null,null,null,null,null,null,null,null,null,null,null,null,null,null,null,null,null,null,null,null,null,null,null,null,null,null,null,null,null,null,null,null,null,null,null,null,null,null,null,null,null,null,null,null,null,null,null,null,{"$f":"IF(ISNUMBER(SEARCH($C$6,BU3235)),MAX($BT$13:BT3234)+1,0)","v":3222},0,{"$f":"ROWS($BV$14:BV3235)","v":3222},{"$f":"IFERROR(VLOOKUP(ROWS($BW$14:BW3235),$BT$14:$BU$5000,2,0),\"\")","v":0}]
[null,null,null,null,null,null,null,null,null,null,null,null,null,null,null,null,null,null,null,null,null,null,null,null,null,null,null,null,null,null,null,null,null,null,null,null,null,null,null,null,null,null,null,null,null,null,null,null,null,null,null,null,null,null,null,null,null,null,null,null,null,null,null,null,null,null,null,null,null,null,null,{"$f":"IF(ISNUMBER(SEARCH($C$6,BU3247)),MAX($BT$13:BT3246)+1,0)","v":3234},0,{"$f":"ROWS($BV$14:BV3247)","v":3234},{"$f":"IFERROR(VLOOKUP(ROWS($BW$14:BW3247),$BT$14:$BU$5000,2,0),\"\")","v":0}]
[null,null,null,null,null,null,null,null,null,null,null,null,null,null,null,null,null,null,null,null,null,null,null,null,null,null,null,null,null,null,null,null,null,null,null,null,null,null,null,null,null,null,null,null,null,null,null,null,null,null,null,null,null,null,null,null,null,null,null,null,null,null,null,null,null,null,null,null,null,null,null,{"$f":"IF(ISNUMBER(SEARCH($C$6,BU3259)),MAX($BT$13:BT3258)+1,0)","v":3246},0,{"$f":"ROWS($BV$14:BV3259)","v":3246},{"$f":"IFERROR(VLOOKUP(ROWS($BW$14:BW3259),$BT$14:$BU$5000,2,0),\"\")","v":0}]
[null,null,null,null,null,null,null,null,null,null,null,null,null,null,null,null,null,null,null,null,null,null,null,null,null,null,null,null,null,null,null,null,null,null,null,null,null,null,null,null,null,null,null,null,null,null,null,null,null,null,null,null,null,null,null,null,null,null,null,null,null,null,null,null,null,null,null,null,null,null,null,{"$f":"IF(ISNUMBER(SEARCH($C$6,BU3266)),MAX($BT$13:BT3265)+1,0)","v":3253},0,{"$f":"ROWS($BV$14:BV3266)","v":3253},{"$f":"IFERROR(VLOOKUP(ROWS($BW$14:BW3266),$BT$14:$BU$5000,2,0),\"\")","v":0}]
[null,null,null,null,null,null,null,null,null,null,null,null,null,null,null,null,null,null,null,null,null,null,null,null,null,null,null,null,null,null,null,null,null,null,null,null,null,null,null,null,null,null,null,null,null,null,null,null,null,null,null,null,null,null,null,null,null,null,null,null,null,null,null,null,null,null,null,null,null,null,null,{"$f":"IF(ISNUMBER(SEARCH($C$6,BU3276)),MAX($BT$13:BT3275)+1,0)","v":3263},0,{"$f":"ROWS($BV$14:BV3276)","v":3263},{"$f":"IFERROR(VLOOKUP(ROWS($BW$14:BW3276),$BT$14:$BU$5000,2,0),\"\")","v":0}]
[null,null,null,null,null,null,null,null,null,null,null,null,null,null,null,null,null,null,null,null,null,null,null,null,null,null,null,null,null,null,null,null,null,null,null,null,null,null,null,null,null,null,null,null,null,null,null,null,null,null,null,null,null,null,null,null,null,null,null,null,null,null,null,null,null,null,null,null,null,null,null,{"$f":"IF(ISNUMBER(SEARCH($C$6,BU3284)),MAX($BT$13:BT3283)+1,0)","v":3271},0,{"$f":"ROWS($BV$14:BV3284)","v":3271},{"$f":"IFERROR(VLOOKUP(ROWS($BW$14:BW3284),$BT$14:$BU$5000,2,0),\"\")","v":0}]
[null,null,null,null,null,null,null,null,null,null,null,null,null,null,null,null,null,null,null,null,null,null,null,null,null,null,null,null,null,null,null,null,null,null,null,null,null,null,null,null,null,null,null,null,null,null,null,null,null,null,null,null,null,null,null,null,null,null,null,null,null,null,null,null,null,null,null,null,null,null,null,{"$f":"IF(ISNUMBER(SEARCH($C$6,BU3296)),MAX($BT$13:BT3295)+1,0)","v":3283},0,{"$f":"ROWS($BV$14:BV3296)","v":3283},{"$f":"IFERROR(VLOOKUP(ROWS($BW$14:BW3296),$BT$14:$BU$5000,2,0),\"\")","v":0}]
[null,null,null,null,null,null,null,null,null,null,null,null,null,null,null,null,null,null,null,null,null,null,null,null,null,null,null,null,null,null,null,null,null,null,null,null,null,null,null,null,null,null,null,null,null,null,null,null,null,null,null,null,null,null,null,null,null,null,null,null,null,null,null,null,null,null,null,null,null,null,null,{"$f":"IF(ISNUMBER(SEARCH($C$6,BU3299)),MAX($BT$13:BT3298)+1,0)","v":3286},0,{"$f":"ROWS($BV$14:BV3299)","v":3286},{"$f":"IFERROR(VLOOKUP(ROWS($BW$14:BW3299),$BT$14:$BU$5000,2,0),\"\")","v":0}]
[null,null,null,null,null,null,null,null,null,null,null,null,null,null,null,null,null,null,null,null,null,null,null,null,null,null,null,null,null,null,null,null,null,null,null,null,null,null,null,null,null,null,null,null,null,null,null,null,null,null,null,null,null,null,null,null,null,null,null,null,null,null,null,null,null,null,null,null,null,null,null,{"$f":"IF(ISNUMBER(SEARCH($C$6,BU3307)),MAX($BT$13:BT3306)+1,0)","v":3294},0,{"$f":"ROWS($BV$14:BV3307)","v":3294},{"$f":"IFERROR(VLOOKUP(ROWS($BW$14:BW3307),$BT$14:$BU$5000,2,0),\"\")","v":0}]
[null,null,null,null,null,null,null,null,null,null,null,null,null,null,null,null,null,null,null,null,null,null,null,null,null,null,null,null,null,null,null,null,null,null,null,null,null,null,null,null,null,null,null,null,null,null,null,null,null,null,null,null,null,null,null,null,null,null,null,null,null,null,null,null,null,null,null,null,null,null,null,{"$f":"IF(ISNUMBER(SEARCH($C$6,BU3317)),MAX($BT$13:BT3316)+1,0)","v":3304},0,{"$f":"ROWS($BV$14:BV3317)","v":3304},{"$f":"IFERROR(VLOOKUP(ROWS($BW$14:BW3317),$BT$14:$BU$5000,2,0),\"\")","v":0}]
[null,null,null,null,null,null,null,null,null,null,null,null,null,null,null,null,null,null,null,null,null,null,null,null,null,null,null,null,null,null,null,null,null,null,null,null,null,null,null,null,null,null,null,null,null,null,null,null,null,null,null,null,null,null,null,null,null,null,null,null,null,null,null,null,null,null,null,null,null,null,null,{"$f":"IF(ISNUMBER(SEARCH($C$6,BU3329)),MAX($BT$13:BT3328)+1,0)","v":3316},0,{"$f":"ROWS($BV$14:BV3329)","v":3316},{"$f":"IFERROR(VLOOKUP(ROWS($BW$14:BW3329),$BT$14:$BU$5000,2,0),\"\")","v":0}]
[null,null,null,null,null,null,null,null,null,null,null,null,null,null,null,null,null,null,null,null,null,null,null,null,null,null,null,null,null,null,null,null,null,null,null,null,null,null,null,null,null,null,null,null,null,null,null,null,null,null,null,null,null,null,null,null,null,null,null,null,null,null,null,null,null,null,null,null,null,null,null,{"$f":"IF(ISNUMBER(SEARCH($C$6,BU3336)),MAX($BT$13:BT3335)+1,0)","v":3323},0,{"$f":"ROWS($BV$14:BV3336)","v":3323},{"$f":"IFERROR(VLOOKUP(ROWS($BW$14:BW3336),$BT$14:$BU$5000,2,0),\"\")","v":0}]
[null,null,null,null,null,null,null,null,null,null,null,null,null,null,null,null,null,null,null,null,null,null,null,null,null,null,null,null,null,null,null,null,null,null,null,null,null,null,null,null,null,null,null,null,null,null,null,null,null,null,null,null,null,null,null,null,null,null,null,null,null,null,null,null,null,null,null,null,null,null,null,{"$f":"IF(ISNUMBER(SEARCH($C$6,BU3346)),MAX($BT$13:BT3345)+1,0)","v":3333},0,{"$f":"ROWS($BV$14:BV3346)","v":3333},{"$f":"IFERROR(VLOOKUP(ROWS($BW$14:BW3346),$BT$14:$BU$5000,2,0),\"\")","v":0}]
[null,null,null,null,null,null,null,null,null,null,null,null,null,null,null,null,null,null,null,null,null,null,null,null,null,null,null,null,null,null,null,null,null,null,null,null,null,null,null,null,null,null,null,null,null,null,null,null,null,null,null,null,null,null,null,null,null,null,null,null,null,null,null,null,null,null,null,null,null,null,null,{"$f":"IF(ISNUMBER(SEARCH($C$6,BU3354)),MAX($BT$13:BT3353)+1,0)","v":3341},0,{"$f":"ROWS($BV$14:BV3354)","v":3341},{"$f":"IFERROR(VLOOKUP(ROWS($BW$14:BW3354),$BT$14:$BU$5000,2,0),\"\")","v":0}]
[null,null,null,null,null,null,null,null,null,null,null,null,null,null,null,null,null,null,null,null,null,null,null,null,null,null,null,null,null,null,null,null,null,null,null,null,null,null,null,null,null,null,null,null,null,null,null,null,null,null,null,null,null,null,null,null,null,null,null,null,null,null,null,null,null,null,null,null,null,null,null,{"$f":"IF(ISNUMBER(SEARCH($C$6,BU3366)),MAX($BT$13:BT3365)+1,0)","v":3353},0,{"$f":"ROWS($BV$14:BV3366)","v":3353},{"$f":"IFERROR(VLOOKUP(ROWS($BW$14:BW3366),$BT$14:$BU$5000,2,0),\"\")","v":0}]
[null,null,null,null,null,null,null,null,null,null,null,null,null,null,null,null,null,null,null,null,null,null,null,null,null,null,null,null,null,null,null,null,null,null,null,null,null,null,null,null,null,null,null,null,null,null,null,null,null,null,null,null,null,null,null,null,null,null,null,null,null,null,null,null,null,null,null,null,null,null,null,{"$f":"IF(ISNUMBER(SEARCH($C$6,BU3369)),MAX($BT$13:BT3368)+1,0)","v":3356},0,{"$f":"ROWS($BV$14:BV3369)","v":3356},{"$f":"IFERROR(VLOOKUP(ROWS($BW$14:BW3369),$BT$14:$BU$5000,2,0),\"\")","v":0}]
[null,null,null,null,null,null,null,null,null,null,null,null,null,null,null,null,null,null,null,null,null,null,null,null,null,null,null,null,null,null,null,null,null,null,null,null,null,null,null,null,null,null,null,null,null,null,null,null,null,null,null,null,null,null,null,null,null,null,null,null,null,null,null,null,null,null,null,null,null,null,null,{"$f":"IF(ISNUMBER(SEARCH($C$6,BU3376)),MAX($BT$13:BT3375)+1,0)","v":3363},0,{"$f":"ROWS($BV$14:BV3376)","v":3363},{"$f":"IFERROR(VLOOKUP(ROWS($BW$14:BW3376),$BT$14:$BU$5000,2,0),\"\")","v":0}]
[null,null,null,null,null,null,null,null,null,null,null,null,null,null,null,null,null,null,null,null,null,null,null,null,null,null,null,null,null,null,null,null,null,null,null,null,null,null,null,null,null,null,null,null,null,null,null,null,null,null,null,null,null,null,null,null,null,null,null,null,null,null,null,null,null,null,null,null,null,null,null,{"$f":"IF(ISNUMBER(SEARCH($C$6,BU3387)),MAX($BT$13:BT3386)+1,0)","v":3374},0,{"$f":"ROWS($BV$14:BV3387)","v":3374},{"$f":"IFERROR(VLOOKUP(ROWS($BW$14:BW3387),$BT$14:$BU$5000,2,0),\"\")","v":0}]
[null,null,null,null,null,null,null,null,null,null,null,null,null,null,null,null,null,null,null,null,null,null,null,null,null,null,null,null,null,null,null,null,null,null,null,null,null,null,null,null,null,null,null,null,null,null,null,null,null,null,null,null,null,null,null,null,null,null,null,null,null,null,null,null,null,null,null,null,null,null,null,{"$f":"IF(ISNUMBER(SEARCH($C$6,BU3394)),MAX($BT$13:BT3393)+1,0)","v":3381},0,{"$f":"ROWS($BV$14:BV3394)","v":3381},{"$f":"IFERROR(VLOOKUP(ROWS($BW$14:BW3394),$BT$14:$BU$5000,2,0),\"\")","v":0}]
[null,null,null,null,null,null,null,null,null,null,null,null,null,null,null,null,null,null,null,null,null,null,null,null,null,null,null,null,null,null,null,null,null,null,null,null,null,null,null,null,null,null,null,null,null,null,null,null,null,null,null,null,null,null,null,null,null,null,null,null,null,null,null,null,null,null,null,null,null,null,null,{"$f":"IF(ISNUMBER(SEARCH($C$6,BU3406)),MAX($BT$13:BT3405)+1,0)","v":3393},0,{"$f":"ROWS($BV$14:BV3406)","v":3393},{"$f":"IFERROR(VLOOKUP(ROWS($BW$14:BW3406),$BT$14:$BU$5000,2,0),\"\")","v":0}]
[null,null,null,null,null,null,null,null,null,null,null,null,null,null,null,null,null,null,null,null,null,null,null,null,null,null,null,null,null,null,null,null,null,null,null,null,null,null,null,null,null,null,null,null,null,null,null,null,null,null,null,null,null,null,null,null,null,null,null,null,null,null,null,null,null,null,null,null,null,null,null,{"$f":"IF(ISNUMBER(SEARCH($C$6,BU3418)),MAX($BT$13:BT3417)+1,0)","v":3405},0,{"$f":"ROWS($BV$14:BV3418)","v":3405},{"$f":"IFERROR(VLOOKUP(ROWS($BW$14:BW3418),$BT$14:$BU$5000,2,0),\"\")","v":0}]
[null,null,null,null,null,null,null,null,null,null,null,null,null,null,null,null,null,null,null,null,null,null,null,null,null,null,null,null,null,null,null,null,null,null,null,null,null,null,null,null,null,null,null,null,null,null,null,null,null,null,null,null,null,null,null,null,null,null,null,null,null,null,null,null,null,null,null,null,null,null,null,{"$f":"IF(ISNUMBER(SEARCH($C$6,BU3426)),MAX($BT$13:BT3425)+1,0)","v":3413},0,{"$f":"ROWS($BV$14:BV3426)","v":3413},{"$f":"IFERROR(VLOOKUP(ROWS($BW$14:BW3426),$BT$14:$BU$5000,2,0),\"\")","v":0}]
[null,null,null,null,null,null,null,null,null,null,null,null,null,null,null,null,null,null,null,null,null,null,null,null,null,null,null,null,null,null,null,null,null,null,null,null,null,null,null,null,null,null,null,null,null,null,null,null,null,null,null,null,null,null,null,null,null,null,null,null,null,null,null,null,null,null,null,null,null,null,null,{"$f":"IF(ISNUMBER(SEARCH($C$6,BU3436)),MAX($BT$13:BT3435)+1,0)","v":3423},0,{"$f":"ROWS($BV$14:BV3436)","v":3423},{"$f":"IFERROR(VLOOKUP(ROWS($BW$14:BW3436),$BT$14:$BU$5000,2,0),\"\")","v":0}]
[null,null,null,null,null,null,null,null,null,null,null,null,null,null,null,null,null,null,null,null,null,null,null,null,null,null,null,null,null,null,null,null,null,null,null,null,null,null,null,null,null,null,null,null,null,null,null,null,null,null,null,null,null,null,null,null,null,null,null,null,null,null,null,null,null,null,null,null,null,null,null,{"$f":"IF(ISNUMBER(SEARCH($C$6,BU3439)),MAX($BT$13:BT3438)+1,0)","v":3426},0,{"$f":"ROWS($BV$14:BV3439)","v":3426},{"$f":"IFERROR(VLOOKUP(ROWS($BW$14:BW3439),$BT$14:$BU$5000,2,0),\"\")","v":0}]
[null,null,null,null,null,null,null,null,null,null,null,null,null,null,null,null,null,null,null,null,null,null,null,null,null,null,null,null,null,null,null,null,null,null,null,null,null,null,null,null,null,null,null,null,null,null,null,null,null,null,null,null,null,null,null,null,null,null,null,null,null,null,null,null,null,null,null,null,null,null,null,{"$f":"IF(ISNUMBER(SEARCH($C$6,BU3446)),MAX($BT$13:BT3445)+1,0)","v":3433},0,{"$f":"ROWS($BV$14:BV3446)","v":3433},{"$f":"IFERROR(VLOOKUP(ROWS($BW$14:BW3446),$BT$14:$BU$5000,2,0),\"\")","v":0}]
[null,null,null,null,null,null,null,null,null,null,null,null,null,null,null,null,null,null,null,null,null,null,null,null,null,null,null,null,null,null,null,null,null,null,null,null,null,null,null,null,null,null,null,null,null,null,null,null,null,null,null,null,null,null,null,null,null,null,null,null,null,null,null,null,null,null,null,null,null,null,null,{"$f":"IF(ISNUMBER(SEARCH($C$6,BU3457)),MAX($BT$13:BT3456)+1,0)","v":3444},0,{"$f":"ROWS($BV$14:BV3457)","v":3444},{"$f":"IFERROR(VLOOKUP(ROWS($BW$14:BW3457),$BT$14:$BU$5000,2,0),\"\")","v":0}]
[null,null,null,null,null,null,null,null,null,null,null,null,null,null,null,null,null,null,null,null,null,null,null,null,null,null,null,null,null,null,null,null,null,null,null,null,null,null,null,null,null,null,null,null,null,null,null,null,null,null,null,null,null,null,null,null,null,null,null,null,null,null,null,null,null,null,null,null,null,null,null,{"$f":"IF(ISNUMBER(SEARCH($C$6,BU3464)),MAX($BT$13:BT3463)+1,0)","v":3451},0,{"$f":"ROWS($BV$14:BV3464)","v":3451},{"$f":"IFERROR(VLOOKUP(ROWS($BW$14:BW3464),$BT$14:$BU$5000,2,0),\"\")","v":0}]
[null,null,null,null,null,null,null,null,null,null,null,null,null,null,null,null,null,null,null,null,null,null,null,null,null,null,null,null,null,null,null,null,null,null,null,null,null,null,null,null,null,null,null,null,null,null,null,null,null,null,null,null,null,null,null,null,null,null,null,null,null,null,null,null,null,null,null,null,null,null,null,{"$f":"IF(ISNUMBER(SEARCH($C$6,BU3476)),MAX($BT$13:BT3475)+1,0)","v":3463},0,{"$f":"ROWS($BV$14:BV3476)","v":3463},{"$f":"IFERROR(VLOOKUP(ROWS($BW$14:BW3476),$BT$14:$BU$5000,2,0),\"\")","v":0}]
[null,null,null,null,null,null,null,null,null,null,null,null,null,null,null,null,null,null,null,null,null,null,null,null,null,null,null,null,null,null,null,null,null,null,null,null,null,null,null,null,null,null,null,null,null,null,null,null,null,null,null,null,null,null,null,null,null,null,null,null,null,null,null,null,null,null,null,null,null,null,null,{"$f":"IF(ISNUMBER(SEARCH($C$6,BU3488)),MAX($BT$13:BT3487)+1,0)","v":3475},0,{"$f":"ROWS($BV$14:BV3488)","v":3475},{"$f":"IFERROR(VLOOKUP(ROWS($BW$14:BW3488),$BT$14:$BU$5000,2,0),\"\")","v":0}]
[null,null,null,null,null,null,null,null,null,null,null,null,null,null,null,null,null,null,null,null,null,null,null,null,null,null,null,null,null,null,null,null,null,null,null,null,null,null,null,null,null,null,null,null,null,null,null,null,null,null,null,null,null,null,null,null,null,null,null,null,null,null,null,null,null,null,null,null,null,null,null,{"$f":"IF(ISNUMBER(SEARCH($C$6,BU3496)),MAX($BT$13:BT3495)+1,0)","v":3483},0,{"$f":"ROWS($BV$14:BV3496)","v":3483},{"$f":"IFERROR(VLOOKUP(ROWS($BW$14:BW3496),$BT$14:$BU$5000,2,0),\"\")","v":0}]
[null,null,null,null,null,null,null,null,null,null,null,null,null,null,null,null,null,null,null,null,null,null,null,null,null,null,null,null,null,null,null,null,null,null,null,null,null,null,null,null,null,null,null,null,null,null,null,null,null,null,null,null,null,null,null,null,null,null,null,null,null,null,null,null,null,null,null,null,null,null,null,{"$f":"IF(ISNUMBER(SEARCH($C$6,BU3506)),MAX($BT$13:BT3505)+1,0)","v":3493},0,{"$f":"ROWS($BV$14:BV3506)","v":3493},{"$f":"IFERROR(VLOOKUP(ROWS($BW$14:BW3506),$BT$14:$BU$5000,2,0),\"\")","v":0}]
[null,null,null,null,null,null,null,null,null,null,null,null,null,null,null,null,null,null,null,null,null,null,null,null,null,null,null,null,null,null,null,null,null,null,null,null,null,null,null,null,null,null,null,null,null,null,null,null,null,null,null,null,null,null,null,null,null,null,null,null,null,null,null,null,null,null,null,null,null,null,null,{"$f":"IF(ISNUMBER(SEARCH($C$6,BU3513)),MAX($BT$13:BT3512)+1,0)","v":3500},0,{"$f":"ROWS($BV$14:BV3513)","v":3500},{"$f":"IFERROR(VLOOKUP(ROWS($BW$14:BW3513),$BT$14:$BU$5000,2,0),\"\")","v":0}]
[null,null,null,null,null,null,null,null,null,null,null,null,null,null,null,null,null,null,null,null,null,null,null,null,null,null,null,null,null,null,null,null,null,null,null,null,null,null,null,null,null,null,null,null,null,null,null,null,null,null,null,null,null,null,null,null,null,null,null,null,null,null,null,null,null,null,null,null,null,null,null,{"$f":"IF(ISNUMBER(SEARCH($C$6,BU3516)),MAX($BT$13:BT3515)+1,0)","v":3503},0,{"$f":"ROWS($BV$14:BV3516)","v":3503},{"$f":"IFERROR(VLOOKUP(ROWS($BW$14:BW3516),$BT$14:$BU$5000,2,0),\"\")","v":0}]
[null,null,null,null,null,null,null,null,null,null,null,null,null,null,null,null,null,null,null,null,null,null,null,null,null,null,null,null,null,null,null,null,null,null,null,null,null,null,null,null,null,null,null,null,null,null,null,null,null,null,null,null,null,null,null,null,null,null,null,null,null,null,null,null,null,null,null,null,null,null,null,{"$f":"IF(ISNUMBER(SEARCH($C$6,BU3528)),MAX($BT$13:BT3527)+1,0)","v":3515},0,{"$f":"ROWS($BV$14:BV3528)","v":3515},{"$f":"IFERROR(VLOOKUP(ROWS($BW$14:BW3528),$BT$14:$BU$5000,2,0),\"\")","v":0}]
[null,null,null,null,null,null,null,null,null,null,null,null,null,null,null,null,null,null,null,null,null,null,null,null,null,null,null,null,null,null,null,null,null,null,null,null,null,null,null,null,null,null,null,null,null,null,null,null,null,null,null,null,null,null,null,null,null,null,null,null,null,null,null,null,null,null,null,null,null,null,null,{"$f":"IF(ISNUMBER(SEARCH($C$6,BU3537)),MAX($BT$13:BT3536)+1,0)","v":3524},0,{"$f":"ROWS($BV$14:BV3537)","v":3524},{"$f":"IFERROR(VLOOKUP(ROWS($BW$14:BW3537),$BT$14:$BU$5000,2,0),\"\")","v":0}]
[null,null,null,null,null,null,null,null,null,null,null,null,null,null,null,null,null,null,null,null,null,null,null,null,null,null,null,null,null,null,null,null,null,null,null,null,null,null,null,null,null,null,null,null,null,null,null,null,null,null,null,null,null,null,null,null,null,null,null,null,null,null,null,null,null,null,null,null,null,null,null,{"$f":"IF(ISNUMBER(SEARCH($C$6,BU3546)),MAX($BT$13:BT3545)+1,0)","v":3533},0,{"$f":"ROWS($BV$14:BV3546)","v":3533},{"$f":"IFERROR(VLOOKUP(ROWS($BW$14:BW3546),$BT$14:$BU$5000,2,0),\"\")","v":0}]
[null,null,null,null,null,null,null,null,null,null,null,null,null,null,null,null,null,null,null,null,null,null,null,null,null,null,null,null,null,null,null,null,null,null,null,null,null,null,null,null,null,null,null,null,null,null,null,null,null,null,null,null,null,null,null,null,null,null,null,null,null,null,null,null,null,null,null,null,null,null,null,{"$f":"IF(ISNUMBER(SEARCH($C$6,BU3558)),MAX($BT$13:BT3557)+1,0)","v":3545},0,{"$f":"ROWS($BV$14:BV3558)","v":3545},{"$f":"IFERROR(VLOOKUP(ROWS($BW$14:BW3558),$BT$14:$BU$5000,2,0),\"\")","v":0}]
[null,null,null,null,null,null,null,null,null,null,null,null,null,null,null,null,null,null,null,null,null,null,null,null,null,null,null,null,null,null,null,null,null,null,null,null,null,null,null,null,null,null,null,null,null,null,null,null,null,null,null,null,null,null,null,null,null,null,null,null,null,null,null,null,null,null,null,null,null,null,null,{"$f":"IF(ISNUMBER(SEARCH($C$6,BU3565)),MAX($BT$13:BT3564)+1,0)","v":3552},0,{"$f":"ROWS($BV$14:BV3565)","v":3552},{"$f":"IFERROR(VLOOKUP(ROWS($BW$14:BW3565),$BT$14:$BU$5000,2,0),\"\")","v":0}]
[null,null,null,null,null,null,null,null,null,null,null,null,null,null,null,null,null,null,null,null,null,null,null,null,null,null,null,null,null,null,null,null,null,null,null,null,null,null,null,null,null,null,null,null,null,null,null,null,null,null,null,null,null,null,null,null,null,null,null,null,null,null,null,null,null,null,null,null,null,null,null,{"$f":"IF(ISNUMBER(SEARCH($C$6,BU3576)),MAX($BT$13:BT3575)+1,0)","v":3563},0,{"$f":"ROWS($BV$14:BV3576)","v":3563},{"$f":"IFERROR(VLOOKUP(ROWS($BW$14:BW3576),$BT$14:$BU$5000,2,0),\"\")","v":0}]
[null,null,null,null,null,null,null,null,null,null,null,null,null,null,null,null,null,null,null,null,null,null,null,null,null,null,null,null,null,null,null,null,null,null,null,null,null,null,null,null,null,null,null,null,null,null,null,null,null,null,null,null,null,null,null,null,null,null,null,null,null,null,null,null,null,null,null,null,null,null,null,{"$f":"IF(ISNUMBER(SEARCH($C$6,BU3583)),MAX($BT$13:BT3582)+1,0)","v":3570},0,{"$f":"ROWS($BV$14:BV3583)","v":3570},{"$f":"IFERROR(VLOOKUP(ROWS($BW$14:BW3583),$BT$14:$BU$5000,2,0),\"\")","v":0}]
[null,null,null,null,null,null,null,null,null,null,null,null,null,null,null,null,null,null,null,null,null,null,null,null,null,null,null,null,null,null,null,null,null,null,null,null,null,null,null,null,null,null,null,null,null,null,null,null,null,null,null,null,null,null,null,null,null,null,null,null,null,null,null,null,null,null,null,null,null,null,null,{"$f":"IF(ISNUMBER(SEARCH($C$6,BU3586)),MAX($BT$13:BT3585)+1,0)","v":3573},0,{"$f":"ROWS($BV$14:BV3586)","v":3573},{"$f":"IFERROR(VLOOKUP(ROWS($BW$14:BW3586),$BT$14:$BU$5000,2,0),\"\")","v":0}]
[null,null,null,null,null,null,null,null,null,null,null,null,null,null,null,null,null,null,null,null,null,null,null,null,null,null,null,null,null,null,null,null,null,null,null,null,null,null,null,null,null,null,null,null,null,null,null,null,null,null,null,null,null,null,null,null,null,null,null,null,null,null,null,null,null,null,null,null,null,null,null,{"$f":"IF(ISNUMBER(SEARCH($C$6,BU3598)),MAX($BT$13:BT3597)+1,0)","v":3585},0,{"$f":"ROWS($BV$14:BV3598)","v":3585},{"$f":"IFERROR(VLOOKUP(ROWS($BW$14:BW3598),$BT$14:$BU$5000,2,0),\"\")","v":0}]
[null,null,null,null,null,null,null,null,null,null,null,null,null,null,null,null,null,null,null,null,null,null,null,null,null,null,null,null,null,null,null,null,null,null,null,null,null,null,null,null,null,null,null,null,null,null,null,null,null,null,null,null,null,null,null,null,null,null,null,null,null,null,null,null,null,null,null,null,null,null,null,{"$f":"IF(ISNUMBER(SEARCH($C$6,BU3607)),MAX($BT$13:BT3606)+1,0)","v":3594},0,{"$f":"ROWS($BV$14:BV3607)","v":3594},{"$f":"IFERROR(VLOOKUP(ROWS($BW$14:BW3607),$BT$14:$BU$5000,2,0),\"\")","v":0}]
[null,null,null,null,null,null,null,null,null,null,null,null,null,null,null,null,null,null,null,null,null,null,null,null,null,null,null,null,null,null,null,null,null,null,null,null,null,null,null,null,null,null,null,null,null,null,null,null,null,null,null,null,null,null,null,null,null,null,null,null,null,null,null,null,null,null,null,null,null,null,null,{"$f":"IF(ISNUMBER(SEARCH($C$6,BU3616)),MAX($BT$13:BT3615)+1,0)","v":3603},0,{"$f":"ROWS($BV$14:BV3616)","v":3603},{"$f":"IFERROR(VLOOKUP(ROWS($BW$14:BW3616),$BT$14:$BU$5000,2,0),\"\")","v":0}]
[null,null,null,null,null,null,null,null,null,null,null,null,null,null,null,null,null,null,null,null,null,null,null,null,null,null,null,null,null,null,null,null,null,null,null,null,null,null,null,null,null,null,null,null,null,null,null,null,null,null,null,null,null,null,null,null,null,null,null,null,null,null,null,null,null,null,null,null,null,null,null,{"$f":"IF(ISNUMBER(SEARCH($C$6,BU3628)),MAX($BT$13:BT3627)+1,0)","v":3615},0,{"$f":"ROWS($BV$14:BV3628)","v":3615},{"$f":"IFERROR(VLOOKUP(ROWS($BW$14:BW3628),$BT$14:$BU$5000,2,0),\"\")","v":0}]
[null,null,null,null,null,null,null,null,null,null,null,null,null,null,null,null,null,null,null,null,null,null,null,null,null,null,null,null,null,null,null,null,null,null,null,null,null,null,null,null,null,null,null,null,null,null,null,null,null,null,null,null,null,null,null,null,null,null,null,null,null,null,null,null,null,null,null,null,null,null,null,{"$f":"IF(ISNUMBER(SEARCH($C$6,BU3635)),MAX($BT$13:BT3634)+1,0)","v":3622},0,{"$f":"ROWS($BV$14:BV3635)","v":3622},{"$f":"IFERROR(VLOOKUP(ROWS($BW$14:BW3635),$BT$14:$BU$5000,2,0),\"\")","v":0}]
[null,null,null,null,null,null,null,null,null,null,null,null,null,null,null,null,null,null,null,null,null,null,null,null,null,null,null,null,null,null,null,null,null,null,null,null,null,null,null,null,null,null,null,null,null,null,null,null,null,null,null,null,null,null,null,null,null,null,null,null,null,null,null,null,null,null,null,null,null,null,null,{"$f":"IF(ISNUMBER(SEARCH($C$6,BU3646)),MAX($BT$13:BT3645)+1,0)","v":3633},0,{"$f":"ROWS($BV$14:BV3646)","v":3633},{"$f":"IFERROR(VLOOKUP(ROWS($BW$14:BW3646),$BT$14:$BU$5000,2,0),\"\")","v":0}]
[null,null,null,null,null,null,null,null,null,null,null,null,null,null,null,null,null,null,null,null,null,null,null,null,null,null,null,null,null,null,null,null,null,null,null,null,null,null,null,null,null,null,null,null,null,null,null,null,null,null,null,null,null,null,null,null,null,null,null,null,null,null,null,null,null,null,null,null,null,null,null,{"$f":"IF(ISNUMBER(SEARCH($C$6,BU3653)),MAX($BT$13:BT3652)+1,0)","v":3640},0,{"$f":"ROWS($BV$14:BV3653)","v":3640},{"$f":"IFERROR(VLOOKUP(ROWS($BW$14:BW3653),$BT$14:$BU$5000,2,0),\"\")","v":0}]
[null,null,null,null,null,null,null,null,null,null,null,null,null,null,null,null,null,null,null,null,null,null,null,null,null,null,null,null,null,null,null,null,null,null,null,null,null,null,null,null,null,null,null,null,null,null,null,null,null,null,null,null,null,null,null,null,null,null,null,null,null,null,null,null,null,null,null,null,null,null,null,{"$f":"IF(ISNUMBER(SEARCH($C$6,BU3656)),MAX($BT$13:BT3655)+1,0)","v":3643},0,{"$f":"ROWS($BV$14:BV3656)","v":3643},{"$f":"IFERROR(VLOOKUP(ROWS($BW$14:BW3656),$BT$14:$BU$5000,2,0),\"\")","v":0}]
[null,null,null,null,null,null,null,null,null,null,null,null,null,null,null,null,null,null,null,null,null,null,null,null,null,null,null,null,null,null,null,null,null,null,null,null,null,null,null,null,null,null,null,null,null,null,null,null,null,null,null,null,null,null,null,null,null,null,null,null,null,null,null,null,null,null,null,null,null,null,null,{"$f":"IF(ISNUMBER(SEARCH($C$6,BU3668)),MAX($BT$13:BT3667)+1,0)","v":3655},0,{"$f":"ROWS($BV$14:BV3668)","v":3655},{"$f":"IFERROR(VLOOKUP(ROWS($BW$14:BW3668),$BT$14:$BU$5000,2,0),\"\")","v":0}]
[null,null,null,null,null,null,null,null,null,null,null,null,null,null,null,null,null,null,null,null,null,null,null,null,null,null,null,null,null,null,null,null,null,null,null,null,null,null,null,null,null,null,null,null,null,null,null,null,null,null,null,null,null,null,null,null,null,null,null,null,null,null,null,null,null,null,null,null,null,null,null,{"$f":"IF(ISNUMBER(SEARCH($C$6,BU3675)),MAX($BT$13:BT3674)+1,0)","v":3662},0,{"$f":"ROWS($BV$14:BV3675)","v":3662},{"$f":"IFERROR(VLOOKUP(ROWS($BW$14:BW3675),$BT$14:$BU$5000,2,0),\"\")","v":0}]
[null,null,null,null,null,null,null,null,null,null,null,null,null,null,null,null,null,null,null,null,null,null,null,null,null,null,null,null,null,null,null,null,null,null,null,null,null,null,null,null,null,null,null,null,null,null,null,null,null,null,null,null,null,null,null,null,null,null,null,null,null,null,null,null,null,null,null,null,null,null,null,{"$f":"IF(ISNUMBER(SEARCH($C$6,BU3687)),MAX($BT$13:BT3686)+1,0)","v":3674},0,{"$f":"ROWS($BV$14:BV3687)","v":3674},{"$f":"IFERROR(VLOOKUP(ROWS($BW$14:BW3687),$BT$14:$BU$5000,2,0),\"\")","v":0}]
[null,null,null,null,null,null,null,null,null,null,null,null,null,null,null,null,null,null,null,null,null,null,null,null,null,null,null,null,null,null,null,null,null,null,null,null,null,null,null,null,null,null,null,null,null,null,null,null,null,null,null,null,null,null,null,null,null,null,null,null,null,null,null,null,null,null,null,null,null,null,null,{"$f":"IF(ISNUMBER(SEARCH($C$6,BU3693)),MAX($BT$13:BT3692)+1,0)","v":3680},0,{"$f":"ROWS($BV$14:BV3693)","v":3680},{"$f":"IFERROR(VLOOKUP(ROWS($BW$14:BW3693),$BT$14:$BU$5000,2,0),\"\")","v":0}]
[null,null,null,null,null,null,null,null,null,null,null,null,null,null,null,null,null,null,null,null,null,null,null,null,null,null,null,null,null,null,null,null,null,null,null,null,null,null,null,null,null,null,null,null,null,null,null,null,null,null,null,null,null,null,null,null,null,null,null,null,null,null,null,null,null,null,null,null,null,null,null,{"$f":"IF(ISNUMBER(SEARCH($C$6,BU3705)),MAX($BT$13:BT3704)+1,0)","v":3692},0,{"$f":"ROWS($BV$14:BV3705)","v":3692},{"$f":"IFERROR(VLOOKUP(ROWS($BW$14:BW3705),$BT$14:$BU$5000,2,0),\"\")","v":0}]
[null,null,null,null,null,null,null,null,null,null,null,null,null,null,null,null,null,null,null,null,null,null,null,null,null,null,null,null,null,null,null,null,null,null,null,null,null,null,null,null,null,null,null,null,null,null,null,null,null,null,null,null,null,null,null,null,null,null,null,null,null,null,null,null,null,null,null,null,null,null,null,{"$f":"IF(ISNUMBER(SEARCH($C$6,BU3717)),MAX($BT$13:BT3716)+1,0)","v":3704},0,{"$f":"ROWS($BV$14:BV3717)","v":3704},{"$f":"IFERROR(VLOOKUP(ROWS($BW$14:BW3717),$BT$14:$BU$5000,2,0),\"\")","v":0}]
[null,null,null,null,null,null,null,null,null,null,null,null,null,null,null,null,null,null,null,null,null,null,null,null,null,null,null,null,null,null,null,null,null,null,null,null,null,null,null,null,null,null,null,null,null,null,null,null,null,null,null,null,null,null,null,null,null,null,null,null,null,null,null,null,null,null,null,null,null,null,null,{"$f":"IF(ISNUMBER(SEARCH($C$6,BU3718)),MAX($BT$13:BT3717)+1,0)","v":3705},0,{"$f":"ROWS($BV$14:BV3718)","v":3705},{"$f":"IFERROR(VLOOKUP(ROWS($BW$14:BW3718),$BT$14:$BU$5000,2,0),\"\")","v":0}]
[null,null,null,null,null,null,null,null,null,null,null,null,null,null,null,null,null,null,null,null,null,null,null,null,null,null,null,null,null,null,null,null,null,null,null,null,null,null,null,null,null,null,null,null,null,null,null,null,null,null,null,null,null,null,null,null,null,null,null,null,null,null,null,null,null,null,null,null,null,null,null,{"$f":"IF(ISNUMBER(SEARCH($C$6,BU3726)),MAX($BT$13:BT3725)+1,0)","v":3713},0,{"$f":"ROWS($BV$14:BV3726)","v":3713},{"$f":"IFERROR(VLOOKUP(ROWS($BW$14:BW3726),$BT$14:$BU$5000,2,0),\"\")","v":0}]
[null,null,null,null,null,null,null,null,null,null,null,null,null,null,null,null,null,null,null,null,null,null,null,null,null,null,null,null,null,null,null,null,null,null,null,null,null,null,null,null,null,null,null,null,null,null,null,null,null,null,null,null,null,null,null,null,null,null,null,null,null,null,null,null,null,null,null,null,null,null,null,{"$f":"IF(ISNUMBER(SEARCH($C$6,BU3738)),MAX($BT$13:BT3737)+1,0)","v":3725},0,{"$f":"ROWS($BV$14:BV3738)","v":3725},{"$f":"IFERROR(VLOOKUP(ROWS($BW$14:BW3738),$BT$14:$BU$5000,2,0),\"\")","v":0}]
[null,null,null,null,null,null,null,null,null,null,null,null,null,null,null,null,null,null,null,null,null,null,null,null,null,null,null,null,null,null,null,null,null,null,null,null,null,null,null,null,null,null,null,null,null,null,null,null,null,null,null,null,null,null,null,null,null,null,null,null,null,null,null,null,null,null,null,null,null,null,null,{"$f":"IF(ISNUMBER(SEARCH($C$6,BU3745)),MAX($BT$13:BT3744)+1,0)","v":3732},0,{"$f":"ROWS($BV$14:BV3745)","v":3732},{"$f":"IFERROR(VLOOKUP(ROWS($BW$14:BW3745),$BT$14:$BU$5000,2,0),\"\")","v":0}]
[null,null,null,null,null,null,null,null,null,null,null,null,null,null,null,null,null,null,null,null,null,null,null,null,null,null,null,null,null,null,null,null,null,null,null,null,null,null,null,null,null,null,null,null,null,null,null,null,null,null,null,null,null,null,null,null,null,null,null,null,null,null,null,null,null,null,null,null,null,null,null,{"$f":"IF(ISNUMBER(SEARCH($C$6,BU3757)),MAX($BT$13:BT3756)+1,0)","v":3744},0,{"$f":"ROWS($BV$14:BV3757)","v":3744},{"$f":"IFERROR(VLOOKUP(ROWS($BW$14:BW3757),$BT$14:$BU$5000,2,0),\"\")","v":0}]
[null,null,null,null,null,null,null,null,null,null,null,null,null,null,null,null,null,null,null,null,null,null,null,null,null,null,null,null,null,null,null,null,null,null,null,null,null,null,null,null,null,null,null,null,null,null,null,null,null,null,null,null,null,null,null,null,null,null,null,null,null,null,null,null,null,null,null,null,null,null,null,{"$f":"IF(ISNUMBER(SEARCH($C$6,BU3763)),MAX($BT$13:BT3762)+1,0)","v":3750},0,{"$f":"ROWS($BV$14:BV3763)","v":3750},{"$f":"IFERROR(VLOOKUP(ROWS($BW$14:BW3763),$BT$14:$BU$5000,2,0),\"\")","v":0}]
[null,null,null,null,null,null,null,null,null,null,null,null,null,null,null,null,null,null,null,null,null,null,null,null,null,null,null,null,null,null,null,null,null,null,null,null,null,null,null,null,null,null,null,null,null,null,null,null,null,null,null,null,null,null,null,null,null,null,null,null,null,null,null,null,null,null,null,null,null,null,null,{"$f":"IF(ISNUMBER(SEARCH($C$6,BU3775)),MAX($BT$13:BT3774)+1,0)","v":3762},0,{"$f":"ROWS($BV$14:BV3775)","v":3762},{"$f":"IFERROR(VLOOKUP(ROWS($BW$14:BW3775),$BT$14:$BU$5000,2,0),\"\")","v":0}]
[null,null,null,null,null,null,null,null,null,null,null,null,null,null,null,null,null,null,null,null,null,null,null,null,null,null,null,null,null,null,null,null,null,null,null,null,null,null,null,null,null,null,null,null,null,null,null,null,null,null,null,null,null,null,null,null,null,null,null,null,null,null,null,null,null,null,null,null,null,null,null,{"$f":"IF(ISNUMBER(SEARCH($C$6,BU3787)),MAX($BT$13:BT3786)+1,0)","v":3774},0,{"$f":"ROWS($BV$14:BV3787)","v":3774},{"$f":"IFERROR(VLOOKUP(ROWS($BW$14:BW3787),$BT$14:$BU$5000,2,0),\"\")","v":0}]
[null,null,null,null,null,null,null,null,null,null,null,null,null,null,null,null,null,null,null,null,null,null,null,null,null,null,null,null,null,null,null,null,null,null,null,null,null,null,null,null,null,null,null,null,null,null,null,null,null,null,null,null,null,null,null,null,null,null,null,null,null,null,null,null,null,null,null,null,null,null,null,{"$f":"IF(ISNUMBER(SEARCH($C$6,BU3794)),MAX($BT$13:BT3793)+1,0)","v":3781},0,{"$f":"ROWS($BV$14:BV3794)","v":3781},{"$f":"IFERROR(VLOOKUP(ROWS($BW$14:BW3794),$BT$14:$BU$5000,2,0),\"\")","v":0}]
[null,null,null,null,null,null,null,null,null,null,null,null,null,null,null,null,null,null,null,null,null,null,null,null,null,null,null,null,null,null,null,null,null,null,null,null,null,null,null,null,null,null,null,null,null,null,null,null,null,null,null,null,null,null,null,null,null,null,null,null,null,null,null,null,null,null,null,null,null,null,null,{"$f":"IF(ISNUMBER(SEARCH($C$6,BU3798)),MAX($BT$13:BT3797)+1,0)","v":3785},0,{"$f":"ROWS($BV$14:BV3798)","v":3785},{"$f":"IFERROR(VLOOKUP(ROWS($BW$14:BW3798),$BT$14:$BU$5000,2,0),\"\")","v":0}]
[null,null,null,null,null,null,null,null,null,null,null,null,null,null,null,null,null,null,null,null,null,null,null,null,null,null,null,null,null,null,null,null,null,null,null,null,null,null,null,null,null,null,null,null,null,null,null,null,null,null,null,null,null,null,null,null,null,null,null,null,null,null,null,null,null,null,null,null,null,null,null,{"$f":"IF(ISNUMBER(SEARCH($C$6,BU3812)),MAX($BT$13:BT3811)+1,0)","v":3799},0,{"$f":"ROWS($BV$14:BV3812)","v":3799},{"$f":"IFERROR(VLOOKUP(ROWS($BW$14:BW3812),$BT$14:$BU$5000,2,0),\"\")","v":0}]
[null,null,null,null,null,null,null,null,null,null,null,null,null,null,null,null,null,null,null,null,null,null,null,null,null,null,null,null,null,null,null,null,null,null,null,null,null,null,null,null,null,null,null,null,null,null,null,null,null,null,null,null,null,null,null,null,null,null,null,null,null,null,null,null,null,null,null,null,null,null,null,{"$f":"IF(ISNUMBER(SEARCH($C$6,BU3815)),MAX($BT$13:BT3814)+1,0)","v":3802},0,{"$f":"ROWS($BV$14:BV3815)","v":3802},{"$f":"IFERROR(VLOOKUP(ROWS($BW$14:BW3815),$BT$14:$BU$5000,2,0),\"\")","v":0}]
[null,null,null,null,null,null,null,null,null,null,null,null,null,null,null,null,null,null,null,null,null,null,null,null,null,null,null,null,null,null,null,null,null,null,null,null,null,null,null,null,null,null,null,null,null,null,null,null,null,null,null,null,null,null,null,null,null,null,null,null,null,null,null,null,null,null,null,null,null,null,null,{"$f":"IF(ISNUMBER(SEARCH($C$6,BU3827)),MAX($BT$13:BT3826)+1,0)","v":3814},0,{"$f":"ROWS($BV$14:BV3827)","v":3814},{"$f":"IFERROR(VLOOKUP(ROWS($BW$14:BW3827),$BT$14:$BU$5000,2,0),\"\")","v":0}]
[null,null,null,null,null,null,null,null,null,null,null,null,null,null,null,null,null,null,null,null,null,null,null,null,null,null,null,null,null,null,null,null,null,null,null,null,null,null,null,null,null,null,null,null,null,null,null,null,null,null,null,null,null,null,null,null,null,null,null,null,null,null,null,null,null,null,null,null,null,null,null,{"$f":"IF(ISNUMBER(SEARCH($C$6,BU3837)),MAX($BT$13:BT3836)+1,0)","v":3824},0,{"$f":"ROWS($BV$14:BV3837)","v":3824},{"$f":"IFERROR(VLOOKUP(ROWS($BW$14:BW3837),$BT$14:$BU$5000,2,0),\"\")","v":0}]
[null,null,null,null,null,null,null,null,null,null,null,null,null,null,null,null,null,null,null,null,null,null,null,null,null,null,null,null,null,null,null,null,null,null,null,null,null,null,null,null,null,null,null,null,null,null,null,null,null,null,null,null,null,null,null,null,null,null,null,null,null,null,null,null,null,null,null,null,null,null,null,{"$f":"IF(ISNUMBER(SEARCH($C$6,BU3845)),MAX($BT$13:BT3844)+1,0)","v":3832},0,{"$f":"ROWS($BV$14:BV3845)","v":3832},{"$f":"IFERROR(VLOOKUP(ROWS($BW$14:BW3845),$BT$14:$BU$5000,2,0),\"\")","v":0}]
[null,null,null,null,null,null,null,null,null,null,null,null,null,null,null,null,null,null,null,null,null,null,null,null,null,null,null,null,null,null,null,null,null,null,null,null,null,null,null,null,null,null,null,null,null,null,null,null,null,null,null,null,null,null,null,null,null,null,null,null,null,null,null,null,null,null,null,null,null,null,null,{"$f":"IF(ISNUMBER(SEARCH($C$6,BU3857)),MAX($BT$13:BT3856)+1,0)","v":3844},0,{"$f":"ROWS($BV$14:BV3857)","v":3844},{"$f":"IFERROR(VLOOKUP(ROWS($BW$14:BW3857),$BT$14:$BU$5000,2,0),\"\")","v":0}]
[null,null,null,null,null,null,null,null,null,null,null,null,null,null,null,null,null,null,null,null,null,null,null,null,null,null,null,null,null,null,null,null,null,null,null,null,null,null,null,null,null,null,null,null,null,null,null,null,null,null,null,null,null,null,null,null,null,null,null,null,null,null,null,null,null,null,null,null,null,null,null,{"$f":"IF(ISNUMBER(SEARCH($C$6,BU3864)),MAX($BT$13:BT3863)+1,0)","v":3851},0,{"$f":"ROWS($BV$14:BV3864)","v":3851},{"$f":"IFERROR(VLOOKUP(ROWS($BW$14:BW3864),$BT$14:$BU$5000,2,0),\"\")","v":0}]
[null,null,null,null,null,null,null,null,null,null,null,null,null,null,null,null,null,null,null,null,null,null,null,null,null,null,null,null,null,null,null,null,null,null,null,null,null,null,null,null,null,null,null,null,null,null,null,null,null,null,null,null,null,null,null,null,null,null,null,null,null,null,null,null,null,null,null,null,null,null,null,{"$f":"IF(ISNUMBER(SEARCH($C$6,BU3868)),MAX($BT$13:BT3867)+1,0)","v":3855},0,{"$f":"ROWS($BV$14:BV3868)","v":3855},{"$f":"IFERROR(VLOOKUP(ROWS($BW$14:BW3868),$BT$14:$BU$5000,2,0),\"\")","v":0}]
[null,null,null,null,null,null,null,null,null,null,null,null,null,null,null,null,null,null,null,null,null,null,null,null,null,null,null,null,null,null,null,null,null,null,null,null,null,null,null,null,null,null,null,null,null,null,null,null,null,null,null,null,null,null,null,null,null,null,null,null,null,null,null,null,null,null,null,null,null,null,null,{"$f":"IF(ISNUMBER(SEARCH($C$6,BU3882)),MAX($BT$13:BT3881)+1,0)","v":3869},0,{"$f":"ROWS($BV$14:BV3882)","v":3869},{"$f":"IFERROR(VLOOKUP(ROWS($BW$14:BW3882),$BT$14:$BU$5000,2,0),\"\")","v":0}]
[null,null,null,null,null,null,null,null,null,null,null,null,null,null,null,null,null,null,null,null,null,null,null,null,null,null,null,null,null,null,null,null,null,null,null,null,null,null,null,null,null,null,null,null,null,null,null,null,null,null,null,null,null,null,null,null,null,null,null,null,null,null,null,null,null,null,null,null,null,null,null,{"$f":"IF(ISNUMBER(SEARCH($C$6,BU3885)),MAX($BT$13:BT3884)+1,0)","v":3872},0,{"$f":"ROWS($BV$14:BV3885)","v":3872},{"$f":"IFERROR(VLOOKUP(ROWS($BW$14:BW3885),$BT$14:$BU$5000,2,0),\"\")","v":0}]
[null,null,null,null,null,null,null,null,null,null,null,null,null,null,null,null,null,null,null,null,null,null,null,null,null,null,null,null,null,null,null,null,null,null,null,null,null,null,null,null,null,null,null,null,null,null,null,null,null,null,null,null,null,null,null,null,null,null,null,null,null,null,null,null,null,null,null,null,null,null,null,{"$f":"IF(ISNUMBER(SEARCH($C$6,BU3897)),MAX($BT$13:BT3896)+1,0)","v":3884},0,{"$f":"ROWS($BV$14:BV3897)","v":3884},{"$f":"IFERROR(VLOOKUP(ROWS($BW$14:BW3897),$BT$14:$BU$5000,2,0),\"\")","v":0}]
[null,null,null,null,null,null,null,null,null,null,null,null,null,null,null,null,null,null,null,null,null,null,null,null,null,null,null,null,null,null,null,null,null,null,null,null,null,null,null,null,null,null,null,null,null,null,null,null,null,null,null,null,null,null,null,null,null,null,null,null,null,null,null,null,null,null,null,null,null,null,null,{"$f":"IF(ISNUMBER(SEARCH($C$6,BU3907)),MAX($BT$13:BT3906)+1,0)","v":3894},0,{"$f":"ROWS($BV$14:BV3907)","v":3894},{"$f":"IFERROR(VLOOKUP(ROWS($BW$14:BW3907),$BT$14:$BU$5000,2,0),\"\")","v":0}]
[null,null,null,null,null,null,null,null,null,null,null,null,null,null,null,null,null,null,null,null,null,null,null,null,null,null,null,null,null,null,null,null,null,null,null,null,null,null,null,null,null,null,null,null,null,null,null,null,null,null,null,null,null,null,null,null,null,null,null,null,null,null,null,null,null,null,null,null,null,null,null,{"$f":"IF(ISNUMBER(SEARCH($C$6,BU3915)),MAX($BT$13:BT3914)+1,0)","v":3902},0,{"$f":"ROWS($BV$14:BV3915)","v":3902},{"$f":"IFERROR(VLOOKUP(ROWS($BW$14:BW3915),$BT$14:$BU$5000,2,0),\"\")","v":0}]
[null,null,null,null,null,null,null,null,null,null,null,null,null,null,null,null,null,null,null,null,null,null,null,null,null,null,null,null,null,null,null,null,null,null,null,null,null,null,null,null,null,null,null,null,null,null,null,null,null,null,null,null,null,null,null,null,null,null,null,null,null,null,null,null,null,null,null,null,null,null,null,{"$f":"IF(ISNUMBER(SEARCH($C$6,BU3927)),MAX($BT$13:BT3926)+1,0)","v":3914},0,{"$f":"ROWS($BV$14:BV3927)","v":3914},{"$f":"IFERROR(VLOOKUP(ROWS($BW$14:BW3927),$BT$14:$BU$5000,2,0),\"\")","v":0}]
[null,null,null,null,null,null,null,null,null,null,null,null,null,null,null,null,null,null,null,null,null,null,null,null,null,null,null,null,null,null,null,null,null,null,null,null,null,null,null,null,null,null,null,null,null,null,null,null,null,null,null,null,null,null,null,null,null,null,null,null,null,null,null,null,null,null,null,null,null,null,null,{"$f":"IF(ISNUMBER(SEARCH($C$6,BU3934)),MAX($BT$13:BT3933)+1,0)","v":3921},0,{"$f":"ROWS($BV$14:BV3934)","v":3921},{"$f":"IFERROR(VLOOKUP(ROWS($BW$14:BW3934),$BT$14:$BU$5000,2,0),\"\")","v":0}]
[null,null,null,null,null,null,null,null,null,null,null,null,null,null,null,null,null,null,null,null,null,null,null,null,null,null,null,null,null,null,null,null,null,null,null,null,null,null,null,null,null,null,null,null,null,null,null,null,null,null,null,null,null,null,null,null,null,null,null,null,null,null,null,null,null,null,null,null,null,null,null,{"$f":"IF(ISNUMBER(SEARCH($C$6,BU3937)),MAX($BT$13:BT3936)+1,0)","v":3924},0,{"$f":"ROWS($BV$14:BV3937)","v":3924},{"$f":"IFERROR(VLOOKUP(ROWS($BW$14:BW3937),$BT$14:$BU$5000,2,0),\"\")","v":0}]
[null,null,null,null,null,null,null,null,null,null,null,null,null,null,null,null,null,null,null,null,null,null,null,null,null,null,null,null,null,null,null,null,null,null,null,null,null,null,null,null,null,null,null,null,null,null,null,null,null,null,null,null,null,null,null,null,null,null,null,null,null,null,null,null,null,null,null,null,null,null,null,{"$f":"IF(ISNUMBER(SEARCH($C$6,BU3948)),MAX($BT$13:BT3947)+1,0)","v":3935},0,{"$f":"ROWS($BV$14:BV3948)","v":3935},{"$f":"IFERROR(VLOOKUP(ROWS($BW$14:BW3948),$BT$14:$BU$5000,2,0),\"\")","v":0}]
[null,null,null,null,null,null,null,null,null,null,null,null,null,null,null,null,null,null,null,null,null,null,null,null,null,null,null,null,null,null,null,null,null,null,null,null,null,null,null,null,null,null,null,null,null,null,null,null,null,null,null,null,null,null,null,null,null,null,null,null,null,null,null,null,null,null,null,null,null,null,null,{"$f":"IF(ISNUMBER(SEARCH($C$6,BU3955)),MAX($BT$13:BT3954)+1,0)","v":3942},0,{"$f":"ROWS($BV$14:BV3955)","v":3942},{"$f":"IFERROR(VLOOKUP(ROWS($BW$14:BW3955),$BT$14:$BU$5000,2,0),\"\")","v":0}]
[null,null,null,null,null,null,null,null,null,null,null,null,null,null,null,null,null,null,null,null,null,null,null,null,null,null,null,null,null,null,null,null,null,null,null,null,null,null,null,null,null,null,null,null,null,null,null,null,null,null,null,null,null,null,null,null,null,null,null,null,null,null,null,null,null,null,null,null,null,null,null,{"$f":"IF(ISNUMBER(SEARCH($C$6,BU3967)),MAX($BT$13:BT3966)+1,0)","v":3954},0,{"$f":"ROWS($BV$14:BV3967)","v":3954},{"$f":"IFERROR(VLOOKUP(ROWS($BW$14:BW3967),$BT$14:$BU$5000,2,0),\"\")","v":0}]
[null,null,null,null,null,null,null,null,null,null,null,null,null,null,null,null,null,null,null,null,null,null,null,null,null,null,null,null,null,null,null,null,null,null,null,null,null,null,null,null,null,null,null,null,null,null,null,null,null,null,null,null,null,null,null,null,null,null,null,null,null,null,null,null,null,null,null,null,null,null,null,{"$f":"IF(ISNUMBER(SEARCH($C$6,BU3974)),MAX($BT$13:BT3973)+1,0)","v":3961},0,{"$f":"ROWS($BV$14:BV3974)","v":3961},{"$f":"IFERROR(VLOOKUP(ROWS($BW$14:BW3974),$BT$14:$BU$5000,2,0),\"\")","v":0}]
[null,null,null,null,null,null,null,null,null,null,null,null,null,null,null,null,null,null,null,null,null,null,null,null,null,null,null,null,null,null,null,null,null,null,null,null,null,null,null,null,null,null,null,null,null,null,null,null,null,null,null,null,null,null,null,null,null,null,null,null,null,null,null,null,null,null,null,null,null,null,null,{"$f":"IF(ISNUMBER(SEARCH($C$6,BU3987)),MAX($BT$13:BT3986)+1,0)","v":3974},0,{"$f":"ROWS($BV$14:BV3987)","v":3974},{"$f":"IFERROR(VLOOKUP(ROWS($BW$14:BW3987),$BT$14:$BU$5000,2,0),\"\")","v":0}]
[null,null,null,null,null,null,null,null,null,null,null,null,null,null,null,null,null,null,null,null,null,null,null,null,null,null,null,null,null,null,null,null,null,null,null,null,null,null,null,null,null,null,null,null,null,null,null,null,null,null,null,null,null,null,null,null,null,null,null,null,null,null,null,null,null,null,null,null,null,null,null,{"$f":"IF(ISNUMBER(SEARCH($C$6,BU3992)),MAX($BT$13:BT3991)+1,0)","v":3979},0,{"$f":"ROWS($BV$14:BV3992)","v":3979},{"$f":"IFERROR(VLOOKUP(ROWS($BW$14:BW3992),$BT$14:$BU$5000,2,0),\"\")","v":0}]
[null,null,null,null,null,null,null,null,null,null,null,null,null,null,null,null,null,null,null,null,null,null,null,null,null,null,null,null,null,null,null,null,null,null,null,null,null,null,null,null,null,null,null,null,null,null,null,null,null,null,null,null,null,null,null,null,null,null,null,null,null,null,null,null,null,null,null,null,null,null,null,{"$f":"IF(ISNUMBER(SEARCH($C$6,BU4004)),MAX($BT$13:BT4003)+1,0)","v":3991},0,{"$f":"ROWS($BV$14:BV4004)","v":3991},{"$f":"IFERROR(VLOOKUP(ROWS($BW$14:BW4004),$BT$14:$BU$5000,2,0),\"\")","v":0}]
[null,null,null,null,null,null,null,null,null,null,null,null,null,null,null,null,null,null,null,null,null,null,null,null,null,null,null,null,null,null,null,null,null,null,null,null,null,null,null,null,null,null,null,null,null,null,null,null,null,null,null,null,null,null,null,null,null,null,null,null,null,null,null,null,null,null,null,null,null,null,null,{"$f":"IF(ISNUMBER(SEARCH($C$6,BU4007)),MAX($BT$13:BT4006)+1,0)","v":3994},0,{"$f":"ROWS($BV$14:BV4007)","v":3994},{"$f":"IFERROR(VLOOKUP(ROWS($BW$14:BW4007),$BT$14:$BU$5000,2,0),\"\")","v":0}]
[null,null,null,null,null,null,null,null,null,null,null,null,null,null,null,null,null,null,null,null,null,null,null,null,null,null,null,null,null,null,null,null,null,null,null,null,null,null,null,null,null,null,null,null,null,null,null,null,null,null,null,null,null,null,null,null,null,null,null,null,null,null,null,null,null,null,null,null,null,null,null,{"$f":"IF(ISNUMBER(SEARCH($C$6,BU4018)),MAX($BT$13:BT4017)+1,0)","v":4005},0,{"$f":"ROWS($BV$14:BV4018)","v":4005},{"$f":"IFERROR(VLOOKUP(ROWS($BW$14:BW4018),$BT$14:$BU$5000,2,0),\"\")","v":0}]
[null,null,null,null,null,null,null,null,null,null,null,null,null,null,null,null,null,null,null,null,null,null,null,null,null,null,null,null,null,null,null,null,null,null,null,null,null,null,null,null,null,null,null,null,null,null,null,null,null,null,null,null,null,null,null,null,null,null,null,null,null,null,null,null,null,null,null,null,null,null,null,{"$f":"IF(ISNUMBER(SEARCH($C$6,BU4025)),MAX($BT$13:BT4024)+1,0)","v":4012},0,{"$f":"ROWS($BV$14:BV4025)","v":4012},{"$f":"IFERROR(VLOOKUP(ROWS($BW$14:BW4025),$BT$14:$BU$5000,2,0),\"\")","v":0}]
[null,null,null,null,null,null,null,null,null,null,null,null,null,null,null,null,null,null,null,null,null,null,null,null,null,null,null,null,null,null,null,null,null,null,null,null,null,null,null,null,null,null,null,null,null,null,null,null,null,null,null,null,null,null,null,null,null,null,null,null,null,null,null,null,null,null,null,null,null,null,null,{"$f":"IF(ISNUMBER(SEARCH($C$6,BU4037)),MAX($BT$13:BT4036)+1,0)","v":4024},0,{"$f":"ROWS($BV$14:BV4037)","v":4024},{"$f":"IFERROR(VLOOKUP(ROWS($BW$14:BW4037),$BT$14:$BU$5000,2,0),\"\")","v":0}]
[null,null,null,null,null,null,null,null,null,null,null,null,null,null,null,null,null,null,null,null,null,null,null,null,null,null,null,null,null,null,null,null,null,null,null,null,null,null,null,null,null,null,null,null,null,null,null,null,null,null,null,null,null,null,null,null,null,null,null,null,null,null,null,null,null,null,null,null,null,null,null,{"$f":"IF(ISNUMBER(SEARCH($C$6,BU4044)),MAX($BT$13:BT4043)+1,0)","v":4031},0,{"$f":"ROWS($BV$14:BV4044)","v":4031},{"$f":"IFERROR(VLOOKUP(ROWS($BW$14:BW4044),$BT$14:$BU$5000,2,0),\"\")","v":0}]
[null,null,null,null,null,null,null,null,null,null,null,null,null,null,null,null,null,null,null,null,null,null,null,null,null,null,null,null,null,null,null,null,null,null,null,null,null,null,null,null,null,null,null,null,null,null,null,null,null,null,null,null,null,null,null,null,null,null,null,null,null,null,null,null,null,null,null,null,null,null,null,{"$f":"IF(ISNUMBER(SEARCH($C$6,BU4057)),MAX($BT$13:BT4056)+1,0)","v":4044},0,{"$f":"ROWS($BV$14:BV4057)","v":4044},{"$f":"IFERROR(VLOOKUP(ROWS($BW$14:BW4057),$BT$14:$BU$5000,2,0),\"\")","v":0}]
[null,null,null,null,null,null,null,null,null,null,null,null,null,null,null,null,null,null,null,null,null,null,null,null,null,null,null,null,null,null,null,null,null,null,null,null,null,null,null,null,null,null,null,null,null,null,null,null,null,null,null,null,null,null,null,null,null,null,null,null,null,null,null,null,null,null,null,null,null,null,null,{"$f":"IF(ISNUMBER(SEARCH($C$6,BU4062)),MAX($BT$13:BT4061)+1,0)","v":4049},0,{"$f":"ROWS($BV$14:BV4062)","v":4049},{"$f":"IFERROR(VLOOKUP(ROWS($BW$14:BW4062),$BT$14:$BU$5000,2,0),\"\")","v":0}]
[null,null,null,null,null,null,null,null,null,null,null,null,null,null,null,null,null,null,null,null,null,null,null,null,null,null,null,null,null,null,null,null,null,null,null,null,null,null,null,null,null,null,null,null,null,null,null,null,null,null,null,null,null,null,null,null,null,null,null,null,null,null,null,null,null,null,null,null,null,null,null,{"$f":"IF(ISNUMBER(SEARCH($C$6,BU4074)),MAX($BT$13:BT4073)+1,0)","v":4061},0,{"$f":"ROWS($BV$14:BV4074)","v":4061},{"$f":"IFERROR(VLOOKUP(ROWS($BW$14:BW4074),$BT$14:$BU$5000,2,0),\"\")","v":0}]
[null,null,null,null,null,null,null,null,null,null,null,null,null,null,null,null,null,null,null,null,null,null,null,null,null,null,null,null,null,null,null,null,null,null,null,null,null,null,null,null,null,null,null,null,null,null,null,null,null,null,null,null,null,null,null,null,null,null,null,null,null,null,null,null,null,null,null,null,null,null,null,{"$f":"IF(ISNUMBER(SEARCH($C$6,BU4077)),MAX($BT$13:BT4076)+1,0)","v":4064},0,{"$f":"ROWS($BV$14:BV4077)","v":4064},{"$f":"IFERROR(VLOOKUP(ROWS($BW$14:BW4077),$BT$14:$BU$5000,2,0),\"\")","v":0}]
[null,null,null,null,null,null,null,null,null,null,null,null,null,null,null,null,null,null,null,null,null,null,null,null,null,null,null,null,null,null,null,null,null,null,null,null,null,null,null,null,null,null,null,null,null,null,null,null,null,null,null,null,null,null,null,null,null,null,null,null,null,null,null,null,null,null,null,null,null,null,null,{"$f":"IF(ISNUMBER(SEARCH($C$6,BU4093)),MAX($BT$13:BT4092)+1,0)","v":4080},0,{"$f":"ROWS($BV$14:BV4093)","v":4080},{"$f":"IFERROR(VLOOKUP(ROWS($BW$14:BW4093),$BT$14:$BU$5000,2,0),\"\")","v":0}]
[null,null,null,null,null,null,null,null,null,null,null,null,null,null,null,null,null,null,null,null,null,null,null,null,null,null,null,null,null,null,null,null,null,null,null,null,null,null,null,null,null,null,null,null,null,null,null,null,null,null,null,null,null,null,null,null,null,null,null,null,null,null,null,null,null,null,null,null,null,null,null,{"$f":"IF(ISNUMBER(SEARCH($C$6,BU4098)),MAX($BT$13:BT4097)+1,0)","v":4085},0,{"$f":"ROWS($BV$14:BV4098)","v":4085},{"$f":"IFERROR(VLOOKUP(ROWS($BW$14:BW4098),$BT$14:$BU$5000,2,0),\"\")","v":0}]
[null,null,null,null,null,null,null,null,null,null,null,null,null,null,null,null,null,null,null,null,null,null,null,null,null,null,null,null,null,null,null,null,null,null,null,null,null,null,null,null,null,null,null,null,null,null,null,null,null,null,null,null,null,null,null,null,null,null,null,null,null,null,null,null,null,null,null,null,null,null,null,{"$f":"IF(ISNUMBER(SEARCH($C$6,BU4107)),MAX($BT$13:BT4106)+1,0)","v":4094},0,{"$f":"ROWS($BV$14:BV4107)","v":4094},{"$f":"IFERROR(VLOOKUP(ROWS($BW$14:BW4107),$BT$14:$BU$5000,2,0),\"\")","v":0}]
[null,null,null,null,null,null,null,null,null,null,null,null,null,null,null,null,null,null,null,null,null,null,null,null,null,null,null,null,null,null,null,null,null,null,null,null,null,null,null,null,null,null,null,null,null,null,null,null,null,null,null,null,null,null,null,null,null,null,null,null,null,null,null,null,null,null,null,null,null,null,null,{"$f":"IF(ISNUMBER(SEARCH($C$6,BU4114)),MAX($BT$13:BT4113)+1,0)","v":4101},0,{"$f":"ROWS($BV$14:BV4114)","v":4101},{"$f":"IFERROR(VLOOKUP(ROWS($BW$14:BW4114),$BT$14:$BU$5000,2,0),\"\")","v":0}]
[null,null,null,null,null,null,null,null,null,null,null,null,null,null,null,null,null,null,null,null,null,null,null,null,null,null,null,null,null,null,null,null,null,null,null,null,null,null,null,null,null,null,null,null,null,null,null,null,null,null,null,null,null,null,null,null,null,null,null,null,null,null,null,null,null,null,null,null,null,null,null,{"$f":"IF(ISNUMBER(SEARCH($C$6,BU4126)),MAX($BT$13:BT4125)+1,0)","v":4113},0,{"$f":"ROWS($BV$14:BV4126)","v":4113},{"$f":"IFERROR(VLOOKUP(ROWS($BW$14:BW4126),$BT$14:$BU$5000,2,0),\"\")","v":0}]
[null,null,null,null,null,null,null,null,null,null,null,null,null,null,null,null,null,null,null,null,null,null,null,null,null,null,null,null,null,null,null,null,null,null,null,null,null,null,null,null,null,null,null,null,null,null,null,null,null,null,null,null,null,null,null,null,null,null,null,null,null,null,null,null,null,null,null,null,null,null,null,{"$f":"IF(ISNUMBER(SEARCH($C$6,BU4137)),MAX($BT$13:BT4136)+1,0)","v":4124},0,{"$f":"ROWS($BV$14:BV4137)","v":4124},{"$f":"IFERROR(VLOOKUP(ROWS($BW$14:BW4137),$BT$14:$BU$5000,2,0),\"\")","v":0}]
[null,null,null,null,null,null,null,null,null,null,null,null,null,null,null,null,null,null,null,null,null,null,null,null,null,null,null,null,null,null,null,null,null,null,null,null,null,null,null,null,null,null,null,null,null,null,null,null,null,null,null,null,null,null,null,null,null,null,null,null,null,null,null,null,null,null,null,null,null,null,null,{"$f":"IF(ISNUMBER(SEARCH($C$6,BU4144)),MAX($BT$13:BT4143)+1,0)","v":4131},0,{"$f":"ROWS($BV$14:BV4144)","v":4131},{"$f":"IFERROR(VLOOKUP(ROWS($BW$14:BW4144),$BT$14:$BU$5000,2,0),\"\")","v":0}]
[null,null,null,null,null,null,null,null,null,null,null,null,null,null,null,null,null,null,null,null,null,null,null,null,null,null,null,null,null,null,null,null,null,null,null,null,null,null,null,null,null,null,null,null,null,null,null,null,null,null,null,null,null,null,null,null,null,null,null,null,null,null,null,null,null,null,null,null,null,null,null,{"$f":"IF(ISNUMBER(SEARCH($C$6,BU4147)),MAX($BT$13:BT4146)+1,0)","v":4134},0,{"$f":"ROWS($BV$14:BV4147)","v":4134},{"$f":"IFERROR(VLOOKUP(ROWS($BW$14:BW4147),$BT$14:$BU$5000,2,0),\"\")","v":0}]
[null,null,null,null,null,null,null,null,null,null,null,null,null,null,null,null,null,null,null,null,null,null,null,null,null,null,null,null,null,null,null,null,null,null,null,null,null,null,null,null,null,null,null,null,null,null,null,null,null,null,null,null,null,null,null,null,null,null,null,null,null,null,null,null,null,null,null,null,null,null,null,{"$f":"IF(ISNUMBER(SEARCH($C$6,BU4163)),MAX($BT$13:BT4162)+1,0)","v":4150},0,{"$f":"ROWS($BV$14:BV4163)","v":4150},{"$f":"IFERROR(VLOOKUP(ROWS($BW$14:BW4163),$BT$14:$BU$5000,2,0),\"\")","v":0}]
[null,null,null,null,null,null,null,null,null,null,null,null,null,null,null,null,null,null,null,null,null,null,null,null,null,null,null,null,null,null,null,null,null,null,null,null,null,null,null,null,null,null,null,null,null,null,null,null,null,null,null,null,null,null,null,null,null,null,null,null,null,null,null,null,null,null,null,null,null,null,null,{"$f":"IF(ISNUMBER(SEARCH($C$6,BU4168)),MAX($BT$13:BT4167)+1,0)","v":4155},0,{"$f":"ROWS($BV$14:BV4168)","v":4155},{"$f":"IFERROR(VLOOKUP(ROWS($BW$14:BW4168),$BT$14:$BU$5000,2,0),\"\")","v":0}]
[null,null,null,null,null,null,null,null,null,null,null,null,null,null,null,null,null,null,null,null,null,null,null,null,null,null,null,null,null,null,null,null,null,null,null,null,null,null,null,null,null,null,null,null,null,null,null,null,null,null,null,null,null,null,null,null,null,null,null,null,null,null,null,null,null,null,null,null,null,null,null,{"$f":"IF(ISNUMBER(SEARCH($C$6,BU4181)),MAX($BT$13:BT4180)+1,0)","v":4168},0,{"$f":"ROWS($BV$14:BV4181)","v":4168},{"$f":"IFERROR(VLOOKUP(ROWS($BW$14:BW4181),$BT$14:$BU$5000,2,0),\"\")","v":0}]
[null,null,null,null,null,null,null,null,null,null,null,null,null,null,null,null,null,null,null,null,null,null,null,null,null,null,null,null,null,null,null,null,null,null,null,null,null,null,null,null,null,null,null,null,null,null,null,null,null,null,null,null,null,null,null,null,null,null,null,null,null,null,null,null,null,null,null,null,null,null,null,{"$f":"IF(ISNUMBER(SEARCH($C$6,BU4184)),MAX($BT$13:BT4183)+1,0)","v":4171},0,{"$f":"ROWS($BV$14:BV4184)","v":4171},{"$f":"IFERROR(VLOOKUP(ROWS($BW$14:BW4184),$BT$14:$BU$5000,2,0),\"\")","v":0}]
[null,null,null,null,null,null,null,null,null,null,null,null,null,null,null,null,null,null,null,null,null,null,null,null,null,null,null,null,null,null,null,null,null,null,null,null,null,null,null,null,null,null,null,null,null,null,null,null,null,null,null,null,null,null,null,null,null,null,null,null,null,null,null,null,null,null,null,null,null,null,null,{"$f":"IF(ISNUMBER(SEARCH($C$6,BU4196)),MAX($BT$13:BT4195)+1,0)","v":4183},0,{"$f":"ROWS($BV$14:BV4196)","v":4183},{"$f":"IFERROR(VLOOKUP(ROWS($BW$14:BW4196),$BT$14:$BU$5000,2,0),\"\")","v":0}]
[null,null,null,null,null,null,null,null,null,null,null,null,null,null,null,null,null,null,null,null,null,null,null,null,null,null,null,null,null,null,null,null,null,null,null,null,null,null,null,null,null,null,null,null,null,null,null,null,null,null,null,null,null,null,null,null,null,null,null,null,null,null,null,null,null,null,null,null,null,null,null,{"$f":"IF(ISNUMBER(SEARCH($C$6,BU4203)),MAX($BT$13:BT4202)+1,0)","v":4190},0,{"$f":"ROWS($BV$14:BV4203)","v":4190},{"$f":"IFERROR(VLOOKUP(ROWS($BW$14:BW4203),$BT$14:$BU$5000,2,0),\"\")","v":0}]
[null,null,null,null,null,null,null,null,null,null,null,null,null,null,null,null,null,null,null,null,null,null,null,null,null,null,null,null,null,null,null,null,null,null,null,null,null,null,null,null,null,null,null,null,null,null,null,null,null,null,null,null,null,null,null,null,null,null,null,null,null,null,null,null,null,null,null,null,null,null,null,{"$f":"IF(ISNUMBER(SEARCH($C$6,BU4209)),MAX($BT$13:BT4208)+1,0)","v":4196},0,{"$f":"ROWS($BV$14:BV4209)","v":4196},{"$f":"IFERROR(VLOOKUP(ROWS($BW$14:BW4209),$BT$14:$BU$5000,2,0),\"\")","v":0}]
[null,null,null,null,null,null,null,null,null,null,null,null,null,null,null,null,null,null,null,null,null,null,null,null,null,null,null,null,null,null,null,null,null,null,null,null,null,null,null,null,null,null,null,null,null,null,null,null,null,null,null,null,null,null,null,null,null,null,null,null,null,null,null,null,null,null,null,null,null,null,null,{"$f":"IF(ISNUMBER(SEARCH($C$6,BU4217)),MAX($BT$13:BT4216)+1,0)","v":4204},0,{"$f":"ROWS($BV$14:BV4217)","v":4204},{"$f":"IFERROR(VLOOKUP(ROWS($BW$14:BW4217),$BT$14:$BU$5000,2,0),\"\")","v":0}]
[null,null,null,null,null,null,null,null,null,null,null,null,null,null,null,null,null,null,null,null,null,null,null,null,null,null,null,null,null,null,null,null,null,null,null,null,null,null,null,null,null,null,null,null,null,null,null,null,null,null,null,null,null,null,null,null,null,null,null,null,null,null,null,null,null,null,null,null,null,null,null,{"$f":"IF(ISNUMBER(SEARCH($C$6,BU4233)),MAX($BT$13:BT4232)+1,0)","v":4220},0,{"$f":"ROWS($BV$14:BV4233)","v":4220},{"$f":"IFERROR(VLOOKUP(ROWS($BW$14:BW4233),$BT$14:$BU$5000,2,0),\"\")","v":0}]
[null,null,null,null,null,null,null,null,null,null,null,null,null,null,null,null,null,null,null,null,null,null,null,null,null,null,null,null,null,null,null,null,null,null,null,null,null,null,null,null,null,null,null,null,null,null,null,null,null,null,null,null,null,null,null,null,null,null,null,null,null,null,null,null,null,null,null,null,null,null,null,{"$f":"IF(ISNUMBER(SEARCH($C$6,BU4236)),MAX($BT$13:BT4235)+1,0)","v":4223},0,{"$f":"ROWS($BV$14:BV4236)","v":4223},{"$f":"IFERROR(VLOOKUP(ROWS($BW$14:BW4236),$BT$14:$BU$5000,2,0),\"\")","v":0}]
[null,null,null,null,null,null,null,null,null,null,null,null,null,null,null,null,null,null,null,null,null,null,null,null,null,null,null,null,null,null,null,null,null,null,null,null,null,null,null,null,null,null,null,null,null,null,null,null,null,null,null,null,null,null,null,null,null,null,null,null,null,null,null,null,null,null,null,null,null,null,null,{"$f":"IF(ISNUMBER(SEARCH($C$6,BU4248)),MAX($BT$13:BT4247)+1,0)","v":4235},0,{"$f":"ROWS($BV$14:BV4248)","v":4235},{"$f":"IFERROR(VLOOKUP(ROWS($BW$14:BW4248),$BT$14:$BU$5000,2,0),\"\")","v":0}]
[null,null,null,null,null,null,null,null,null,null,null,null,null,null,null,null,null,null,null,null,null,null,null,null,null,null,null,null,null,null,null,null,null,null,null,null,null,null,null,null,null,null,null,null,null,null,null,null,null,null,null,null,null,null,null,null,null,null,null,null,null,null,null,null,null,null,null,null,null,null,null,{"$f":"IF(ISNUMBER(SEARCH($C$6,BU4254)),MAX($BT$13:BT4253)+1,0)","v":4241},0,{"$f":"ROWS($BV$14:BV4254)","v":4241},{"$f":"IFERROR(VLOOKUP(ROWS($BW$14:BW4254),$BT$14:$BU$5000,2,0),\"\")","v":0}]
[null,null,null,null,null,null,null,null,null,null,null,null,null,null,null,null,null,null,null,null,null,null,null,null,null,null,null,null,null,null,null,null,null,null,null,null,null,null,null,null,null,null,null,null,null,null,null,null,null,null,null,null,null,null,null,null,null,null,null,null,null,null,null,null,null,null,null,null,null,null,null,{"$f":"IF(ISNUMBER(SEARCH($C$6,BU4266)),MAX($BT$13:BT4265)+1,0)","v":4253},0,{"$f":"ROWS($BV$14:BV4266)","v":4253},{"$f":"IFERROR(VLOOKUP(ROWS($BW$14:BW4266),$BT$14:$BU$5000,2,0),\"\")","v":0}]
[null,null,null,null,null,null,null,null,null,null,null,null,null,null,null,null,null,null,null,null,null,null,null,null,null,null,null,null,null,null,null,null,null,null,null,null,null,null,null,null,null,null,null,null,null,null,null,null,null,null,null,null,null,null,null,null,null,null,null,null,null,null,null,null,null,null,null,null,null,null,null,{"$f":"IF(ISNUMBER(SEARCH($C$6,BU4273)),MAX($BT$13:BT4272)+1,0)","v":4260},0,{"$f":"ROWS($BV$14:BV4273)","v":4260},{"$f":"IFERROR(VLOOKUP(ROWS($BW$14:BW4273),$BT$14:$BU$5000,2,0),\"\")","v":0}]
[null,null,null,null,null,null,null,null,null,null,null,null,null,null,null,null,null,null,null,null,null,null,null,null,null,null,null,null,null,null,null,null,null,null,null,null,null,null,null,null,null,null,null,null,null,null,null,null,null,null,null,null,null,null,null,null,null,null,null,null,null,null,null,null,null,null,null,null,null,null,null,{"$f":"IF(ISNUMBER(SEARCH($C$6,BU4279)),MAX($BT$13:BT4278)+1,0)","v":4266},0,{"$f":"ROWS($BV$14:BV4279)","v":4266},{"$f":"IFERROR(VLOOKUP(ROWS($BW$14:BW4279),$BT$14:$BU$5000,2,0),\"\")","v":0}]
[null,null,null,null,null,null,null,null,null,null,null,null,null,null,null,null,null,null,null,null,null,null,null,null,null,null,null,null,null,null,null,null,null,null,null,null,null,null,null,null,null,null,null,null,null,null,null,null,null,null,null,null,null,null,null,null,null,null,null,null,null,null,null,null,null,null,null,null,null,null,null,{"$f":"IF(ISNUMBER(SEARCH($C$6,BU4291)),MAX($BT$13:BT4290)+1,0)","v":4278},0,{"$f":"ROWS($BV$14:BV4291)","v":4278},{"$f":"IFERROR(VLOOKUP(ROWS($BW$14:BW4291),$BT$14:$BU$5000,2,0),\"\")","v":0}]
[null,null,null,null,null,null,null,null,null,null,null,null,null,null,null,null,null,null,null,null,null,null,null,null,null,null,null,null,null,null,null,null,null,null,null,null,null,null,null,null,null,null,null,null,null,null,null,null,null,null,null,null,null,null,null,null,null,null,null,null,null,null,null,null,null,null,null,null,null,null,null,{"$f":"IF(ISNUMBER(SEARCH($C$6,BU4303)),MAX($BT$13:BT4302)+1,0)","v":4290},0,{"$f":"ROWS($BV$14:BV4303)","v":4290},{"$f":"IFERROR(VLOOKUP(ROWS($BW$14:BW4303),$BT$14:$BU$5000,2,0),\"\")","v":0}]
[null,null,null,null,null,null,null,null,null,null,null,null,null,null,null,null,null,null,null,null,null,null,null,null,null,null,null,null,null,null,null,null,null,null,null,null,null,null,null,null,null,null,null,null,null,null,null,null,null,null,null,null,null,null,null,null,null,null,null,null,null,null,null,null,null,null,null,null,null,null,null,{"$f":"IF(ISNUMBER(SEARCH($C$6,BU4306)),MAX($BT$13:BT4305)+1,0)","v":4293},0,{"$f":"ROWS($BV$14:BV4306)","v":4293},{"$f":"IFERROR(VLOOKUP(ROWS($BW$14:BW4306),$BT$14:$BU$5000,2,0),\"\")","v":0}]
[null,null,null,null,null,null,null,null,null,null,null,null,null,null,null,null,null,null,null,null,null,null,null,null,null,null,null,null,null,null,null,null,null,null,null,null,null,null,null,null,null,null,null,null,null,null,null,null,null,null,null,null,null,null,null,null,null,null,null,null,null,null,null,null,null,null,null,null,null,null,null,{"$f":"IF(ISNUMBER(SEARCH($C$6,BU4318)),MAX($BT$13:BT4317)+1,0)","v":4305},0,{"$f":"ROWS($BV$14:BV4318)","v":4305},{"$f":"IFERROR(VLOOKUP(ROWS($BW$14:BW4318),$BT$14:$BU$5000,2,0),\"\")","v":0}]
[null,null,null,null,null,null,null,null,null,null,null,null,null,null,null,null,null,null,null,null,null,null,null,null,null,null,null,null,null,null,null,null,null,null,null,null,null,null,null,null,null,null,null,null,null,null,null,null,null,null,null,null,null,null,null,null,null,null,null,null,null,null,null,null,null,null,null,null,null,null,null,{"$f":"IF(ISNUMBER(SEARCH($C$6,BU4324)),MAX($BT$13:BT4323)+1,0)","v":4311},0,{"$f":"ROWS($BV$14:BV4324)","v":4311},{"$f":"IFERROR(VLOOKUP(ROWS($BW$14:BW4324),$BT$14:$BU$5000,2,0),\"\")","v":0}]
[null,null,null,null,null,null,null,null,null,null,null,null,null,null,null,null,null,null,null,null,null,null,null,null,null,null,null,null,null,null,null,null,null,null,null,null,null,null,null,null,null,null,null,null,null,null,null,null,null,null,null,null,null,null,null,null,null,null,null,null,null,null,null,null,null,null,null,null,null,null,null,{"$f":"IF(ISNUMBER(SEARCH($C$6,BU4336)),MAX($BT$13:BT4335)+1,0)","v":4323},0,{"$f":"ROWS($BV$14:BV4336)","v":4323},{"$f":"IFERROR(VLOOKUP(ROWS($BW$14:BW4336),$BT$14:$BU$5000,2,0),\"\")","v":0}]
[null,null,null,null,null,null,null,null,null,null,null,null,null,null,null,null,null,null,null,null,null,null,null,null,null,null,null,null,null,null,null,null,null,null,null,null,null,null,null,null,null,null,null,null,null,null,null,null,null,null,null,null,null,null,null,null,null,null,null,null,null,null,null,null,null,null,null,null,null,null,null,{"$f":"IF(ISNUMBER(SEARCH($C$6,BU4343)),MAX($BT$13:BT4342)+1,0)","v":4330},0,{"$f":"ROWS($BV$14:BV4343)","v":4330},{"$f":"IFERROR(VLOOKUP(ROWS($BW$14:BW4343),$BT$14:$BU$5000,2,0),\"\")","v":0}]
[null,null,null,null,null,null,null,null,null,null,null,null,null,null,null,null,null,null,null,null,null,null,null,null,null,null,null,null,null,null,null,null,null,null,null,null,null,null,null,null,null,null,null,null,null,null,null,null,null,null,null,null,null,null,null,null,null,null,null,null,null,null,null,null,null,null,null,null,null,null,null,{"$f":"IF(ISNUMBER(SEARCH($C$6,BU4355)),MAX($BT$13:BT4354)+1,0)","v":4342},0,{"$f":"ROWS($BV$14:BV4355)","v":4342},{"$f":"IFERROR(VLOOKUP(ROWS($BW$14:BW4355),$BT$14:$BU$5000,2,0),\"\")","v":0}]
[null,null,null,null,null,null,null,null,null,null,null,null,null,null,null,null,null,null,null,null,null,null,null,null,null,null,null,null,null,null,null,null,null,null,null,null,null,null,null,null,null,null,null,null,null,null,null,null,null,null,null,null,null,null,null,null,null,null,null,null,null,null,null,null,null,null,null,null,null,null,null,{"$f":"IF(ISNUMBER(SEARCH($C$6,BU4359)),MAX($BT$13:BT4358)+1,0)","v":4346},0,{"$f":"ROWS($BV$14:BV4359)","v":4346},{"$f":"IFERROR(VLOOKUP(ROWS($BW$14:BW4359),$BT$14:$BU$5000,2,0),\"\")","v":0}]
[null,null,null,null,null,null,null,null,null,null,null,null,null,null,null,null,null,null,null,null,null,null,null,null,null,null,null,null,null,null,null,null,null,null,null,null,null,null,null,null,null,null,null,null,null,null,null,null,null,null,null,null,null,null,null,null,null,null,null,null,null,null,null,null,null,null,null,null,null,null,null,{"$f":"IF(ISNUMBER(SEARCH($C$6,BU4373)),MAX($BT$13:BT4372)+1,0)","v":4360},0,{"$f":"ROWS($BV$14:BV4373)","v":4360},{"$f":"IFERROR(VLOOKUP(ROWS($BW$14:BW4373),$BT$14:$BU$5000,2,0),\"\")","v":0}]
[null,null,null,null,null,null,null,null,null,null,null,null,null,null,null,null,null,null,null,null,null,null,null,null,null,null,null,null,null,null,null,null,null,null,null,null,null,null,null,null,null,null,null,null,null,null,null,null,null,null,null,null,null,null,null,null,null,null,null,null,null,null,null,null,null,null,null,null,null,null,null,{"$f":"IF(ISNUMBER(SEARCH($C$6,BU4376)),MAX($BT$13:BT4375)+1,0)","v":4363},0,{"$f":"ROWS($BV$14:BV4376)","v":4363},{"$f":"IFERROR(VLOOKUP(ROWS($BW$14:BW4376),$BT$14:$BU$5000,2,0),\"\")","v":0}]
[null,null,null,null,null,null,null,null,null,null,null,null,null,null,null,null,null,null,null,null,null,null,null,null,null,null,null,null,null,null,null,null,null,null,null,null,null,null,null,null,null,null,null,null,null,null,null,null,null,null,null,null,null,null,null,null,null,null,null,null,null,null,null,null,null,null,null,null,null,null,null,{"$f":"IF(ISNUMBER(SEARCH($C$6,BU4392)),MAX($BT$13:BT4391)+1,0)","v":4379},0,{"$f":"ROWS($BV$14:BV4392)","v":4379},{"$f":"IFERROR(VLOOKUP(ROWS($BW$14:BW4392),$BT$14:$BU$5000,2,0),\"\")","v":0}]
[null,null,null,null,null,null,null,null,null,null,null,null,null,null,null,null,null,null,null,null,null,null,null,null,null,null,null,null,null,null,null,null,null,null,null,null,null,null,null,null,null,null,null,null,null,null,null,null,null,null,null,null,null,null,null,null,null,null,null,null,null,null,null,null,null,null,null,null,null,null,null,{"$f":"IF(ISNUMBER(SEARCH($C$6,BU4398)),MAX($BT$13:BT4397)+1,0)","v":4385},0,{"$f":"ROWS($BV$14:BV4398)","v":4385},{"$f":"IFERROR(VLOOKUP(ROWS($BW$14:BW4398),$BT$14:$BU$5000,2,0),\"\")","v":0}]
[null,null,null,null,null,null,null,null,null,null,null,null,null,null,null,null,null,null,null,null,null,null,null,null,null,null,null,null,null,null,null,null,null,null,null,null,null,null,null,null,null,null,null,null,null,null,null,null,null,null,null,null,null,null,null,null,null,null,null,null,null,null,null,null,null,null,null,null,null,null,null,{"$f":"IF(ISNUMBER(SEARCH($C$6,BU4406)),MAX($BT$13:BT4405)+1,0)","v":4393},0,{"$f":"ROWS($BV$14:BV4406)","v":4393},{"$f":"IFERROR(VLOOKUP(ROWS($BW$14:BW4406),$BT$14:$BU$5000,2,0),\"\")","v":0}]
[null,null,null,null,null,null,null,null,null,null,null,null,null,null,null,null,null,null,null,null,null,null,null,null,null,null,null,null,null,null,null,null,null,null,null,null,null,null,null,null,null,null,null,null,null,null,null,null,null,null,null,null,null,null,null,null,null,null,null,null,null,null,null,null,null,null,null,null,null,null,null,{"$f":"IF(ISNUMBER(SEARCH($C$6,BU4413)),MAX($BT$13:BT4412)+1,0)","v":4400},0,{"$f":"ROWS($BV$14:BV4413)","v":4400},{"$f":"IFERROR(VLOOKUP(ROWS($BW$14:BW4413),$BT$14:$BU$5000,2,0),\"\")","v":0}]
[null,null,null,null,null,null,null,null,null,null,null,null,null,null,null,null,null,null,null,null,null,null,null,null,null,null,null,null,null,null,null,null,null,null,null,null,null,null,null,null,null,null,null,null,null,null,null,null,null,null,null,null,null,null,null,null,null,null,null,null,null,null,null,null,null,null,null,null,null,null,null,{"$f":"IF(ISNUMBER(SEARCH($C$6,BU4425)),MAX($BT$13:BT4424)+1,0)","v":4412},0,{"$f":"ROWS($BV$14:BV4425)","v":4412},{"$f":"IFERROR(VLOOKUP(ROWS($BW$14:BW4425),$BT$14:$BU$5000,2,0),\"\")","v":0}]
[null,null,null,null,null,null,null,null,null,null,null,null,null,null,null,null,null,null,null,null,null,null,null,null,null,null,null,null,null,null,null,null,null,null,null,null,null,null,null,null,null,null,null,null,null,null,null,null,null,null,null,null,null,null,null,null,null,null,null,null,null,null,null,null,null,null,null,null,null,null,null,{"$f":"IF(ISNUMBER(SEARCH($C$6,BU4429)),MAX($BT$13:BT4428)+1,0)","v":4416},0,{"$f":"ROWS($BV$14:BV4429)","v":4416},{"$f":"IFERROR(VLOOKUP(ROWS($BW$14:BW4429),$BT$14:$BU$5000,2,0),\"\")","v":0}]
[null,null,null,null,null,null,null,null,null,null,null,null,null,null,null,null,null,null,null,null,null,null,null,null,null,null,null,null,null,null,null,null,null,null,null,null,null,null,null,null,null,null,null,null,null,null,null,null,null,null,null,null,null,null,null,null,null,null,null,null,null,null,null,null,null,null,null,null,null,null,null,{"$f":"IF(ISNUMBER(SEARCH($C$6,BU4443)),MAX($BT$13:BT4442)+1,0)","v":4430},0,{"$f":"ROWS($BV$14:BV4443)","v":4430},{"$f":"IFERROR(VLOOKUP(ROWS($BW$14:BW4443),$BT$14:$BU$5000,2,0),\"\")","v":0}]
[null,null,null,null,null,null,null,null,null,null,null,null,null,null,null,null,null,null,null,null,null,null,null,null,null,null,null,null,null,null,null,null,null,null,null,null,null,null,null,null,null,null,null,null,null,null,null,null,null,null,null,null,null,null,null,null,null,null,null,null,null,null,null,null,null,null,null,null,null,null,null,{"$f":"IF(ISNUMBER(SEARCH($C$6,BU4446)),MAX($BT$13:BT4445)+1,0)","v":4433},0,{"$f":"ROWS($BV$14:BV4446)","v":4433},{"$f":"IFERROR(VLOOKUP(ROWS($BW$14:BW4446),$BT$14:$BU$5000,2,0),\"\")","v":0}]
[null,null,null,null,null,null,null,null,null,null,null,null,null,null,null,null,null,null,null,null,null,null,null,null,null,null,null,null,null,null,null,null,null,null,null,null,null,null,null,null,null,null,null,null,null,null,null,null,null,null,null,null,null,null,null,null,null,null,null,null,null,null,null,null,null,null,null,null,null,null,null,{"$f":"IF(ISNUMBER(SEARCH($C$6,BU4462)),MAX($BT$13:BT4461)+1,0)","v":4449},0,{"$f":"ROWS($BV$14:BV4462)","v":4449},{"$f":"IFERROR(VLOOKUP(ROWS($BW$14:BW4462),$BT$14:$BU$5000,2,0),\"\")","v":0}]
[null,null,null,null,null,null,null,null,null,null,null,null,null,null,null,null,null,null,null,null,null,null,null,null,null,null,null,null,null,null,null,null,null,null,null,null,null,null,null,null,null,null,null,null,null,null,null,null,null,null,null,null,null,null,null,null,null,null,null,null,null,null,null,null,null,null,null,null,null,null,null,{"$f":"IF(ISNUMBER(SEARCH($C$6,BU4468)),MAX($BT$13:BT4467)+1,0)","v":4455},0,{"$f":"ROWS($BV$14:BV4468)","v":4455},{"$f":"IFERROR(VLOOKUP(ROWS($BW$14:BW4468),$BT$14:$BU$5000,2,0),\"\")","v":0}]
[null,null,null,null,null,null,null,null,null,null,null,null,null,null,null,null,null,null,null,null,null,null,null,null,null,null,null,null,null,null,null,null,null,null,null,null,null,null,null,null,null,null,null,null,null,null,null,null,null,null,null,null,null,null,null,null,null,null,null,null,null,null,null,null,null,null,null,null,null,null,null,{"$f":"IF(ISNUMBER(SEARCH($C$6,BU4471)),MAX($BT$13:BT4470)+1,0)","v":4458},0,{"$f":"ROWS($BV$14:BV4471)","v":4458},{"$f":"IFERROR(VLOOKUP(ROWS($BW$14:BW4471),$BT$14:$BU$5000,2,0),\"\")","v":0}]
[null,null,null,null,null,null,null,null,null,null,null,null,null,null,null,null,null,null,null,null,null,null,null,null,null,null,null,null,null,null,null,null,null,null,null,null,null,null,null,null,null,null,null,null,null,null,null,null,null,null,null,null,null,null,null,null,null,null,null,null,null,null,null,null,null,null,null,null,null,null,null,{"$f":"IF(ISNUMBER(SEARCH($C$6,BU4483)),MAX($BT$13:BT4482)+1,0)","v":4470},0,{"$f":"ROWS($BV$14:BV4483)","v":4470},{"$f":"IFERROR(VLOOKUP(ROWS($BW$14:BW4483),$BT$14:$BU$5000,2,0),\"\")","v":0}]
[null,null,null,null,null,null,null,null,null,null,null,null,null,null,null,null,null,null,null,null,null,null,null,null,null,null,null,null,null,null,null,null,null,null,null,null,null,null,null,null,null,null,null,null,null,null,null,null,null,null,null,null,null,null,null,null,null,null,null,null,null,null,null,null,null,null,null,null,null,null,null,{"$f":"IF(ISNUMBER(SEARCH($C$6,BU4495)),MAX($BT$13:BT4494)+1,0)","v":4482},0,{"$f":"ROWS($BV$14:BV4495)","v":4482},{"$f":"IFERROR(VLOOKUP(ROWS($BW$14:BW4495),$BT$14:$BU$5000,2,0),\"\")","v":0}]
[null,null,null,null,null,null,null,null,null,null,null,null,null,null,null,null,null,null,null,null,null,null,null,null,null,null,null,null,null,null,null,null,null,null,null,null,null,null,null,null,null,null,null,null,null,null,null,null,null,null,null,null,null,null,null,null,null,null,null,null,null,null,null,null,null,null,null,null,null,null,null,{"$f":"IF(ISNUMBER(SEARCH($C$6,BU4502)),MAX($BT$13:BT4501)+1,0)","v":4489},0,{"$f":"ROWS($BV$14:BV4502)","v":4489},{"$f":"IFERROR(VLOOKUP(ROWS($BW$14:BW4502),$BT$14:$BU$5000,2,0),\"\")","v":0}]
[null,null,null,null,null,null,null,null,null,null,null,null,null,null,null,null,null,null,null,null,null,null,null,null,null,null,null,null,null,null,null,null,null,null,null,null,null,null,null,null,null,null,null,null,null,null,null,null,null,null,null,null,null,null,null,null,null,null,null,null,null,null,null,null,null,null,null,null,null,null,null,{"$f":"IF(ISNUMBER(SEARCH($C$6,BU4509)),MAX($BT$13:BT4508)+1,0)","v":4496},0,{"$f":"ROWS($BV$14:BV4509)","v":4496},{"$f":"IFERROR(VLOOKUP(ROWS($BW$14:BW4509),$BT$14:$BU$5000,2,0),\"\")","v":0}]
[null,null,null,null,null,null,null,null,null,null,null,null,null,null,null,null,null,null,null,null,null,null,null,null,null,null,null,null,null,null,null,null,null,null,null,null,null,null,null,null,null,null,null,null,null,null,null,null,null,null,null,null,null,null,null,null,null,null,null,null,null,null,null,null,null,null,null,null,null,null,null,{"$f":"IF(ISNUMBER(SEARCH($C$6,BU4516)),MAX($BT$13:BT4515)+1,0)","v":4503},0,{"$f":"ROWS($BV$14:BV4516)","v":4503},{"$f":"IFERROR(VLOOKUP(ROWS($BW$14:BW4516),$BT$14:$BU$5000,2,0),\"\")","v":0}]
[null,null,null,null,null,null,null,null,null,null,null,null,null,null,null,null,null,null,null,null,null,null,null,null,null,null,null,null,null,null,null,null,null,null,null,null,null,null,null,null,null,null,null,null,null,null,null,null,null,null,null,null,null,null,null,null,null,null,null,null,null,null,null,null,null,null,null,null,null,null,null,{"$f":"IF(ISNUMBER(SEARCH($C$6,BU4532)),MAX($BT$13:BT4531)+1,0)","v":4519},0,{"$f":"ROWS($BV$14:BV4532)","v":4519},{"$f":"IFERROR(VLOOKUP(ROWS($BW$14:BW4532),$BT$14:$BU$5000,2,0),\"\")","v":0}]
[null,null,null,null,null,null,null,null,null,null,null,null,null,null,null,null,null,null,null,null,null,null,null,null,null,null,null,null,null,null,null,null,null,null,null,null,null,null,null,null,null,null,null,null,null,null,null,null,null,null,null,null,null,null,null,null,null,null,null,null,null,null,null,null,null,null,null,null,null,null,null,{"$f":"IF(ISNUMBER(SEARCH($C$6,BU4535)),MAX($BT$13:BT4534)+1,0)","v":4522},0,{"$f":"ROWS($BV$14:BV4535)","v":4522},{"$f":"IFERROR(VLOOKUP(ROWS($BW$14:BW4535),$BT$14:$BU$5000,2,0),\"\")","v":0}]
[null,null,null,null,null,null,null,null,null,null,null,null,null,null,null,null,null,null,null,null,null,null,null,null,null,null,null,null,null,null,null,null,null,null,null,null,null,null,null,null,null,null,null,null,null,null,null,null,null,null,null,null,null,null,null,null,null,null,null,null,null,null,null,null,null,null,null,null,null,null,null,{"$f":"IF(ISNUMBER(SEARCH($C$6,BU4548)),MAX($BT$13:BT4547)+1,0)","v":4535},0,{"$f":"ROWS($BV$14:BV4548)","v":4535},{"$f":"IFERROR(VLOOKUP(ROWS($BW$14:BW4548),$BT$14:$BU$5000,2,0),\"\")","v":0}]
[null,null,null,null,null,null,null,null,null,null,null,null,null,null,null,null,null,null,null,null,null,null,null,null,null,null,null,null,null,null,null,null,null,null,null,null,null,null,null,null,null,null,null,null,null,null,null,null,null,null,null,null,null,null,null,null,null,null,null,null,null,null,null,null,null,null,null,null,null,null,null,{"$f":"IF(ISNUMBER(SEARCH($C$6,BU4553)),MAX($BT$13:BT4552)+1,0)","v":4540},0,{"$f":"ROWS($BV$14:BV4553)","v":4540},{"$f":"IFERROR(VLOOKUP(ROWS($BW$14:BW4553),$BT$14:$BU$5000,2,0),\"\")","v":0}]
[null,null,null,null,null,null,null,null,null,null,null,null,null,null,null,null,null,null,null,null,null,null,null,null,null,null,null,null,null,null,null,null,null,null,null,null,null,null,null,null,null,null,null,null,null,null,null,null,null,null,null,null,null,null,null,null,null,null,null,null,null,null,null,null,null,null,null,null,null,null,null,{"$f":"IF(ISNUMBER(SEARCH($C$6,BU4565)),MAX($BT$13:BT4564)+1,0)","v":4552},0,{"$f":"ROWS($BV$14:BV4565)","v":4552},{"$f":"IFERROR(VLOOKUP(ROWS($BW$14:BW4565),$BT$14:$BU$5000,2,0),\"\")","v":0}]
[null,null,null,null,null,null,null,null,null,null,null,null,null,null,null,null,null,null,null,null,null,null,null,null,null,null,null,null,null,null,null,null,null,null,null,null,null,null,null,null,null,null,null,null,null,null,null,null,null,null,null,null,null,null,null,null,null,null,null,null,null,null,null,null,null,null,null,null,null,null,null,{"$f":"IF(ISNUMBER(SEARCH($C$6,BU4572)),MAX($BT$13:BT4571)+1,0)","v":4559},0,{"$f":"ROWS($BV$14:BV4572)","v":4559},{"$f":"IFERROR(VLOOKUP(ROWS($BW$14:BW4572),$BT$14:$BU$5000,2,0),\"\")","v":0}]
[null,null,null,null,null,null,null,null,null,null,null,null,null,null,null,null,null,null,null,null,null,null,null,null,null,null,null,null,null,null,null,null,null,null,null,null,null,null,null,null,null,null,null,null,null,null,null,null,null,null,null,null,null,null,null,null,null,null,null,null,null,null,null,null,null,null,null,null,null,null,null,{"$f":"IF(ISNUMBER(SEARCH($C$6,BU4579)),MAX($BT$13:BT4578)+1,0)","v":4566},0,{"$f":"ROWS($BV$14:BV4579)","v":4566},{"$f":"IFERROR(VLOOKUP(ROWS($BW$14:BW4579),$BT$14:$BU$5000,2,0),\"\")","v":0}]
[null,null,null,null,null,null,null,null,null,null,null,null,null,null,null,null,null,null,null,null,null,null,null,null,null,null,null,null,null,null,null,null,null,null,null,null,null,null,null,null,null,null,null,null,null,null,null,null,null,null,null,null,null,null,null,null,null,null,null,null,null,null,null,null,null,null,null,null,null,null,null,{"$f":"IF(ISNUMBER(SEARCH($C$6,BU4586)),MAX($BT$13:BT4585)+1,0)","v":4573},0,{"$f":"ROWS($BV$14:BV4586)","v":4573},{"$f":"IFERROR(VLOOKUP(ROWS($BW$14:BW4586),$BT$14:$BU$5000,2,0),\"\")","v":0}]
[null,null,null,null,null,null,null,null,null,null,null,null,null,null,null,null,null,null,null,null,null,null,null,null,null,null,null,null,null,null,null,null,null,null,null,null,null,null,null,null,null,null,null,null,null,null,null,null,null,null,null,null,null,null,null,null,null,null,null,null,null,null,null,null,null,null,null,null,null,null,null,{"$f":"IF(ISNUMBER(SEARCH($C$6,BU4602)),MAX($BT$13:BT4601)+1,0)","v":4589},0,{"$f":"ROWS($BV$14:BV4602)","v":4589},{"$f":"IFERROR(VLOOKUP(ROWS($BW$14:BW4602),$BT$14:$BU$5000,2,0),\"\")","v":0}]
[null,null,null,null,null,null,null,null,null,null,null,null,null,null,null,null,null,null,null,null,null,null,null,null,null,null,null,null,null,null,null,null,null,null,null,null,null,null,null,null,null,null,null,null,null,null,null,null,null,null,null,null,null,null,null,null,null,null,null,null,null,null,null,null,null,null,null,null,null,null,null,{"$f":"IF(ISNUMBER(SEARCH($C$6,BU4605)),MAX($BT$13:BT4604)+1,0)","v":4592},0,{"$f":"ROWS($BV$14:BV4605)","v":4592},{"$f":"IFERROR(VLOOKUP(ROWS($BW$14:BW4605),$BT$14:$BU$5000,2,0),\"\")","v":0}]
[null,null,null,null,null,null,null,null,null,null,null,null,null,null,null,null,null,null,null,null,null,null,null,null,null,null,null,null,null,null,null,null,null,null,null,null,null,null,null,null,null,null,null,null,null,null,null,null,null,null,null,null,null,null,null,null,null,null,null,null,null,null,null,null,null,null,null,null,null,null,null,{"$f":"IF(ISNUMBER(SEARCH($C$6,BU4612)),MAX($BT$13:BT4611)+1,0)","v":4599},0,{"$f":"ROWS($BV$14:BV4612)","v":4599},{"$f":"IFERROR(VLOOKUP(ROWS($BW$14:BW4612),$BT$14:$BU$5000,2,0),\"\")","v":0}]
[null,null,null,null,null,null,null,null,null,null,null,null,null,null,null,null,null,null,null,null,null,null,null,null,null,null,null,null,null,null,null,null,null,null,null,null,null,null,null,null,null,null,null,null,null,null,null,null,null,null,null,null,null,null,null,null,null,null,null,null,null,null,null,null,null,null,null,null,null,null,null,{"$f":"IF(ISNUMBER(SEARCH($C$6,BU4628)),MAX($BT$13:BT4627)+1,0)","v":4615},0,{"$f":"ROWS($BV$14:BV4628)","v":4615},{"$f":"IFERROR(VLOOKUP(ROWS($BW$14:BW4628),$BT$14:$BU$5000,2,0),\"\")","v":0}]
[null,null,null,null,null,null,null,null,null,null,null,null,null,null,null,null,null,null,null,null,null,null,null,null,null,null,null,null,null,null,null,null,null,null,null,null,null,null,null,null,null,null,null,null,null,null,null,null,null,null,null,null,null,null,null,null,null,null,null,null,null,null,null,null,null,null,null,null,null,null,null,{"$f":"IF(ISNUMBER(SEARCH($C$6,BU4635)),MAX($BT$13:BT4634)+1,0)","v":4622},0,{"$f":"ROWS($BV$14:BV4635)","v":4622},{"$f":"IFERROR(VLOOKUP(ROWS($BW$14:BW4635),$BT$14:$BU$5000,2,0),\"\")","v":0}]
[null,null,null,null,null,null,null,null,null,null,null,null,null,null,null,null,null,null,null,null,null,null,null,null,null,null,null,null,null,null,null,null,null,null,null,null,null,null,null,null,null,null,null,null,null,null,null,null,null,null,null,null,null,null,null,null,null,null,null,null,null,null,null,null,null,null,null,null,null,null,null,{"$f":"IF(ISNUMBER(SEARCH($C$6,BU4642)),MAX($BT$13:BT4641)+1,0)","v":4629},0,{"$f":"ROWS($BV$14:BV4642)","v":4629},{"$f":"IFERROR(VLOOKUP(ROWS($BW$14:BW4642),$BT$14:$BU$5000,2,0),\"\")","v":0}]
[null,null,null,null,null,null,null,null,null,null,null,null,null,null,null,null,null,null,null,null,null,null,null,null,null,null,null,null,null,null,null,null,null,null,null,null,null,null,null,null,null,null,null,null,null,null,null,null,null,null,null,null,null,null,null,null,null,null,null,null,null,null,null,null,null,null,null,null,null,null,null,{"$f":"IF(ISNUMBER(SEARCH($C$6,BU4654)),MAX($BT$13:BT4653)+1,0)","v":4641},0,{"$f":"ROWS($BV$14:BV4654)","v":4641},{"$f":"IFERROR(VLOOKUP(ROWS($BW$14:BW4654),$BT$14:$BU$5000,2,0),\"\")","v":0}]
[null,null,null,null,null,null,null,null,null,null,null,null,null,null,null,null,null,null,null,null,null,null,null,null,null,null,null,null,null,null,null,null,null,null,null,null,null,null,null,null,null,null,null,null,null,null,null,null,null,null,null,null,null,null,null,null,null,null,null,null,null,null,null,null,null,null,null,null,null,null,null,{"$f":"IF(ISNUMBER(SEARCH($C$6,BU4659)),MAX($BT$13:BT4658)+1,0)","v":4646},0,{"$f":"ROWS($BV$14:BV4659)","v":4646},{"$f":"IFERROR(VLOOKUP(ROWS($BW$14:BW4659),$BT$14:$BU$5000,2,0),\"\")","v":0}]
[null,null,null,null,null,null,null,null,null,null,null,null,null,null,null,null,null,null,null,null,null,null,null,null,null,null,null,null,null,null,null,null,null,null,null,null,null,null,null,null,null,null,null,null,null,null,null,null,null,null,null,null,null,null,null,null,null,null,null,null,null,null,null,null,null,null,null,null,null,null,null,{"$f":"IF(ISNUMBER(SEARCH($C$6,BU4672)),MAX($BT$13:BT4671)+1,0)","v":4659},0,{"$f":"ROWS($BV$14:BV4672)","v":4659},{"$f":"IFERROR(VLOOKUP(ROWS($BW$14:BW4672),$BT$14:$BU$5000,2,0),\"\")","v":0}]
[null,null,null,null,null,null,null,null,null,null,null,null,null,null,null,null,null,null,null,null,null,null,null,null,null,null,null,null,null,null,null,null,null,null,null,null,null,null,null,null,null,null,null,null,null,null,null,null,null,null,null,null,null,null,null,null,null,null,null,null,null,null,null,null,null,null,null,null,null,null,null,{"$f":"IF(ISNUMBER(SEARCH($C$6,BU4675)),MAX($BT$13:BT4674)+1,0)","v":4662},0,{"$f":"ROWS($BV$14:BV4675)","v":4662},{"$f":"IFERROR(VLOOKUP(ROWS($BW$14:BW4675),$BT$14:$BU$5000,2,0),\"\")","v":0}]
[null,null,null,null,null,null,null,null,null,null,null,null,null,null,null,null,null,null,null,null,null,null,null,null,null,null,null,null,null,null,null,null,null,null,null,null,null,null,null,null,null,null,null,null,null,null,null,null,null,null,null,null,null,null,null,null,null,null,null,null,null,null,null,null,null,null,null,null,null,null,null,{"$f":"IF(ISNUMBER(SEARCH($C$6,BU4682)),MAX($BT$13:BT4681)+1,0)","v":4669},0,{"$f":"ROWS($BV$14:BV4682)","v":4669},{"$f":"IFERROR(VLOOKUP(ROWS($BW$14:BW4682),$BT$14:$BU$5000,2,0),\"\")","v":0}]
[null,null,null,null,null,null,null,null,null,null,null,null,null,null,null,null,null,null,null,null,null,null,null,null,null,null,null,null,null,null,null,null,null,null,null,null,null,null,null,null,null,null,null,null,null,null,null,null,null,null,null,null,null,null,null,null,null,null,null,null,null,null,null,null,null,null,null,null,null,null,null,{"$f":"IF(ISNUMBER(SEARCH($C$6,BU4698)),MAX($BT$13:BT4697)+1,0)","v":4685},0,{"$f":"ROWS($BV$14:BV4698)","v":4685},{"$f":"IFERROR(VLOOKUP(ROWS($BW$14:BW4698),$BT$14:$BU$5000,2,0),\"\")","v":0}]
[null,null,null,null,null,null,null,null,null,null,null,null,null,null,null,null,null,null,null,null,null,null,null,null,null,null,null,null,null,null,null,null,null,null,null,null,null,null,null,null,null,null,null,null,null,null,null,null,null,null,null,null,null,null,null,null,null,null,null,null,null,null,null,null,null,null,null,null,null,null,null,{"$f":"IF(ISNUMBER(SEARCH($C$6,BU4705)),MAX($BT$13:BT4704)+1,0)","v":4692},0,{"$f":"ROWS($BV$14:BV4705)","v":4692},{"$f":"IFERROR(VLOOKUP(ROWS($BW$14:BW4705),$BT$14:$BU$5000,2,0),\"\")","v":0}]
[null,null,null,null,null,null,null,null,null,null,null,null,null,null,null,null,null,null,null,null,null,null,null,null,null,null,null,null,null,null,null,null,null,null,null,null,null,null,null,null,null,null,null,null,null,null,null,null,null,null,null,null,null,null,null,null,null,null,null,null,null,null,null,null,null,null,null,null,null,null,null,{"$f":"IF(ISNUMBER(SEARCH($C$6,BU4712)),MAX($BT$13:BT4711)+1,0)","v":4699},0,{"$f":"ROWS($BV$14:BV4712)","v":4699},{"$f":"IFERROR(VLOOKUP(ROWS($BW$14:BW4712),$BT$14:$BU$5000,2,0),\"\")","v":0}]
[null,null,null,null,null,null,null,null,null,null,null,null,null,null,null,null,null,null,null,null,null,null,null,null,null,null,null,null,null,null,null,null,null,null,null,null,null,null,null,null,null,null,null,null,null,null,null,null,null,null,null,null,null,null,null,null,null,null,null,null,null,null,null,null,null,null,null,null,null,null,null,{"$f":"IF(ISNUMBER(SEARCH($C$6,BU4724)),MAX($BT$13:BT4723)+1,0)","v":4711},0,{"$f":"ROWS($BV$14:BV4724)","v":4711},{"$f":"IFERROR(VLOOKUP(ROWS($BW$14:BW4724),$BT$14:$BU$5000,2,0),\"\")","v":0}]
[null,null,null,null,null,null,null,null,null,null,null,null,null,null,null,null,null,null,null,null,null,null,null,null,null,null,null,null,null,null,null,null,null,null,null,null,null,null,null,null,null,null,null,null,null,null,null,null,null,null,null,null,null,null,null,null,null,null,null,null,null,null,null,null,null,null,null,null,null,null,null,{"$f":"IF(ISNUMBER(SEARCH($C$6,BU4729)),MAX($BT$13:BT4728)+1,0)","v":4716},0,{"$f":"ROWS($BV$14:BV4729)","v":4716},{"$f":"IFERROR(VLOOKUP(ROWS($BW$14:BW4729),$BT$14:$BU$5000,2,0),\"\")","v":0}]
[null,null,null,null,null,null,null,null,null,null,null,null,null,null,null,null,null,null,null,null,null,null,null,null,null,null,null,null,null,null,null,null,null,null,null,null,null,null,null,null,null,null,null,null,null,null,null,null,null,null,null,null,null,null,null,null,null,null,null,null,null,null,null,null,null,null,null,null,null,null,null,{"$f":"IF(ISNUMBER(SEARCH($C$6,BU4742)),MAX($BT$13:BT4741)+1,0)","v":4729},0,{"$f":"ROWS($BV$14:BV4742)","v":4729},{"$f":"IFERROR(VLOOKUP(ROWS($BW$14:BW4742),$BT$14:$BU$5000,2,0),\"\")","v":0}]
[null,null,null,null,null,null,null,null,null,null,null,null,null,null,null,null,null,null,null,null,null,null,null,null,null,null,null,null,null,null,null,null,null,null,null,null,null,null,null,null,null,null,null,null,null,null,null,null,null,null,null,null,null,null,null,null,null,null,null,null,null,null,null,null,null,null,null,null,null,null,null,{"$f":"IF(ISNUMBER(SEARCH($C$6,BU4745)),MAX($BT$13:BT4744)+1,0)","v":4732},0,{"$f":"ROWS($BV$14:BV4745)","v":4732},{"$f":"IFERROR(VLOOKUP(ROWS($BW$14:BW4745),$BT$14:$BU$5000,2,0),\"\")","v":0}]
[null,null,null,null,null,null,null,null,null,null,null,null,null,null,null,null,null,null,null,null,null,null,null,null,null,null,null,null,null,null,null,null,null,null,null,null,null,null,null,null,null,null,null,null,null,null,null,null,null,null,null,null,null,null,null,null,null,null,null,null,null,null,null,null,null,null,null,null,null,null,null,{"$f":"IF(ISNUMBER(SEARCH($C$6,BU4752)),MAX($BT$13:BT4751)+1,0)","v":4739},0,{"$f":"ROWS($BV$14:BV4752)","v":4739},{"$f":"IFERROR(VLOOKUP(ROWS($BW$14:BW4752),$BT$14:$BU$5000,2,0),\"\")","v":0}]
[null,null,null,null,null,null,null,null,null,null,null,null,null,null,null,null,null,null,null,null,null,null,null,null,null,null,null,null,null,null,null,null,null,null,null,null,null,null,null,null,null,null,null,null,null,null,null,null,null,null,null,null,null,null,null,null,null,null,null,null,null,null,null,null,null,null,null,null,null,null,null,{"$f":"IF(ISNUMBER(SEARCH($C$6,BU4764)),MAX($BT$13:BT4763)+1,0)","v":4751},0,{"$f":"ROWS($BV$14:BV4764)","v":4751},{"$f":"IFERROR(VLOOKUP(ROWS($BW$14:BW4764),$BT$14:$BU$5000,2,0),\"\")","v":0}]
[null,null,null,null,null,null,null,null,null,null,null,null,null,null,null,null,null,null,null,null,null,null,null,null,null,null,null,null,null,null,null,null,null,null,null,null,null,null,null,null,null,null,null,null,null,null,null,null,null,null,null,null,null,null,null,null,null,null,null,null,null,null,null,null,null,null,null,null,null,null,null,{"$f":"IF(ISNUMBER(SEARCH($C$6,BU4770)),MAX($BT$13:BT4769)+1,0)","v":4757},0,{"$f":"ROWS($BV$14:BV4770)","v":4757},{"$f":"IFERROR(VLOOKUP(ROWS($BW$14:BW4770),$BT$14:$BU$5000,2,0),\"\")","v":0}]
[null,null,null,null,null,null,null,null,null,null,null,null,null,null,null,null,null,null,null,null,null,null,null,null,null,null,null,null,null,null,null,null,null,null,null,null,null,null,null,null,null,null,null,null,null,null,null,null,null,null,null,null,null,null,null,null,null,null,null,null,null,null,null,null,null,null,null,null,null,null,null,{"$f":"IF(ISNUMBER(SEARCH($C$6,BU4782)),MAX($BT$13:BT4781)+1,0)","v":4769},0,{"$f":"ROWS($BV$14:BV4782)","v":4769},{"$f":"IFERROR(VLOOKUP(ROWS($BW$14:BW4782),$BT$14:$BU$5000,2,0),\"\")","v":0}]
[null,null,null,null,null,null,null,null,null,null,null,null,null,null,null,null,null,null,null,null,null,null,null,null,null,null,null,null,null,null,null,null,null,null,null,null,null,null,null,null,null,null,null,null,null,null,null,null,null,null,null,null,null,null,null,null,null,null,null,null,null,null,null,null,null,null,null,null,null,null,null,{"$f":"IF(ISNUMBER(SEARCH($C$6,BU4794)),MAX($BT$13:BT4793)+1,0)","v":4781},0,{"$f":"ROWS($BV$14:BV4794)","v":4781},{"$f":"IFERROR(VLOOKUP(ROWS($BW$14:BW4794),$BT$14:$BU$5000,2,0),\"\")","v":0}]
[null,null,null,null,null,null,null,null,null,null,null,null,null,null,null,null,null,null,null,null,null,null,null,null,null,null,null,null,null,null,null,null,null,null,null,null,null,null,null,null,null,null,null,null,null,null,null,null,null,null,null,null,null,null,null,null,null,null,null,null,null,null,null,null,null,null,null,null,null,null,null,{"$f":"IF(ISNUMBER(SEARCH($C$6,BU4801)),MAX($BT$13:BT4800)+1,0)","v":4788},0,{"$f":"ROWS($BV$14:BV4801)","v":4788},{"$f":"IFERROR(VLOOKUP(ROWS($BW$14:BW4801),$BT$14:$BU$5000,2,0),\"\")","v":0}]
[null,null,null,null,null,null,null,null,null,null,null,null,null,null,null,null,null,null,null,null,null,null,null,null,null,null,null,null,null,null,null,null,null,null,null,null,null,null,null,null,null,null,null,null,null,null,null,null,null,null,null,null,null,null,null,null,null,null,null,null,null,null,null,null,null,null,null,null,null,null,null,{"$f":"IF(ISNUMBER(SEARCH($C$6,BU4809)),MAX($BT$13:BT4808)+1,0)","v":4796},0,{"$f":"ROWS($BV$14:BV4809)","v":4796},{"$f":"IFERROR(VLOOKUP(ROWS($BW$14:BW4809),$BT$14:$BU$5000,2,0),\"\")","v":0}]
[null,null,null,null,null,null,null,null,null,null,null,null,null,null,null,null,null,null,null,null,null,null,null,null,null,null,null,null,null,null,null,null,null,null,null,null,null,null,null,null,null,null,null,null,null,null,null,null,null,null,null,null,null,null,null,null,null,null,null,null,null,null,null,null,null,null,null,null,null,null,null,{"$f":"IF(ISNUMBER(SEARCH($C$6,BU4815)),MAX($BT$13:BT4814)+1,0)","v":4802},0,{"$f":"ROWS($BV$14:BV4815)","v":4802},{"$f":"IFERROR(VLOOKUP(ROWS($BW$14:BW4815),$BT$14:$BU$5000,2,0),\"\")","v":0}]
[null,null,null,null,null,null,null,null,null,null,null,null,null,null,null,null,null,null,null,null,null,null,null,null,null,null,null,null,null,null,null,null,null,null,null,null,null,null,null,null,null,null,null,null,null,null,null,null,null,null,null,null,null,null,null,null,null,null,null,null,null,null,null,null,null,null,null,null,null,null,null,{"$f":"IF(ISNUMBER(SEARCH($C$6,BU4822)),MAX($BT$13:BT4821)+1,0)","v":4809},0,{"$f":"ROWS($BV$14:BV4822)","v":4809},{"$f":"IFERROR(VLOOKUP(ROWS($BW$14:BW4822),$BT$14:$BU$5000,2,0),\"\")","v":0}]
[null,null,null,null,null,null,null,null,null,null,null,null,null,null,null,null,null,null,null,null,null,null,null,null,null,null,null,null,null,null,null,null,null,null,null,null,null,null,null,null,null,null,null,null,null,null,null,null,null,null,null,null,null,null,null,null,null,null,null,null,null,null,null,null,null,null,null,null,null,null,null,{"$f":"IF(ISNUMBER(SEARCH($C$6,BU4834)),MAX($BT$13:BT4833)+1,0)","v":4821},0,{"$f":"ROWS($BV$14:BV4834)","v":4821},{"$f":"IFERROR(VLOOKUP(ROWS($BW$14:BW4834),$BT$14:$BU$5000,2,0),\"\")","v":0}]
[null,null,null,null,null,null,null,null,null,null,null,null,null,null,null,null,null,null,null,null,null,null,null,null,null,null,null,null,null,null,null,null,null,null,null,null,null,null,null,null,null,null,null,null,null,null,null,null,null,null,null,null,null,null,null,null,null,null,null,null,null,null,null,null,null,null,null,null,null,null,null,{"$f":"IF(ISNUMBER(SEARCH($C$6,BU4840)),MAX($BT$13:BT4839)+1,0)","v":4827},0,{"$f":"ROWS($BV$14:BV4840)","v":4827},{"$f":"IFERROR(VLOOKUP(ROWS($BW$14:BW4840),$BT$14:$BU$5000,2,0),\"\")","v":0}]
[null,null,null,null,null,null,null,null,null,null,null,null,null,null,null,null,null,null,null,null,null,null,null,null,null,null,null,null,null,null,null,null,null,null,null,null,null,null,null,null,null,null,null,null,null,null,null,null,null,null,null,null,null,null,null,null,null,null,null,null,null,null,null,null,null,null,null,null,null,null,null,{"$f":"IF(ISNUMBER(SEARCH($C$6,BU4852)),MAX($BT$13:BT4851)+1,0)","v":4839},0,{"$f":"ROWS($BV$14:BV4852)","v":4839},{"$f":"IFERROR(VLOOKUP(ROWS($BW$14:BW4852),$BT$14:$BU$5000,2,0),\"\")","v":0}]
[null,null,null,null,null,null,null,null,null,null,null,null,null,null,null,null,null,null,null,null,null,null,null,null,null,null,null,null,null,null,null,null,null,null,null,null,null,null,null,null,null,null,null,null,null,null,null,null,null,null,null,null,null,null,null,null,null,null,null,null,null,null,null,null,null,null,null,null,null,null,null,{"$f":"IF(ISNUMBER(SEARCH($C$6,BU4864)),MAX($BT$13:BT4863)+1,0)","v":4851},0,{"$f":"ROWS($BV$14:BV4864)","v":4851},{"$f":"IFERROR(VLOOKUP(ROWS($BW$14:BW4864),$BT$14:$BU$5000,2,0),\"\")","v":0}]
[null,null,null,null,null,null,null,null,null,null,null,null,null,null,null,null,null,null,null,null,null,null,null,null,null,null,null,null,null,null,null,null,null,null,null,null,null,null,null,null,null,null,null,null,null,null,null,null,null,null,null,null,null,null,null,null,null,null,null,null,null,null,null,null,null,null,null,null,null,null,null,{"$f":"IF(ISNUMBER(SEARCH($C$6,BU4871)),MAX($BT$13:BT4870)+1,0)","v":4858},0,{"$f":"ROWS($BV$14:BV4871)","v":4858},{"$f":"IFERROR(VLOOKUP(ROWS($BW$14:BW4871),$BT$14:$BU$5000,2,0),\"\")","v":0}]
[null,null,null,null,null,null,null,null,null,null,null,null,null,null,null,null,null,null,null,null,null,null,null,null,null,null,null,null,null,null,null,null,null,null,null,null,null,null,null,null,null,null,null,null,null,null,null,null,null,null,null,null,null,null,null,null,null,null,null,null,null,null,null,null,null,null,null,null,null,null,null,{"$f":"IF(ISNUMBER(SEARCH($C$6,BU4883)),MAX($BT$13:BT4882)+1,0)","v":4870},0,{"$f":"ROWS($BV$14:BV4883)","v":4870},{"$f":"IFERROR(VLOOKUP(ROWS($BW$14:BW4883),$BT$14:$BU$5000,2,0),\"\")","v":0}]
[null,null,null,null,null,null,null,null,null,null,null,null,null,null,null,null,null,null,null,null,null,null,null,null,null,null,null,null,null,null,null,null,null,null,null,null,null,null,null,null,null,null,null,null,null,null,null,null,null,null,null,null,null,null,null,null,null,null,null,null,null,null,null,null,null,null,null,null,null,null,null,{"$f":"IF(ISNUMBER(SEARCH($C$6,BU4884)),MAX($BT$13:BT4883)+1,0)","v":4871},0,{"$f":"ROWS($BV$14:BV4884)","v":4871},{"$f":"IFERROR(VLOOKUP(ROWS($BW$14:BW4884),$BT$14:$BU$5000,2,0),\"\")","v":0}]
[null,null,null,null,null,null,null,null,null,null,null,null,null,null,null,null,null,null,null,null,null,null,null,null,null,null,null,null,null,null,null,null,null,null,null,null,null,null,null,null,null,null,null,null,null,null,null,null,null,null,null,null,null,null,null,null,null,null,null,null,null,null,null,null,null,null,null,null,null,null,null,{"$f":"IF(ISNUMBER(SEARCH($C$6,BU4885)),MAX($BT$13:BT4884)+1,0)","v":4872},0,{"$f":"ROWS($BV$14:BV4885)","v":4872},{"$f":"IFERROR(VLOOKUP(ROWS($BW$14:BW4885),$BT$14:$BU$5000,2,0),\"\")","v":0}]
[null,null,null,null,null,null,null,null,null,null,null,null,null,null,null,null,null,null,null,null,null,null,null,null,null,null,null,null,null,null,null,null,null,null,null,null,null,null,null,null,null,null,null,null,null,null,null,null,null,null,null,null,null,null,null,null,null,null,null,null,null,null,null,null,null,null,null,null,null,null,null,{"$f":"IF(ISNUMBER(SEARCH($C$6,BU4886)),MAX($BT$13:BT4885)+1,0)","v":4873},0,{"$f":"ROWS($BV$14:BV4886)","v":4873},{"$f":"IFERROR(VLOOKUP(ROWS($BW$14:BW4886),$BT$14:$BU$5000,2,0),\"\")","v":0}]
[null,null,null,null,null,null,null,null,null,null,null,null,null,null,null,null,null,null,null,null,null,null,null,null,null,null,null,null,null,null,null,null,null,null,null,null,null,null,null,null,null,null,null,null,null,null,null,null,null,null,null,null,null,null,null,null,null,null,null,null,null,null,null,null,null,null,null,null,null,null,null,{"$f":"IF(ISNUMBER(SEARCH($C$6,BU4887)),MAX($BT$13:BT4886)+1,0)","v":4874},0,{"$f":"ROWS($BV$14:BV4887)","v":4874},{"$f":"IFERROR(VLOOKUP(ROWS($BW$14:BW4887),$BT$14:$BU$5000,2,0),\"\")","v":0}]
[null,null,null,null,null,null,null,null,null,null,null,null,null,null,null,null,null,null,null,null,null,null,null,null,null,null,null,null,null,null,null,null,null,null,null,null,null,null,null,null,null,null,null,null,null,null,null,null,null,null,null,null,null,null,null,null,null,null,null,null,null,null,null,null,null,null,null,null,null,null,null,{"$f":"IF(ISNUMBER(SEARCH($C$6,BU4888)),MAX($BT$13:BT4887)+1,0)","v":4875},0,{"$f":"ROWS($BV$14:BV4888)","v":4875},{"$f":"IFERROR(VLOOKUP(ROWS($BW$14:BW4888),$BT$14:$BU$5000,2,0),\"\")","v":0}]
[null,null,null,null,null,null,null,null,null,null,null,null,null,null,null,null,null,null,null,null,null,null,null,null,null,null,null,null,null,null,null,null,null,null,null,null,null,null,null,null,null,null,null,null,null,null,null,null,null,null,null,null,null,null,null,null,null,null,null,null,null,null,null,null,null,null,null,null,null,null,null,{"$f":"IF(ISNUMBER(SEARCH($C$6,BU4889)),MAX($BT$13:BT4888)+1,0)","v":4876},0,{"$f":"ROWS($BV$14:BV4889)","v":4876},{"$f":"IFERROR(VLOOKUP(ROWS($BW$14:BW4889),$BT$14:$BU$5000,2,0),\"\")","v":0}]
[null,null,null,null,null,null,null,null,null,null,null,null,null,null,null,null,null,null,null,null,null,null,null,null,null,null,null,null,null,null,null,null,null,null,null,null,null,null,null,null,null,null,null,null,null,null,null,null,null,null,null,null,null,null,null,null,null,null,null,null,null,null,null,null,null,null,null,null,null,null,null,{"$f":"IF(ISNUMBER(SEARCH($C$6,BU4890)),MAX($BT$13:BT4889)+1,0)","v":4877},0,{"$f":"ROWS($BV$14:BV4890)","v":4877},{"$f":"IFERROR(VLOOKUP(ROWS($BW$14:BW4890),$BT$14:$BU$5000,2,0),\"\")","v":0}]
[null,null,null,null,null,null,null,null,null,null,null,null,null,null,null,null,null,null,null,null,null,null,null,null,null,null,null,null,null,null,null,null,null,null,null,null,null,null,null,null,null,null,null,null,null,null,null,null,null,null,null,null,null,null,null,null,null,null,null,null,null,null,null,null,null,null,null,null,null,null,null,{"$f":"IF(ISNUMBER(SEARCH($C$6,BU4891)),MAX($BT$13:BT4890)+1,0)","v":4878},0,{"$f":"ROWS($BV$14:BV4891)","v":4878},{"$f":"IFERROR(VLOOKUP(ROWS($BW$14:BW4891),$BT$14:$BU$5000,2,0),\"\")","v":0}]
[null,null,null,null,null,null,null,null,null,null,null,null,null,null,null,null,null,null,null,null,null,null,null,null,null,null,null,null,null,null,null,null,null,null,null,null,null,null,null,null,null,null,null,null,null,null,null,null,null,null,null,null,null,null,null,null,null,null,null,null,null,null,null,null,null,null,null,null,null,null,null,{"$f":"IF(ISNUMBER(SEARCH($C$6,BU4892)),MAX($BT$13:BT4891)+1,0)","v":4879},0,{"$f":"ROWS($BV$14:BV4892)","v":4879},{"$f":"IFERROR(VLOOKUP(ROWS($BW$14:BW4892),$BT$14:$BU$5000,2,0),\"\")","v":0}]
[null,null,null,null,null,null,null,null,null,null,null,null,null,null,null,null,null,null,null,null,null,null,null,null,null,null,null,null,null,null,null,null,null,null,null,null,null,null,null,null,null,null,null,null,null,null,null,null,null,null,null,null,null,null,null,null,null,null,null,null,null,null,null,null,null,null,null,null,null,null,null,{"$f":"IF(ISNUMBER(SEARCH($C$6,BU4893)),MAX($BT$13:BT4892)+1,0)","v":4880},0,{"$f":"ROWS($BV$14:BV4893)","v":4880},{"$f":"IFERROR(VLOOKUP(ROWS($BW$14:BW4893),$BT$14:$BU$5000,2,0),\"\")","v":0}]
[null,null,null,null,null,null,null,null,null,null,null,null,null,null,null,null,null,null,null,null,null,null,null,null,null,null,null,null,null,null,null,null,null,null,null,null,null,null,null,null,null,null,null,null,null,null,null,null,null,null,null,null,null,null,null,null,null,null,null,null,null,null,null,null,null,null,null,null,null,null,null,{"$f":"IF(ISNUMBER(SEARCH($C$6,BU4894)),MAX($BT$13:BT4893)+1,0)","v":4881},0,{"$f":"ROWS($BV$14:BV4894)","v":4881},{"$f":"IFERROR(VLOOKUP(ROWS($BW$14:BW4894),$BT$14:$BU$5000,2,0),\"\")","v":0}]
[null,null,null,null,null,null,null,null,null,null,null,null,null,null,null,null,null,null,null,null,null,null,null,null,null,null,null,null,null,null,null,null,null,null,null,null,null,null,null,null,null,null,null,null,null,null,null,null,null,null,null,null,null,null,null,null,null,null,null,null,null,null,null,null,null,null,null,null,null,null,null,{"$f":"IF(ISNUMBER(SEARCH($C$6,BU4895)),MAX($BT$13:BT4894)+1,0)","v":4882},0,{"$f":"ROWS($BV$14:BV4895)","v":4882},{"$f":"IFERROR(VLOOKUP(ROWS($BW$14:BW4895),$BT$14:$BU$5000,2,0),\"\")","v":0}]
[null,null,null,null,null,null,null,null,null,null,null,null,null,null,null,null,null,null,null,null,null,null,null,null,null,null,null,null,null,null,null,null,null,null,null,null,null,null,null,null,null,null,null,null,null,null,null,null,null,null,null,null,null,null,null,null,null,null,null,null,null,null,null,null,null,null,null,null,null,null,null,{"$f":"IF(ISNUMBER(SEARCH($C$6,BU4896)),MAX($BT$13:BT4895)+1,0)","v":4883},0,{"$f":"ROWS($BV$14:BV4896)","v":4883},{"$f":"IFERROR(VLOOKUP(ROWS($BW$14:BW4896),$BT$14:$BU$5000,2,0),\"\")","v":0}]
[null,null,null,null,null,null,null,null,null,null,null,null,null,null,null,null,null,null,null,null,null,null,null,null,null,null,null,null,null,null,null,null,null,null,null,null,null,null,null,null,null,null,null,null,null,null,null,null,null,null,null,null,null,null,null,null,null,null,null,null,null,null,null,null,null,null,null,null,null,null,null,{"$f":"IF(ISNUMBER(SEARCH($C$6,BU4897)),MAX($BT$13:BT4896)+1,0)","v":4884},0,{"$f":"ROWS($BV$14:BV4897)","v":4884},{"$f":"IFERROR(VLOOKUP(ROWS($BW$14:BW4897),$BT$14:$BU$5000,2,0),\"\")","v":0}]
[null,null,null,null,null,null,null,null,null,null,null,null,null,null,null,null,null,null,null,null,null,null,null,null,null,null,null,null,null,null,null,null,null,null,null,null,null,null,null,null,null,null,null,null,null,null,null,null,null,null,null,null,null,null,null,null,null,null,null,null,null,null,null,null,null,null,null,null,null,null,null,{"$f":"IF(ISNUMBER(SEARCH($C$6,BU4898)),MAX($BT$13:BT4897)+1,0)","v":4885},0,{"$f":"ROWS($BV$14:BV4898)","v":4885},{"$f":"IFERROR(VLOOKUP(ROWS($BW$14:BW4898),$BT$14:$BU$5000,2,0),\"\")","v":0}]
[null,null,null,null,null,null,null,null,null,null,null,null,null,null,null,null,null,null,null,null,null,null,null,null,null,null,null,null,null,null,null,null,null,null,null,null,null,null,null,null,null,null,null,null,null,null,null,null,null,null,null,null,null,null,null,null,null,null,null,null,null,null,null,null,null,null,null,null,null,null,null,{"$f":"IF(ISNUMBER(SEARCH($C$6,BU4899)),MAX($BT$13:BT4898)+1,0)","v":4886},0,{"$f":"ROWS($BV$14:BV4899)","v":4886},{"$f":"IFERROR(VLOOKUP(ROWS($BW$14:BW4899),$BT$14:$BU$5000,2,0),\"\")","v":0}]
[null,null,null,null,null,null,null,null,null,null,null,null,null,null,null,null,null,null,null,null,null,null,null,null,null,null,null,null,null,null,null,null,null,null,null,null,null,null,null,null,null,null,null,null,null,null,null,null,null,null,null,null,null,null,null,null,null,null,null,null,null,null,null,null,null,null,null,null,null,null,null,{"$f":"IF(ISNUMBER(SEARCH($C$6,BU4900)),MAX($BT$13:BT4899)+1,0)","v":4887},0,{"$f":"ROWS($BV$14:BV4900)","v":4887},{"$f":"IFERROR(VLOOKUP(ROWS($BW$14:BW4900),$BT$14:$BU$5000,2,0),\"\")","v":0}]
[null,null,null,null,null,null,null,null,null,null,null,null,null,null,null,null,null,null,null,null,null,null,null,null,null,null,null,null,null,null,null,null,null,null,null,null,null,null,null,null,null,null,null,null,null,null,null,null,null,null,null,null,null,null,null,null,null,null,null,null,null,null,null,null,null,null,null,null,null,null,null,{"$f":"IF(ISNUMBER(SEARCH($C$6,BU4901)),MAX($BT$13:BT4900)+1,0)","v":4888},0,{"$f":"ROWS($BV$14:BV4901)","v":4888},{"$f":"IFERROR(VLOOKUP(ROWS($BW$14:BW4901),$BT$14:$BU$5000,2,0),\"\")","v":0}]
[null,null,null,null,null,null,null,null,null,null,null,null,null,null,null,null,null,null,null,null,null,null,null,null,null,null,null,null,null,null,null,null,null,null,null,null,null,null,null,null,null,null,null,null,null,null,null,null,null,null,null,null,null,null,null,null,null,null,null,null,null,null,null,null,null,null,null,null,null,null,null,{"$f":"IF(ISNUMBER(SEARCH($C$6,BU4902)),MAX($BT$13:BT4901)+1,0)","v":4889},0,{"$f":"ROWS($BV$14:BV4902)","v":4889},{"$f":"IFERROR(VLOOKUP(ROWS($BW$14:BW4902),$BT$14:$BU$5000,2,0),\"\")","v":0}]
[null,null,null,null,null,null,null,null,null,null,null,null,null,null,null,null,null,null,null,null,null,null,null,null,null,null,null,null,null,null,null,null,null,null,null,null,null,null,null,null,null,null,null,null,null,null,null,null,null,null,null,null,null,null,null,null,null,null,null,null,null,null,null,null,null,null,null,null,null,null,null,{"$f":"IF(ISNUMBER(SEARCH($C$6,BU4903)),MAX($BT$13:BT4902)+1,0)","v":4890},0,{"$f":"ROWS($BV$14:BV4903)","v":4890},{"$f":"IFERROR(VLOOKUP(ROWS($BW$14:BW4903),$BT$14:$BU$5000,2,0),\"\")","v":0}]
[null,null,null,null,null,null,null,null,null,null,null,null,null,null,null,null,null,null,null,null,null,null,null,null,null,null,null,null,null,null,null,null,null,null,null,null,null,null,null,null,null,null,null,null,null,null,null,null,null,null,null,null,null,null,null,null,null,null,null,null,null,null,null,null,null,null,null,null,null,null,null,{"$f":"IF(ISNUMBER(SEARCH($C$6,BU4904)),MAX($BT$13:BT4903)+1,0)","v":4891},0,{"$f":"ROWS($BV$14:BV4904)","v":4891},{"$f":"IFERROR(VLOOKUP(ROWS($BW$14:BW4904),$BT$14:$BU$5000,2,0),\"\")","v":0}]
[null,null,null,null,null,null,null,null,null,null,null,null,null,null,null,null,null,null,null,null,null,null,null,null,null,null,null,null,null,null,null,null,null,null,null,null,null,null,null,null,null,null,null,null,null,null,null,null,null,null,null,null,null,null,null,null,null,null,null,null,null,null,null,null,null,null,null,null,null,null,null,{"$f":"IF(ISNUMBER(SEARCH($C$6,BU4905)),MAX($BT$13:BT4904)+1,0)","v":4892},0,{"$f":"ROWS($BV$14:BV4905)","v":4892},{"$f":"IFERROR(VLOOKUP(ROWS($BW$14:BW4905),$BT$14:$BU$5000,2,0),\"\")","v":0}]
[null,null,null,null,null,null,null,null,null,null,null,null,null,null,null,null,null,null,null,null,null,null,null,null,null,null,null,null,null,null,null,null,null,null,null,null,null,null,null,null,null,null,null,null,null,null,null,null,null,null,null,null,null,null,null,null,null,null,null,null,null,null,null,null,null,null,null,null,null,null,null,{"$f":"IF(ISNUMBER(SEARCH($C$6,BU4906)),MAX($BT$13:BT4905)+1,0)","v":4893},0,{"$f":"ROWS($BV$14:BV4906)","v":4893},{"$f":"IFERROR(VLOOKUP(ROWS($BW$14:BW4906),$BT$14:$BU$5000,2,0),\"\")","v":0}]
[null,null,null,null,null,null,null,null,null,null,null,null,null,null,null,null,null,null,null,null,null,null,null,null,null,null,null,null,null,null,null,null,null,null,null,null,null,null,null,null,null,null,null,null,null,null,null,null,null,null,null,null,null,null,null,null,null,null,null,null,null,null,null,null,null,null,null,null,null,null,null,{"$f":"IF(ISNUMBER(SEARCH($C$6,BU4907)),MAX($BT$13:BT4906)+1,0)","v":4894},0,{"$f":"ROWS($BV$14:BV4907)","v":4894},{"$f":"IFERROR(VLOOKUP(ROWS($BW$14:BW4907),$BT$14:$BU$5000,2,0),\"\")","v":0}]
[null,null,null,null,null,null,null,null,null,null,null,null,null,null,null,null,null,null,null,null,null,null,null,null,null,null,null,null,null,null,null,null,null,null,null,null,null,null,null,null,null,null,null,null,null,null,null,null,null,null,null,null,null,null,null,null,null,null,null,null,null,null,null,null,null,null,null,null,null,null,null,{"$f":"IF(ISNUMBER(SEARCH($C$6,BU4908)),MAX($BT$13:BT4907)+1,0)","v":4895},0,{"$f":"ROWS($BV$14:BV4908)","v":4895},{"$f":"IFERROR(VLOOKUP(ROWS($BW$14:BW4908),$BT$14:$BU$5000,2,0),\"\")","v":0}]
[null,null,null,null,null,null,null,null,null,null,null,null,null,null,null,null,null,null,null,null,null,null,null,null,null,null,null,null,null,null,null,null,null,null,null,null,null,null,null,null,null,null,null,null,null,null,null,null,null,null,null,null,null,null,null,null,null,null,null,null,null,null,null,null,null,null,null,null,null,null,null,{"$f":"IF(ISNUMBER(SEARCH($C$6,BU4909)),MAX($BT$13:BT4908)+1,0)","v":4896},0,{"$f":"ROWS($BV$14:BV4909)","v":4896},{"$f":"IFERROR(VLOOKUP(ROWS($BW$14:BW4909),$BT$14:$BU$5000,2,0),\"\")","v":0}]
[null,null,null,null,null,null,null,null,null,null,null,null,null,null,null,null,null,null,null,null,null,null,null,null,null,null,null,null,null,null,null,null,null,null,null,null,null,null,null,null,null,null,null,null,null,null,null,null,null,null,null,null,null,null,null,null,null,null,null,null,null,null,null,null,null,null,null,null,null,null,null,{"$f":"IF(ISNUMBER(SEARCH($C$6,BU4910)),MAX($BT$13:BT4909)+1,0)","v":4897},0,{"$f":"ROWS($BV$14:BV4910)","v":4897},{"$f":"IFERROR(VLOOKUP(ROWS($BW$14:BW4910),$BT$14:$BU$5000,2,0),\"\")","v":0}]
[null,null,null,null,null,null,null,null,null,null,null,null,null,null,null,null,null,null,null,null,null,null,null,null,null,null,null,null,null,null,null,null,null,null,null,null,null,null,null,null,null,null,null,null,null,null,null,null,null,null,null,null,null,null,null,null,null,null,null,null,null,null,null,null,null,null,null,null,null,null,null,{"$f":"IF(ISNUMBER(SEARCH($C$6,BU4911)),MAX($BT$13:BT4910)+1,0)","v":4898},0,{"$f":"ROWS($BV$14:BV4911)","v":4898},{"$f":"IFERROR(VLOOKUP(ROWS($BW$14:BW4911),$BT$14:$BU$5000,2,0),\"\")","v":0}]
[null,null,null,null,null,null,null,null,null,null,null,null,null,null,null,null,null,null,null,null,null,null,null,null,null,null,null,null,null,null,null,null,null,null,null,null,null,null,null,null,null,null,null,null,null,null,null,null,null,null,null,null,null,null,null,null,null,null,null,null,null,null,null,null,null,null,null,null,null,null,null,{"$f":"IF(ISNUMBER(SEARCH($C$6,BU4912)),MAX($BT$13:BT4911)+1,0)","v":4899},0,{"$f":"ROWS($BV$14:BV4912)","v":4899},{"$f":"IFERROR(VLOOKUP(ROWS($BW$14:BW4912),$BT$14:$BU$5000,2,0),\"\")","v":0}]
[null,null,null,null,null,null,null,null,null,null,null,null,null,null,null,null,null,null,null,null,null,null,null,null,null,null,null,null,null,null,null,null,null,null,null,null,null,null,null,null,null,null,null,null,null,null,null,null,null,null,null,null,null,null,null,null,null,null,null,null,null,null,null,null,null,null,null,null,null,null,null,{"$f":"IF(ISNUMBER(SEARCH($C$6,BU4913)),MAX($BT$13:BT4912)+1,0)","v":4900},0,{"$f":"ROWS($BV$14:BV4913)","v":4900},{"$f":"IFERROR(VLOOKUP(ROWS($BW$14:BW4913),$BT$14:$BU$5000,2,0),\"\")","v":0}]
[null,null,null,null,null,null,null,null,null,null,null,null,null,null,null,null,null,null,null,null,null,null,null,null,null,null,null,null,null,null,null,null,null,null,null,null,null,null,null,null,null,null,null,null,null,null,null,null,null,null,null,null,null,null,null,null,null,null,null,null,null,null,null,null,null,null,null,null,null,null,null,{"$f":"IF(ISNUMBER(SEARCH($C$6,BU4914)),MAX($BT$13:BT4913)+1,0)","v":4901},0,{"$f":"ROWS($BV$14:BV4914)","v":4901},{"$f":"IFERROR(VLOOKUP(ROWS($BW$14:BW4914),$BT$14:$BU$5000,2,0),\"\")","v":0}]
[null,null,null,null,null,null,null,null,null,null,null,null,null,null,null,null,null,null,null,null,null,null,null,null,null,null,null,null,null,null,null,null,null,null,null,null,null,null,null,null,null,null,null,null,null,null,null,null,null,null,null,null,null,null,null,null,null,null,null,null,null,null,null,null,null,null,null,null,null,null,null,{"$f":"IF(ISNUMBER(SEARCH($C$6,BU4915)),MAX($BT$13:BT4914)+1,0)","v":4902},0,{"$f":"ROWS($BV$14:BV4915)","v":4902},{"$f":"IFERROR(VLOOKUP(ROWS($BW$14:BW4915),$BT$14:$BU$5000,2,0),\"\")","v":0}]
[null,null,null,null,null,null,null,null,null,null,null,null,null,null,null,null,null,null,null,null,null,null,null,null,null,null,null,null,null,null,null,null,null,null,null,null,null,null,null,null,null,null,null,null,null,null,null,null,null,null,null,null,null,null,null,null,null,null,null,null,null,null,null,null,null,null,null,null,null,null,null,{"$f":"IF(ISNUMBER(SEARCH($C$6,BU4916)),MAX($BT$13:BT4915)+1,0)","v":4903},0,{"$f":"ROWS($BV$14:BV4916)","v":4903},{"$f":"IFERROR(VLOOKUP(ROWS($BW$14:BW4916),$BT$14:$BU$5000,2,0),\"\")","v":0}]
[null,null,null,null,null,null,null,null,null,null,null,null,null,null,null,null,null,null,null,null,null,null,null,null,null,null,null,null,null,null,null,null,null,null,null,null,null,null,null,null,null,null,null,null,null,null,null,null,null,null,null,null,null,null,null,null,null,null,null,null,null,null,null,null,null,null,null,null,null,null,null,{"$f":"IF(ISNUMBER(SEARCH($C$6,BU4917)),MAX($BT$13:BT4916)+1,0)","v":4904},0,{"$f":"ROWS($BV$14:BV4917)","v":4904},{"$f":"IFERROR(VLOOKUP(ROWS($BW$14:BW4917),$BT$14:$BU$5000,2,0),\"\")","v":0}]
[null,null,null,null,null,null,null,null,null,null,null,null,null,null,null,null,null,null,null,null,null,null,null,null,null,null,null,null,null,null,null,null,null,null,null,null,null,null,null,null,null,null,null,null,null,null,null,null,null,null,null,null,null,null,null,null,null,null,null,null,null,null,null,null,null,null,null,null,null,null,null,{"$f":"IF(ISNUMBER(SEARCH($C$6,BU4918)),MAX($BT$13:BT4917)+1,0)","v":4905},0,{"$f":"ROWS($BV$14:BV4918)","v":4905},{"$f":"IFERROR(VLOOKUP(ROWS($BW$14:BW4918),$BT$14:$BU$5000,2,0),\"\")","v":0}]
[null,null,null,null,null,null,null,null,null,null,null,null,null,null,null,null,null,null,null,null,null,null,null,null,null,null,null,null,null,null,null,null,null,null,null,null,null,null,null,null,null,null,null,null,null,null,null,null,null,null,null,null,null,null,null,null,null,null,null,null,null,null,null,null,null,null,null,null,null,null,null,{"$f":"IF(ISNUMBER(SEARCH($C$6,BU4919)),MAX($BT$13:BT4918)+1,0)","v":4906},0,{"$f":"ROWS($BV$14:BV4919)","v":4906},{"$f":"IFERROR(VLOOKUP(ROWS($BW$14:BW4919),$BT$14:$BU$5000,2,0),\"\")","v":0}]
[null,null,null,null,null,null,null,null,null,null,null,null,null,null,null,null,null,null,null,null,null,null,null,null,null,null,null,null,null,null,null,null,null,null,null,null,null,null,null,null,null,null,null,null,null,null,null,null,null,null,null,null,null,null,null,null,null,null,null,null,null,null,null,null,null,null,null,null,null,null,null,{"$f":"IF(ISNUMBER(SEARCH($C$6,BU4920)),MAX($BT$13:BT4919)+1,0)","v":4907},0,{"$f":"ROWS($BV$14:BV4920)","v":4907},{"$f":"IFERROR(VLOOKUP(ROWS($BW$14:BW4920),$BT$14:$BU$5000,2,0),\"\")","v":0}]
[null,null,null,null,null,null,null,null,null,null,null,null,null,null,null,null,null,null,null,null,null,null,null,null,null,null,null,null,null,null,null,null,null,null,null,null,null,null,null,null,null,null,null,null,null,null,null,null,null,null,null,null,null,null,null,null,null,null,null,null,null,null,null,null,null,null,null,null,null,null,null,{"$f":"IF(ISNUMBER(SEARCH($C$6,BU4921)),MAX($BT$13:BT4920)+1,0)","v":4908},0,{"$f":"ROWS($BV$14:BV4921)","v":4908},{"$f":"IFERROR(VLOOKUP(ROWS($BW$14:BW4921),$BT$14:$BU$5000,2,0),\"\")","v":0}]
[null,null,null,null,null,null,null,null,null,null,null,null,null,null,null,null,null,null,null,null,null,null,null,null,null,null,null,null,null,null,null,null,null,null,null,null,null,null,null,null,null,null,null,null,null,null,null,null,null,null,null,null,null,null,null,null,null,null,null,null,null,null,null,null,null,null,null,null,null,null,null,{"$f":"IF(ISNUMBER(SEARCH($C$6,BU4922)),MAX($BT$13:BT4921)+1,0)","v":4909},0,{"$f":"ROWS($BV$14:BV4922)","v":4909},{"$f":"IFERROR(VLOOKUP(ROWS($BW$14:BW4922),$BT$14:$BU$5000,2,0),\"\")","v":0}]
[null,null,null,null,null,null,null,null,null,null,null,null,null,null,null,null,null,null,null,null,null,null,null,null,null,null,null,null,null,null,null,null,null,null,null,null,null,null,null,null,null,null,null,null,null,null,null,null,null,null,null,null,null,null,null,null,null,null,null,null,null,null,null,null,null,null,null,null,null,null,null,{"$f":"IF(ISNUMBER(SEARCH($C$6,BU4923)),MAX($BT$13:BT4922)+1,0)","v":4910},0,{"$f":"ROWS($BV$14:BV4923)","v":4910},{"$f":"IFERROR(VLOOKUP(ROWS($BW$14:BW4923),$BT$14:$BU$5000,2,0),\"\")","v":0}]
[null,null,null,null,null,null,null,null,null,null,null,null,null,null,null,null,null,null,null,null,null,null,null,null,null,null,null,null,null,null,null,null,null,null,null,null,null,null,null,null,null,null,null,null,null,null,null,null,null,null,null,null,null,null,null,null,null,null,null,null,null,null,null,null,null,null,null,null,null,null,null,{"$f":"IF(ISNUMBER(SEARCH($C$6,BU4924)),MAX($BT$13:BT4923)+1,0)","v":4911},0,{"$f":"ROWS($BV$14:BV4924)","v":4911},{"$f":"IFERROR(VLOOKUP(ROWS($BW$14:BW4924),$BT$14:$BU$5000,2,0),\"\")","v":0}]
[null,null,null,null,null,null,null,null,null,null,null,null,null,null,null,null,null,null,null,null,null,null,null,null,null,null,null,null,null,null,null,null,null,null,null,null,null,null,null,null,null,null,null,null,null,null,null,null,null,null,null,null,null,null,null,null,null,null,null,null,null,null,null,null,null,null,null,null,null,null,null,{"$f":"IF(ISNUMBER(SEARCH($C$6,BU4925)),MAX($BT$13:BT4924)+1,0)","v":4912},0,{"$f":"ROWS($BV$14:BV4925)","v":4912},{"$f":"IFERROR(VLOOKUP(ROWS($BW$14:BW4925),$BT$14:$BU$5000,2,0),\"\")","v":0}]
[null,null,null,null,null,null,null,null,null,null,null,null,null,null,null,null,null,null,null,null,null,null,null,null,null,null,null,null,null,null,null,null,null,null,null,null,null,null,null,null,null,null,null,null,null,null,null,null,null,null,null,null,null,null,null,null,null,null,null,null,null,null,null,null,null,null,null,null,null,null,null,{"$f":"IF(ISNUMBER(SEARCH($C$6,BU4926)),MAX($BT$13:BT4925)+1,0)","v":4913},0,{"$f":"ROWS($BV$14:BV4926)","v":4913},{"$f":"IFERROR(VLOOKUP(ROWS($BW$14:BW4926),$BT$14:$BU$5000,2,0),\"\")","v":0}]
[null,null,null,null,null,null,null,null,null,null,null,null,null,null,null,null,null,null,null,null,null,null,null,null,null,null,null,null,null,null,null,null,null,null,null,null,null,null,null,null,null,null,null,null,null,null,null,null,null,null,null,null,null,null,null,null,null,null,null,null,null,null,null,null,null,null,null,null,null,null,null,{"$f":"IF(ISNUMBER(SEARCH($C$6,BU4927)),MAX($BT$13:BT4926)+1,0)","v":4914},0,{"$f":"ROWS($BV$14:BV4927)","v":4914},{"$f":"IFERROR(VLOOKUP(ROWS($BW$14:BW4927),$BT$14:$BU$5000,2,0),\"\")","v":0}]
[null,null,null,null,null,null,null,null,null,null,null,null,null,null,null,null,null,null,null,null,null,null,null,null,null,null,null,null,null,null,null,null,null,null,null,null,null,null,null,null,null,null,null,null,null,null,null,null,null,null,null,null,null,null,null,null,null,null,null,null,null,null,null,null,null,null,null,null,null,null,null,{"$f":"IF(ISNUMBER(SEARCH($C$6,BU4928)),MAX($BT$13:BT4927)+1,0)","v":4915},0,{"$f":"ROWS($BV$14:BV4928)","v":4915},{"$f":"IFERROR(VLOOKUP(ROWS($BW$14:BW4928),$BT$14:$BU$5000,2,0),\"\")","v":0}]
[null,null,null,null,null,null,null,null,null,null,null,null,null,null,null,null,null,null,null,null,null,null,null,null,null,null,null,null,null,null,null,null,null,null,null,null,null,null,null,null,null,null,null,null,null,null,null,null,null,null,null,null,null,null,null,null,null,null,null,null,null,null,null,null,null,null,null,null,null,null,null,{"$f":"IF(ISNUMBER(SEARCH($C$6,BU4929)),MAX($BT$13:BT4928)+1,0)","v":4916},0,{"$f":"ROWS($BV$14:BV4929)","v":4916},{"$f":"IFERROR(VLOOKUP(ROWS($BW$14:BW4929),$BT$14:$BU$5000,2,0),\"\")","v":0}]
[null,null,null,null,null,null,null,null,null,null,null,null,null,null,null,null,null,null,null,null,null,null,null,null,null,null,null,null,null,null,null,null,null,null,null,null,null,null,null,null,null,null,null,null,null,null,null,null,null,null,null,null,null,null,null,null,null,null,null,null,null,null,null,null,null,null,null,null,null,null,null,{"$f":"IF(ISNUMBER(SEARCH($C$6,BU4930)),MAX($BT$13:BT4929)+1,0)","v":4917},0,{"$f":"ROWS($BV$14:BV4930)","v":4917},{"$f":"IFERROR(VLOOKUP(ROWS($BW$14:BW4930),$BT$14:$BU$5000,2,0),\"\")","v":0}]
[null,null,null,null,null,null,null,null,null,null,null,null,null,null,null,null,null,null,null,null,null,null,null,null,null,null,null,null,null,null,null,null,null,null,null,null,null,null,null,null,null,null,null,null,null,null,null,null,null,null,null,null,null,null,null,null,null,null,null,null,null,null,null,null,null,null,null,null,null,null,null,{"$f":"IF(ISNUMBER(SEARCH($C$6,BU4931)),MAX($BT$13:BT4930)+1,0)","v":4918},0,{"$f":"ROWS($BV$14:BV4931)","v":4918},{"$f":"IFERROR(VLOOKUP(ROWS($BW$14:BW4931),$BT$14:$BU$5000,2,0),\"\")","v":0}]
[null,null,null,null,null,null,null,null,null,null,null,null,null,null,null,null,null,null,null,null,null,null,null,null,null,null,null,null,null,null,null,null,null,null,null,null,null,null,null,null,null,null,null,null,null,null,null,null,null,null,null,null,null,null,null,null,null,null,null,null,null,null,null,null,null,null,null,null,null,null,null,{"$f":"IF(ISNUMBER(SEARCH($C$6,BU4932)),MAX($BT$13:BT4931)+1,0)","v":4919},0,{"$f":"ROWS($BV$14:BV4932)","v":4919},{"$f":"IFERROR(VLOOKUP(ROWS($BW$14:BW4932),$BT$14:$BU$5000,2,0),\"\")","v":0}]
[null,null,null,null,null,null,null,null,null,null,null,null,null,null,null,null,null,null,null,null,null,null,null,null,null,null,null,null,null,null,null,null,null,null,null,null,null,null,null,null,null,null,null,null,null,null,null,null,null,null,null,null,null,null,null,null,null,null,null,null,null,null,null,null,null,null,null,null,null,null,null,{"$f":"IF(ISNUMBER(SEARCH($C$6,BU4933)),MAX($BT$13:BT4932)+1,0)","v":4920},0,{"$f":"ROWS($BV$14:BV4933)","v":4920},{"$f":"IFERROR(VLOOKUP(ROWS($BW$14:BW4933),$BT$14:$BU$5000,2,0),\"\")","v":0}]
[null,null,null,null,null,null,null,null,null,null,null,null,null,null,null,null,null,null,null,null,null,null,null,null,null,null,null,null,null,null,null,null,null,null,null,null,null,null,null,null,null,null,null,null,null,null,null,null,null,null,null,null,null,null,null,null,null,null,null,null,null,null,null,null,null,null,null,null,null,null,null,{"$f":"IF(ISNUMBER(SEARCH($C$6,BU4934)),MAX($BT$13:BT4933)+1,0)","v":4921},0,{"$f":"ROWS($BV$14:BV4934)","v":4921},{"$f":"IFERROR(VLOOKUP(ROWS($BW$14:BW4934),$BT$14:$BU$5000,2,0),\"\")","v":0}]
[null,null,null,null,null,null,null,null,null,null,null,null,null,null,null,null,null,null,null,null,null,null,null,null,null,null,null,null,null,null,null,null,null,null,null,null,null,null,null,null,null,null,null,null,null,null,null,null,null,null,null,null,null,null,null,null,null,null,null,null,null,null,null,null,null,null,null,null,null,null,null,{"$f":"IF(ISNUMBER(SEARCH($C$6,BU4935)),MAX($BT$13:BT4934)+1,0)","v":4922},0,{"$f":"ROWS($BV$14:BV4935)","v":4922},{"$f":"IFERROR(VLOOKUP(ROWS($BW$14:BW4935),$BT$14:$BU$5000,2,0),\"\")","v":0}]
[null,null,null,null,null,null,null,null,null,null,null,null,null,null,null,null,null,null,null,null,null,null,null,null,null,null,null,null,null,null,null,null,null,null,null,null,null,null,null,null,null,null,null,null,null,null,null,null,null,null,null,null,null,null,null,null,null,null,null,null,null,null,null,null,null,null,null,null,null,null,null,{"$f":"IF(ISNUMBER(SEARCH($C$6,BU4936)),MAX($BT$13:BT4935)+1,0)","v":4923},0,{"$f":"ROWS($BV$14:BV4936)","v":4923},{"$f":"IFERROR(VLOOKUP(ROWS($BW$14:BW4936),$BT$14:$BU$5000,2,0),\"\")","v":0}]
[null,null,null,null,null,null,null,null,null,null,null,null,null,null,null,null,null,null,null,null,null,null,null,null,null,null,null,null,null,null,null,null,null,null,null,null,null,null,null,null,null,null,null,null,null,null,null,null,null,null,null,null,null,null,null,null,null,null,null,null,null,null,null,null,null,null,null,null,null,null,null,{"$f":"IF(ISNUMBER(SEARCH($C$6,BU4937)),MAX($BT$13:BT4936)+1,0)","v":4924},0,{"$f":"ROWS($BV$14:BV4937)","v":4924},{"$f":"IFERROR(VLOOKUP(ROWS($BW$14:BW4937),$BT$14:$BU$5000,2,0),\"\")","v":0}]
[null,null,null,null,null,null,null,null,null,null,null,null,null,null,null,null,null,null,null,null,null,null,null,null,null,null,null,null,null,null,null,null,null,null,null,null,null,null,null,null,null,null,null,null,null,null,null,null,null,null,null,null,null,null,null,null,null,null,null,null,null,null,null,null,null,null,null,null,null,null,null,{"$f":"IF(ISNUMBER(SEARCH($C$6,BU4938)),MAX($BT$13:BT4937)+1,0)","v":4925},0,{"$f":"ROWS($BV$14:BV4938)","v":4925},{"$f":"IFERROR(VLOOKUP(ROWS($BW$14:BW4938),$BT$14:$BU$5000,2,0),\"\")","v":0}]
[null,null,null,null,null,null,null,null,null,null,null,null,null,null,null,null,null,null,null,null,null,null,null,null,null,null,null,null,null,null,null,null,null,null,null,null,null,null,null,null,null,null,null,null,null,null,null,null,null,null,null,null,null,null,null,null,null,null,null,null,null,null,null,null,null,null,null,null,null,null,null,{"$f":"IF(ISNUMBER(SEARCH($C$6,BU4939)),MAX($BT$13:BT4938)+1,0)","v":4926},0,{"$f":"ROWS($BV$14:BV4939)","v":4926},{"$f":"IFERROR(VLOOKUP(ROWS($BW$14:BW4939),$BT$14:$BU$5000,2,0),\"\")","v":0}]
[null,null,null,null,null,null,null,null,null,null,null,null,null,null,null,null,null,null,null,null,null,null,null,null,null,null,null,null,null,null,null,null,null,null,null,null,null,null,null,null,null,null,null,null,null,null,null,null,null,null,null,null,null,null,null,null,null,null,null,null,null,null,null,null,null,null,null,null,null,null,null,{"$f":"IF(ISNUMBER(SEARCH($C$6,BU4940)),MAX($BT$13:BT4939)+1,0)","v":4927},0,{"$f":"ROWS($BV$14:BV4940)","v":4927},{"$f":"IFERROR(VLOOKUP(ROWS($BW$14:BW4940),$BT$14:$BU$5000,2,0),\"\")","v":0}]
[null,null,null,null,null,null,null,null,null,null,null,null,null,null,null,null,null,null,null,null,null,null,null,null,null,null,null,null,null,null,null,null,null,null,null,null,null,null,null,null,null,null,null,null,null,null,null,null,null,null,null,null,null,null,null,null,null,null,null,null,null,null,null,null,null,null,null,null,null,null,null,{"$f":"IF(ISNUMBER(SEARCH($C$6,BU4941)),MAX($BT$13:BT4940)+1,0)","v":4928},0,{"$f":"ROWS($BV$14:BV4941)","v":4928},{"$f":"IFERROR(VLOOKUP(ROWS($BW$14:BW4941),$BT$14:$BU$5000,2,0),\"\")","v":0}]
[null,null,null,null,null,null,null,null,null,null,null,null,null,null,null,null,null,null,null,null,null,null,null,null,null,null,null,null,null,null,null,null,null,null,null,null,null,null,null,null,null,null,null,null,null,null,null,null,null,null,null,null,null,null,null,null,null,null,null,null,null,null,null,null,null,null,null,null,null,null,null,{"$f":"IF(ISNUMBER(SEARCH($C$6,BU4942)),MAX($BT$13:BT4941)+1,0)","v":4929},0,{"$f":"ROWS($BV$14:BV4942)","v":4929},{"$f":"IFERROR(VLOOKUP(ROWS($BW$14:BW4942),$BT$14:$BU$5000,2,0),\"\")","v":0}]
[null,null,null,null,null,null,null,null,null,null,null,null,null,null,null,null,null,null,null,null,null,null,null,null,null,null,null,null,null,null,null,null,null,null,null,null,null,null,null,null,null,null,null,null,null,null,null,null,null,null,null,null,null,null,null,null,null,null,null,null,null,null,null,null,null,null,null,null,null,null,null,{"$f":"IF(ISNUMBER(SEARCH($C$6,BU4943)),MAX($BT$13:BT4942)+1,0)","v":4930},0,{"$f":"ROWS($BV$14:BV4943)","v":4930},{"$f":"IFERROR(VLOOKUP(ROWS($BW$14:BW4943),$BT$14:$BU$5000,2,0),\"\")","v":0}]
[null,null,null,null,null,null,null,null,null,null,null,null,null,null,null,null,null,null,null,null,null,null,null,null,null,null,null,null,null,null,null,null,null,null,null,null,null,null,null,null,null,null,null,null,null,null,null,null,null,null,null,null,null,null,null,null,null,null,null,null,null,null,null,null,null,null,null,null,null,null,null,{"$f":"IF(ISNUMBER(SEARCH($C$6,BU4944)),MAX($BT$13:BT4943)+1,0)","v":4931},0,{"$f":"ROWS($BV$14:BV4944)","v":4931},{"$f":"IFERROR(VLOOKUP(ROWS($BW$14:BW4944),$BT$14:$BU$5000,2,0),\"\")","v":0}]
[null,null,null,null,null,null,null,null,null,null,null,null,null,null,null,null,null,null,null,null,null,null,null,null,null,null,null,null,null,null,null,null,null,null,null,null,null,null,null,null,null,null,null,null,null,null,null,null,null,null,null,null,null,null,null,null,null,null,null,null,null,null,null,null,null,null,null,null,null,null,null,{"$f":"IF(ISNUMBER(SEARCH($C$6,BU4945)),MAX($BT$13:BT4944)+1,0)","v":4932},0,{"$f":"ROWS($BV$14:BV4945)","v":4932},{"$f":"IFERROR(VLOOKUP(ROWS($BW$14:BW4945),$BT$14:$BU$5000,2,0),\"\")","v":0}]
[null,null,null,null,null,null,null,null,null,null,null,null,null,null,null,null,null,null,null,null,null,null,null,null,null,null,null,null,null,null,null,null,null,null,null,null,null,null,null,null,null,null,null,null,null,null,null,null,null,null,null,null,null,null,null,null,null,null,null,null,null,null,null,null,null,null,null,null,null,null,null,{"$f":"IF(ISNUMBER(SEARCH($C$6,BU4946)),MAX($BT$13:BT4945)+1,0)","v":4933},0,{"$f":"ROWS($BV$14:BV4946)","v":4933},{"$f":"IFERROR(VLOOKUP(ROWS($BW$14:BW4946),$BT$14:$BU$5000,2,0),\"\")","v":0}]
[null,null,null,null,null,null,null,null,null,null,null,null,null,null,null,null,null,null,null,null,null,null,null,null,null,null,null,null,null,null,null,null,null,null,null,null,null,null,null,null,null,null,null,null,null,null,null,null,null,null,null,null,null,null,null,null,null,null,null,null,null,null,null,null,null,null,null,null,null,null,null,{"$f":"IF(ISNUMBER(SEARCH($C$6,BU4947)),MAX($BT$13:BT4946)+1,0)","v":4934},0,{"$f":"ROWS($BV$14:BV4947)","v":4934},{"$f":"IFERROR(VLOOKUP(ROWS($BW$14:BW4947),$BT$14:$BU$5000,2,0),\"\")","v":0}]
[null,null,null,null,null,null,null,null,null,null,null,null,null,null,null,null,null,null,null,null,null,null,null,null,null,null,null,null,null,null,null,null,null,null,null,null,null,null,null,null,null,null,null,null,null,null,null,null,null,null,null,null,null,null,null,null,null,null,null,null,null,null,null,null,null,null,null,null,null,null,null,{"$f":"IF(ISNUMBER(SEARCH($C$6,BU4948)),MAX($BT$13:BT4947)+1,0)","v":4935},0,{"$f":"ROWS($BV$14:BV4948)","v":4935},{"$f":"IFERROR(VLOOKUP(ROWS($BW$14:BW4948),$BT$14:$BU$5000,2,0),\"\")","v":0}]
[null,null,null,null,null,null,null,null,null,null,null,null,null,null,null,null,null,null,null,null,null,null,null,null,null,null,null,null,null,null,null,null,null,null,null,null,null,null,null,null,null,null,null,null,null,null,null,null,null,null,null,null,null,null,null,null,null,null,null,null,null,null,null,null,null,null,null,null,null,null,null,{"$f":"IF(ISNUMBER(SEARCH($C$6,BU4949)),MAX($BT$13:BT4948)+1,0)","v":4936},0,{"$f":"ROWS($BV$14:BV4949)","v":4936},{"$f":"IFERROR(VLOOKUP(ROWS($BW$14:BW4949),$BT$14:$BU$5000,2,0),\"\")","v":0}]
[null,null,null,null,null,null,null,null,null,null,null,null,null,null,null,null,null,null,null,null,null,null,null,null,null,null,null,null,null,null,null,null,null,null,null,null,null,null,null,null,null,null,null,null,null,null,null,null,null,null,null,null,null,null,null,null,null,null,null,null,null,null,null,null,null,null,null,null,null,null,null,{"$f":"IF(ISNUMBER(SEARCH($C$6,BU4950)),MAX($BT$13:BT4949)+1,0)","v":4937},0,{"$f":"ROWS($BV$14:BV4950)","v":4937},{"$f":"IFERROR(VLOOKUP(ROWS($BW$14:BW4950),$BT$14:$BU$5000,2,0),\"\")","v":0}]
[null,null,null,null,null,null,null,null,null,null,null,null,null,null,null,null,null,null,null,null,null,null,null,null,null,null,null,null,null,null,null,null,null,null,null,null,null,null,null,null,null,null,null,null,null,null,null,null,null,null,null,null,null,null,null,null,null,null,null,null,null,null,null,null,null,null,null,null,null,null,null,{"$f":"IF(ISNUMBER(SEARCH($C$6,BU4951)),MAX($BT$13:BT4950)+1,0)","v":4938},0,{"$f":"ROWS($BV$14:BV4951)","v":4938},{"$f":"IFERROR(VLOOKUP(ROWS($BW$14:BW4951),$BT$14:$BU$5000,2,0),\"\")","v":0}]
[null,null,null,null,null,null,null,null,null,null,null,null,null,null,null,null,null,null,null,null,null,null,null,null,null,null,null,null,null,null,null,null,null,null,null,null,null,null,null,null,null,null,null,null,null,null,null,null,null,null,null,null,null,null,null,null,null,null,null,null,null,null,null,null,null,null,null,null,null,null,null,{"$f":"IF(ISNUMBER(SEARCH($C$6,BU4952)),MAX($BT$13:BT4951)+1,0)","v":4939},0,{"$f":"ROWS($BV$14:BV4952)","v":4939},{"$f":"IFERROR(VLOOKUP(ROWS($BW$14:BW4952),$BT$14:$BU$5000,2,0),\"\")","v":0}]
[null,null,null,null,null,null,null,null,null,null,null,null,null,null,null,null,null,null,null,null,null,null,null,null,null,null,null,null,null,null,null,null,null,null,null,null,null,null,null,null,null,null,null,null,null,null,null,null,null,null,null,null,null,null,null,null,null,null,null,null,null,null,null,null,null,null,null,null,null,null,null,{"$f":"IF(ISNUMBER(SEARCH($C$6,BU4953)),MAX($BT$13:BT4952)+1,0)","v":4940},0,{"$f":"ROWS($BV$14:BV4953)","v":4940},{"$f":"IFERROR(VLOOKUP(ROWS($BW$14:BW4953),$BT$14:$BU$5000,2,0),\"\")","v":0}]
[null,null,null,null,null,null,null,null,null,null,null,null,null,null,null,null,null,null,null,null,null,null,null,null,null,null,null,null,null,null,null,null,null,null,null,null,null,null,null,null,null,null,null,null,null,null,null,null,null,null,null,null,null,null,null,null,null,null,null,null,null,null,null,null,null,null,null,null,null,null,null,{"$f":"IF(ISNUMBER(SEARCH($C$6,BU4954)),MAX($BT$13:BT4953)+1,0)","v":4941},0,{"$f":"ROWS($BV$14:BV4954)","v":4941},{"$f":"IFERROR(VLOOKUP(ROWS($BW$14:BW4954),$BT$14:$BU$5000,2,0),\"\")","v":0}]
[null,null,null,null,null,null,null,null,null,null,null,null,null,null,null,null,null,null,null,null,null,null,null,null,null,null,null,null,null,null,null,null,null,null,null,null,null,null,null,null,null,null,null,null,null,null,null,null,null,null,null,null,null,null,null,null,null,null,null,null,null,null,null,null,null,null,null,null,null,null,null,{"$f":"IF(ISNUMBER(SEARCH($C$6,BU4955)),MAX($BT$13:BT4954)+1,0)","v":4942},0,{"$f":"ROWS($BV$14:BV4955)","v":4942},{"$f":"IFERROR(VLOOKUP(ROWS($BW$14:BW4955),$BT$14:$BU$5000,2,0),\"\")","v":0}]
[null,null,null,null,null,null,null,null,null,null,null,null,null,null,null,null,null,null,null,null,null,null,null,null,null,null,null,null,null,null,null,null,null,null,null,null,null,null,null,null,null,null,null,null,null,null,null,null,null,null,null,null,null,null,null,null,null,null,null,null,null,null,null,null,null,null,null,null,null,null,null,{"$f":"IF(ISNUMBER(SEARCH($C$6,BU4956)),MAX($BT$13:BT4955)+1,0)","v":4943},0,{"$f":"ROWS($BV$14:BV4956)","v":4943},{"$f":"IFERROR(VLOOKUP(ROWS($BW$14:BW4956),$BT$14:$BU$5000,2,0),\"\")","v":0}]
[null,null,null,null,null,null,null,null,null,null,null,null,null,null,null,null,null,null,null,null,null,null,null,null,null,null,null,null,null,null,null,null,null,null,null,null,null,null,null,null,null,null,null,null,null,null,null,null,null,null,null,null,null,null,null,null,null,null,null,null,null,null,null,null,null,null,null,null,null,null,null,{"$f":"IF(ISNUMBER(SEARCH($C$6,BU4957)),MAX($BT$13:BT4956)+1,0)","v":4944},0,{"$f":"ROWS($BV$14:BV4957)","v":4944},{"$f":"IFERROR(VLOOKUP(ROWS($BW$14:BW4957),$BT$14:$BU$5000,2,0),\"\")","v":0}]
[null,null,null,null,null,null,null,null,null,null,null,null,null,null,null,null,null,null,null,null,null,null,null,null,null,null,null,null,null,null,null,null,null,null,null,null,null,null,null,null,null,null,null,null,null,null,null,null,null,null,null,null,null,null,null,null,null,null,null,null,null,null,null,null,null,null,null,null,null,null,null,{"$f":"IF(ISNUMBER(SEARCH($C$6,BU4958)),MAX($BT$13:BT4957)+1,0)","v":4945},0,{"$f":"ROWS($BV$14:BV4958)","v":4945},{"$f":"IFERROR(VLOOKUP(ROWS($BW$14:BW4958),$BT$14:$BU$5000,2,0),\"\")","v":0}]
[null,null,null,null,null,null,null,null,null,null,null,null,null,null,null,null,null,null,null,null,null,null,null,null,null,null,null,null,null,null,null,null,null,null,null,null,null,null,null,null,null,null,null,null,null,null,null,null,null,null,null,null,null,null,null,null,null,null,null,null,null,null,null,null,null,null,null,null,null,null,null,{"$f":"IF(ISNUMBER(SEARCH($C$6,BU4959)),MAX($BT$13:BT4958)+1,0)","v":4946},0,{"$f":"ROWS($BV$14:BV4959)","v":4946},{"$f":"IFERROR(VLOOKUP(ROWS($BW$14:BW4959),$BT$14:$BU$5000,2,0),\"\")","v":0}]
[null,null,null,null,null,null,null,null,null,null,null,null,null,null,null,null,null,null,null,null,null,null,null,null,null,null,null,null,null,null,null,null,null,null,null,null,null,null,null,null,null,null,null,null,null,null,null,null,null,null,null,null,null,null,null,null,null,null,null,null,null,null,null,null,null,null,null,null,null,null,null,{"$f":"IF(ISNUMBER(SEARCH($C$6,BU4960)),MAX($BT$13:BT4959)+1,0)","v":4947},0,{"$f":"ROWS($BV$14:BV4960)","v":4947},{"$f":"IFERROR(VLOOKUP(ROWS($BW$14:BW4960),$BT$14:$BU$5000,2,0),\"\")","v":0}]
[null,null,null,null,null,null,null,null,null,null,null,null,null,null,null,null,null,null,null,null,null,null,null,null,null,null,null,null,null,null,null,null,null,null,null,null,null,null,null,null,null,null,null,null,null,null,null,null,null,null,null,null,null,null,null,null,null,null,null,null,null,null,null,null,null,null,null,null,null,null,null,{"$f":"IF(ISNUMBER(SEARCH($C$6,BU4961)),MAX($BT$13:BT4960)+1,0)","v":4948},0,{"$f":"ROWS($BV$14:BV4961)","v":4948},{"$f":"IFERROR(VLOOKUP(ROWS($BW$14:BW4961),$BT$14:$BU$5000,2,0),\"\")","v":0}]
[null,null,null,null,null,null,null,null,null,null,null,null,null,null,null,null,null,null,null,null,null,null,null,null,null,null,null,null,null,null,null,null,null,null,null,null,null,null,null,null,null,null,null,null,null,null,null,null,null,null,null,null,null,null,null,null,null,null,null,null,null,null,null,null,null,null,null,null,null,null,null,{"$f":"IF(ISNUMBER(SEARCH($C$6,BU4962)),MAX($BT$13:BT4961)+1,0)","v":4949},0,{"$f":"ROWS($BV$14:BV4962)","v":4949},{"$f":"IFERROR(VLOOKUP(ROWS($BW$14:BW4962),$BT$14:$BU$5000,2,0),\"\")","v":0}]
[null,null,null,null,null,null,null,null,null,null,null,null,null,null,null,null,null,null,null,null,null,null,null,null,null,null,null,null,null,null,null,null,null,null,null,null,null,null,null,null,null,null,null,null,null,null,null,null,null,null,null,null,null,null,null,null,null,null,null,null,null,null,null,null,null,null,null,null,null,null,null,{"$f":"IF(ISNUMBER(SEARCH($C$6,BU4963)),MAX($BT$13:BT4962)+1,0)","v":4950},0,{"$f":"ROWS($BV$14:BV4963)","v":4950},{"$f":"IFERROR(VLOOKUP(ROWS($BW$14:BW4963),$BT$14:$BU$5000,2,0),\"\")","v":0}]
[null,null,null,null,null,null,null,null,null,null,null,null,null,null,null,null,null,null,null,null,null,null,null,null,null,null,null,null,null,null,null,null,null,null,null,null,null,null,null,null,null,null,null,null,null,null,null,null,null,null,null,null,null,null,null,null,null,null,null,null,null,null,null,null,null,null,null,null,null,null,null,{"$f":"IF(ISNUMBER(SEARCH($C$6,BU4964)),MAX($BT$13:BT4963)+1,0)","v":4951},0,{"$f":"ROWS($BV$14:BV4964)","v":4951},{"$f":"IFERROR(VLOOKUP(ROWS($BW$14:BW4964),$BT$14:$BU$5000,2,0),\"\")","v":0}]
[null,null,null,null,null,null,null,null,null,null,null,null,null,null,null,null,null,null,null,null,null,null,null,null,null,null,null,null,null,null,null,null,null,null,null,null,null,null,null,null,null,null,null,null,null,null,null,null,null,null,null,null,null,null,null,null,null,null,null,null,null,null,null,null,null,null,null,null,null,null,null,{"$f":"IF(ISNUMBER(SEARCH($C$6,BU4965)),MAX($BT$13:BT4964)+1,0)","v":4952},0,{"$f":"ROWS($BV$14:BV4965)","v":4952},{"$f":"IFERROR(VLOOKUP(ROWS($BW$14:BW4965),$BT$14:$BU$5000,2,0),\"\")","v":0}]
[null,null,null,null,null,null,null,null,null,null,null,null,null,null,null,null,null,null,null,null,null,null,null,null,null,null,null,null,null,null,null,null,null,null,null,null,null,null,null,null,null,null,null,null,null,null,null,null,null,null,null,null,null,null,null,null,null,null,null,null,null,null,null,null,null,null,null,null,null,null,null,{"$f":"IF(ISNUMBER(SEARCH($C$6,BU4966)),MAX($BT$13:BT4965)+1,0)","v":4953},0,{"$f":"ROWS($BV$14:BV4966)","v":4953},{"$f":"IFERROR(VLOOKUP(ROWS($BW$14:BW4966),$BT$14:$BU$5000,2,0),\"\")","v":0}]
[null,null,null,null,null,null,null,null,null,null,null,null,null,null,null,null,null,null,null,null,null,null,null,null,null,null,null,null,null,null,null,null,null,null,null,null,null,null,null,null,null,null,null,null,null,null,null,null,null,null,null,null,null,null,null,null,null,null,null,null,null,null,null,null,null,null,null,null,null,null,null,{"$f":"IF(ISNUMBER(SEARCH($C$6,BU4967)),MAX($BT$13:BT4966)+1,0)","v":4954},0,{"$f":"ROWS($BV$14:BV4967)","v":4954},{"$f":"IFERROR(VLOOKUP(ROWS($BW$14:BW4967),$BT$14:$BU$5000,2,0),\"\")","v":0}]
[null,null,null,null,null,null,null,null,null,null,null,null,null,null,null,null,null,null,null,null,null,null,null,null,null,null,null,null,null,null,null,null,null,null,null,null,null,null,null,null,null,null,null,null,null,null,null,null,null,null,null,null,null,null,null,null,null,null,null,null,null,null,null,null,null,null,null,null,null,null,null,{"$f":"IF(ISNUMBER(SEARCH($C$6,BU4968)),MAX($BT$13:BT4967)+1,0)","v":4955},0,{"$f":"ROWS($BV$14:BV4968)","v":4955},{"$f":"IFERROR(VLOOKUP(ROWS($BW$14:BW4968),$BT$14:$BU$5000,2,0),\"\")","v":0}]
[null,null,null,null,null,null,null,null,null,null,null,null,null,null,null,null,null,null,null,null,null,null,null,null,null,null,null,null,null,null,null,null,null,null,null,null,null,null,null,null,null,null,null,null,null,null,null,null,null,null,null,null,null,null,null,null,null,null,null,null,null,null,null,null,null,null,null,null,null,null,null,{"$f":"IF(ISNUMBER(SEARCH($C$6,BU4969)),MAX($BT$13:BT4968)+1,0)","v":4956},0,{"$f":"ROWS($BV$14:BV4969)","v":4956},{"$f":"IFERROR(VLOOKUP(ROWS($BW$14:BW4969),$BT$14:$BU$5000,2,0),\"\")","v":0}]
[null,null,null,null,null,null,null,null,null,null,null,null,null,null,null,null,null,null,null,null,null,null,null,null,null,null,null,null,null,null,null,null,null,null,null,null,null,null,null,null,null,null,null,null,null,null,null,null,null,null,null,null,null,null,null,null,null,null,null,null,null,null,null,null,null,null,null,null,null,null,null,{"$f":"IF(ISNUMBER(SEARCH($C$6,BU4970)),MAX($BT$13:BT4969)+1,0)","v":4957},0,{"$f":"ROWS($BV$14:BV4970)","v":4957},{"$f":"IFERROR(VLOOKUP(ROWS($BW$14:BW4970),$BT$14:$BU$5000,2,0),\"\")","v":0}]
[null,null,null,null,null,null,null,null,null,null,null,null,null,null,null,null,null,null,null,null,null,null,null,null,null,null,null,null,null,null,null,null,null,null,null,null,null,null,null,null,null,null,null,null,null,null,null,null,null,null,null,null,null,null,null,null,null,null,null,null,null,null,null,null,null,null,null,null,null,null,null,{"$f":"IF(ISNUMBER(SEARCH($C$6,BU4971)),MAX($BT$13:BT4970)+1,0)","v":4958},0,{"$f":"ROWS($BV$14:BV4971)","v":4958},{"$f":"IFERROR(VLOOKUP(ROWS($BW$14:BW4971),$BT$14:$BU$5000,2,0),\"\")","v":0}]
[null,null,null,null,null,null,null,null,null,null,null,null,null,null,null,null,null,null,null,null,null,null,null,null,null,null,null,null,null,null,null,null,null,null,null,null,null,null,null,null,null,null,null,null,null,null,null,null,null,null,null,null,null,null,null,null,null,null,null,null,null,null,null,null,null,null,null,null,null,null,null,{"$f":"IF(ISNUMBER(SEARCH($C$6,BU4972)),MAX($BT$13:BT4971)+1,0)","v":4959},0,{"$f":"ROWS($BV$14:BV4972)","v":4959},{"$f":"IFERROR(VLOOKUP(ROWS($BW$14:BW4972),$BT$14:$BU$5000,2,0),\"\")","v":0}]
[null,null,null,null,null,null,null,null,null,null,null,null,null,null,null,null,null,null,null,null,null,null,null,null,null,null,null,null,null,null,null,null,null,null,null,null,null,null,null,null,null,null,null,null,null,null,null,null,null,null,null,null,null,null,null,null,null,null,null,null,null,null,null,null,null,null,null,null,null,null,null,{"$f":"IF(ISNUMBER(SEARCH($C$6,BU4973)),MAX($BT$13:BT4972)+1,0)","v":4960},0,{"$f":"ROWS($BV$14:BV4973)","v":4960},{"$f":"IFERROR(VLOOKUP(ROWS($BW$14:BW4973),$BT$14:$BU$5000,2,0),\"\")","v":0}]
[null,null,null,null,null,null,null,null,null,null,null,null,null,null,null,null,null,null,null,null,null,null,null,null,null,null,null,null,null,null,null,null,null,null,null,null,null,null,null,null,null,null,null,null,null,null,null,null,null,null,null,null,null,null,null,null,null,null,null,null,null,null,null,null,null,null,null,null,null,null,null,{"$f":"IF(ISNUMBER(SEARCH($C$6,BU4974)),MAX($BT$13:BT4973)+1,0)","v":4961},0,{"$f":"ROWS($BV$14:BV4974)","v":4961},{"$f":"IFERROR(VLOOKUP(ROWS($BW$14:BW4974),$BT$14:$BU$5000,2,0),\"\")","v":0}]
[null,null,null,null,null,null,null,null,null,null,null,null,null,null,null,null,null,null,null,null,null,null,null,null,null,null,null,null,null,null,null,null,null,null,null,null,null,null,null,null,null,null,null,null,null,null,null,null,null,null,null,null,null,null,null,null,null,null,null,null,null,null,null,null,null,null,null,null,null,null,null,{"$f":"IF(ISNUMBER(SEARCH($C$6,BU4975)),MAX($BT$13:BT4974)+1,0)","v":4962},0,{"$f":"ROWS($BV$14:BV4975)","v":4962},{"$f":"IFERROR(VLOOKUP(ROWS($BW$14:BW4975),$BT$14:$BU$5000,2,0),\"\")","v":0}]
[null,null,null,null,null,null,null,null,null,null,null,null,null,null,null,null,null,null,null,null,null,null,null,null,null,null,null,null,null,null,null,null,null,null,null,null,null,null,null,null,null,null,null,null,null,null,null,null,null,null,null,null,null,null,null,null,null,null,null,null,null,null,null,null,null,null,null,null,null,null,null,{"$f":"IF(ISNUMBER(SEARCH($C$6,BU4976)),MAX($BT$13:BT4975)+1,0)","v":4963},0,{"$f":"ROWS($BV$14:BV4976)","v":4963},{"$f":"IFERROR(VLOOKUP(ROWS($BW$14:BW4976),$BT$14:$BU$5000,2,0),\"\")","v":0}]
[null,null,null,null,null,null,null,null,null,null,null,null,null,null,null,null,null,null,null,null,null,null,null,null,null,null,null,null,null,null,null,null,null,null,null,null,null,null,null,null,null,null,null,null,null,null,null,null,null,null,null,null,null,null,null,null,null,null,null,null,null,null,null,null,null,null,null,null,null,null,null,{"$f":"IF(ISNUMBER(SEARCH($C$6,BU4977)),MAX($BT$13:BT4976)+1,0)","v":4964},0,{"$f":"ROWS($BV$14:BV4977)","v":4964},{"$f":"IFERROR(VLOOKUP(ROWS($BW$14:BW4977),$BT$14:$BU$5000,2,0),\"\")","v":0}]
[null,null,null,null,null,null,null,null,null,null,null,null,null,null,null,null,null,null,null,null,null,null,null,null,null,null,null,null,null,null,null,null,null,null,null,null,null,null,null,null,null,null,null,null,null,null,null,null,null,null,null,null,null,null,null,null,null,null,null,null,null,null,null,null,null,null,null,null,null,null,null,{"$f":"IF(ISNUMBER(SEARCH($C$6,BU4978)),MAX($BT$13:BT4977)+1,0)","v":4965},0,{"$f":"ROWS($BV$14:BV4978)","v":4965},{"$f":"IFERROR(VLOOKUP(ROWS($BW$14:BW4978),$BT$14:$BU$5000,2,0),\"\")","v":0}]
[null,null,null,null,null,null,null,null,null,null,null,null,null,null,null,null,null,null,null,null,null,null,null,null,null,null,null,null,null,null,null,null,null,null,null,null,null,null,null,null,null,null,null,null,null,null,null,null,null,null,null,null,null,null,null,null,null,null,null,null,null,null,null,null,null,null,null,null,null,null,null,{"$f":"IF(ISNUMBER(SEARCH($C$6,BU4979)),MAX($BT$13:BT4978)+1,0)","v":4966},0,{"$f":"ROWS($BV$14:BV4979)","v":4966},{"$f":"IFERROR(VLOOKUP(ROWS($BW$14:BW4979),$BT$14:$BU$5000,2,0),\"\")","v":0}]
[null,null,null,null,null,null,null,null,null,null,null,null,null,null,null,null,null,null,null,null,null,null,null,null,null,null,null,null,null,null,null,null,null,null,null,null,null,null,null,null,null,null,null,null,null,null,null,null,null,null,null,null,null,null,null,null,null,null,null,null,null,null,null,null,null,null,null,null,null,null,null,{"$f":"IF(ISNUMBER(SEARCH($C$6,BU4980)),MAX($BT$13:BT4979)+1,0)","v":4967},0,{"$f":"ROWS($BV$14:BV4980)","v":4967},{"$f":"IFERROR(VLOOKUP(ROWS($BW$14:BW4980),$BT$14:$BU$5000,2,0),\"\")","v":0}]
[null,null,null,null,null,null,null,null,null,null,null,null,null,null,null,null,null,null,null,null,null,null,null,null,null,null,null,null,null,null,null,null,null,null,null,null,null,null,null,null,null,null,null,null,null,null,null,null,null,null,null,null,null,null,null,null,null,null,null,null,null,null,null,null,null,null,null,null,null,null,null,{"$f":"IF(ISNUMBER(SEARCH($C$6,BU4981)),MAX($BT$13:BT4980)+1,0)","v":4968},0,{"$f":"ROWS($BV$14:BV4981)","v":4968},{"$f":"IFERROR(VLOOKUP(ROWS($BW$14:BW4981),$BT$14:$BU$5000,2,0),\"\")","v":0}]
[null,null,null,null,null,null,null,null,null,null,null,null,null,null,null,null,null,null,null,null,null,null,null,null,null,null,null,null,null,null,null,null,null,null,null,null,null,null,null,null,null,null,null,null,null,null,null,null,null,null,null,null,null,null,null,null,null,null,null,null,null,null,null,null,null,null,null,null,null,null,null,{"$f":"IF(ISNUMBER(SEARCH($C$6,BU4982)),MAX($BT$13:BT4981)+1,0)","v":4969},0,{"$f":"ROWS($BV$14:BV4982)","v":4969},{"$f":"IFERROR(VLOOKUP(ROWS($BW$14:BW4982),$BT$14:$BU$5000,2,0),\"\")","v":0}]
[null,null,null,null,null,null,null,null,null,null,null,null,null,null,null,null,null,null,null,null,null,null,null,null,null,null,null,null,null,null,null,null,null,null,null,null,null,null,null,null,null,null,null,null,null,null,null,null,null,null,null,null,null,null,null,null,null,null,null,null,null,null,null,null,null,null,null,null,null,null,null,{"$f":"IF(ISNUMBER(SEARCH($C$6,BU4983)),MAX($BT$13:BT4982)+1,0)","v":4970},0,{"$f":"ROWS($BV$14:BV4983)","v":4970},{"$f":"IFERROR(VLOOKUP(ROWS($BW$14:BW4983),$BT$14:$BU$5000,2,0),\"\")","v":0}]
[null,null,null,null,null,null,null,null,null,null,null,null,null,null,null,null,null,null,null,null,null,null,null,null,null,null,null,null,null,null,null,null,null,null,null,null,null,null,null,null,null,null,null,null,null,null,null,null,null,null,null,null,null,null,null,null,null,null,null,null,null,null,null,null,null,null,null,null,null,null,null,{"$f":"IF(ISNUMBER(SEARCH($C$6,BU4984)),MAX($BT$13:BT4983)+1,0)","v":4971},0,{"$f":"ROWS($BV$14:BV4984)","v":4971},{"$f":"IFERROR(VLOOKUP(ROWS($BW$14:BW4984),$BT$14:$BU$5000,2,0),\"\")","v":0}]
[null,null,null,null,null,null,null,null,null,null,null,null,null,null,null,null,null,null,null,null,null,null,null,null,null,null,null,null,null,null,null,null,null,null,null,null,null,null,null,null,null,null,null,null,null,null,null,null,null,null,null,null,null,null,null,null,null,null,null,null,null,null,null,null,null,null,null,null,null,null,null,{"$f":"IF(ISNUMBER(SEARCH($C$6,BU4985)),MAX($BT$13:BT4984)+1,0)","v":4972},0,{"$f":"ROWS($BV$14:BV4985)","v":4972},{"$f":"IFERROR(VLOOKUP(ROWS($BW$14:BW4985),$BT$14:$BU$5000,2,0),\"\")","v":0}]
[null,null,null,null,null,null,null,null,null,null,null,null,null,null,null,null,null,null,null,null,null,null,null,null,null,null,null,null,null,null,null,null,null,null,null,null,null,null,null,null,null,null,null,null,null,null,null,null,null,null,null,null,null,null,null,null,null,null,null,null,null,null,null,null,null,null,null,null,null,null,null,{"$f":"IF(ISNUMBER(SEARCH($C$6,BU4986)),MAX($BT$13:BT4985)+1,0)","v":4973},0,{"$f":"ROWS($BV$14:BV4986)","v":4973},{"$f":"IFERROR(VLOOKUP(ROWS($BW$14:BW4986),$BT$14:$BU$5000,2,0),\"\")","v":0}]
[null,null,null,null,null,null,null,null,null,null,null,null,null,null,null,null,null,null,null,null,null,null,null,null,null,null,null,null,null,null,null,null,null,null,null,null,null,null,null,null,null,null,null,null,null,null,null,null,null,null,null,null,null,null,null,null,null,null,null,null,null,null,null,null,null,null,null,null,null,null,null,{"$f":"IF(ISNUMBER(SEARCH($C$6,BU4987)),MAX($BT$13:BT4986)+1,0)","v":4974},0,{"$f":"ROWS($BV$14:BV4987)","v":4974},{"$f":"IFERROR(VLOOKUP(ROWS($BW$14:BW4987),$BT$14:$BU$5000,2,0),\"\")","v":0}]
[null,null,null,null,null,null,null,null,null,null,null,null,null,null,null,null,null,null,null,null,null,null,null,null,null,null,null,null,null,null,null,null,null,null,null,null,null,null,null,null,null,null,null,null,null,null,null,null,null,null,null,null,null,null,null,null,null,null,null,null,null,null,null,null,null,null,null,null,null,null,null,{"$f":"IF(ISNUMBER(SEARCH($C$6,BU4988)),MAX($BT$13:BT4987)+1,0)","v":4975},0,{"$f":"ROWS($BV$14:BV4988)","v":4975},{"$f":"IFERROR(VLOOKUP(ROWS($BW$14:BW4988),$BT$14:$BU$5000,2,0),\"\")","v":0}]
[null,null,null,null,null,null,null,null,null,null,null,null,null,null,null,null,null,null,null,null,null,null,null,null,null,null,null,null,null,null,null,null,null,null,null,null,null,null,null,null,null,null,null,null,null,null,null,null,null,null,null,null,null,null,null,null,null,null,null,null,null,null,null,null,null,null,null,null,null,null,null,{"$f":"IF(ISNUMBER(SEARCH($C$6,BU4989)),MAX($BT$13:BT4988)+1,0)","v":4976},0,{"$f":"ROWS($BV$14:BV4989)","v":4976},{"$f":"IFERROR(VLOOKUP(ROWS($BW$14:BW4989),$BT$14:$BU$5000,2,0),\"\")","v":0}]
[null,null,null,null,null,null,null,null,null,null,null,null,null,null,null,null,null,null,null,null,null,null,null,null,null,null,null,null,null,null,null,null,null,null,null,null,null,null,null,null,null,null,null,null,null,null,null,null,null,null,null,null,null,null,null,null,null,null,null,null,null,null,null,null,null,null,null,null,null,null,null,{"$f":"IF(ISNUMBER(SEARCH($C$6,BU4990)),MAX($BT$13:BT4989)+1,0)","v":4977},0,{"$f":"ROWS($BV$14:BV4990)","v":4977},{"$f":"IFERROR(VLOOKUP(ROWS($BW$14:BW4990),$BT$14:$BU$5000,2,0),\"\")","v":0}]
[null,null,null,null,null,null,null,null,null,null,null,null,null,null,null,null,null,null,null,null,null,null,null,null,null,null,null,null,null,null,null,null,null,null,null,null,null,null,null,null,null,null,null,null,null,null,null,null,null,null,null,null,null,null,null,null,null,null,null,null,null,null,null,null,null,null,null,null,null,null,null,{"$f":"IF(ISNUMBER(SEARCH($C$6,BU4991)),MAX($BT$13:BT4990)+1,0)","v":4978},0,{"$f":"ROWS($BV$14:BV4991)","v":4978},{"$f":"IFERROR(VLOOKUP(ROWS($BW$14:BW4991),$BT$14:$BU$5000,2,0),\"\")","v":0}]
[null,null,null,null,null,null,null,null,null,null,null,null,null,null,null,null,null,null,null,null,null,null,null,null,null,null,null,null,null,null,null,null,null,null,null,null,null,null,null,null,null,null,null,null,null,null,null,null,null,null,null,null,null,null,null,null,null,null,null,null,null,null,null,null,null,null,null,null,null,null,null,{"$f":"IF(ISNUMBER(SEARCH($C$6,BU4992)),MAX($BT$13:BT4991)+1,0)","v":4979},0,{"$f":"ROWS($BV$14:BV4992)","v":4979},{"$f":"IFERROR(VLOOKUP(ROWS($BW$14:BW4992),$BT$14:$BU$5000,2,0),\"\")","v":0}]
[null,null,null,null,null,null,null,null,null,null,null,null,null,null,null,null,null,null,null,null,null,null,null,null,null,null,null,null,null,null,null,null,null,null,null,null,null,null,null,null,null,null,null,null,null,null,null,null,null,null,null,null,null,null,null,null,null,null,null,null,null,null,null,null,null,null,null,null,null,null,null,{"$f":"IF(ISNUMBER(SEARCH($C$6,BU4993)),MAX($BT$13:BT4992)+1,0)","v":4980},0,{"$f":"ROWS($BV$14:BV4993)","v":4980},{"$f":"IFERROR(VLOOKUP(ROWS($BW$14:BW4993),$BT$14:$BU$5000,2,0),\"\")","v":0}]
[null,null,null,null,null,null,null,null,null,null,null,null,null,null,null,null,null,null,null,null,null,null,null,null,null,null,null,null,null,null,null,null,null,null,null,null,null,null,null,null,null,null,null,null,null,null,null,null,null,null,null,null,null,null,null,null,null,null,null,null,null,null,null,null,null,null,null,null,null,null,null,{"$f":"IF(ISNUMBER(SEARCH($C$6,BU4994)),MAX($BT$13:BT4993)+1,0)","v":4981},0,{"$f":"ROWS($BV$14:BV4994)","v":4981},{"$f":"IFERROR(VLOOKUP(ROWS($BW$14:BW4994),$BT$14:$BU$5000,2,0),\"\")","v":0}]
[null,null,null,null,null,null,null,null,null,null,null,null,null,null,null,null,null,null,null,null,null,null,null,null,null,null,null,null,null,null,null,null,null,null,null,null,null,null,null,null,null,null,null,null,null,null,null,null,null,null,null,null,null,null,null,null,null,null,null,null,null,null,null,null,null,null,null,null,null,null,null,{"$f":"IF(ISNUMBER(SEARCH($C$6,BU4995)),MAX($BT$13:BT4994)+1,0)","v":4982},0,{"$f":"ROWS($BV$14:BV4995)","v":4982},{"$f":"IFERROR(VLOOKUP(ROWS($BW$14:BW4995),$BT$14:$BU$5000,2,0),\"\")","v":0}]
[null,null,null,null,null,null,null,null,null,null,null,null,null,null,null,null,null,null,null,null,null,null,null,null,null,null,null,null,null,null,null,null,null,null,null,null,null,null,null,null,null,null,null,null,null,null,null,null,null,null,null,null,null,null,null,null,null,null,null,null,null,null,null,null,null,null,null,null,null,null,null,{"$f":"IF(ISNUMBER(SEARCH($C$6,BU4996)),MAX($BT$13:BT4995)+1,0)","v":4983},0,{"$f":"ROWS($BV$14:BV4996)","v":4983},{"$f":"IFERROR(VLOOKUP(ROWS($BW$14:BW4996),$BT$14:$BU$5000,2,0),\"\")","v":0}]
[null,null,null,null,null,null,null,null,null,null,null,null,null,null,null,null,null,null,null,null,null,null,null,null,null,null,null,null,null,null,null,null,null,null,null,null,null,null,null,null,null,null,null,null,null,null,null,null,null,null,null,null,null,null,null,null,null,null,null,null,null,null,null,null,null,null,null,null,null,null,null,{"$f":"IF(ISNUMBER(SEARCH($C$6,BU4997)),MAX($BT$13:BT4996)+1,0)","v":4984},0,{"$f":"ROWS($BV$14:BV4997)","v":4984},{"$f":"IFERROR(VLOOKUP(ROWS($BW$14:BW4997),$BT$14:$BU$5000,2,0),\"\")","v":0}]
[null,null,null,null,null,null,null,null,null,null,null,null,null,null,null,null,null,null,null,null,null,null,null,null,null,null,null,null,null,null,null,null,null,null,null,null,null,null,null,null,null,null,null,null,null,null,null,null,null,null,null,null,null,null,null,null,null,null,null,null,null,null,null,null,null,null,null,null,null,null,null,{"$f":"IF(ISNUMBER(SEARCH($C$6,BU4998)),MAX($BT$13:BT4997)+1,0)","v":4985},0,{"$f":"ROWS($BV$14:BV4998)","v":4985},{"$f":"IFERROR(VLOOKUP(ROWS($BW$14:BW4998),$BT$14:$BU$5000,2,0),\"\")","v":0}]
[null,null,null,null,null,null,null,null,null,null,null,null,null,null,null,null,null,null,null,null,null,null,null,null,null,null,null,null,null,null,null,null,null,null,null,null,null,null,null,null,null,null,null,null,null,null,null,null,null,null,null,null,null,null,null,null,null,null,null,null,null,null,null,null,null,null,null,null,null,null,null,{"$f":"IF(ISNUMBER(SEARCH($C$6,BU4999)),MAX($BT$13:BT4998)+1,0)","v":4986},0,{"$f":"ROWS($BV$14:BV4999)","v":4986},{"$f":"IFERROR(VLOOKUP(ROWS($BW$14:BW4999),$BT$14:$BU$5000,2,0),\"\")","v":0}]
[null,null,null,null,null,null,null,null,null,null,null,null,null,null,null,null,null,null,null,null,null,null,null,null,null,null,null,null,null,null,null,null,null,null,null,null,null,null,null,null,null,null,null,null,null,null,null,null,null,null,null,null,null,null,null,null,null,null,null,null,null,null,null,null,null,null,null,null,null,null,null,{"$f":"IF(ISNUMBER(SEARCH($C$6,BU5000)),MAX($BT$13:BT4999)+1,0)","v":4987},0,{"$f":"ROWS($BV$14:BV5000)","v":4987},{"$f":"IFERROR(VLOOKUP(ROWS($BW$14:BW5000),$BT$14:$BU$5000,2,0),\"\")","v":0}]
[null,null,null,null,null,null,null,null,null,null,null,null,null,null,null,null,null,null,null,null,null,null,null,null,null,null,null,null,null,null,null,null,null,null,null,null,null,null,null,null,null,null,null,null,null,null,null,null,null,null,null,null,null,null,null,null,null,null,null,null,null,null,null,null,null,null,null,null,null,null,null,{"$f":"IF(ISNUMBER(SEARCH($C$6,BU5001)),MAX($BT$13:BT5000)+1,0)","v":4988},0,{"$f":"ROWS($BV$14:BV5001)","v":4988},{"$f":"IFERROR(VLOOKUP(ROWS($BW$14:BW5001),$BT$14:$BU$5000,2,0),\"\")","v":""}]
[null,null,null,null,null,null,null,null,null,null,null,null,null,null,null,null,null,null,null,null,null,null,null,null,null,null,null,null,null,null,null,null,null,null,null,null,null,null,null,null,null,null,null,null,null,null,null,null,null,null,null,null,null,null,null,null,null,null,null,null,null,null,null,null,null,null,null,null,null,null,null,{"$f":"IF(ISNUMBER(SEARCH($C$6,BU5002)),MAX($BT$13:BT5001)+1,0)","v":4989},0,{"$f":"ROWS($BV$14:BV5002)","v":4989},{"$f":"IFERROR(VLOOKUP(ROWS($BW$14:BW5002),$BT$14:$BU$5000,2,0),\"\")","v":""}]
[null,null,null,null,null,null,null,null,null,null,null,null,null,null,null,null,null,null,null,null,null,null,null,null,null,null,null,null,null,null,null,null,null,null,null,null,null,null,null,null,null,null,null,null,null,null,null,null,null,null,null,null,null,null,null,null,null,null,null,null,null,null,null,null,null,null,null,null,null,null,null,{"$f":"IF(ISNUMBER(SEARCH($C$6,BU5003)),MAX($BT$13:BT5002)+1,0)","v":4990},0,{"$f":"ROWS($BV$14:BV5003)","v":4990},{"$f":"IFERROR(VLOOKUP(ROWS($BW$14:BW5003),$BT$14:$BU$5000,2,0),\"\")","v":""}]
[null,null,null,null,null,null,null,null,null,null,null,null,null,null,null,null,null,null,null,null,null,null,null,null,null,null,null,null,null,null,null,null,null,null,null,null,null,null,null,null,null,null,null,null,null,null,null,null,null,null,null,null,null,null,null,null,null,null,null,null,null,null,null,null,null,null,null,null,null,null,null,{"$f":"IF(ISNUMBER(SEARCH($C$6,BU5004)),MAX($BT$13:BT5003)+1,0)","v":4991},0,{"$f":"ROWS($BV$14:BV5004)","v":4991},{"$f":"IFERROR(VLOOKUP(ROWS($BW$14:BW5004),$BT$14:$BU$5000,2,0),\"\")","v":""}]
[null,null,null,null,null,null,null,null,null,null,null,null,null,null,null,null,null,null,null,null,null,null,null,null,null,null,null,null,null,null,null,null,null,null,null,null,null,null,null,null,null,null,null,null,null,null,null,null,null,null,null,null,null,null,null,null,null,null,null,null,null,null,null,null,null,null,null,null,null,null,null,{"$f":"IF(ISNUMBER(SEARCH($C$6,BU5005)),MAX($BT$13:BT5004)+1,0)","v":4992},0,{"$f":"ROWS($BV$14:BV5005)","v":4992},{"$f":"IFERROR(VLOOKUP(ROWS($BW$14:BW5005),$BT$14:$BU$5000,2,0),\"\")","v":""}]
[null,null,null,null,null,null,null,null,null,null,null,null,null,null,null,null,null,null,null,null,null,null,null,null,null,null,null,null,null,null,null,null,null,null,null,null,null,null,null,null,null,null,null,null,null,null,null,null,null,null,null,null,null,null,null,null,null,null,null,null,null,null,null,null,null,null,null,null,null,null,null,{"$f":"IF(ISNUMBER(SEARCH($C$6,BU5006)),MAX($BT$13:BT5005)+1,0)","v":4993},0,{"$f":"ROWS($BV$14:BV5006)","v":4993},{"$f":"IFERROR(VLOOKUP(ROWS($BW$14:BW5006),$BT$14:$BU$5000,2,0),\"\")","v":""}]
[null,null,null,null,null,null,null,null,null,null,null,null,null,null,null,null,null,null,null,null,null,null,null,null,null,null,null,null,null,null,null,null,null,null,null,null,null,null,null,null,null,null,null,null,null,null,null,null,null,null,null,null,null,null,null,null,null,null,null,null,null,null,null,null,null,null,null,null,null,null,null,{"$f":"IF(ISNUMBER(SEARCH($C$6,BU5007)),MAX($BT$13:BT5006)+1,0)","v":4994},0,{"$f":"ROWS($BV$14:BV5007)","v":4994},{"$f":"IFERROR(VLOOKUP(ROWS($BW$14:BW5007),$BT$14:$BU$5000,2,0),\"\")","v":""}]
[null,null,null,null,null,null,null,null,null,null,null,null,null,null,null,null,null,null,null,null,null,null,null,null,null,null,null,null,null,null,null,null,null,null,null,null,null,null,null,null,null,null,null,null,null,null,null,null,null,null,null,null,null,null,null,null,null,null,null,null,null,null,null,null,null,null,null,null,null,null,null,{"$f":"IF(ISNUMBER(SEARCH($C$6,BU5008)),MAX($BT$13:BT5007)+1,0)","v":4995},0,{"$f":"ROWS($BV$14:BV5008)","v":4995},{"$f":"IFERROR(VLOOKUP(ROWS($BW$14:BW5008),$BT$14:$BU$5000,2,0),\"\")","v":""}]

{"sheet":"Error Messages","index":6,"n_rows":45,"n_cols":70,"rows_kept":45,"cut":false,"hidden":false,"merged":[[44,1,44,13],[0,1,0,13],[3,6,3,10],[19,2,19,12],[18,2,18,12],[17,2,17,12],[16,2,16,12],[15,2,15,12],[14,2,14,12],[13,2,13,12],[12,2,12,12],[11,2,11,12],[10,2,10,12],[4,6,4,9],[30,2,30,12],[31,2,31,12],[32,2,32,12],[33,2,33,12],[34,2,34,12],[25,2,25,12],[26,2,26,12],[27,2,27,12],[28,2,28,12],[29,2,29,12],[20,2,20,12],[21,2,21,12],[22,2,22,12],[23,2,23,12],[24,2,24,12]]}
[null,{"$f":"\"IDEA LEA Personnel Data for School Year \"&'Special Ed Teachers (FS070)'!E11&CHAR(10)&\" \"&'Select LEA'!C6","v":"IDEA LEA Personnel Data for School Year \n "},null,null,null,null,null,null,null,null,null,null,null,null,"End of worksheet","End of worksheet"]
[null,null,null,null,null,null,null,null,null,null,null,null,null,null,null,null,null,null,null,null,{"$f":"IFERROR(INDEX('Data Summary'!#REF!, SMALL(IF($D$2='Data Summary'!K33:K37, ROW('Data Summary'!K33:K37)-MIN(ROW('Data Summary'!K33:K37))+1, \"\"), ROW(B1))),\"\")","v":""}]
[]
[null,null,null,null,null,null,"Triggered edit checks"]
[null,null,null,null,null,null,"Data file",null,null,null,"Count",null,null,null,null,null,null,null,null,null,"=IFERROR(INDEX(Dashboard!$T$16:$T$20, SMALL(IF($U$7=Dashboard!$S$16:$S$20, ROW(Dashboard!$S$16:$S$20)-MIN(ROW(Dashboard!$S$16:$S$20))+1, \"\"), ROW(A1))),\"\")"]
[null,null,null,null,null,null,"FS070 — Special Education Teachers (FTE)",null,null,null,{"$f":"VALUE('Data Summary'!H5)","v":0}]
[null,null,null,null,null,null,"FS099 — Special Education Related Services Personnel ",null,null,null,{"$f":"VALUE('Data Summary'!H6)","v":0}]
[null,null,null,null,null,null,"FS112 — Special Education Paraprofessionals ",null,null,null,{"$f":"VALUE('Data Summary'!H7)","v":0},null,null,null,null,null,null,null,null,null,null,1]
[null,null,null,null,null,null,"Total",null,null,null,{"$f":"SUM(K6:K8)","v":0},null,null,null,null,null,null,null,null,{"$f":"IFERROR(INDEX('Data Summary'!$J$11:$J$37, SMALL(IF($V$8='Data Summary'!$K$11:$K$37, ROW('Data Summary'!$K$11:$K$37)-MIN(ROW('Data Summary'!$K$11:$K$37))+1, \"\"), ROW(B1))),\"\")","v":""},{"$f":"IFERROR(INDEX('Data Summary'!$O$11:$O$37, SMALL(IF($V$8='Data Summary'!$K$11:$K$37, ROW('Data Summary'!$K$11:$K$37)-MIN(ROW('Data Summary'!$K$11:$K$37))+1, \"\"), ROW(B1))),\"\")","v":""},{"$f":"IFERROR(INDEX('Data Summary'!$L$11:$L$37, SMALL(IF($V$8='Data Summary'!$K$11:$K$37, ROW('Data Summary'!$K$11:$K$37)-MIN(ROW('Data Summary'!$K$11:$K$37))+1, \"\"), ROW(B1))),\"\")","v":""},{"$f":"IFERROR(INDEX('Data Summary'!$M$11:$M$37, SMALL(IF($V$8='Data Summary'!$K$11:$K$37, ROW('Data Summary'!$K$11:$K$37)-MIN(ROW('Data Summary'!$K$11:$K$37))+1, \"\"), ROW(B1))),\"\")","v":""},{"$f":"IF(V9=\"No Data\",1,0)","v":0}]
[null,null,null,null,null,null,null,null,null,null,null,null,null,null,null,null,null,null,null,{"$f":"IFERROR(INDEX('Data Summary'!$J$11:$J$37, SMALL(IF($V$8='Data Summary'!$K$11:$K$37, ROW('Data Summary'!$K$11:$K$37)-MIN(ROW('Data Summary'!$K$11:$K$37))+1, \"\"), ROW(B2))),\"\")","v":""},{"$f":"IFERROR(INDEX('Data Summary'!$O$11:$O$37, SMALL(IF($V$8='Data Summary'!$K$11:$K$37, ROW('Data Summary'!$K$11:$K$37)-MIN(ROW('Data Summary'!$K$11:$K$37))+1, \"\"), ROW(B2))),\"\")","v":""},{"$f":"IFERROR(INDEX('Data Summary'!$L$11:$L$37, SMALL(IF($V$8='Data Summary'!$K$11:$K$37, ROW('Data Summary'!$K$11:$K$37)-MIN(ROW('Data Summary'!$K$11:$K$37))+1, \"\"), ROW(B2))),\"\")","v":""},{"$f":"IFERROR(INDEX('Data Summary'!$M$11:$M$37, SMALL(IF($V$8='Data Summary'!$K$11:$K$37, ROW('Data Summary'!$K$11:$K$37)-MIN(ROW('Data Summary'!$K$11:$K$37))+1, \"\"), ROW(B2))),\"\")","v":""},0]
[null,"File","Triggered edit checks",null,null,null,null,null,null,null,null,null,null,"FTE",null,null,null,null,null,{"$f":"IFERROR(INDEX('Data Summary'!$J$11:$J$37, SMALL(IF($V$8='Data Summary'!$K$11:$K$37, ROW('Data Summary'!$K$11:$K$37)-MIN(ROW('Data Summary'!$K$11:$K$37))+1, \"\"), ROW(B3))),\"\")","v":""},{"$f":"IFERROR(INDEX('Data Summary'!$O$11:$O$37, SMALL(IF($V$8='Data Summary'!$K$11:$K$37, ROW('Data Summary'!$K$11:$K$37)-MIN(ROW('Data Summary'!$K$11:$K$37))+1, \"\"), ROW(B3))),\"\")","v":""},{"$f":"IFERROR(INDEX('Data Summary'!$L$11:$L$37, SMALL(IF($V$8='Data Summary'!$K$11:$K$37, ROW('Data Summary'!$K$11:$K$37)-MIN(ROW('Data Summary'!$K$11:$K$37))+1, \"\"), ROW(B3))),\"\")","v":""},{"$f":"IFERROR(INDEX('Data Summary'!$M$11:$M$37, SMALL(IF($V$8='Data Summary'!$K$11:$K$37, ROW('Data Summary'!$K$11:$K$37)-MIN(ROW('Data Summary'!$K$11:$K$37))+1, \"\"), ROW(B3))),\"\")","v":""},0]
[null,{"$f":"W9","v":""},{"$f":"IF(X9=1,\"No Data\",U9)","v":""},null,null,null,null,null,null,null,null,null,null,{"$f":"IF(T9=\"\",\"\",HYPERLINK(CONCATENATE(\"#\",\"'Edit Check Details'!\",T9),V9))","v":""},null,null,null,null,null,{"$f":"IFERROR(INDEX('Data Summary'!$J$11:$J$37, SMALL(IF($V$8='Data Summary'!$K$11:$K$37, ROW('Data Summary'!$K$11:$K$37)-MIN(ROW('Data Summary'!$K$11:$K$37))+1, \"\"), ROW(B4))),\"\")","v":""},{"$f":"IFERROR(INDEX('Data Summary'!$O$11:$O$37, SMALL(IF($V$8='Data Summary'!$K$11:$K$37, ROW('Data Summary'!$K$11:$K$37)-MIN(ROW('Data Summary'!$K$11:$K$37))+1, \"\"), ROW(B4))),\"\")","v":""},{"$f":"IFERROR(INDEX('Data Summary'!$L$11:$L$37, SMALL(IF($V$8='Data Summary'!$K$11:$K$37, ROW('Data Summary'!$K$11:$K$37)-MIN(ROW('Data Summary'!$K$11:$K$37))+1, \"\"), ROW(B4))),\"\")","v":""},{"$f":"IFERROR(INDEX('Data Summary'!$M$11:$M$37, SMALL(IF($V$8='Data Summary'!$K$11:$K$37, ROW('Data Summary'!$K$11:$K$37)-MIN(ROW('Data Summary'!$K$11:$K$37))+1, \"\"), ROW(B4))),\"\")","v":""},0]
[null,{"$f":"W10","v":""},"",null,null,null,null,null,null,null,null,null,null,{"$f":"IF(T10=\"\",\"\",HYPERLINK(CONCATENATE(\"#\",\"'Edit Check Details'!\",T10),V10))","v":""},null,null,null,null,null,{"$f":"IFERROR(INDEX('Data Summary'!$J$11:$J$37, SMALL(IF($V$8='Data Summary'!$K$11:$K$37, ROW('Data Summary'!$K$11:$K$37)-MIN(ROW('Data Summary'!$K$11:$K$37))+1, \"\"), ROW(B5))),\"\")","v":""},{"$f":"IFERROR(INDEX('Data Summary'!$O$11:$O$37, SMALL(IF($V$8='Data Summary'!$K$11:$K$37, ROW('Data Summary'!$K$11:$K$37)-MIN(ROW('Data Summary'!$K$11:$K$37))+1, \"\"), ROW(B5))),\"\")","v":""},{"$f":"IFERROR(INDEX('Data Summary'!$L$11:$L$37, SMALL(IF($V$8='Data Summary'!$K$11:$K$37, ROW('Data Summary'!$K$11:$K$37)-MIN(ROW('Data Summary'!$K$11:$K$37))+1, \"\"), ROW(B5))),\"\")","v":""},{"$f":"IFERROR(INDEX('Data Summary'!$M$11:$M$37, SMALL(IF($V$8='Data Summary'!$K$11:$K$37, ROW('Data Summary'!$K$11:$K$37)-MIN(ROW('Data Summary'!$K$11:$K$37))+1, \"\"), ROW(B5))),\"\")","v":""},0,null,null,null,null,null,null,"File record \nnumber","State code","State agency number","LEA identifier (state)","Filler","Table name","Filler","Qualification status (teachers)","Filler","Age group","Total indicator","Explanation","Teacher FTE",null,"File record \nnumber","State code","State agency number","LEA identifier (state)","Filler","Table name","Staff category (special education related service)","Certification status","Filler","Total indicator","Explanation","Staff FTE",null,"File record \nnumber","State code","State agency number","LEA identifier (state)","Filler","Table name","Filler","Age group","Qualification status","Filler","Total indicator","Explanation","Staff FTE"]
[null,{"$f":"W11","v":""},"",null,null,null,null,null,null,null,null,null,null,"",null,null,null,null,null,{"$f":"IFERROR(INDEX('Data Summary'!$J$11:$J$37, SMALL(IF($V$8='Data Summary'!$K$11:$K$37, ROW('Data Summary'!$K$11:$K$37)-MIN(ROW('Data Summary'!$K$11:$K$37))+1, \"\"), ROW(B6))),\"\")","v":""},{"$f":"IFERROR(INDEX('Data Summary'!$O$11:$O$37, SMALL(IF($V$8='Data Summary'!$K$11:$K$37, ROW('Data Summary'!$K$11:$K$37)-MIN(ROW('Data Summary'!$K$11:$K$37))+1, \"\"), ROW(B6))),\"\")","v":""},{"$f":"IFERROR(INDEX('Data Summary'!$L$11:$L$37, SMALL(IF($V$8='Data Summary'!$K$11:$K$37, ROW('Data Summary'!$K$11:$K$37)-MIN(ROW('Data Summary'!$K$11:$K$37))+1, \"\"), ROW(B6))),\"\")","v":""},{"$f":"IFERROR(INDEX('Data Summary'!$M$11:$M$37, SMALL(IF($V$8='Data Summary'!$K$11:$K$37, ROW('Data Summary'!$K$11:$K$37)-MIN(ROW('Data Summary'!$K$11:$K$37))+1, \"\"), ROW(B6))),\"\")","v":""},0,null,null,null,null,null,null,5,98,"01",25,null,"TEACHSPED",null,"SPEDTCHFULCRT",null,"3TO5","N",null,0,null,146,98,"01",25,null,"SPEDUPERSNL","OCCTHERAP","FC",null,"N",null,0.1,null,31,98,"01",25,null,"SPEDPARAPROF",null,"3TO5","Q",null,"N",null,3]
[null,{"$f":"W12","v":""},{"$f":"IF(X12=1,\"No Data\",U12)","v":""},null,null,null,null,null,null,null,null,null,null,"",null,null,null,null,null,{"$f":"IFERROR(INDEX('Data Summary'!$J$11:$J$37, SMALL(IF($V$8='Data Summary'!$K$11:$K$37, ROW('Data Summary'!$K$11:$K$37)-MIN(ROW('Data Summary'!$K$11:$K$37))+1, \"\"), ROW(B7))),\"\")","v":""},{"$f":"IFERROR(INDEX('Data Summary'!$O$11:$O$37, SMALL(IF($V$8='Data Summary'!$K$11:$K$37, ROW('Data Summary'!$K$11:$K$37)-MIN(ROW('Data Summary'!$K$11:$K$37))+1, \"\"), ROW(B7))),\"\")","v":""},{"$f":"IFERROR(INDEX('Data Summary'!$L$11:$L$37, SMALL(IF($V$8='Data Summary'!$K$11:$K$37, ROW('Data Summary'!$K$11:$K$37)-MIN(ROW('Data Summary'!$K$11:$K$37))+1, \"\"), ROW(B7))),\"\")","v":""},{"$f":"IFERROR(INDEX('Data Summary'!$M$11:$M$37, SMALL(IF($V$8='Data Summary'!$K$11:$K$37, ROW('Data Summary'!$K$11:$K$37)-MIN(ROW('Data Summary'!$K$11:$K$37))+1, \"\"), ROW(B7))),\"\")","v":""},0,null,null,null,null,null,null,122,98,"01",25,null,"TEACHSPED",null,"SPEDTCHFULCRT",null,"6TO21","N",null,15,null,302,98,"01",25,null,"SPEDUPERSNL","PHYSTHERAP","FC",null,"N",null,0.05,null,147,98,"01",25,null,"SPEDPARAPROF",null,"6TO21","Q",null,"N",null,0]
[null,{"$f":"W13","v":""},{"$f":"IF(X13=1,\"No Data\",U13)","v":""},null,null,null,null,null,null,null,null,null,null,"",null,null,null,null,null,{"$f":"IFERROR(INDEX('Data Summary'!$J$11:$J$37, SMALL(IF($V$8='Data Summary'!$K$11:$K$37, ROW('Data Summary'!$K$11:$K$37)-MIN(ROW('Data Summary'!$K$11:$K$37))+1, \"\"), ROW(B8))),\"\")","v":""},{"$f":"IFERROR(INDEX('Data Summary'!$O$11:$O$37, SMALL(IF($V$8='Data Summary'!$K$11:$K$37, ROW('Data Summary'!$K$11:$K$37)-MIN(ROW('Data Summary'!$K$11:$K$37))+1, \"\"), ROW(B8))),\"\")","v":""},{"$f":"IFERROR(INDEX('Data Summary'!$L$11:$L$37, SMALL(IF($V$8='Data Summary'!$K$11:$K$37, ROW('Data Summary'!$K$11:$K$37)-MIN(ROW('Data Summary'!$K$11:$K$37))+1, \"\"), ROW(B8))),\"\")","v":""},{"$f":"IFERROR(INDEX('Data Summary'!$M$11:$M$37, SMALL(IF($V$8='Data Summary'!$K$11:$K$37, ROW('Data Summary'!$K$11:$K$37)-MIN(ROW('Data Summary'!$K$11:$K$37))+1, \"\"), ROW(B8))),\"\")","v":""},0,null,null,null,null,null,null,324,98,"01",25,null,"TEACHSPED",null,"SPEDTCHFULCRT",null,null,"Y",null,17,null,416,98,"01",25,null,"SPEDUPERSNL","PSYCH","FC",null,"N",null,1,null,289,98,"01",25,null,"SPEDPARAPROF",null,"3TO5",null,null,"Y",null,3]
[null,"","",null,null,null,null,null,null,null,null,null,null,"",null,null,null,null,null,{"$f":"IFERROR(INDEX('Data Summary'!$J$11:$J$37, SMALL(IF($V$8='Data Summary'!$K$11:$K$37, ROW('Data Summary'!$K$11:$K$37)-MIN(ROW('Data Summary'!$K$11:$K$37))+1, \"\"), ROW(B9))),\"\")","v":""},{"$f":"IFERROR(INDEX('Data Summary'!$O$11:$O$37, SMALL(IF($V$8='Data Summary'!$K$11:$K$37, ROW('Data Summary'!$K$11:$K$37)-MIN(ROW('Data Summary'!$K$11:$K$37))+1, \"\"), ROW(B9))),\"\")","v":""},{"$f":"IFERROR(INDEX('Data Summary'!$L$11:$L$37, SMALL(IF($V$8='Data Summary'!$K$11:$K$37, ROW('Data Summary'!$K$11:$K$37)-MIN(ROW('Data Summary'!$K$11:$K$37))+1, \"\"), ROW(B9))),\"\")","v":""},{"$f":"IFERROR(INDEX('Data Summary'!$M$11:$M$37, SMALL(IF($V$8='Data Summary'!$K$11:$K$37, ROW('Data Summary'!$K$11:$K$37)-MIN(ROW('Data Summary'!$K$11:$K$37))+1, \"\"), ROW(B9))),\"\")","v":""},0,null,null,null,null,null,null,512,98,"01",25,null,"TEACHSPED",null,null,null,"3TO5","Y",null,2,null,564,98,"01",25,null,"SPEDUPERSNL","SPEECHPATH","FC",null,"N",null,2.5,null,290,98,"01",25,null,"SPEDPARAPROF",null,"6TO21",null,null,"Y",null,20]
[null,"","",null,null,null,null,null,null,null,null,null,null,"",null,null,null,null,null,{"$f":"IFERROR(INDEX('Data Summary'!$J$11:$J$37, SMALL(IF($V$8='Data Summary'!$K$11:$K$37, ROW('Data Summary'!$K$11:$K$37)-MIN(ROW('Data Summary'!$K$11:$K$37))+1, \"\"), ROW(B10))),\"\")","v":""},{"$f":"IFERROR(INDEX('Data Summary'!$O$11:$O$37, SMALL(IF($V$8='Data Summary'!$K$11:$K$37, ROW('Data Summary'!$K$11:$K$37)-MIN(ROW('Data Summary'!$K$11:$K$37))+1, \"\"), ROW(B10))),\"\")","v":""},{"$f":"IFERROR(INDEX('Data Summary'!$L$11:$L$37, SMALL(IF($V$8='Data Summary'!$K$11:$K$37, ROW('Data Summary'!$K$11:$K$37)-MIN(ROW('Data Summary'!$K$11:$K$37))+1, \"\"), ROW(B10))),\"\")","v":""},{"$f":"IFERROR(INDEX('Data Summary'!$M$11:$M$37, SMALL(IF($V$8='Data Summary'!$K$11:$K$37, ROW('Data Summary'!$K$11:$K$37)-MIN(ROW('Data Summary'!$K$11:$K$37))+1, \"\"), ROW(B10))),\"\")","v":""},0,null,null,null,null,null,null,513,98,"01",25,null,"TEACHSPED",null,null,null,"6TO21","Y",null,15,null,768,98,"01",25,null,"SPEDUPERSNL","OCCTHERAP",null,null,"Y",null,0,null,542,98,"01",25,null,"SPEDPARAPROF",null,null,"Q",null,"Y",null,23]
[null,"","",null,null,null,null,null,null,null,null,null,null,"",null,null,null,null,null,{"$f":"IFERROR(INDEX('Data Summary'!$J$11:$J$37, SMALL(IF($V$8='Data Summary'!$K$11:$K$37, ROW('Data Summary'!$K$11:$K$37)-MIN(ROW('Data Summary'!$K$11:$K$37))+1, \"\"), ROW(B11))),\"\")","v":""},{"$f":"IFERROR(INDEX('Data Summary'!$O$11:$O$37, SMALL(IF($V$8='Data Summary'!$K$11:$K$37, ROW('Data Summary'!$K$11:$K$37)-MIN(ROW('Data Summary'!$K$11:$K$37))+1, \"\"), ROW(B11))),\"\")","v":""},{"$f":"IFERROR(INDEX('Data Summary'!$L$11:$L$37, SMALL(IF($V$8='Data Summary'!$K$11:$K$37, ROW('Data Summary'!$K$11:$K$37)-MIN(ROW('Data Summary'!$K$11:$K$37))+1, \"\"), ROW(B11))),\"\")","v":""},{"$f":"IFERROR(INDEX('Data Summary'!$M$11:$M$37, SMALL(IF($V$8='Data Summary'!$K$11:$K$37, ROW('Data Summary'!$K$11:$K$37)-MIN(ROW('Data Summary'!$K$11:$K$37))+1, \"\"), ROW(B11))),\"\")","v":""},0,null,null,null,null,null,null,766,98,"01",25,null,"TEACHSPED",null,null,null,null,"Y",null,17,null,769,98,"01",25,null,"SPEDUPERSNL","PHYSTHERAP",null,null,"Y",null,0,null,701,98,"01",25,null,"SPEDPARAPROF",null,null,null,null,"Y",null,23]
[null,"","",null,null,null,null,null,null,null,null,null,null,"",null,null,null,null,null,{"$f":"IFERROR(INDEX('Data Summary'!$J$11:$J$37, SMALL(IF($V$8='Data Summary'!$K$11:$K$37, ROW('Data Summary'!$K$11:$K$37)-MIN(ROW('Data Summary'!$K$11:$K$37))+1, \"\"), ROW(B12))),\"\")","v":""},{"$f":"IFERROR(INDEX('Data Summary'!$O$11:$O$37, SMALL(IF($V$8='Data Summary'!$K$11:$K$37, ROW('Data Summary'!$K$11:$K$37)-MIN(ROW('Data Summary'!$K$11:$K$37))+1, \"\"), ROW(B12))),\"\")","v":""},{"$f":"IFERROR(INDEX('Data Summary'!$L$11:$L$37, SMALL(IF($V$8='Data Summary'!$K$11:$K$37, ROW('Data Summary'!$K$11:$K$37)-MIN(ROW('Data Summary'!$K$11:$K$37))+1, \"\"), ROW(B12))),\"\")","v":""},{"$f":"IFERROR(INDEX('Data Summary'!$M$11:$M$37, SMALL(IF($V$8='Data Summary'!$K$11:$K$37, ROW('Data Summary'!$K$11:$K$37)-MIN(ROW('Data Summary'!$K$11:$K$37))+1, \"\"), ROW(B12))),\"\")","v":""},0,null,null,null,null,null,null,null,null,null,null,null,null,null,null,null,null,null,null,null,null,770,98,"01",25,null,"SPEDUPERSNL","PSYCH",null,null,"Y",null,0]
[null,"","",null,null,null,null,null,null,null,null,null,null,"",null,null,null,null,null,{"$f":"IFERROR(INDEX('Data Summary'!$J$11:$J$37, SMALL(IF($V$8='Data Summary'!$K$11:$K$37, ROW('Data Summary'!$K$11:$K$37)-MIN(ROW('Data Summary'!$K$11:$K$37))+1, \"\"), ROW(B13))),\"\")","v":""},{"$f":"IFERROR(INDEX('Data Summary'!$O$11:$O$37, SMALL(IF($V$8='Data Summary'!$K$11:$K$37, ROW('Data Summary'!$K$11:$K$37)-MIN(ROW('Data Summary'!$K$11:$K$37))+1, \"\"), ROW(B13))),\"\")","v":""},{"$f":"IFERROR(INDEX('Data Summary'!$L$11:$L$37, SMALL(IF($V$8='Data Summary'!$K$11:$K$37, ROW('Data Summary'!$K$11:$K$37)-MIN(ROW('Data Summary'!$K$11:$K$37))+1, \"\"), ROW(B13))),\"\")","v":""},{"$f":"IFERROR(INDEX('Data Summary'!$M$11:$M$37, SMALL(IF($V$8='Data Summary'!$K$11:$K$37, ROW('Data Summary'!$K$11:$K$37)-MIN(ROW('Data Summary'!$K$11:$K$37))+1, \"\"), ROW(B13))),\"\")","v":""},0,null,null,null,null,null,null,null,null,null,null,null,null,null,null,null,null,null,null,null,null,771,98,"01",25,null,"SPEDUPERSNL","SPEECHPATH",null,null,"Y",null,0]
[null,"","",null,null,null,null,null,null,null,null,null,null,"",null,null,null,null,null,{"$f":"IFERROR(INDEX('Data Summary'!$J$11:$J$37, SMALL(IF($V$8='Data Summary'!$K$11:$K$37, ROW('Data Summary'!$K$11:$K$37)-MIN(ROW('Data Summary'!$K$11:$K$37))+1, \"\"), ROW(B14))),\"\")","v":""},{"$f":"IFERROR(INDEX('Data Summary'!$O$11:$O$37, SMALL(IF($V$8='Data Summary'!$K$11:$K$37, ROW('Data Summary'!$K$11:$K$37)-MIN(ROW('Data Summary'!$K$11:$K$37))+1, \"\"), ROW(B14))),\"\")","v":""},{"$f":"IFERROR(INDEX('Data Summary'!$L$11:$L$37, SMALL(IF($V$8='Data Summary'!$K$11:$K$37, ROW('Data Summary'!$K$11:$K$37)-MIN(ROW('Data Summary'!$K$11:$K$37))+1, \"\"), ROW(B14))),\"\")","v":""},{"$f":"IFERROR(INDEX('Data Summary'!$M$11:$M$37, SMALL(IF($V$8='Data Summary'!$K$11:$K$37, ROW('Data Summary'!$K$11:$K$37)-MIN(ROW('Data Summary'!$K$11:$K$37))+1, \"\"), ROW(B14))),\"\")","v":""},0]
[null,"","",null,null,null,null,null,null,null,null,null,null,"",null,null,null,null,null,{"$f":"IFERROR(INDEX('Data Summary'!$J$11:$J$37, SMALL(IF($V$8='Data Summary'!$K$11:$K$37, ROW('Data Summary'!$K$11:$K$37)-MIN(ROW('Data Summary'!$K$11:$K$37))+1, \"\"), ROW(B15))),\"\")","v":""},{"$f":"IFERROR(INDEX('Data Summary'!$O$11:$O$37, SMALL(IF($V$8='Data Summary'!$K$11:$K$37, ROW('Data Summary'!$K$11:$K$37)-MIN(ROW('Data Summary'!$K$11:$K$37))+1, \"\"), ROW(B15))),\"\")","v":""},{"$f":"IFERROR(INDEX('Data Summary'!$L$11:$L$37, SMALL(IF($V$8='Data Summary'!$K$11:$K$37, ROW('Data Summary'!$K$11:$K$37)-MIN(ROW('Data Summary'!$K$11:$K$37))+1, \"\"), ROW(B15))),\"\")","v":""},{"$f":"IFERROR(INDEX('Data Summary'!$M$11:$M$37, SMALL(IF($V$8='Data Summary'!$K$11:$K$37, ROW('Data Summary'!$K$11:$K$37)-MIN(ROW('Data Summary'!$K$11:$K$37))+1, \"\"), ROW(B15))),\"\")","v":""},0]
[null,"","",null,null,null,null,null,null,null,null,null,null,"",null,null,null,null,null,{"$f":"IFERROR(INDEX('Data Summary'!$J$11:$J$37, SMALL(IF($V$8='Data Summary'!$K$11:$K$37, ROW('Data Summary'!$K$11:$K$37)-MIN(ROW('Data Summary'!$K$11:$K$37))+1, \"\"), ROW(B16))),\"\")","v":""},{"$f":"IFERROR(INDEX('Data Summary'!$O$11:$O$37, SMALL(IF($V$8='Data Summary'!$K$11:$K$37, ROW('Data Summary'!$K$11:$K$37)-MIN(ROW('Data Summary'!$K$11:$K$37))+1, \"\"), ROW(B16))),\"\")","v":""},{"$f":"IFERROR(INDEX('Data Summary'!$L$11:$L$37, SMALL(IF($V$8='Data Summary'!$K$11:$K$37, ROW('Data Summary'!$K$11:$K$37)-MIN(ROW('Data Summary'!$K$11:$K$37))+1, \"\"), ROW(B16))),\"\")","v":""},{"$f":"IFERROR(INDEX('Data Summary'!$M$11:$M$37, SMALL(IF($V$8='Data Summary'!$K$11:$K$37, ROW('Data Summary'!$K$11:$K$37)-MIN(ROW('Data Summary'!$K$11:$K$37))+1, \"\"), ROW(B16))),\"\")","v":""},0]
[null,"","",null,null,null,null,null,null,null,null,null,null,"",null,null,null,null,null,{"$f":"IFERROR(INDEX('Data Summary'!$J$11:$J$37, SMALL(IF($V$8='Data Summary'!$K$11:$K$37, ROW('Data Summary'!$K$11:$K$37)-MIN(ROW('Data Summary'!$K$11:$K$37))+1, \"\"), ROW(B17))),\"\")","v":""},{"$f":"IFERROR(INDEX('Data Summary'!$O$11:$O$37, SMALL(IF($V$8='Data Summary'!$K$11:$K$37, ROW('Data Summary'!$K$11:$K$37)-MIN(ROW('Data Summary'!$K$11:$K$37))+1, \"\"), ROW(B17))),\"\")","v":""},{"$f":"IFERROR(INDEX('Data Summary'!$L$11:$L$37, SMALL(IF($V$8='Data Summary'!$K$11:$K$37, ROW('Data Summary'!$K$11:$K$37)-MIN(ROW('Data Summary'!$K$11:$K$37))+1, \"\"), ROW(B17))),\"\")","v":""},{"$f":"IFERROR(INDEX('Data Summary'!$M$11:$M$37, SMALL(IF($V$8='Data Summary'!$K$11:$K$37, ROW('Data Summary'!$K$11:$K$37)-MIN(ROW('Data Summary'!$K$11:$K$37))+1, \"\"), ROW(B17))),\"\")","v":""},0]
[null,"","",null,null,null,null,null,null,null,null,null,null,"",null,null,null,null,null,{"$f":"IFERROR(INDEX('Data Summary'!$J$11:$J$37, SMALL(IF($V$8='Data Summary'!$K$11:$K$37, ROW('Data Summary'!$K$11:$K$37)-MIN(ROW('Data Summary'!$K$11:$K$37))+1, \"\"), ROW(B18))),\"\")","v":""},{"$f":"IFERROR(INDEX('Data Summary'!$O$11:$O$37, SMALL(IF($V$8='Data Summary'!$K$11:$K$37, ROW('Data Summary'!$K$11:$K$37)-MIN(ROW('Data Summary'!$K$11:$K$37))+1, \"\"), ROW(B18))),\"\")","v":""},{"$f":"IFERROR(INDEX('Data Summary'!$L$11:$L$37, SMALL(IF($V$8='Data Summary'!$K$11:$K$37, ROW('Data Summary'!$K$11:$K$37)-MIN(ROW('Data Summary'!$K$11:$K$37))+1, \"\"), ROW(B18))),\"\")","v":""},{"$f":"IFERROR(INDEX('Data Summary'!$M$11:$M$37, SMALL(IF($V$8='Data Summary'!$K$11:$K$37, ROW('Data Summary'!$K$11:$K$37)-MIN(ROW('Data Summary'!$K$11:$K$37))+1, \"\"), ROW(B18))),\"\")","v":""},0]
[null,"","",null,null,null,null,null,null,null,null,null,null,"",null,null,null,null,null,{"$f":"IFERROR(INDEX('Data Summary'!$J$11:$J$37, SMALL(IF($V$8='Data Summary'!$K$11:$K$37, ROW('Data Summary'!$K$11:$K$37)-MIN(ROW('Data Summary'!$K$11:$K$37))+1, \"\"), ROW(B19))),\"\")","v":""},{"$f":"IFERROR(INDEX('Data Summary'!$O$11:$O$37, SMALL(IF($V$8='Data Summary'!$K$11:$K$37, ROW('Data Summary'!$K$11:$K$37)-MIN(ROW('Data Summary'!$K$11:$K$37))+1, \"\"), ROW(B19))),\"\")","v":""},{"$f":"IFERROR(INDEX('Data Summary'!$L$11:$L$37, SMALL(IF($V$8='Data Summary'!$K$11:$K$37, ROW('Data Summary'!$K$11:$K$37)-MIN(ROW('Data Summary'!$K$11:$K$37))+1, \"\"), ROW(B19))),\"\")","v":""},{"$f":"IFERROR(INDEX('Data Summary'!$M$11:$M$37, SMALL(IF($V$8='Data Summary'!$K$11:$K$37, ROW('Data Summary'!$K$11:$K$37)-MIN(ROW('Data Summary'!$K$11:$K$37))+1, \"\"), ROW(B19))),\"\")","v":""},0]
[null,"","",null,null,null,null,null,null,null,null,null,null,"",null,null,null,null,null,{"$f":"IFERROR(INDEX('Data Summary'!$J$11:$J$37, SMALL(IF($V$8='Data Summary'!$K$11:$K$37, ROW('Data Summary'!$K$11:$K$37)-MIN(ROW('Data Summary'!$K$11:$K$37))+1, \"\"), ROW(B20))),\"\")","v":""},{"$f":"IFERROR(INDEX('Data Summary'!$O$11:$O$37, SMALL(IF($V$8='Data Summary'!$K$11:$K$37, ROW('Data Summary'!$K$11:$K$37)-MIN(ROW('Data Summary'!$K$11:$K$37))+1, \"\"), ROW(B20))),\"\")","v":""},{"$f":"IFERROR(INDEX('Data Summary'!$L$11:$L$37, SMALL(IF($V$8='Data Summary'!$K$11:$K$37, ROW('Data Summary'!$K$11:$K$37)-MIN(ROW('Data Summary'!$K$11:$K$37))+1, \"\"), ROW(B20))),\"\")","v":""},{"$f":"IFERROR(INDEX('Data Summary'!$M$11:$M$37, SMALL(IF($V$8='Data Summary'!$K$11:$K$37, ROW('Data Summary'!$K$11:$K$37)-MIN(ROW('Data Summary'!$K$11:$K$37))+1, \"\"), ROW(B20))),\"\")","v":""},0]
[null,"","",null,null,null,null,null,null,null,null,null,null,"",null,null,null,null,null,{"$f":"IFERROR(INDEX('Data Summary'!$J$11:$J$37, SMALL(IF($V$8='Data Summary'!$K$11:$K$37, ROW('Data Summary'!$K$11:$K$37)-MIN(ROW('Data Summary'!$K$11:$K$37))+1, \"\"), ROW(B21))),\"\")","v":""},{"$f":"IFERROR(INDEX('Data Summary'!$O$11:$O$37, SMALL(IF($V$8='Data Summary'!$K$11:$K$37, ROW('Data Summary'!$K$11:$K$37)-MIN(ROW('Data Summary'!$K$11:$K$37))+1, \"\"), ROW(B21))),\"\")","v":""},{"$f":"IFERROR(INDEX('Data Summary'!$L$11:$L$37, SMALL(IF($V$8='Data Summary'!$K$11:$K$37, ROW('Data Summary'!$K$11:$K$37)-MIN(ROW('Data Summary'!$K$11:$K$37))+1, \"\"), ROW(B21))),\"\")","v":""},{"$f":"IFERROR(INDEX('Data Summary'!$M$11:$M$37, SMALL(IF($V$8='Data Summary'!$K$11:$K$37, ROW('Data Summary'!$K$11:$K$37)-MIN(ROW('Data Summary'!$K$11:$K$37))+1, \"\"), ROW(B21))),\"\")","v":""},0]
[null,"","",null,null,null,null,null,null,null,null,null,null,"",null,null,null,null,null,{"$f":"IFERROR(INDEX('Data Summary'!$J$11:$J$37, SMALL(IF($V$8='Data Summary'!$K$11:$K$37, ROW('Data Summary'!$K$11:$K$37)-MIN(ROW('Data Summary'!$K$11:$K$37))+1, \"\"), ROW(B22))),\"\")","v":""},{"$f":"IFERROR(INDEX('Data Summary'!$O$11:$O$37, SMALL(IF($V$8='Data Summary'!$K$11:$K$37, ROW('Data Summary'!$K$11:$K$37)-MIN(ROW('Data Summary'!$K$11:$K$37))+1, \"\"), ROW(B22))),\"\")","v":""},{"$f":"IFERROR(INDEX('Data Summary'!$L$11:$L$37, SMALL(IF($V$8='Data Summary'!$K$11:$K$37, ROW('Data Summary'!$K$11:$K$37)-MIN(ROW('Data Summary'!$K$11:$K$37))+1, \"\"), ROW(B22))),\"\")","v":""},{"$f":"IFERROR(INDEX('Data Summary'!$M$11:$M$37, SMALL(IF($V$8='Data Summary'!$K$11:$K$37, ROW('Data Summary'!$K$11:$K$37)-MIN(ROW('Data Summary'!$K$11:$K$37))+1, \"\"), ROW(B22))),\"\")","v":""},0]
[null,"","",null,null,null,null,null,null,null,null,null,null,"",null,null,null,null,null,{"$f":"IFERROR(INDEX('Data Summary'!$J$11:$J$37, SMALL(IF($V$8='Data Summary'!$K$11:$K$37, ROW('Data Summary'!$K$11:$K$37)-MIN(ROW('Data Summary'!$K$11:$K$37))+1, \"\"), ROW(B23))),\"\")","v":""},{"$f":"IFERROR(INDEX('Data Summary'!$O$11:$O$37, SMALL(IF($V$8='Data Summary'!$K$11:$K$37, ROW('Data Summary'!$K$11:$K$37)-MIN(ROW('Data Summary'!$K$11:$K$37))+1, \"\"), ROW(B23))),\"\")","v":""},{"$f":"IFERROR(INDEX('Data Summary'!$L$11:$L$37, SMALL(IF($V$8='Data Summary'!$K$11:$K$37, ROW('Data Summary'!$K$11:$K$37)-MIN(ROW('Data Summary'!$K$11:$K$37))+1, \"\"), ROW(B23))),\"\")","v":""},{"$f":"IFERROR(INDEX('Data Summary'!$M$11:$M$37, SMALL(IF($V$8='Data Summary'!$K$11:$K$37, ROW('Data Summary'!$K$11:$K$37)-MIN(ROW('Data Summary'!$K$11:$K$37))+1, \"\"), ROW(B23))),\"\")","v":""},0]
[null,"","",null,null,null,null,null,null,null,null,null,null,"",null,null,null,null,null,{"$f":"IFERROR(INDEX('Data Summary'!$J$11:$J$37, SMALL(IF($V$8='Data Summary'!$K$11:$K$37, ROW('Data Summary'!$K$11:$K$37)-MIN(ROW('Data Summary'!$K$11:$K$37))+1, \"\"), ROW(B24))),\"\")","v":""},{"$f":"IFERROR(INDEX('Data Summary'!$O$11:$O$37, SMALL(IF($V$8='Data Summary'!$K$11:$K$37, ROW('Data Summary'!$K$11:$K$37)-MIN(ROW('Data Summary'!$K$11:$K$37))+1, \"\"), ROW(B24))),\"\")","v":""},{"$f":"IFERROR(INDEX('Data Summary'!$L$11:$L$37, SMALL(IF($V$8='Data Summary'!$K$11:$K$37, ROW('Data Summary'!$K$11:$K$37)-MIN(ROW('Data Summary'!$K$11:$K$37))+1, \"\"), ROW(B24))),\"\")","v":""},{"$f":"IFERROR(INDEX('Data Summary'!$M$11:$M$37, SMALL(IF($V$8='Data Summary'!$K$11:$K$37, ROW('Data Summary'!$K$11:$K$37)-MIN(ROW('Data Summary'!$K$11:$K$37))+1, \"\"), ROW(B24))),\"\")","v":""},0]
[null,"","",null,null,null,null,null,null,null,null,null,null,"",null,null,null,null,null,{"$f":"IFERROR(INDEX('Data Summary'!$J$11:$J$37, SMALL(IF($V$8='Data Summary'!$K$11:$K$37, ROW('Data Summary'!$K$11:$K$37)-MIN(ROW('Data Summary'!$K$11:$K$37))+1, \"\"), ROW(B25))),\"\")","v":""},{"$f":"IFERROR(INDEX('Data Summary'!$O$11:$O$37, SMALL(IF($V$8='Data Summary'!$K$11:$K$37, ROW('Data Summary'!$K$11:$K$37)-MIN(ROW('Data Summary'!$K$11:$K$37))+1, \"\"), ROW(B25))),\"\")","v":""},{"$f":"IFERROR(INDEX('Data Summary'!$L$11:$L$37, SMALL(IF($V$8='Data Summary'!$K$11:$K$37, ROW('Data Summary'!$K$11:$K$37)-MIN(ROW('Data Summary'!$K$11:$K$37))+1, \"\"), ROW(B25))),\"\")","v":""},{"$f":"IFERROR(INDEX('Data Summary'!$M$11:$M$37, SMALL(IF($V$8='Data Summary'!$K$11:$K$37, ROW('Data Summary'!$K$11:$K$37)-MIN(ROW('Data Summary'!$K$11:$K$37))+1, \"\"), ROW(B25))),\"\")","v":""},0]
[null,"","",null,null,null,null,null,null,null,null,null,null,"",null,null,null,null,null,{"$f":"IFERROR(INDEX('Data Summary'!$J$11:$J$37, SMALL(IF($V$8='Data Summary'!$K$11:$K$37, ROW('Data Summary'!$K$11:$K$37)-MIN(ROW('Data Summary'!$K$11:$K$37))+1, \"\"), ROW(B26))),\"\")","v":""},{"$f":"IFERROR(INDEX('Data Summary'!$O$11:$O$37, SMALL(IF($V$8='Data Summary'!$K$11:$K$37, ROW('Data Summary'!$K$11:$K$37)-MIN(ROW('Data Summary'!$K$11:$K$37))+1, \"\"), ROW(B26))),\"\")","v":""},{"$f":"IFERROR(INDEX('Data Summary'!$L$11:$L$37, SMALL(IF($V$8='Data Summary'!$K$11:$K$37, ROW('Data Summary'!$K$11:$K$37)-MIN(ROW('Data Summary'!$K$11:$K$37))+1, \"\"), ROW(B26))),\"\")","v":""},{"$f":"IFERROR(INDEX('Data Summary'!$M$11:$M$37, SMALL(IF($V$8='Data Summary'!$K$11:$K$37, ROW('Data Summary'!$K$11:$K$37)-MIN(ROW('Data Summary'!$K$11:$K$37))+1, \"\"), ROW(B26))),\"\")","v":""},0]
[null,"","",null,null,null,null,null,null,null,null,null,null,"",null,null,null,null,null,{"$f":"IFERROR(INDEX('Data Summary'!$J$11:$J$37, SMALL(IF($V$8='Data Summary'!$K$11:$K$37, ROW('Data Summary'!$K$11:$K$37)-MIN(ROW('Data Summary'!$K$11:$K$37))+1, \"\"), ROW(B27))),\"\")","v":""},{"$f":"IFERROR(INDEX('Data Summary'!$O$11:$O$37, SMALL(IF($V$8='Data Summary'!$K$11:$K$37, ROW('Data Summary'!$K$11:$K$37)-MIN(ROW('Data Summary'!$K$11:$K$37))+1, \"\"), ROW(B27))),\"\")","v":""},{"$f":"IFERROR(INDEX('Data Summary'!$L$11:$L$37, SMALL(IF($V$8='Data Summary'!$K$11:$K$37, ROW('Data Summary'!$K$11:$K$37)-MIN(ROW('Data Summary'!$K$11:$K$37))+1, \"\"), ROW(B27))),\"\")","v":""},{"$f":"IFERROR(INDEX('Data Summary'!$M$11:$M$37, SMALL(IF($V$8='Data Summary'!$K$11:$K$37, ROW('Data Summary'!$K$11:$K$37)-MIN(ROW('Data Summary'!$K$11:$K$37))+1, \"\"), ROW(B27))),\"\")","v":""},0]
[null,null,null,null,null,null,null,null,null,null,null,null,null,null,null,null,null,null,null,{"$f":"IFERROR(INDEX('Data Summary'!$J$11:$J$37, SMALL(IF($V$8='Data Summary'!$K$11:$K$37, ROW('Data Summary'!$K$11:$K$37)-MIN(ROW('Data Summary'!$K$11:$K$37))+1, \"\"), ROW(B28))),\"\")","v":""},{"$f":"IFERROR(INDEX('Data Summary'!$O$11:$O$37, SMALL(IF($V$8='Data Summary'!$K$11:$K$37, ROW('Data Summary'!$K$11:$K$37)-MIN(ROW('Data Summary'!$K$11:$K$37))+1, \"\"), ROW(B28))),\"\")","v":""},{"$f":"IFERROR(INDEX('Data Summary'!$L$11:$L$37, SMALL(IF($V$8='Data Summary'!$K$11:$K$37, ROW('Data Summary'!$K$11:$K$37)-MIN(ROW('Data Summary'!$K$11:$K$37))+1, \"\"), ROW(B28))),\"\")","v":""},{"$f":"IFERROR(INDEX('Data Summary'!$M$11:$M$37, SMALL(IF($V$8='Data Summary'!$K$11:$K$37, ROW('Data Summary'!$K$11:$K$37)-MIN(ROW('Data Summary'!$K$11:$K$37))+1, \"\"), ROW(B28))),\"\")","v":""},0]
[]
[]
[]
[]
[]
[]
[]
[]
[null,"End of worksheet"]

{"sheet":"Data Summary","index":7,"n_rows":39,"n_cols":43,"rows_kept":39,"cut":false,"hidden":false,"merged":[[31,1,31,7],[18,2,18,6],[37,14,37,23],[15,14,15,23],[28,2,28,6],[20,14,20,23],[26,14,26,23],[27,14,27,23],[15,2,15,6],[13,2,13,6],[14,2,14,6],[27,2,27,6],[14,14,14,23],[26,2,26,6],[21,2,21,6],[19,2,19,6],[0,1,0,7],[9,14,9,23],[28,14,28,23],[21,14,21,23],[22,14,22,23],[23,14,23,23],[24,14,24,23],[25,14,25,23],[6,4,6,6],[4,4,4,6],[9,1,9,7],[17,1,17,7],[7,4,7,6],[10,2,10,6],[2,4,2,7],[3,4,3,6],[38,1,38,7],[5,4,5,6],[17,14,17,23],[18,14,18,23],[19,14,19,23],[10,14,10,23],[13,14,13,23],[31,14,31,23],[36,14,36,23],[32,14,32,23],[33,14,33,23],[34,14,34,23],[35,14,35,23],[29,2,29,6],[24,2,24,6],[25,2,25,6],[9,25,9,31],[17,25,17,31],[32,26,32,30],[37,2,37,6],[11,2,11,6],[12,2,12,6],[11,14,11,23],[12,14,12,23],[32,2,32,6],[33,2,33,6],[34,2,34,6],[35,2,35,6],[36,2,36,6],[22,2,22,6],[23,2,23,6],[20,2,20,6]]}
[null,{"$f":"\"IDEA LEA Personnel Data for School Year \"&'Special Ed Teachers (FS070)'!E11&CHAR(10)&\" \"&'Select LEA'!C6","v":"IDEA LEA Personnel Data for School Year \n "},null,null,null,null,null,null,"End of worksheet"]
[]
[null,null,null,null," Triggered edit checks"]
[null,null,null,null,"Data file",null,null,"Count"]
[null,null,null,null,"FS070 — Special Education Teachers (FTE)",null,null,{"$f":"SUM(K11:K16)","v":0}]
[null,null,null,null,"FS099 — Special Education Related Services Personnel ",null,null,{"$f":"SUM(K19:K29)","v":0}]
[null,null,null,null,"FS112 — Special Education Paraprofessionals ",null,null,{"$f":"SUM(K33:K38)","v":0}]
[null,null,null,null,"Total",null,null,{"$f":"SUM(H5:H7)","v":0},null,null,"Search Value:",1]
[]
[null,"FS070 — Special Education Teachers (FTE)",null,null,null,null,null,null,null,"Link","Triggered?","FTE","File",null,"Error Messages",null,null,null,null,null,null,null,null,null,null,"FS070 — Special Education Teachers (FTE)"]
[null,"File","Special education teachers",null,null,null,null,"FTE",null,"E12",{"$f":"IF(H14=\"\",0,IF(SUM('Edit Check Details'!C12:D12)<>'Edit Check Details'!E12,1,0))","v":0},{"$f":"H14","v":""},{"$f":"B12","v":"FS070"},null,{"$f":"IF(K11=1,\"Fully Certified + Not Fully Certified Special Education Teachers for Ages 3-5PK  ≠ Special Education Teachers for Ages 3-5PK\",\"\")","v":""},null,null,null,null,null,null,null,null,null,null,"File","Special Education Teachers",null,null,null,null,"FTE"]
[null,"FS070","Fully certified special education teachers for ages 3-21 ",null,null,null,null,{"$f":"IF(ISERROR('Edit Check Details'!C14),\"\",'Edit Check Details'!C14)","v":""},null,"E13",{"$f":"IF(H13=\"\",0,IF(OR(H13=\"No Data\",SUM('Edit Check Details'!C13:D13)<>'Edit Check Details'!E13),1,0))","v":0},{"$f":"H15","v":""},{"$f":"B13","v":"FS070"},null,{"$f":"IF(K12=1,\"Fully Certified + Not Fully Certified Special Education Teachers for Ages 5K-21  ≠ Special Education Teachers for Ages 5K-21\",\"\")","v":""}]
[null,"FS070","Not fully certified special education teachers for ages 3-21",null,null,null,null,{"$f":"IF(ISERROR('Edit Check Details'!D14),\"\",'Edit Check Details'!D14)","v":""},null,"C14",{"$f":"IF(H12=\"\",0,IF(OR(H12=\"No Data\",SUM('Edit Check Details'!C12:C13)<>'Edit Check Details'!C14),1,0))","v":0},{"$f":"H12","v":""},"FS070",null,{"$f":"IF(K13=1,\"Fully Certified Special Education Teachers for Ages 3-5PK + Ages 5K-21  ≠ Fully Certified Special Education Teachers for Ages 3-21\",\"\")","v":""},null,null,null,null,null,null,null,null,null,null,null,null,null,null,null,"File record \nnumber","State code","State agency number","LEA identifier (state)","Filler","Table name","Filler","Qualification status (teachers)","Filler","Age group","Total indicator","Explanation","Teacher FTE"]
[null,"FS070","Special education teachers for ages 3 through 5 (preschool)",null,null,null,null,{"$f":"IF(ISERROR('Edit Check Details'!E12),\"\",'Edit Check Details'!E12)","v":""},null,"D14",{"$f":"IF(H13=\"\",0,IF(OR(H13=\"No Data\",SUM('Edit Check Details'!D12:D13)<>'Edit Check Details'!D14),1,0))","v":0},{"$f":"H15","v":""},"FS070",null,{"$f":"IF(K14=1,\"Not Fully Certified Special Education Teachers for Ages 3-5PK + Ages 5K-21  ≠ Not Fully Certified Special Education Teachers for Ages 3-21\",\"\")","v":""}]
[null,"FS070","Special education teachers for ages 5 in kindergarten through 21 ",null,null,null,null,{"$f":"IF(ISERROR('Edit Check Details'!E13),\"\",'Edit Check Details'!E13)","v":""},null,"E14",{"$f":"IF(H16=\"\",0,IF(OR(H16=\"No Data\",SUM('Edit Check Details'!C14:D14)<>'Edit Check Details'!E14),1,0))","v":0},{"$f":"H16","v":""},"FS070",null,{"$f":"IF(K15=1,\"Fully Certified Special Education Teachers for Ages 3-21 + Not Fully Certified Qualified Special Education Teachers for Ages 3-21 ≠ Total Special Education Teachers Serving Children with Disabilities Ages 3-21\",\"\")","v":""}]
[null,"FS070","Total special education teachers serving children with disabilities ages 3-21",null,null,null,null,{"$f":"IF(ISERROR('Edit Check Details'!E14),\"\",'Edit Check Details'!E14)","v":""},null,"E14",{"$f":"IF(H17=\"\",0,IF(OR(H17=\"No Data\",SUM('Edit Check Details'!E12:E13)<>'Edit Check Details'!E14),1,0))","v":0},{"$f":"H16","v":""},{"$f":"B16","v":"FS070"},null,{"$f":"IF(K16=1,\"Special Education Teachers for Ages 3-5PK + Ages 5K-21 ≠ Total Special Education Teachers Serving Children with Disabilities Ages 3-21\",\"\")","v":""}]
[]
[null,"FS099 — Special Education Related Services Personnel ",null,null,null,null,null,null,null,null,null,null,null,null,"Error Messages",null,null,null,null,null,null,null,null,null,null,"FS099 — Special Education Related Services Personnel "]
[null,"File","Related services personnel",null,null,null,null,"FTE",null,"E18",{"$f":"IF(H20=\"\",0,IF(OR(H20=\"No Data\",SUM('Edit Check Details'!C18:D18)<>'Edit Check Details'!E18),1,0))","v":0},{"$f":"H20","v":""},{"$f":"B20","v":"FS099"},null,{"$f":"IF(K19=1,\"Fully Certified + Not Fully Certified Audiologists  ≠ Total Audiologists\",\"\")","v":""},null,null,null,null,null,null,null,null,null,null,"File","Related Services Personnel",null,null,null,null,"FTE"]
[null,"FS099","Audiologists",null,null,null,null,{"$f":"IF(ISERROR('Edit Check Details'!E18),\"No Data\",'Edit Check Details'!E18)","v":""},null,"E19",{"$f":"IF(H21=\"\",0,IF(OR(H21=\"No Data\",SUM('Edit Check Details'!C19:D19)<>'Edit Check Details'!E19),1,0))","v":0},"","FS099",null,{"$f":"IF(K20=1,\"Fully Certified + Not Fully Certified Speech-Language Pathologists  ≠ Total Speech-Language Pathologists\",\"\")","v":""}]
[null,"FS099","Speech-language pathologists",null,null,null,null,{"$f":"IF(ISERROR('Edit Check Details'!E19),\"No Data\",'Edit Check Details'!E19)","v":""},null,"E20",{"$f":"IF(H22=\"\",0,IF(OR(H22=\"No Data\",SUM('Edit Check Details'!C20:D20)<>'Edit Check Details'!E20),1,0))","v":0},"","FS099",null,{"$f":"IF(K21=1,\"Fully Certified + Not Fully Certified Interpreters  ≠ Total Interpreters\",\"\")","v":""}]
[null,"FS099","Interpreters",null,null,null,null,{"$f":"IF(ISERROR('Edit Check Details'!E20),\"No Data\",'Edit Check Details'!E20)","v":""},null,"E21",{"$f":"IF(H23=\"\",0,IF(OR(H23=\"No Data\",SUM('Edit Check Details'!C21:D21)<>'Edit Check Details'!E21),1,0))","v":0},"","FS099",null,{"$f":"IF(K22=1,\"Fully Certified + Not Fully Certified Psychologists  ≠ Total Psychologists\",\"\")","v":""}]
[null,"FS099","Psychologists",null,null,null,null,{"$f":"IF(ISERROR('Edit Check Details'!E21),\"No Data\",'Edit Check Details'!E21)","v":""},null,"E22",{"$f":"IF(H24=\"\",0,IF(OR(H24=\"No Data\",SUM('Edit Check Details'!C22:D22)<>'Edit Check Details'!E22),1,0))","v":0},"","FS099",null,{"$f":"IF(K23=1,\"Fully Certified + Not Fully Certified Occupational Therapists  ≠ Total Occupational Therapists\",\"\")","v":""}]
[null,"FS099","Occupational therapists",null,null,null,null,{"$f":"IF(ISERROR('Edit Check Details'!E22),\"No Data\",'Edit Check Details'!E22)","v":""},null,"E23",{"$f":"IF(H25=\"\",0,IF(OR(H25=\"No Data\",SUM('Edit Check Details'!C23:D23)<>'Edit Check Details'!E23),1,0))","v":0},"","FS099",null,{"$f":"IF(K24=1,\"Fully Certified + Not Fully Certified Physical Therapists  ≠ Total Physical Therapists\",\"\")","v":""}]
[null,"FS099","Physical therapists",null,null,null,null,{"$f":"IF(ISERROR('Edit Check Details'!E23),\"No Data\",'Edit Check Details'!E23)","v":""},null,"E24",{"$f":"IF(H26=\"\",0,IF(OR(H26=\"No Data\",SUM('Edit Check Details'!C24:D24)<>'Edit Check Details'!E24),1,0))","v":0},"","FS099",null,{"$f":"IF(K25=1,\"Fully Certified + Not Fully Certified Physical Education and Recreation and Therapeutic Recreation Specialists  ≠ Total Physical Education and Recreation and Therapeutic Recreation Specialists\",\"\")","v":""}]
[null,"FS099","Physical education and recreation and therapeutic recreation specialists",null,null,null,null,{"$f":"IF(ISERROR('Edit Check Details'!E24),\"No Data\",'Edit Check Details'!E24)","v":""},null,"E25",{"$f":"IF(H27=\"\",0,IF(OR(H27=\"No Data\",SUM('Edit Check Details'!C25:D25)<>'Edit Check Details'!E25),1,0))","v":0},"","FS099",null,{"$f":"IF(K26=1,\"Fully Certified + Not Fully Certified Social Workers  ≠ Total Social Workers\",\"\")","v":""}]
[null,"FS099","Social workers",null,null,null,null,{"$f":"IF(ISERROR('Edit Check Details'!E25),\"No Data\",'Edit Check Details'!E25)","v":""},null,"E26",{"$f":"IF(H28=\"\",0,IF(OR(H28=\"No Data\",SUM('Edit Check Details'!C26:D26)<>'Edit Check Details'!E26),1,0))","v":0},"","FS099",null,{"$f":"IF(K27=1,\"Fully Certified + Not Fully Certified Medical/Nursing Service Staff  ≠ Total Medical/Nursing Service Staff\",\"\")","v":""}]
[null,"FS099","Medical/nursing service staff",null,null,null,null,{"$f":"IF(ISERROR('Edit Check Details'!E26),\"No Data\",'Edit Check Details'!E26)","v":""},null,"E27",{"$f":"IF(H29=\"\",0,IF(OR(H29=\"No Data\",SUM('Edit Check Details'!C27:D27)<>'Edit Check Details'!E27),1,0))","v":0},"","FS099",null,{"$f":"IF(K28=1,\"Fully Certified + Not Fully Certified Counselors and Rehabilitation Counselors  ≠ Total Counselors and Rehabilitation Counselors\",\"\")","v":""}]
[null,"FS099","Counselors and rehabilitation counselors",null,null,null,null,{"$f":"IF(ISERROR('Edit Check Details'!E27),\"No Data\",'Edit Check Details'!E27)","v":""},null,"E28",{"$f":"IF(H30=\"\",0,IF(OR(H30=\"No Data\",SUM('Edit Check Details'!C28:D28)<>'Edit Check Details'!E28),1,0))","v":0},"","FS099",null,{"$f":"IF(K29=1,\"Fully Certified + Not Fully Certified Orientation and Mobility Specialists  ≠ Total Orientation and Mobility Specialists\",\"\")","v":""}]
[null,"FS099","Orientation and mobility specialists",null,null,null,null,{"$f":"IF(ISERROR('Edit Check Details'!E28),\"No Data\",'Edit Check Details'!E28)","v":""}]
[]
[null,"FS112 — Special Education Paraprofessionals ",null,null,null,null,null,null,null,null,null,null,null,null,"Error Messages",null,null,null,null,null,null,null,null,null,null,"FS112 — Special Education Paraprofessionals "]
[null,"File","Special education paraprofessionals",null,null,null,null,"FTE",null,"E32",{"$f":"IF(H34=\"\",0,IF(OR(H34=\"No Data\",SUM('Edit Check Details'!C32:D32)<>'Edit Check Details'!E32),1,0))","v":0},{"$f":"H34","v":""},{"$f":"B38","v":"FS112"},null,{"$f":"IF(K33=1,\"Qualified + Not Qualified Special Education Paraprofessionals for Ages 3-5PK  ≠ Special Education Paraprofessionals for Ages 3-5PK\",\"\")","v":""},null,null,null,null,null,null,null,null,null,null,"File","Special Education Paraprofessionals",null,null,null,null,"FTE"]
[null,"FS112","Special education paraprofessionals for ages 3-5",null,null,null,null,{"$f":"IF(ISERROR('Edit Check Details'!E32),\"No Data\",'Edit Check Details'!E32)","v":""},null,"E33",{"$f":"IF(H35=\"\",0,IF(OR(H35=\"No Data\",SUM('Edit Check Details'!C33:D33)<>'Edit Check Details'!E33),1,0))","v":0},{"$f":"H35","v":""},{"$f":"B34","v":"FS112"},null,{"$f":"IF(K34=1,\"Qualified + Not Qualified Special Education Paraprofessionals for Ages 5K-21  ≠ Special Education Paraprofessionals for Ages 5K-21\",\"\")","v":""}]
[null,"FS112","Special education paraprofessionals for ages 6-21",null,null,null,null,{"$f":"IF(ISERROR('Edit Check Details'!E33),\"No Data\",'Edit Check Details'!E33)","v":""},null,"C34",{"$f":"IF(H36=\"\",0,IF(OR(H36=\"No Data\",SUM('Edit Check Details'!C32:C33)<>'Edit Check Details'!C34),1,0))","v":0},"",{"$f":"B35","v":"FS112"},null,{"$f":"IF(K35=1,\"Qualified Special Education Paraprofessionals for Ages 3-5PK + Ages 5K-21  ≠ Qualified Special Education Paraprofessionals for Ages 3-21\",\"\")","v":""}]
[null,"FS112","Qualified special education paraprofessionals for ages 3-21",null,null,null,null,{"$f":"IF(ISERROR('Edit Check Details'!C34),\"No Data\",'Edit Check Details'!C34)","v":""},null,"D34",{"$f":"IF(H37=\"\",0,IF(OR(H37=\"No Data\",SUM('Edit Check Details'!D32:D33)<>'Edit Check Details'!D34),1,0))","v":0},"",{"$f":"B36","v":"FS112"},null,{"$f":"IF(K36=1,\"Not Qualified Special Education Paraprofessionals for Ages 3-5PK + Ages 5K-21  ≠ Not Qualified Special Education Paraprofessionals for Ages 3-21\",\"\")","v":""}]
[null,"FS112","Not qualified special education paraprofessionals for ages 3-21",null,null,null,null,{"$f":"IF(ISERROR('Edit Check Details'!D34),\"No Data\",'Edit Check Details'!D34)","v":""},null,"E34",{"$f":"IF(H38=\"\",0,IF(OR(H38=\"No Data\",SUM('Edit Check Details'!C34:D34)<>'Edit Check Details'!E34),1,0))","v":0},"",{"$f":"B37","v":"FS112"},null,{"$f":"IF(K37=1,\"Qualified Special Education Paraprofessionals for Ages 3-21  + Not Qualified Special Education Paraprofessionals for Ages 3-21 ≠ Total Special Education Paraprofessionals Serving Children with Disabilities Ages 3-21\",\"\")","v":""}]
[null,"FS112","Total special education paraprofessionals serving children with disabilities ages 3-21",null,null,null,null,{"$f":"IF(ISERROR('Edit Check Details'!E34),\"No Data\",'Edit Check Details'!E34)","v":""},null,"E34",{"$f":"IF(H38=\"\",0,IF(OR(H38=\"No Data\",SUM('Edit Check Details'!E32:E33)<>'Edit Check Details'!E34),1,0))","v":0},{"$f":"H38","v":""},"FS112",null,{"$f":"IF(K38=1,\"Special Education Paraprofessionals for Ages 3-5PK + Ages 5K-21  ≠ Total Special Education Paraprofessionals Serving Children with Disabilities Ages 3-21\",\"\")","v":""}]
[null,"End of worksheet"]

{"sheet":"Edit Check Details","index":8,"n_rows":52,"n_cols":16,"rows_kept":52,"cut":false,"hidden":false,"merged":[[29,10,29,13],[15,10,15,13],[9,10,9,13],[0,1,0,4],[9,1,9,4],[29,1,29,4],[7,2,7,3],[5,2,5,3],[4,2,4,3],[3,2,3,3],[2,2,2,4],[6,2,6,3],[15,1,15,4]]}
[null,{"$f":"\"IDEA LEA Personnel Data for School Year \"&'Special Ed Teachers (FS070)'!E11&CHAR(10)&\" \"&'Select LEA'!C6","v":"IDEA LEA Personnel Data for School Year \n "},null,null,null,"End of worksheet"]
[]
[null,null,"Triggered edit checks"]
[null,null,"Data file",null,"Count"]
[null,null,"FS070 — Special Education Teachers (FTE)",null,{"$f":"VALUE('Data Summary'!H5)","v":0}]
[null,null,"FS099 — Special Education Related Services Personnel ",null,{"$f":"VALUE('Data Summary'!H6)","v":0}]
[null,null,"FS112 — Special Education Paraprofessionals ",null,{"$f":"VALUE('Data Summary'!H7)","v":0}]
[null,null,"Total",null,{"$f":"SUM(E5:E7)","v":0},null,null,null,null,null,null,null,null,null,"Link","Triggered?"]
[null,null,null,null," ",null,null,null,null,null,null,null,null,null,"E12",{"$f":"IF(E12=\"\",0,IF(SUM(C12:D12)<>E12,1,0))","v":0}]
[null,"   FS070 — Special Education Teachers (FTE)",null,null,null,null,null,null,null,null,"   FS070 — Special Education Teachers (FTE)",null,null,null,"E13",{"$f":"IF(E13=\"\",0,IF(SUM(C13:D13)<>E13,1,0))","v":0}]
[null,"Special education teachers","Fully certified  \nFTE","Not fully certified  \nFTE","Total\nFTE",null,null,null,null,null,null,"Fully Certified  \nFTE","Not Fully Certified  \nFTE","Total\nFTE","C14",{"$f":"IF(C14=\"\",0,IF(SUM(C12:C13)<>C14,1,0))","v":0}]
[null,"Special education teachers for ages 3-5",{"$f":"IFERROR(HYPERLINK(\"#'Select LEA'!\"&ADDRESS(ROW(INDEX(CurrentListing,MATCH(G12,CurrentListing,0),1)),13),L12),HYPERLINK(\"#'Select LEA'!\"&\"$O$10\",L12))","v":""},{"$f":"IFERROR(HYPERLINK(\"#'Select LEA'!\"&ADDRESS(ROW(INDEX(CurrentListing,MATCH(H12,CurrentListing,0),1)),13),M12),HYPERLINK(\"#'Select LEA'!\"&\"$O$10\",M12))","v":""},{"$f":"IFERROR(HYPERLINK(\"#'Select LEA'!\"&ADDRESS(ROW(INDEX(CurrentListing,MATCH(I12,CurrentListing,0),1)),13),N12),HYPERLINK(\"#'Select LEA'!\"&\"$O$10\",N12))","v":""},null,"SPEDTCHFULCRT3TO5N","SPEDTCHNFULCRT3TO5N","3TO5Y",null,"Special Education Teachers for Ages 3-5",{"$f":"IFERROR(IF(INDEX(FTE_FS070,MATCH(G12,CurrentListing,0))=\"\",\"No Data\",INDEX(FTE_FS070,MATCH(G12,CurrentListing,0))),\"\")","v":""},{"$f":"IFERROR(IF(INDEX(FTE_FS070,MATCH(H12,CurrentListing,0))=\"\",\"No Data\",INDEX(FTE_FS070,MATCH(H12,CurrentListing,0))),\"\")","v":""},{"$f":"IFERROR(IF(INDEX(FTE_FS070,MATCH(I12,CurrentListing,0))=\"\",\"No Data\",INDEX(FTE_FS070,MATCH(I12,CurrentListing,0))),\"\")","v":""},"D14",{"$f":"IF(D14=\"\",0,IF(SUM(D12:D13)<>D14,1,0))","v":0}]
[null,"Special education teachers for ages 6-21",{"$f":"IFERROR(HYPERLINK(\"#'Select LEA'!\"&ADDRESS(ROW(INDEX(CurrentListing,MATCH(G13,CurrentListing,0),1)),13),L13),HYPERLINK(\"#'Select LEA'!\"&\"$O$10\",L13))","v":""},{"$f":"IFERROR(HYPERLINK(\"#'Select LEA'!\"&ADDRESS(ROW(INDEX(CurrentListing,MATCH(H13,CurrentListing,0),1)),13),M13),HYPERLINK(\"#'Select LEA'!\"&\"$O$10\",M13))","v":""},{"$f":"IFERROR(HYPERLINK(\"#'Select LEA'!\"&ADDRESS(ROW(INDEX(CurrentListing,MATCH(I13,CurrentListing,0),1)),13),N13),HYPERLINK(\"#'Select LEA'!\"&\"$O$10\",N13))","v":""},null,"SPEDTCHFULCRT6TO21N","SPEDTCHNFULCRT6TO21N","6TO21Y",null,"Special Education Teachers for Ages 6-21",{"$f":"IFERROR(IF(INDEX(FTE_FS070,MATCH(G13,CurrentListing,0))=\"\",\"No Data\",INDEX(FTE_FS070,MATCH(G13,CurrentListing,0))),\"\")","v":""},{"$f":"IFERROR(IF(INDEX(FTE_FS070,MATCH(H13,CurrentListing,0))=\"\",\"No Data\",INDEX(FTE_FS070,MATCH(H13,CurrentListing,0))),\"\")","v":""},{"$f":"IFERROR(IF(INDEX(FTE_FS070,MATCH(I13,CurrentListing,0))=\"\",\"No Data\",INDEX(FTE_FS070,MATCH(I13,CurrentListing,0))),\"\")","v":""},"E14",{"$f":"IF(E14=\"\",0,IF(SUM(E12:E13)<>E14,1,0))","v":0}]
[null,"Total",{"$f":"IFERROR(HYPERLINK(\"#'Select LEA'!\"&ADDRESS(ROW(INDEX(CurrentListing,MATCH(G14,CurrentListing,0),1)),13),L14),HYPERLINK(\"#'Select LEA'!\"&\"$O$10\",L14))","v":""},{"$f":"IFERROR(HYPERLINK(\"#'Select LEA'!\"&ADDRESS(ROW(INDEX(CurrentListing,MATCH(H14,CurrentListing,0),1)),13),M14),HYPERLINK(\"#'Select LEA'!\"&\"$O$10\",M14))","v":""},{"$f":"IFERROR(HYPERLINK(\"#'Select LEA'!\"&ADDRESS(ROW(INDEX(CurrentListing,MATCH(I14,CurrentListing,0),1)),13),N14),HYPERLINK(\"#'Select LEA'!\"&\"$O$10\",N14))","v":""},null,"SPEDTCHFULCRTY","SPEDTCHNFULCRTY","Y",null,"Total",{"$f":"IFERROR(IF(INDEX(FTE_FS070,MATCH(G14,CurrentListing,0))=\"\",\"No Data\",INDEX(FTE_FS070,MATCH(G14,CurrentListing,0))),\"\")","v":""},{"$f":"IFERROR(IF(INDEX(FTE_FS070,MATCH(H14,CurrentListing,0))=\"\",\"No Data\",INDEX(FTE_FS070,MATCH(H14,CurrentListing,0))),\"\")","v":""},{"$f":"IFERROR(IF(INDEX(FTE_FS070,MATCH(I14,CurrentListing,0))=\"\",\"No Data\",INDEX(FTE_FS070,MATCH(I14,CurrentListing,0))),\"\")","v":""},"E14",{"$f":"IF(E14=\"\",0,IF(SUM(C14:D14)<>E14,1,0))","v":0}]
[]
[null,"   FS099 — Special Education Related Services Personnel ",null,null,null,null,null,null,null,null,"   FS099 — Special Education Related Services Personnel "]
[null,"Related services personnel","Fully certified\nFTE","Not fully certified \nFTE","Total\nFTE",null,null,null,null,null,null,"Fully Certified\nFTE","Not Fully Certified \nFTE","Total\nFTE"]
[null,"Audiologists",{"$f":"IFERROR(HYPERLINK(\"#'Select LEA'!\"&ADDRESS(ROW(INDEX(CurrentListing_C099,MATCH(G18,CurrentListing_C099,0),1)),12),L18),HYPERLINK(\"#'Select LEA'!\"&\"$A$27\",L18))","v":""},{"$f":"IFERROR(HYPERLINK(\"#'Select LEA'!\"&ADDRESS(ROW(INDEX(CurrentListing_C099,MATCH(H18,CurrentListing_C099,0),1)),12),M18),HYPERLINK(\"#'Select LEA'!\"&\"$A$27\",M18))","v":""},{"$f":"IFERROR(HYPERLINK(\"#'Select LEA'!\"&ADDRESS(ROW(INDEX(CurrentListing_C099,MATCH(I18,CurrentListing_C099,0),1)),12),N18),HYPERLINK(\"#'Select LEA'!\"&\"$A$27\",N18))","v":""},null,"AUDIOFCN","AUDIONFCN","AUDIOY",null,"Audiologists",{"$f":"IFERROR(IF(INDEX(FTE_FS099,MATCH(G18,CurrentListing_C099,0))=\"\",\"No Data\",INDEX(FTE_FS099,MATCH(G18,CurrentListing_C099,0))),\"\")","v":""},{"$f":"IFERROR(IF(INDEX(FTE_FS099,MATCH(H18,CurrentListing_C099,0))=\"\",\"No Data\",INDEX(FTE_FS099,MATCH(H18,CurrentListing_C099,0))),\"\")","v":""},{"$f":"IFERROR(IF(INDEX(FTE_FS099,MATCH(I18,CurrentListing_C099,0))=\"\",\"No Data\",INDEX(FTE_FS099,MATCH(I18,CurrentListing_C099,0))),\"\")","v":""},"E18",{"$f":"IF(E18=\"\",0,IF(SUM(C18:D18)<>E18,1,0))","v":0}]
[null,"Speech-language pathologists",{"$f":"IFERROR(HYPERLINK(\"#'Select LEA'!\"&ADDRESS(ROW(INDEX(CurrentListing_C099,MATCH(G19,CurrentListing_C099,0),1)),12),L19),HYPERLINK(\"#'Select LEA'!\"&\"$A$27\",L19))","v":""},{"$f":"IFERROR(HYPERLINK(\"#'Select LEA'!\"&ADDRESS(ROW(INDEX(CurrentListing_C099,MATCH(H19,CurrentListing_C099,0),1)),12),M19),HYPERLINK(\"#'Select LEA'!\"&\"$A$27\",M19))","v":""},{"$f":"IFERROR(HYPERLINK(\"#'Select LEA'!\"&ADDRESS(ROW(INDEX(CurrentListing_C099,MATCH(I19,CurrentListing_C099,0),1)),12),N19),HYPERLINK(\"#'Select LEA'!\"&\"$A$27\",N19))","v":""},null,"SPEECHPATHFCN","SPEECHPATHNFCN","SPEECHPATHY",null,"Speech-Language Pathologists",{"$f":"IFERROR(IF(INDEX(FTE_FS099,MATCH(G19,CurrentListing_C099,0))=\"\",\"No Data\",INDEX(FTE_FS099,MATCH(G19,CurrentListing_C099,0))),\"\")","v":""},{"$f":"IFERROR(IF(INDEX(FTE_FS099,MATCH(H19,CurrentListing_C099,0))=\"\",\"No Data\",INDEX(FTE_FS099,MATCH(H19,CurrentListing_C099,0))),\"\")","v":""},{"$f":"IFERROR(IF(INDEX(FTE_FS099,MATCH(I19,CurrentListing_C099,0))=\"\",\"No Data\",INDEX(FTE_FS099,MATCH(I19,CurrentListing_C099,0))),\"\")","v":""},"E19",0]
[null,"Interpreters",{"$f":"IFERROR(HYPERLINK(\"#'Select LEA'!\"&ADDRESS(ROW(INDEX(CurrentListing_C099,MATCH(G20,CurrentListing_C099,0),1)),12),L20),HYPERLINK(\"#'Select LEA'!\"&\"$A$27\",L20))","v":""},{"$f":"IFERROR(HYPERLINK(\"#'Select LEA'!\"&ADDRESS(ROW(INDEX(CurrentListing_C099,MATCH(H20,CurrentListing_C099,0),1)),12),M20),HYPERLINK(\"#'Select LEA'!\"&\"$A$27\",M20))","v":""},{"$f":"IFERROR(HYPERLINK(\"#'Select LEA'!\"&ADDRESS(ROW(INDEX(CurrentListing_C099,MATCH(I20,CurrentListing_C099,0),1)),12),N20),HYPERLINK(\"#'Select LEA'!\"&\"$A$27\",N20))","v":""},null,"INTERPRETFCN","INTERPRETNFCN","INTERPRETY",null,"Interpreters",{"$f":"IFERROR(IF(INDEX(FTE_FS099,MATCH(G20,CurrentListing_C099,0))=\"\",\"No Data\",INDEX(FTE_FS099,MATCH(G20,CurrentListing_C099,0))),\"\")","v":""},{"$f":"IFERROR(IF(INDEX(FTE_FS099,MATCH(H20,CurrentListing_C099,0))=\"\",\"No Data\",INDEX(FTE_FS099,MATCH(H20,CurrentListing_C099,0))),\"\")","v":""},{"$f":"IFERROR(IF(INDEX(FTE_FS099,MATCH(I20,CurrentListing_C099,0))=\"\",\"No Data\",INDEX(FTE_FS099,MATCH(I20,CurrentListing_C099,0))),\"\")","v":""},"E20",0]
[null,"Psychologists",{"$f":"IFERROR(HYPERLINK(\"#'Select LEA'!\"&ADDRESS(ROW(INDEX(CurrentListing_C099,MATCH(G21,CurrentListing_C099,0),1)),12),L21),HYPERLINK(\"#'Select LEA'!\"&\"$A$27\",L21))","v":""},{"$f":"IFERROR(HYPERLINK(\"#'Select LEA'!\"&ADDRESS(ROW(INDEX(CurrentListing_C099,MATCH(H21,CurrentListing_C099,0),1)),12),M21),HYPERLINK(\"#'Select LEA'!\"&\"$A$27\",M21))","v":""},{"$f":"IFERROR(HYPERLINK(\"#'Select LEA'!\"&ADDRESS(ROW(INDEX(CurrentListing_C099,MATCH(I21,CurrentListing_C099,0),1)),12),N21),HYPERLINK(\"#'Select LEA'!\"&\"$A$27\",N21))","v":""},null,"PSYCHFCN","PSYCHNFCN","PSYCHY",null,"Psychologists",{"$f":"IFERROR(IF(INDEX(FTE_FS099,MATCH(G21,CurrentListing_C099,0))=\"\",\"No Data\",INDEX(FTE_FS099,MATCH(G21,CurrentListing_C099,0))),\"\")","v":""},{"$f":"IFERROR(IF(INDEX(FTE_FS099,MATCH(H21,CurrentListing_C099,0))=\"\",\"No Data\",INDEX(FTE_FS099,MATCH(H21,CurrentListing_C099,0))),\"\")","v":""},{"$f":"IFERROR(IF(INDEX(FTE_FS099,MATCH(I21,CurrentListing_C099,0))=\"\",\"No Data\",INDEX(FTE_FS099,MATCH(I21,CurrentListing_C099,0))),\"\")","v":""},"E21",0]
[null,"Occupational therapists",{"$f":"IFERROR(HYPERLINK(\"#'Select LEA'!\"&ADDRESS(ROW(INDEX(CurrentListing_C099,MATCH(G22,CurrentListing_C099,0),1)),12),L22),HYPERLINK(\"#'Select LEA'!\"&\"$A$27\",L22))","v":""},{"$f":"IFERROR(HYPERLINK(\"#'Select LEA'!\"&ADDRESS(ROW(INDEX(CurrentListing_C099,MATCH(H22,CurrentListing_C099,0),1)),12),M22),HYPERLINK(\"#'Select LEA'!\"&\"$A$27\",M22))","v":""},{"$f":"IFERROR(HYPERLINK(\"#'Select LEA'!\"&ADDRESS(ROW(INDEX(CurrentListing_C099,MATCH(I22,CurrentListing_C099,0),1)),12),N22),HYPERLINK(\"#'Select LEA'!\"&\"$A$27\",N22))","v":""},null,"OCCTHERAPFCN","OCCTHERAPNFCN","OCCTHERAPY",null,"Occupational Therapists",{"$f":"IFERROR(IF(INDEX(FTE_FS099,MATCH(G22,CurrentListing_C099,0))=\"\",\"No Data\",INDEX(FTE_FS099,MATCH(G22,CurrentListing_C099,0))),\"\")","v":""},{"$f":"IFERROR(IF(INDEX(FTE_FS099,MATCH(H22,CurrentListing_C099,0))=\"\",\"No Data\",INDEX(FTE_FS099,MATCH(H22,CurrentListing_C099,0))),\"\")","v":""},{"$f":"IFERROR(IF(INDEX(FTE_FS099,MATCH(I22,CurrentListing_C099,0))=\"\",\"No Data\",INDEX(FTE_FS099,MATCH(I22,CurrentListing_C099,0))),\"\")","v":""},"E22",0]
[null,"Physical therapists",{"$f":"IFERROR(HYPERLINK(\"#'Select LEA'!\"&ADDRESS(ROW(INDEX(CurrentListing_C099,MATCH(G23,CurrentListing_C099,0),1)),12),L23),HYPERLINK(\"#'Select LEA'!\"&\"$A$27\",L23))","v":""},{"$f":"IFERROR(HYPERLINK(\"#'Select LEA'!\"&ADDRESS(ROW(INDEX(CurrentListing_C099,MATCH(H23,CurrentListing_C099,0),1)),12),M23),HYPERLINK(\"#'Select LEA'!\"&\"$A$27\",M23))","v":""},{"$f":"IFERROR(HYPERLINK(\"#'Select LEA'!\"&ADDRESS(ROW(INDEX(CurrentListing_C099,MATCH(I23,CurrentListing_C099,0),1)),12),N23),HYPERLINK(\"#'Select LEA'!\"&\"$A$27\",N23))","v":""},null,"PHYSTHERAPFCN","PHYSTHERAPNFCN","PHYSTHERAPY",null,"Physical Therapists",{"$f":"IFERROR(IF(INDEX(FTE_FS099,MATCH(G23,CurrentListing_C099,0))=\"\",\"No Data\",INDEX(FTE_FS099,MATCH(G23,CurrentListing_C099,0))),\"\")","v":""},{"$f":"IFERROR(IF(INDEX(FTE_FS099,MATCH(H23,CurrentListing_C099,0))=\"\",\"No Data\",INDEX(FTE_FS099,MATCH(H23,CurrentListing_C099,0))),\"\")","v":""},{"$f":"IFERROR(IF(INDEX(FTE_FS099,MATCH(I23,CurrentListing_C099,0))=\"\",\"No Data\",INDEX(FTE_FS099,MATCH(I23,CurrentListing_C099,0))),\"\")","v":""},"E23",0]
[null,"Physical education and recreation and therapeutic recreation specialists",{"$f":"IFERROR(HYPERLINK(\"#'Select LEA'!\"&ADDRESS(ROW(INDEX(CurrentListing_C099,MATCH(G24,CurrentListing_C099,0),1)),12),L24),HYPERLINK(\"#'Select LEA'!\"&\"$A$27\",L24))","v":""},{"$f":"IFERROR(HYPERLINK(\"#'Select LEA'!\"&ADDRESS(ROW(INDEX(CurrentListing_C099,MATCH(H24,CurrentListing_C099,0),1)),12),M24),HYPERLINK(\"#'Select LEA'!\"&\"$A$27\",M24))","v":""},{"$f":"IFERROR(HYPERLINK(\"#'Select LEA'!\"&ADDRESS(ROW(INDEX(CurrentListing_C099,MATCH(I24,CurrentListing_C099,0),1)),12),N24),HYPERLINK(\"#'Select LEA'!\"&\"$A$27\",N24))","v":""},null,"PEANDRECFCN","PEANDRECNFCN","PEANDRECY",null,"Physical Education and Recreation and Therapeutic Recreation Specialists",{"$f":"IFERROR(IF(INDEX(FTE_FS099,MATCH(G24,CurrentListing_C099,0))=\"\",\"No Data\",INDEX(FTE_FS099,MATCH(G24,CurrentListing_C099,0))),\"\")","v":""},{"$f":"IFERROR(IF(INDEX(FTE_FS099,MATCH(H24,CurrentListing_C099,0))=\"\",\"No Data\",INDEX(FTE_FS099,MATCH(H24,CurrentListing_C099,0))),\"\")","v":""},{"$f":"IFERROR(IF(INDEX(FTE_FS099,MATCH(I24,CurrentListing_C099,0))=\"\",\"No Data\",INDEX(FTE_FS099,MATCH(I24,CurrentListing_C099,0))),\"\")","v":""},"E24",0]
[null,"Social workers",{"$f":"IFERROR(HYPERLINK(\"#'Select LEA'!\"&ADDRESS(ROW(INDEX(CurrentListing_C099,MATCH(G25,CurrentListing_C099,0),1)),12),L25),HYPERLINK(\"#'Select LEA'!\"&\"$A$27\",L25))","v":""},{"$f":"IFERROR(HYPERLINK(\"#'Select LEA'!\"&ADDRESS(ROW(INDEX(CurrentListing_C099,MATCH(H25,CurrentListing_C099,0),1)),12),M25),HYPERLINK(\"#'Select LEA'!\"&\"$A$27\",M25))","v":""},{"$f":"IFERROR(HYPERLINK(\"#'Select LEA'!\"&ADDRESS(ROW(INDEX(CurrentListing_C099,MATCH(I25,CurrentListing_C099,0),1)),12),N25),HYPERLINK(\"#'Select LEA'!\"&\"$A$27\",N25))","v":""},null,"SOCIALWORKFCN","SOCIALWORKNFCN","SOCIALWORKY",null,"Social Workers",{"$f":"IFERROR(IF(INDEX(FTE_FS099,MATCH(G25,CurrentListing_C099,0))=\"\",\"No Data\",INDEX(FTE_FS099,MATCH(G25,CurrentListing_C099,0))),\"\")","v":""},{"$f":"IFERROR(IF(INDEX(FTE_FS099,MATCH(H25,CurrentListing_C099,0))=\"\",\"No Data\",INDEX(FTE_FS099,MATCH(H25,CurrentListing_C099,0))),\"\")","v":""},{"$f":"IFERROR(IF(INDEX(FTE_FS099,MATCH(I25,CurrentListing_C099,0))=\"\",\"No Data\",INDEX(FTE_FS099,MATCH(I25,CurrentListing_C099,0))),\"\")","v":""},"E25",0]
[null,"Medical/nursing service staff",{"$f":"IFERROR(HYPERLINK(\"#'Select LEA'!\"&ADDRESS(ROW(INDEX(CurrentListing_C099,MATCH(G26,CurrentListing_C099,0),1)),12),L26),HYPERLINK(\"#'Select LEA'!\"&\"$A$27\",L26))","v":""},{"$f":"IFERROR(HYPERLINK(\"#'Select LEA'!\"&ADDRESS(ROW(INDEX(CurrentListing_C099,MATCH(H26,CurrentListing_C099,0),1)),12),M26),HYPERLINK(\"#'Select LEA'!\"&\"$A$27\",M26))","v":""},{"$f":"IFERROR(HYPERLINK(\"#'Select LEA'!\"&ADDRESS(ROW(INDEX(CurrentListing_C099,MATCH(I26,CurrentListing_C099,0),1)),12),N26),HYPERLINK(\"#'Select LEA'!\"&\"$A$27\",N26))","v":""},null,"MEDNURSEFCN","MEDNURSENFCN","MEDNURSEY",null,"Medical/Nursing Service Staff",{"$f":"IFERROR(IF(INDEX(FTE_FS099,MATCH(G26,CurrentListing_C099,0))=\"\",\"No Data\",INDEX(FTE_FS099,MATCH(G26,CurrentListing_C099,0))),\"\")","v":""},{"$f":"IFERROR(IF(INDEX(FTE_FS099,MATCH(H26,CurrentListing_C099,0))=\"\",\"No Data\",INDEX(FTE_FS099,MATCH(H26,CurrentListing_C099,0))),\"\")","v":""},{"$f":"IFERROR(IF(INDEX(FTE_FS099,MATCH(I26,CurrentListing_C099,0))=\"\",\"No Data\",INDEX(FTE_FS099,MATCH(I26,CurrentListing_C099,0))),\"\")","v":""},"E26",0]
[null,"Counselors and rehabilitation counselors",{"$f":"IFERROR(HYPERLINK(\"#'Select LEA'!\"&ADDRESS(ROW(INDEX(CurrentListing_C099,MATCH(G27,CurrentListing_C099,0),1)),12),L27),HYPERLINK(\"#'Select LEA'!\"&\"$A$27\",L27))","v":""},{"$f":"IFERROR(HYPERLINK(\"#'Select LEA'!\"&ADDRESS(ROW(INDEX(CurrentListing_C099,MATCH(H27,CurrentListing_C099,0),1)),12),M27),HYPERLINK(\"#'Select LEA'!\"&\"$A$27\",M27))","v":""},{"$f":"IFERROR(HYPERLINK(\"#'Select LEA'!\"&ADDRESS(ROW(INDEX(CurrentListing_C099,MATCH(I27,CurrentListing_C099,0),1)),12),N27),HYPERLINK(\"#'Select LEA'!\"&\"$A$27\",N27))","v":""},null,"COUNSELORFCN","COUNSELORNFCN","COUNSELORY",null,"Counselors and Rehabilitation Counselors",{"$f":"IFERROR(IF(INDEX(FTE_FS099,MATCH(G27,CurrentListing_C099,0))=\"\",\"No Data\",INDEX(FTE_FS099,MATCH(G27,CurrentListing_C099,0))),\"\")","v":""},{"$f":"IFERROR(IF(INDEX(FTE_FS099,MATCH(H27,CurrentListing_C099,0))=\"\",\"No Data\",INDEX(FTE_FS099,MATCH(H27,CurrentListing_C099,0))),\"\")","v":""},{"$f":"IFERROR(IF(INDEX(FTE_FS099,MATCH(I27,CurrentListing_C099,0))=\"\",\"No Data\",INDEX(FTE_FS099,MATCH(I27,CurrentListing_C099,0))),\"\")","v":""},"E27",0]
[null,"Orientation and mobility specialists",{"$f":"IFERROR(HYPERLINK(\"#'Select LEA'!\"&ADDRESS(ROW(INDEX(CurrentListing_C099,MATCH(G28,CurrentListing_C099,0),1)),12),L28),HYPERLINK(\"#'Select LEA'!\"&\"$A$27\",L28))","v":""},{"$f":"IFERROR(HYPERLINK(\"#'Select LEA'!\"&ADDRESS(ROW(INDEX(CurrentListing_C099,MATCH(H28,CurrentListing_C099,0),1)),12),M28),HYPERLINK(\"#'Select LEA'!\"&\"$A$27\",M28))","v":""},{"$f":"IFERROR(HYPERLINK(\"#'Select LEA'!\"&ADDRESS(ROW(INDEX(CurrentListing_C099,MATCH(I28,CurrentListing_C099,0),1)),12),N28),HYPERLINK(\"#'Select LEA'!\"&\"$A$27\",N28))","v":""},null,"ORIENTMOBILFCN","ORIENTMOBILNFCN","ORIENTMOBILY",null,"Orientation and Mobility Specialists",{"$f":"IFERROR(IF(INDEX(FTE_FS099,MATCH(G28,CurrentListing_C099,0))=\"\",\"No Data\",INDEX(FTE_FS099,MATCH(G28,CurrentListing_C099,0))),\"\")","v":""},{"$f":"IFERROR(IF(INDEX(FTE_FS099,MATCH(H28,CurrentListing_C099,0))=\"\",\"No Data\",INDEX(FTE_FS099,MATCH(H28,CurrentListing_C099,0))),\"\")","v":""},{"$f":"IFERROR(IF(INDEX(FTE_FS099,MATCH(I28,CurrentListing_C099,0))=\"\",\"No Data\",INDEX(FTE_FS099,MATCH(I28,CurrentListing_C099,0))),\"\")","v":""},"E28",0]
[]
[null,"FS112 — Special Education Paraprofessionals ",null,null,null,null,null,null,null,null,"FS112 — Special Education Paraprofessionals ",null,null,null,"E32",{"$f":"IF(E32=\"\",0,IF(SUM(C32:D32)<>E32,1,0))","v":0}]
[null,"Paraprofessionals","Qualified \nFTE","Not qualified\nFTE","Total\nFTE",null,null,null,null,null,null,"Qualified \nFTE","Not Qualified\nFTE","Total\nFTE","E33",{"$f":"IF(E33=\"\",0,IF(SUM(C33:D33)<>E33,1,0))","v":0}]
[null,"Special education paraprofessionals for ages 3-5",{"$f":"IFERROR(HYPERLINK(\"#'Select LEA'!\"&ADDRESS(ROW(INDEX(CurrentListing_C112,MATCH(G32,CurrentListing_C112,0),1)),13),L32),HYPERLINK(\"#'Select LEA'!\"&\"$O$10\",L32))","v":""},"","",null,"3TO5QN","3TO5NQN","3TO5Y",null,"Special Education Paraprofessionals for Ages 3-5",{"$f":"IFERROR(IF(INDEX(FTE_FS112,MATCH(G32,CurrentListing_C112,0))=\"\",\"No Data\",INDEX(FTE_FS112,MATCH(G32,CurrentListing_C112,0))),\"\")","v":""},{"$f":"IFERROR(IF(INDEX(FTE_FS112,MATCH(H32,CurrentListing_C112,0))=\"\",\"No Data\",INDEX(FTE_FS112,MATCH(H32,CurrentListing_C112,0))),\"\")","v":""},{"$f":"IFERROR(IF(INDEX(FTE_FS112,MATCH(I32,CurrentListing_C112,0))=\"\",\"No Data\",INDEX(FTE_FS112,MATCH(I32,CurrentListing_C112,0))),\"\")","v":""},"C34",{"$f":"IF(C34=\"\",0,IF(SUM(C32:C33)<>C34,1,0))","v":0}]
[null,"Special education paraprofessionals for ages 6-21","","","",null,"6TO21QN","6TO21NQN","6TO21Y",null,"Special Education Paraprofessionals for Ages 6-21",{"$f":"IFERROR(IF(INDEX(FTE_FS112,MATCH(G33,CurrentListing_C112,0))=\"\",\"No Data\",INDEX(FTE_FS112,MATCH(G33,CurrentListing_C112,0))),\"\")","v":""},{"$f":"IFERROR(IF(INDEX(FTE_FS112,MATCH(H33,CurrentListing_C112,0))=\"\",\"No Data\",INDEX(FTE_FS112,MATCH(H33,CurrentListing_C112,0))),\"\")","v":""},{"$f":"IFERROR(IF(INDEX(FTE_FS112,MATCH(I33,CurrentListing_C112,0))=\"\",\"No Data\",INDEX(FTE_FS112,MATCH(I33,CurrentListing_C112,0))),\"\")","v":""},"D34",{"$f":"IF(D34=\"\",0,IF(SUM(D32:D33)<>D34,1,0))","v":0}]
[null,"Total","","","",null,"QY","NQY","Y",null,"Total",{"$f":"IFERROR(IF(INDEX(FTE_FS112,MATCH(G34,CurrentListing_C112,0))=\"\",\"No Data\",INDEX(FTE_FS112,MATCH(G34,CurrentListing_C112,0))),\"\")","v":""},{"$f":"IFERROR(IF(INDEX(FTE_FS112,MATCH(H34,CurrentListing_C112,0))=\"\",\"No Data\",INDEX(FTE_FS112,MATCH(H34,CurrentListing_C112,0))),\"\")","v":""},{"$f":"IFERROR(IF(INDEX(FTE_FS112,MATCH(I34,CurrentListing_C112,0))=\"\",\"No Data\",INDEX(FTE_FS112,MATCH(I34,CurrentListing_C112,0))),\"\")","v":""},"E34",{"$f":"IF(E34=\"\",0,IF(SUM(E32:E33)<>E34,1,0))","v":0}]
[null,null,null,null,null,null,null,null,null,null,null,null,null,null,"E34",{"$f":"IF(E34=\"\",0,IF(SUM(C34:D34)<>E34,1,0))","v":0}]
[]
[]
[]
[]
[]
[]
[]
[]
[]
[]
[]
[]
[]
[]
[]
[]
[null,null,"=HYPERLINK(\"#'Related Services Pers. (C099)'!\"&ADDRESS(ROW(INDEX(CurrentListing_C099,MATCH(I28,MasterListing_C099,0),1)),17),N28)"]