{"text_format":"1","workbook":"xlsx","n_sheets":6,"sheets":["Instructions","FS089","Error Messages","Subtotals","Category Sets A-D","Additional Summaries"],"not_rendered":{"charts":0,"images":2,"macros":1,"external_links":1,"defined_names":35,"comments":1,"pivot_tables":0},"unopened":[],"bounds":{"document_bytes":16777216,"sheet_cells":100000,"rows_first":2000,"rows_last":500,"rows_between":2000,"halvings":0,"cell_chars":16384,"cell_head_chars":4096},"cells_cut":0,"cells_raw":0,"read":"whole","date_system":"1900"}

{"sheet":"Instructions","index":0,"n_rows":37,"n_cols":5,"rows_kept":37,"cut":false,"hidden":false,"merged":[[36,1,36,13],[21,1,21,13],[25,1,26,13],[28,1,28,12],[30,1,30,13],[31,1,31,3],[20,2,20,11],[1,1,1,13],[2,1,2,12],[3,4,3,5],[4,2,4,13],[7,2,7,12],[9,2,9,12],[11,2,11,12],[13,2,13,12],[15,2,15,12],[17,2,17,12],[19,2,19,12]]}
[]
[null,"SEA EDFacts Edit Check Tool - IDEA Early Childhood Child Count"]
[null,"The SEA EDFacts Edit Check Tool - IDEA Early Childhood Child Count is designed to be used by states as they prepare their data for submission via EDFacts. Use this tool to check SEA-level EDFacts data file FS089. The tool can identify potential format errors, validation errors, and other errors in category sets or subtotals. \n\nPlease note that data cannot be submitted using this tool. All data must be submitted following the guidelines provided in the "]
[null,"data file specifications at: ",null,null,"The EDFacts Initiative"]
[]
[null,"Please read the following instructions before using this tool:"]
[]
[null,"1.","To select, copy, and paste data from your EDFacts file into the tool:\n\n(a)  Open your state's SEA-level FS089 - Children with Disabilities (IDEA) Early Childhood EDFacts data file in Excel (or similar application). \n\n(b)  Select and copy all rows and columns from the EDFacts data file. \n\n          •   Include the EDFacts data file header row and filler columns. \n          •   Do NOT use the \"Select All\" function in Excel. "]
[]
[null,null,"NOTE: Prior to copying the EDFacts data into the green data file tab, the abbreviation MC (meaning missing category) will appear in all data cells on the Error Messages, Subtotals, Category Sets A-D, and Additional Summaries tabs. The missing categories appear as triggered edit checks displayed in the \"Triggered Edit Checks\" box on the Error Messages tab. Cells that are populated with sums of calculated totals will contain zeros when the EDFacts data have not yet been pasted into the green FS089 tab.\n\n(c)  Paste the selected data to cell A13 into the green FS089 tab in this tool. "]
[]
[null,null,"(d)  Click the \"Check Data Format\" button to run all format checks. If there are format errors, you will see pop-up boxes containing important information about the errors.  You will also see a list of data rows with errors in the \"Triggered Format Checks\" table to the right of your data. \n\n(e) To delete the data previously pasted into the green data file tab, click the \"Clear Data\" button, if needed."]
[]
[null,"2.","To facilitate locating data errors in the EDFacts file, data with errors displayed in the Error Messages, Subtotals, Category Sets A-D, and Additional Summaries tabs are highlighted in red and hyperlinked. Use the hyperlinked data to trace each highlighted error through the Error Messages, Subtotals, Category Sets A-D, and Additional Summaries tabs back to the EDFacts data file in the green FS089 tab in which the error originated."]
[]
[null,"3.","Error messages in the Error Messages tab indicate computational errors or other errors in reporting. Please correct all errors before the data file is submitted to the U.S. Department of Education via the EDFacts EDEN Submission System.  \n\n          •   Keep in mind, this tool does not account for the state-specific differences in EDFacts file contents. \n          •   State-specific differences noted in your EDFacts IDEA State Supplemental Survey (SSS) may show up as error messages in this tool.\n\nPlease confirm that error messages due to state-specific differences align with the contents of your IDEA SSS. For example, if your state marked \"No\" for Developmental Delay in the IDEA SSS item \"Disability categories used by your state\" and your FS089 file does not contain student counts for the Developmental Delay disability category, this tool will display error messages indicating that Developmental Delay is missing from category sets and subtotals. Use this information to confirm that no student counts for Developmental Delay are included in this file and that it correctly matches the \"No\" marked for this disability category in your IDEA SSS.\n\n\n\n\n\n"]
[]
[null,null,"Triggered Format Checks are shown in the table to the right of the FS089 data file you pasted into the green data file tab. The text shown in each column of the \"Triggered Format Checks\" table indicates data that are missing, repeated, and/or formatted incorrectly. Scroll down to view all triggered format checks. The EDFacts permitted values are used to clearly identify data that are missing, repeated, and/or formatted incorrectly. \n\nFor example: _4_AUT_SS_N in the \"Missing Data Elements\" column indicates that the count for students who are age 4 in disability category Autism (AUT) and have an educational environment of Separate School (SS) is missing from Category Set A in your FS089 file."]
[]
[null,"4.","Review and address each triggered format check and error message.  If changes need to be made to the data, make these changes in the corresponding data system and/or EDFacts file. Then check the corrected FS089 file by carefully pasting the corrected data into the green data file tabs. Do NOT make any data modifications in the Enhanced Edit Check Tool spreadsheet. "]
[]
[null,"If you would like assistance using this tool, please contact your IDC State Liaison or email IDEAdata@westat.com."]
[]
[null,"Please note this tool is currently not 508 accessible. If you need assistance with the use of this tool, please contact your IDC State Liaison or email IDEAdata@westat.com.  "]
[]
[null,"The IDEA Data Center (IDC) re-released this publication under U.S. Department of Education, Office of Special Education Programs Grant No. H373Y190001.  Richelle Davis and Rebecca Smith serve as the project officers. "]
[]
[]
[null,"The views expressed herein do not necessarily represent the positions or policies of the U.S. Department of Education. No official endorsement by the U.S. Department of Education of any product, commodity, service, or enterprise mentioned in this publication is intended or should be inferred. This product is in the public domain. Authorization to reproduce it in whole or in part is granted. \n\n"]
[]
[null,"Westat is the lead organization for IDC. For more information about the center’s work and its partners, see ideadata.org."]
[null,"www.ideadata.org"]
[]
[null,"Version Date: February 2021"]
[]
[null,"Suggested Citation:"]
[null," Long, T., Bitterman, A., and Nadkarni, S. (2021, February). SEA EDFacts Edit Check Tool - IDEA Early Childhood Child Count. IDEA Data Center. Rockville, MD: Westat."]

{"sheet":"FS089","index":1,"n_rows":1299,"n_cols":32,"rows_kept":1299,"cut":false,"hidden":false,"merged":[[1298,0,1298,24],[0,24,1297,24],[10,0,10,19],[10,21,10,23],[0,0,0,19],[2,15,2,19],[3,15,3,18],[4,15,4,18],[5,15,5,18],[6,15,6,18]]}
[{"$f":"\"IDEA Child Count and Educational Environment Ages 3–5 for School Year \"&E13","v":"IDEA Child Count and Educational Environment Ages 3–5 for School Year "},null,null,null,null,null,null,null,null,null,null,null,null,null,null,null,null,null,null,null,null,null,null,null,"End of worksheet"]
[]
[null,null,null,null,null,null,null,null,null,null,null,null,null,null,null,"Triggered Edit Checks"]
[null,null,null,null,null,null,null,null,null,null,null,null,null,null,null,"Type",null,null,null,"Total"]
[null,null,null,null,null,null,null,null,null,null,null,null,null,null,null,"Missing Data Elements",null,null,null,{"$f":"COUNTIF(V13:V1256,\"?*\")","v":1243}]
[null,null,null,null,null,null,null,null,null,null,null,null,null,null,null,"Duplicate Row Elements",null,null,null,{"$f":"COUNTIF(W13:W1256,\"?*\")","v":0}]
[null,null,null,null,null,null,null,null,null,null,null,null,null,null,null,"Invalid Data Elements",null,null,null,{"$f":"COUNTIF(X13:X1256,\"?*\")","v":0}]
[]
[]
[]
["FS089 — Children with Disabilities (IDEA) Early Childhood File Specifications",null,null,null,null,null,null,null,null,null,null,null,null,null,null,null,null,null,null,null,null,"Triggered Format Checks",null,null,null,"Count of Missing Data:",{"$f":"SUM(AD14:AD1256)","v":1243}]
["File Record Number","State Code","State Agency Number","Filler","Filler","Table Name","Racial Ethnic","Sex (Membership)","Age (Early Childhood)","English Learner Status (Both)","Disability Category (IDEA)","Filler","Filler","Filler","Filler","Filler","Educational Environment (IDEA) EC","Total Indicator","Explanation","Student Count",null,"Missing\nData Elements\n(formatted)","Duplicate Row\nElements","Invalid Data\nElements",null,"Missing\nData ","Current\nListing","Master Listing","Master\nListing\n(For output)","Is Missing Data Element","Current\nListing\n(For output)","Missing Data\n(ordered)"]
[]
[null,null,null,null,null,null,null,null,null,null,null,null,null,null,null,null,null,null,null,null,null,{"$f":"IFERROR(INDEX(MissingData, SMALL(IF(ISBLANK(MissingData)+ISERROR(MissingData)+LEN(MissingData)=0, \"\", ROW(MissingData)-MIN(ROW(MissingData))+1), ROW(1:1))),\"\")","v":"__3__AUT_H_N"},{"$f":"IF(LEN(AA14)=0,\"\",IF(COUNTIF(CurrentListing_C089,AA14)>1,AE14,\"\"))","v":""},{"$f":"IF(LEN(AA14)=0,\"\",IF(ISNA(MATCH(AA14,MasterListing,0)),AE14,\"\"))","v":""},null,{"$f":"IF(LEN(AC14)=0,\"\",IF(ISNA(MATCH(AB14,CurrentListing_C089,0)),AC14,\"\"))","v":"__3__AUT_H_N"},{"$f":"G14&H14&I14&J14&K14&Q14&R14","v":""},"3AUTHN","__3__AUT_H_N",{"$f":"IF(LEN(V14)>0,1,0)","v":1},{"$f":"G14&\"_\"&H14&\"_\"&I14&\"_\"&J14&\"_\"&K14&\"_\"&Q14&\"_\"&R14","v":"______"},{"$f":"IFERROR(INDEX(MissingDataC143, SMALL(IF(ISBLANK(MissingDataC143)+ISERROR(MissingDataC143)+LEN(MissingDataC143)=0, \"\", ROW(MissingDataC143)-MIN(ROW(MissingDataC143))+1), ROW(1:1))),\"\")","v":""}]
[null,null,null,null,null,null,null,null,null,null,null,null,null,null,null,null,null,null,null,null,null,{"$f":"IFERROR(INDEX(MissingData, SMALL(IF(ISBLANK(MissingData)+ISERROR(MissingData)+LEN(MissingData)=0, \"\", ROW(MissingData)-MIN(ROW(MissingData))+1), ROW(2:2))),\"\")","v":"__3__AUT_REC10YOTHLOC_N"},"","",null,"__3__AUT_REC10YOTHLOC_N",{"$f":"G15&H15&I15&J15&K15&Q15&R15","v":""},"3AUTREC10YOTHLOCN","__3__AUT_REC10YOTHLOC_N",{"$f":"IF(LEN(V15)>0,1,0)","v":1},{"$f":"G15&\"_\"&H15&\"_\"&I15&\"_\"&J15&\"_\"&K15&\"_\"&Q15&\"_\"&R15","v":"______"},{"$f":"IFERROR(INDEX(MissingDataC143, SMALL(IF(ISBLANK(MissingDataC143)+ISERROR(MissingDataC143)+LEN(MissingDataC143)=0, \"\", ROW(MissingDataC143)-MIN(ROW(MissingDataC143))+1), ROW(2:2))),\"\")","v":""}]
[null,null,null,null,null,null,null,null,null,null,null,null,null,null,null,null,null,null,null,null,null,{"$f":"IFERROR(INDEX(MissingData, SMALL(IF(ISBLANK(MissingData)+ISERROR(MissingData)+LEN(MissingData)=0, \"\", ROW(MissingData)-MIN(ROW(MissingData))+1), ROW(3:3))),\"\")","v":"__3__AUT_REC10YSVCS_N"},{"$f":"IF(LEN(AA16)=0,\"\",IF(COUNTIF(CurrentListing_C089,AA16)>1,AE16,\"\"))","v":""},{"$f":"IF(LEN(AA16)=0,\"\",IF(ISNA(MATCH(AA16,MasterListing,0)),AE16,\"\"))","v":""},null,{"$f":"IF(LEN(AC16)=0,\"\",IF(ISNA(MATCH(AB16,CurrentListing_C089,0)),AC16,\"\"))","v":"__3__AUT_REC10YSVCS_N"},{"$f":"G16&H16&I16&J16&K16&Q16&R16","v":""},"3AUTREC10YSVCSN","__3__AUT_REC10YSVCS_N",{"$f":"IF(LEN(V16)>0,1,0)","v":1},{"$f":"G16&\"_\"&H16&\"_\"&I16&\"_\"&J16&\"_\"&K16&\"_\"&Q16&\"_\"&R16","v":"______"},{"$f":"IFERROR(INDEX(MissingDataC143, SMALL(IF(ISBLANK(MissingDataC143)+ISERROR(MissingDataC143)+LEN(MissingDataC143)=0, \"\", ROW(MissingDataC143)-MIN(ROW(MissingDataC143))+1), ROW(3:3))),\"\")","v":""}]
[null,null,null,null,null,null,null,null,null,null,null,null,null,null,null,null,null,null,null,null,null,{"$f":"IFERROR(INDEX(MissingData, SMALL(IF(ISBLANK(MissingData)+ISERROR(MissingData)+LEN(MissingData)=0, \"\", ROW(MissingData)-MIN(ROW(MissingData))+1), ROW(4:4))),\"\")","v":"__3__AUT_SC_N"},"","",null,"__3__AUT_SC_N","","3AUTSCN","__3__AUT_SC_N",1,"______",{"$f":"IFERROR(INDEX(MissingDataC143, SMALL(IF(ISBLANK(MissingDataC143)+ISERROR(MissingDataC143)+LEN(MissingDataC143)=0, \"\", ROW(MissingDataC143)-MIN(ROW(MissingDataC143))+1), ROW(4:4))),\"\")","v":""}]
[null,null,null,null,null,null,null,null,null,null,null,null,null,null,null,null,null,null,null,null,null,{"$f":"IFERROR(INDEX(MissingData, SMALL(IF(ISBLANK(MissingData)+ISERROR(MissingData)+LEN(MissingData)=0, \"\", ROW(MissingData)-MIN(ROW(MissingData))+1), ROW(5:5))),\"\")","v":"__3__AUT_SS_N"},"","",null,"__3__AUT_SS_N","","3AUTSSN","__3__AUT_SS_N",1,"______",{"$f":"IFERROR(INDEX(MissingDataC143, SMALL(IF(ISBLANK(MissingDataC143)+ISERROR(MissingDataC143)+LEN(MissingDataC143)=0, \"\", ROW(MissingDataC143)-MIN(ROW(MissingDataC143))+1), ROW(5:5))),\"\")","v":""}]
[null,null,null,null,null,null,null,null,null,null,null,null,null,null,null,null,null,null,null,null,null,{"$f":"IFERROR(INDEX(MissingData, SMALL(IF(ISBLANK(MissingData)+ISERROR(MissingData)+LEN(MissingData)=0, \"\", ROW(MissingData)-MIN(ROW(MissingData))+1), ROW(6:6))),\"\")","v":"__4__AUT_H_N"},"","",null,"__4__AUT_H_N","","4AUTHN","__4__AUT_H_N",1,"______",{"$f":"IFERROR(INDEX(MissingDataC143, SMALL(IF(ISBLANK(MissingDataC143)+ISERROR(MissingDataC143)+LEN(MissingDataC143)=0, \"\", ROW(MissingDataC143)-MIN(ROW(MissingDataC143))+1), ROW(6:6))),\"\")","v":""}]
[null,null,null,null,null,null,null,null,null,null,null,null,null,null,null,null,null,null,null,null,null,{"$f":"IFERROR(INDEX(MissingData, SMALL(IF(ISBLANK(MissingData)+ISERROR(MissingData)+LEN(MissingData)=0, \"\", ROW(MissingData)-MIN(ROW(MissingData))+1), ROW(7:7))),\"\")","v":"__4__AUT_REC10YOTHLOC_N"},"","",null,"__4__AUT_REC10YOTHLOC_N","","4AUTREC10YOTHLOCN","__4__AUT_REC10YOTHLOC_N",1,"______",{"$f":"IFERROR(INDEX(MissingDataC143, SMALL(IF(ISBLANK(MissingDataC143)+ISERROR(MissingDataC143)+LEN(MissingDataC143)=0, \"\", ROW(MissingDataC143)-MIN(ROW(MissingDataC143))+1), ROW(7:7))),\"\")","v":""}]
[null,null,null,null,null,null,null,null,null,null,null,null,null,null,null,null,null,null,null,null,null,{"$f":"IFERROR(INDEX(MissingData, SMALL(IF(ISBLANK(MissingData)+ISERROR(MissingData)+LEN(MissingData)=0, \"\", ROW(MissingData)-MIN(ROW(MissingData))+1), ROW(8:8))),\"\")","v":"__4__AUT_REC10YSVCS_N"},"","",null,"__4__AUT_REC10YSVCS_N","","4AUTREC10YSVCSN","__4__AUT_REC10YSVCS_N",1,"______",{"$f":"IFERROR(INDEX(MissingDataC143, SMALL(IF(ISBLANK(MissingDataC143)+ISERROR(MissingDataC143)+LEN(MissingDataC143)=0, \"\", ROW(MissingDataC143)-MIN(ROW(MissingDataC143))+1), ROW(8:8))),\"\")","v":""}]
[null,null,null,null,null,null,null,null,null,null,null,null,null,null,null,null,null,null,null,null,null,{"$f":"IFERROR(INDEX(MissingData, SMALL(IF(ISBLANK(MissingData)+ISERROR(MissingData)+LEN(MissingData)=0, \"\", ROW(MissingData)-MIN(ROW(MissingData))+1), ROW(9:9))),\"\")","v":"__4__AUT_SC_N"},"","",null,"__4__AUT_SC_N","","4AUTSCN","__4__AUT_SC_N",1,"______",{"$f":"IFERROR(INDEX(MissingDataC143, SMALL(IF(ISBLANK(MissingDataC143)+ISERROR(MissingDataC143)+LEN(MissingDataC143)=0, \"\", ROW(MissingDataC143)-MIN(ROW(MissingDataC143))+1), ROW(9:9))),\"\")","v":""}]
[null,null,null,null,null,null,null,null,null,null,null,null,null,null,null,null,null,null,null,null,null,{"$f":"IFERROR(INDEX(MissingData, SMALL(IF(ISBLANK(MissingData)+ISERROR(MissingData)+LEN(MissingData)=0, \"\", ROW(MissingData)-MIN(ROW(MissingData))+1), ROW(10:10))),\"\")","v":"__4__AUT_SPL_N"},"","",null,"__4__AUT_SPL_N","","4AUTSPLN","__4__AUT_SPL_N",1,"______",{"$f":"IFERROR(INDEX(MissingDataC143, SMALL(IF(ISBLANK(MissingDataC143)+ISERROR(MissingDataC143)+LEN(MissingDataC143)=0, \"\", ROW(MissingDataC143)-MIN(ROW(MissingDataC143))+1), ROW(10:10))),\"\")","v":""}]
[null,null,null,null,null,null,null,null,null,null,null,null,null,null,null,null,null,null,null,null,null,{"$f":"IFERROR(INDEX(MissingData, SMALL(IF(ISBLANK(MissingData)+ISERROR(MissingData)+LEN(MissingData)=0, \"\", ROW(MissingData)-MIN(ROW(MissingData))+1), ROW(11:11))),\"\")","v":"__4__AUT_SS_N"},"","",null,"__4__AUT_SS_N","","4AUTSSN","__4__AUT_SS_N",1,"______",{"$f":"IFERROR(INDEX(MissingDataC143, SMALL(IF(ISBLANK(MissingDataC143)+ISERROR(MissingDataC143)+LEN(MissingDataC143)=0, \"\", ROW(MissingDataC143)-MIN(ROW(MissingDataC143))+1), ROW(11:11))),\"\")","v":""}]
[null,null,null,null,null,null,null,null,null,null,null,null,null,null,null,null,null,null,null,null,null,{"$f":"IFERROR(INDEX(MissingData, SMALL(IF(ISBLANK(MissingData)+ISERROR(MissingData)+LEN(MissingData)=0, \"\", ROW(MissingData)-MIN(ROW(MissingData))+1), ROW(12:12))),\"\")","v":"__AGE05NOTK__AUT_H_N"},"","",null,"__AGE05NOTK__AUT_H_N","","AGE05NOTKAUTHN","__AGE05NOTK__AUT_H_N",1,"______",{"$f":"IFERROR(INDEX(MissingDataC143, SMALL(IF(ISBLANK(MissingDataC143)+ISERROR(MissingDataC143)+LEN(MissingDataC143)=0, \"\", ROW(MissingDataC143)-MIN(ROW(MissingDataC143))+1), ROW(12:12))),\"\")","v":""}]
[null,null,null,null,null,null,null,null,null,null,null,null,null,null,null,null,null,null,null,null,null,{"$f":"IFERROR(INDEX(MissingData, SMALL(IF(ISBLANK(MissingData)+ISERROR(MissingData)+LEN(MissingData)=0, \"\", ROW(MissingData)-MIN(ROW(MissingData))+1), ROW(13:13))),\"\")","v":"__AGE05NOTK__AUT_REC09YOTHLOC_N"},"","",null,"__AGE05NOTK__AUT_REC09YOTHLOC_N","","AGE05NOTKAUTREC09YOTHLOCN","__AGE05NOTK__AUT_REC09YOTHLOC_N",1,"______",{"$f":"IFERROR(INDEX(MissingDataC143, SMALL(IF(ISBLANK(MissingDataC143)+ISERROR(MissingDataC143)+LEN(MissingDataC143)=0, \"\", ROW(MissingDataC143)-MIN(ROW(MissingDataC143))+1), ROW(13:13))),\"\")","v":""}]
[null,null,null,null,null,null,null,null,null,null,null,null,null,null,null,null,null,null,null,null,null,{"$f":"IFERROR(INDEX(MissingData, SMALL(IF(ISBLANK(MissingData)+ISERROR(MissingData)+LEN(MissingData)=0, \"\", ROW(MissingData)-MIN(ROW(MissingData))+1), ROW(14:14))),\"\")","v":"__AGE05NOTK__AUT_REC10YOTHLOC_N"},"","",null,"__AGE05NOTK__AUT_REC10YOTHLOC_N","","AGE05NOTKAUTREC10YOTHLOCN","__AGE05NOTK__AUT_REC10YOTHLOC_N",1,"______",{"$f":"IFERROR(INDEX(MissingDataC143, SMALL(IF(ISBLANK(MissingDataC143)+ISERROR(MissingDataC143)+LEN(MissingDataC143)=0, \"\", ROW(MissingDataC143)-MIN(ROW(MissingDataC143))+1), ROW(14:14))),\"\")","v":""}]
[null,null,null,null,null,null,null,null,null,null,null,null,null,null,null,null,null,null,null,null,null,{"$f":"IFERROR(INDEX(MissingData, SMALL(IF(ISBLANK(MissingData)+ISERROR(MissingData)+LEN(MissingData)=0, \"\", ROW(MissingData)-MIN(ROW(MissingData))+1), ROW(15:15))),\"\")","v":"__AGE05NOTK__AUT_REC10YSVCS_N"},"","",null,"__AGE05NOTK__AUT_REC10YSVCS_N","","AGE05NOTKAUTREC10YSVCSN","__AGE05NOTK__AUT_REC10YSVCS_N",1,"______",{"$f":"IFERROR(INDEX(MissingDataC143, SMALL(IF(ISBLANK(MissingDataC143)+ISERROR(MissingDataC143)+LEN(MissingDataC143)=0, \"\", ROW(MissingDataC143)-MIN(ROW(MissingDataC143))+1), ROW(15:15))),\"\")","v":""}]
[null,null,null,null,null,null,null,null,null,null,null,null,null,null,null,null,null,null,null,null,null,{"$f":"IFERROR(INDEX(MissingData, SMALL(IF(ISBLANK(MissingData)+ISERROR(MissingData)+LEN(MissingData)=0, \"\", ROW(MissingData)-MIN(ROW(MissingData))+1), ROW(16:16))),\"\")","v":"__AGE05NOTK__AUT_SC_N"},"","",null,"__AGE05NOTK__AUT_SC_N","","AGE05NOTKAUTSCN","__AGE05NOTK__AUT_SC_N",1,"______",{"$f":"IFERROR(INDEX(MissingDataC143, SMALL(IF(ISBLANK(MissingDataC143)+ISERROR(MissingDataC143)+LEN(MissingDataC143)=0, \"\", ROW(MissingDataC143)-MIN(ROW(MissingDataC143))+1), ROW(16:16))),\"\")","v":""}]
[null,null,null,null,null,null,null,null,null,null,null,null,null,null,null,null,null,null,null,null,null,{"$f":"IFERROR(INDEX(MissingData, SMALL(IF(ISBLANK(MissingData)+ISERROR(MissingData)+LEN(MissingData)=0, \"\", ROW(MissingData)-MIN(ROW(MissingData))+1), ROW(17:17))),\"\")","v":"__AGE05NOTK__AUT_SPL_N"},"","",null,"__AGE05NOTK__AUT_SPL_N","","AGE05NOTKAUTSPLN","__AGE05NOTK__AUT_SPL_N",1,"______",{"$f":"IFERROR(INDEX(MissingDataC143, SMALL(IF(ISBLANK(MissingDataC143)+ISERROR(MissingDataC143)+LEN(MissingDataC143)=0, \"\", ROW(MissingDataC143)-MIN(ROW(MissingDataC143))+1), ROW(17:17))),\"\")","v":""}]
[null,null,null,null,null,null,null,null,null,null,null,null,null,null,null,null,null,null,null,null,null,{"$f":"IFERROR(INDEX(MissingData, SMALL(IF(ISBLANK(MissingData)+ISERROR(MissingData)+LEN(MissingData)=0, \"\", ROW(MissingData)-MIN(ROW(MissingData))+1), ROW(18:18))),\"\")","v":"__AGE05NOTK__AUT_SS_N"},"","",null,"__AGE05NOTK__AUT_SS_N","","AGE05NOTKAUTSSN","__AGE05NOTK__AUT_SS_N",1,"______",{"$f":"IFERROR(INDEX(MissingDataC143, SMALL(IF(ISBLANK(MissingDataC143)+ISERROR(MissingDataC143)+LEN(MissingDataC143)=0, \"\", ROW(MissingDataC143)-MIN(ROW(MissingDataC143))+1), ROW(18:18))),\"\")","v":""}]
[null,null,null,null,null,null,null,null,null,null,null,null,null,null,null,null,null,null,null,null,null,{"$f":"IFERROR(INDEX(MissingData, SMALL(IF(ISBLANK(MissingData)+ISERROR(MissingData)+LEN(MissingData)=0, \"\", ROW(MissingData)-MIN(ROW(MissingData))+1), ROW(19:19))),\"\")","v":"__4__DB_H_N"},"","",null,"__4__DB_H_N","","4DBHN","__4__DB_H_N",1,"______",{"$f":"IFERROR(INDEX(MissingDataC143, SMALL(IF(ISBLANK(MissingDataC143)+ISERROR(MissingDataC143)+LEN(MissingDataC143)=0, \"\", ROW(MissingDataC143)-MIN(ROW(MissingDataC143))+1), ROW(19:19))),\"\")","v":""}]
[null,null,null,null,null,null,null,null,null,null,null,null,null,null,null,null,null,null,null,null,null,{"$f":"IFERROR(INDEX(MissingData, SMALL(IF(ISBLANK(MissingData)+ISERROR(MissingData)+LEN(MissingData)=0, \"\", ROW(MissingData)-MIN(ROW(MissingData))+1), ROW(20:20))),\"\")","v":"__4__DB_REC10YOTHLOC_N"},"","",null,"__4__DB_REC10YOTHLOC_N","","4DBREC10YOTHLOCN","__4__DB_REC10YOTHLOC_N",1,"______",{"$f":"IFERROR(INDEX(MissingDataC143, SMALL(IF(ISBLANK(MissingDataC143)+ISERROR(MissingDataC143)+LEN(MissingDataC143)=0, \"\", ROW(MissingDataC143)-MIN(ROW(MissingDataC143))+1), ROW(20:20))),\"\")","v":""}]
[null,null,null,null,null,null,null,null,null,null,null,null,null,null,null,null,null,null,null,null,null,{"$f":"IFERROR(INDEX(MissingData, SMALL(IF(ISBLANK(MissingData)+ISERROR(MissingData)+LEN(MissingData)=0, \"\", ROW(MissingData)-MIN(ROW(MissingData))+1), ROW(21:21))),\"\")","v":"__AGE05NOTK__DB_SC_N"},"","",null,"__AGE05NOTK__DB_SC_N","","AGE05NOTKDBSCN","__AGE05NOTK__DB_SC_N",1,"______",{"$f":"IFERROR(INDEX(MissingDataC143, SMALL(IF(ISBLANK(MissingDataC143)+ISERROR(MissingDataC143)+LEN(MissingDataC143)=0, \"\", ROW(MissingDataC143)-MIN(ROW(MissingDataC143))+1), ROW(21:21))),\"\")","v":""}]
[null,null,null,null,null,null,null,null,null,null,null,null,null,null,null,null,null,null,null,null,null,{"$f":"IFERROR(INDEX(MissingData, SMALL(IF(ISBLANK(MissingData)+ISERROR(MissingData)+LEN(MissingData)=0, \"\", ROW(MissingData)-MIN(ROW(MissingData))+1), ROW(22:22))),\"\")","v":"__3__DD_H_N"},"","",null,"__3__DD_H_N","","3DDHN","__3__DD_H_N",1,"______",{"$f":"IFERROR(INDEX(MissingDataC143, SMALL(IF(ISBLANK(MissingDataC143)+ISERROR(MissingDataC143)+LEN(MissingDataC143)=0, \"\", ROW(MissingDataC143)-MIN(ROW(MissingDataC143))+1), ROW(22:22))),\"\")","v":""}]
[null,null,null,null,null,null,null,null,null,null,null,null,null,null,null,null,null,null,null,null,null,{"$f":"IFERROR(INDEX(MissingData, SMALL(IF(ISBLANK(MissingData)+ISERROR(MissingData)+LEN(MissingData)=0, \"\", ROW(MissingData)-MIN(ROW(MissingData))+1), ROW(23:23))),\"\")","v":"__3__DD_REC10YOTHLOC_N"},"","",null,"__3__DD_REC10YOTHLOC_N","","3DDREC10YOTHLOCN","__3__DD_REC10YOTHLOC_N",1,"______",{"$f":"IFERROR(INDEX(MissingDataC143, SMALL(IF(ISBLANK(MissingDataC143)+ISERROR(MissingDataC143)+LEN(MissingDataC143)=0, \"\", ROW(MissingDataC143)-MIN(ROW(MissingDataC143))+1), ROW(23:23))),\"\")","v":""}]
[null,null,null,null,null,null,null,null,null,null,null,null,null,null,null,null,null,null,null,null,null,{"$f":"IFERROR(INDEX(MissingData, SMALL(IF(ISBLANK(MissingData)+ISERROR(MissingData)+LEN(MissingData)=0, \"\", ROW(MissingData)-MIN(ROW(MissingData))+1), ROW(24:24))),\"\")","v":"__3__DB_REC10YSVCS_N"},"","",null,"__3__DB_REC10YSVCS_N","","3DBREC10YSVCSN","__3__DB_REC10YSVCS_N",1,"______"]
[null,null,null,null,null,null,null,null,null,null,null,null,null,null,null,null,null,null,null,null,null,{"$f":"IFERROR(INDEX(MissingData, SMALL(IF(ISBLANK(MissingData)+ISERROR(MissingData)+LEN(MissingData)=0, \"\", ROW(MissingData)-MIN(ROW(MissingData))+1), ROW(25:25))),\"\")","v":"__3__DD_SC_N"},"","",null,"__3__DD_SC_N","","3DDSCN","__3__DD_SC_N",1,"______",{"$f":"IFERROR(INDEX(MissingDataC143, SMALL(IF(ISBLANK(MissingDataC143)+ISERROR(MissingDataC143)+LEN(MissingDataC143)=0, \"\", ROW(MissingDataC143)-MIN(ROW(MissingDataC143))+1), ROW(25:25))),\"\")","v":""}]
[null,null,null,null,null,null,null,null,null,null,null,null,null,null,null,null,null,null,null,null,null,{"$f":"IFERROR(INDEX(MissingData, SMALL(IF(ISBLANK(MissingData)+ISERROR(MissingData)+LEN(MissingData)=0, \"\", ROW(MissingData)-MIN(ROW(MissingData))+1), ROW(26:26))),\"\")","v":"__3__DD_SPL_N"},"","",null,"__3__DD_SPL_N","","3DDSPLN","__3__DD_SPL_N",1,"______",{"$f":"IFERROR(INDEX(MissingDataC143, SMALL(IF(ISBLANK(MissingDataC143)+ISERROR(MissingDataC143)+LEN(MissingDataC143)=0, \"\", ROW(MissingDataC143)-MIN(ROW(MissingDataC143))+1), ROW(26:26))),\"\")","v":""}]
[null,null,null,null,null,null,null,null,null,null,null,null,null,null,null,null,null,null,null,null,null,{"$f":"IFERROR(INDEX(MissingData, SMALL(IF(ISBLANK(MissingData)+ISERROR(MissingData)+LEN(MissingData)=0, \"\", ROW(MissingData)-MIN(ROW(MissingData))+1), ROW(27:27))),\"\")","v":"__3__DD_SS_N"},"","",null,"__3__DD_SS_N","","3DDSSN","__3__DD_SS_N",1,"______",{"$f":"IFERROR(INDEX(MissingDataC143, SMALL(IF(ISBLANK(MissingDataC143)+ISERROR(MissingDataC143)+LEN(MissingDataC143)=0, \"\", ROW(MissingDataC143)-MIN(ROW(MissingDataC143))+1), ROW(27:27))),\"\")","v":""}]
[null,null,null,null,null,null,null,null,null,null,null,null,null,null,null,null,null,null,null,null,null,{"$f":"IFERROR(INDEX(MissingData, SMALL(IF(ISBLANK(MissingData)+ISERROR(MissingData)+LEN(MissingData)=0, \"\", ROW(MissingData)-MIN(ROW(MissingData))+1), ROW(28:28))),\"\")","v":"__4__DD_H_N"},"","",null,"__4__DD_H_N","","4DDHN","__4__DD_H_N",1,"______",{"$f":"IFERROR(INDEX(MissingDataC143, SMALL(IF(ISBLANK(MissingDataC143)+ISERROR(MissingDataC143)+LEN(MissingDataC143)=0, \"\", ROW(MissingDataC143)-MIN(ROW(MissingDataC143))+1), ROW(28:28))),\"\")","v":""}]
[null,null,null,null,null,null,null,null,null,null,null,null,null,null,null,null,null,null,null,null,null,{"$f":"IFERROR(INDEX(MissingData, SMALL(IF(ISBLANK(MissingData)+ISERROR(MissingData)+LEN(MissingData)=0, \"\", ROW(MissingData)-MIN(ROW(MissingData))+1), ROW(29:29))),\"\")","v":"__4__DD_REC10YOTHLOC_N"},"","",null,"__4__DD_REC10YOTHLOC_N","","4DDREC10YOTHLOCN","__4__DD_REC10YOTHLOC_N",1,"______",{"$f":"IFERROR(INDEX(MissingDataC143, SMALL(IF(ISBLANK(MissingDataC143)+ISERROR(MissingDataC143)+LEN(MissingDataC143)=0, \"\", ROW(MissingDataC143)-MIN(ROW(MissingDataC143))+1), ROW(29:29))),\"\")","v":""}]
[null,null,null,null,null,null,null,null,null,null,null,null,null,null,null,null,null,null,null,null,null,{"$f":"IFERROR(INDEX(MissingData, SMALL(IF(ISBLANK(MissingData)+ISERROR(MissingData)+LEN(MissingData)=0, \"\", ROW(MissingData)-MIN(ROW(MissingData))+1), ROW(30:30))),\"\")","v":"__4__DB_REC10YSVCS_N"},"","",null,"__4__DB_REC10YSVCS_N","","4DBREC10YSVCSN","__4__DB_REC10YSVCS_N",1,"______"]
[null,null,null,null,null,null,null,null,null,null,null,null,null,null,null,null,null,null,null,null,null,{"$f":"IFERROR(INDEX(MissingData, SMALL(IF(ISBLANK(MissingData)+ISERROR(MissingData)+LEN(MissingData)=0, \"\", ROW(MissingData)-MIN(ROW(MissingData))+1), ROW(31:31))),\"\")","v":"__4__DD_SC_N"},"","",null,"__4__DD_SC_N","","4DDSCN","__4__DD_SC_N",1,"______",{"$f":"IFERROR(INDEX(MissingDataC143, SMALL(IF(ISBLANK(MissingDataC143)+ISERROR(MissingDataC143)+LEN(MissingDataC143)=0, \"\", ROW(MissingDataC143)-MIN(ROW(MissingDataC143))+1), ROW(31:31))),\"\")","v":""}]
[null,null,null,null,null,null,null,null,null,null,null,null,null,null,null,null,null,null,null,null,null,{"$f":"IFERROR(INDEX(MissingData, SMALL(IF(ISBLANK(MissingData)+ISERROR(MissingData)+LEN(MissingData)=0, \"\", ROW(MissingData)-MIN(ROW(MissingData))+1), ROW(32:32))),\"\")","v":"__4__DD_SPL_N"},"","",null,"__4__DD_SPL_N","","4DDSPLN","__4__DD_SPL_N",1,"______",{"$f":"IFERROR(INDEX(MissingDataC143, SMALL(IF(ISBLANK(MissingDataC143)+ISERROR(MissingDataC143)+LEN(MissingDataC143)=0, \"\", ROW(MissingDataC143)-MIN(ROW(MissingDataC143))+1), ROW(32:32))),\"\")","v":""}]
[null,null,null,null,null,null,null,null,null,null,null,null,null,null,null,null,null,null,null,null,null,{"$f":"IFERROR(INDEX(MissingData, SMALL(IF(ISBLANK(MissingData)+ISERROR(MissingData)+LEN(MissingData)=0, \"\", ROW(MissingData)-MIN(ROW(MissingData))+1), ROW(33:33))),\"\")","v":"__4__DD_SS_N"},"","",null,"__4__DD_SS_N","","4DDSSN","__4__DD_SS_N",1,"______",{"$f":"IFERROR(INDEX(MissingDataC143, SMALL(IF(ISBLANK(MissingDataC143)+ISERROR(MissingDataC143)+LEN(MissingDataC143)=0, \"\", ROW(MissingDataC143)-MIN(ROW(MissingDataC143))+1), ROW(33:33))),\"\")","v":""}]
[null,null,null,null,null,null,null,null,null,null,null,null,null,null,null,null,null,null,null,null,null,{"$f":"IFERROR(INDEX(MissingData, SMALL(IF(ISBLANK(MissingData)+ISERROR(MissingData)+LEN(MissingData)=0, \"\", ROW(MissingData)-MIN(ROW(MissingData))+1), ROW(34:34))),\"\")","v":"__AGE05NOTK__DD_H_N"},"","",null,"__AGE05NOTK__DD_H_N","","AGE05NOTKDDHN","__AGE05NOTK__DD_H_N",1,"______",{"$f":"IFERROR(INDEX(MissingDataC143, SMALL(IF(ISBLANK(MissingDataC143)+ISERROR(MissingDataC143)+LEN(MissingDataC143)=0, \"\", ROW(MissingDataC143)-MIN(ROW(MissingDataC143))+1), ROW(34:34))),\"\")","v":""}]
[null,null,null,null,null,null,null,null,null,null,null,null,null,null,null,null,null,null,null,null,null,{"$f":"IFERROR(INDEX(MissingData, SMALL(IF(ISBLANK(MissingData)+ISERROR(MissingData)+LEN(MissingData)=0, \"\", ROW(MissingData)-MIN(ROW(MissingData))+1), ROW(35:35))),\"\")","v":"__AGE05NOTK__DD_REC09YOTHLOC_N"},"","",null,"__AGE05NOTK__DD_REC09YOTHLOC_N","","AGE05NOTKDDREC09YOTHLOCN","__AGE05NOTK__DD_REC09YOTHLOC_N",1,"______",{"$f":"IFERROR(INDEX(MissingDataC143, SMALL(IF(ISBLANK(MissingDataC143)+ISERROR(MissingDataC143)+LEN(MissingDataC143)=0, \"\", ROW(MissingDataC143)-MIN(ROW(MissingDataC143))+1), ROW(35:35))),\"\")","v":""}]
[null,null,null,null,null,null,null,null,null,null,null,null,null,null,null,null,null,null,null,null,null,{"$f":"IFERROR(INDEX(MissingData, SMALL(IF(ISBLANK(MissingData)+ISERROR(MissingData)+LEN(MissingData)=0, \"\", ROW(MissingData)-MIN(ROW(MissingData))+1), ROW(36:36))),\"\")","v":"__AGE05NOTK__DD_REC10YOTHLOC_N"},"","",null,"__AGE05NOTK__DD_REC10YOTHLOC_N","","AGE05NOTKDDREC10YOTHLOCN","__AGE05NOTK__DD_REC10YOTHLOC_N",1,"______",{"$f":"IFERROR(INDEX(MissingDataC143, SMALL(IF(ISBLANK(MissingDataC143)+ISERROR(MissingDataC143)+LEN(MissingDataC143)=0, \"\", ROW(MissingDataC143)-MIN(ROW(MissingDataC143))+1), ROW(36:36))),\"\")","v":""}]
[null,null,null,null,null,null,null,null,null,null,null,null,null,null,null,null,null,null,null,null,null,{"$f":"IFERROR(INDEX(MissingData, SMALL(IF(ISBLANK(MissingData)+ISERROR(MissingData)+LEN(MissingData)=0, \"\", ROW(MissingData)-MIN(ROW(MissingData))+1), ROW(37:37))),\"\")","v":"__AGE05NOTK__DB_REC10YSVCS_N"},"","",null,"__AGE05NOTK__DB_REC10YSVCS_N","","AGE05NOTKDBREC10YSVCSN","__AGE05NOTK__DB_REC10YSVCS_N",1,"______"]
[null,null,null,null,null,null,null,null,null,null,null,null,null,null,null,null,null,null,null,null,null,{"$f":"IFERROR(INDEX(MissingData, SMALL(IF(ISBLANK(MissingData)+ISERROR(MissingData)+LEN(MissingData)=0, \"\", ROW(MissingData)-MIN(ROW(MissingData))+1), ROW(38:38))),\"\")","v":"__AGE05NOTK__DD_SC_N"},"","",null,"__AGE05NOTK__DD_SC_N","","AGE05NOTKDDSCN","__AGE05NOTK__DD_SC_N",1,"______",{"$f":"IFERROR(INDEX(MissingDataC143, SMALL(IF(ISBLANK(MissingDataC143)+ISERROR(MissingDataC143)+LEN(MissingDataC143)=0, \"\", ROW(MissingDataC143)-MIN(ROW(MissingDataC143))+1), ROW(38:38))),\"\")","v":""}]
[null,null,null,null,null,null,null,null,null,null,null,null,null,null,null,null,null,null,null,null,null,{"$f":"IFERROR(INDEX(MissingData, SMALL(IF(ISBLANK(MissingData)+ISERROR(MissingData)+LEN(MissingData)=0, \"\", ROW(MissingData)-MIN(ROW(MissingData))+1), ROW(39:39))),\"\")","v":"__AGE05NOTK__DD_SPL_N"},"","",null,"__AGE05NOTK__DD_SPL_N","","AGE05NOTKDDSPLN","__AGE05NOTK__DD_SPL_N",1,"______",{"$f":"IFERROR(INDEX(MissingDataC143, SMALL(IF(ISBLANK(MissingDataC143)+ISERROR(MissingDataC143)+LEN(MissingDataC143)=0, \"\", ROW(MissingDataC143)-MIN(ROW(MissingDataC143))+1), ROW(39:39))),\"\")","v":""}]
[null,null,null,null,null,null,null,null,null,null,null,null,null,null,null,null,null,null,null,null,null,{"$f":"IFERROR(INDEX(MissingData, SMALL(IF(ISBLANK(MissingData)+ISERROR(MissingData)+LEN(MissingData)=0, \"\", ROW(MissingData)-MIN(ROW(MissingData))+1), ROW(40:40))),\"\")","v":"__AGE05NOTK__DD_SS_N"},"","",null,"__AGE05NOTK__DD_SS_N","","AGE05NOTKDDSSN","__AGE05NOTK__DD_SS_N",1,"______",{"$f":"IFERROR(INDEX(MissingDataC143, SMALL(IF(ISBLANK(MissingDataC143)+ISERROR(MissingDataC143)+LEN(MissingDataC143)=0, \"\", ROW(MissingDataC143)-MIN(ROW(MissingDataC143))+1), ROW(40:40))),\"\")","v":""}]
[null,null,null,null,null,null,null,null,null,null,null,null,null,null,null,null,null,null,null,null,null,{"$f":"IFERROR(INDEX(MissingData, SMALL(IF(ISBLANK(MissingData)+ISERROR(MissingData)+LEN(MissingData)=0, \"\", ROW(MissingData)-MIN(ROW(MissingData))+1), ROW(41:41))),\"\")","v":"__4__EMN_REC10YOTHLOC_N"},"","",null,"__4__EMN_REC10YOTHLOC_N","","4EMNREC10YOTHLOCN","__4__EMN_REC10YOTHLOC_N",1,"______",{"$f":"IFERROR(INDEX(MissingDataC143, SMALL(IF(ISBLANK(MissingDataC143)+ISERROR(MissingDataC143)+LEN(MissingDataC143)=0, \"\", ROW(MissingDataC143)-MIN(ROW(MissingDataC143))+1), ROW(41:41))),\"\")","v":""}]
[null,null,null,null,null,null,null,null,null,null,null,null,null,null,null,null,null,null,null,null,null,{"$f":"IFERROR(INDEX(MissingData, SMALL(IF(ISBLANK(MissingData)+ISERROR(MissingData)+LEN(MissingData)=0, \"\", ROW(MissingData)-MIN(ROW(MissingData))+1), ROW(42:42))),\"\")","v":"__3__DD_REC10YSVCS_N"},"","",null,"__3__DD_REC10YSVCS_N","","3DDREC10YSVCSN","__3__DD_REC10YSVCS_N",1,"______",{"$f":"IFERROR(INDEX(MissingDataC143, SMALL(IF(ISBLANK(MissingDataC143)+ISERROR(MissingDataC143)+LEN(MissingDataC143)=0, \"\", ROW(MissingDataC143)-MIN(ROW(MissingDataC143))+1), ROW(42:42))),\"\")","v":""}]
[null,null,null,null,null,null,null,null,null,null,null,null,null,null,null,null,null,null,null,null,null,{"$f":"IFERROR(INDEX(MissingData, SMALL(IF(ISBLANK(MissingData)+ISERROR(MissingData)+LEN(MissingData)=0, \"\", ROW(MissingData)-MIN(ROW(MissingData))+1), ROW(43:43))),\"\")","v":"__AGE05NOTK__EMN_SC_N"},"","",null,"__AGE05NOTK__EMN_SC_N","","AGE05NOTKEMNSCN","__AGE05NOTK__EMN_SC_N",1,"______",{"$f":"IFERROR(INDEX(MissingDataC143, SMALL(IF(ISBLANK(MissingDataC143)+ISERROR(MissingDataC143)+LEN(MissingDataC143)=0, \"\", ROW(MissingDataC143)-MIN(ROW(MissingDataC143))+1), ROW(43:43))),\"\")","v":""}]
[null,null,null,null,null,null,null,null,null,null,null,null,null,null,null,null,null,null,null,null,null,{"$f":"IFERROR(INDEX(MissingData, SMALL(IF(ISBLANK(MissingData)+ISERROR(MissingData)+LEN(MissingData)=0, \"\", ROW(MissingData)-MIN(ROW(MissingData))+1), ROW(44:44))),\"\")","v":"__3__HI_REC10YOTHLOC_N"},"","",null,"__3__HI_REC10YOTHLOC_N","","3HIREC10YOTHLOCN","__3__HI_REC10YOTHLOC_N",1,"______",{"$f":"IFERROR(INDEX(MissingDataC143, SMALL(IF(ISBLANK(MissingDataC143)+ISERROR(MissingDataC143)+LEN(MissingDataC143)=0, \"\", ROW(MissingDataC143)-MIN(ROW(MissingDataC143))+1), ROW(44:44))),\"\")","v":""}]
[null,null,null,null,null,null,null,null,null,null,null,null,null,null,null,null,null,null,null,null,null,{"$f":"IFERROR(INDEX(MissingData, SMALL(IF(ISBLANK(MissingData)+ISERROR(MissingData)+LEN(MissingData)=0, \"\", ROW(MissingData)-MIN(ROW(MissingData))+1), ROW(45:45))),\"\")","v":"__4__DD_REC10YSVCS_N"},"","",null,"__4__DD_REC10YSVCS_N","","4DDREC10YSVCSN","__4__DD_REC10YSVCS_N",1,"______",{"$f":"IFERROR(INDEX(MissingDataC143, SMALL(IF(ISBLANK(MissingDataC143)+ISERROR(MissingDataC143)+LEN(MissingDataC143)=0, \"\", ROW(MissingDataC143)-MIN(ROW(MissingDataC143))+1), ROW(45:45))),\"\")","v":""}]
[null,null,null,null,null,null,null,null,null,null,null,null,null,null,null,null,null,null,null,null,null,{"$f":"IFERROR(INDEX(MissingData, SMALL(IF(ISBLANK(MissingData)+ISERROR(MissingData)+LEN(MissingData)=0, \"\", ROW(MissingData)-MIN(ROW(MissingData))+1), ROW(46:46))),\"\")","v":"__3__HI_SC_N"},"","",null,"__3__HI_SC_N","","3HISCN","__3__HI_SC_N",1,"______",{"$f":"IFERROR(INDEX(MissingDataC143, SMALL(IF(ISBLANK(MissingDataC143)+ISERROR(MissingDataC143)+LEN(MissingDataC143)=0, \"\", ROW(MissingDataC143)-MIN(ROW(MissingDataC143))+1), ROW(46:46))),\"\")","v":""}]
[null,null,null,null,null,null,null,null,null,null,null,null,null,null,null,null,null,null,null,null,null,{"$f":"IFERROR(INDEX(MissingData, SMALL(IF(ISBLANK(MissingData)+ISERROR(MissingData)+LEN(MissingData)=0, \"\", ROW(MissingData)-MIN(ROW(MissingData))+1), ROW(47:47))),\"\")","v":"__3__HI_SPL_N"},"","",null,"__3__HI_SPL_N","","3HISPLN","__3__HI_SPL_N",1,"______",{"$f":"IFERROR(INDEX(MissingDataC143, SMALL(IF(ISBLANK(MissingDataC143)+ISERROR(MissingDataC143)+LEN(MissingDataC143)=0, \"\", ROW(MissingDataC143)-MIN(ROW(MissingDataC143))+1), ROW(47:47))),\"\")","v":""}]
[null,null,null,null,null,null,null,null,null,null,null,null,null,null,null,null,null,null,null,null,null,{"$f":"IFERROR(INDEX(MissingData, SMALL(IF(ISBLANK(MissingData)+ISERROR(MissingData)+LEN(MissingData)=0, \"\", ROW(MissingData)-MIN(ROW(MissingData))+1), ROW(48:48))),\"\")","v":"__3__HI_SS_N"},"","",null,"__3__HI_SS_N","","3HISSN","__3__HI_SS_N",1,"______",{"$f":"IFERROR(INDEX(MissingDataC143, SMALL(IF(ISBLANK(MissingDataC143)+ISERROR(MissingDataC143)+LEN(MissingDataC143)=0, \"\", ROW(MissingDataC143)-MIN(ROW(MissingDataC143))+1), ROW(48:48))),\"\")","v":""}]
[null,null,null,null,null,null,null,null,null,null,null,null,null,null,null,null,null,null,null,null,null,{"$f":"IFERROR(INDEX(MissingData, SMALL(IF(ISBLANK(MissingData)+ISERROR(MissingData)+LEN(MissingData)=0, \"\", ROW(MissingData)-MIN(ROW(MissingData))+1), ROW(49:49))),\"\")","v":"__4__HI_REC10YOTHLOC_N"},"","",null,"__4__HI_REC10YOTHLOC_N","","4HIREC10YOTHLOCN","__4__HI_REC10YOTHLOC_N",1,"______",{"$f":"IFERROR(INDEX(MissingDataC143, SMALL(IF(ISBLANK(MissingDataC143)+ISERROR(MissingDataC143)+LEN(MissingDataC143)=0, \"\", ROW(MissingDataC143)-MIN(ROW(MissingDataC143))+1), ROW(49:49))),\"\")","v":""}]
[null,null,null,null,null,null,null,null,null,null,null,null,null,null,null,null,null,null,null,null,null,{"$f":"IFERROR(INDEX(MissingData, SMALL(IF(ISBLANK(MissingData)+ISERROR(MissingData)+LEN(MissingData)=0, \"\", ROW(MissingData)-MIN(ROW(MissingData))+1), ROW(50:50))),\"\")","v":"__AGE05NOTK__DD_REC10YSVCS_N"},"","",null,"__AGE05NOTK__DD_REC10YSVCS_N","","AGE05NOTKDDREC10YSVCSN","__AGE05NOTK__DD_REC10YSVCS_N",1,"______",{"$f":"IFERROR(INDEX(MissingDataC143, SMALL(IF(ISBLANK(MissingDataC143)+ISERROR(MissingDataC143)+LEN(MissingDataC143)=0, \"\", ROW(MissingDataC143)-MIN(ROW(MissingDataC143))+1), ROW(50:50))),\"\")","v":""}]
[null,null,null,null,null,null,null,null,null,null,null,null,null,null,null,null,null,null,null,null,null,{"$f":"IFERROR(INDEX(MissingData, SMALL(IF(ISBLANK(MissingData)+ISERROR(MissingData)+LEN(MissingData)=0, \"\", ROW(MissingData)-MIN(ROW(MissingData))+1), ROW(51:51))),\"\")","v":"__4__HI_SC_N"},"","",null,"__4__HI_SC_N","","4HISCN","__4__HI_SC_N",1,"______",{"$f":"IFERROR(INDEX(MissingDataC143, SMALL(IF(ISBLANK(MissingDataC143)+ISERROR(MissingDataC143)+LEN(MissingDataC143)=0, \"\", ROW(MissingDataC143)-MIN(ROW(MissingDataC143))+1), ROW(51:51))),\"\")","v":""}]
[null,null,null,null,null,null,null,null,null,null,null,null,null,null,null,null,null,null,null,null,null,{"$f":"IFERROR(INDEX(MissingData, SMALL(IF(ISBLANK(MissingData)+ISERROR(MissingData)+LEN(MissingData)=0, \"\", ROW(MissingData)-MIN(ROW(MissingData))+1), ROW(52:52))),\"\")","v":"__4__HI_SPL_N"},"","",null,"__4__HI_SPL_N","","4HISPLN","__4__HI_SPL_N",1,"______",{"$f":"IFERROR(INDEX(MissingDataC143, SMALL(IF(ISBLANK(MissingDataC143)+ISERROR(MissingDataC143)+LEN(MissingDataC143)=0, \"\", ROW(MissingDataC143)-MIN(ROW(MissingDataC143))+1), ROW(52:52))),\"\")","v":""}]
[null,null,null,null,null,null,null,null,null,null,null,null,null,null,null,null,null,null,null,null,null,{"$f":"IFERROR(INDEX(MissingData, SMALL(IF(ISBLANK(MissingData)+ISERROR(MissingData)+LEN(MissingData)=0, \"\", ROW(MissingData)-MIN(ROW(MissingData))+1), ROW(53:53))),\"\")","v":"__4__HI_SS_N"},"","",null,"__4__HI_SS_N","","4HISSN","__4__HI_SS_N",1,"______",{"$f":"IFERROR(INDEX(MissingDataC143, SMALL(IF(ISBLANK(MissingDataC143)+ISERROR(MissingDataC143)+LEN(MissingDataC143)=0, \"\", ROW(MissingDataC143)-MIN(ROW(MissingDataC143))+1), ROW(53:53))),\"\")","v":""}]
[null,null,null,null,null,null,null,null,null,null,null,null,null,null,null,null,null,null,null,null,null,{"$f":"IFERROR(INDEX(MissingData, SMALL(IF(ISBLANK(MissingData)+ISERROR(MissingData)+LEN(MissingData)=0, \"\", ROW(MissingData)-MIN(ROW(MissingData))+1), ROW(54:54))),\"\")","v":"__AGE05NOTK__HI_H_N"},"","",null,"__AGE05NOTK__HI_H_N","","AGE05NOTKHIHN","__AGE05NOTK__HI_H_N",1,"______",{"$f":"IFERROR(INDEX(MissingDataC143, SMALL(IF(ISBLANK(MissingDataC143)+ISERROR(MissingDataC143)+LEN(MissingDataC143)=0, \"\", ROW(MissingDataC143)-MIN(ROW(MissingDataC143))+1), ROW(54:54))),\"\")","v":""}]
[null,null,null,null,null,null,null,null,null,null,null,null,null,null,null,null,null,null,null,null,null,{"$f":"IFERROR(INDEX(MissingData, SMALL(IF(ISBLANK(MissingData)+ISERROR(MissingData)+LEN(MissingData)=0, \"\", ROW(MissingData)-MIN(ROW(MissingData))+1), ROW(55:55))),\"\")","v":"__AGE05NOTK__HI_REC10YOTHLOC_N"},"","",null,"__AGE05NOTK__HI_REC10YOTHLOC_N","","AGE05NOTKHIREC10YOTHLOCN","__AGE05NOTK__HI_REC10YOTHLOC_N",1,"______",{"$f":"IFERROR(INDEX(MissingDataC143, SMALL(IF(ISBLANK(MissingDataC143)+ISERROR(MissingDataC143)+LEN(MissingDataC143)=0, \"\", ROW(MissingDataC143)-MIN(ROW(MissingDataC143))+1), ROW(55:55))),\"\")","v":""}]
[null,null,null,null,null,null,null,null,null,null,null,null,null,null,null,null,null,null,null,null,null,{"$f":"IFERROR(INDEX(MissingData, SMALL(IF(ISBLANK(MissingData)+ISERROR(MissingData)+LEN(MissingData)=0, \"\", ROW(MissingData)-MIN(ROW(MissingData))+1), ROW(56:56))),\"\")","v":"__AGE05NOTK__EMN_REC10YSVCS_N"},"","",null,"__AGE05NOTK__EMN_REC10YSVCS_N","","AGE05NOTKEMNREC10YSVCSN","__AGE05NOTK__EMN_REC10YSVCS_N",1,"______",{"$f":"IFERROR(INDEX(MissingDataC143, SMALL(IF(ISBLANK(MissingDataC143)+ISERROR(MissingDataC143)+LEN(MissingDataC143)=0, \"\", ROW(MissingDataC143)-MIN(ROW(MissingDataC143))+1), ROW(56:56))),\"\")","v":""}]
[null,null,null,null,null,null,null,null,null,null,null,null,null,null,null,null,null,null,null,null,null,{"$f":"IFERROR(INDEX(MissingData, SMALL(IF(ISBLANK(MissingData)+ISERROR(MissingData)+LEN(MissingData)=0, \"\", ROW(MissingData)-MIN(ROW(MissingData))+1), ROW(57:57))),\"\")","v":"__AGE05NOTK__HI_SC_N"},"","",null,"__AGE05NOTK__HI_SC_N","","AGE05NOTKHISCN","__AGE05NOTK__HI_SC_N",1,"______",{"$f":"IFERROR(INDEX(MissingDataC143, SMALL(IF(ISBLANK(MissingDataC143)+ISERROR(MissingDataC143)+LEN(MissingDataC143)=0, \"\", ROW(MissingDataC143)-MIN(ROW(MissingDataC143))+1), ROW(57:57))),\"\")","v":""}]
[null,null,null,null,null,null,null,null,null,null,null,null,null,null,null,null,null,null,null,null,null,{"$f":"IFERROR(INDEX(MissingData, SMALL(IF(ISBLANK(MissingData)+ISERROR(MissingData)+LEN(MissingData)=0, \"\", ROW(MissingData)-MIN(ROW(MissingData))+1), ROW(58:58))),\"\")","v":"__AGE05NOTK__HI_SPL_N"},"","",null,"__AGE05NOTK__HI_SPL_N","","AGE05NOTKHISPLN","__AGE05NOTK__HI_SPL_N",1,"______",{"$f":"IFERROR(INDEX(MissingDataC143, SMALL(IF(ISBLANK(MissingDataC143)+ISERROR(MissingDataC143)+LEN(MissingDataC143)=0, \"\", ROW(MissingDataC143)-MIN(ROW(MissingDataC143))+1), ROW(58:58))),\"\")","v":""}]
[null,null,null,null,null,null,null,null,null,null,null,null,null,null,null,null,null,null,null,null,null,{"$f":"IFERROR(INDEX(MissingData, SMALL(IF(ISBLANK(MissingData)+ISERROR(MissingData)+LEN(MissingData)=0, \"\", ROW(MissingData)-MIN(ROW(MissingData))+1), ROW(59:59))),\"\")","v":"__AGE05NOTK__HI_SS_N"},"","",null,"__AGE05NOTK__HI_SS_N","","AGE05NOTKHISSN","__AGE05NOTK__HI_SS_N",1,"______",{"$f":"IFERROR(INDEX(MissingDataC143, SMALL(IF(ISBLANK(MissingDataC143)+ISERROR(MissingDataC143)+LEN(MissingDataC143)=0, \"\", ROW(MissingDataC143)-MIN(ROW(MissingDataC143))+1), ROW(59:59))),\"\")","v":""}]
[null,null,null,null,null,null,null,null,null,null,null,null,null,null,null,null,null,null,null,null,null,{"$f":"IFERROR(INDEX(MissingData, SMALL(IF(ISBLANK(MissingData)+ISERROR(MissingData)+LEN(MissingData)=0, \"\", ROW(MissingData)-MIN(ROW(MissingData))+1), ROW(60:60))),\"\")","v":"__3__MD_H_N"},"","",null,"__3__MD_H_N","","3MDHN","__3__MD_H_N",1,"______",{"$f":"IFERROR(INDEX(MissingDataC143, SMALL(IF(ISBLANK(MissingDataC143)+ISERROR(MissingDataC143)+LEN(MissingDataC143)=0, \"\", ROW(MissingDataC143)-MIN(ROW(MissingDataC143))+1), ROW(60:60))),\"\")","v":""}]
[null,null,null,null,null,null,null,null,null,null,null,null,null,null,null,null,null,null,null,null,null,{"$f":"IFERROR(INDEX(MissingData, SMALL(IF(ISBLANK(MissingData)+ISERROR(MissingData)+LEN(MissingData)=0, \"\", ROW(MissingData)-MIN(ROW(MissingData))+1), ROW(61:61))),\"\")","v":"__3__MD_REC10YOTHLOC_N"},"","",null,"__3__MD_REC10YOTHLOC_N","","3MDREC10YOTHLOCN","__3__MD_REC10YOTHLOC_N",1,"______",{"$f":"IFERROR(INDEX(MissingDataC143, SMALL(IF(ISBLANK(MissingDataC143)+ISERROR(MissingDataC143)+LEN(MissingDataC143)=0, \"\", ROW(MissingDataC143)-MIN(ROW(MissingDataC143))+1), ROW(61:61))),\"\")","v":""}]
[null,null,null,null,null,null,null,null,null,null,null,null,null,null,null,null,null,null,null,null,null,{"$f":"IFERROR(INDEX(MissingData, SMALL(IF(ISBLANK(MissingData)+ISERROR(MissingData)+LEN(MissingData)=0, \"\", ROW(MissingData)-MIN(ROW(MissingData))+1), ROW(62:62))),\"\")","v":"__3__EMN_REC10YSVCS_N"},"","",null,"__3__EMN_REC10YSVCS_N","","3EMNREC10YSVCSN","__3__EMN_REC10YSVCS_N",1,"______"]
[null,null,null,null,null,null,null,null,null,null,null,null,null,null,null,null,null,null,null,null,null,{"$f":"IFERROR(INDEX(MissingData, SMALL(IF(ISBLANK(MissingData)+ISERROR(MissingData)+LEN(MissingData)=0, \"\", ROW(MissingData)-MIN(ROW(MissingData))+1), ROW(63:63))),\"\")","v":"__3__MD_SC_N"},"","",null,"__3__MD_SC_N","","3MDSCN","__3__MD_SC_N",1,"______",{"$f":"IFERROR(INDEX(MissingDataC143, SMALL(IF(ISBLANK(MissingDataC143)+ISERROR(MissingDataC143)+LEN(MissingDataC143)=0, \"\", ROW(MissingDataC143)-MIN(ROW(MissingDataC143))+1), ROW(63:63))),\"\")","v":""}]
[null,null,null,null,null,null,null,null,null,null,null,null,null,null,null,null,null,null,null,null,null,{"$f":"IFERROR(INDEX(MissingData, SMALL(IF(ISBLANK(MissingData)+ISERROR(MissingData)+LEN(MissingData)=0, \"\", ROW(MissingData)-MIN(ROW(MissingData))+1), ROW(64:64))),\"\")","v":"__3__MD_SS_N"},"","",null,"__3__MD_SS_N","","3MDSSN","__3__MD_SS_N",1,"______",{"$f":"IFERROR(INDEX(MissingDataC143, SMALL(IF(ISBLANK(MissingDataC143)+ISERROR(MissingDataC143)+LEN(MissingDataC143)=0, \"\", ROW(MissingDataC143)-MIN(ROW(MissingDataC143))+1), ROW(64:64))),\"\")","v":""}]
[null,null,null,null,null,null,null,null,null,null,null,null,null,null,null,null,null,null,null,null,null,{"$f":"IFERROR(INDEX(MissingData, SMALL(IF(ISBLANK(MissingData)+ISERROR(MissingData)+LEN(MissingData)=0, \"\", ROW(MissingData)-MIN(ROW(MissingData))+1), ROW(65:65))),\"\")","v":"__4__MD_H_N"},"","",null,"__4__MD_H_N","","4MDHN","__4__MD_H_N",1,"______",{"$f":"IFERROR(INDEX(MissingDataC143, SMALL(IF(ISBLANK(MissingDataC143)+ISERROR(MissingDataC143)+LEN(MissingDataC143)=0, \"\", ROW(MissingDataC143)-MIN(ROW(MissingDataC143))+1), ROW(65:65))),\"\")","v":""}]
[null,null,null,null,null,null,null,null,null,null,null,null,null,null,null,null,null,null,null,null,null,{"$f":"IFERROR(INDEX(MissingData, SMALL(IF(ISBLANK(MissingData)+ISERROR(MissingData)+LEN(MissingData)=0, \"\", ROW(MissingData)-MIN(ROW(MissingData))+1), ROW(66:66))),\"\")","v":"__4__MD_REC10YOTHLOC_N"},"","",null,"__4__MD_REC10YOTHLOC_N","","4MDREC10YOTHLOCN","__4__MD_REC10YOTHLOC_N",1,"______",{"$f":"IFERROR(INDEX(MissingDataC143, SMALL(IF(ISBLANK(MissingDataC143)+ISERROR(MissingDataC143)+LEN(MissingDataC143)=0, \"\", ROW(MissingDataC143)-MIN(ROW(MissingDataC143))+1), ROW(66:66))),\"\")","v":""}]
[null,null,null,null,null,null,null,null,null,null,null,null,null,null,null,null,null,null,null,null,null,{"$f":"IFERROR(INDEX(MissingData, SMALL(IF(ISBLANK(MissingData)+ISERROR(MissingData)+LEN(MissingData)=0, \"\", ROW(MissingData)-MIN(ROW(MissingData))+1), ROW(67:67))),\"\")","v":"__4__EMN_REC10YSVCS_N"},{"$f":"IF(LEN(AA80)=0,\"\",IF(COUNTIF(CurrentListing_C089,AA80)>1,AE80,\"\"))","v":""},{"$f":"IF(LEN(AA80)=0,\"\",IF(ISNA(MATCH(AA80,MasterListing,0)),AE80,\"\"))","v":""},null,{"$f":"IF(LEN(AC80)=0,\"\",IF(ISNA(MATCH(AB80,CurrentListing_C089,0)),AC80,\"\"))","v":"__4__EMN_REC10YSVCS_N"},{"$f":"G80&H80&I80&J80&K80&Q80&R80","v":""},"4EMNREC10YSVCSN","__4__EMN_REC10YSVCS_N",{"$f":"IF(LEN(V80)>0,1,0)","v":1},{"$f":"G80&\"_\"&H80&\"_\"&I80&\"_\"&J80&\"_\"&K80&\"_\"&Q80&\"_\"&R80","v":"______"}]
[null,null,null,null,null,null,null,null,null,null,null,null,null,null,null,null,null,null,null,null,null,{"$f":"IFERROR(INDEX(MissingData, SMALL(IF(ISBLANK(MissingData)+ISERROR(MissingData)+LEN(MissingData)=0, \"\", ROW(MissingData)-MIN(ROW(MissingData))+1), ROW(68:68))),\"\")","v":"__4__MD_SC_N"},"","",null,"__4__MD_SC_N","","4MDSCN","__4__MD_SC_N",1,"______",{"$f":"IFERROR(INDEX(MissingDataC143, SMALL(IF(ISBLANK(MissingDataC143)+ISERROR(MissingDataC143)+LEN(MissingDataC143)=0, \"\", ROW(MissingDataC143)-MIN(ROW(MissingDataC143))+1), ROW(68:68))),\"\")","v":""}]
[null,null,null,null,null,null,null,null,null,null,null,null,null,null,null,null,null,null,null,null,null,{"$f":"IFERROR(INDEX(MissingData, SMALL(IF(ISBLANK(MissingData)+ISERROR(MissingData)+LEN(MissingData)=0, \"\", ROW(MissingData)-MIN(ROW(MissingData))+1), ROW(69:69))),\"\")","v":"__4__MD_SS_N"},"","",null,"__4__MD_SS_N","","4MDSSN","__4__MD_SS_N",1,"______",{"$f":"IFERROR(INDEX(MissingDataC143, SMALL(IF(ISBLANK(MissingDataC143)+ISERROR(MissingDataC143)+LEN(MissingDataC143)=0, \"\", ROW(MissingDataC143)-MIN(ROW(MissingDataC143))+1), ROW(69:69))),\"\")","v":""}]
[null,null,null,null,null,null,null,null,null,null,null,null,null,null,null,null,null,null,null,null,null,{"$f":"IFERROR(INDEX(MissingData, SMALL(IF(ISBLANK(MissingData)+ISERROR(MissingData)+LEN(MissingData)=0, \"\", ROW(MissingData)-MIN(ROW(MissingData))+1), ROW(70:70))),\"\")","v":"__AGE05NOTK__MD_H_N"},"","",null,"__AGE05NOTK__MD_H_N","","AGE05NOTKMDHN","__AGE05NOTK__MD_H_N",1,"______",{"$f":"IFERROR(INDEX(MissingDataC143, SMALL(IF(ISBLANK(MissingDataC143)+ISERROR(MissingDataC143)+LEN(MissingDataC143)=0, \"\", ROW(MissingDataC143)-MIN(ROW(MissingDataC143))+1), ROW(70:70))),\"\")","v":""}]
[null,null,null,null,null,null,null,null,null,null,null,null,null,null,null,null,null,null,null,null,null,{"$f":"IFERROR(INDEX(MissingData, SMALL(IF(ISBLANK(MissingData)+ISERROR(MissingData)+LEN(MissingData)=0, \"\", ROW(MissingData)-MIN(ROW(MissingData))+1), ROW(71:71))),\"\")","v":"__AGE05NOTK__MD_REC10YOTHLOC_N"},"","",null,"__AGE05NOTK__MD_REC10YOTHLOC_N","","AGE05NOTKMDREC10YOTHLOCN","__AGE05NOTK__MD_REC10YOTHLOC_N",1,"______",{"$f":"IFERROR(INDEX(MissingDataC143, SMALL(IF(ISBLANK(MissingDataC143)+ISERROR(MissingDataC143)+LEN(MissingDataC143)=0, \"\", ROW(MissingDataC143)-MIN(ROW(MissingDataC143))+1), ROW(71:71))),\"\")","v":""}]
[null,null,null,null,null,null,null,null,null,null,null,null,null,null,null,null,null,null,null,null,null,{"$f":"IFERROR(INDEX(MissingData, SMALL(IF(ISBLANK(MissingData)+ISERROR(MissingData)+LEN(MissingData)=0, \"\", ROW(MissingData)-MIN(ROW(MissingData))+1), ROW(72:72))),\"\")","v":"__3__HI_REC10YSVCS_N"},"","",null,"__3__HI_REC10YSVCS_N","","3HIREC10YSVCSN","__3__HI_REC10YSVCS_N",1,"______",{"$f":"IFERROR(INDEX(MissingDataC143, SMALL(IF(ISBLANK(MissingDataC143)+ISERROR(MissingDataC143)+LEN(MissingDataC143)=0, \"\", ROW(MissingDataC143)-MIN(ROW(MissingDataC143))+1), ROW(72:72))),\"\")","v":""}]
[null,null,null,null,null,null,null,null,null,null,null,null,null,null,null,null,null,null,null,null,null,{"$f":"IFERROR(INDEX(MissingData, SMALL(IF(ISBLANK(MissingData)+ISERROR(MissingData)+LEN(MissingData)=0, \"\", ROW(MissingData)-MIN(ROW(MissingData))+1), ROW(73:73))),\"\")","v":"__AGE05NOTK__MD_SC_N"},"","",null,"__AGE05NOTK__MD_SC_N","","AGE05NOTKMDSCN","__AGE05NOTK__MD_SC_N",1,"______",{"$f":"IFERROR(INDEX(MissingDataC143, SMALL(IF(ISBLANK(MissingDataC143)+ISERROR(MissingDataC143)+LEN(MissingDataC143)=0, \"\", ROW(MissingDataC143)-MIN(ROW(MissingDataC143))+1), ROW(73:73))),\"\")","v":""}]
[null,null,null,null,null,null,null,null,null,null,null,null,null,null,null,null,null,null,null,null,null,{"$f":"IFERROR(INDEX(MissingData, SMALL(IF(ISBLANK(MissingData)+ISERROR(MissingData)+LEN(MissingData)=0, \"\", ROW(MissingData)-MIN(ROW(MissingData))+1), ROW(74:74))),\"\")","v":"__AGE05NOTK__MD_SS_N"},"","",null,"__AGE05NOTK__MD_SS_N","","AGE05NOTKMDSSN","__AGE05NOTK__MD_SS_N",1,"______",{"$f":"IFERROR(INDEX(MissingDataC143, SMALL(IF(ISBLANK(MissingDataC143)+ISERROR(MissingDataC143)+LEN(MissingDataC143)=0, \"\", ROW(MissingDataC143)-MIN(ROW(MissingDataC143))+1), ROW(74:74))),\"\")","v":""}]
[null,null,null,null,null,null,null,null,null,null,null,null,null,null,null,null,null,null,null,null,null,{"$f":"IFERROR(INDEX(MissingData, SMALL(IF(ISBLANK(MissingData)+ISERROR(MissingData)+LEN(MissingData)=0, \"\", ROW(MissingData)-MIN(ROW(MissingData))+1), ROW(75:75))),\"\")","v":"__3__ID_H_N"},"","",null,"__3__ID_H_N","","3IDHN","__3__ID_H_N",1,"______",{"$f":"IFERROR(INDEX(MissingDataC143, SMALL(IF(ISBLANK(MissingDataC143)+ISERROR(MissingDataC143)+LEN(MissingDataC143)=0, \"\", ROW(MissingDataC143)-MIN(ROW(MissingDataC143))+1), ROW(75:75))),\"\")","v":""}]
[null,null,null,null,null,null,null,null,null,null,null,null,null,null,null,null,null,null,null,null,null,{"$f":"IFERROR(INDEX(MissingData, SMALL(IF(ISBLANK(MissingData)+ISERROR(MissingData)+LEN(MissingData)=0, \"\", ROW(MissingData)-MIN(ROW(MissingData))+1), ROW(76:76))),\"\")","v":"__3__ID_REC10YOTHLOC_N"},"","",null,"__3__ID_REC10YOTHLOC_N","","3IDREC10YOTHLOCN","__3__ID_REC10YOTHLOC_N",1,"______",{"$f":"IFERROR(INDEX(MissingDataC143, SMALL(IF(ISBLANK(MissingDataC143)+ISERROR(MissingDataC143)+LEN(MissingDataC143)=0, \"\", ROW(MissingDataC143)-MIN(ROW(MissingDataC143))+1), ROW(76:76))),\"\")","v":""}]
[null,null,null,null,null,null,null,null,null,null,null,null,null,null,null,null,null,null,null,null,null,{"$f":"IFERROR(INDEX(MissingData, SMALL(IF(ISBLANK(MissingData)+ISERROR(MissingData)+LEN(MissingData)=0, \"\", ROW(MissingData)-MIN(ROW(MissingData))+1), ROW(77:77))),\"\")","v":"__4__HI_REC10YSVCS_N"},"","",null,"__4__HI_REC10YSVCS_N","","4HIREC10YSVCSN","__4__HI_REC10YSVCS_N",1,"______",{"$f":"IFERROR(INDEX(MissingDataC143, SMALL(IF(ISBLANK(MissingDataC143)+ISERROR(MissingDataC143)+LEN(MissingDataC143)=0, \"\", ROW(MissingDataC143)-MIN(ROW(MissingDataC143))+1), ROW(77:77))),\"\")","v":""}]
[null,null,null,null,null,null,null,null,null,null,null,null,null,null,null,null,null,null,null,null,null,{"$f":"IFERROR(INDEX(MissingData, SMALL(IF(ISBLANK(MissingData)+ISERROR(MissingData)+LEN(MissingData)=0, \"\", ROW(MissingData)-MIN(ROW(MissingData))+1), ROW(78:78))),\"\")","v":"__3__ID_SC_N"},"","",null,"__3__ID_SC_N","","3IDSCN","__3__ID_SC_N",1,"______"]
[null,null,null,null,null,null,null,null,null,null,null,null,null,null,null,null,null,null,null,null,null,{"$f":"IFERROR(INDEX(MissingData, SMALL(IF(ISBLANK(MissingData)+ISERROR(MissingData)+LEN(MissingData)=0, \"\", ROW(MissingData)-MIN(ROW(MissingData))+1), ROW(79:79))),\"\")","v":"__4__ID_REC10YOTHLOC_N"},"","",null,"__4__ID_REC10YOTHLOC_N","","4IDREC10YOTHLOCN","__4__ID_REC10YOTHLOC_N",1,"______"]
[null,null,null,null,null,null,null,null,null,null,null,null,null,null,null,null,null,null,null,null,null,{"$f":"IFERROR(INDEX(MissingData, SMALL(IF(ISBLANK(MissingData)+ISERROR(MissingData)+LEN(MissingData)=0, \"\", ROW(MissingData)-MIN(ROW(MissingData))+1), ROW(80:80))),\"\")","v":"__AGE05NOTK__HI_REC10YSVCS_N"},"","",null,"__AGE05NOTK__HI_REC10YSVCS_N","","AGE05NOTKHIREC10YSVCSN","__AGE05NOTK__HI_REC10YSVCS_N",1,"______",{"$f":"IFERROR(INDEX(MissingDataC143, SMALL(IF(ISBLANK(MissingDataC143)+ISERROR(MissingDataC143)+LEN(MissingDataC143)=0, \"\", ROW(MissingDataC143)-MIN(ROW(MissingDataC143))+1), ROW(80:80))),\"\")","v":""}]
[null,null,null,null,null,null,null,null,null,null,null,null,null,null,null,null,null,null,null,null,null,{"$f":"IFERROR(INDEX(MissingData, SMALL(IF(ISBLANK(MissingData)+ISERROR(MissingData)+LEN(MissingData)=0, \"\", ROW(MissingData)-MIN(ROW(MissingData))+1), ROW(81:81))),\"\")","v":"__4__ID_SC_N"},"","",null,"__4__ID_SC_N","","4IDSCN","__4__ID_SC_N",1,"______"]
[null,null,null,null,null,null,null,null,null,null,null,null,null,null,null,null,null,null,null,null,null,{"$f":"IFERROR(INDEX(MissingData, SMALL(IF(ISBLANK(MissingData)+ISERROR(MissingData)+LEN(MissingData)=0, \"\", ROW(MissingData)-MIN(ROW(MissingData))+1), ROW(82:82))),\"\")","v":"__AGE05NOTK__ID_H_N"},"","",null,"__AGE05NOTK__ID_H_N","","AGE05NOTKIDHN","__AGE05NOTK__ID_H_N",1,"______"]
[null,null,null,null,null,null,null,null,null,null,null,null,null,null,null,null,null,null,null,null,null,{"$f":"IFERROR(INDEX(MissingData, SMALL(IF(ISBLANK(MissingData)+ISERROR(MissingData)+LEN(MissingData)=0, \"\", ROW(MissingData)-MIN(ROW(MissingData))+1), ROW(83:83))),\"\")","v":"__AGE05NOTK__ID_REC10YOTHLOC_N"},"","",null,"__AGE05NOTK__ID_REC10YOTHLOC_N","","AGE05NOTKIDREC10YOTHLOCN","__AGE05NOTK__ID_REC10YOTHLOC_N",1,"______"]
[null,null,null,null,null,null,null,null,null,null,null,null,null,null,null,null,null,null,null,null,null,{"$f":"IFERROR(INDEX(MissingData, SMALL(IF(ISBLANK(MissingData)+ISERROR(MissingData)+LEN(MissingData)=0, \"\", ROW(MissingData)-MIN(ROW(MissingData))+1), ROW(84:84))),\"\")","v":"__3__MD_REC10YSVCS_N"},"","",null,"__3__MD_REC10YSVCS_N","","3MDREC10YSVCSN","__3__MD_REC10YSVCS_N",1,"______",{"$f":"IFERROR(INDEX(MissingDataC143, SMALL(IF(ISBLANK(MissingDataC143)+ISERROR(MissingDataC143)+LEN(MissingDataC143)=0, \"\", ROW(MissingDataC143)-MIN(ROW(MissingDataC143))+1), ROW(84:84))),\"\")","v":""}]
[null,null,null,null,null,null,null,null,null,null,null,null,null,null,null,null,null,null,null,null,null,{"$f":"IFERROR(INDEX(MissingData, SMALL(IF(ISBLANK(MissingData)+ISERROR(MissingData)+LEN(MissingData)=0, \"\", ROW(MissingData)-MIN(ROW(MissingData))+1), ROW(85:85))),\"\")","v":"__AGE05NOTK__ID_SC_N"},"","",null,"__AGE05NOTK__ID_SC_N","","AGE05NOTKIDSCN","__AGE05NOTK__ID_SC_N",1,"______"]
[null,null,null,null,null,null,null,null,null,null,null,null,null,null,null,null,null,null,null,null,null,{"$f":"IFERROR(INDEX(MissingData, SMALL(IF(ISBLANK(MissingData)+ISERROR(MissingData)+LEN(MissingData)=0, \"\", ROW(MissingData)-MIN(ROW(MissingData))+1), ROW(86:86))),\"\")","v":"__AGE05NOTK__ID_SPL_N"},"","",null,"__AGE05NOTK__ID_SPL_N","","AGE05NOTKIDSPLN","__AGE05NOTK__ID_SPL_N",1,"______"]
[null,null,null,null,null,null,null,null,null,null,null,null,null,null,null,null,null,null,null,null,null,{"$f":"IFERROR(INDEX(MissingData, SMALL(IF(ISBLANK(MissingData)+ISERROR(MissingData)+LEN(MissingData)=0, \"\", ROW(MissingData)-MIN(ROW(MissingData))+1), ROW(87:87))),\"\")","v":"__3__OHI_H_N"},"","",null,"__3__OHI_H_N","","3OHIHN","__3__OHI_H_N",1,"______"]
[null,null,null,null,null,null,null,null,null,null,null,null,null,null,null,null,null,null,null,null,null,{"$f":"IFERROR(INDEX(MissingData, SMALL(IF(ISBLANK(MissingData)+ISERROR(MissingData)+LEN(MissingData)=0, \"\", ROW(MissingData)-MIN(ROW(MissingData))+1), ROW(88:88))),\"\")","v":"__3__OHI_REC10YOTHLOC_N"},"","",null,"__3__OHI_REC10YOTHLOC_N","","3OHIREC10YOTHLOCN","__3__OHI_REC10YOTHLOC_N",1,"______"]
[null,null,null,null,null,null,null,null,null,null,null,null,null,null,null,null,null,null,null,null,null,{"$f":"IFERROR(INDEX(MissingData, SMALL(IF(ISBLANK(MissingData)+ISERROR(MissingData)+LEN(MissingData)=0, \"\", ROW(MissingData)-MIN(ROW(MissingData))+1), ROW(89:89))),\"\")","v":"__4__MD_REC10YSVCS_N"},"","",null,"__4__MD_REC10YSVCS_N","","4MDREC10YSVCSN","__4__MD_REC10YSVCS_N",1,"______",{"$f":"IFERROR(INDEX(MissingDataC143, SMALL(IF(ISBLANK(MissingDataC143)+ISERROR(MissingDataC143)+LEN(MissingDataC143)=0, \"\", ROW(MissingDataC143)-MIN(ROW(MissingDataC143))+1), ROW(89:89))),\"\")","v":""}]
[null,null,null,null,null,null,null,null,null,null,null,null,null,null,null,null,null,null,null,null,null,{"$f":"IFERROR(INDEX(MissingData, SMALL(IF(ISBLANK(MissingData)+ISERROR(MissingData)+LEN(MissingData)=0, \"\", ROW(MissingData)-MIN(ROW(MissingData))+1), ROW(90:90))),\"\")","v":"__3__OHI_SC_N"},"","",null,"__3__OHI_SC_N","","3OHISCN","__3__OHI_SC_N",1,"______"]
[null,null,null,null,null,null,null,null,null,null,null,null,null,null,null,null,null,null,null,null,null,{"$f":"IFERROR(INDEX(MissingData, SMALL(IF(ISBLANK(MissingData)+ISERROR(MissingData)+LEN(MissingData)=0, \"\", ROW(MissingData)-MIN(ROW(MissingData))+1), ROW(91:91))),\"\")","v":"__3__OHI_SS_N"},"","",null,"__3__OHI_SS_N","","3OHISSN","__3__OHI_SS_N",1,"______"]
[null,null,null,null,null,null,null,null,null,null,null,null,null,null,null,null,null,null,null,null,null,{"$f":"IFERROR(INDEX(MissingData, SMALL(IF(ISBLANK(MissingData)+ISERROR(MissingData)+LEN(MissingData)=0, \"\", ROW(MissingData)-MIN(ROW(MissingData))+1), ROW(92:92))),\"\")","v":"__4__OHI_H_N"},"","",null,"__4__OHI_H_N","","4OHIHN","__4__OHI_H_N",1,"______"]
[null,null,null,null,null,null,null,null,null,null,null,null,null,null,null,null,null,null,null,null,null,{"$f":"IFERROR(INDEX(MissingData, SMALL(IF(ISBLANK(MissingData)+ISERROR(MissingData)+LEN(MissingData)=0, \"\", ROW(MissingData)-MIN(ROW(MissingData))+1), ROW(93:93))),\"\")","v":"__4__OHI_REC10YOTHLOC_N"},"","",null,"__4__OHI_REC10YOTHLOC_N","","4OHIREC10YOTHLOCN","__4__OHI_REC10YOTHLOC_N",1,"______"]
[null,null,null,null,null,null,null,null,null,null,null,null,null,null,null,null,null,null,null,null,null,{"$f":"IFERROR(INDEX(MissingData, SMALL(IF(ISBLANK(MissingData)+ISERROR(MissingData)+LEN(MissingData)=0, \"\", ROW(MissingData)-MIN(ROW(MissingData))+1), ROW(94:94))),\"\")","v":"__AGE05NOTK__MD_REC10YSVCS_N"},"","",null,"__AGE05NOTK__MD_REC10YSVCS_N","","AGE05NOTKMDREC10YSVCSN","__AGE05NOTK__MD_REC10YSVCS_N",1,"______",{"$f":"IFERROR(INDEX(MissingDataC143, SMALL(IF(ISBLANK(MissingDataC143)+ISERROR(MissingDataC143)+LEN(MissingDataC143)=0, \"\", ROW(MissingDataC143)-MIN(ROW(MissingDataC143))+1), ROW(94:94))),\"\")","v":""}]
[null,null,null,null,null,null,null,null,null,null,null,null,null,null,null,null,null,null,null,null,null,{"$f":"IFERROR(INDEX(MissingData, SMALL(IF(ISBLANK(MissingData)+ISERROR(MissingData)+LEN(MissingData)=0, \"\", ROW(MissingData)-MIN(ROW(MissingData))+1), ROW(95:95))),\"\")","v":"__4__OHI_SC_N"},"","",null,"__4__OHI_SC_N","","4OHISCN","__4__OHI_SC_N",1,"______"]
[null,null,null,null,null,null,null,null,null,null,null,null,null,null,null,null,null,null,null,null,null,{"$f":"IFERROR(INDEX(MissingData, SMALL(IF(ISBLANK(MissingData)+ISERROR(MissingData)+LEN(MissingData)=0, \"\", ROW(MissingData)-MIN(ROW(MissingData))+1), ROW(96:96))),\"\")","v":"__AGE05NOTK__OHI_H_N"},"","",null,"__AGE05NOTK__OHI_H_N","","AGE05NOTKOHIHN","__AGE05NOTK__OHI_H_N",1,"______"]
[null,null,null,null,null,null,null,null,null,null,null,null,null,null,null,null,null,null,null,null,null,{"$f":"IFERROR(INDEX(MissingData, SMALL(IF(ISBLANK(MissingData)+ISERROR(MissingData)+LEN(MissingData)=0, \"\", ROW(MissingData)-MIN(ROW(MissingData))+1), ROW(97:97))),\"\")","v":"__AGE05NOTK__OHI_REC10YOTHLOC_N"},"","",null,"__AGE05NOTK__OHI_REC10YOTHLOC_N","","AGE05NOTKOHIREC10YOTHLOCN","__AGE05NOTK__OHI_REC10YOTHLOC_N",1,"______"]
[null,null,null,null,null,null,null,null,null,null,null,null,null,null,null,null,null,null,null,null,null,{"$f":"IFERROR(INDEX(MissingData, SMALL(IF(ISBLANK(MissingData)+ISERROR(MissingData)+LEN(MissingData)=0, \"\", ROW(MissingData)-MIN(ROW(MissingData))+1), ROW(98:98))),\"\")","v":"__3__ID_REC10YSVCS_N"},"","",null,"__3__ID_REC10YSVCS_N","","3IDREC10YSVCSN","__3__ID_REC10YSVCS_N",1,"______"]
[null,null,null,null,null,null,null,null,null,null,null,null,null,null,null,null,null,null,null,null,null,{"$f":"IFERROR(INDEX(MissingData, SMALL(IF(ISBLANK(MissingData)+ISERROR(MissingData)+LEN(MissingData)=0, \"\", ROW(MissingData)-MIN(ROW(MissingData))+1), ROW(99:99))),\"\")","v":"__AGE05NOTK__OHI_SC_N"},"","",null,"__AGE05NOTK__OHI_SC_N","","AGE05NOTKOHISCN","__AGE05NOTK__OHI_SC_N",1,"______"]
[null,null,null,null,null,null,null,null,null,null,null,null,null,null,null,null,null,null,null,null,null,{"$f":"IFERROR(INDEX(MissingData, SMALL(IF(ISBLANK(MissingData)+ISERROR(MissingData)+LEN(MissingData)=0, \"\", ROW(MissingData)-MIN(ROW(MissingData))+1), ROW(100:100))),\"\")","v":"__AGE05NOTK__OHI_SPL_N"},"","",null,"__AGE05NOTK__OHI_SPL_N","","AGE05NOTKOHISPLN","__AGE05NOTK__OHI_SPL_N",1,"______"]
[null,null,null,null,null,null,null,null,null,null,null,null,null,null,null,null,null,null,null,null,null,{"$f":"IFERROR(INDEX(MissingData, SMALL(IF(ISBLANK(MissingData)+ISERROR(MissingData)+LEN(MissingData)=0, \"\", ROW(MissingData)-MIN(ROW(MissingData))+1), ROW(101:101))),\"\")","v":"__3__OI_H_N"},"","",null,"__3__OI_H_N","","3OIHN","__3__OI_H_N",1,"______"]
[null,null,null,null,null,null,null,null,null,null,null,null,null,null,null,null,null,null,null,null,null,{"$f":"IFERROR(INDEX(MissingData, SMALL(IF(ISBLANK(MissingData)+ISERROR(MissingData)+LEN(MissingData)=0, \"\", ROW(MissingData)-MIN(ROW(MissingData))+1), ROW(102:102))),\"\")","v":"__3__OI_REC10YOTHLOC_N"},"","",null,"__3__OI_REC10YOTHLOC_N","","3OIREC10YOTHLOCN","__3__OI_REC10YOTHLOC_N",1,"______"]
[null,null,null,null,null,null,null,null,null,null,null,null,null,null,null,null,null,null,null,null,null,{"$f":"IFERROR(INDEX(MissingData, SMALL(IF(ISBLANK(MissingData)+ISERROR(MissingData)+LEN(MissingData)=0, \"\", ROW(MissingData)-MIN(ROW(MissingData))+1), ROW(103:103))),\"\")","v":"__4__ID_REC10YSVCS_N"},"","",null,"__4__ID_REC10YSVCS_N","","4IDREC10YSVCSN","__4__ID_REC10YSVCS_N",1,"______"]
[null,null,null,null,null,null,null,null,null,null,null,null,null,null,null,null,null,null,null,null,null,{"$f":"IFERROR(INDEX(MissingData, SMALL(IF(ISBLANK(MissingData)+ISERROR(MissingData)+LEN(MissingData)=0, \"\", ROW(MissingData)-MIN(ROW(MissingData))+1), ROW(104:104))),\"\")","v":"__3__OI_SC_N"},"","",null,"__3__OI_SC_N","","3OISCN","__3__OI_SC_N",1,"______"]
[null,null,null,null,null,null,null,null,null,null,null,null,null,null,null,null,null,null,null,null,null,{"$f":"IFERROR(INDEX(MissingData, SMALL(IF(ISBLANK(MissingData)+ISERROR(MissingData)+LEN(MissingData)=0, \"\", ROW(MissingData)-MIN(ROW(MissingData))+1), ROW(105:105))),\"\")","v":"__4__OI_H_N"},"","",null,"__4__OI_H_N","","4OIHN","__4__OI_H_N",1,"______"]
[null,null,null,null,null,null,null,null,null,null,null,null,null,null,null,null,null,null,null,null,null,{"$f":"IFERROR(INDEX(MissingData, SMALL(IF(ISBLANK(MissingData)+ISERROR(MissingData)+LEN(MissingData)=0, \"\", ROW(MissingData)-MIN(ROW(MissingData))+1), ROW(106:106))),\"\")","v":"__4__OI_REC10YOTHLOC_N"},"","",null,"__4__OI_REC10YOTHLOC_N","","4OIREC10YOTHLOCN","__4__OI_REC10YOTHLOC_N",1,"______"]
[null,null,null,null,null,null,null,null,null,null,null,null,null,null,null,null,null,null,null,null,null,{"$f":"IFERROR(INDEX(MissingData, SMALL(IF(ISBLANK(MissingData)+ISERROR(MissingData)+LEN(MissingData)=0, \"\", ROW(MissingData)-MIN(ROW(MissingData))+1), ROW(107:107))),\"\")","v":"__AGE05NOTK__ID_REC10YSVCS_N"},"","",null,"__AGE05NOTK__ID_REC10YSVCS_N","","AGE05NOTKIDREC10YSVCSN","__AGE05NOTK__ID_REC10YSVCS_N",1,"______"]
[null,null,null,null,null,null,null,null,null,null,null,null,null,null,null,null,null,null,null,null,null,{"$f":"IFERROR(INDEX(MissingData, SMALL(IF(ISBLANK(MissingData)+ISERROR(MissingData)+LEN(MissingData)=0, \"\", ROW(MissingData)-MIN(ROW(MissingData))+1), ROW(108:108))),\"\")","v":"__4__OI_SC_N"},"","",null,"__4__OI_SC_N","","4OISCN","__4__OI_SC_N",1,"______"]
[null,null,null,null,null,null,null,null,null,null,null,null,null,null,null,null,null,null,null,null,null,{"$f":"IFERROR(INDEX(MissingData, SMALL(IF(ISBLANK(MissingData)+ISERROR(MissingData)+LEN(MissingData)=0, \"\", ROW(MissingData)-MIN(ROW(MissingData))+1), ROW(109:109))),\"\")","v":"__4__OI_SS_N"},"","",null,"__4__OI_SS_N","","4OISSN","__4__OI_SS_N",1,"______"]
[null,null,null,null,null,null,null,null,null,null,null,null,null,null,null,null,null,null,null,null,null,{"$f":"IFERROR(INDEX(MissingData, SMALL(IF(ISBLANK(MissingData)+ISERROR(MissingData)+LEN(MissingData)=0, \"\", ROW(MissingData)-MIN(ROW(MissingData))+1), ROW(110:110))),\"\")","v":"__AGE05NOTK__OI_H_N"},"","",null,"__AGE05NOTK__OI_H_N","","AGE05NOTKOIHN","__AGE05NOTK__OI_H_N",1,"______"]
[null,null,null,null,null,null,null,null,null,null,null,null,null,null,null,null,null,null,null,null,null,{"$f":"IFERROR(INDEX(MissingData, SMALL(IF(ISBLANK(MissingData)+ISERROR(MissingData)+LEN(MissingData)=0, \"\", ROW(MissingData)-MIN(ROW(MissingData))+1), ROW(111:111))),\"\")","v":"__AGE05NOTK__OI_REC10YOTHLOC_N"},"","",null,"__AGE05NOTK__OI_REC10YOTHLOC_N","","AGE05NOTKOIREC10YOTHLOCN","__AGE05NOTK__OI_REC10YOTHLOC_N",1,"______"]
[null,null,null,null,null,null,null,null,null,null,null,null,null,null,null,null,null,null,null,null,null,{"$f":"IFERROR(INDEX(MissingData, SMALL(IF(ISBLANK(MissingData)+ISERROR(MissingData)+LEN(MissingData)=0, \"\", ROW(MissingData)-MIN(ROW(MissingData))+1), ROW(112:112))),\"\")","v":"__3__OHI_REC10YSVCS_N"},"","",null,"__3__OHI_REC10YSVCS_N","","3OHIREC10YSVCSN","__3__OHI_REC10YSVCS_N",1,"______"]
[null,null,null,null,null,null,null,null,null,null,null,null,null,null,null,null,null,null,null,null,null,{"$f":"IFERROR(INDEX(MissingData, SMALL(IF(ISBLANK(MissingData)+ISERROR(MissingData)+LEN(MissingData)=0, \"\", ROW(MissingData)-MIN(ROW(MissingData))+1), ROW(113:113))),\"\")","v":"__AGE05NOTK__OI_SC_N"},"","",null,"__AGE05NOTK__OI_SC_N","","AGE05NOTKOISCN","__AGE05NOTK__OI_SC_N",1,"______"]
[null,null,null,null,null,null,null,null,null,null,null,null,null,null,null,null,null,null,null,null,null,{"$f":"IFERROR(INDEX(MissingData, SMALL(IF(ISBLANK(MissingData)+ISERROR(MissingData)+LEN(MissingData)=0, \"\", ROW(MissingData)-MIN(ROW(MissingData))+1), ROW(114:114))),\"\")","v":"__AGE05NOTK__OI_SS_N"},"","",null,"__AGE05NOTK__OI_SS_N","","AGE05NOTKOISSN","__AGE05NOTK__OI_SS_N",1,"______"]
[null,null,null,null,null,null,null,null,null,null,null,null,null,null,null,null,null,null,null,null,null,{"$f":"IFERROR(INDEX(MissingData, SMALL(IF(ISBLANK(MissingData)+ISERROR(MissingData)+LEN(MissingData)=0, \"\", ROW(MissingData)-MIN(ROW(MissingData))+1), ROW(115:115))),\"\")","v":"__3__SLD_REC10YOTHLOC_N"},"","",null,"__3__SLD_REC10YOTHLOC_N","","3SLDREC10YOTHLOCN","__3__SLD_REC10YOTHLOC_N",1,"______"]
[null,null,null,null,null,null,null,null,null,null,null,null,null,null,null,null,null,null,null,null,null,{"$f":"IFERROR(INDEX(MissingData, SMALL(IF(ISBLANK(MissingData)+ISERROR(MissingData)+LEN(MissingData)=0, \"\", ROW(MissingData)-MIN(ROW(MissingData))+1), ROW(116:116))),\"\")","v":"__AGE05NOTK__SLD_REC10YOTHLOC_N"},"","",null,"__AGE05NOTK__SLD_REC10YOTHLOC_N","","AGE05NOTKSLDREC10YOTHLOCN","__AGE05NOTK__SLD_REC10YOTHLOC_N",1,"______"]
[null,null,null,null,null,null,null,null,null,null,null,null,null,null,null,null,null,null,null,null,null,{"$f":"IFERROR(INDEX(MissingData, SMALL(IF(ISBLANK(MissingData)+ISERROR(MissingData)+LEN(MissingData)=0, \"\", ROW(MissingData)-MIN(ROW(MissingData))+1), ROW(117:117))),\"\")","v":"__3__SLI_H_N"},"","",null,"__3__SLI_H_N","","3SLIHN","__3__SLI_H_N",1,"______"]
[null,null,null,null,null,null,null,null,null,null,null,null,null,null,null,null,null,null,null,null,null,{"$f":"IFERROR(INDEX(MissingData, SMALL(IF(ISBLANK(MissingData)+ISERROR(MissingData)+LEN(MissingData)=0, \"\", ROW(MissingData)-MIN(ROW(MissingData))+1), ROW(118:118))),\"\")","v":"__3__SLI_REC10YOTHLOC_N"},"","",null,"__3__SLI_REC10YOTHLOC_N","","3SLIREC10YOTHLOCN","__3__SLI_REC10YOTHLOC_N",1,"______"]
[null,null,null,null,null,null,null,null,null,null,null,null,null,null,null,null,null,null,null,null,null,{"$f":"IFERROR(INDEX(MissingData, SMALL(IF(ISBLANK(MissingData)+ISERROR(MissingData)+LEN(MissingData)=0, \"\", ROW(MissingData)-MIN(ROW(MissingData))+1), ROW(119:119))),\"\")","v":"__4__OHI_REC10YSVCS_N"},"","",null,"__4__OHI_REC10YSVCS_N","","4OHIREC10YSVCSN","__4__OHI_REC10YSVCS_N",1,"______"]
[null,null,null,null,null,null,null,null,null,null,null,null,null,null,null,null,null,null,null,null,null,{"$f":"IFERROR(INDEX(MissingData, SMALL(IF(ISBLANK(MissingData)+ISERROR(MissingData)+LEN(MissingData)=0, \"\", ROW(MissingData)-MIN(ROW(MissingData))+1), ROW(120:120))),\"\")","v":"__3__SLI_SC_N"},"","",null,"__3__SLI_SC_N","","3SLISCN","__3__SLI_SC_N",1,"______"]
[null,null,null,null,null,null,null,null,null,null,null,null,null,null,null,null,null,null,null,null,null,{"$f":"IFERROR(INDEX(MissingData, SMALL(IF(ISBLANK(MissingData)+ISERROR(MissingData)+LEN(MissingData)=0, \"\", ROW(MissingData)-MIN(ROW(MissingData))+1), ROW(121:121))),\"\")","v":"__3__SLI_SPL_N"},"","",null,"__3__SLI_SPL_N","","3SLISPLN","__3__SLI_SPL_N",1,"______"]
[null,null,null,null,null,null,null,null,null,null,null,null,null,null,null,null,null,null,null,null,null,{"$f":"IFERROR(INDEX(MissingData, SMALL(IF(ISBLANK(MissingData)+ISERROR(MissingData)+LEN(MissingData)=0, \"\", ROW(MissingData)-MIN(ROW(MissingData))+1), ROW(122:122))),\"\")","v":"__3__SLI_SS_N"},"","",null,"__3__SLI_SS_N","","3SLISSN","__3__SLI_SS_N",1,"______"]
[null,null,null,null,null,null,null,null,null,null,null,null,null,null,null,null,null,null,null,null,null,{"$f":"IFERROR(INDEX(MissingData, SMALL(IF(ISBLANK(MissingData)+ISERROR(MissingData)+LEN(MissingData)=0, \"\", ROW(MissingData)-MIN(ROW(MissingData))+1), ROW(123:123))),\"\")","v":"__4__SLI_H_N"},"","",null,"__4__SLI_H_N","","4SLIHN","__4__SLI_H_N",1,"______"]
[null,null,null,null,null,null,null,null,null,null,null,null,null,null,null,null,null,null,null,null,null,{"$f":"IFERROR(INDEX(MissingData, SMALL(IF(ISBLANK(MissingData)+ISERROR(MissingData)+LEN(MissingData)=0, \"\", ROW(MissingData)-MIN(ROW(MissingData))+1), ROW(124:124))),\"\")","v":"__4__SLI_REC09YOTHLOC_N"},"","",null,"__4__SLI_REC09YOTHLOC_N","","4SLIREC09YOTHLOCN","__4__SLI_REC09YOTHLOC_N",1,"______"]
[null,null,null,null,null,null,null,null,null,null,null,null,null,null,null,null,null,null,null,null,null,{"$f":"IFERROR(INDEX(MissingData, SMALL(IF(ISBLANK(MissingData)+ISERROR(MissingData)+LEN(MissingData)=0, \"\", ROW(MissingData)-MIN(ROW(MissingData))+1), ROW(125:125))),\"\")","v":"__4__SLI_REC10YOTHLOC_N"},"","",null,"__4__SLI_REC10YOTHLOC_N","","4SLIREC10YOTHLOCN","__4__SLI_REC10YOTHLOC_N",1,"______"]
[null,null,null,null,null,null,null,null,null,null,null,null,null,null,null,null,null,null,null,null,null,{"$f":"IFERROR(INDEX(MissingData, SMALL(IF(ISBLANK(MissingData)+ISERROR(MissingData)+LEN(MissingData)=0, \"\", ROW(MissingData)-MIN(ROW(MissingData))+1), ROW(126:126))),\"\")","v":"__AGE05NOTK__OHI_REC10YSVCS_N"},"","",null,"__AGE05NOTK__OHI_REC10YSVCS_N","","AGE05NOTKOHIREC10YSVCSN","__AGE05NOTK__OHI_REC10YSVCS_N",1,"______"]
[null,null,null,null,null,null,null,null,null,null,null,null,null,null,null,null,null,null,null,null,null,{"$f":"IFERROR(INDEX(MissingData, SMALL(IF(ISBLANK(MissingData)+ISERROR(MissingData)+LEN(MissingData)=0, \"\", ROW(MissingData)-MIN(ROW(MissingData))+1), ROW(127:127))),\"\")","v":"__4__SLI_SC_N"},"","",null,"__4__SLI_SC_N","","4SLISCN","__4__SLI_SC_N",1,"______"]
[null,null,null,null,null,null,null,null,null,null,null,null,null,null,null,null,null,null,null,null,null,{"$f":"IFERROR(INDEX(MissingData, SMALL(IF(ISBLANK(MissingData)+ISERROR(MissingData)+LEN(MissingData)=0, \"\", ROW(MissingData)-MIN(ROW(MissingData))+1), ROW(128:128))),\"\")","v":"__4__SLI_SPL_N"},"","",null,"__4__SLI_SPL_N","","4SLISPLN","__4__SLI_SPL_N",1,"______"]
[null,null,null,null,null,null,null,null,null,null,null,null,null,null,null,null,null,null,null,null,null,{"$f":"IFERROR(INDEX(MissingData, SMALL(IF(ISBLANK(MissingData)+ISERROR(MissingData)+LEN(MissingData)=0, \"\", ROW(MissingData)-MIN(ROW(MissingData))+1), ROW(129:129))),\"\")","v":"__4__SLI_SS_N"},"","",null,"__4__SLI_SS_N","","4SLISSN","__4__SLI_SS_N",1,"______"]
[null,null,null,null,null,null,null,null,null,null,null,null,null,null,null,null,null,null,null,null,null,{"$f":"IFERROR(INDEX(MissingData, SMALL(IF(ISBLANK(MissingData)+ISERROR(MissingData)+LEN(MissingData)=0, \"\", ROW(MissingData)-MIN(ROW(MissingData))+1), ROW(130:130))),\"\")","v":"__AGE05NOTK__SLI_H_N"},"","",null,"__AGE05NOTK__SLI_H_N","","AGE05NOTKSLIHN","__AGE05NOTK__SLI_H_N",1,"______"]
[null,null,null,null,null,null,null,null,null,null,null,null,null,null,null,null,null,null,null,null,null,{"$f":"IFERROR(INDEX(MissingData, SMALL(IF(ISBLANK(MissingData)+ISERROR(MissingData)+LEN(MissingData)=0, \"\", ROW(MissingData)-MIN(ROW(MissingData))+1), ROW(131:131))),\"\")","v":"__AGE05NOTK__SLI_REC09YOTHLOC_N"},{"$f":"IF(LEN(AA144)=0,\"\",IF(COUNTIF(CurrentListing_C089,AA144)>1,AE144,\"\"))","v":""},{"$f":"IF(LEN(AA144)=0,\"\",IF(ISNA(MATCH(AA144,MasterListing,0)),AE144,\"\"))","v":""},null,{"$f":"IF(LEN(AC144)=0,\"\",IF(ISNA(MATCH(AB144,CurrentListing_C089,0)),AC144,\"\"))","v":"__AGE05NOTK__SLI_REC09YOTHLOC_N"},{"$f":"G144&H144&I144&J144&K144&Q144&R144","v":""},"AGE05NOTKSLIREC09YOTHLOCN","__AGE05NOTK__SLI_REC09YOTHLOC_N",{"$f":"IF(LEN(V144)>0,1,0)","v":1},{"$f":"G144&\"_\"&H144&\"_\"&I144&\"_\"&J144&\"_\"&K144&\"_\"&Q144&\"_\"&R144","v":"______"}]
[null,null,null,null,null,null,null,null,null,null,null,null,null,null,null,null,null,null,null,null,null,{"$f":"IFERROR(INDEX(MissingData, SMALL(IF(ISBLANK(MissingData)+ISERROR(MissingData)+LEN(MissingData)=0, \"\", ROW(MissingData)-MIN(ROW(MissingData))+1), ROW(132:132))),\"\")","v":"__AGE05NOTK__SLI_REC09YSVCS_N"},"","",null,"__AGE05NOTK__SLI_REC09YSVCS_N","","AGE05NOTKSLIREC09YSVCSN","__AGE05NOTK__SLI_REC09YSVCS_N",1,"______"]
[null,null,null,null,null,null,null,null,null,null,null,null,null,null,null,null,null,null,null,null,null,{"$f":"IFERROR(INDEX(MissingData, SMALL(IF(ISBLANK(MissingData)+ISERROR(MissingData)+LEN(MissingData)=0, \"\", ROW(MissingData)-MIN(ROW(MissingData))+1), ROW(133:133))),\"\")","v":"__AGE05NOTK__SLI_REC10YOTHLOC_N"},"","",null,"__AGE05NOTK__SLI_REC10YOTHLOC_N","","AGE05NOTKSLIREC10YOTHLOCN","__AGE05NOTK__SLI_REC10YOTHLOC_N",1,"______"]
[null,null,null,null,null,null,null,null,null,null,null,null,null,null,null,null,null,null,null,null,null,{"$f":"IFERROR(INDEX(MissingData, SMALL(IF(ISBLANK(MissingData)+ISERROR(MissingData)+LEN(MissingData)=0, \"\", ROW(MissingData)-MIN(ROW(MissingData))+1), ROW(134:134))),\"\")","v":"__3__OI_REC10YSVCS_N"},"","",null,"__3__OI_REC10YSVCS_N","","3OIREC10YSVCSN","__3__OI_REC10YSVCS_N",1,"______"]
[null,null,null,null,null,null,null,null,null,null,null,null,null,null,null,null,null,null,null,null,null,{"$f":"IFERROR(INDEX(MissingData, SMALL(IF(ISBLANK(MissingData)+ISERROR(MissingData)+LEN(MissingData)=0, \"\", ROW(MissingData)-MIN(ROW(MissingData))+1), ROW(135:135))),\"\")","v":"__AGE05NOTK__SLI_SC_N"},"","",null,"__AGE05NOTK__SLI_SC_N","","AGE05NOTKSLISCN","__AGE05NOTK__SLI_SC_N",1,"______"]
[null,null,null,null,null,null,null,null,null,null,null,null,null,null,null,null,null,null,null,null,null,{"$f":"IFERROR(INDEX(MissingData, SMALL(IF(ISBLANK(MissingData)+ISERROR(MissingData)+LEN(MissingData)=0, \"\", ROW(MissingData)-MIN(ROW(MissingData))+1), ROW(136:136))),\"\")","v":"__AGE05NOTK__SLI_SPL_N"},"","",null,"__AGE05NOTK__SLI_SPL_N","","AGE05NOTKSLISPLN","__AGE05NOTK__SLI_SPL_N",1,"______"]
[null,null,null,null,null,null,null,null,null,null,null,null,null,null,null,null,null,null,null,null,null,{"$f":"IFERROR(INDEX(MissingData, SMALL(IF(ISBLANK(MissingData)+ISERROR(MissingData)+LEN(MissingData)=0, \"\", ROW(MissingData)-MIN(ROW(MissingData))+1), ROW(137:137))),\"\")","v":"__AGE05NOTK__SLI_SS_N"},"","",null,"__AGE05NOTK__SLI_SS_N","","AGE05NOTKSLISSN","__AGE05NOTK__SLI_SS_N",1,"______"]
[null,null,null,null,null,null,null,null,null,null,null,null,null,null,null,null,null,null,null,null,null,{"$f":"IFERROR(INDEX(MissingData, SMALL(IF(ISBLANK(MissingData)+ISERROR(MissingData)+LEN(MissingData)=0, \"\", ROW(MissingData)-MIN(ROW(MissingData))+1), ROW(138:138))),\"\")","v":"__3__TBI_REC10YOTHLOC_N"},"","",null,"__3__TBI_REC10YOTHLOC_N","","3TBIREC10YOTHLOCN","__3__TBI_REC10YOTHLOC_N",1,"______"]
[null,null,null,null,null,null,null,null,null,null,null,null,null,null,null,null,null,null,null,null,null,{"$f":"IFERROR(INDEX(MissingData, SMALL(IF(ISBLANK(MissingData)+ISERROR(MissingData)+LEN(MissingData)=0, \"\", ROW(MissingData)-MIN(ROW(MissingData))+1), ROW(139:139))),\"\")","v":"__3__TBI_SS_N"},"","",null,"__3__TBI_SS_N","","3TBISSN","__3__TBI_SS_N",1,"______"]
[null,null,null,null,null,null,null,null,null,null,null,null,null,null,null,null,null,null,null,null,null,{"$f":"IFERROR(INDEX(MissingData, SMALL(IF(ISBLANK(MissingData)+ISERROR(MissingData)+LEN(MissingData)=0, \"\", ROW(MissingData)-MIN(ROW(MissingData))+1), ROW(140:140))),\"\")","v":"__4__TBI_REC10YOTHLOC_N"},"","",null,"__4__TBI_REC10YOTHLOC_N","","4TBIREC10YOTHLOCN","__4__TBI_REC10YOTHLOC_N",1,"______"]
[null,null,null,null,null,null,null,null,null,null,null,null,null,null,null,null,null,null,null,null,null,{"$f":"IFERROR(INDEX(MissingData, SMALL(IF(ISBLANK(MissingData)+ISERROR(MissingData)+LEN(MissingData)=0, \"\", ROW(MissingData)-MIN(ROW(MissingData))+1), ROW(141:141))),\"\")","v":"__4__TBI_SC_N"},"","",null,"__4__TBI_SC_N","","4TBISCN","__4__TBI_SC_N",1,"______"]
[null,null,null,null,null,null,null,null,null,null,null,null,null,null,null,null,null,null,null,null,null,{"$f":"IFERROR(INDEX(MissingData, SMALL(IF(ISBLANK(MissingData)+ISERROR(MissingData)+LEN(MissingData)=0, \"\", ROW(MissingData)-MIN(ROW(MissingData))+1), ROW(142:142))),\"\")","v":"__AGE05NOTK__TBI_REC10YOTHLOC_N"},"","",null,"__AGE05NOTK__TBI_REC10YOTHLOC_N","","AGE05NOTKTBIREC10YOTHLOCN","__AGE05NOTK__TBI_REC10YOTHLOC_N",1,"______"]
[null,null,null,null,null,null,null,null,null,null,null,null,null,null,null,null,null,null,null,null,null,{"$f":"IFERROR(INDEX(MissingData, SMALL(IF(ISBLANK(MissingData)+ISERROR(MissingData)+LEN(MissingData)=0, \"\", ROW(MissingData)-MIN(ROW(MissingData))+1), ROW(143:143))),\"\")","v":"__4__OI_REC10YSVCS_N"},"","",null,"__4__OI_REC10YSVCS_N","","4OIREC10YSVCSN","__4__OI_REC10YSVCS_N",1,"______"]
[null,null,null,null,null,null,null,null,null,null,null,null,null,null,null,null,null,null,null,null,null,{"$f":"IFERROR(INDEX(MissingData, SMALL(IF(ISBLANK(MissingData)+ISERROR(MissingData)+LEN(MissingData)=0, \"\", ROW(MissingData)-MIN(ROW(MissingData))+1), ROW(144:144))),\"\")","v":"__3__VI_REC10YOTHLOC_N"},"","",null,"__3__VI_REC10YOTHLOC_N","","3VIREC10YOTHLOCN","__3__VI_REC10YOTHLOC_N",1,"______"]
[null,null,null,null,null,null,null,null,null,null,null,null,null,null,null,null,null,null,null,null,null,{"$f":"IFERROR(INDEX(MissingData, SMALL(IF(ISBLANK(MissingData)+ISERROR(MissingData)+LEN(MissingData)=0, \"\", ROW(MissingData)-MIN(ROW(MissingData))+1), ROW(145:145))),\"\")","v":"__AGE05NOTK__OI_REC10YSVCS_N"},"","",null,"__AGE05NOTK__OI_REC10YSVCS_N","","AGE05NOTKOIREC10YSVCSN","__AGE05NOTK__OI_REC10YSVCS_N",1,"______"]
[null,null,null,null,null,null,null,null,null,null,null,null,null,null,null,null,null,null,null,null,null,{"$f":"IFERROR(INDEX(MissingData, SMALL(IF(ISBLANK(MissingData)+ISERROR(MissingData)+LEN(MissingData)=0, \"\", ROW(MissingData)-MIN(ROW(MissingData))+1), ROW(146:146))),\"\")","v":"__4__VI_REC10YOTHLOC_N"},"","",null,"__4__VI_REC10YOTHLOC_N","","4VIREC10YOTHLOCN","__4__VI_REC10YOTHLOC_N",1,"______"]
[null,null,null,null,null,null,null,null,null,null,null,null,null,null,null,null,null,null,null,null,null,{"$f":"IFERROR(INDEX(MissingData, SMALL(IF(ISBLANK(MissingData)+ISERROR(MissingData)+LEN(MissingData)=0, \"\", ROW(MissingData)-MIN(ROW(MissingData))+1), ROW(147:147))),\"\")","v":"__3__SLD_REC10YSVCS_N"},"","",null,"__3__SLD_REC10YSVCS_N","","3SLDREC10YSVCSN","__3__SLD_REC10YSVCS_N",1,"______"]
[null,null,null,null,null,null,null,null,null,null,null,null,null,null,null,null,null,null,null,null,null,{"$f":"IFERROR(INDEX(MissingData, SMALL(IF(ISBLANK(MissingData)+ISERROR(MissingData)+LEN(MissingData)=0, \"\", ROW(MissingData)-MIN(ROW(MissingData))+1), ROW(148:148))),\"\")","v":"__4__VI_SC_N"},"","",null,"__4__VI_SC_N","","4VISCN","__4__VI_SC_N",1,"______"]
[null,null,null,null,null,null,null,null,null,null,null,null,null,null,null,null,null,null,null,null,null,{"$f":"IFERROR(INDEX(MissingData, SMALL(IF(ISBLANK(MissingData)+ISERROR(MissingData)+LEN(MissingData)=0, \"\", ROW(MissingData)-MIN(ROW(MissingData))+1), ROW(149:149))),\"\")","v":"__AGE05NOTK__VI_REC10YOTHLOC_N"},"","",null,"__AGE05NOTK__VI_REC10YOTHLOC_N","","AGE05NOTKVIREC10YOTHLOCN","__AGE05NOTK__VI_REC10YOTHLOC_N",1,"______"]
[null,null,null,null,null,null,null,null,null,null,null,null,null,null,null,null,null,null,null,null,null,{"$f":"IFERROR(INDEX(MissingData, SMALL(IF(ISBLANK(MissingData)+ISERROR(MissingData)+LEN(MissingData)=0, \"\", ROW(MissingData)-MIN(ROW(MissingData))+1), ROW(150:150))),\"\")","v":"__4__SLD_REC10YSVCS_N"},"","",null,"__4__SLD_REC10YSVCS_N","","4SLDREC10YSVCSN","__4__SLD_REC10YSVCS_N",1,"______"]
[null,null,null,null,null,null,null,null,null,null,null,null,null,null,null,null,null,null,null,null,null,{"$f":"IFERROR(INDEX(MissingData, SMALL(IF(ISBLANK(MissingData)+ISERROR(MissingData)+LEN(MissingData)=0, \"\", ROW(MissingData)-MIN(ROW(MissingData))+1), ROW(151:151))),\"\")","v":"__AGE05NOTK__VI_SC_N"},"","",null,"__AGE05NOTK__VI_SC_N","","AGE05NOTKVISCN","__AGE05NOTK__VI_SC_N",1,"______"]
[null,null,null,null,null,null,null,null,null,null,null,null,null,null,null,null,null,null,null,null,null,{"$f":"IFERROR(INDEX(MissingData, SMALL(IF(ISBLANK(MissingData)+ISERROR(MissingData)+LEN(MissingData)=0, \"\", ROW(MissingData)-MIN(ROW(MissingData))+1), ROW(152:152))),\"\")","v":"__AGE05NOTK__VI_SS_N"},"","",null,"__AGE05NOTK__VI_SS_N","","AGE05NOTKVISSN","__AGE05NOTK__VI_SS_N",1,"______"]
[null,null,null,null,null,null,null,null,null,null,null,null,null,null,null,null,null,null,null,null,null,{"$f":"IFERROR(INDEX(MissingData, SMALL(IF(ISBLANK(MissingData)+ISERROR(MissingData)+LEN(MissingData)=0, \"\", ROW(MissingData)-MIN(ROW(MissingData))+1), ROW(153:153))),\"\")","v":"AM7____AUT_REC10YOTHLOC_N"},"","",null,"AM7____AUT_REC10YOTHLOC_N","","AM7AUTREC10YOTHLOCN","AM7____AUT_REC10YOTHLOC_N",1,"______"]
[null,null,null,null,null,null,null,null,null,null,null,null,null,null,null,null,null,null,null,null,null,{"$f":"IFERROR(INDEX(MissingData, SMALL(IF(ISBLANK(MissingData)+ISERROR(MissingData)+LEN(MissingData)=0, \"\", ROW(MissingData)-MIN(ROW(MissingData))+1), ROW(154:154))),\"\")","v":"AM7____AUT_SC_N"},"","",null,"AM7____AUT_SC_N","","AM7AUTSCN","AM7____AUT_SC_N",1,"______"]
[null,null,null,null,null,null,null,null,null,null,null,null,null,null,null,null,null,null,null,null,null,{"$f":"IFERROR(INDEX(MissingData, SMALL(IF(ISBLANK(MissingData)+ISERROR(MissingData)+LEN(MissingData)=0, \"\", ROW(MissingData)-MIN(ROW(MissingData))+1), ROW(155:155))),\"\")","v":"AM7____DD_REC10YOTHLOC_N"},"","",null,"AM7____DD_REC10YOTHLOC_N","","AM7DDREC10YOTHLOCN","AM7____DD_REC10YOTHLOC_N",1,"______"]
[null,null,null,null,null,null,null,null,null,null,null,null,null,null,null,null,null,null,null,null,null,{"$f":"IFERROR(INDEX(MissingData, SMALL(IF(ISBLANK(MissingData)+ISERROR(MissingData)+LEN(MissingData)=0, \"\", ROW(MissingData)-MIN(ROW(MissingData))+1), ROW(156:156))),\"\")","v":"AM7____DD_REC10YSVCS_N"},"","",null,"AM7____DD_REC10YSVCS_N","","AM7DDREC10YSVCSN","AM7____DD_REC10YSVCS_N",1,"______"]
[null,null,null,null,null,null,null,null,null,null,null,null,null,null,null,null,null,null,null,null,null,{"$f":"IFERROR(INDEX(MissingData, SMALL(IF(ISBLANK(MissingData)+ISERROR(MissingData)+LEN(MissingData)=0, \"\", ROW(MissingData)-MIN(ROW(MissingData))+1), ROW(157:157))),\"\")","v":"AM7____DD_SC_N"},"","",null,"AM7____DD_SC_N","","AM7DDSCN","AM7____DD_SC_N",1,"______"]
[null,null,null,null,null,null,null,null,null,null,null,null,null,null,null,null,null,null,null,null,null,{"$f":"IFERROR(INDEX(MissingData, SMALL(IF(ISBLANK(MissingData)+ISERROR(MissingData)+LEN(MissingData)=0, \"\", ROW(MissingData)-MIN(ROW(MissingData))+1), ROW(158:158))),\"\")","v":"AM7____MD_REC10YOTHLOC_N"},"","",null,"AM7____MD_REC10YOTHLOC_N","","AM7MDREC10YOTHLOCN","AM7____MD_REC10YOTHLOC_N",1,"______"]
[null,null,null,null,null,null,null,null,null,null,null,null,null,null,null,null,null,null,null,null,null,{"$f":"IFERROR(INDEX(MissingData, SMALL(IF(ISBLANK(MissingData)+ISERROR(MissingData)+LEN(MissingData)=0, \"\", ROW(MissingData)-MIN(ROW(MissingData))+1), ROW(159:159))),\"\")","v":"AM7____OHI_REC10YOTHLOC_N"},"","",null,"AM7____OHI_REC10YOTHLOC_N","","AM7OHIREC10YOTHLOCN","AM7____OHI_REC10YOTHLOC_N",1,"______"]
[null,null,null,null,null,null,null,null,null,null,null,null,null,null,null,null,null,null,null,null,null,{"$f":"IFERROR(INDEX(MissingData, SMALL(IF(ISBLANK(MissingData)+ISERROR(MissingData)+LEN(MissingData)=0, \"\", ROW(MissingData)-MIN(ROW(MissingData))+1), ROW(160:160))),\"\")","v":"AM7____SLI_REC10YOTHLOC_N"},"","",null,"AM7____SLI_REC10YOTHLOC_N","","AM7SLIREC10YOTHLOCN","AM7____SLI_REC10YOTHLOC_N",1,"______"]
[null,null,null,null,null,null,null,null,null,null,null,null,null,null,null,null,null,null,null,null,null,{"$f":"IFERROR(INDEX(MissingData, SMALL(IF(ISBLANK(MissingData)+ISERROR(MissingData)+LEN(MissingData)=0, \"\", ROW(MissingData)-MIN(ROW(MissingData))+1), ROW(161:161))),\"\")","v":"AM7____SLI_REC10YSVCS_N"},"","",null,"AM7____SLI_REC10YSVCS_N","","AM7SLIREC10YSVCSN","AM7____SLI_REC10YSVCS_N",1,"______"]
[null,null,null,null,null,null,null,null,null,null,null,null,null,null,null,null,null,null,null,null,null,{"$f":"IFERROR(INDEX(MissingData, SMALL(IF(ISBLANK(MissingData)+ISERROR(MissingData)+LEN(MissingData)=0, \"\", ROW(MissingData)-MIN(ROW(MissingData))+1), ROW(162:162))),\"\")","v":"AS7____AUT_REC10YOTHLOC_N"},"","",null,"AS7____AUT_REC10YOTHLOC_N","","AS7AUTREC10YOTHLOCN","AS7____AUT_REC10YOTHLOC_N",1,"______"]
[null,null,null,null,null,null,null,null,null,null,null,null,null,null,null,null,null,null,null,null,null,{"$f":"IFERROR(INDEX(MissingData, SMALL(IF(ISBLANK(MissingData)+ISERROR(MissingData)+LEN(MissingData)=0, \"\", ROW(MissingData)-MIN(ROW(MissingData))+1), ROW(163:163))),\"\")","v":"AS7____AUT_REC10YSVCS_N"},"","",null,"AS7____AUT_REC10YSVCS_N","","AS7AUTREC10YSVCSN","AS7____AUT_REC10YSVCS_N",1,"______"]
[null,null,null,null,null,null,null,null,null,null,null,null,null,null,null,null,null,null,null,null,null,{"$f":"IFERROR(INDEX(MissingData, SMALL(IF(ISBLANK(MissingData)+ISERROR(MissingData)+LEN(MissingData)=0, \"\", ROW(MissingData)-MIN(ROW(MissingData))+1), ROW(164:164))),\"\")","v":"AS7____AUT_SC_N"},"","",null,"AS7____AUT_SC_N","","AS7AUTSCN","AS7____AUT_SC_N",1,"______"]
[null,null,null,null,null,null,null,null,null,null,null,null,null,null,null,null,null,null,null,null,null,{"$f":"IFERROR(INDEX(MissingData, SMALL(IF(ISBLANK(MissingData)+ISERROR(MissingData)+LEN(MissingData)=0, \"\", ROW(MissingData)-MIN(ROW(MissingData))+1), ROW(165:165))),\"\")","v":"AS7____DD_REC10YOTHLOC_N"},"","",null,"AS7____DD_REC10YOTHLOC_N","","AS7DDREC10YOTHLOCN","AS7____DD_REC10YOTHLOC_N",1,"______"]
[null,null,null,null,null,null,null,null,null,null,null,null,null,null,null,null,null,null,null,null,null,{"$f":"IFERROR(INDEX(MissingData, SMALL(IF(ISBLANK(MissingData)+ISERROR(MissingData)+LEN(MissingData)=0, \"\", ROW(MissingData)-MIN(ROW(MissingData))+1), ROW(166:166))),\"\")","v":"AS7____DD_REC10YSVCS_N"},"","",null,"AS7____DD_REC10YSVCS_N","","AS7DDREC10YSVCSN","AS7____DD_REC10YSVCS_N",1,"______"]
[null,null,null,null,null,null,null,null,null,null,null,null,null,null,null,null,null,null,null,null,null,{"$f":"IFERROR(INDEX(MissingData, SMALL(IF(ISBLANK(MissingData)+ISERROR(MissingData)+LEN(MissingData)=0, \"\", ROW(MissingData)-MIN(ROW(MissingData))+1), ROW(167:167))),\"\")","v":"AS7____DD_SC_N"},"","",null,"AS7____DD_SC_N","","AS7DDSCN","AS7____DD_SC_N",1,"______"]
[null,null,null,null,null,null,null,null,null,null,null,null,null,null,null,null,null,null,null,null,null,{"$f":"IFERROR(INDEX(MissingData, SMALL(IF(ISBLANK(MissingData)+ISERROR(MissingData)+LEN(MissingData)=0, \"\", ROW(MissingData)-MIN(ROW(MissingData))+1), ROW(168:168))),\"\")","v":"AS7____DD_SPL_N"},"","",null,"AS7____DD_SPL_N","","AS7DDSPLN","AS7____DD_SPL_N",1,"______"]
[null,null,null,null,null,null,null,null,null,null,null,null,null,null,null,null,null,null,null,null,null,{"$f":"IFERROR(INDEX(MissingData, SMALL(IF(ISBLANK(MissingData)+ISERROR(MissingData)+LEN(MissingData)=0, \"\", ROW(MissingData)-MIN(ROW(MissingData))+1), ROW(169:169))),\"\")","v":"AS7____DD_SS_N"},"","",null,"AS7____DD_SS_N","","AS7DDSSN","AS7____DD_SS_N",1,"______"]
[null,null,null,null,null,null,null,null,null,null,null,null,null,null,null,null,null,null,null,null,null,{"$f":"IFERROR(INDEX(MissingData, SMALL(IF(ISBLANK(MissingData)+ISERROR(MissingData)+LEN(MissingData)=0, \"\", ROW(MissingData)-MIN(ROW(MissingData))+1), ROW(170:170))),\"\")","v":"AS7____HI_REC10YOTHLOC_N"},"","",null,"AS7____HI_REC10YOTHLOC_N","","AS7HIREC10YOTHLOCN","AS7____HI_REC10YOTHLOC_N",1,"______"]
[null,null,null,null,null,null,null,null,null,null,null,null,null,null,null,null,null,null,null,null,null,{"$f":"IFERROR(INDEX(MissingData, SMALL(IF(ISBLANK(MissingData)+ISERROR(MissingData)+LEN(MissingData)=0, \"\", ROW(MissingData)-MIN(ROW(MissingData))+1), ROW(171:171))),\"\")","v":"AS7____HI_REC10YSVCS_N"},"","",null,"AS7____HI_REC10YSVCS_N","","AS7HIREC10YSVCSN","AS7____HI_REC10YSVCS_N",1,"______"]
[null,null,null,null,null,null,null,null,null,null,null,null,null,null,null,null,null,null,null,null,null,{"$f":"IFERROR(INDEX(MissingData, SMALL(IF(ISBLANK(MissingData)+ISERROR(MissingData)+LEN(MissingData)=0, \"\", ROW(MissingData)-MIN(ROW(MissingData))+1), ROW(172:172))),\"\")","v":"AS7____HI_SPL_N"},"","",null,"AS7____HI_SPL_N","","AS7HISPLN","AS7____HI_SPL_N",1,"______"]
[null,null,null,null,null,null,null,null,null,null,null,null,null,null,null,null,null,null,null,null,null,{"$f":"IFERROR(INDEX(MissingData, SMALL(IF(ISBLANK(MissingData)+ISERROR(MissingData)+LEN(MissingData)=0, \"\", ROW(MissingData)-MIN(ROW(MissingData))+1), ROW(173:173))),\"\")","v":"AS7____HI_SS_N"},"","",null,"AS7____HI_SS_N","","AS7HISSN","AS7____HI_SS_N",1,"______"]
[null,null,null,null,null,null,null,null,null,null,null,null,null,null,null,null,null,null,null,null,null,{"$f":"IFERROR(INDEX(MissingData, SMALL(IF(ISBLANK(MissingData)+ISERROR(MissingData)+LEN(MissingData)=0, \"\", ROW(MissingData)-MIN(ROW(MissingData))+1), ROW(174:174))),\"\")","v":"AS7____MD_SC_N"},"","",null,"AS7____MD_SC_N","","AS7MDSCN","AS7____MD_SC_N",1,"______"]
[null,null,null,null,null,null,null,null,null,null,null,null,null,null,null,null,null,null,null,null,null,{"$f":"IFERROR(INDEX(MissingData, SMALL(IF(ISBLANK(MissingData)+ISERROR(MissingData)+LEN(MissingData)=0, \"\", ROW(MissingData)-MIN(ROW(MissingData))+1), ROW(175:175))),\"\")","v":"AS7____ID_REC10YOTHLOC_N"},"","",null,"AS7____ID_REC10YOTHLOC_N","","AS7IDREC10YOTHLOCN","AS7____ID_REC10YOTHLOC_N",1,"______"]
[null,null,null,null,null,null,null,null,null,null,null,null,null,null,null,null,null,null,null,null,null,{"$f":"IFERROR(INDEX(MissingData, SMALL(IF(ISBLANK(MissingData)+ISERROR(MissingData)+LEN(MissingData)=0, \"\", ROW(MissingData)-MIN(ROW(MissingData))+1), ROW(176:176))),\"\")","v":"AS7____ID_SC_N"},"","",null,"AS7____ID_SC_N","","AS7IDSCN","AS7____ID_SC_N",1,"______"]
[null,null,null,null,null,null,null,null,null,null,null,null,null,null,null,null,null,null,null,null,null,{"$f":"IFERROR(INDEX(MissingData, SMALL(IF(ISBLANK(MissingData)+ISERROR(MissingData)+LEN(MissingData)=0, \"\", ROW(MissingData)-MIN(ROW(MissingData))+1), ROW(177:177))),\"\")","v":"AS7____OHI_REC10YOTHLOC_N"},"","",null,"AS7____OHI_REC10YOTHLOC_N","","AS7OHIREC10YOTHLOCN","AS7____OHI_REC10YOTHLOC_N",1,"______"]
[null,null,null,null,null,null,null,null,null,null,null,null,null,null,null,null,null,null,null,null,null,{"$f":"IFERROR(INDEX(MissingData, SMALL(IF(ISBLANK(MissingData)+ISERROR(MissingData)+LEN(MissingData)=0, \"\", ROW(MissingData)-MIN(ROW(MissingData))+1), ROW(178:178))),\"\")","v":"AS7____OHI_REC10YSVCS_N"},"","",null,"AS7____OHI_REC10YSVCS_N","","AS7OHIREC10YSVCSN","AS7____OHI_REC10YSVCS_N",1,"______"]
[null,null,null,null,null,null,null,null,null,null,null,null,null,null,null,null,null,null,null,null,null,{"$f":"IFERROR(INDEX(MissingData, SMALL(IF(ISBLANK(MissingData)+ISERROR(MissingData)+LEN(MissingData)=0, \"\", ROW(MissingData)-MIN(ROW(MissingData))+1), ROW(179:179))),\"\")","v":"AS7____OHI_SC_N"},"","",null,"AS7____OHI_SC_N","","AS7OHISCN","AS7____OHI_SC_N",1,"______"]
[null,null,null,null,null,null,null,null,null,null,null,null,null,null,null,null,null,null,null,null,null,{"$f":"IFERROR(INDEX(MissingData, SMALL(IF(ISBLANK(MissingData)+ISERROR(MissingData)+LEN(MissingData)=0, \"\", ROW(MissingData)-MIN(ROW(MissingData))+1), ROW(180:180))),\"\")","v":"AS7____OI_REC10YOTHLOC_N"},"","",null,"AS7____OI_REC10YOTHLOC_N","","AS7OIREC10YOTHLOCN","AS7____OI_REC10YOTHLOC_N",1,"______"]
[null,null,null,null,null,null,null,null,null,null,null,null,null,null,null,null,null,null,null,null,null,{"$f":"IFERROR(INDEX(MissingData, SMALL(IF(ISBLANK(MissingData)+ISERROR(MissingData)+LEN(MissingData)=0, \"\", ROW(MissingData)-MIN(ROW(MissingData))+1), ROW(181:181))),\"\")","v":"AS7____SLI_REC09YOTHLOC_N"},"","",null,"AS7____SLI_REC09YOTHLOC_N","","AS7SLIREC09YOTHLOCN","AS7____SLI_REC09YOTHLOC_N",1,"______"]
[null,null,null,null,null,null,null,null,null,null,null,null,null,null,null,null,null,null,null,null,null,{"$f":"IFERROR(INDEX(MissingData, SMALL(IF(ISBLANK(MissingData)+ISERROR(MissingData)+LEN(MissingData)=0, \"\", ROW(MissingData)-MIN(ROW(MissingData))+1), ROW(182:182))),\"\")","v":"AS7____SLI_REC10YOTHLOC_N"},"","",null,"AS7____SLI_REC10YOTHLOC_N","","AS7SLIREC10YOTHLOCN","AS7____SLI_REC10YOTHLOC_N",1,"______"]
[null,null,null,null,null,null,null,null,null,null,null,null,null,null,null,null,null,null,null,null,null,{"$f":"IFERROR(INDEX(MissingData, SMALL(IF(ISBLANK(MissingData)+ISERROR(MissingData)+LEN(MissingData)=0, \"\", ROW(MissingData)-MIN(ROW(MissingData))+1), ROW(183:183))),\"\")","v":"AS7____SLI_REC10YSVCS_N"},"","",null,"AS7____SLI_REC10YSVCS_N","","AS7SLIREC10YSVCSN","AS7____SLI_REC10YSVCS_N",1,"______"]
[null,null,null,null,null,null,null,null,null,null,null,null,null,null,null,null,null,null,null,null,null,{"$f":"IFERROR(INDEX(MissingData, SMALL(IF(ISBLANK(MissingData)+ISERROR(MissingData)+LEN(MissingData)=0, \"\", ROW(MissingData)-MIN(ROW(MissingData))+1), ROW(184:184))),\"\")","v":"AS7____SLI_SC_N"},"","",null,"AS7____SLI_SC_N","","AS7SLISCN","AS7____SLI_SC_N",1,"______"]
[null,null,null,null,null,null,null,null,null,null,null,null,null,null,null,null,null,null,null,null,null,{"$f":"IFERROR(INDEX(MissingData, SMALL(IF(ISBLANK(MissingData)+ISERROR(MissingData)+LEN(MissingData)=0, \"\", ROW(MissingData)-MIN(ROW(MissingData))+1), ROW(185:185))),\"\")","v":"AS7____SLI_SPL_N"},"","",null,"AS7____SLI_SPL_N","","AS7SLISPLN","AS7____SLI_SPL_N",1,"______"]
[null,null,null,null,null,null,null,null,null,null,null,null,null,null,null,null,null,null,null,null,null,{"$f":"IFERROR(INDEX(MissingData, SMALL(IF(ISBLANK(MissingData)+ISERROR(MissingData)+LEN(MissingData)=0, \"\", ROW(MissingData)-MIN(ROW(MissingData))+1), ROW(186:186))),\"\")","v":"AS7____SLI_SS_N"},"","",null,"AS7____SLI_SS_N","","AS7SLISSN","AS7____SLI_SS_N",1,"______"]
[null,null,null,null,null,null,null,null,null,null,null,null,null,null,null,null,null,null,null,null,null,{"$f":"IFERROR(INDEX(MissingData, SMALL(IF(ISBLANK(MissingData)+ISERROR(MissingData)+LEN(MissingData)=0, \"\", ROW(MissingData)-MIN(ROW(MissingData))+1), ROW(187:187))),\"\")","v":"BL7____AUT_H_N"},"","",null,"BL7____AUT_H_N","","BL7AUTHN","BL7____AUT_H_N",1,"______"]
[null,null,null,null,null,null,null,null,null,null,null,null,null,null,null,null,null,null,null,null,null,{"$f":"IFERROR(INDEX(MissingData, SMALL(IF(ISBLANK(MissingData)+ISERROR(MissingData)+LEN(MissingData)=0, \"\", ROW(MissingData)-MIN(ROW(MissingData))+1), ROW(188:188))),\"\")","v":"BL7____AUT_REC10YOTHLOC_N"},"","",null,"BL7____AUT_REC10YOTHLOC_N","","BL7AUTREC10YOTHLOCN","BL7____AUT_REC10YOTHLOC_N",1,"______"]
[null,null,null,null,null,null,null,null,null,null,null,null,null,null,null,null,null,null,null,null,null,{"$f":"IFERROR(INDEX(MissingData, SMALL(IF(ISBLANK(MissingData)+ISERROR(MissingData)+LEN(MissingData)=0, \"\", ROW(MissingData)-MIN(ROW(MissingData))+1), ROW(189:189))),\"\")","v":"BL7____AUT_REC10YSVCS_N"},"","",null,"BL7____AUT_REC10YSVCS_N","","BL7AUTREC10YSVCSN","BL7____AUT_REC10YSVCS_N",1,"______"]
[null,null,null,null,null,null,null,null,null,null,null,null,null,null,null,null,null,null,null,null,null,{"$f":"IFERROR(INDEX(MissingData, SMALL(IF(ISBLANK(MissingData)+ISERROR(MissingData)+LEN(MissingData)=0, \"\", ROW(MissingData)-MIN(ROW(MissingData))+1), ROW(190:190))),\"\")","v":"BL7____AUT_SC_N"},"","",null,"BL7____AUT_SC_N","","BL7AUTSCN","BL7____AUT_SC_N",1,"______"]
[null,null,null,null,null,null,null,null,null,null,null,null,null,null,null,null,null,null,null,null,null,{"$f":"IFERROR(INDEX(MissingData, SMALL(IF(ISBLANK(MissingData)+ISERROR(MissingData)+LEN(MissingData)=0, \"\", ROW(MissingData)-MIN(ROW(MissingData))+1), ROW(191:191))),\"\")","v":"BL7____AUT_SS_N"},"","",null,"BL7____AUT_SS_N","","BL7AUTSSN","BL7____AUT_SS_N",1,"______"]
[null,null,null,null,null,null,null,null,null,null,null,null,null,null,null,null,null,null,null,null,null,{"$f":"IFERROR(INDEX(MissingData, SMALL(IF(ISBLANK(MissingData)+ISERROR(MissingData)+LEN(MissingData)=0, \"\", ROW(MissingData)-MIN(ROW(MissingData))+1), ROW(192:192))),\"\")","v":"BL7____DD_H_N"},"","",null,"BL7____DD_H_N","","BL7DDHN","BL7____DD_H_N",1,"______"]
[null,null,null,null,null,null,null,null,null,null,null,null,null,null,null,null,null,null,null,null,null,{"$f":"IFERROR(INDEX(MissingData, SMALL(IF(ISBLANK(MissingData)+ISERROR(MissingData)+LEN(MissingData)=0, \"\", ROW(MissingData)-MIN(ROW(MissingData))+1), ROW(193:193))),\"\")","v":"BL7____DD_REC10YOTHLOC_N"},"","",null,"BL7____DD_REC10YOTHLOC_N","","BL7DDREC10YOTHLOCN","BL7____DD_REC10YOTHLOC_N",1,"______"]
[null,null,null,null,null,null,null,null,null,null,null,null,null,null,null,null,null,null,null,null,null,{"$f":"IFERROR(INDEX(MissingData, SMALL(IF(ISBLANK(MissingData)+ISERROR(MissingData)+LEN(MissingData)=0, \"\", ROW(MissingData)-MIN(ROW(MissingData))+1), ROW(194:194))),\"\")","v":"BL7____DD_REC10YSVCS_N"},"","",null,"BL7____DD_REC10YSVCS_N","","BL7DDREC10YSVCSN","BL7____DD_REC10YSVCS_N",1,"______"]
[null,null,null,null,null,null,null,null,null,null,null,null,null,null,null,null,null,null,null,null,null,{"$f":"IFERROR(INDEX(MissingData, SMALL(IF(ISBLANK(MissingData)+ISERROR(MissingData)+LEN(MissingData)=0, \"\", ROW(MissingData)-MIN(ROW(MissingData))+1), ROW(195:195))),\"\")","v":"BL7____DD_SC_N"},{"$f":"IF(LEN(AA208)=0,\"\",IF(COUNTIF(CurrentListing_C089,AA208)>1,AE208,\"\"))","v":""},{"$f":"IF(LEN(AA208)=0,\"\",IF(ISNA(MATCH(AA208,MasterListing,0)),AE208,\"\"))","v":""},null,{"$f":"IF(LEN(AC208)=0,\"\",IF(ISNA(MATCH(AB208,CurrentListing_C089,0)),AC208,\"\"))","v":"BL7____DD_SC_N"},{"$f":"G208&H208&I208&J208&K208&Q208&R208","v":""},"BL7DDSCN","BL7____DD_SC_N",{"$f":"IF(LEN(V208)>0,1,0)","v":1},{"$f":"G208&\"_\"&H208&\"_\"&I208&\"_\"&J208&\"_\"&K208&\"_\"&Q208&\"_\"&R208","v":"______"}]
[null,null,null,null,null,null,null,null,null,null,null,null,null,null,null,null,null,null,null,null,null,{"$f":"IFERROR(INDEX(MissingData, SMALL(IF(ISBLANK(MissingData)+ISERROR(MissingData)+LEN(MissingData)=0, \"\", ROW(MissingData)-MIN(ROW(MissingData))+1), ROW(196:196))),\"\")","v":"BL7____DD_SPL_N"},"","",null,"BL7____DD_SPL_N","","BL7DDSPLN","BL7____DD_SPL_N",1,"______"]
[null,null,null,null,null,null,null,null,null,null,null,null,null,null,null,null,null,null,null,null,null,{"$f":"IFERROR(INDEX(MissingData, SMALL(IF(ISBLANK(MissingData)+ISERROR(MissingData)+LEN(MissingData)=0, \"\", ROW(MissingData)-MIN(ROW(MissingData))+1), ROW(197:197))),\"\")","v":"BL7____DD_SS_N"},"","",null,"BL7____DD_SS_N","","BL7DDSSN","BL7____DD_SS_N",1,"______"]
[null,null,null,null,null,null,null,null,null,null,null,null,null,null,null,null,null,null,null,null,null,{"$f":"IFERROR(INDEX(MissingData, SMALL(IF(ISBLANK(MissingData)+ISERROR(MissingData)+LEN(MissingData)=0, \"\", ROW(MissingData)-MIN(ROW(MissingData))+1), ROW(198:198))),\"\")","v":"BL7____EMN_REC10YOTHLOC_N"},"","",null,"BL7____EMN_REC10YOTHLOC_N","","BL7EMNREC10YOTHLOCN","BL7____EMN_REC10YOTHLOC_N",1,"______"]
[null,null,null,null,null,null,null,null,null,null,null,null,null,null,null,null,null,null,null,null,null,{"$f":"IFERROR(INDEX(MissingData, SMALL(IF(ISBLANK(MissingData)+ISERROR(MissingData)+LEN(MissingData)=0, \"\", ROW(MissingData)-MIN(ROW(MissingData))+1), ROW(199:199))),\"\")","v":"BL7____EMN_REC10YSVCS_N"},"","",null,"BL7____EMN_REC10YSVCS_N","","BL7EMNREC10YSVCSN","BL7____EMN_REC10YSVCS_N",1,"______"]
[null,null,null,null,null,null,null,null,null,null,null,null,null,null,null,null,null,null,null,null,null,{"$f":"IFERROR(INDEX(MissingData, SMALL(IF(ISBLANK(MissingData)+ISERROR(MissingData)+LEN(MissingData)=0, \"\", ROW(MissingData)-MIN(ROW(MissingData))+1), ROW(200:200))),\"\")","v":"BL7____EMN_SC_N"},"","",null,"BL7____EMN_SC_N","","BL7EMNSCN","BL7____EMN_SC_N",1,"______"]
[null,null,null,null,null,null,null,null,null,null,null,null,null,null,null,null,null,null,null,null,null,{"$f":"IFERROR(INDEX(MissingData, SMALL(IF(ISBLANK(MissingData)+ISERROR(MissingData)+LEN(MissingData)=0, \"\", ROW(MissingData)-MIN(ROW(MissingData))+1), ROW(201:201))),\"\")","v":"BL7____HI_REC10YOTHLOC_N"},"","",null,"BL7____HI_REC10YOTHLOC_N","","BL7HIREC10YOTHLOCN","BL7____HI_REC10YOTHLOC_N",1,"______"]
[null,null,null,null,null,null,null,null,null,null,null,null,null,null,null,null,null,null,null,null,null,{"$f":"IFERROR(INDEX(MissingData, SMALL(IF(ISBLANK(MissingData)+ISERROR(MissingData)+LEN(MissingData)=0, \"\", ROW(MissingData)-MIN(ROW(MissingData))+1), ROW(202:202))),\"\")","v":"BL7____HI_REC10YSVCS_N"},"","",null,"BL7____HI_REC10YSVCS_N","","BL7HIREC10YSVCSN","BL7____HI_REC10YSVCS_N",1,"______"]
[null,null,null,null,null,null,null,null,null,null,null,null,null,null,null,null,null,null,null,null,null,{"$f":"IFERROR(INDEX(MissingData, SMALL(IF(ISBLANK(MissingData)+ISERROR(MissingData)+LEN(MissingData)=0, \"\", ROW(MissingData)-MIN(ROW(MissingData))+1), ROW(203:203))),\"\")","v":"BL7____HI_SC_N"},"","",null,"BL7____HI_SC_N","","BL7HISCN","BL7____HI_SC_N",1,"______"]
[null,null,null,null,null,null,null,null,null,null,null,null,null,null,null,null,null,null,null,null,null,{"$f":"IFERROR(INDEX(MissingData, SMALL(IF(ISBLANK(MissingData)+ISERROR(MissingData)+LEN(MissingData)=0, \"\", ROW(MissingData)-MIN(ROW(MissingData))+1), ROW(204:204))),\"\")","v":"BL7____HI_SPL_N"},"","",null,"BL7____HI_SPL_N","","BL7HISPLN","BL7____HI_SPL_N",1,"______"]
[null,null,null,null,null,null,null,null,null,null,null,null,null,null,null,null,null,null,null,null,null,{"$f":"IFERROR(INDEX(MissingData, SMALL(IF(ISBLANK(MissingData)+ISERROR(MissingData)+LEN(MissingData)=0, \"\", ROW(MissingData)-MIN(ROW(MissingData))+1), ROW(205:205))),\"\")","v":"BL7____HI_SS_N"},"","",null,"BL7____HI_SS_N","","BL7HISSN","BL7____HI_SS_N",1,"______"]
[null,null,null,null,null,null,null,null,null,null,null,null,null,null,null,null,null,null,null,null,null,{"$f":"IFERROR(INDEX(MissingData, SMALL(IF(ISBLANK(MissingData)+ISERROR(MissingData)+LEN(MissingData)=0, \"\", ROW(MissingData)-MIN(ROW(MissingData))+1), ROW(206:206))),\"\")","v":"BL7____MD_H_N"},"","",null,"BL7____MD_H_N","","BL7MDHN","BL7____MD_H_N",1,"______"]
[null,null,null,null,null,null,null,null,null,null,null,null,null,null,null,null,null,null,null,null,null,{"$f":"IFERROR(INDEX(MissingData, SMALL(IF(ISBLANK(MissingData)+ISERROR(MissingData)+LEN(MissingData)=0, \"\", ROW(MissingData)-MIN(ROW(MissingData))+1), ROW(207:207))),\"\")","v":"BL7____MD_REC10YOTHLOC_N"},"","",null,"BL7____MD_REC10YOTHLOC_N","","BL7MDREC10YOTHLOCN","BL7____MD_REC10YOTHLOC_N",1,"______"]
[null,null,null,null,null,null,null,null,null,null,null,null,null,null,null,null,null,null,null,null,null,{"$f":"IFERROR(INDEX(MissingData, SMALL(IF(ISBLANK(MissingData)+ISERROR(MissingData)+LEN(MissingData)=0, \"\", ROW(MissingData)-MIN(ROW(MissingData))+1), ROW(208:208))),\"\")","v":"BL7____MD_REC10YSVCS_N"},"","",null,"BL7____MD_REC10YSVCS_N","","BL7MDREC10YSVCSN","BL7____MD_REC10YSVCS_N",1,"______"]
[null,null,null,null,null,null,null,null,null,null,null,null,null,null,null,null,null,null,null,null,null,{"$f":"IFERROR(INDEX(MissingData, SMALL(IF(ISBLANK(MissingData)+ISERROR(MissingData)+LEN(MissingData)=0, \"\", ROW(MissingData)-MIN(ROW(MissingData))+1), ROW(209:209))),\"\")","v":"BL7____MD_SC_N"},"","",null,"BL7____MD_SC_N","","BL7MDSCN","BL7____MD_SC_N",1,"______"]
[null,null,null,null,null,null,null,null,null,null,null,null,null,null,null,null,null,null,null,null,null,{"$f":"IFERROR(INDEX(MissingData, SMALL(IF(ISBLANK(MissingData)+ISERROR(MissingData)+LEN(MissingData)=0, \"\", ROW(MissingData)-MIN(ROW(MissingData))+1), ROW(210:210))),\"\")","v":"BL7____MD_SS_N"},"","",null,"BL7____MD_SS_N","","BL7MDSSN","BL7____MD_SS_N",1,"______"]
[null,null,null,null,null,null,null,null,null,null,null,null,null,null,null,null,null,null,null,null,null,{"$f":"IFERROR(INDEX(MissingData, SMALL(IF(ISBLANK(MissingData)+ISERROR(MissingData)+LEN(MissingData)=0, \"\", ROW(MissingData)-MIN(ROW(MissingData))+1), ROW(211:211))),\"\")","v":"BL7____ID_H_N"},"","",null,"BL7____ID_H_N","","BL7IDHN","BL7____ID_H_N",1,"______"]
[null,null,null,null,null,null,null,null,null,null,null,null,null,null,null,null,null,null,null,null,null,{"$f":"IFERROR(INDEX(MissingData, SMALL(IF(ISBLANK(MissingData)+ISERROR(MissingData)+LEN(MissingData)=0, \"\", ROW(MissingData)-MIN(ROW(MissingData))+1), ROW(212:212))),\"\")","v":"BL7____ID_REC10YOTHLOC_N"},"","",null,"BL7____ID_REC10YOTHLOC_N","","BL7IDREC10YOTHLOCN","BL7____ID_REC10YOTHLOC_N",1,"______"]
[null,null,null,null,null,null,null,null,null,null,null,null,null,null,null,null,null,null,null,null,null,{"$f":"IFERROR(INDEX(MissingData, SMALL(IF(ISBLANK(MissingData)+ISERROR(MissingData)+LEN(MissingData)=0, \"\", ROW(MissingData)-MIN(ROW(MissingData))+1), ROW(213:213))),\"\")","v":"BL7____ID_REC10YSVCS_N"},"","",null,"BL7____ID_REC10YSVCS_N","","BL7IDREC10YSVCSN","BL7____ID_REC10YSVCS_N",1,"______"]
[null,null,null,null,null,null,null,null,null,null,null,null,null,null,null,null,null,null,null,null,null,{"$f":"IFERROR(INDEX(MissingData, SMALL(IF(ISBLANK(MissingData)+ISERROR(MissingData)+LEN(MissingData)=0, \"\", ROW(MissingData)-MIN(ROW(MissingData))+1), ROW(214:214))),\"\")","v":"BL7____ID_SC_N"},"","",null,"BL7____ID_SC_N","","BL7IDSCN","BL7____ID_SC_N",1,"______"]
[null,null,null,null,null,null,null,null,null,null,null,null,null,null,null,null,null,null,null,null,null,{"$f":"IFERROR(INDEX(MissingData, SMALL(IF(ISBLANK(MissingData)+ISERROR(MissingData)+LEN(MissingData)=0, \"\", ROW(MissingData)-MIN(ROW(MissingData))+1), ROW(215:215))),\"\")","v":"BL7____OHI_REC10YOTHLOC_N"},"","",null,"BL7____OHI_REC10YOTHLOC_N","","BL7OHIREC10YOTHLOCN","BL7____OHI_REC10YOTHLOC_N",1,"______"]
[null,null,null,null,null,null,null,null,null,null,null,null,null,null,null,null,null,null,null,null,null,{"$f":"IFERROR(INDEX(MissingData, SMALL(IF(ISBLANK(MissingData)+ISERROR(MissingData)+LEN(MissingData)=0, \"\", ROW(MissingData)-MIN(ROW(MissingData))+1), ROW(216:216))),\"\")","v":"BL7____OHI_REC10YSVCS_N"},"","",null,"BL7____OHI_REC10YSVCS_N","","BL7OHIREC10YSVCSN","BL7____OHI_REC10YSVCS_N",1,"______"]
[null,null,null,null,null,null,null,null,null,null,null,null,null,null,null,null,null,null,null,null,null,{"$f":"IFERROR(INDEX(MissingData, SMALL(IF(ISBLANK(MissingData)+ISERROR(MissingData)+LEN(MissingData)=0, \"\", ROW(MissingData)-MIN(ROW(MissingData))+1), ROW(217:217))),\"\")","v":"BL7____OHI_SC_N"},"","",null,"BL7____OHI_SC_N","","BL7OHISCN","BL7____OHI_SC_N",1,"______"]
[null,null,null,null,null,null,null,null,null,null,null,null,null,null,null,null,null,null,null,null,null,{"$f":"IFERROR(INDEX(MissingData, SMALL(IF(ISBLANK(MissingData)+ISERROR(MissingData)+LEN(MissingData)=0, \"\", ROW(MissingData)-MIN(ROW(MissingData))+1), ROW(218:218))),\"\")","v":"BL7____OI_H_N"},"","",null,"BL7____OI_H_N","","BL7OIHN","BL7____OI_H_N",1,"______"]
[null,null,null,null,null,null,null,null,null,null,null,null,null,null,null,null,null,null,null,null,null,{"$f":"IFERROR(INDEX(MissingData, SMALL(IF(ISBLANK(MissingData)+ISERROR(MissingData)+LEN(MissingData)=0, \"\", ROW(MissingData)-MIN(ROW(MissingData))+1), ROW(219:219))),\"\")","v":"BL7____OI_REC10YOTHLOC_N"},"","",null,"BL7____OI_REC10YOTHLOC_N","","BL7OIREC10YOTHLOCN","BL7____OI_REC10YOTHLOC_N",1,"______"]
[null,null,null,null,null,null,null,null,null,null,null,null,null,null,null,null,null,null,null,null,null,{"$f":"IFERROR(INDEX(MissingData, SMALL(IF(ISBLANK(MissingData)+ISERROR(MissingData)+LEN(MissingData)=0, \"\", ROW(MissingData)-MIN(ROW(MissingData))+1), ROW(220:220))),\"\")","v":"BL7____OI_REC10YSVCS_N"},"","",null,"BL7____OI_REC10YSVCS_N","","BL7OIREC10YSVCSN","BL7____OI_REC10YSVCS_N",1,"______"]
[null,null,null,null,null,null,null,null,null,null,null,null,null,null,null,null,null,null,null,null,null,{"$f":"IFERROR(INDEX(MissingData, SMALL(IF(ISBLANK(MissingData)+ISERROR(MissingData)+LEN(MissingData)=0, \"\", ROW(MissingData)-MIN(ROW(MissingData))+1), ROW(221:221))),\"\")","v":"BL7____OI_SC_N"},"","",null,"BL7____OI_SC_N","","BL7OISCN","BL7____OI_SC_N",1,"______"]
[null,null,null,null,null,null,null,null,null,null,null,null,null,null,null,null,null,null,null,null,null,{"$f":"IFERROR(INDEX(MissingData, SMALL(IF(ISBLANK(MissingData)+ISERROR(MissingData)+LEN(MissingData)=0, \"\", ROW(MissingData)-MIN(ROW(MissingData))+1), ROW(222:222))),\"\")","v":"BL7____SLD_REC10YOTHLOC_N"},"","",null,"BL7____SLD_REC10YOTHLOC_N","","BL7SLDREC10YOTHLOCN","BL7____SLD_REC10YOTHLOC_N",1,"______"]
[null,null,null,null,null,null,null,null,null,null,null,null,null,null,null,null,null,null,null,null,null,{"$f":"IFERROR(INDEX(MissingData, SMALL(IF(ISBLANK(MissingData)+ISERROR(MissingData)+LEN(MissingData)=0, \"\", ROW(MissingData)-MIN(ROW(MissingData))+1), ROW(223:223))),\"\")","v":"BL7____SLI_REC10YOTHLOC_N"},"","",null,"BL7____SLI_REC10YOTHLOC_N","","BL7SLIREC10YOTHLOCN","BL7____SLI_REC10YOTHLOC_N",1,"______"]
[null,null,null,null,null,null,null,null,null,null,null,null,null,null,null,null,null,null,null,null,null,{"$f":"IFERROR(INDEX(MissingData, SMALL(IF(ISBLANK(MissingData)+ISERROR(MissingData)+LEN(MissingData)=0, \"\", ROW(MissingData)-MIN(ROW(MissingData))+1), ROW(224:224))),\"\")","v":"BL7____SLI_REC10YSVCS_N"},"","",null,"BL7____SLI_REC10YSVCS_N","","BL7SLIREC10YSVCSN","BL7____SLI_REC10YSVCS_N",1,"______"]
[null,null,null,null,null,null,null,null,null,null,null,null,null,null,null,null,null,null,null,null,null,{"$f":"IFERROR(INDEX(MissingData, SMALL(IF(ISBLANK(MissingData)+ISERROR(MissingData)+LEN(MissingData)=0, \"\", ROW(MissingData)-MIN(ROW(MissingData))+1), ROW(225:225))),\"\")","v":"BL7____SLI_SC_N"},"","",null,"BL7____SLI_SC_N","","BL7SLISCN","BL7____SLI_SC_N",1,"______"]
[null,null,null,null,null,null,null,null,null,null,null,null,null,null,null,null,null,null,null,null,null,{"$f":"IFERROR(INDEX(MissingData, SMALL(IF(ISBLANK(MissingData)+ISERROR(MissingData)+LEN(MissingData)=0, \"\", ROW(MissingData)-MIN(ROW(MissingData))+1), ROW(226:226))),\"\")","v":"BL7____SLI_SPL_N"},"","",null,"BL7____SLI_SPL_N","","BL7SLISPLN","BL7____SLI_SPL_N",1,"______"]
[null,null,null,null,null,null,null,null,null,null,null,null,null,null,null,null,null,null,null,null,null,{"$f":"IFERROR(INDEX(MissingData, SMALL(IF(ISBLANK(MissingData)+ISERROR(MissingData)+LEN(MissingData)=0, \"\", ROW(MissingData)-MIN(ROW(MissingData))+1), ROW(227:227))),\"\")","v":"BL7____SLI_SS_N"},"","",null,"BL7____SLI_SS_N","","BL7SLISSN","BL7____SLI_SS_N",1,"______"]
[null,null,null,null,null,null,null,null,null,null,null,null,null,null,null,null,null,null,null,null,null,{"$f":"IFERROR(INDEX(MissingData, SMALL(IF(ISBLANK(MissingData)+ISERROR(MissingData)+LEN(MissingData)=0, \"\", ROW(MissingData)-MIN(ROW(MissingData))+1), ROW(228:228))),\"\")","v":"BL7____TBI_REC10YOTHLOC_N"},"","",null,"BL7____TBI_REC10YOTHLOC_N","","BL7TBIREC10YOTHLOCN","BL7____TBI_REC10YOTHLOC_N",1,"______"]
[null,null,null,null,null,null,null,null,null,null,null,null,null,null,null,null,null,null,null,null,null,{"$f":"IFERROR(INDEX(MissingData, SMALL(IF(ISBLANK(MissingData)+ISERROR(MissingData)+LEN(MissingData)=0, \"\", ROW(MissingData)-MIN(ROW(MissingData))+1), ROW(229:229))),\"\")","v":"BL7____VI_REC10YOTHLOC_N"},"","",null,"BL7____VI_REC10YOTHLOC_N","","BL7VIREC10YOTHLOCN","BL7____VI_REC10YOTHLOC_N",1,"______"]
[null,null,null,null,null,null,null,null,null,null,null,null,null,null,null,null,null,null,null,null,null,{"$f":"IFERROR(INDEX(MissingData, SMALL(IF(ISBLANK(MissingData)+ISERROR(MissingData)+LEN(MissingData)=0, \"\", ROW(MissingData)-MIN(ROW(MissingData))+1), ROW(230:230))),\"\")","v":"BL7____VI_REC10YSVCS_N"},"","",null,"BL7____VI_REC10YSVCS_N","","BL7VIREC10YSVCSN","BL7____VI_REC10YSVCS_N",1,"______"]
[null,null,null,null,null,null,null,null,null,null,null,null,null,null,null,null,null,null,null,null,null,{"$f":"IFERROR(INDEX(MissingData, SMALL(IF(ISBLANK(MissingData)+ISERROR(MissingData)+LEN(MissingData)=0, \"\", ROW(MissingData)-MIN(ROW(MissingData))+1), ROW(231:231))),\"\")","v":"BL7____VI_SC_N"},"","",null,"BL7____VI_SC_N","","BL7VISCN","BL7____VI_SC_N",1,"______"]
[null,null,null,null,null,null,null,null,null,null,null,null,null,null,null,null,null,null,null,null,null,{"$f":"IFERROR(INDEX(MissingData, SMALL(IF(ISBLANK(MissingData)+ISERROR(MissingData)+LEN(MissingData)=0, \"\", ROW(MissingData)-MIN(ROW(MissingData))+1), ROW(232:232))),\"\")","v":"HI7____AUT_REC10YOTHLOC_N"},"","",null,"HI7____AUT_REC10YOTHLOC_N","","HI7AUTREC10YOTHLOCN","HI7____AUT_REC10YOTHLOC_N",1,"______"]
[null,null,null,null,null,null,null,null,null,null,null,null,null,null,null,null,null,null,null,null,null,{"$f":"IFERROR(INDEX(MissingData, SMALL(IF(ISBLANK(MissingData)+ISERROR(MissingData)+LEN(MissingData)=0, \"\", ROW(MissingData)-MIN(ROW(MissingData))+1), ROW(233:233))),\"\")","v":"HI7____AUT_REC10YSVCS_N"},"","",null,"HI7____AUT_REC10YSVCS_N","","HI7AUTREC10YSVCSN","HI7____AUT_REC10YSVCS_N",1,"______"]
[null,null,null,null,null,null,null,null,null,null,null,null,null,null,null,null,null,null,null,null,null,{"$f":"IFERROR(INDEX(MissingData, SMALL(IF(ISBLANK(MissingData)+ISERROR(MissingData)+LEN(MissingData)=0, \"\", ROW(MissingData)-MIN(ROW(MissingData))+1), ROW(234:234))),\"\")","v":"HI7____AUT_SC_N"},"","",null,"HI7____AUT_SC_N","","HI7AUTSCN","HI7____AUT_SC_N",1,"______"]
[null,null,null,null,null,null,null,null,null,null,null,null,null,null,null,null,null,null,null,null,null,{"$f":"IFERROR(INDEX(MissingData, SMALL(IF(ISBLANK(MissingData)+ISERROR(MissingData)+LEN(MissingData)=0, \"\", ROW(MissingData)-MIN(ROW(MissingData))+1), ROW(235:235))),\"\")","v":"HI7____AUT_SS_N"},"","",null,"HI7____AUT_SS_N","","HI7AUTSSN","HI7____AUT_SS_N",1,"______"]
[null,null,null,null,null,null,null,null,null,null,null,null,null,null,null,null,null,null,null,null,null,{"$f":"IFERROR(INDEX(MissingData, SMALL(IF(ISBLANK(MissingData)+ISERROR(MissingData)+LEN(MissingData)=0, \"\", ROW(MissingData)-MIN(ROW(MissingData))+1), ROW(236:236))),\"\")","v":"HI7____DD_REC09YOTHLOC_N"},"","",null,"HI7____DD_REC09YOTHLOC_N","","HI7DDREC09YOTHLOCN","HI7____DD_REC09YOTHLOC_N",1,"______"]
[null,null,null,null,null,null,null,null,null,null,null,null,null,null,null,null,null,null,null,null,null,{"$f":"IFERROR(INDEX(MissingData, SMALL(IF(ISBLANK(MissingData)+ISERROR(MissingData)+LEN(MissingData)=0, \"\", ROW(MissingData)-MIN(ROW(MissingData))+1), ROW(237:237))),\"\")","v":"HI7____DD_REC10YOTHLOC_N"},"","",null,"HI7____DD_REC10YOTHLOC_N","","HI7DDREC10YOTHLOCN","HI7____DD_REC10YOTHLOC_N",1,"______"]
[null,null,null,null,null,null,null,null,null,null,null,null,null,null,null,null,null,null,null,null,null,{"$f":"IFERROR(INDEX(MissingData, SMALL(IF(ISBLANK(MissingData)+ISERROR(MissingData)+LEN(MissingData)=0, \"\", ROW(MissingData)-MIN(ROW(MissingData))+1), ROW(238:238))),\"\")","v":"HI7____DD_REC10YSVCS_N"},"","",null,"HI7____DD_REC10YSVCS_N","","HI7DDREC10YSVCSN","HI7____DD_REC10YSVCS_N",1,"______"]
[null,null,null,null,null,null,null,null,null,null,null,null,null,null,null,null,null,null,null,null,null,{"$f":"IFERROR(INDEX(MissingData, SMALL(IF(ISBLANK(MissingData)+ISERROR(MissingData)+LEN(MissingData)=0, \"\", ROW(MissingData)-MIN(ROW(MissingData))+1), ROW(239:239))),\"\")","v":"HI7____DD_SC_N"},"","",null,"HI7____DD_SC_N","","HI7DDSCN","HI7____DD_SC_N",1,"______"]
[null,null,null,null,null,null,null,null,null,null,null,null,null,null,null,null,null,null,null,null,null,{"$f":"IFERROR(INDEX(MissingData, SMALL(IF(ISBLANK(MissingData)+ISERROR(MissingData)+LEN(MissingData)=0, \"\", ROW(MissingData)-MIN(ROW(MissingData))+1), ROW(240:240))),\"\")","v":"HI7____DD_SPL_N"},"","",null,"HI7____DD_SPL_N","","HI7DDSPLN","HI7____DD_SPL_N",1,"______"]
[null,null,null,null,null,null,null,null,null,null,null,null,null,null,null,null,null,null,null,null,null,{"$f":"IFERROR(INDEX(MissingData, SMALL(IF(ISBLANK(MissingData)+ISERROR(MissingData)+LEN(MissingData)=0, \"\", ROW(MissingData)-MIN(ROW(MissingData))+1), ROW(241:241))),\"\")","v":"HI7____HI_H_N"},"","",null,"HI7____HI_H_N","","HI7HIHN","HI7____HI_H_N",1,"______"]
[null,null,null,null,null,null,null,null,null,null,null,null,null,null,null,null,null,null,null,null,null,{"$f":"IFERROR(INDEX(MissingData, SMALL(IF(ISBLANK(MissingData)+ISERROR(MissingData)+LEN(MissingData)=0, \"\", ROW(MissingData)-MIN(ROW(MissingData))+1), ROW(242:242))),\"\")","v":"HI7____HI_REC10YOTHLOC_N"},"","",null,"HI7____HI_REC10YOTHLOC_N","","HI7HIREC10YOTHLOCN","HI7____HI_REC10YOTHLOC_N",1,"______"]
[null,null,null,null,null,null,null,null,null,null,null,null,null,null,null,null,null,null,null,null,null,{"$f":"IFERROR(INDEX(MissingData, SMALL(IF(ISBLANK(MissingData)+ISERROR(MissingData)+LEN(MissingData)=0, \"\", ROW(MissingData)-MIN(ROW(MissingData))+1), ROW(243:243))),\"\")","v":"HI7____HI_SC_N"},"","",null,"HI7____HI_SC_N","","HI7HISCN","HI7____HI_SC_N",1,"______"]
[null,null,null,null,null,null,null,null,null,null,null,null,null,null,null,null,null,null,null,null,null,{"$f":"IFERROR(INDEX(MissingData, SMALL(IF(ISBLANK(MissingData)+ISERROR(MissingData)+LEN(MissingData)=0, \"\", ROW(MissingData)-MIN(ROW(MissingData))+1), ROW(244:244))),\"\")","v":"HI7____HI_SPL_N"},"","",null,"HI7____HI_SPL_N","","HI7HISPLN","HI7____HI_SPL_N",1,"______"]
[null,null,null,null,null,null,null,null,null,null,null,null,null,null,null,null,null,null,null,null,null,{"$f":"IFERROR(INDEX(MissingData, SMALL(IF(ISBLANK(MissingData)+ISERROR(MissingData)+LEN(MissingData)=0, \"\", ROW(MissingData)-MIN(ROW(MissingData))+1), ROW(245:245))),\"\")","v":"HI7____HI_SS_N"},"","",null,"HI7____HI_SS_N","","HI7HISSN","HI7____HI_SS_N",1,"______"]
[null,null,null,null,null,null,null,null,null,null,null,null,null,null,null,null,null,null,null,null,null,{"$f":"IFERROR(INDEX(MissingData, SMALL(IF(ISBLANK(MissingData)+ISERROR(MissingData)+LEN(MissingData)=0, \"\", ROW(MissingData)-MIN(ROW(MissingData))+1), ROW(246:246))),\"\")","v":"HI7____MD_H_N"},"","",null,"HI7____MD_H_N","","HI7MDHN","HI7____MD_H_N",1,"______"]
[null,null,null,null,null,null,null,null,null,null,null,null,null,null,null,null,null,null,null,null,null,{"$f":"IFERROR(INDEX(MissingData, SMALL(IF(ISBLANK(MissingData)+ISERROR(MissingData)+LEN(MissingData)=0, \"\", ROW(MissingData)-MIN(ROW(MissingData))+1), ROW(247:247))),\"\")","v":"HI7____MD_REC10YOTHLOC_N"},"","",null,"HI7____MD_REC10YOTHLOC_N","","HI7MDREC10YOTHLOCN","HI7____MD_REC10YOTHLOC_N",1,"______"]
[null,null,null,null,null,null,null,null,null,null,null,null,null,null,null,null,null,null,null,null,null,{"$f":"IFERROR(INDEX(MissingData, SMALL(IF(ISBLANK(MissingData)+ISERROR(MissingData)+LEN(MissingData)=0, \"\", ROW(MissingData)-MIN(ROW(MissingData))+1), ROW(248:248))),\"\")","v":"HI7____MD_SC_N"},"","",null,"HI7____MD_SC_N","","HI7MDSCN","HI7____MD_SC_N",1,"______"]
[null,null,null,null,null,null,null,null,null,null,null,null,null,null,null,null,null,null,null,null,null,{"$f":"IFERROR(INDEX(MissingData, SMALL(IF(ISBLANK(MissingData)+ISERROR(MissingData)+LEN(MissingData)=0, \"\", ROW(MissingData)-MIN(ROW(MissingData))+1), ROW(249:249))),\"\")","v":"HI7____MD_SS_N"},"","",null,"HI7____MD_SS_N","","HI7MDSSN","HI7____MD_SS_N",1,"______"]
[null,null,null,null,null,null,null,null,null,null,null,null,null,null,null,null,null,null,null,null,null,{"$f":"IFERROR(INDEX(MissingData, SMALL(IF(ISBLANK(MissingData)+ISERROR(MissingData)+LEN(MissingData)=0, \"\", ROW(MissingData)-MIN(ROW(MissingData))+1), ROW(250:250))),\"\")","v":"HI7____ID_REC10YOTHLOC_N"},"","",null,"HI7____ID_REC10YOTHLOC_N","","HI7IDREC10YOTHLOCN","HI7____ID_REC10YOTHLOC_N",1,"______"]
[null,null,null,null,null,null,null,null,null,null,null,null,null,null,null,null,null,null,null,null,null,{"$f":"IFERROR(INDEX(MissingData, SMALL(IF(ISBLANK(MissingData)+ISERROR(MissingData)+LEN(MissingData)=0, \"\", ROW(MissingData)-MIN(ROW(MissingData))+1), ROW(251:251))),\"\")","v":"HI7____ID_SC_N"},"","",null,"HI7____ID_SC_N","","HI7IDSCN","HI7____ID_SC_N",1,"______"]
[null,null,null,null,null,null,null,null,null,null,null,null,null,null,null,null,null,null,null,null,null,{"$f":"IFERROR(INDEX(MissingData, SMALL(IF(ISBLANK(MissingData)+ISERROR(MissingData)+LEN(MissingData)=0, \"\", ROW(MissingData)-MIN(ROW(MissingData))+1), ROW(252:252))),\"\")","v":"HI7____OHI_H_N"},"","",null,"HI7____OHI_H_N","","HI7OHIHN","HI7____OHI_H_N",1,"______"]
[null,null,null,null,null,null,null,null,null,null,null,null,null,null,null,null,null,null,null,null,null,{"$f":"IFERROR(INDEX(MissingData, SMALL(IF(ISBLANK(MissingData)+ISERROR(MissingData)+LEN(MissingData)=0, \"\", ROW(MissingData)-MIN(ROW(MissingData))+1), ROW(253:253))),\"\")","v":"HI7____OHI_REC10YOTHLOC_N"},"","",null,"HI7____OHI_REC10YOTHLOC_N","","HI7OHIREC10YOTHLOCN","HI7____OHI_REC10YOTHLOC_N",1,"______"]
[null,null,null,null,null,null,null,null,null,null,null,null,null,null,null,null,null,null,null,null,null,{"$f":"IFERROR(INDEX(MissingData, SMALL(IF(ISBLANK(MissingData)+ISERROR(MissingData)+LEN(MissingData)=0, \"\", ROW(MissingData)-MIN(ROW(MissingData))+1), ROW(254:254))),\"\")","v":"HI7____OHI_REC10YSVCS_N"},"","",null,"HI7____OHI_REC10YSVCS_N","","HI7OHIREC10YSVCSN","HI7____OHI_REC10YSVCS_N",1,"______"]
[null,null,null,null,null,null,null,null,null,null,null,null,null,null,null,null,null,null,null,null,null,{"$f":"IFERROR(INDEX(MissingData, SMALL(IF(ISBLANK(MissingData)+ISERROR(MissingData)+LEN(MissingData)=0, \"\", ROW(MissingData)-MIN(ROW(MissingData))+1), ROW(255:255))),\"\")","v":"HI7____OHI_SC_N"},"","",null,"HI7____OHI_SC_N","","HI7OHISCN","HI7____OHI_SC_N",1,"______"]
[null,null,null,null,null,null,null,null,null,null,null,null,null,null,null,null,null,null,null,null,null,{"$f":"IFERROR(INDEX(MissingData, SMALL(IF(ISBLANK(MissingData)+ISERROR(MissingData)+LEN(MissingData)=0, \"\", ROW(MissingData)-MIN(ROW(MissingData))+1), ROW(256:256))),\"\")","v":"HI7____OI_REC10YOTHLOC_N"},"","",null,"HI7____OI_REC10YOTHLOC_N","","HI7OIREC10YOTHLOCN","HI7____OI_REC10YOTHLOC_N",1,"______"]
[null,null,null,null,null,null,null,null,null,null,null,null,null,null,null,null,null,null,null,null,null,{"$f":"IFERROR(INDEX(MissingData, SMALL(IF(ISBLANK(MissingData)+ISERROR(MissingData)+LEN(MissingData)=0, \"\", ROW(MissingData)-MIN(ROW(MissingData))+1), ROW(257:257))),\"\")","v":"HI7____OI_REC10YSVCS_N"},"","",null,"HI7____OI_REC10YSVCS_N","","HI7OIREC10YSVCSN","HI7____OI_REC10YSVCS_N",1,"______"]
[null,null,null,null,null,null,null,null,null,null,null,null,null,null,null,null,null,null,null,null,null,{"$f":"IFERROR(INDEX(MissingData, SMALL(IF(ISBLANK(MissingData)+ISERROR(MissingData)+LEN(MissingData)=0, \"\", ROW(MissingData)-MIN(ROW(MissingData))+1), ROW(258:258))),\"\")","v":"HI7____OI_SC_N"},"","",null,"HI7____OI_SC_N","","HI7OISCN","HI7____OI_SC_N",1,"______"]
[null,null,null,null,null,null,null,null,null,null,null,null,null,null,null,null,null,null,null,null,null,{"$f":"IFERROR(INDEX(MissingData, SMALL(IF(ISBLANK(MissingData)+ISERROR(MissingData)+LEN(MissingData)=0, \"\", ROW(MissingData)-MIN(ROW(MissingData))+1), ROW(259:259))),\"\")","v":"HI7____OI_SS_N"},{"$f":"IF(LEN(AA272)=0,\"\",IF(COUNTIF(CurrentListing_C089,AA272)>1,AE272,\"\"))","v":""},{"$f":"IF(LEN(AA272)=0,\"\",IF(ISNA(MATCH(AA272,MasterListing,0)),AE272,\"\"))","v":""},null,{"$f":"IF(LEN(AC272)=0,\"\",IF(ISNA(MATCH(AB272,CurrentListing_C089,0)),AC272,\"\"))","v":"HI7____OI_SS_N"},{"$f":"G272&H272&I272&J272&K272&Q272&R272","v":""},"HI7OISSN","HI7____OI_SS_N",{"$f":"IF(LEN(V272)>0,1,0)","v":1},{"$f":"G272&\"_\"&H272&\"_\"&I272&\"_\"&J272&\"_\"&K272&\"_\"&Q272&\"_\"&R272","v":"______"}]
[null,null,null,null,null,null,null,null,null,null,null,null,null,null,null,null,null,null,null,null,null,{"$f":"IFERROR(INDEX(MissingData, SMALL(IF(ISBLANK(MissingData)+ISERROR(MissingData)+LEN(MissingData)=0, \"\", ROW(MissingData)-MIN(ROW(MissingData))+1), ROW(260:260))),\"\")","v":"HI7____SLI_REC10YOTHLOC_N"},"","",null,"HI7____SLI_REC10YOTHLOC_N","","HI7SLIREC10YOTHLOCN","HI7____SLI_REC10YOTHLOC_N",1,"______"]
[null,null,null,null,null,null,null,null,null,null,null,null,null,null,null,null,null,null,null,null,null,{"$f":"IFERROR(INDEX(MissingData, SMALL(IF(ISBLANK(MissingData)+ISERROR(MissingData)+LEN(MissingData)=0, \"\", ROW(MissingData)-MIN(ROW(MissingData))+1), ROW(261:261))),\"\")","v":"HI7____SLI_REC10YSVCS_N"},"","",null,"HI7____SLI_REC10YSVCS_N","","HI7SLIREC10YSVCSN","HI7____SLI_REC10YSVCS_N",1,"______"]
[null,null,null,null,null,null,null,null,null,null,null,null,null,null,null,null,null,null,null,null,null,{"$f":"IFERROR(INDEX(MissingData, SMALL(IF(ISBLANK(MissingData)+ISERROR(MissingData)+LEN(MissingData)=0, \"\", ROW(MissingData)-MIN(ROW(MissingData))+1), ROW(262:262))),\"\")","v":"HI7____SLI_SC_N"},"","",null,"HI7____SLI_SC_N","","HI7SLISCN","HI7____SLI_SC_N",1,"______"]
[null,null,null,null,null,null,null,null,null,null,null,null,null,null,null,null,null,null,null,null,null,{"$f":"IFERROR(INDEX(MissingData, SMALL(IF(ISBLANK(MissingData)+ISERROR(MissingData)+LEN(MissingData)=0, \"\", ROW(MissingData)-MIN(ROW(MissingData))+1), ROW(263:263))),\"\")","v":"HI7____SLI_SPL_N"},"","",null,"HI7____SLI_SPL_N","","HI7SLISPLN","HI7____SLI_SPL_N",1,"______"]
[null,null,null,null,null,null,null,null,null,null,null,null,null,null,null,null,null,null,null,null,null,{"$f":"IFERROR(INDEX(MissingData, SMALL(IF(ISBLANK(MissingData)+ISERROR(MissingData)+LEN(MissingData)=0, \"\", ROW(MissingData)-MIN(ROW(MissingData))+1), ROW(264:264))),\"\")","v":"HI7____SLI_SS_N"},"","",null,"HI7____SLI_SS_N","","HI7SLISSN","HI7____SLI_SS_N",1,"______"]
[null,null,null,null,null,null,null,null,null,null,null,null,null,null,null,null,null,null,null,null,null,{"$f":"IFERROR(INDEX(MissingData, SMALL(IF(ISBLANK(MissingData)+ISERROR(MissingData)+LEN(MissingData)=0, \"\", ROW(MissingData)-MIN(ROW(MissingData))+1), ROW(265:265))),\"\")","v":"HI7____TBI_REC10YOTHLOC_N"},"","",null,"HI7____TBI_REC10YOTHLOC_N","","HI7TBIREC10YOTHLOCN","HI7____TBI_REC10YOTHLOC_N",1,"______"]
[null,null,null,null,null,null,null,null,null,null,null,null,null,null,null,null,null,null,null,null,null,{"$f":"IFERROR(INDEX(MissingData, SMALL(IF(ISBLANK(MissingData)+ISERROR(MissingData)+LEN(MissingData)=0, \"\", ROW(MissingData)-MIN(ROW(MissingData))+1), ROW(266:266))),\"\")","v":"HI7____VI_SC_N"},"","",null,"HI7____VI_SC_N","","HI7VISCN","HI7____VI_SC_N",1,"______"]
[null,null,null,null,null,null,null,null,null,null,null,null,null,null,null,null,null,null,null,null,null,{"$f":"IFERROR(INDEX(MissingData, SMALL(IF(ISBLANK(MissingData)+ISERROR(MissingData)+LEN(MissingData)=0, \"\", ROW(MissingData)-MIN(ROW(MissingData))+1), ROW(267:267))),\"\")","v":"HI7____VI_SS_N"},"","",null,"HI7____VI_SS_N","","HI7VISSN","HI7____VI_SS_N",1,"______"]
[null,null,null,null,null,null,null,null,null,null,null,null,null,null,null,null,null,null,null,null,null,{"$f":"IFERROR(INDEX(MissingData, SMALL(IF(ISBLANK(MissingData)+ISERROR(MissingData)+LEN(MissingData)=0, \"\", ROW(MissingData)-MIN(ROW(MissingData))+1), ROW(268:268))),\"\")","v":"MU7____AUT_REC10YOTHLOC_N"},"","",null,"MU7____AUT_REC10YOTHLOC_N","","MU7AUTREC10YOTHLOCN","MU7____AUT_REC10YOTHLOC_N",1,"______"]
[null,null,null,null,null,null,null,null,null,null,null,null,null,null,null,null,null,null,null,null,null,{"$f":"IFERROR(INDEX(MissingData, SMALL(IF(ISBLANK(MissingData)+ISERROR(MissingData)+LEN(MissingData)=0, \"\", ROW(MissingData)-MIN(ROW(MissingData))+1), ROW(269:269))),\"\")","v":"MU7____AUT_REC10YSVCS_N"},"","",null,"MU7____AUT_REC10YSVCS_N","","MU7AUTREC10YSVCSN","MU7____AUT_REC10YSVCS_N",1,"______"]
[null,null,null,null,null,null,null,null,null,null,null,null,null,null,null,null,null,null,null,null,null,{"$f":"IFERROR(INDEX(MissingData, SMALL(IF(ISBLANK(MissingData)+ISERROR(MissingData)+LEN(MissingData)=0, \"\", ROW(MissingData)-MIN(ROW(MissingData))+1), ROW(270:270))),\"\")","v":"MU7____AUT_SC_N"},"","",null,"MU7____AUT_SC_N","","MU7AUTSCN","MU7____AUT_SC_N",1,"______"]
[null,null,null,null,null,null,null,null,null,null,null,null,null,null,null,null,null,null,null,null,null,{"$f":"IFERROR(INDEX(MissingData, SMALL(IF(ISBLANK(MissingData)+ISERROR(MissingData)+LEN(MissingData)=0, \"\", ROW(MissingData)-MIN(ROW(MissingData))+1), ROW(271:271))),\"\")","v":"MU7____AUT_SS_N"},"","",null,"MU7____AUT_SS_N","","MU7AUTSSN","MU7____AUT_SS_N",1,"______"]
[null,null,null,null,null,null,null,null,null,null,null,null,null,null,null,null,null,null,null,null,null,{"$f":"IFERROR(INDEX(MissingData, SMALL(IF(ISBLANK(MissingData)+ISERROR(MissingData)+LEN(MissingData)=0, \"\", ROW(MissingData)-MIN(ROW(MissingData))+1), ROW(272:272))),\"\")","v":"MU7____DD_REC10YOTHLOC_N"},"","",null,"MU7____DD_REC10YOTHLOC_N","","MU7DDREC10YOTHLOCN","MU7____DD_REC10YOTHLOC_N",1,"______"]
[null,null,null,null,null,null,null,null,null,null,null,null,null,null,null,null,null,null,null,null,null,{"$f":"IFERROR(INDEX(MissingData, SMALL(IF(ISBLANK(MissingData)+ISERROR(MissingData)+LEN(MissingData)=0, \"\", ROW(MissingData)-MIN(ROW(MissingData))+1), ROW(273:273))),\"\")","v":"MU7____DD_REC10YSVCS_N"},"","",null,"MU7____DD_REC10YSVCS_N","","MU7DDREC10YSVCSN","MU7____DD_REC10YSVCS_N",1,"______"]
[null,null,null,null,null,null,null,null,null,null,null,null,null,null,null,null,null,null,null,null,null,{"$f":"IFERROR(INDEX(MissingData, SMALL(IF(ISBLANK(MissingData)+ISERROR(MissingData)+LEN(MissingData)=0, \"\", ROW(MissingData)-MIN(ROW(MissingData))+1), ROW(274:274))),\"\")","v":"MU7____DD_SC_N"},"","",null,"MU7____DD_SC_N","","MU7DDSCN","MU7____DD_SC_N",1,"______"]
[null,null,null,null,null,null,null,null,null,null,null,null,null,null,null,null,null,null,null,null,null,{"$f":"IFERROR(INDEX(MissingData, SMALL(IF(ISBLANK(MissingData)+ISERROR(MissingData)+LEN(MissingData)=0, \"\", ROW(MissingData)-MIN(ROW(MissingData))+1), ROW(275:275))),\"\")","v":"MU7____DD_SS_N"},"","",null,"MU7____DD_SS_N","","MU7DDSSN","MU7____DD_SS_N",1,"______"]
[null,null,null,null,null,null,null,null,null,null,null,null,null,null,null,null,null,null,null,null,null,{"$f":"IFERROR(INDEX(MissingData, SMALL(IF(ISBLANK(MissingData)+ISERROR(MissingData)+LEN(MissingData)=0, \"\", ROW(MissingData)-MIN(ROW(MissingData))+1), ROW(276:276))),\"\")","v":"MU7____HI_REC10YOTHLOC_N"},"","",null,"MU7____HI_REC10YOTHLOC_N","","MU7HIREC10YOTHLOCN","MU7____HI_REC10YOTHLOC_N",1,"______"]
[null,null,null,null,null,null,null,null,null,null,null,null,null,null,null,null,null,null,null,null,null,{"$f":"IFERROR(INDEX(MissingData, SMALL(IF(ISBLANK(MissingData)+ISERROR(MissingData)+LEN(MissingData)=0, \"\", ROW(MissingData)-MIN(ROW(MissingData))+1), ROW(277:277))),\"\")","v":"MU7____HI_REC10YSVCS_N"},"","",null,"MU7____HI_REC10YSVCS_N","","MU7HIREC10YSVCSN","MU7____HI_REC10YSVCS_N",1,"______"]
[null,null,null,null,null,null,null,null,null,null,null,null,null,null,null,null,null,null,null,null,null,{"$f":"IFERROR(INDEX(MissingData, SMALL(IF(ISBLANK(MissingData)+ISERROR(MissingData)+LEN(MissingData)=0, \"\", ROW(MissingData)-MIN(ROW(MissingData))+1), ROW(278:278))),\"\")","v":"MU7____MD_REC10YOTHLOC_N"},"","",null,"MU7____MD_REC10YOTHLOC_N","","MU7MDREC10YOTHLOCN","MU7____MD_REC10YOTHLOC_N",1,"______"]
[null,null,null,null,null,null,null,null,null,null,null,null,null,null,null,null,null,null,null,null,null,{"$f":"IFERROR(INDEX(MissingData, SMALL(IF(ISBLANK(MissingData)+ISERROR(MissingData)+LEN(MissingData)=0, \"\", ROW(MissingData)-MIN(ROW(MissingData))+1), ROW(279:279))),\"\")","v":"MU7____MD_SC_N"},"","",null,"MU7____MD_SC_N","","MU7MDSCN","MU7____MD_SC_N",1,"______"]
[null,null,null,null,null,null,null,null,null,null,null,null,null,null,null,null,null,null,null,null,null,{"$f":"IFERROR(INDEX(MissingData, SMALL(IF(ISBLANK(MissingData)+ISERROR(MissingData)+LEN(MissingData)=0, \"\", ROW(MissingData)-MIN(ROW(MissingData))+1), ROW(280:280))),\"\")","v":"MU7____ID_SC_N"},"","",null,"MU7____ID_SC_N","","MU7IDSCN","MU7____ID_SC_N",1,"______"]
[null,null,null,null,null,null,null,null,null,null,null,null,null,null,null,null,null,null,null,null,null,{"$f":"IFERROR(INDEX(MissingData, SMALL(IF(ISBLANK(MissingData)+ISERROR(MissingData)+LEN(MissingData)=0, \"\", ROW(MissingData)-MIN(ROW(MissingData))+1), ROW(281:281))),\"\")","v":"MU7____OHI_REC10YOTHLOC_N"},"","",null,"MU7____OHI_REC10YOTHLOC_N","","MU7OHIREC10YOTHLOCN","MU7____OHI_REC10YOTHLOC_N",1,"______"]
[null,null,null,null,null,null,null,null,null,null,null,null,null,null,null,null,null,null,null,null,null,{"$f":"IFERROR(INDEX(MissingData, SMALL(IF(ISBLANK(MissingData)+ISERROR(MissingData)+LEN(MissingData)=0, \"\", ROW(MissingData)-MIN(ROW(MissingData))+1), ROW(282:282))),\"\")","v":"MU7____OI_REC10YOTHLOC_N"},"","",null,"MU7____OI_REC10YOTHLOC_N","","MU7OIREC10YOTHLOCN","MU7____OI_REC10YOTHLOC_N",1,"______"]
[null,null,null,null,null,null,null,null,null,null,null,null,null,null,null,null,null,null,null,null,null,{"$f":"IFERROR(INDEX(MissingData, SMALL(IF(ISBLANK(MissingData)+ISERROR(MissingData)+LEN(MissingData)=0, \"\", ROW(MissingData)-MIN(ROW(MissingData))+1), ROW(283:283))),\"\")","v":"MU7____OI_REC10YSVCS_N"},"","",null,"MU7____OI_REC10YSVCS_N","","MU7OIREC10YSVCSN","MU7____OI_REC10YSVCS_N",1,"______"]
[null,null,null,null,null,null,null,null,null,null,null,null,null,null,null,null,null,null,null,null,null,{"$f":"IFERROR(INDEX(MissingData, SMALL(IF(ISBLANK(MissingData)+ISERROR(MissingData)+LEN(MissingData)=0, \"\", ROW(MissingData)-MIN(ROW(MissingData))+1), ROW(284:284))),\"\")","v":"MU7____SLI_REC10YOTHLOC_N"},"","",null,"MU7____SLI_REC10YOTHLOC_N","","MU7SLIREC10YOTHLOCN","MU7____SLI_REC10YOTHLOC_N",1,"______"]
[null,null,null,null,null,null,null,null,null,null,null,null,null,null,null,null,null,null,null,null,null,{"$f":"IFERROR(INDEX(MissingData, SMALL(IF(ISBLANK(MissingData)+ISERROR(MissingData)+LEN(MissingData)=0, \"\", ROW(MissingData)-MIN(ROW(MissingData))+1), ROW(285:285))),\"\")","v":"MU7____SLI_REC10YSVCS_N"},"","",null,"MU7____SLI_REC10YSVCS_N","","MU7SLIREC10YSVCSN","MU7____SLI_REC10YSVCS_N",1,"______"]
[null,null,null,null,null,null,null,null,null,null,null,null,null,null,null,null,null,null,null,null,null,{"$f":"IFERROR(INDEX(MissingData, SMALL(IF(ISBLANK(MissingData)+ISERROR(MissingData)+LEN(MissingData)=0, \"\", ROW(MissingData)-MIN(ROW(MissingData))+1), ROW(286:286))),\"\")","v":"MU7____SLI_SC_N"},"","",null,"MU7____SLI_SC_N","","MU7SLISCN","MU7____SLI_SC_N",1,"______"]
[null,null,null,null,null,null,null,null,null,null,null,null,null,null,null,null,null,null,null,null,null,{"$f":"IFERROR(INDEX(MissingData, SMALL(IF(ISBLANK(MissingData)+ISERROR(MissingData)+LEN(MissingData)=0, \"\", ROW(MissingData)-MIN(ROW(MissingData))+1), ROW(287:287))),\"\")","v":"MU7____SLI_SPL_N"},"","",null,"MU7____SLI_SPL_N","","MU7SLISPLN","MU7____SLI_SPL_N",1,"______"]
[null,null,null,null,null,null,null,null,null,null,null,null,null,null,null,null,null,null,null,null,null,{"$f":"IFERROR(INDEX(MissingData, SMALL(IF(ISBLANK(MissingData)+ISERROR(MissingData)+LEN(MissingData)=0, \"\", ROW(MissingData)-MIN(ROW(MissingData))+1), ROW(288:288))),\"\")","v":"MU7____VI_REC10YOTHLOC_N"},"","",null,"MU7____VI_REC10YOTHLOC_N","","MU7VIREC10YOTHLOCN","MU7____VI_REC10YOTHLOC_N",1,"______"]
[null,null,null,null,null,null,null,null,null,null,null,null,null,null,null,null,null,null,null,null,null,{"$f":"IFERROR(INDEX(MissingData, SMALL(IF(ISBLANK(MissingData)+ISERROR(MissingData)+LEN(MissingData)=0, \"\", ROW(MissingData)-MIN(ROW(MissingData))+1), ROW(289:289))),\"\")","v":"MU7____VI_REC10YSVCS_N"},"","",null,"MU7____VI_REC10YSVCS_N","","MU7VIREC10YSVCSN","MU7____VI_REC10YSVCS_N",1,"______"]
[null,null,null,null,null,null,null,null,null,null,null,null,null,null,null,null,null,null,null,null,null,{"$f":"IFERROR(INDEX(MissingData, SMALL(IF(ISBLANK(MissingData)+ISERROR(MissingData)+LEN(MissingData)=0, \"\", ROW(MissingData)-MIN(ROW(MissingData))+1), ROW(290:290))),\"\")","v":"PI7____AUT_REC10YOTHLOC_N"},"","",null,"PI7____AUT_REC10YOTHLOC_N","","PI7AUTREC10YOTHLOCN","PI7____AUT_REC10YOTHLOC_N",1,"______"]
[null,null,null,null,null,null,null,null,null,null,null,null,null,null,null,null,null,null,null,null,null,{"$f":"IFERROR(INDEX(MissingData, SMALL(IF(ISBLANK(MissingData)+ISERROR(MissingData)+LEN(MissingData)=0, \"\", ROW(MissingData)-MIN(ROW(MissingData))+1), ROW(291:291))),\"\")","v":"PI7____AUT_SC_N"},"","",null,"PI7____AUT_SC_N","","PI7AUTSCN","PI7____AUT_SC_N",1,"______"]
[null,null,null,null,null,null,null,null,null,null,null,null,null,null,null,null,null,null,null,null,null,{"$f":"IFERROR(INDEX(MissingData, SMALL(IF(ISBLANK(MissingData)+ISERROR(MissingData)+LEN(MissingData)=0, \"\", ROW(MissingData)-MIN(ROW(MissingData))+1), ROW(292:292))),\"\")","v":"PI7____DD_REC10YOTHLOC_N"},"","",null,"PI7____DD_REC10YOTHLOC_N","","PI7DDREC10YOTHLOCN","PI7____DD_REC10YOTHLOC_N",1,"______"]
[null,null,null,null,null,null,null,null,null,null,null,null,null,null,null,null,null,null,null,null,null,{"$f":"IFERROR(INDEX(MissingData, SMALL(IF(ISBLANK(MissingData)+ISERROR(MissingData)+LEN(MissingData)=0, \"\", ROW(MissingData)-MIN(ROW(MissingData))+1), ROW(293:293))),\"\")","v":"PI7____SLI_REC10YOTHLOC_N"},"","",null,"PI7____SLI_REC10YOTHLOC_N","","PI7SLIREC10YOTHLOCN","PI7____SLI_REC10YOTHLOC_N",1,"______"]
[null,null,null,null,null,null,null,null,null,null,null,null,null,null,null,null,null,null,null,null,null,{"$f":"IFERROR(INDEX(MissingData, SMALL(IF(ISBLANK(MissingData)+ISERROR(MissingData)+LEN(MissingData)=0, \"\", ROW(MissingData)-MIN(ROW(MissingData))+1), ROW(294:294))),\"\")","v":"WH7____AUT_H_N"},"","",null,"WH7____AUT_H_N","","WH7AUTHN","WH7____AUT_H_N",1,"______"]
[null,null,null,null,null,null,null,null,null,null,null,null,null,null,null,null,null,null,null,null,null,{"$f":"IFERROR(INDEX(MissingData, SMALL(IF(ISBLANK(MissingData)+ISERROR(MissingData)+LEN(MissingData)=0, \"\", ROW(MissingData)-MIN(ROW(MissingData))+1), ROW(295:295))),\"\")","v":"WH7____AUT_REC09YOTHLOC_N"},"","",null,"WH7____AUT_REC09YOTHLOC_N","","WH7AUTREC09YOTHLOCN","WH7____AUT_REC09YOTHLOC_N",1,"______"]
[null,null,null,null,null,null,null,null,null,null,null,null,null,null,null,null,null,null,null,null,null,{"$f":"IFERROR(INDEX(MissingData, SMALL(IF(ISBLANK(MissingData)+ISERROR(MissingData)+LEN(MissingData)=0, \"\", ROW(MissingData)-MIN(ROW(MissingData))+1), ROW(296:296))),\"\")","v":"WH7____AUT_REC10YOTHLOC_N"},"","",null,"WH7____AUT_REC10YOTHLOC_N","","WH7AUTREC10YOTHLOCN","WH7____AUT_REC10YOTHLOC_N",1,"______"]
[null,null,null,null,null,null,null,null,null,null,null,null,null,null,null,null,null,null,null,null,null,{"$f":"IFERROR(INDEX(MissingData, SMALL(IF(ISBLANK(MissingData)+ISERROR(MissingData)+LEN(MissingData)=0, \"\", ROW(MissingData)-MIN(ROW(MissingData))+1), ROW(297:297))),\"\")","v":"WH7____AUT_REC10YSVCS_N"},"","",null,"WH7____AUT_REC10YSVCS_N","","WH7AUTREC10YSVCSN","WH7____AUT_REC10YSVCS_N",1,"______"]
[null,null,null,null,null,null,null,null,null,null,null,null,null,null,null,null,null,null,null,null,null,{"$f":"IFERROR(INDEX(MissingData, SMALL(IF(ISBLANK(MissingData)+ISERROR(MissingData)+LEN(MissingData)=0, \"\", ROW(MissingData)-MIN(ROW(MissingData))+1), ROW(298:298))),\"\")","v":"WH7____AUT_SC_N"},"","",null,"WH7____AUT_SC_N","","WH7AUTSCN","WH7____AUT_SC_N",1,"______"]
[null,null,null,null,null,null,null,null,null,null,null,null,null,null,null,null,null,null,null,null,null,{"$f":"IFERROR(INDEX(MissingData, SMALL(IF(ISBLANK(MissingData)+ISERROR(MissingData)+LEN(MissingData)=0, \"\", ROW(MissingData)-MIN(ROW(MissingData))+1), ROW(299:299))),\"\")","v":"WH7____AUT_SPL_N"},"","",null,"WH7____AUT_SPL_N","","WH7AUTSPLN","WH7____AUT_SPL_N",1,"______"]
[null,null,null,null,null,null,null,null,null,null,null,null,null,null,null,null,null,null,null,null,null,{"$f":"IFERROR(INDEX(MissingData, SMALL(IF(ISBLANK(MissingData)+ISERROR(MissingData)+LEN(MissingData)=0, \"\", ROW(MissingData)-MIN(ROW(MissingData))+1), ROW(300:300))),\"\")","v":"WH7____AUT_SS_N"},"","",null,"WH7____AUT_SS_N","","WH7AUTSSN","WH7____AUT_SS_N",1,"______"]
[null,null,null,null,null,null,null,null,null,null,null,null,null,null,null,null,null,null,null,null,null,{"$f":"IFERROR(INDEX(MissingData, SMALL(IF(ISBLANK(MissingData)+ISERROR(MissingData)+LEN(MissingData)=0, \"\", ROW(MissingData)-MIN(ROW(MissingData))+1), ROW(301:301))),\"\")","v":"WH7____DB_H_N"},"","",null,"WH7____DB_H_N","","WH7DBHN","WH7____DB_H_N",1,"______"]
[null,null,null,null,null,null,null,null,null,null,null,null,null,null,null,null,null,null,null,null,null,{"$f":"IFERROR(INDEX(MissingData, SMALL(IF(ISBLANK(MissingData)+ISERROR(MissingData)+LEN(MissingData)=0, \"\", ROW(MissingData)-MIN(ROW(MissingData))+1), ROW(302:302))),\"\")","v":"WH7____DB_REC10YOTHLOC_N"},"","",null,"WH7____DB_REC10YOTHLOC_N","","WH7DBREC10YOTHLOCN","WH7____DB_REC10YOTHLOC_N",1,"______"]
[null,null,null,null,null,null,null,null,null,null,null,null,null,null,null,null,null,null,null,null,null,{"$f":"IFERROR(INDEX(MissingData, SMALL(IF(ISBLANK(MissingData)+ISERROR(MissingData)+LEN(MissingData)=0, \"\", ROW(MissingData)-MIN(ROW(MissingData))+1), ROW(303:303))),\"\")","v":"WH7____DB_SC_N"},"","",null,"WH7____DB_SC_N","","WH7DBSCN","WH7____DB_SC_N",1,"______"]
[null,null,null,null,null,null,null,null,null,null,null,null,null,null,null,null,null,null,null,null,null,{"$f":"IFERROR(INDEX(MissingData, SMALL(IF(ISBLANK(MissingData)+ISERROR(MissingData)+LEN(MissingData)=0, \"\", ROW(MissingData)-MIN(ROW(MissingData))+1), ROW(304:304))),\"\")","v":"WH7____DD_H_N"},"","",null,"WH7____DD_H_N","","WH7DDHN","WH7____DD_H_N",1,"______"]
[null,null,null,null,null,null,null,null,null,null,null,null,null,null,null,null,null,null,null,null,null,{"$f":"IFERROR(INDEX(MissingData, SMALL(IF(ISBLANK(MissingData)+ISERROR(MissingData)+LEN(MissingData)=0, \"\", ROW(MissingData)-MIN(ROW(MissingData))+1), ROW(305:305))),\"\")","v":"WH7____DD_REC09YOTHLOC_N"},"","",null,"WH7____DD_REC09YOTHLOC_N","","WH7DDREC09YOTHLOCN","WH7____DD_REC09YOTHLOC_N",1,"______"]
[null,null,null,null,null,null,null,null,null,null,null,null,null,null,null,null,null,null,null,null,null,{"$f":"IFERROR(INDEX(MissingData, SMALL(IF(ISBLANK(MissingData)+ISERROR(MissingData)+LEN(MissingData)=0, \"\", ROW(MissingData)-MIN(ROW(MissingData))+1), ROW(306:306))),\"\")","v":"WH7____DD_REC10YOTHLOC_N"},"","",null,"WH7____DD_REC10YOTHLOC_N","","WH7DDREC10YOTHLOCN","WH7____DD_REC10YOTHLOC_N",1,"______"]
[null,null,null,null,null,null,null,null,null,null,null,null,null,null,null,null,null,null,null,null,null,{"$f":"IFERROR(INDEX(MissingData, SMALL(IF(ISBLANK(MissingData)+ISERROR(MissingData)+LEN(MissingData)=0, \"\", ROW(MissingData)-MIN(ROW(MissingData))+1), ROW(307:307))),\"\")","v":"WH7____DD_REC10YSVCS_N"},"","",null,"WH7____DD_REC10YSVCS_N","","WH7DDREC10YSVCSN","WH7____DD_REC10YSVCS_N",1,"______"]
[null,null,null,null,null,null,null,null,null,null,null,null,null,null,null,null,null,null,null,null,null,{"$f":"IFERROR(INDEX(MissingData, SMALL(IF(ISBLANK(MissingData)+ISERROR(MissingData)+LEN(MissingData)=0, \"\", ROW(MissingData)-MIN(ROW(MissingData))+1), ROW(308:308))),\"\")","v":"WH7____DD_SC_N"},"","",null,"WH7____DD_SC_N","","WH7DDSCN","WH7____DD_SC_N",1,"______"]
[null,null,null,null,null,null,null,null,null,null,null,null,null,null,null,null,null,null,null,null,null,{"$f":"IFERROR(INDEX(MissingData, SMALL(IF(ISBLANK(MissingData)+ISERROR(MissingData)+LEN(MissingData)=0, \"\", ROW(MissingData)-MIN(ROW(MissingData))+1), ROW(309:309))),\"\")","v":"WH7____DD_SPL_N"},"","",null,"WH7____DD_SPL_N","","WH7DDSPLN","WH7____DD_SPL_N",1,"______"]
[null,null,null,null,null,null,null,null,null,null,null,null,null,null,null,null,null,null,null,null,null,{"$f":"IFERROR(INDEX(MissingData, SMALL(IF(ISBLANK(MissingData)+ISERROR(MissingData)+LEN(MissingData)=0, \"\", ROW(MissingData)-MIN(ROW(MissingData))+1), ROW(310:310))),\"\")","v":"WH7____DD_SS_N"},"","",null,"WH7____DD_SS_N","","WH7DDSSN","WH7____DD_SS_N",1,"______"]
[null,null,null,null,null,null,null,null,null,null,null,null,null,null,null,null,null,null,null,null,null,{"$f":"IFERROR(INDEX(MissingData, SMALL(IF(ISBLANK(MissingData)+ISERROR(MissingData)+LEN(MissingData)=0, \"\", ROW(MissingData)-MIN(ROW(MissingData))+1), ROW(311:311))),\"\")","v":"WH7____HI_REC10YOTHLOC_N"},"","",null,"WH7____HI_REC10YOTHLOC_N","","WH7HIREC10YOTHLOCN","WH7____HI_REC10YOTHLOC_N",1,"______"]
[null,null,null,null,null,null,null,null,null,null,null,null,null,null,null,null,null,null,null,null,null,{"$f":"IFERROR(INDEX(MissingData, SMALL(IF(ISBLANK(MissingData)+ISERROR(MissingData)+LEN(MissingData)=0, \"\", ROW(MissingData)-MIN(ROW(MissingData))+1), ROW(312:312))),\"\")","v":"WH7____HI_REC10YSVCS_N"},"","",null,"WH7____HI_REC10YSVCS_N","","WH7HIREC10YSVCSN","WH7____HI_REC10YSVCS_N",1,"______"]
[null,null,null,null,null,null,null,null,null,null,null,null,null,null,null,null,null,null,null,null,null,{"$f":"IFERROR(INDEX(MissingData, SMALL(IF(ISBLANK(MissingData)+ISERROR(MissingData)+LEN(MissingData)=0, \"\", ROW(MissingData)-MIN(ROW(MissingData))+1), ROW(313:313))),\"\")","v":"WH7____HI_SC_N"},"","",null,"WH7____HI_SC_N","","WH7HISCN","WH7____HI_SC_N",1,"______"]
[null,null,null,null,null,null,null,null,null,null,null,null,null,null,null,null,null,null,null,null,null,{"$f":"IFERROR(INDEX(MissingData, SMALL(IF(ISBLANK(MissingData)+ISERROR(MissingData)+LEN(MissingData)=0, \"\", ROW(MissingData)-MIN(ROW(MissingData))+1), ROW(314:314))),\"\")","v":"WH7____HI_SPL_N"},"","",null,"WH7____HI_SPL_N","","WH7HISPLN","WH7____HI_SPL_N",1,"______"]
[null,null,null,null,null,null,null,null,null,null,null,null,null,null,null,null,null,null,null,null,null,{"$f":"IFERROR(INDEX(MissingData, SMALL(IF(ISBLANK(MissingData)+ISERROR(MissingData)+LEN(MissingData)=0, \"\", ROW(MissingData)-MIN(ROW(MissingData))+1), ROW(315:315))),\"\")","v":"WH7____HI_SS_N"},"","",null,"WH7____HI_SS_N","","WH7HISSN","WH7____HI_SS_N",1,"______"]
[null,null,null,null,null,null,null,null,null,null,null,null,null,null,null,null,null,null,null,null,null,{"$f":"IFERROR(INDEX(MissingData, SMALL(IF(ISBLANK(MissingData)+ISERROR(MissingData)+LEN(MissingData)=0, \"\", ROW(MissingData)-MIN(ROW(MissingData))+1), ROW(316:316))),\"\")","v":"WH7____MD_H_N"},"","",null,"WH7____MD_H_N","","WH7MDHN","WH7____MD_H_N",1,"______"]
[null,null,null,null,null,null,null,null,null,null,null,null,null,null,null,null,null,null,null,null,null,{"$f":"IFERROR(INDEX(MissingData, SMALL(IF(ISBLANK(MissingData)+ISERROR(MissingData)+LEN(MissingData)=0, \"\", ROW(MissingData)-MIN(ROW(MissingData))+1), ROW(317:317))),\"\")","v":"WH7____MD_REC10YOTHLOC_N"},"","",null,"WH7____MD_REC10YOTHLOC_N","","WH7MDREC10YOTHLOCN","WH7____MD_REC10YOTHLOC_N",1,"______"]
[null,null,null,null,null,null,null,null,null,null,null,null,null,null,null,null,null,null,null,null,null,{"$f":"IFERROR(INDEX(MissingData, SMALL(IF(ISBLANK(MissingData)+ISERROR(MissingData)+LEN(MissingData)=0, \"\", ROW(MissingData)-MIN(ROW(MissingData))+1), ROW(318:318))),\"\")","v":"WH7____MD_REC10YSVCS_N"},"","",null,"WH7____MD_REC10YSVCS_N","","WH7MDREC10YSVCSN","WH7____MD_REC10YSVCS_N",1,"______"]
[null,null,null,null,null,null,null,null,null,null,null,null,null,null,null,null,null,null,null,null,null,{"$f":"IFERROR(INDEX(MissingData, SMALL(IF(ISBLANK(MissingData)+ISERROR(MissingData)+LEN(MissingData)=0, \"\", ROW(MissingData)-MIN(ROW(MissingData))+1), ROW(319:319))),\"\")","v":"WH7____MD_SC_N"},"","",null,"WH7____MD_SC_N","","WH7MDSCN","WH7____MD_SC_N",1,"______"]
[null,null,null,null,null,null,null,null,null,null,null,null,null,null,null,null,null,null,null,null,null,{"$f":"IFERROR(INDEX(MissingData, SMALL(IF(ISBLANK(MissingData)+ISERROR(MissingData)+LEN(MissingData)=0, \"\", ROW(MissingData)-MIN(ROW(MissingData))+1), ROW(320:320))),\"\")","v":"WH7____MD_SS_N"},"","",null,"WH7____MD_SS_N","","WH7MDSSN","WH7____MD_SS_N",1,"______"]
[null,null,null,null,null,null,null,null,null,null,null,null,null,null,null,null,null,null,null,null,null,{"$f":"IFERROR(INDEX(MissingData, SMALL(IF(ISBLANK(MissingData)+ISERROR(MissingData)+LEN(MissingData)=0, \"\", ROW(MissingData)-MIN(ROW(MissingData))+1), ROW(321:321))),\"\")","v":"WH7____ID_H_N"},"","",null,"WH7____ID_H_N","","WH7IDHN","WH7____ID_H_N",1,"______"]
[null,null,null,null,null,null,null,null,null,null,null,null,null,null,null,null,null,null,null,null,null,{"$f":"IFERROR(INDEX(MissingData, SMALL(IF(ISBLANK(MissingData)+ISERROR(MissingData)+LEN(MissingData)=0, \"\", ROW(MissingData)-MIN(ROW(MissingData))+1), ROW(322:322))),\"\")","v":"WH7____ID_REC10YOTHLOC_N"},"","",null,"WH7____ID_REC10YOTHLOC_N","","WH7IDREC10YOTHLOCN","WH7____ID_REC10YOTHLOC_N",1,"______"]
[null,null,null,null,null,null,null,null,null,null,null,null,null,null,null,null,null,null,null,null,null,{"$f":"IFERROR(INDEX(MissingData, SMALL(IF(ISBLANK(MissingData)+ISERROR(MissingData)+LEN(MissingData)=0, \"\", ROW(MissingData)-MIN(ROW(MissingData))+1), ROW(323:323))),\"\")","v":"WH7____ID_REC10YSVCS_N"},{"$f":"IF(LEN(AA336)=0,\"\",IF(COUNTIF(CurrentListing_C089,AA336)>1,AE336,\"\"))","v":""},{"$f":"IF(LEN(AA336)=0,\"\",IF(ISNA(MATCH(AA336,MasterListing,0)),AE336,\"\"))","v":""},null,{"$f":"IF(LEN(AC336)=0,\"\",IF(ISNA(MATCH(AB336,CurrentListing_C089,0)),AC336,\"\"))","v":"WH7____ID_REC10YSVCS_N"},{"$f":"G336&H336&I336&J336&K336&Q336&R336","v":""},"WH7IDREC10YSVCSN","WH7____ID_REC10YSVCS_N",{"$f":"IF(LEN(V336)>0,1,0)","v":1},{"$f":"G336&\"_\"&H336&\"_\"&I336&\"_\"&J336&\"_\"&K336&\"_\"&Q336&\"_\"&R336","v":"______"}]
[null,null,null,null,null,null,null,null,null,null,null,null,null,null,null,null,null,null,null,null,null,{"$f":"IFERROR(INDEX(MissingData, SMALL(IF(ISBLANK(MissingData)+ISERROR(MissingData)+LEN(MissingData)=0, \"\", ROW(MissingData)-MIN(ROW(MissingData))+1), ROW(324:324))),\"\")","v":"WH7____ID_SC_N"},"","",null,"WH7____ID_SC_N","","WH7IDSCN","WH7____ID_SC_N",1,"______"]
[null,null,null,null,null,null,null,null,null,null,null,null,null,null,null,null,null,null,null,null,null,{"$f":"IFERROR(INDEX(MissingData, SMALL(IF(ISBLANK(MissingData)+ISERROR(MissingData)+LEN(MissingData)=0, \"\", ROW(MissingData)-MIN(ROW(MissingData))+1), ROW(325:325))),\"\")","v":"WH7____ID_SPL_N"},"","",null,"WH7____ID_SPL_N","","WH7IDSPLN","WH7____ID_SPL_N",1,"______"]
[null,null,null,null,null,null,null,null,null,null,null,null,null,null,null,null,null,null,null,null,null,{"$f":"IFERROR(INDEX(MissingData, SMALL(IF(ISBLANK(MissingData)+ISERROR(MissingData)+LEN(MissingData)=0, \"\", ROW(MissingData)-MIN(ROW(MissingData))+1), ROW(326:326))),\"\")","v":"WH7____OHI_H_N"},"","",null,"WH7____OHI_H_N","","WH7OHIHN","WH7____OHI_H_N",1,"______"]
[null,null,null,null,null,null,null,null,null,null,null,null,null,null,null,null,null,null,null,null,null,{"$f":"IFERROR(INDEX(MissingData, SMALL(IF(ISBLANK(MissingData)+ISERROR(MissingData)+LEN(MissingData)=0, \"\", ROW(MissingData)-MIN(ROW(MissingData))+1), ROW(327:327))),\"\")","v":"WH7____OHI_REC10YOTHLOC_N"},"","",null,"WH7____OHI_REC10YOTHLOC_N","","WH7OHIREC10YOTHLOCN","WH7____OHI_REC10YOTHLOC_N",1,"______"]
[null,null,null,null,null,null,null,null,null,null,null,null,null,null,null,null,null,null,null,null,null,{"$f":"IFERROR(INDEX(MissingData, SMALL(IF(ISBLANK(MissingData)+ISERROR(MissingData)+LEN(MissingData)=0, \"\", ROW(MissingData)-MIN(ROW(MissingData))+1), ROW(328:328))),\"\")","v":"WH7____OHI_REC10YSVCS_N"},"","",null,"WH7____OHI_REC10YSVCS_N","","WH7OHIREC10YSVCSN","WH7____OHI_REC10YSVCS_N",1,"______"]
[null,null,null,null,null,null,null,null,null,null,null,null,null,null,null,null,null,null,null,null,null,{"$f":"IFERROR(INDEX(MissingData, SMALL(IF(ISBLANK(MissingData)+ISERROR(MissingData)+LEN(MissingData)=0, \"\", ROW(MissingData)-MIN(ROW(MissingData))+1), ROW(329:329))),\"\")","v":"WH7____OHI_SC_N"},"","",null,"WH7____OHI_SC_N","","WH7OHISCN","WH7____OHI_SC_N",1,"______"]
[null,null,null,null,null,null,null,null,null,null,null,null,null,null,null,null,null,null,null,null,null,{"$f":"IFERROR(INDEX(MissingData, SMALL(IF(ISBLANK(MissingData)+ISERROR(MissingData)+LEN(MissingData)=0, \"\", ROW(MissingData)-MIN(ROW(MissingData))+1), ROW(330:330))),\"\")","v":"WH7____OHI_SPL_N"},"","",null,"WH7____OHI_SPL_N","","WH7OHISPLN","WH7____OHI_SPL_N",1,"______"]
[null,null,null,null,null,null,null,null,null,null,null,null,null,null,null,null,null,null,null,null,null,{"$f":"IFERROR(INDEX(MissingData, SMALL(IF(ISBLANK(MissingData)+ISERROR(MissingData)+LEN(MissingData)=0, \"\", ROW(MissingData)-MIN(ROW(MissingData))+1), ROW(331:331))),\"\")","v":"WH7____OHI_SS_N"},"","",null,"WH7____OHI_SS_N","","WH7OHISSN","WH7____OHI_SS_N",1,"______"]
[null,null,null,null,null,null,null,null,null,null,null,null,null,null,null,null,null,null,null,null,null,{"$f":"IFERROR(INDEX(MissingData, SMALL(IF(ISBLANK(MissingData)+ISERROR(MissingData)+LEN(MissingData)=0, \"\", ROW(MissingData)-MIN(ROW(MissingData))+1), ROW(332:332))),\"\")","v":"WH7____OI_H_N"},"","",null,"WH7____OI_H_N","","WH7OIHN","WH7____OI_H_N",1,"______"]
[null,null,null,null,null,null,null,null,null,null,null,null,null,null,null,null,null,null,null,null,null,{"$f":"IFERROR(INDEX(MissingData, SMALL(IF(ISBLANK(MissingData)+ISERROR(MissingData)+LEN(MissingData)=0, \"\", ROW(MissingData)-MIN(ROW(MissingData))+1), ROW(333:333))),\"\")","v":"WH7____OI_REC10YOTHLOC_N"},"","",null,"WH7____OI_REC10YOTHLOC_N","","WH7OIREC10YOTHLOCN","WH7____OI_REC10YOTHLOC_N",1,"______"]
[null,null,null,null,null,null,null,null,null,null,null,null,null,null,null,null,null,null,null,null,null,{"$f":"IFERROR(INDEX(MissingData, SMALL(IF(ISBLANK(MissingData)+ISERROR(MissingData)+LEN(MissingData)=0, \"\", ROW(MissingData)-MIN(ROW(MissingData))+1), ROW(334:334))),\"\")","v":"WH7____OI_REC10YSVCS_N"},"","",null,"WH7____OI_REC10YSVCS_N","","WH7OIREC10YSVCSN","WH7____OI_REC10YSVCS_N",1,"______"]
[null,null,null,null,null,null,null,null,null,null,null,null,null,null,null,null,null,null,null,null,null,{"$f":"IFERROR(INDEX(MissingData, SMALL(IF(ISBLANK(MissingData)+ISERROR(MissingData)+LEN(MissingData)=0, \"\", ROW(MissingData)-MIN(ROW(MissingData))+1), ROW(335:335))),\"\")","v":"WH7____OI_SC_N"},"","",null,"WH7____OI_SC_N","","WH7OISCN","WH7____OI_SC_N",1,"______"]
[null,null,null,null,null,null,null,null,null,null,null,null,null,null,null,null,null,null,null,null,null,{"$f":"IFERROR(INDEX(MissingData, SMALL(IF(ISBLANK(MissingData)+ISERROR(MissingData)+LEN(MissingData)=0, \"\", ROW(MissingData)-MIN(ROW(MissingData))+1), ROW(336:336))),\"\")","v":"WH7____OI_SS_N"},"","",null,"WH7____OI_SS_N","","WH7OISSN","WH7____OI_SS_N",1,"______"]
[null,null,null,null,null,null,null,null,null,null,null,null,null,null,null,null,null,null,null,null,null,{"$f":"IFERROR(INDEX(MissingData, SMALL(IF(ISBLANK(MissingData)+ISERROR(MissingData)+LEN(MissingData)=0, \"\", ROW(MissingData)-MIN(ROW(MissingData))+1), ROW(337:337))),\"\")","v":"WH7____SLD_REC10YOTHLOC_N"},"","",null,"WH7____SLD_REC10YOTHLOC_N","","WH7SLDREC10YOTHLOCN","WH7____SLD_REC10YOTHLOC_N",1,"______"]
[null,null,null,null,null,null,null,null,null,null,null,null,null,null,null,null,null,null,null,null,null,{"$f":"IFERROR(INDEX(MissingData, SMALL(IF(ISBLANK(MissingData)+ISERROR(MissingData)+LEN(MissingData)=0, \"\", ROW(MissingData)-MIN(ROW(MissingData))+1), ROW(338:338))),\"\")","v":"WH7____SLI_H_N"},"","",null,"WH7____SLI_H_N","","WH7SLIHN","WH7____SLI_H_N",1,"______"]
[null,null,null,null,null,null,null,null,null,null,null,null,null,null,null,null,null,null,null,null,null,{"$f":"IFERROR(INDEX(MissingData, SMALL(IF(ISBLANK(MissingData)+ISERROR(MissingData)+LEN(MissingData)=0, \"\", ROW(MissingData)-MIN(ROW(MissingData))+1), ROW(339:339))),\"\")","v":"WH7____SLI_REC09YOTHLOC_N"},"","",null,"WH7____SLI_REC09YOTHLOC_N","","WH7SLIREC09YOTHLOCN","WH7____SLI_REC09YOTHLOC_N",1,"______"]
[null,null,null,null,null,null,null,null,null,null,null,null,null,null,null,null,null,null,null,null,null,{"$f":"IFERROR(INDEX(MissingData, SMALL(IF(ISBLANK(MissingData)+ISERROR(MissingData)+LEN(MissingData)=0, \"\", ROW(MissingData)-MIN(ROW(MissingData))+1), ROW(340:340))),\"\")","v":"WH7____SLI_REC09YSVCS_N"},"","",null,"WH7____SLI_REC09YSVCS_N","","WH7SLIREC09YSVCSN","WH7____SLI_REC09YSVCS_N",1,"______"]
[null,null,null,null,null,null,null,null,null,null,null,null,null,null,null,null,null,null,null,null,null,{"$f":"IFERROR(INDEX(MissingData, SMALL(IF(ISBLANK(MissingData)+ISERROR(MissingData)+LEN(MissingData)=0, \"\", ROW(MissingData)-MIN(ROW(MissingData))+1), ROW(341:341))),\"\")","v":"WH7____SLI_REC10YOTHLOC_N"},"","",null,"WH7____SLI_REC10YOTHLOC_N","","WH7SLIREC10YOTHLOCN","WH7____SLI_REC10YOTHLOC_N",1,"______"]
[null,null,null,null,null,null,null,null,null,null,null,null,null,null,null,null,null,null,null,null,null,{"$f":"IFERROR(INDEX(MissingData, SMALL(IF(ISBLANK(MissingData)+ISERROR(MissingData)+LEN(MissingData)=0, \"\", ROW(MissingData)-MIN(ROW(MissingData))+1), ROW(342:342))),\"\")","v":"WH7____SLI_REC10YSVCS_N"},"","",null,"WH7____SLI_REC10YSVCS_N","","WH7SLIREC10YSVCSN","WH7____SLI_REC10YSVCS_N",1,"______"]
[null,null,null,null,null,null,null,null,null,null,null,null,null,null,null,null,null,null,null,null,null,{"$f":"IFERROR(INDEX(MissingData, SMALL(IF(ISBLANK(MissingData)+ISERROR(MissingData)+LEN(MissingData)=0, \"\", ROW(MissingData)-MIN(ROW(MissingData))+1), ROW(343:343))),\"\")","v":"WH7____SLI_SC_N"},"","",null,"WH7____SLI_SC_N","","WH7SLISCN","WH7____SLI_SC_N",1,"______"]
[null,null,null,null,null,null,null,null,null,null,null,null,null,null,null,null,null,null,null,null,null,{"$f":"IFERROR(INDEX(MissingData, SMALL(IF(ISBLANK(MissingData)+ISERROR(MissingData)+LEN(MissingData)=0, \"\", ROW(MissingData)-MIN(ROW(MissingData))+1), ROW(344:344))),\"\")","v":"WH7____SLI_SPL_N"},"","",null,"WH7____SLI_SPL_N","","WH7SLISPLN","WH7____SLI_SPL_N",1,"______"]
[null,null,null,null,null,null,null,null,null,null,null,null,null,null,null,null,null,null,null,null,null,{"$f":"IFERROR(INDEX(MissingData, SMALL(IF(ISBLANK(MissingData)+ISERROR(MissingData)+LEN(MissingData)=0, \"\", ROW(MissingData)-MIN(ROW(MissingData))+1), ROW(345:345))),\"\")","v":"WH7____SLI_SS_N"},"","",null,"WH7____SLI_SS_N","","WH7SLISSN","WH7____SLI_SS_N",1,"______"]
[null,null,null,null,null,null,null,null,null,null,null,null,null,null,null,null,null,null,null,null,null,{"$f":"IFERROR(INDEX(MissingData, SMALL(IF(ISBLANK(MissingData)+ISERROR(MissingData)+LEN(MissingData)=0, \"\", ROW(MissingData)-MIN(ROW(MissingData))+1), ROW(346:346))),\"\")","v":"WH7____TBI_REC10YOTHLOC_N"},"","",null,"WH7____TBI_REC10YOTHLOC_N","","WH7TBIREC10YOTHLOCN","WH7____TBI_REC10YOTHLOC_N",1,"______"]
[null,null,null,null,null,null,null,null,null,null,null,null,null,null,null,null,null,null,null,null,null,{"$f":"IFERROR(INDEX(MissingData, SMALL(IF(ISBLANK(MissingData)+ISERROR(MissingData)+LEN(MissingData)=0, \"\", ROW(MissingData)-MIN(ROW(MissingData))+1), ROW(347:347))),\"\")","v":"WH7____TBI_REC10YSVCS_N"},"","",null,"WH7____TBI_REC10YSVCS_N","","WH7TBIREC10YSVCSN","WH7____TBI_REC10YSVCS_N",1,"______"]
[null,null,null,null,null,null,null,null,null,null,null,null,null,null,null,null,null,null,null,null,null,{"$f":"IFERROR(INDEX(MissingData, SMALL(IF(ISBLANK(MissingData)+ISERROR(MissingData)+LEN(MissingData)=0, \"\", ROW(MissingData)-MIN(ROW(MissingData))+1), ROW(348:348))),\"\")","v":"WH7____TBI_SC_N"},"","",null,"WH7____TBI_SC_N","","WH7TBISCN","WH7____TBI_SC_N",1,"______"]
[null,null,null,null,null,null,null,null,null,null,null,null,null,null,null,null,null,null,null,null,null,{"$f":"IFERROR(INDEX(MissingData, SMALL(IF(ISBLANK(MissingData)+ISERROR(MissingData)+LEN(MissingData)=0, \"\", ROW(MissingData)-MIN(ROW(MissingData))+1), ROW(349:349))),\"\")","v":"WH7____TBI_SS_N"},"","",null,"WH7____TBI_SS_N","","WH7TBISSN","WH7____TBI_SS_N",1,"______"]
[null,null,null,null,null,null,null,null,null,null,null,null,null,null,null,null,null,null,null,null,null,{"$f":"IFERROR(INDEX(MissingData, SMALL(IF(ISBLANK(MissingData)+ISERROR(MissingData)+LEN(MissingData)=0, \"\", ROW(MissingData)-MIN(ROW(MissingData))+1), ROW(350:350))),\"\")","v":"WH7____VI_REC10YOTHLOC_N"},"","",null,"WH7____VI_REC10YOTHLOC_N","","WH7VIREC10YOTHLOCN","WH7____VI_REC10YOTHLOC_N",1,"______"]
[null,null,null,null,null,null,null,null,null,null,null,null,null,null,null,null,null,null,null,null,null,{"$f":"IFERROR(INDEX(MissingData, SMALL(IF(ISBLANK(MissingData)+ISERROR(MissingData)+LEN(MissingData)=0, \"\", ROW(MissingData)-MIN(ROW(MissingData))+1), ROW(351:351))),\"\")","v":"WH7____VI_REC10YSVCS_N"},"","",null,"WH7____VI_REC10YSVCS_N","","WH7VIREC10YSVCSN","WH7____VI_REC10YSVCS_N",1,"______"]
[null,null,null,null,null,null,null,null,null,null,null,null,null,null,null,null,null,null,null,null,null,{"$f":"IFERROR(INDEX(MissingData, SMALL(IF(ISBLANK(MissingData)+ISERROR(MissingData)+LEN(MissingData)=0, \"\", ROW(MissingData)-MIN(ROW(MissingData))+1), ROW(352:352))),\"\")","v":"WH7____VI_SC_N"},"","",null,"WH7____VI_SC_N","","WH7VISCN","WH7____VI_SC_N",1,"______"]
[null,null,null,null,null,null,null,null,null,null,null,null,null,null,null,null,null,null,null,null,null,{"$f":"IFERROR(INDEX(MissingData, SMALL(IF(ISBLANK(MissingData)+ISERROR(MissingData)+LEN(MissingData)=0, \"\", ROW(MissingData)-MIN(ROW(MissingData))+1), ROW(353:353))),\"\")","v":"WH7____VI_SS_N"},"","",null,"WH7____VI_SS_N","","WH7VISSN","WH7____VI_SS_N",1,"______"]
[null,null,null,null,null,null,null,null,null,null,null,null,null,null,null,null,null,null,null,null,null,{"$f":"IFERROR(INDEX(MissingData, SMALL(IF(ISBLANK(MissingData)+ISERROR(MissingData)+LEN(MissingData)=0, \"\", ROW(MissingData)-MIN(ROW(MissingData))+1), ROW(354:354))),\"\")","v":"_F____H_N"},"","",null,"_F____H_N","","FHN","_F____H_N",1,"______"]
[null,null,null,null,null,null,null,null,null,null,null,null,null,null,null,null,null,null,null,null,null,{"$f":"IFERROR(INDEX(MissingData, SMALL(IF(ISBLANK(MissingData)+ISERROR(MissingData)+LEN(MissingData)=0, \"\", ROW(MissingData)-MIN(ROW(MissingData))+1), ROW(355:355))),\"\")","v":"_F____REC09YOTHLOC_N"},"","",null,"_F____REC09YOTHLOC_N","","FREC09YOTHLOCN","_F____REC09YOTHLOC_N",1,"______"]
[null,null,null,null,null,null,null,null,null,null,null,null,null,null,null,null,null,null,null,null,null,{"$f":"IFERROR(INDEX(MissingData, SMALL(IF(ISBLANK(MissingData)+ISERROR(MissingData)+LEN(MissingData)=0, \"\", ROW(MissingData)-MIN(ROW(MissingData))+1), ROW(356:356))),\"\")","v":"_F____REC09YSVCS_N"},"","",null,"_F____REC09YSVCS_N","","FREC09YSVCSN","_F____REC09YSVCS_N",1,"______"]
[null,null,null,null,null,null,null,null,null,null,null,null,null,null,null,null,null,null,null,null,null,{"$f":"IFERROR(INDEX(MissingData, SMALL(IF(ISBLANK(MissingData)+ISERROR(MissingData)+LEN(MissingData)=0, \"\", ROW(MissingData)-MIN(ROW(MissingData))+1), ROW(357:357))),\"\")","v":"_F____REC10YOTHLOC_N"},"","",null,"_F____REC10YOTHLOC_N","","FREC10YOTHLOCN","_F____REC10YOTHLOC_N",1,"______"]
[null,null,null,null,null,null,null,null,null,null,null,null,null,null,null,null,null,null,null,null,null,{"$f":"IFERROR(INDEX(MissingData, SMALL(IF(ISBLANK(MissingData)+ISERROR(MissingData)+LEN(MissingData)=0, \"\", ROW(MissingData)-MIN(ROW(MissingData))+1), ROW(358:358))),\"\")","v":"_F____REC10YSVCS_N"},"","",null,"_F____REC10YSVCS_N","","FREC10YSVCSN","_F____REC10YSVCS_N",1,"______"]
[null,null,null,null,null,null,null,null,null,null,null,null,null,null,null,null,null,null,null,null,null,{"$f":"IFERROR(INDEX(MissingData, SMALL(IF(ISBLANK(MissingData)+ISERROR(MissingData)+LEN(MissingData)=0, \"\", ROW(MissingData)-MIN(ROW(MissingData))+1), ROW(359:359))),\"\")","v":"_F____SC_N"},"","",null,"_F____SC_N","","FSCN","_F____SC_N",1,"______"]
[null,null,null,null,null,null,null,null,null,null,null,null,null,null,null,null,null,null,null,null,null,{"$f":"IFERROR(INDEX(MissingData, SMALL(IF(ISBLANK(MissingData)+ISERROR(MissingData)+LEN(MissingData)=0, \"\", ROW(MissingData)-MIN(ROW(MissingData))+1), ROW(360:360))),\"\")","v":"_F____SPL_N"},"","",null,"_F____SPL_N","","FSPLN","_F____SPL_N",1,"______"]
[null,null,null,null,null,null,null,null,null,null,null,null,null,null,null,null,null,null,null,null,null,{"$f":"IFERROR(INDEX(MissingData, SMALL(IF(ISBLANK(MissingData)+ISERROR(MissingData)+LEN(MissingData)=0, \"\", ROW(MissingData)-MIN(ROW(MissingData))+1), ROW(361:361))),\"\")","v":"_F____SS_N"},"","",null,"_F____SS_N","","FSSN","_F____SS_N",1,"______"]
[null,null,null,null,null,null,null,null,null,null,null,null,null,null,null,null,null,null,null,null,null,{"$f":"IFERROR(INDEX(MissingData, SMALL(IF(ISBLANK(MissingData)+ISERROR(MissingData)+LEN(MissingData)=0, \"\", ROW(MissingData)-MIN(ROW(MissingData))+1), ROW(362:362))),\"\")","v":"_M____H_N"},"","",null,"_M____H_N","","MHN","_M____H_N",1,"______"]
[null,null,null,null,null,null,null,null,null,null,null,null,null,null,null,null,null,null,null,null,null,{"$f":"IFERROR(INDEX(MissingData, SMALL(IF(ISBLANK(MissingData)+ISERROR(MissingData)+LEN(MissingData)=0, \"\", ROW(MissingData)-MIN(ROW(MissingData))+1), ROW(363:363))),\"\")","v":"_M____REC09YOTHLOC_N"},"","",null,"_M____REC09YOTHLOC_N","","MREC09YOTHLOCN","_M____REC09YOTHLOC_N",1,"______"]
[null,null,null,null,null,null,null,null,null,null,null,null,null,null,null,null,null,null,null,null,null,{"$f":"IFERROR(INDEX(MissingData, SMALL(IF(ISBLANK(MissingData)+ISERROR(MissingData)+LEN(MissingData)=0, \"\", ROW(MissingData)-MIN(ROW(MissingData))+1), ROW(364:364))),\"\")","v":"_M____REC10YOTHLOC_N"},"","",null,"_M____REC10YOTHLOC_N","","MREC10YOTHLOCN","_M____REC10YOTHLOC_N",1,"______"]
[null,null,null,null,null,null,null,null,null,null,null,null,null,null,null,null,null,null,null,null,null,{"$f":"IFERROR(INDEX(MissingData, SMALL(IF(ISBLANK(MissingData)+ISERROR(MissingData)+LEN(MissingData)=0, \"\", ROW(MissingData)-MIN(ROW(MissingData))+1), ROW(365:365))),\"\")","v":"_M____REC10YSVCS_N"},"","",null,"_M____REC10YSVCS_N","","MREC10YSVCSN","_M____REC10YSVCS_N",1,"______"]
[null,null,null,null,null,null,null,null,null,null,null,null,null,null,null,null,null,null,null,null,null,{"$f":"IFERROR(INDEX(MissingData, SMALL(IF(ISBLANK(MissingData)+ISERROR(MissingData)+LEN(MissingData)=0, \"\", ROW(MissingData)-MIN(ROW(MissingData))+1), ROW(366:366))),\"\")","v":"_M____SC_N"},"","",null,"_M____SC_N","","MSCN","_M____SC_N",1,"______"]
[null,null,null,null,null,null,null,null,null,null,null,null,null,null,null,null,null,null,null,null,null,{"$f":"IFERROR(INDEX(MissingData, SMALL(IF(ISBLANK(MissingData)+ISERROR(MissingData)+LEN(MissingData)=0, \"\", ROW(MissingData)-MIN(ROW(MissingData))+1), ROW(367:367))),\"\")","v":"_M____SPL_N"},"","",null,"_M____SPL_N","","MSPLN","_M____SPL_N",1,"______"]
[null,null,null,null,null,null,null,null,null,null,null,null,null,null,null,null,null,null,null,null,null,{"$f":"IFERROR(INDEX(MissingData, SMALL(IF(ISBLANK(MissingData)+ISERROR(MissingData)+LEN(MissingData)=0, \"\", ROW(MissingData)-MIN(ROW(MissingData))+1), ROW(368:368))),\"\")","v":"_M____SS_N"},"","",null,"_M____SS_N","","MSSN","_M____SS_N",1,"______"]
[null,null,null,null,null,null,null,null,null,null,null,null,null,null,null,null,null,null,null,null,null,{"$f":"IFERROR(INDEX(MissingData, SMALL(IF(ISBLANK(MissingData)+ISERROR(MissingData)+LEN(MissingData)=0, \"\", ROW(MissingData)-MIN(ROW(MissingData))+1), ROW(369:369))),\"\")","v":"___NLEP__H_N"},"","",null,"___NLEP__H_N","","NLEPHN","___NLEP__H_N",1,"______"]
[null,null,null,null,null,null,null,null,null,null,null,null,null,null,null,null,null,null,null,null,null,{"$f":"IFERROR(INDEX(MissingData, SMALL(IF(ISBLANK(MissingData)+ISERROR(MissingData)+LEN(MissingData)=0, \"\", ROW(MissingData)-MIN(ROW(MissingData))+1), ROW(370:370))),\"\")","v":"___NLEP__REC09YOTHLOC_N"},"","",null,"___NLEP__REC09YOTHLOC_N","","NLEPREC09YOTHLOCN","___NLEP__REC09YOTHLOC_N",1,"______"]
[null,null,null,null,null,null,null,null,null,null,null,null,null,null,null,null,null,null,null,null,null,{"$f":"IFERROR(INDEX(MissingData, SMALL(IF(ISBLANK(MissingData)+ISERROR(MissingData)+LEN(MissingData)=0, \"\", ROW(MissingData)-MIN(ROW(MissingData))+1), ROW(371:371))),\"\")","v":"___NLEP__REC09YSVCS_N"},"","",null,"___NLEP__REC09YSVCS_N","","NLEPREC09YSVCSN","___NLEP__REC09YSVCS_N",1,"______"]
[null,null,null,null,null,null,null,null,null,null,null,null,null,null,null,null,null,null,null,null,null,{"$f":"IFERROR(INDEX(MissingData, SMALL(IF(ISBLANK(MissingData)+ISERROR(MissingData)+LEN(MissingData)=0, \"\", ROW(MissingData)-MIN(ROW(MissingData))+1), ROW(372:372))),\"\")","v":"___LEP__REC10YOTHLOC_N"},"","",null,"___LEP__REC10YOTHLOC_N","","LEPREC10YOTHLOCN","___LEP__REC10YOTHLOC_N",1,"______"]
[null,null,null,null,null,null,null,null,null,null,null,null,null,null,null,null,null,null,null,null,null,{"$f":"IFERROR(INDEX(MissingData, SMALL(IF(ISBLANK(MissingData)+ISERROR(MissingData)+LEN(MissingData)=0, \"\", ROW(MissingData)-MIN(ROW(MissingData))+1), ROW(373:373))),\"\")","v":"___NLEP__REC10YOTHLOC_N"},"","",null,"___NLEP__REC10YOTHLOC_N","","NLEPREC10YOTHLOCN","___NLEP__REC10YOTHLOC_N",1,"______"]
[null,null,null,null,null,null,null,null,null,null,null,null,null,null,null,null,null,null,null,null,null,{"$f":"IFERROR(INDEX(MissingData, SMALL(IF(ISBLANK(MissingData)+ISERROR(MissingData)+LEN(MissingData)=0, \"\", ROW(MissingData)-MIN(ROW(MissingData))+1), ROW(374:374))),\"\")","v":"___LEP__REC10YSVCS_N"},"","",null,"___LEP__REC10YSVCS_N","","LEPREC10YSVCSN","___LEP__REC10YSVCS_N",1,"______"]
[null,null,null,null,null,null,null,null,null,null,null,null,null,null,null,null,null,null,null,null,null,{"$f":"IFERROR(INDEX(MissingData, SMALL(IF(ISBLANK(MissingData)+ISERROR(MissingData)+LEN(MissingData)=0, \"\", ROW(MissingData)-MIN(ROW(MissingData))+1), ROW(375:375))),\"\")","v":"___NLEP__REC10YSVCS_N"},"","",null,"___NLEP__REC10YSVCS_N","","NLEPREC10YSVCSN","___NLEP__REC10YSVCS_N",1,"______"]
[null,null,null,null,null,null,null,null,null,null,null,null,null,null,null,null,null,null,null,null,null,{"$f":"IFERROR(INDEX(MissingData, SMALL(IF(ISBLANK(MissingData)+ISERROR(MissingData)+LEN(MissingData)=0, \"\", ROW(MissingData)-MIN(ROW(MissingData))+1), ROW(376:376))),\"\")","v":"___LEP__SC_N"},"","",null,"___LEP__SC_N","","LEPSCN","___LEP__SC_N",1,"______"]
[null,null,null,null,null,null,null,null,null,null,null,null,null,null,null,null,null,null,null,null,null,{"$f":"IFERROR(INDEX(MissingData, SMALL(IF(ISBLANK(MissingData)+ISERROR(MissingData)+LEN(MissingData)=0, \"\", ROW(MissingData)-MIN(ROW(MissingData))+1), ROW(377:377))),\"\")","v":"___NLEP__SC_N"},"","",null,"___NLEP__SC_N","","NLEPSCN","___NLEP__SC_N",1,"______"]
[null,null,null,null,null,null,null,null,null,null,null,null,null,null,null,null,null,null,null,null,null,{"$f":"IFERROR(INDEX(MissingData, SMALL(IF(ISBLANK(MissingData)+ISERROR(MissingData)+LEN(MissingData)=0, \"\", ROW(MissingData)-MIN(ROW(MissingData))+1), ROW(378:378))),\"\")","v":"___LEP__SPL_N"},"","",null,"___LEP__SPL_N","","LEPSPLN","___LEP__SPL_N",1,"______"]
[null,null,null,null,null,null,null,null,null,null,null,null,null,null,null,null,null,null,null,null,null,{"$f":"IFERROR(INDEX(MissingData, SMALL(IF(ISBLANK(MissingData)+ISERROR(MissingData)+LEN(MissingData)=0, \"\", ROW(MissingData)-MIN(ROW(MissingData))+1), ROW(379:379))),\"\")","v":"___NLEP__SPL_N"},"","",null,"___NLEP__SPL_N","","NLEPSPLN","___NLEP__SPL_N",1,"______"]
[null,null,null,null,null,null,null,null,null,null,null,null,null,null,null,null,null,null,null,null,null,{"$f":"IFERROR(INDEX(MissingData, SMALL(IF(ISBLANK(MissingData)+ISERROR(MissingData)+LEN(MissingData)=0, \"\", ROW(MissingData)-MIN(ROW(MissingData))+1), ROW(380:380))),\"\")","v":"___NLEP__SS_N"},"","",null,"___NLEP__SS_N","","NLEPSSN","___NLEP__SS_N",1,"______"]
[null,null,null,null,null,null,null,null,null,null,null,null,null,null,null,null,null,null,null,null,null,{"$f":"IFERROR(INDEX(MissingData, SMALL(IF(ISBLANK(MissingData)+ISERROR(MissingData)+LEN(MissingData)=0, \"\", ROW(MissingData)-MIN(ROW(MissingData))+1), ROW(381:381))),\"\")","v":"__3__AUT_REC09YSVCS_N"},"","",null,"__3__AUT_REC09YSVCS_N","","3AUTREC09YSVCSN","__3__AUT_REC09YSVCS_N",1,"______"]
[null,null,null,null,null,null,null,null,null,null,null,null,null,null,null,null,null,null,null,null,null,{"$f":"IFERROR(INDEX(MissingData, SMALL(IF(ISBLANK(MissingData)+ISERROR(MissingData)+LEN(MissingData)=0, \"\", ROW(MissingData)-MIN(ROW(MissingData))+1), ROW(382:382))),\"\")","v":"__3__AUT_REC09YOTHLOC_N"},"","",null,"__3__AUT_REC09YOTHLOC_N","","3AUTREC09YOTHLOCN","__3__AUT_REC09YOTHLOC_N",1,"______"]
[null,null,null,null,null,null,null,null,null,null,null,null,null,null,null,null,null,null,null,null,null,{"$f":"IFERROR(INDEX(MissingData, SMALL(IF(ISBLANK(MissingData)+ISERROR(MissingData)+LEN(MissingData)=0, \"\", ROW(MissingData)-MIN(ROW(MissingData))+1), ROW(383:383))),\"\")","v":"__3__AUT_RF_N"},"","",null,"__3__AUT_RF_N","","3AUTRFN","__3__AUT_RF_N",1,"______"]
[null,null,null,null,null,null,null,null,null,null,null,null,null,null,null,null,null,null,null,null,null,{"$f":"IFERROR(INDEX(MissingData, SMALL(IF(ISBLANK(MissingData)+ISERROR(MissingData)+LEN(MissingData)=0, \"\", ROW(MissingData)-MIN(ROW(MissingData))+1), ROW(384:384))),\"\")","v":"__3__AUT_SPL_N"},"","",null,"__3__AUT_SPL_N","","3AUTSPLN","__3__AUT_SPL_N",1,"______"]
[null,null,null,null,null,null,null,null,null,null,null,null,null,null,null,null,null,null,null,null,null,{"$f":"IFERROR(INDEX(MissingData, SMALL(IF(ISBLANK(MissingData)+ISERROR(MissingData)+LEN(MissingData)=0, \"\", ROW(MissingData)-MIN(ROW(MissingData))+1), ROW(385:385))),\"\")","v":"__3__DB_H_N"},"","",null,"__3__DB_H_N","","3DBHN","__3__DB_H_N",1,"______"]
[null,null,null,null,null,null,null,null,null,null,null,null,null,null,null,null,null,null,null,null,null,{"$f":"IFERROR(INDEX(MissingData, SMALL(IF(ISBLANK(MissingData)+ISERROR(MissingData)+LEN(MissingData)=0, \"\", ROW(MissingData)-MIN(ROW(MissingData))+1), ROW(386:386))),\"\")","v":"__AGE05NOTK__SLD_REC10YSVCS_N"},"","",null,"__AGE05NOTK__SLD_REC10YSVCS_N","","AGE05NOTKSLDREC10YSVCSN","__AGE05NOTK__SLD_REC10YSVCS_N",1,"______"]
[null,null,null,null,null,null,null,null,null,null,null,null,null,null,null,null,null,null,null,null,null,{"$f":"IFERROR(INDEX(MissingData, SMALL(IF(ISBLANK(MissingData)+ISERROR(MissingData)+LEN(MissingData)=0, \"\", ROW(MissingData)-MIN(ROW(MissingData))+1), ROW(387:387))),\"\")","v":"__3__DB_REC10YOTHLOC_N"},{"$f":"IF(LEN(AA400)=0,\"\",IF(COUNTIF(CurrentListing_C089,AA400)>1,AE400,\"\"))","v":""},{"$f":"IF(LEN(AA400)=0,\"\",IF(ISNA(MATCH(AA400,MasterListing,0)),AE400,\"\"))","v":""},null,{"$f":"IF(LEN(AC400)=0,\"\",IF(ISNA(MATCH(AB400,CurrentListing_C089,0)),AC400,\"\"))","v":"__3__DB_REC10YOTHLOC_N"},{"$f":"G400&H400&I400&J400&K400&Q400&R400","v":""},"3DBREC10YOTHLOCN","__3__DB_REC10YOTHLOC_N",{"$f":"IF(LEN(V400)>0,1,0)","v":1},{"$f":"G400&\"_\"&H400&\"_\"&I400&\"_\"&J400&\"_\"&K400&\"_\"&Q400&\"_\"&R400","v":"______"}]
[null,null,null,null,null,null,null,null,null,null,null,null,null,null,null,null,null,null,null,null,null,{"$f":"IFERROR(INDEX(MissingData, SMALL(IF(ISBLANK(MissingData)+ISERROR(MissingData)+LEN(MissingData)=0, \"\", ROW(MissingData)-MIN(ROW(MissingData))+1), ROW(388:388))),\"\")","v":"__3__DB_REC09YSVCS_N"},"","",null,"__3__DB_REC09YSVCS_N","","3DBREC09YSVCSN","__3__DB_REC09YSVCS_N",1,"______"]
[null,null,null,null,null,null,null,null,null,null,null,null,null,null,null,null,null,null,null,null,null,{"$f":"IFERROR(INDEX(MissingData, SMALL(IF(ISBLANK(MissingData)+ISERROR(MissingData)+LEN(MissingData)=0, \"\", ROW(MissingData)-MIN(ROW(MissingData))+1), ROW(389:389))),\"\")","v":"__3__DB_REC09YOTHLOC_N"},"","",null,"__3__DB_REC09YOTHLOC_N","","3DBREC09YOTHLOCN","__3__DB_REC09YOTHLOC_N",1,"______"]
[null,null,null,null,null,null,null,null,null,null,null,null,null,null,null,null,null,null,null,null,null,{"$f":"IFERROR(INDEX(MissingData, SMALL(IF(ISBLANK(MissingData)+ISERROR(MissingData)+LEN(MissingData)=0, \"\", ROW(MissingData)-MIN(ROW(MissingData))+1), ROW(390:390))),\"\")","v":"__3__DB_RF_N"},"","",null,"__3__DB_RF_N","","3DBRFN","__3__DB_RF_N",1,"______"]
[null,null,null,null,null,null,null,null,null,null,null,null,null,null,null,null,null,null,null,null,null,{"$f":"IFERROR(INDEX(MissingData, SMALL(IF(ISBLANK(MissingData)+ISERROR(MissingData)+LEN(MissingData)=0, \"\", ROW(MissingData)-MIN(ROW(MissingData))+1), ROW(391:391))),\"\")","v":"__3__DB_SC_N"},"","",null,"__3__DB_SC_N","","3DBSCN","__3__DB_SC_N",1,"______"]
[null,null,null,null,null,null,null,null,null,null,null,null,null,null,null,null,null,null,null,null,null,{"$f":"IFERROR(INDEX(MissingData, SMALL(IF(ISBLANK(MissingData)+ISERROR(MissingData)+LEN(MissingData)=0, \"\", ROW(MissingData)-MIN(ROW(MissingData))+1), ROW(392:392))),\"\")","v":"__3__DB_SPL_N"},"","",null,"__3__DB_SPL_N","","3DBSPLN","__3__DB_SPL_N",1,"______"]
[null,null,null,null,null,null,null,null,null,null,null,null,null,null,null,null,null,null,null,null,null,{"$f":"IFERROR(INDEX(MissingData, SMALL(IF(ISBLANK(MissingData)+ISERROR(MissingData)+LEN(MissingData)=0, \"\", ROW(MissingData)-MIN(ROW(MissingData))+1), ROW(393:393))),\"\")","v":"__3__DB_SS_N"},"","",null,"__3__DB_SS_N","","3DBSSN","__3__DB_SS_N",1,"______"]
[null,null,null,null,null,null,null,null,null,null,null,null,null,null,null,null,null,null,null,null,null,{"$f":"IFERROR(INDEX(MissingData, SMALL(IF(ISBLANK(MissingData)+ISERROR(MissingData)+LEN(MissingData)=0, \"\", ROW(MissingData)-MIN(ROW(MissingData))+1), ROW(394:394))),\"\")","v":"__3__DD_REC09YSVCS_N"},"","",null,"__3__DD_REC09YSVCS_N","","3DDREC09YSVCSN","__3__DD_REC09YSVCS_N",1,"______"]
[null,null,null,null,null,null,null,null,null,null,null,null,null,null,null,null,null,null,null,null,null,{"$f":"IFERROR(INDEX(MissingData, SMALL(IF(ISBLANK(MissingData)+ISERROR(MissingData)+LEN(MissingData)=0, \"\", ROW(MissingData)-MIN(ROW(MissingData))+1), ROW(395:395))),\"\")","v":"__3__DD_REC09YOTHLOC_N"},"","",null,"__3__DD_REC09YOTHLOC_N","","3DDREC09YOTHLOCN","__3__DD_REC09YOTHLOC_N",1,"______"]
[null,null,null,null,null,null,null,null,null,null,null,null,null,null,null,null,null,null,null,null,null,{"$f":"IFERROR(INDEX(MissingData, SMALL(IF(ISBLANK(MissingData)+ISERROR(MissingData)+LEN(MissingData)=0, \"\", ROW(MissingData)-MIN(ROW(MissingData))+1), ROW(396:396))),\"\")","v":"__3__DD_RF_N"},"","",null,"__3__DD_RF_N","","3DDRFN","__3__DD_RF_N",1,"______"]
[null,null,null,null,null,null,null,null,null,null,null,null,null,null,null,null,null,null,null,null,null,{"$f":"IFERROR(INDEX(MissingData, SMALL(IF(ISBLANK(MissingData)+ISERROR(MissingData)+LEN(MissingData)=0, \"\", ROW(MissingData)-MIN(ROW(MissingData))+1), ROW(397:397))),\"\")","v":"__3__EMN_H_N"},"","",null,"__3__EMN_H_N","","3EMNHN","__3__EMN_H_N",1,"______"]
[null,null,null,null,null,null,null,null,null,null,null,null,null,null,null,null,null,null,null,null,null,{"$f":"IFERROR(INDEX(MissingData, SMALL(IF(ISBLANK(MissingData)+ISERROR(MissingData)+LEN(MissingData)=0, \"\", ROW(MissingData)-MIN(ROW(MissingData))+1), ROW(398:398))),\"\")","v":"__3__SLI_REC10YSVCS_N"},"","",null,"__3__SLI_REC10YSVCS_N","","3SLIREC10YSVCSN","__3__SLI_REC10YSVCS_N",1,"______"]
[null,null,null,null,null,null,null,null,null,null,null,null,null,null,null,null,null,null,null,null,null,{"$f":"IFERROR(INDEX(MissingData, SMALL(IF(ISBLANK(MissingData)+ISERROR(MissingData)+LEN(MissingData)=0, \"\", ROW(MissingData)-MIN(ROW(MissingData))+1), ROW(399:399))),\"\")","v":"__3__EMN_REC10YOTHLOC_N"},"","",null,"__3__EMN_REC10YOTHLOC_N","","3EMNREC10YOTHLOCN","__3__EMN_REC10YOTHLOC_N",1,"______"]
[null,null,null,null,null,null,null,null,null,null,null,null,null,null,null,null,null,null,null,null,null,{"$f":"IFERROR(INDEX(MissingData, SMALL(IF(ISBLANK(MissingData)+ISERROR(MissingData)+LEN(MissingData)=0, \"\", ROW(MissingData)-MIN(ROW(MissingData))+1), ROW(400:400))),\"\")","v":"__3__EMN_REC09YSVCS_N"},"","",null,"__3__EMN_REC09YSVCS_N","","3EMNREC09YSVCSN","__3__EMN_REC09YSVCS_N",1,"______"]
[null,null,null,null,null,null,null,null,null,null,null,null,null,null,null,null,null,null,null,null,null,{"$f":"IFERROR(INDEX(MissingData, SMALL(IF(ISBLANK(MissingData)+ISERROR(MissingData)+LEN(MissingData)=0, \"\", ROW(MissingData)-MIN(ROW(MissingData))+1), ROW(401:401))),\"\")","v":"__3__EMN_REC09YOTHLOC_N"},"","",null,"__3__EMN_REC09YOTHLOC_N","","3EMNREC09YOTHLOCN","__3__EMN_REC09YOTHLOC_N",1,"______"]
[null,null,null,null,null,null,null,null,null,null,null,null,null,null,null,null,null,null,null,null,null,{"$f":"IFERROR(INDEX(MissingData, SMALL(IF(ISBLANK(MissingData)+ISERROR(MissingData)+LEN(MissingData)=0, \"\", ROW(MissingData)-MIN(ROW(MissingData))+1), ROW(402:402))),\"\")","v":"__3__EMN_RF_N"},"","",null,"__3__EMN_RF_N","","3EMNRFN","__3__EMN_RF_N",1,"______"]
[null,null,null,null,null,null,null,null,null,null,null,null,null,null,null,null,null,null,null,null,null,{"$f":"IFERROR(INDEX(MissingData, SMALL(IF(ISBLANK(MissingData)+ISERROR(MissingData)+LEN(MissingData)=0, \"\", ROW(MissingData)-MIN(ROW(MissingData))+1), ROW(403:403))),\"\")","v":"__3__EMN_SC_N"},"","",null,"__3__EMN_SC_N","","3EMNSCN","__3__EMN_SC_N",1,"______"]
[null,null,null,null,null,null,null,null,null,null,null,null,null,null,null,null,null,null,null,null,null,{"$f":"IFERROR(INDEX(MissingData, SMALL(IF(ISBLANK(MissingData)+ISERROR(MissingData)+LEN(MissingData)=0, \"\", ROW(MissingData)-MIN(ROW(MissingData))+1), ROW(404:404))),\"\")","v":"__3__EMN_SPL_N"},"","",null,"__3__EMN_SPL_N","","3EMNSPLN","__3__EMN_SPL_N",1,"______"]
[null,null,null,null,null,null,null,null,null,null,null,null,null,null,null,null,null,null,null,null,null,{"$f":"IFERROR(INDEX(MissingData, SMALL(IF(ISBLANK(MissingData)+ISERROR(MissingData)+LEN(MissingData)=0, \"\", ROW(MissingData)-MIN(ROW(MissingData))+1), ROW(405:405))),\"\")","v":"__3__EMN_SS_N"},"","",null,"__3__EMN_SS_N","","3EMNSSN","__3__EMN_SS_N",1,"______"]
[null,null,null,null,null,null,null,null,null,null,null,null,null,null,null,null,null,null,null,null,null,{"$f":"IFERROR(INDEX(MissingData, SMALL(IF(ISBLANK(MissingData)+ISERROR(MissingData)+LEN(MissingData)=0, \"\", ROW(MissingData)-MIN(ROW(MissingData))+1), ROW(406:406))),\"\")","v":"__3__HI_H_N"},"","",null,"__3__HI_H_N","","3HIHN","__3__HI_H_N",1,"______"]
[null,null,null,null,null,null,null,null,null,null,null,null,null,null,null,null,null,null,null,null,null,{"$f":"IFERROR(INDEX(MissingData, SMALL(IF(ISBLANK(MissingData)+ISERROR(MissingData)+LEN(MissingData)=0, \"\", ROW(MissingData)-MIN(ROW(MissingData))+1), ROW(407:407))),\"\")","v":"__3__HI_REC09YSVCS_N"},"","",null,"__3__HI_REC09YSVCS_N","","3HIREC09YSVCSN","__3__HI_REC09YSVCS_N",1,"______"]
[null,null,null,null,null,null,null,null,null,null,null,null,null,null,null,null,null,null,null,null,null,{"$f":"IFERROR(INDEX(MissingData, SMALL(IF(ISBLANK(MissingData)+ISERROR(MissingData)+LEN(MissingData)=0, \"\", ROW(MissingData)-MIN(ROW(MissingData))+1), ROW(408:408))),\"\")","v":"__3__HI_REC09YOTHLOC_N"},"","",null,"__3__HI_REC09YOTHLOC_N","","3HIREC09YOTHLOCN","__3__HI_REC09YOTHLOC_N",1,"______"]
[null,null,null,null,null,null,null,null,null,null,null,null,null,null,null,null,null,null,null,null,null,{"$f":"IFERROR(INDEX(MissingData, SMALL(IF(ISBLANK(MissingData)+ISERROR(MissingData)+LEN(MissingData)=0, \"\", ROW(MissingData)-MIN(ROW(MissingData))+1), ROW(409:409))),\"\")","v":"__3__HI_RF_N"},"","",null,"__3__HI_RF_N","","3HIRFN","__3__HI_RF_N",1,"______"]
[null,null,null,null,null,null,null,null,null,null,null,null,null,null,null,null,null,null,null,null,null,{"$f":"IFERROR(INDEX(MissingData, SMALL(IF(ISBLANK(MissingData)+ISERROR(MissingData)+LEN(MissingData)=0, \"\", ROW(MissingData)-MIN(ROW(MissingData))+1), ROW(410:410))),\"\")","v":"__3__MD_REC09YSVCS_N"},"","",null,"__3__MD_REC09YSVCS_N","","3MDREC09YSVCSN","__3__MD_REC09YSVCS_N",1,"______"]
[null,null,null,null,null,null,null,null,null,null,null,null,null,null,null,null,null,null,null,null,null,{"$f":"IFERROR(INDEX(MissingData, SMALL(IF(ISBLANK(MissingData)+ISERROR(MissingData)+LEN(MissingData)=0, \"\", ROW(MissingData)-MIN(ROW(MissingData))+1), ROW(411:411))),\"\")","v":"__3__MD_REC09YOTHLOC_N"},"","",null,"__3__MD_REC09YOTHLOC_N","","3MDREC09YOTHLOCN","__3__MD_REC09YOTHLOC_N",1,"______"]
[null,null,null,null,null,null,null,null,null,null,null,null,null,null,null,null,null,null,null,null,null,{"$f":"IFERROR(INDEX(MissingData, SMALL(IF(ISBLANK(MissingData)+ISERROR(MissingData)+LEN(MissingData)=0, \"\", ROW(MissingData)-MIN(ROW(MissingData))+1), ROW(412:412))),\"\")","v":"__3__MD_RF_N"},"","",null,"__3__MD_RF_N","","3MDRFN","__3__MD_RF_N",1,"______"]
[null,null,null,null,null,null,null,null,null,null,null,null,null,null,null,null,null,null,null,null,null,{"$f":"IFERROR(INDEX(MissingData, SMALL(IF(ISBLANK(MissingData)+ISERROR(MissingData)+LEN(MissingData)=0, \"\", ROW(MissingData)-MIN(ROW(MissingData))+1), ROW(413:413))),\"\")","v":"__3__MD_SPL_N"},"","",null,"__3__MD_SPL_N","","3MDSPLN","__3__MD_SPL_N",1,"______"]
[null,null,null,null,null,null,null,null,null,null,null,null,null,null,null,null,null,null,null,null,null,{"$f":"IFERROR(INDEX(MissingData, SMALL(IF(ISBLANK(MissingData)+ISERROR(MissingData)+LEN(MissingData)=0, \"\", ROW(MissingData)-MIN(ROW(MissingData))+1), ROW(414:414))),\"\")","v":"__3__ID_REC09YSVCS_N"},"","",null,"__3__ID_REC09YSVCS_N","","3IDREC09YSVCSN","__3__ID_REC09YSVCS_N",1,"______"]
[null,null,null,null,null,null,null,null,null,null,null,null,null,null,null,null,null,null,null,null,null,{"$f":"IFERROR(INDEX(MissingData, SMALL(IF(ISBLANK(MissingData)+ISERROR(MissingData)+LEN(MissingData)=0, \"\", ROW(MissingData)-MIN(ROW(MissingData))+1), ROW(415:415))),\"\")","v":"__3__ID_REC09YOTHLOC_N"},"","",null,"__3__ID_REC09YOTHLOC_N","","3IDREC09YOTHLOCN","__3__ID_REC09YOTHLOC_N",1,"______"]
[null,null,null,null,null,null,null,null,null,null,null,null,null,null,null,null,null,null,null,null,null,{"$f":"IFERROR(INDEX(MissingData, SMALL(IF(ISBLANK(MissingData)+ISERROR(MissingData)+LEN(MissingData)=0, \"\", ROW(MissingData)-MIN(ROW(MissingData))+1), ROW(416:416))),\"\")","v":"__3__ID_RF_N"},"","",null,"__3__ID_RF_N","","3IDRFN","__3__ID_RF_N",1,"______"]
[null,null,null,null,null,null,null,null,null,null,null,null,null,null,null,null,null,null,null,null,null,{"$f":"IFERROR(INDEX(MissingData, SMALL(IF(ISBLANK(MissingData)+ISERROR(MissingData)+LEN(MissingData)=0, \"\", ROW(MissingData)-MIN(ROW(MissingData))+1), ROW(417:417))),\"\")","v":"__3__ID_SPL_N"},"","",null,"__3__ID_SPL_N","","3IDSPLN","__3__ID_SPL_N",1,"______"]
[null,null,null,null,null,null,null,null,null,null,null,null,null,null,null,null,null,null,null,null,null,{"$f":"IFERROR(INDEX(MissingData, SMALL(IF(ISBLANK(MissingData)+ISERROR(MissingData)+LEN(MissingData)=0, \"\", ROW(MissingData)-MIN(ROW(MissingData))+1), ROW(418:418))),\"\")","v":"__3__ID_SS_N"},"","",null,"__3__ID_SS_N","","3IDSSN","__3__ID_SS_N",1,"______"]
[null,null,null,null,null,null,null,null,null,null,null,null,null,null,null,null,null,null,null,null,null,{"$f":"IFERROR(INDEX(MissingData, SMALL(IF(ISBLANK(MissingData)+ISERROR(MissingData)+LEN(MissingData)=0, \"\", ROW(MissingData)-MIN(ROW(MissingData))+1), ROW(419:419))),\"\")","v":"__3__OHI_REC09YSVCS_N"},"","",null,"__3__OHI_REC09YSVCS_N","","3OHIREC09YSVCSN","__3__OHI_REC09YSVCS_N",1,"______"]
[null,null,null,null,null,null,null,null,null,null,null,null,null,null,null,null,null,null,null,null,null,{"$f":"IFERROR(INDEX(MissingData, SMALL(IF(ISBLANK(MissingData)+ISERROR(MissingData)+LEN(MissingData)=0, \"\", ROW(MissingData)-MIN(ROW(MissingData))+1), ROW(420:420))),\"\")","v":"__3__OHI_REC09YOTHLOC_N"},"","",null,"__3__OHI_REC09YOTHLOC_N","","3OHIREC09YOTHLOCN","__3__OHI_REC09YOTHLOC_N",1,"______"]
[null,null,null,null,null,null,null,null,null,null,null,null,null,null,null,null,null,null,null,null,null,{"$f":"IFERROR(INDEX(MissingData, SMALL(IF(ISBLANK(MissingData)+ISERROR(MissingData)+LEN(MissingData)=0, \"\", ROW(MissingData)-MIN(ROW(MissingData))+1), ROW(421:421))),\"\")","v":"__3__OHI_RF_N"},"","",null,"__3__OHI_RF_N","","3OHIRFN","__3__OHI_RF_N",1,"______"]
[null,null,null,null,null,null,null,null,null,null,null,null,null,null,null,null,null,null,null,null,null,{"$f":"IFERROR(INDEX(MissingData, SMALL(IF(ISBLANK(MissingData)+ISERROR(MissingData)+LEN(MissingData)=0, \"\", ROW(MissingData)-MIN(ROW(MissingData))+1), ROW(422:422))),\"\")","v":"__3__OHI_SPL_N"},"","",null,"__3__OHI_SPL_N","","3OHISPLN","__3__OHI_SPL_N",1,"______"]
[null,null,null,null,null,null,null,null,null,null,null,null,null,null,null,null,null,null,null,null,null,{"$f":"IFERROR(INDEX(MissingData, SMALL(IF(ISBLANK(MissingData)+ISERROR(MissingData)+LEN(MissingData)=0, \"\", ROW(MissingData)-MIN(ROW(MissingData))+1), ROW(423:423))),\"\")","v":"__3__OI_REC09YSVCS_N"},"","",null,"__3__OI_REC09YSVCS_N","","3OIREC09YSVCSN","__3__OI_REC09YSVCS_N",1,"______"]
[null,null,null,null,null,null,null,null,null,null,null,null,null,null,null,null,null,null,null,null,null,{"$f":"IFERROR(INDEX(MissingData, SMALL(IF(ISBLANK(MissingData)+ISERROR(MissingData)+LEN(MissingData)=0, \"\", ROW(MissingData)-MIN(ROW(MissingData))+1), ROW(424:424))),\"\")","v":"__3__OI_REC09YOTHLOC_N"},"","",null,"__3__OI_REC09YOTHLOC_N","","3OIREC09YOTHLOCN","__3__OI_REC09YOTHLOC_N",1,"______"]
[null,null,null,null,null,null,null,null,null,null,null,null,null,null,null,null,null,null,null,null,null,{"$f":"IFERROR(INDEX(MissingData, SMALL(IF(ISBLANK(MissingData)+ISERROR(MissingData)+LEN(MissingData)=0, \"\", ROW(MissingData)-MIN(ROW(MissingData))+1), ROW(425:425))),\"\")","v":"__3__OI_RF_N"},"","",null,"__3__OI_RF_N","","3OIRFN","__3__OI_RF_N",1,"______"]
[null,null,null,null,null,null,null,null,null,null,null,null,null,null,null,null,null,null,null,null,null,{"$f":"IFERROR(INDEX(MissingData, SMALL(IF(ISBLANK(MissingData)+ISERROR(MissingData)+LEN(MissingData)=0, \"\", ROW(MissingData)-MIN(ROW(MissingData))+1), ROW(426:426))),\"\")","v":"__3__OI_SPL_N"},"","",null,"__3__OI_SPL_N","","3OISPLN","__3__OI_SPL_N",1,"______"]
[null,null,null,null,null,null,null,null,null,null,null,null,null,null,null,null,null,null,null,null,null,{"$f":"IFERROR(INDEX(MissingData, SMALL(IF(ISBLANK(MissingData)+ISERROR(MissingData)+LEN(MissingData)=0, \"\", ROW(MissingData)-MIN(ROW(MissingData))+1), ROW(427:427))),\"\")","v":"__3__OI_SS_N"},"","",null,"__3__OI_SS_N","","3OISSN","__3__OI_SS_N",1,"______"]
[null,null,null,null,null,null,null,null,null,null,null,null,null,null,null,null,null,null,null,null,null,{"$f":"IFERROR(INDEX(MissingData, SMALL(IF(ISBLANK(MissingData)+ISERROR(MissingData)+LEN(MissingData)=0, \"\", ROW(MissingData)-MIN(ROW(MissingData))+1), ROW(428:428))),\"\")","v":"__3__SLD_H_N"},"","",null,"__3__SLD_H_N","","3SLDHN","__3__SLD_H_N",1,"______"]
[null,null,null,null,null,null,null,null,null,null,null,null,null,null,null,null,null,null,null,null,null,{"$f":"IFERROR(INDEX(MissingData, SMALL(IF(ISBLANK(MissingData)+ISERROR(MissingData)+LEN(MissingData)=0, \"\", ROW(MissingData)-MIN(ROW(MissingData))+1), ROW(429:429))),\"\")","v":"__4__SLI_REC10YSVCS_N"},"","",null,"__4__SLI_REC10YSVCS_N","","4SLIREC10YSVCSN","__4__SLI_REC10YSVCS_N",1,"______"]
[null,null,null,null,null,null,null,null,null,null,null,null,null,null,null,null,null,null,null,null,null,{"$f":"IFERROR(INDEX(MissingData, SMALL(IF(ISBLANK(MissingData)+ISERROR(MissingData)+LEN(MissingData)=0, \"\", ROW(MissingData)-MIN(ROW(MissingData))+1), ROW(430:430))),\"\")","v":"__3__SLD_REC09YSVCS_N"},"","",null,"__3__SLD_REC09YSVCS_N","","3SLDREC09YSVCSN","__3__SLD_REC09YSVCS_N",1,"______"]
[null,null,null,null,null,null,null,null,null,null,null,null,null,null,null,null,null,null,null,null,null,{"$f":"IFERROR(INDEX(MissingData, SMALL(IF(ISBLANK(MissingData)+ISERROR(MissingData)+LEN(MissingData)=0, \"\", ROW(MissingData)-MIN(ROW(MissingData))+1), ROW(431:431))),\"\")","v":"__3__SLD_REC09YOTHLOC_N"},"","",null,"__3__SLD_REC09YOTHLOC_N","","3SLDREC09YOTHLOCN","__3__SLD_REC09YOTHLOC_N",1,"______"]
[null,null,null,null,null,null,null,null,null,null,null,null,null,null,null,null,null,null,null,null,null,{"$f":"IFERROR(INDEX(MissingData, SMALL(IF(ISBLANK(MissingData)+ISERROR(MissingData)+LEN(MissingData)=0, \"\", ROW(MissingData)-MIN(ROW(MissingData))+1), ROW(432:432))),\"\")","v":"__3__SLD_RF_N"},"","",null,"__3__SLD_RF_N","","3SLDRFN","__3__SLD_RF_N",1,"______"]
[null,null,null,null,null,null,null,null,null,null,null,null,null,null,null,null,null,null,null,null,null,{"$f":"IFERROR(INDEX(MissingData, SMALL(IF(ISBLANK(MissingData)+ISERROR(MissingData)+LEN(MissingData)=0, \"\", ROW(MissingData)-MIN(ROW(MissingData))+1), ROW(433:433))),\"\")","v":"__3__SLD_SC_N"},"","",null,"__3__SLD_SC_N","","3SLDSCN","__3__SLD_SC_N",1,"______"]
[null,null,null,null,null,null,null,null,null,null,null,null,null,null,null,null,null,null,null,null,null,{"$f":"IFERROR(INDEX(MissingData, SMALL(IF(ISBLANK(MissingData)+ISERROR(MissingData)+LEN(MissingData)=0, \"\", ROW(MissingData)-MIN(ROW(MissingData))+1), ROW(434:434))),\"\")","v":"__3__SLD_SPL_N"},"","",null,"__3__SLD_SPL_N","","3SLDSPLN","__3__SLD_SPL_N",1,"______"]
[null,null,null,null,null,null,null,null,null,null,null,null,null,null,null,null,null,null,null,null,null,{"$f":"IFERROR(INDEX(MissingData, SMALL(IF(ISBLANK(MissingData)+ISERROR(MissingData)+LEN(MissingData)=0, \"\", ROW(MissingData)-MIN(ROW(MissingData))+1), ROW(435:435))),\"\")","v":"__3__SLD_SS_N"},"","",null,"__3__SLD_SS_N","","3SLDSSN","__3__SLD_SS_N",1,"______"]
[null,null,null,null,null,null,null,null,null,null,null,null,null,null,null,null,null,null,null,null,null,{"$f":"IFERROR(INDEX(MissingData, SMALL(IF(ISBLANK(MissingData)+ISERROR(MissingData)+LEN(MissingData)=0, \"\", ROW(MissingData)-MIN(ROW(MissingData))+1), ROW(436:436))),\"\")","v":"__3__SLI_REC09YSVCS_N"},"","",null,"__3__SLI_REC09YSVCS_N","","3SLIREC09YSVCSN","__3__SLI_REC09YSVCS_N",1,"______"]
[null,null,null,null,null,null,null,null,null,null,null,null,null,null,null,null,null,null,null,null,null,{"$f":"IFERROR(INDEX(MissingData, SMALL(IF(ISBLANK(MissingData)+ISERROR(MissingData)+LEN(MissingData)=0, \"\", ROW(MissingData)-MIN(ROW(MissingData))+1), ROW(437:437))),\"\")","v":"__3__SLI_REC09YOTHLOC_N"},"","",null,"__3__SLI_REC09YOTHLOC_N","","3SLIREC09YOTHLOCN","__3__SLI_REC09YOTHLOC_N",1,"______"]
[null,null,null,null,null,null,null,null,null,null,null,null,null,null,null,null,null,null,null,null,null,{"$f":"IFERROR(INDEX(MissingData, SMALL(IF(ISBLANK(MissingData)+ISERROR(MissingData)+LEN(MissingData)=0, \"\", ROW(MissingData)-MIN(ROW(MissingData))+1), ROW(438:438))),\"\")","v":"__3__SLI_RF_N"},"","",null,"__3__SLI_RF_N","","3SLIRFN","__3__SLI_RF_N",1,"______"]
[null,null,null,null,null,null,null,null,null,null,null,null,null,null,null,null,null,null,null,null,null,{"$f":"IFERROR(INDEX(MissingData, SMALL(IF(ISBLANK(MissingData)+ISERROR(MissingData)+LEN(MissingData)=0, \"\", ROW(MissingData)-MIN(ROW(MissingData))+1), ROW(439:439))),\"\")","v":"__3__TBI_H_N"},"","",null,"__3__TBI_H_N","","3TBIHN","__3__TBI_H_N",1,"______"]
[null,null,null,null,null,null,null,null,null,null,null,null,null,null,null,null,null,null,null,null,null,{"$f":"IFERROR(INDEX(MissingData, SMALL(IF(ISBLANK(MissingData)+ISERROR(MissingData)+LEN(MissingData)=0, \"\", ROW(MissingData)-MIN(ROW(MissingData))+1), ROW(440:440))),\"\")","v":"__AGE05NOTK__SLI_REC10YSVCS_N"},"","",null,"__AGE05NOTK__SLI_REC10YSVCS_N","","AGE05NOTKSLIREC10YSVCSN","__AGE05NOTK__SLI_REC10YSVCS_N",1,"______"]
[null,null,null,null,null,null,null,null,null,null,null,null,null,null,null,null,null,null,null,null,null,{"$f":"IFERROR(INDEX(MissingData, SMALL(IF(ISBLANK(MissingData)+ISERROR(MissingData)+LEN(MissingData)=0, \"\", ROW(MissingData)-MIN(ROW(MissingData))+1), ROW(441:441))),\"\")","v":"__3__TBI_REC09YSVCS_N"},"","",null,"__3__TBI_REC09YSVCS_N","","3TBIREC09YSVCSN","__3__TBI_REC09YSVCS_N",1,"______"]
[null,null,null,null,null,null,null,null,null,null,null,null,null,null,null,null,null,null,null,null,null,{"$f":"IFERROR(INDEX(MissingData, SMALL(IF(ISBLANK(MissingData)+ISERROR(MissingData)+LEN(MissingData)=0, \"\", ROW(MissingData)-MIN(ROW(MissingData))+1), ROW(442:442))),\"\")","v":"__3__TBI_REC09YOTHLOC_N"},"","",null,"__3__TBI_REC09YOTHLOC_N","","3TBIREC09YOTHLOCN","__3__TBI_REC09YOTHLOC_N",1,"______"]
[null,null,null,null,null,null,null,null,null,null,null,null,null,null,null,null,null,null,null,null,null,{"$f":"IFERROR(INDEX(MissingData, SMALL(IF(ISBLANK(MissingData)+ISERROR(MissingData)+LEN(MissingData)=0, \"\", ROW(MissingData)-MIN(ROW(MissingData))+1), ROW(443:443))),\"\")","v":"__3__TBI_RF_N"},"","",null,"__3__TBI_RF_N","","3TBIRFN","__3__TBI_RF_N",1,"______"]
[null,null,null,null,null,null,null,null,null,null,null,null,null,null,null,null,null,null,null,null,null,{"$f":"IFERROR(INDEX(MissingData, SMALL(IF(ISBLANK(MissingData)+ISERROR(MissingData)+LEN(MissingData)=0, \"\", ROW(MissingData)-MIN(ROW(MissingData))+1), ROW(444:444))),\"\")","v":"__3__TBI_SC_N"},"","",null,"__3__TBI_SC_N","","3TBISCN","__3__TBI_SC_N",1,"______"]
[null,null,null,null,null,null,null,null,null,null,null,null,null,null,null,null,null,null,null,null,null,{"$f":"IFERROR(INDEX(MissingData, SMALL(IF(ISBLANK(MissingData)+ISERROR(MissingData)+LEN(MissingData)=0, \"\", ROW(MissingData)-MIN(ROW(MissingData))+1), ROW(445:445))),\"\")","v":"__3__TBI_SPL_N"},"","",null,"__3__TBI_SPL_N","","3TBISPLN","__3__TBI_SPL_N",1,"______"]
[null,null,null,null,null,null,null,null,null,null,null,null,null,null,null,null,null,null,null,null,null,{"$f":"IFERROR(INDEX(MissingData, SMALL(IF(ISBLANK(MissingData)+ISERROR(MissingData)+LEN(MissingData)=0, \"\", ROW(MissingData)-MIN(ROW(MissingData))+1), ROW(446:446))),\"\")","v":"__3__VI_H_N"},"","",null,"__3__VI_H_N","","3VIHN","__3__VI_H_N",1,"______"]
[null,null,null,null,null,null,null,null,null,null,null,null,null,null,null,null,null,null,null,null,null,{"$f":"IFERROR(INDEX(MissingData, SMALL(IF(ISBLANK(MissingData)+ISERROR(MissingData)+LEN(MissingData)=0, \"\", ROW(MissingData)-MIN(ROW(MissingData))+1), ROW(447:447))),\"\")","v":"__3__VI_REC09YSVCS_N"},"","",null,"__3__VI_REC09YSVCS_N","","3VIREC09YSVCSN","__3__VI_REC09YSVCS_N",1,"______"]
[null,null,null,null,null,null,null,null,null,null,null,null,null,null,null,null,null,null,null,null,null,{"$f":"IFERROR(INDEX(MissingData, SMALL(IF(ISBLANK(MissingData)+ISERROR(MissingData)+LEN(MissingData)=0, \"\", ROW(MissingData)-MIN(ROW(MissingData))+1), ROW(448:448))),\"\")","v":"__3__VI_REC09YOTHLOC_N"},"","",null,"__3__VI_REC09YOTHLOC_N","","3VIREC09YOTHLOCN","__3__VI_REC09YOTHLOC_N",1,"______"]
[null,null,null,null,null,null,null,null,null,null,null,null,null,null,null,null,null,null,null,null,null,{"$f":"IFERROR(INDEX(MissingData, SMALL(IF(ISBLANK(MissingData)+ISERROR(MissingData)+LEN(MissingData)=0, \"\", ROW(MissingData)-MIN(ROW(MissingData))+1), ROW(449:449))),\"\")","v":"__3__VI_RF_N"},"","",null,"__3__VI_RF_N","","3VIRFN","__3__VI_RF_N",1,"______"]
[null,null,null,null,null,null,null,null,null,null,null,null,null,null,null,null,null,null,null,null,null,{"$f":"IFERROR(INDEX(MissingData, SMALL(IF(ISBLANK(MissingData)+ISERROR(MissingData)+LEN(MissingData)=0, \"\", ROW(MissingData)-MIN(ROW(MissingData))+1), ROW(450:450))),\"\")","v":"__3__VI_SC_N"},"","",null,"__3__VI_SC_N","","3VISCN","__3__VI_SC_N",1,"______"]
[null,null,null,null,null,null,null,null,null,null,null,null,null,null,null,null,null,null,null,null,null,{"$f":"IFERROR(INDEX(MissingData, SMALL(IF(ISBLANK(MissingData)+ISERROR(MissingData)+LEN(MissingData)=0, \"\", ROW(MissingData)-MIN(ROW(MissingData))+1), ROW(451:451))),\"\")","v":"__3__VI_SPL_N"},{"$f":"IF(LEN(AA464)=0,\"\",IF(COUNTIF(CurrentListing_C089,AA464)>1,AE464,\"\"))","v":""},{"$f":"IF(LEN(AA464)=0,\"\",IF(ISNA(MATCH(AA464,MasterListing,0)),AE464,\"\"))","v":""},null,{"$f":"IF(LEN(AC464)=0,\"\",IF(ISNA(MATCH(AB464,CurrentListing_C089,0)),AC464,\"\"))","v":"__3__VI_SPL_N"},{"$f":"G464&H464&I464&J464&K464&Q464&R464","v":""},"3VISPLN","__3__VI_SPL_N",{"$f":"IF(LEN(V464)>0,1,0)","v":1},{"$f":"G464&\"_\"&H464&\"_\"&I464&\"_\"&J464&\"_\"&K464&\"_\"&Q464&\"_\"&R464","v":"______"}]
[null,null,null,null,null,null,null,null,null,null,null,null,null,null,null,null,null,null,null,null,null,{"$f":"IFERROR(INDEX(MissingData, SMALL(IF(ISBLANK(MissingData)+ISERROR(MissingData)+LEN(MissingData)=0, \"\", ROW(MissingData)-MIN(ROW(MissingData))+1), ROW(452:452))),\"\")","v":"__3__VI_SS_N"},"","",null,"__3__VI_SS_N","","3VISSN","__3__VI_SS_N",1,"______"]
[null,null,null,null,null,null,null,null,null,null,null,null,null,null,null,null,null,null,null,null,null,{"$f":"IFERROR(INDEX(MissingData, SMALL(IF(ISBLANK(MissingData)+ISERROR(MissingData)+LEN(MissingData)=0, \"\", ROW(MissingData)-MIN(ROW(MissingData))+1), ROW(453:453))),\"\")","v":"__4__AUT_REC09YSVCS_N"},"","",null,"__4__AUT_REC09YSVCS_N","","4AUTREC09YSVCSN","__4__AUT_REC09YSVCS_N",1,"______"]
[null,null,null,null,null,null,null,null,null,null,null,null,null,null,null,null,null,null,null,null,null,{"$f":"IFERROR(INDEX(MissingData, SMALL(IF(ISBLANK(MissingData)+ISERROR(MissingData)+LEN(MissingData)=0, \"\", ROW(MissingData)-MIN(ROW(MissingData))+1), ROW(454:454))),\"\")","v":"__4__AUT_REC09YOTHLOC_N"},"","",null,"__4__AUT_REC09YOTHLOC_N","","4AUTREC09YOTHLOCN","__4__AUT_REC09YOTHLOC_N",1,"______"]
[null,null,null,null,null,null,null,null,null,null,null,null,null,null,null,null,null,null,null,null,null,{"$f":"IFERROR(INDEX(MissingData, SMALL(IF(ISBLANK(MissingData)+ISERROR(MissingData)+LEN(MissingData)=0, \"\", ROW(MissingData)-MIN(ROW(MissingData))+1), ROW(455:455))),\"\")","v":"__4__AUT_RF_N"},"","",null,"__4__AUT_RF_N","","4AUTRFN","__4__AUT_RF_N",1,"______"]
[null,null,null,null,null,null,null,null,null,null,null,null,null,null,null,null,null,null,null,null,null,{"$f":"IFERROR(INDEX(MissingData, SMALL(IF(ISBLANK(MissingData)+ISERROR(MissingData)+LEN(MissingData)=0, \"\", ROW(MissingData)-MIN(ROW(MissingData))+1), ROW(456:456))),\"\")","v":"__AGE05NOTK__TBI_REC10YSVCS_N"},"","",null,"__AGE05NOTK__TBI_REC10YSVCS_N","","AGE05NOTKTBIREC10YSVCSN","__AGE05NOTK__TBI_REC10YSVCS_N",1,"______"]
[null,null,null,null,null,null,null,null,null,null,null,null,null,null,null,null,null,null,null,null,null,{"$f":"IFERROR(INDEX(MissingData, SMALL(IF(ISBLANK(MissingData)+ISERROR(MissingData)+LEN(MissingData)=0, \"\", ROW(MissingData)-MIN(ROW(MissingData))+1), ROW(457:457))),\"\")","v":"__4__DB_REC09YSVCS_N"},"","",null,"__4__DB_REC09YSVCS_N","","4DBREC09YSVCSN","__4__DB_REC09YSVCS_N",1,"______"]
[null,null,null,null,null,null,null,null,null,null,null,null,null,null,null,null,null,null,null,null,null,{"$f":"IFERROR(INDEX(MissingData, SMALL(IF(ISBLANK(MissingData)+ISERROR(MissingData)+LEN(MissingData)=0, \"\", ROW(MissingData)-MIN(ROW(MissingData))+1), ROW(458:458))),\"\")","v":"__4__DB_REC09YOTHLOC_N"},"","",null,"__4__DB_REC09YOTHLOC_N","","4DBREC09YOTHLOCN","__4__DB_REC09YOTHLOC_N",1,"______"]
[null,null,null,null,null,null,null,null,null,null,null,null,null,null,null,null,null,null,null,null,null,{"$f":"IFERROR(INDEX(MissingData, SMALL(IF(ISBLANK(MissingData)+ISERROR(MissingData)+LEN(MissingData)=0, \"\", ROW(MissingData)-MIN(ROW(MissingData))+1), ROW(459:459))),\"\")","v":"__4__DB_RF_N"},"","",null,"__4__DB_RF_N","","4DBRFN","__4__DB_RF_N",1,"______"]
[null,null,null,null,null,null,null,null,null,null,null,null,null,null,null,null,null,null,null,null,null,{"$f":"IFERROR(INDEX(MissingData, SMALL(IF(ISBLANK(MissingData)+ISERROR(MissingData)+LEN(MissingData)=0, \"\", ROW(MissingData)-MIN(ROW(MissingData))+1), ROW(460:460))),\"\")","v":"__4__DB_SC_N"},"","",null,"__4__DB_SC_N","","4DBSCN","__4__DB_SC_N",1,"______"]
[null,null,null,null,null,null,null,null,null,null,null,null,null,null,null,null,null,null,null,null,null,{"$f":"IFERROR(INDEX(MissingData, SMALL(IF(ISBLANK(MissingData)+ISERROR(MissingData)+LEN(MissingData)=0, \"\", ROW(MissingData)-MIN(ROW(MissingData))+1), ROW(461:461))),\"\")","v":"__4__DB_SPL_N"},"","",null,"__4__DB_SPL_N","","4DBSPLN","__4__DB_SPL_N",1,"______"]
[null,null,null,null,null,null,null,null,null,null,null,null,null,null,null,null,null,null,null,null,null,{"$f":"IFERROR(INDEX(MissingData, SMALL(IF(ISBLANK(MissingData)+ISERROR(MissingData)+LEN(MissingData)=0, \"\", ROW(MissingData)-MIN(ROW(MissingData))+1), ROW(462:462))),\"\")","v":"__4__DB_SS_N"},"","",null,"__4__DB_SS_N","","4DBSSN","__4__DB_SS_N",1,"______"]
[null,null,null,null,null,null,null,null,null,null,null,null,null,null,null,null,null,null,null,null,null,{"$f":"IFERROR(INDEX(MissingData, SMALL(IF(ISBLANK(MissingData)+ISERROR(MissingData)+LEN(MissingData)=0, \"\", ROW(MissingData)-MIN(ROW(MissingData))+1), ROW(463:463))),\"\")","v":"__4__DD_REC09YSVCS_N"},"","",null,"__4__DD_REC09YSVCS_N","","4DDREC09YSVCSN","__4__DD_REC09YSVCS_N",1,"______"]
[null,null,null,null,null,null,null,null,null,null,null,null,null,null,null,null,null,null,null,null,null,{"$f":"IFERROR(INDEX(MissingData, SMALL(IF(ISBLANK(MissingData)+ISERROR(MissingData)+LEN(MissingData)=0, \"\", ROW(MissingData)-MIN(ROW(MissingData))+1), ROW(464:464))),\"\")","v":"__4__DD_REC09YOTHLOC_N"},"","",null,"__4__DD_REC09YOTHLOC_N","","4DDREC09YOTHLOCN","__4__DD_REC09YOTHLOC_N",1,"______"]
[null,null,null,null,null,null,null,null,null,null,null,null,null,null,null,null,null,null,null,null,null,{"$f":"IFERROR(INDEX(MissingData, SMALL(IF(ISBLANK(MissingData)+ISERROR(MissingData)+LEN(MissingData)=0, \"\", ROW(MissingData)-MIN(ROW(MissingData))+1), ROW(465:465))),\"\")","v":"__4__DD_RF_N"},"","",null,"__4__DD_RF_N","","4DDRFN","__4__DD_RF_N",1,"______"]
[null,null,null,null,null,null,null,null,null,null,null,null,null,null,null,null,null,null,null,null,null,{"$f":"IFERROR(INDEX(MissingData, SMALL(IF(ISBLANK(MissingData)+ISERROR(MissingData)+LEN(MissingData)=0, \"\", ROW(MissingData)-MIN(ROW(MissingData))+1), ROW(466:466))),\"\")","v":"__4__EMN_H_N"},"","",null,"__4__EMN_H_N","","4EMNHN","__4__EMN_H_N",1,"______"]
[null,null,null,null,null,null,null,null,null,null,null,null,null,null,null,null,null,null,null,null,null,{"$f":"IFERROR(INDEX(MissingData, SMALL(IF(ISBLANK(MissingData)+ISERROR(MissingData)+LEN(MissingData)=0, \"\", ROW(MissingData)-MIN(ROW(MissingData))+1), ROW(467:467))),\"\")","v":"__3__TBI_REC10YSVCS_N"},"","",null,"__3__TBI_REC10YSVCS_N","","3TBIREC10YSVCSN","__3__TBI_REC10YSVCS_N",1,"______"]
[null,null,null,null,null,null,null,null,null,null,null,null,null,null,null,null,null,null,null,null,null,{"$f":"IFERROR(INDEX(MissingData, SMALL(IF(ISBLANK(MissingData)+ISERROR(MissingData)+LEN(MissingData)=0, \"\", ROW(MissingData)-MIN(ROW(MissingData))+1), ROW(468:468))),\"\")","v":"__4__EMN_REC09YSVCS_N"},"","",null,"__4__EMN_REC09YSVCS_N","","4EMNREC09YSVCSN","__4__EMN_REC09YSVCS_N",1,"______"]
[null,null,null,null,null,null,null,null,null,null,null,null,null,null,null,null,null,null,null,null,null,{"$f":"IFERROR(INDEX(MissingData, SMALL(IF(ISBLANK(MissingData)+ISERROR(MissingData)+LEN(MissingData)=0, \"\", ROW(MissingData)-MIN(ROW(MissingData))+1), ROW(469:469))),\"\")","v":"__4__EMN_REC09YOTHLOC_N"},"","",null,"__4__EMN_REC09YOTHLOC_N","","4EMNREC09YOTHLOCN","__4__EMN_REC09YOTHLOC_N",1,"______"]
[null,null,null,null,null,null,null,null,null,null,null,null,null,null,null,null,null,null,null,null,null,{"$f":"IFERROR(INDEX(MissingData, SMALL(IF(ISBLANK(MissingData)+ISERROR(MissingData)+LEN(MissingData)=0, \"\", ROW(MissingData)-MIN(ROW(MissingData))+1), ROW(470:470))),\"\")","v":"__4__EMN_RF_N"},"","",null,"__4__EMN_RF_N","","4EMNRFN","__4__EMN_RF_N",1,"______"]
[null,null,null,null,null,null,null,null,null,null,null,null,null,null,null,null,null,null,null,null,null,{"$f":"IFERROR(INDEX(MissingData, SMALL(IF(ISBLANK(MissingData)+ISERROR(MissingData)+LEN(MissingData)=0, \"\", ROW(MissingData)-MIN(ROW(MissingData))+1), ROW(471:471))),\"\")","v":"__4__EMN_SC_N"},"","",null,"__4__EMN_SC_N","","4EMNSCN","__4__EMN_SC_N",1,"______"]
[null,null,null,null,null,null,null,null,null,null,null,null,null,null,null,null,null,null,null,null,null,{"$f":"IFERROR(INDEX(MissingData, SMALL(IF(ISBLANK(MissingData)+ISERROR(MissingData)+LEN(MissingData)=0, \"\", ROW(MissingData)-MIN(ROW(MissingData))+1), ROW(472:472))),\"\")","v":"__4__EMN_SPL_N"},"","",null,"__4__EMN_SPL_N","","4EMNSPLN","__4__EMN_SPL_N",1,"______"]
[null,null,null,null,null,null,null,null,null,null,null,null,null,null,null,null,null,null,null,null,null,{"$f":"IFERROR(INDEX(MissingData, SMALL(IF(ISBLANK(MissingData)+ISERROR(MissingData)+LEN(MissingData)=0, \"\", ROW(MissingData)-MIN(ROW(MissingData))+1), ROW(473:473))),\"\")","v":"__4__EMN_SS_N"},"","",null,"__4__EMN_SS_N","","4EMNSSN","__4__EMN_SS_N",1,"______"]
[null,null,null,null,null,null,null,null,null,null,null,null,null,null,null,null,null,null,null,null,null,{"$f":"IFERROR(INDEX(MissingData, SMALL(IF(ISBLANK(MissingData)+ISERROR(MissingData)+LEN(MissingData)=0, \"\", ROW(MissingData)-MIN(ROW(MissingData))+1), ROW(474:474))),\"\")","v":"__4__HI_H_N"},"","",null,"__4__HI_H_N","","4HIHN","__4__HI_H_N",1,"______"]
[null,null,null,null,null,null,null,null,null,null,null,null,null,null,null,null,null,null,null,null,null,{"$f":"IFERROR(INDEX(MissingData, SMALL(IF(ISBLANK(MissingData)+ISERROR(MissingData)+LEN(MissingData)=0, \"\", ROW(MissingData)-MIN(ROW(MissingData))+1), ROW(475:475))),\"\")","v":"__4__HI_REC09YSVCS_N"},"","",null,"__4__HI_REC09YSVCS_N","","4HIREC09YSVCSN","__4__HI_REC09YSVCS_N",1,"______"]
[null,null,null,null,null,null,null,null,null,null,null,null,null,null,null,null,null,null,null,null,null,{"$f":"IFERROR(INDEX(MissingData, SMALL(IF(ISBLANK(MissingData)+ISERROR(MissingData)+LEN(MissingData)=0, \"\", ROW(MissingData)-MIN(ROW(MissingData))+1), ROW(476:476))),\"\")","v":"__4__HI_REC09YOTHLOC_N"},"","",null,"__4__HI_REC09YOTHLOC_N","","4HIREC09YOTHLOCN","__4__HI_REC09YOTHLOC_N",1,"______"]
[null,null,null,null,null,null,null,null,null,null,null,null,null,null,null,null,null,null,null,null,null,{"$f":"IFERROR(INDEX(MissingData, SMALL(IF(ISBLANK(MissingData)+ISERROR(MissingData)+LEN(MissingData)=0, \"\", ROW(MissingData)-MIN(ROW(MissingData))+1), ROW(477:477))),\"\")","v":"__4__HI_RF_N"},"","",null,"__4__HI_RF_N","","4HIRFN","__4__HI_RF_N",1,"______"]
[null,null,null,null,null,null,null,null,null,null,null,null,null,null,null,null,null,null,null,null,null,{"$f":"IFERROR(INDEX(MissingData, SMALL(IF(ISBLANK(MissingData)+ISERROR(MissingData)+LEN(MissingData)=0, \"\", ROW(MissingData)-MIN(ROW(MissingData))+1), ROW(478:478))),\"\")","v":"__4__MD_REC09YSVCS_N"},"","",null,"__4__MD_REC09YSVCS_N","","4MDREC09YSVCSN","__4__MD_REC09YSVCS_N",1,"______"]
[null,null,null,null,null,null,null,null,null,null,null,null,null,null,null,null,null,null,null,null,null,{"$f":"IFERROR(INDEX(MissingData, SMALL(IF(ISBLANK(MissingData)+ISERROR(MissingData)+LEN(MissingData)=0, \"\", ROW(MissingData)-MIN(ROW(MissingData))+1), ROW(479:479))),\"\")","v":"__4__MD_REC09YOTHLOC_N"},"","",null,"__4__MD_REC09YOTHLOC_N","","4MDREC09YOTHLOCN","__4__MD_REC09YOTHLOC_N",1,"______"]
[null,null,null,null,null,null,null,null,null,null,null,null,null,null,null,null,null,null,null,null,null,{"$f":"IFERROR(INDEX(MissingData, SMALL(IF(ISBLANK(MissingData)+ISERROR(MissingData)+LEN(MissingData)=0, \"\", ROW(MissingData)-MIN(ROW(MissingData))+1), ROW(480:480))),\"\")","v":"__4__MD_RF_N"},"","",null,"__4__MD_RF_N","","4MDRFN","__4__MD_RF_N",1,"______"]
[null,null,null,null,null,null,null,null,null,null,null,null,null,null,null,null,null,null,null,null,null,{"$f":"IFERROR(INDEX(MissingData, SMALL(IF(ISBLANK(MissingData)+ISERROR(MissingData)+LEN(MissingData)=0, \"\", ROW(MissingData)-MIN(ROW(MissingData))+1), ROW(481:481))),\"\")","v":"__4__MD_SPL_N"},"","",null,"__4__MD_SPL_N","","4MDSPLN","__4__MD_SPL_N",1,"______"]
[null,null,null,null,null,null,null,null,null,null,null,null,null,null,null,null,null,null,null,null,null,{"$f":"IFERROR(INDEX(MissingData, SMALL(IF(ISBLANK(MissingData)+ISERROR(MissingData)+LEN(MissingData)=0, \"\", ROW(MissingData)-MIN(ROW(MissingData))+1), ROW(482:482))),\"\")","v":"__4__ID_H_N"},"","",null,"__4__ID_H_N","","4IDHN","__4__ID_H_N",1,"______"]
[null,null,null,null,null,null,null,null,null,null,null,null,null,null,null,null,null,null,null,null,null,{"$f":"IFERROR(INDEX(MissingData, SMALL(IF(ISBLANK(MissingData)+ISERROR(MissingData)+LEN(MissingData)=0, \"\", ROW(MissingData)-MIN(ROW(MissingData))+1), ROW(483:483))),\"\")","v":"__4__ID_REC09YSVCS_N"},"","",null,"__4__ID_REC09YSVCS_N","","4IDREC09YSVCSN","__4__ID_REC09YSVCS_N",1,"______"]
[null,null,null,null,null,null,null,null,null,null,null,null,null,null,null,null,null,null,null,null,null,{"$f":"IFERROR(INDEX(MissingData, SMALL(IF(ISBLANK(MissingData)+ISERROR(MissingData)+LEN(MissingData)=0, \"\", ROW(MissingData)-MIN(ROW(MissingData))+1), ROW(484:484))),\"\")","v":"__4__ID_REC09YOTHLOC_N"},"","",null,"__4__ID_REC09YOTHLOC_N","","4IDREC09YOTHLOCN","__4__ID_REC09YOTHLOC_N",1,"______"]
[null,null,null,null,null,null,null,null,null,null,null,null,null,null,null,null,null,null,null,null,null,{"$f":"IFERROR(INDEX(MissingData, SMALL(IF(ISBLANK(MissingData)+ISERROR(MissingData)+LEN(MissingData)=0, \"\", ROW(MissingData)-MIN(ROW(MissingData))+1), ROW(485:485))),\"\")","v":"__4__ID_RF_N"},"","",null,"__4__ID_RF_N","","4IDRFN","__4__ID_RF_N",1,"______"]
[null,null,null,null,null,null,null,null,null,null,null,null,null,null,null,null,null,null,null,null,null,{"$f":"IFERROR(INDEX(MissingData, SMALL(IF(ISBLANK(MissingData)+ISERROR(MissingData)+LEN(MissingData)=0, \"\", ROW(MissingData)-MIN(ROW(MissingData))+1), ROW(486:486))),\"\")","v":"__4__ID_SPL_N"},"","",null,"__4__ID_SPL_N","","4IDSPLN","__4__ID_SPL_N",1,"______"]
[null,null,null,null,null,null,null,null,null,null,null,null,null,null,null,null,null,null,null,null,null,{"$f":"IFERROR(INDEX(MissingData, SMALL(IF(ISBLANK(MissingData)+ISERROR(MissingData)+LEN(MissingData)=0, \"\", ROW(MissingData)-MIN(ROW(MissingData))+1), ROW(487:487))),\"\")","v":"__4__ID_SS_N"},"","",null,"__4__ID_SS_N","","4IDSSN","__4__ID_SS_N",1,"______"]
[null,null,null,null,null,null,null,null,null,null,null,null,null,null,null,null,null,null,null,null,null,{"$f":"IFERROR(INDEX(MissingData, SMALL(IF(ISBLANK(MissingData)+ISERROR(MissingData)+LEN(MissingData)=0, \"\", ROW(MissingData)-MIN(ROW(MissingData))+1), ROW(488:488))),\"\")","v":"__4__OHI_REC09YSVCS_N"},"","",null,"__4__OHI_REC09YSVCS_N","","4OHIREC09YSVCSN","__4__OHI_REC09YSVCS_N",1,"______"]
[null,null,null,null,null,null,null,null,null,null,null,null,null,null,null,null,null,null,null,null,null,{"$f":"IFERROR(INDEX(MissingData, SMALL(IF(ISBLANK(MissingData)+ISERROR(MissingData)+LEN(MissingData)=0, \"\", ROW(MissingData)-MIN(ROW(MissingData))+1), ROW(489:489))),\"\")","v":"__4__OHI_REC09YOTHLOC_N"},"","",null,"__4__OHI_REC09YOTHLOC_N","","4OHIREC09YOTHLOCN","__4__OHI_REC09YOTHLOC_N",1,"______"]
[null,null,null,null,null,null,null,null,null,null,null,null,null,null,null,null,null,null,null,null,null,{"$f":"IFERROR(INDEX(MissingData, SMALL(IF(ISBLANK(MissingData)+ISERROR(MissingData)+LEN(MissingData)=0, \"\", ROW(MissingData)-MIN(ROW(MissingData))+1), ROW(490:490))),\"\")","v":"__4__OHI_RF_N"},"","",null,"__4__OHI_RF_N","","4OHIRFN","__4__OHI_RF_N",1,"______"]
[null,null,null,null,null,null,null,null,null,null,null,null,null,null,null,null,null,null,null,null,null,{"$f":"IFERROR(INDEX(MissingData, SMALL(IF(ISBLANK(MissingData)+ISERROR(MissingData)+LEN(MissingData)=0, \"\", ROW(MissingData)-MIN(ROW(MissingData))+1), ROW(491:491))),\"\")","v":"__4__OHI_SPL_N"},"","",null,"__4__OHI_SPL_N","","4OHISPLN","__4__OHI_SPL_N",1,"______"]
[null,null,null,null,null,null,null,null,null,null,null,null,null,null,null,null,null,null,null,null,null,{"$f":"IFERROR(INDEX(MissingData, SMALL(IF(ISBLANK(MissingData)+ISERROR(MissingData)+LEN(MissingData)=0, \"\", ROW(MissingData)-MIN(ROW(MissingData))+1), ROW(492:492))),\"\")","v":"__4__OHI_SS_N"},"","",null,"__4__OHI_SS_N","","4OHISSN","__4__OHI_SS_N",1,"______"]
[null,null,null,null,null,null,null,null,null,null,null,null,null,null,null,null,null,null,null,null,null,{"$f":"IFERROR(INDEX(MissingData, SMALL(IF(ISBLANK(MissingData)+ISERROR(MissingData)+LEN(MissingData)=0, \"\", ROW(MissingData)-MIN(ROW(MissingData))+1), ROW(493:493))),\"\")","v":"__4__OI_REC09YSVCS_N"},"","",null,"__4__OI_REC09YSVCS_N","","4OIREC09YSVCSN","__4__OI_REC09YSVCS_N",1,"______"]
[null,null,null,null,null,null,null,null,null,null,null,null,null,null,null,null,null,null,null,null,null,{"$f":"IFERROR(INDEX(MissingData, SMALL(IF(ISBLANK(MissingData)+ISERROR(MissingData)+LEN(MissingData)=0, \"\", ROW(MissingData)-MIN(ROW(MissingData))+1), ROW(494:494))),\"\")","v":"__4__OI_REC09YOTHLOC_N"},"","",null,"__4__OI_REC09YOTHLOC_N","","4OIREC09YOTHLOCN","__4__OI_REC09YOTHLOC_N",1,"______"]
[null,null,null,null,null,null,null,null,null,null,null,null,null,null,null,null,null,null,null,null,null,{"$f":"IFERROR(INDEX(MissingData, SMALL(IF(ISBLANK(MissingData)+ISERROR(MissingData)+LEN(MissingData)=0, \"\", ROW(MissingData)-MIN(ROW(MissingData))+1), ROW(495:495))),\"\")","v":"__4__OI_RF_N"},"","",null,"__4__OI_RF_N","","4OIRFN","__4__OI_RF_N",1,"______"]
[null,null,null,null,null,null,null,null,null,null,null,null,null,null,null,null,null,null,null,null,null,{"$f":"IFERROR(INDEX(MissingData, SMALL(IF(ISBLANK(MissingData)+ISERROR(MissingData)+LEN(MissingData)=0, \"\", ROW(MissingData)-MIN(ROW(MissingData))+1), ROW(496:496))),\"\")","v":"__4__OI_SPL_N"},"","",null,"__4__OI_SPL_N","","4OISPLN","__4__OI_SPL_N",1,"______"]
[null,null,null,null,null,null,null,null,null,null,null,null,null,null,null,null,null,null,null,null,null,{"$f":"IFERROR(INDEX(MissingData, SMALL(IF(ISBLANK(MissingData)+ISERROR(MissingData)+LEN(MissingData)=0, \"\", ROW(MissingData)-MIN(ROW(MissingData))+1), ROW(497:497))),\"\")","v":"__4__SLD_H_N"},"","",null,"__4__SLD_H_N","","4SLDHN","__4__SLD_H_N",1,"______"]
[null,null,null,null,null,null,null,null,null,null,null,null,null,null,null,null,null,null,null,null,null,{"$f":"IFERROR(INDEX(MissingData, SMALL(IF(ISBLANK(MissingData)+ISERROR(MissingData)+LEN(MissingData)=0, \"\", ROW(MissingData)-MIN(ROW(MissingData))+1), ROW(498:498))),\"\")","v":"__4__TBI_REC10YSVCS_N"},"","",null,"__4__TBI_REC10YSVCS_N","","4TBIREC10YSVCSN","__4__TBI_REC10YSVCS_N",1,"______"]
[null,null,null,null,null,null,null,null,null,null,null,null,null,null,null,null,null,null,null,null,null,{"$f":"IFERROR(INDEX(MissingData, SMALL(IF(ISBLANK(MissingData)+ISERROR(MissingData)+LEN(MissingData)=0, \"\", ROW(MissingData)-MIN(ROW(MissingData))+1), ROW(499:499))),\"\")","v":"__4__SLD_REC10YOTHLOC_N"},"","",null,"__4__SLD_REC10YOTHLOC_N","","4SLDREC10YOTHLOCN","__4__SLD_REC10YOTHLOC_N",1,"______"]
[null,null,null,null,null,null,null,null,null,null,null,null,null,null,null,null,null,null,null,null,null,{"$f":"IFERROR(INDEX(MissingData, SMALL(IF(ISBLANK(MissingData)+ISERROR(MissingData)+LEN(MissingData)=0, \"\", ROW(MissingData)-MIN(ROW(MissingData))+1), ROW(500:500))),\"\")","v":"__4__SLD_REC09YSVCS_N"},"","",null,"__4__SLD_REC09YSVCS_N","","4SLDREC09YSVCSN","__4__SLD_REC09YSVCS_N",1,"______"]
[null,null,null,null,null,null,null,null,null,null,null,null,null,null,null,null,null,null,null,null,null,{"$f":"IFERROR(INDEX(MissingData, SMALL(IF(ISBLANK(MissingData)+ISERROR(MissingData)+LEN(MissingData)=0, \"\", ROW(MissingData)-MIN(ROW(MissingData))+1), ROW(501:501))),\"\")","v":"__4__SLD_REC09YOTHLOC_N"},"","",null,"__4__SLD_REC09YOTHLOC_N","","4SLDREC09YOTHLOCN","__4__SLD_REC09YOTHLOC_N",1,"______"]
[null,null,null,null,null,null,null,null,null,null,null,null,null,null,null,null,null,null,null,null,null,{"$f":"IFERROR(INDEX(MissingData, SMALL(IF(ISBLANK(MissingData)+ISERROR(MissingData)+LEN(MissingData)=0, \"\", ROW(MissingData)-MIN(ROW(MissingData))+1), ROW(502:502))),\"\")","v":"__4__SLD_RF_N"},"","",null,"__4__SLD_RF_N","","4SLDRFN","__4__SLD_RF_N",1,"______"]
[null,null,null,null,null,null,null,null,null,null,null,null,null,null,null,null,null,null,null,null,null,{"$f":"IFERROR(INDEX(MissingData, SMALL(IF(ISBLANK(MissingData)+ISERROR(MissingData)+LEN(MissingData)=0, \"\", ROW(MissingData)-MIN(ROW(MissingData))+1), ROW(503:503))),\"\")","v":"__4__SLD_SC_N"},"","",null,"__4__SLD_SC_N","","4SLDSCN","__4__SLD_SC_N",1,"______"]
[null,null,null,null,null,null,null,null,null,null,null,null,null,null,null,null,null,null,null,null,null,{"$f":"IFERROR(INDEX(MissingData, SMALL(IF(ISBLANK(MissingData)+ISERROR(MissingData)+LEN(MissingData)=0, \"\", ROW(MissingData)-MIN(ROW(MissingData))+1), ROW(504:504))),\"\")","v":"__4__SLD_SPL_N"},"","",null,"__4__SLD_SPL_N","","4SLDSPLN","__4__SLD_SPL_N",1,"______"]
[null,null,null,null,null,null,null,null,null,null,null,null,null,null,null,null,null,null,null,null,null,{"$f":"IFERROR(INDEX(MissingData, SMALL(IF(ISBLANK(MissingData)+ISERROR(MissingData)+LEN(MissingData)=0, \"\", ROW(MissingData)-MIN(ROW(MissingData))+1), ROW(505:505))),\"\")","v":"__4__SLD_SS_N"},"","",null,"__4__SLD_SS_N","","4SLDSSN","__4__SLD_SS_N",1,"______"]
[null,null,null,null,null,null,null,null,null,null,null,null,null,null,null,null,null,null,null,null,null,{"$f":"IFERROR(INDEX(MissingData, SMALL(IF(ISBLANK(MissingData)+ISERROR(MissingData)+LEN(MissingData)=0, \"\", ROW(MissingData)-MIN(ROW(MissingData))+1), ROW(506:506))),\"\")","v":"__4__SLI_REC09YSVCS_N"},"","",null,"__4__SLI_REC09YSVCS_N","","4SLIREC09YSVCSN","__4__SLI_REC09YSVCS_N",1,"______"]
[null,null,null,null,null,null,null,null,null,null,null,null,null,null,null,null,null,null,null,null,null,{"$f":"IFERROR(INDEX(MissingData, SMALL(IF(ISBLANK(MissingData)+ISERROR(MissingData)+LEN(MissingData)=0, \"\", ROW(MissingData)-MIN(ROW(MissingData))+1), ROW(507:507))),\"\")","v":"__4__SLI_RF_N"},"","",null,"__4__SLI_RF_N","","4SLIRFN","__4__SLI_RF_N",1,"______"]
[null,null,null,null,null,null,null,null,null,null,null,null,null,null,null,null,null,null,null,null,null,{"$f":"IFERROR(INDEX(MissingData, SMALL(IF(ISBLANK(MissingData)+ISERROR(MissingData)+LEN(MissingData)=0, \"\", ROW(MissingData)-MIN(ROW(MissingData))+1), ROW(508:508))),\"\")","v":"__4__TBI_H_N"},"","",null,"__4__TBI_H_N","","4TBIHN","__4__TBI_H_N",1,"______"]
[null,null,null,null,null,null,null,null,null,null,null,null,null,null,null,null,null,null,null,null,null,{"$f":"IFERROR(INDEX(MissingData, SMALL(IF(ISBLANK(MissingData)+ISERROR(MissingData)+LEN(MissingData)=0, \"\", ROW(MissingData)-MIN(ROW(MissingData))+1), ROW(509:509))),\"\")","v":"__3__VI_REC10YSVCS_N"},"","",null,"__3__VI_REC10YSVCS_N","","3VIREC10YSVCSN","__3__VI_REC10YSVCS_N",1,"______"]
[null,null,null,null,null,null,null,null,null,null,null,null,null,null,null,null,null,null,null,null,null,{"$f":"IFERROR(INDEX(MissingData, SMALL(IF(ISBLANK(MissingData)+ISERROR(MissingData)+LEN(MissingData)=0, \"\", ROW(MissingData)-MIN(ROW(MissingData))+1), ROW(510:510))),\"\")","v":"__4__TBI_REC09YSVCS_N"},"","",null,"__4__TBI_REC09YSVCS_N","","4TBIREC09YSVCSN","__4__TBI_REC09YSVCS_N",1,"______"]
[null,null,null,null,null,null,null,null,null,null,null,null,null,null,null,null,null,null,null,null,null,{"$f":"IFERROR(INDEX(MissingData, SMALL(IF(ISBLANK(MissingData)+ISERROR(MissingData)+LEN(MissingData)=0, \"\", ROW(MissingData)-MIN(ROW(MissingData))+1), ROW(511:511))),\"\")","v":"__4__TBI_REC09YOTHLOC_N"},"","",null,"__4__TBI_REC09YOTHLOC_N","","4TBIREC09YOTHLOCN","__4__TBI_REC09YOTHLOC_N",1,"______"]
[null,null,null,null,null,null,null,null,null,null,null,null,null,null,null,null,null,null,null,null,null,{"$f":"IFERROR(INDEX(MissingData, SMALL(IF(ISBLANK(MissingData)+ISERROR(MissingData)+LEN(MissingData)=0, \"\", ROW(MissingData)-MIN(ROW(MissingData))+1), ROW(512:512))),\"\")","v":"__4__TBI_RF_N"},"","",null,"__4__TBI_RF_N","","4TBIRFN","__4__TBI_RF_N",1,"______"]
[null,null,null,null,null,null,null,null,null,null,null,null,null,null,null,null,null,null,null,null,null,{"$f":"IFERROR(INDEX(MissingData, SMALL(IF(ISBLANK(MissingData)+ISERROR(MissingData)+LEN(MissingData)=0, \"\", ROW(MissingData)-MIN(ROW(MissingData))+1), ROW(513:513))),\"\")","v":"__4__TBI_SPL_N"},"","",null,"__4__TBI_SPL_N","","4TBISPLN","__4__TBI_SPL_N",1,"______"]
[null,null,null,null,null,null,null,null,null,null,null,null,null,null,null,null,null,null,null,null,null,{"$f":"IFERROR(INDEX(MissingData, SMALL(IF(ISBLANK(MissingData)+ISERROR(MissingData)+LEN(MissingData)=0, \"\", ROW(MissingData)-MIN(ROW(MissingData))+1), ROW(514:514))),\"\")","v":"__4__TBI_SS_N"},"","",null,"__4__TBI_SS_N","","4TBISSN","__4__TBI_SS_N",1,"______"]
[null,null,null,null,null,null,null,null,null,null,null,null,null,null,null,null,null,null,null,null,null,{"$f":"IFERROR(INDEX(MissingData, SMALL(IF(ISBLANK(MissingData)+ISERROR(MissingData)+LEN(MissingData)=0, \"\", ROW(MissingData)-MIN(ROW(MissingData))+1), ROW(515:515))),\"\")","v":"__4__VI_H_N"},{"$f":"IF(LEN(AA528)=0,\"\",IF(COUNTIF(CurrentListing_C089,AA528)>1,AE528,\"\"))","v":""},{"$f":"IF(LEN(AA528)=0,\"\",IF(ISNA(MATCH(AA528,MasterListing,0)),AE528,\"\"))","v":""},null,{"$f":"IF(LEN(AC528)=0,\"\",IF(ISNA(MATCH(AB528,CurrentListing_C089,0)),AC528,\"\"))","v":"__4__VI_H_N"},{"$f":"G528&H528&I528&J528&K528&Q528&R528","v":""},"4VIHN","__4__VI_H_N",{"$f":"IF(LEN(V528)>0,1,0)","v":1},{"$f":"G528&\"_\"&H528&\"_\"&I528&\"_\"&J528&\"_\"&K528&\"_\"&Q528&\"_\"&R528","v":"______"}]
[null,null,null,null,null,null,null,null,null,null,null,null,null,null,null,null,null,null,null,null,null,{"$f":"IFERROR(INDEX(MissingData, SMALL(IF(ISBLANK(MissingData)+ISERROR(MissingData)+LEN(MissingData)=0, \"\", ROW(MissingData)-MIN(ROW(MissingData))+1), ROW(516:516))),\"\")","v":"__4__VI_REC09YSVCS_N"},"","",null,"__4__VI_REC09YSVCS_N","","4VIREC09YSVCSN","__4__VI_REC09YSVCS_N",1,"______"]
[null,null,null,null,null,null,null,null,null,null,null,null,null,null,null,null,null,null,null,null,null,{"$f":"IFERROR(INDEX(MissingData, SMALL(IF(ISBLANK(MissingData)+ISERROR(MissingData)+LEN(MissingData)=0, \"\", ROW(MissingData)-MIN(ROW(MissingData))+1), ROW(517:517))),\"\")","v":"__4__VI_REC09YOTHLOC_N"},"","",null,"__4__VI_REC09YOTHLOC_N","","4VIREC09YOTHLOCN","__4__VI_REC09YOTHLOC_N",1,"______"]
[null,null,null,null,null,null,null,null,null,null,null,null,null,null,null,null,null,null,null,null,null,{"$f":"IFERROR(INDEX(MissingData, SMALL(IF(ISBLANK(MissingData)+ISERROR(MissingData)+LEN(MissingData)=0, \"\", ROW(MissingData)-MIN(ROW(MissingData))+1), ROW(518:518))),\"\")","v":"__4__VI_RF_N"},"","",null,"__4__VI_RF_N","","4VIRFN","__4__VI_RF_N",1,"______"]
[null,null,null,null,null,null,null,null,null,null,null,null,null,null,null,null,null,null,null,null,null,{"$f":"IFERROR(INDEX(MissingData, SMALL(IF(ISBLANK(MissingData)+ISERROR(MissingData)+LEN(MissingData)=0, \"\", ROW(MissingData)-MIN(ROW(MissingData))+1), ROW(519:519))),\"\")","v":"__4__VI_SPL_N"},"","",null,"__4__VI_SPL_N","","4VISPLN","__4__VI_SPL_N",1,"______"]
[null,null,null,null,null,null,null,null,null,null,null,null,null,null,null,null,null,null,null,null,null,{"$f":"IFERROR(INDEX(MissingData, SMALL(IF(ISBLANK(MissingData)+ISERROR(MissingData)+LEN(MissingData)=0, \"\", ROW(MissingData)-MIN(ROW(MissingData))+1), ROW(520:520))),\"\")","v":"__4__VI_SS_N"},"","",null,"__4__VI_SS_N","","4VISSN","__4__VI_SS_N",1,"______"]
[null,null,null,null,null,null,null,null,null,null,null,null,null,null,null,null,null,null,null,null,null,{"$f":"IFERROR(INDEX(MissingData, SMALL(IF(ISBLANK(MissingData)+ISERROR(MissingData)+LEN(MissingData)=0, \"\", ROW(MissingData)-MIN(ROW(MissingData))+1), ROW(521:521))),\"\")","v":"__AGE05NOTK__AUT_REC09YSVCS_N"},"","",null,"__AGE05NOTK__AUT_REC09YSVCS_N","","AGE05NOTKAUTREC09YSVCSN","__AGE05NOTK__AUT_REC09YSVCS_N",1,"______"]
[null,null,null,null,null,null,null,null,null,null,null,null,null,null,null,null,null,null,null,null,null,{"$f":"IFERROR(INDEX(MissingData, SMALL(IF(ISBLANK(MissingData)+ISERROR(MissingData)+LEN(MissingData)=0, \"\", ROW(MissingData)-MIN(ROW(MissingData))+1), ROW(522:522))),\"\")","v":"__AGE05NOTK__AUT_RF_N"},"","",null,"__AGE05NOTK__AUT_RF_N","","AGE05NOTKAUTRFN","__AGE05NOTK__AUT_RF_N",1,"______"]
[null,null,null,null,null,null,null,null,null,null,null,null,null,null,null,null,null,null,null,null,null,{"$f":"IFERROR(INDEX(MissingData, SMALL(IF(ISBLANK(MissingData)+ISERROR(MissingData)+LEN(MissingData)=0, \"\", ROW(MissingData)-MIN(ROW(MissingData))+1), ROW(523:523))),\"\")","v":"__AGE05NOTK__DB_H_N"},"","",null,"__AGE05NOTK__DB_H_N","","AGE05NOTKDBHN","__AGE05NOTK__DB_H_N",1,"______"]
[null,null,null,null,null,null,null,null,null,null,null,null,null,null,null,null,null,null,null,null,null,{"$f":"IFERROR(INDEX(MissingData, SMALL(IF(ISBLANK(MissingData)+ISERROR(MissingData)+LEN(MissingData)=0, \"\", ROW(MissingData)-MIN(ROW(MissingData))+1), ROW(524:524))),\"\")","v":"__4__VI_REC10YSVCS_N"},"","",null,"__4__VI_REC10YSVCS_N","","4VIREC10YSVCSN","__4__VI_REC10YSVCS_N",1,"______"]
[null,null,null,null,null,null,null,null,null,null,null,null,null,null,null,null,null,null,null,null,null,{"$f":"IFERROR(INDEX(MissingData, SMALL(IF(ISBLANK(MissingData)+ISERROR(MissingData)+LEN(MissingData)=0, \"\", ROW(MissingData)-MIN(ROW(MissingData))+1), ROW(525:525))),\"\")","v":"__AGE05NOTK__DB_REC10YOTHLOC_N"},"","",null,"__AGE05NOTK__DB_REC10YOTHLOC_N","","AGE05NOTKDBREC10YOTHLOCN","__AGE05NOTK__DB_REC10YOTHLOC_N",1,"______"]
[null,null,null,null,null,null,null,null,null,null,null,null,null,null,null,null,null,null,null,null,null,{"$f":"IFERROR(INDEX(MissingData, SMALL(IF(ISBLANK(MissingData)+ISERROR(MissingData)+LEN(MissingData)=0, \"\", ROW(MissingData)-MIN(ROW(MissingData))+1), ROW(526:526))),\"\")","v":"__AGE05NOTK__DB_REC09YSVCS_N"},"","",null,"__AGE05NOTK__DB_REC09YSVCS_N","","AGE05NOTKDBREC09YSVCSN","__AGE05NOTK__DB_REC09YSVCS_N",1,"______"]
[null,null,null,null,null,null,null,null,null,null,null,null,null,null,null,null,null,null,null,null,null,{"$f":"IFERROR(INDEX(MissingData, SMALL(IF(ISBLANK(MissingData)+ISERROR(MissingData)+LEN(MissingData)=0, \"\", ROW(MissingData)-MIN(ROW(MissingData))+1), ROW(527:527))),\"\")","v":"__AGE05NOTK__DB_REC09YOTHLOC_N"},"","",null,"__AGE05NOTK__DB_REC09YOTHLOC_N","","AGE05NOTKDBREC09YOTHLOCN","__AGE05NOTK__DB_REC09YOTHLOC_N",1,"______"]
[null,null,null,null,null,null,null,null,null,null,null,null,null,null,null,null,null,null,null,null,null,{"$f":"IFERROR(INDEX(MissingData, SMALL(IF(ISBLANK(MissingData)+ISERROR(MissingData)+LEN(MissingData)=0, \"\", ROW(MissingData)-MIN(ROW(MissingData))+1), ROW(528:528))),\"\")","v":"__AGE05NOTK__DB_RF_N"},"","",null,"__AGE05NOTK__DB_RF_N","","AGE05NOTKDBRFN","__AGE05NOTK__DB_RF_N",1,"______"]
[null,null,null,null,null,null,null,null,null,null,null,null,null,null,null,null,null,null,null,null,null,{"$f":"IFERROR(INDEX(MissingData, SMALL(IF(ISBLANK(MissingData)+ISERROR(MissingData)+LEN(MissingData)=0, \"\", ROW(MissingData)-MIN(ROW(MissingData))+1), ROW(529:529))),\"\")","v":"__AGE05NOTK__DB_SPL_N"},"","",null,"__AGE05NOTK__DB_SPL_N","","AGE05NOTKDBSPLN","__AGE05NOTK__DB_SPL_N",1,"______"]
[null,null,null,null,null,null,null,null,null,null,null,null,null,null,null,null,null,null,null,null,null,{"$f":"IFERROR(INDEX(MissingData, SMALL(IF(ISBLANK(MissingData)+ISERROR(MissingData)+LEN(MissingData)=0, \"\", ROW(MissingData)-MIN(ROW(MissingData))+1), ROW(530:530))),\"\")","v":"__AGE05NOTK__DB_SS_N"},"","",null,"__AGE05NOTK__DB_SS_N","","AGE05NOTKDBSSN","__AGE05NOTK__DB_SS_N",1,"______"]
[null,null,null,null,null,null,null,null,null,null,null,null,null,null,null,null,null,null,null,null,null,{"$f":"IFERROR(INDEX(MissingData, SMALL(IF(ISBLANK(MissingData)+ISERROR(MissingData)+LEN(MissingData)=0, \"\", ROW(MissingData)-MIN(ROW(MissingData))+1), ROW(531:531))),\"\")","v":"__AGE05NOTK__DD_REC09YSVCS_N"},"","",null,"__AGE05NOTK__DD_REC09YSVCS_N","","AGE05NOTKDDREC09YSVCSN","__AGE05NOTK__DD_REC09YSVCS_N",1,"______"]
[null,null,null,null,null,null,null,null,null,null,null,null,null,null,null,null,null,null,null,null,null,{"$f":"IFERROR(INDEX(MissingData, SMALL(IF(ISBLANK(MissingData)+ISERROR(MissingData)+LEN(MissingData)=0, \"\", ROW(MissingData)-MIN(ROW(MissingData))+1), ROW(532:532))),\"\")","v":"__AGE05NOTK__DD_RF_N"},"","",null,"__AGE05NOTK__DD_RF_N","","AGE05NOTKDDRFN","__AGE05NOTK__DD_RF_N",1,"______"]
[null,null,null,null,null,null,null,null,null,null,null,null,null,null,null,null,null,null,null,null,null,{"$f":"IFERROR(INDEX(MissingData, SMALL(IF(ISBLANK(MissingData)+ISERROR(MissingData)+LEN(MissingData)=0, \"\", ROW(MissingData)-MIN(ROW(MissingData))+1), ROW(533:533))),\"\")","v":"__AGE05NOTK__EMN_H_N"},"","",null,"__AGE05NOTK__EMN_H_N","","AGE05NOTKEMNHN","__AGE05NOTK__EMN_H_N",1,"______"]
[null,null,null,null,null,null,null,null,null,null,null,null,null,null,null,null,null,null,null,null,null,{"$f":"IFERROR(INDEX(MissingData, SMALL(IF(ISBLANK(MissingData)+ISERROR(MissingData)+LEN(MissingData)=0, \"\", ROW(MissingData)-MIN(ROW(MissingData))+1), ROW(534:534))),\"\")","v":"__AGE05NOTK__EMN_REC10YOTHLOC_N"},"","",null,"__AGE05NOTK__EMN_REC10YOTHLOC_N","","AGE05NOTKEMNREC10YOTHLOCN","__AGE05NOTK__EMN_REC10YOTHLOC_N",1,"______"]
[null,null,null,null,null,null,null,null,null,null,null,null,null,null,null,null,null,null,null,null,null,{"$f":"IFERROR(INDEX(MissingData, SMALL(IF(ISBLANK(MissingData)+ISERROR(MissingData)+LEN(MissingData)=0, \"\", ROW(MissingData)-MIN(ROW(MissingData))+1), ROW(535:535))),\"\")","v":"__AGE05NOTK__EMN_REC09YSVCS_N"},"","",null,"__AGE05NOTK__EMN_REC09YSVCS_N","","AGE05NOTKEMNREC09YSVCSN","__AGE05NOTK__EMN_REC09YSVCS_N",1,"______"]
[null,null,null,null,null,null,null,null,null,null,null,null,null,null,null,null,null,null,null,null,null,{"$f":"IFERROR(INDEX(MissingData, SMALL(IF(ISBLANK(MissingData)+ISERROR(MissingData)+LEN(MissingData)=0, \"\", ROW(MissingData)-MIN(ROW(MissingData))+1), ROW(536:536))),\"\")","v":"__AGE05NOTK__EMN_REC09YOTHLOC_N"},"","",null,"__AGE05NOTK__EMN_REC09YOTHLOC_N","","AGE05NOTKEMNREC09YOTHLOCN","__AGE05NOTK__EMN_REC09YOTHLOC_N",1,"______"]
[null,null,null,null,null,null,null,null,null,null,null,null,null,null,null,null,null,null,null,null,null,{"$f":"IFERROR(INDEX(MissingData, SMALL(IF(ISBLANK(MissingData)+ISERROR(MissingData)+LEN(MissingData)=0, \"\", ROW(MissingData)-MIN(ROW(MissingData))+1), ROW(537:537))),\"\")","v":"__AGE05NOTK__EMN_RF_N"},"","",null,"__AGE05NOTK__EMN_RF_N","","AGE05NOTKEMNRFN","__AGE05NOTK__EMN_RF_N",1,"______"]
[null,null,null,null,null,null,null,null,null,null,null,null,null,null,null,null,null,null,null,null,null,{"$f":"IFERROR(INDEX(MissingData, SMALL(IF(ISBLANK(MissingData)+ISERROR(MissingData)+LEN(MissingData)=0, \"\", ROW(MissingData)-MIN(ROW(MissingData))+1), ROW(538:538))),\"\")","v":"__AGE05NOTK__EMN_SPL_N"},"","",null,"__AGE05NOTK__EMN_SPL_N","","AGE05NOTKEMNSPLN","__AGE05NOTK__EMN_SPL_N",1,"______"]
[null,null,null,null,null,null,null,null,null,null,null,null,null,null,null,null,null,null,null,null,null,{"$f":"IFERROR(INDEX(MissingData, SMALL(IF(ISBLANK(MissingData)+ISERROR(MissingData)+LEN(MissingData)=0, \"\", ROW(MissingData)-MIN(ROW(MissingData))+1), ROW(539:539))),\"\")","v":"__AGE05NOTK__EMN_SS_N"},"","",null,"__AGE05NOTK__EMN_SS_N","","AGE05NOTKEMNSSN","__AGE05NOTK__EMN_SS_N",1,"______"]
[null,null,null,null,null,null,null,null,null,null,null,null,null,null,null,null,null,null,null,null,null,{"$f":"IFERROR(INDEX(MissingData, SMALL(IF(ISBLANK(MissingData)+ISERROR(MissingData)+LEN(MissingData)=0, \"\", ROW(MissingData)-MIN(ROW(MissingData))+1), ROW(540:540))),\"\")","v":"__AGE05NOTK__HI_REC09YSVCS_N"},"","",null,"__AGE05NOTK__HI_REC09YSVCS_N","","AGE05NOTKHIREC09YSVCSN","__AGE05NOTK__HI_REC09YSVCS_N",1,"______"]
[null,null,null,null,null,null,null,null,null,null,null,null,null,null,null,null,null,null,null,null,null,{"$f":"IFERROR(INDEX(MissingData, SMALL(IF(ISBLANK(MissingData)+ISERROR(MissingData)+LEN(MissingData)=0, \"\", ROW(MissingData)-MIN(ROW(MissingData))+1), ROW(541:541))),\"\")","v":"__AGE05NOTK__HI_REC09YOTHLOC_N"},"","",null,"__AGE05NOTK__HI_REC09YOTHLOC_N","","AGE05NOTKHIREC09YOTHLOCN","__AGE05NOTK__HI_REC09YOTHLOC_N",1,"______"]
[null,null,null,null,null,null,null,null,null,null,null,null,null,null,null,null,null,null,null,null,null,{"$f":"IFERROR(INDEX(MissingData, SMALL(IF(ISBLANK(MissingData)+ISERROR(MissingData)+LEN(MissingData)=0, \"\", ROW(MissingData)-MIN(ROW(MissingData))+1), ROW(542:542))),\"\")","v":"__AGE05NOTK__HI_RF_N"},"","",null,"__AGE05NOTK__HI_RF_N","","AGE05NOTKHIRFN","__AGE05NOTK__HI_RF_N",1,"______"]
[null,null,null,null,null,null,null,null,null,null,null,null,null,null,null,null,null,null,null,null,null,{"$f":"IFERROR(INDEX(MissingData, SMALL(IF(ISBLANK(MissingData)+ISERROR(MissingData)+LEN(MissingData)=0, \"\", ROW(MissingData)-MIN(ROW(MissingData))+1), ROW(543:543))),\"\")","v":"__AGE05NOTK__MD_REC09YSVCS_N"},"","",null,"__AGE05NOTK__MD_REC09YSVCS_N","","AGE05NOTKMDREC09YSVCSN","__AGE05NOTK__MD_REC09YSVCS_N",1,"______"]
[null,null,null,null,null,null,null,null,null,null,null,null,null,null,null,null,null,null,null,null,null,{"$f":"IFERROR(INDEX(MissingData, SMALL(IF(ISBLANK(MissingData)+ISERROR(MissingData)+LEN(MissingData)=0, \"\", ROW(MissingData)-MIN(ROW(MissingData))+1), ROW(544:544))),\"\")","v":"__AGE05NOTK__MD_REC09YOTHLOC_N"},"","",null,"__AGE05NOTK__MD_REC09YOTHLOC_N","","AGE05NOTKMDREC09YOTHLOCN","__AGE05NOTK__MD_REC09YOTHLOC_N",1,"______"]
[null,null,null,null,null,null,null,null,null,null,null,null,null,null,null,null,null,null,null,null,null,{"$f":"IFERROR(INDEX(MissingData, SMALL(IF(ISBLANK(MissingData)+ISERROR(MissingData)+LEN(MissingData)=0, \"\", ROW(MissingData)-MIN(ROW(MissingData))+1), ROW(545:545))),\"\")","v":"__AGE05NOTK__MD_RF_N"},"","",null,"__AGE05NOTK__MD_RF_N","","AGE05NOTKMDRFN","__AGE05NOTK__MD_RF_N",1,"______"]
[null,null,null,null,null,null,null,null,null,null,null,null,null,null,null,null,null,null,null,null,null,{"$f":"IFERROR(INDEX(MissingData, SMALL(IF(ISBLANK(MissingData)+ISERROR(MissingData)+LEN(MissingData)=0, \"\", ROW(MissingData)-MIN(ROW(MissingData))+1), ROW(546:546))),\"\")","v":"__AGE05NOTK__MD_SPL_N"},"","",null,"__AGE05NOTK__MD_SPL_N","","AGE05NOTKMDSPLN","__AGE05NOTK__MD_SPL_N",1,"______"]
[null,null,null,null,null,null,null,null,null,null,null,null,null,null,null,null,null,null,null,null,null,{"$f":"IFERROR(INDEX(MissingData, SMALL(IF(ISBLANK(MissingData)+ISERROR(MissingData)+LEN(MissingData)=0, \"\", ROW(MissingData)-MIN(ROW(MissingData))+1), ROW(547:547))),\"\")","v":"__AGE05NOTK__ID_REC09YSVCS_N"},"","",null,"__AGE05NOTK__ID_REC09YSVCS_N","","AGE05NOTKIDREC09YSVCSN","__AGE05NOTK__ID_REC09YSVCS_N",1,"______"]
[null,null,null,null,null,null,null,null,null,null,null,null,null,null,null,null,null,null,null,null,null,{"$f":"IFERROR(INDEX(MissingData, SMALL(IF(ISBLANK(MissingData)+ISERROR(MissingData)+LEN(MissingData)=0, \"\", ROW(MissingData)-MIN(ROW(MissingData))+1), ROW(548:548))),\"\")","v":"__AGE05NOTK__ID_REC09YOTHLOC_N"},"","",null,"__AGE05NOTK__ID_REC09YOTHLOC_N","","AGE05NOTKIDREC09YOTHLOCN","__AGE05NOTK__ID_REC09YOTHLOC_N",1,"______"]
[null,null,null,null,null,null,null,null,null,null,null,null,null,null,null,null,null,null,null,null,null,{"$f":"IFERROR(INDEX(MissingData, SMALL(IF(ISBLANK(MissingData)+ISERROR(MissingData)+LEN(MissingData)=0, \"\", ROW(MissingData)-MIN(ROW(MissingData))+1), ROW(549:549))),\"\")","v":"__AGE05NOTK__ID_RF_N"},"","",null,"__AGE05NOTK__ID_RF_N","","AGE05NOTKIDRFN","__AGE05NOTK__ID_RF_N",1,"______"]
[null,null,null,null,null,null,null,null,null,null,null,null,null,null,null,null,null,null,null,null,null,{"$f":"IFERROR(INDEX(MissingData, SMALL(IF(ISBLANK(MissingData)+ISERROR(MissingData)+LEN(MissingData)=0, \"\", ROW(MissingData)-MIN(ROW(MissingData))+1), ROW(550:550))),\"\")","v":"__AGE05NOTK__ID_SS_N"},"","",null,"__AGE05NOTK__ID_SS_N","","AGE05NOTKIDSSN","__AGE05NOTK__ID_SS_N",1,"______"]
[null,null,null,null,null,null,null,null,null,null,null,null,null,null,null,null,null,null,null,null,null,{"$f":"IFERROR(INDEX(MissingData, SMALL(IF(ISBLANK(MissingData)+ISERROR(MissingData)+LEN(MissingData)=0, \"\", ROW(MissingData)-MIN(ROW(MissingData))+1), ROW(551:551))),\"\")","v":"__AGE05NOTK__OHI_REC09YSVCS_N"},"","",null,"__AGE05NOTK__OHI_REC09YSVCS_N","","AGE05NOTKOHIREC09YSVCSN","__AGE05NOTK__OHI_REC09YSVCS_N",1,"______"]
[null,null,null,null,null,null,null,null,null,null,null,null,null,null,null,null,null,null,null,null,null,{"$f":"IFERROR(INDEX(MissingData, SMALL(IF(ISBLANK(MissingData)+ISERROR(MissingData)+LEN(MissingData)=0, \"\", ROW(MissingData)-MIN(ROW(MissingData))+1), ROW(552:552))),\"\")","v":"__AGE05NOTK__OHI_REC09YOTHLOC_N"},"","",null,"__AGE05NOTK__OHI_REC09YOTHLOC_N","","AGE05NOTKOHIREC09YOTHLOCN","__AGE05NOTK__OHI_REC09YOTHLOC_N",1,"______"]
[null,null,null,null,null,null,null,null,null,null,null,null,null,null,null,null,null,null,null,null,null,{"$f":"IFERROR(INDEX(MissingData, SMALL(IF(ISBLANK(MissingData)+ISERROR(MissingData)+LEN(MissingData)=0, \"\", ROW(MissingData)-MIN(ROW(MissingData))+1), ROW(553:553))),\"\")","v":"__AGE05NOTK__OHI_RF_N"},"","",null,"__AGE05NOTK__OHI_RF_N","","AGE05NOTKOHIRFN","__AGE05NOTK__OHI_RF_N",1,"______"]
[null,null,null,null,null,null,null,null,null,null,null,null,null,null,null,null,null,null,null,null,null,{"$f":"IFERROR(INDEX(MissingData, SMALL(IF(ISBLANK(MissingData)+ISERROR(MissingData)+LEN(MissingData)=0, \"\", ROW(MissingData)-MIN(ROW(MissingData))+1), ROW(554:554))),\"\")","v":"__AGE05NOTK__OHI_SS_N"},"","",null,"__AGE05NOTK__OHI_SS_N","","AGE05NOTKOHISSN","__AGE05NOTK__OHI_SS_N",1,"______"]
[null,null,null,null,null,null,null,null,null,null,null,null,null,null,null,null,null,null,null,null,null,{"$f":"IFERROR(INDEX(MissingData, SMALL(IF(ISBLANK(MissingData)+ISERROR(MissingData)+LEN(MissingData)=0, \"\", ROW(MissingData)-MIN(ROW(MissingData))+1), ROW(555:555))),\"\")","v":"__AGE05NOTK__OI_REC09YSVCS_N"},"","",null,"__AGE05NOTK__OI_REC09YSVCS_N","","AGE05NOTKOIREC09YSVCSN","__AGE05NOTK__OI_REC09YSVCS_N",1,"______"]
[null,null,null,null,null,null,null,null,null,null,null,null,null,null,null,null,null,null,null,null,null,{"$f":"IFERROR(INDEX(MissingData, SMALL(IF(ISBLANK(MissingData)+ISERROR(MissingData)+LEN(MissingData)=0, \"\", ROW(MissingData)-MIN(ROW(MissingData))+1), ROW(556:556))),\"\")","v":"__AGE05NOTK__OI_REC09YOTHLOC_N"},"","",null,"__AGE05NOTK__OI_REC09YOTHLOC_N","","AGE05NOTKOIREC09YOTHLOCN","__AGE05NOTK__OI_REC09YOTHLOC_N",1,"______"]
[null,null,null,null,null,null,null,null,null,null,null,null,null,null,null,null,null,null,null,null,null,{"$f":"IFERROR(INDEX(MissingData, SMALL(IF(ISBLANK(MissingData)+ISERROR(MissingData)+LEN(MissingData)=0, \"\", ROW(MissingData)-MIN(ROW(MissingData))+1), ROW(557:557))),\"\")","v":"__AGE05NOTK__OI_RF_N"},"","",null,"__AGE05NOTK__OI_RF_N","","AGE05NOTKOIRFN","__AGE05NOTK__OI_RF_N",1,"______"]
[null,null,null,null,null,null,null,null,null,null,null,null,null,null,null,null,null,null,null,null,null,{"$f":"IFERROR(INDEX(MissingData, SMALL(IF(ISBLANK(MissingData)+ISERROR(MissingData)+LEN(MissingData)=0, \"\", ROW(MissingData)-MIN(ROW(MissingData))+1), ROW(558:558))),\"\")","v":"__AGE05NOTK__OI_SPL_N"},"","",null,"__AGE05NOTK__OI_SPL_N","","AGE05NOTKOISPLN","__AGE05NOTK__OI_SPL_N",1,"______"]
[null,null,null,null,null,null,null,null,null,null,null,null,null,null,null,null,null,null,null,null,null,{"$f":"IFERROR(INDEX(MissingData, SMALL(IF(ISBLANK(MissingData)+ISERROR(MissingData)+LEN(MissingData)=0, \"\", ROW(MissingData)-MIN(ROW(MissingData))+1), ROW(559:559))),\"\")","v":"__AGE05NOTK__SLD_H_N"},"","",null,"__AGE05NOTK__SLD_H_N","","AGE05NOTKSLDHN","__AGE05NOTK__SLD_H_N",1,"______"]
[null,null,null,null,null,null,null,null,null,null,null,null,null,null,null,null,null,null,null,null,null,{"$f":"IFERROR(INDEX(MissingData, SMALL(IF(ISBLANK(MissingData)+ISERROR(MissingData)+LEN(MissingData)=0, \"\", ROW(MissingData)-MIN(ROW(MissingData))+1), ROW(560:560))),\"\")","v":"__AGE05NOTK__VI_REC10YSVCS_N"},"","",null,"__AGE05NOTK__VI_REC10YSVCS_N","","AGE05NOTKVIREC10YSVCSN","__AGE05NOTK__VI_REC10YSVCS_N",1,"______"]
[null,null,null,null,null,null,null,null,null,null,null,null,null,null,null,null,null,null,null,null,null,{"$f":"IFERROR(INDEX(MissingData, SMALL(IF(ISBLANK(MissingData)+ISERROR(MissingData)+LEN(MissingData)=0, \"\", ROW(MissingData)-MIN(ROW(MissingData))+1), ROW(561:561))),\"\")","v":"__AGE05NOTK__SLD_REC09YSVCS_N"},{"$f":"IF(LEN(AA574)=0,\"\",IF(COUNTIF(CurrentListing_C089,AA574)>1,AE574,\"\"))","v":""},{"$f":"IF(LEN(AA574)=0,\"\",IF(ISNA(MATCH(AA574,MasterListing,0)),AE574,\"\"))","v":""},null,{"$f":"IF(LEN(AC574)=0,\"\",IF(ISNA(MATCH(AB574,CurrentListing_C089,0)),AC574,\"\"))","v":"__AGE05NOTK__SLD_REC09YSVCS_N"},{"$f":"G574&H574&I574&J574&K574&Q574&R574","v":""},"AGE05NOTKSLDREC09YSVCSN","__AGE05NOTK__SLD_REC09YSVCS_N",1,{"$f":"G574&\"_\"&H574&\"_\"&I574&\"_\"&J574&\"_\"&K574&\"_\"&Q574&\"_\"&R574","v":"______"}]
[null,null,null,null,null,null,null,null,null,null,null,null,null,null,null,null,null,null,null,null,null,{"$f":"IFERROR(INDEX(MissingData, SMALL(IF(ISBLANK(MissingData)+ISERROR(MissingData)+LEN(MissingData)=0, \"\", ROW(MissingData)-MIN(ROW(MissingData))+1), ROW(562:562))),\"\")","v":"__AGE05NOTK__SLD_REC09YOTHLOC_N"},"","",null,"__AGE05NOTK__SLD_REC09YOTHLOC_N","","AGE05NOTKSLDREC09YOTHLOCN","__AGE05NOTK__SLD_REC09YOTHLOC_N",1,"______"]
[null,null,null,null,null,null,null,null,null,null,null,null,null,null,null,null,null,null,null,null,null,{"$f":"IFERROR(INDEX(MissingData, SMALL(IF(ISBLANK(MissingData)+ISERROR(MissingData)+LEN(MissingData)=0, \"\", ROW(MissingData)-MIN(ROW(MissingData))+1), ROW(563:563))),\"\")","v":"__AGE05NOTK__SLD_RF_N"},"","",null,"__AGE05NOTK__SLD_RF_N","","AGE05NOTKSLDRFN","__AGE05NOTK__SLD_RF_N",1,"______"]
[null,null,null,null,null,null,null,null,null,null,null,null,null,null,null,null,null,null,null,null,null,{"$f":"IFERROR(INDEX(MissingData, SMALL(IF(ISBLANK(MissingData)+ISERROR(MissingData)+LEN(MissingData)=0, \"\", ROW(MissingData)-MIN(ROW(MissingData))+1), ROW(564:564))),\"\")","v":"__AGE05NOTK__SLD_SC_N"},"","",null,"__AGE05NOTK__SLD_SC_N","","AGE05NOTKSLDSCN","__AGE05NOTK__SLD_SC_N",1,"______"]
[null,null,null,null,null,null,null,null,null,null,null,null,null,null,null,null,null,null,null,null,null,{"$f":"IFERROR(INDEX(MissingData, SMALL(IF(ISBLANK(MissingData)+ISERROR(MissingData)+LEN(MissingData)=0, \"\", ROW(MissingData)-MIN(ROW(MissingData))+1), ROW(565:565))),\"\")","v":"__AGE05NOTK__SLD_SPL_N"},"","",null,"__AGE05NOTK__SLD_SPL_N","","AGE05NOTKSLDSPLN","__AGE05NOTK__SLD_SPL_N",1,"______"]
[null,null,null,null,null,null,null,null,null,null,null,null,null,null,null,null,null,null,null,null,null,{"$f":"IFERROR(INDEX(MissingData, SMALL(IF(ISBLANK(MissingData)+ISERROR(MissingData)+LEN(MissingData)=0, \"\", ROW(MissingData)-MIN(ROW(MissingData))+1), ROW(566:566))),\"\")","v":"__AGE05NOTK__SLD_SS_N"},"","",null,"__AGE05NOTK__SLD_SS_N","","AGE05NOTKSLDSSN","__AGE05NOTK__SLD_SS_N",1,"______"]
[null,null,null,null,null,null,null,null,null,null,null,null,null,null,null,null,null,null,null,null,null,{"$f":"IFERROR(INDEX(MissingData, SMALL(IF(ISBLANK(MissingData)+ISERROR(MissingData)+LEN(MissingData)=0, \"\", ROW(MissingData)-MIN(ROW(MissingData))+1), ROW(567:567))),\"\")","v":"__AGE05NOTK__SLI_RF_N"},"","",null,"__AGE05NOTK__SLI_RF_N","","AGE05NOTKSLIRFN","__AGE05NOTK__SLI_RF_N",1,"______"]
[null,null,null,null,null,null,null,null,null,null,null,null,null,null,null,null,null,null,null,null,null,{"$f":"IFERROR(INDEX(MissingData, SMALL(IF(ISBLANK(MissingData)+ISERROR(MissingData)+LEN(MissingData)=0, \"\", ROW(MissingData)-MIN(ROW(MissingData))+1), ROW(568:568))),\"\")","v":"__AGE05NOTK__TBI_H_N"},"","",null,"__AGE05NOTK__TBI_H_N","","AGE05NOTKTBIHN","__AGE05NOTK__TBI_H_N",1,"______"]
[null,null,null,null,null,null,null,null,null,null,null,null,null,null,null,null,null,null,null,null,null,{"$f":"IFERROR(INDEX(MissingData, SMALL(IF(ISBLANK(MissingData)+ISERROR(MissingData)+LEN(MissingData)=0, \"\", ROW(MissingData)-MIN(ROW(MissingData))+1), ROW(569:569))),\"\")","v":"__AGE05NOTK__TBI_REC09YSVCS_N"},"","",null,"__AGE05NOTK__TBI_REC09YSVCS_N","","AGE05NOTKTBIREC09YSVCSN","__AGE05NOTK__TBI_REC09YSVCS_N",1,"______"]
[null,null,null,null,null,null,null,null,null,null,null,null,null,null,null,null,null,null,null,null,null,{"$f":"IFERROR(INDEX(MissingData, SMALL(IF(ISBLANK(MissingData)+ISERROR(MissingData)+LEN(MissingData)=0, \"\", ROW(MissingData)-MIN(ROW(MissingData))+1), ROW(570:570))),\"\")","v":"__AGE05NOTK__TBI_REC09YOTHLOC_N"},"","",null,"__AGE05NOTK__TBI_REC09YOTHLOC_N","","AGE05NOTKTBIREC09YOTHLOCN","__AGE05NOTK__TBI_REC09YOTHLOC_N",1,"______"]
[null,null,null,null,null,null,null,null,null,null,null,null,null,null,null,null,null,null,null,null,null,{"$f":"IFERROR(INDEX(MissingData, SMALL(IF(ISBLANK(MissingData)+ISERROR(MissingData)+LEN(MissingData)=0, \"\", ROW(MissingData)-MIN(ROW(MissingData))+1), ROW(571:571))),\"\")","v":"__AGE05NOTK__TBI_RF_N"},"","",null,"__AGE05NOTK__TBI_RF_N","","AGE05NOTKTBIRFN","__AGE05NOTK__TBI_RF_N",1,"______"]
[null,null,null,null,null,null,null,null,null,null,null,null,null,null,null,null,null,null,null,null,null,{"$f":"IFERROR(INDEX(MissingData, SMALL(IF(ISBLANK(MissingData)+ISERROR(MissingData)+LEN(MissingData)=0, \"\", ROW(MissingData)-MIN(ROW(MissingData))+1), ROW(572:572))),\"\")","v":"__AGE05NOTK__TBI_SC_N"},"","",null,"__AGE05NOTK__TBI_SC_N","","AGE05NOTKTBISCN","__AGE05NOTK__TBI_SC_N",1,"______"]
[null,null,null,null,null,null,null,null,null,null,null,null,null,null,null,null,null,null,null,null,null,{"$f":"IFERROR(INDEX(MissingData, SMALL(IF(ISBLANK(MissingData)+ISERROR(MissingData)+LEN(MissingData)=0, \"\", ROW(MissingData)-MIN(ROW(MissingData))+1), ROW(573:573))),\"\")","v":"__AGE05NOTK__TBI_SPL_N"},"","",null,"__AGE05NOTK__TBI_SPL_N","","AGE05NOTKTBISPLN","__AGE05NOTK__TBI_SPL_N",1,"______"]
[null,null,null,null,null,null,null,null,null,null,null,null,null,null,null,null,null,null,null,null,null,{"$f":"IFERROR(INDEX(MissingData, SMALL(IF(ISBLANK(MissingData)+ISERROR(MissingData)+LEN(MissingData)=0, \"\", ROW(MissingData)-MIN(ROW(MissingData))+1), ROW(574:574))),\"\")","v":"__AGE05NOTK__TBI_SS_N"},"","",null,"__AGE05NOTK__TBI_SS_N","","AGE05NOTKTBISSN","__AGE05NOTK__TBI_SS_N",1,"______"]
[null,null,null,null,null,null,null,null,null,null,null,null,null,null,null,null,null,null,null,null,null,{"$f":"IFERROR(INDEX(MissingData, SMALL(IF(ISBLANK(MissingData)+ISERROR(MissingData)+LEN(MissingData)=0, \"\", ROW(MissingData)-MIN(ROW(MissingData))+1), ROW(575:575))),\"\")","v":"__AGE05NOTK__VI_H_N"},"","",null,"__AGE05NOTK__VI_H_N","","AGE05NOTKVIHN","__AGE05NOTK__VI_H_N",1,"______"]
[null,null,null,null,null,null,null,null,null,null,null,null,null,null,null,null,null,null,null,null,null,{"$f":"IFERROR(INDEX(MissingData, SMALL(IF(ISBLANK(MissingData)+ISERROR(MissingData)+LEN(MissingData)=0, \"\", ROW(MissingData)-MIN(ROW(MissingData))+1), ROW(576:576))),\"\")","v":"__AGE05NOTK__VI_REC09YSVCS_N"},"","",null,"__AGE05NOTK__VI_REC09YSVCS_N","","AGE05NOTKVIREC09YSVCSN","__AGE05NOTK__VI_REC09YSVCS_N",1,"______"]
[null,null,null,null,null,null,null,null,null,null,null,null,null,null,null,null,null,null,null,null,null,{"$f":"IFERROR(INDEX(MissingData, SMALL(IF(ISBLANK(MissingData)+ISERROR(MissingData)+LEN(MissingData)=0, \"\", ROW(MissingData)-MIN(ROW(MissingData))+1), ROW(577:577))),\"\")","v":"__AGE05NOTK__VI_REC09YOTHLOC_N"},{"$f":"IF(LEN(AA590)=0,\"\",IF(COUNTIF(CurrentListing_C089,AA590)>1,AE590,\"\"))","v":""},{"$f":"IF(LEN(AA590)=0,\"\",IF(ISNA(MATCH(AA590,MasterListing,0)),AE590,\"\"))","v":""},null,{"$f":"IF(LEN(AC590)=0,\"\",IF(ISNA(MATCH(AB590,CurrentListing_C089,0)),AC590,\"\"))","v":"__AGE05NOTK__VI_REC09YOTHLOC_N"},"","AGE05NOTKVIREC09YOTHLOCN","__AGE05NOTK__VI_REC09YOTHLOC_N",1,"______"]
[null,null,null,null,null,null,null,null,null,null,null,null,null,null,null,null,null,null,null,null,null,{"$f":"IFERROR(INDEX(MissingData, SMALL(IF(ISBLANK(MissingData)+ISERROR(MissingData)+LEN(MissingData)=0, \"\", ROW(MissingData)-MIN(ROW(MissingData))+1), ROW(578:578))),\"\")","v":"__AGE05NOTK__VI_RF_N"},"","",null,"__AGE05NOTK__VI_RF_N",{"$f":"G591&H591&I591&J591&K591&Q591&R591","v":""},"AGE05NOTKVIRFN","__AGE05NOTK__VI_RF_N",1,{"$f":"G591&\"_\"&H591&\"_\"&I591&\"_\"&J591&\"_\"&K591&\"_\"&Q591&\"_\"&R591","v":"______"}]
[null,null,null,null,null,null,null,null,null,null,null,null,null,null,null,null,null,null,null,null,null,{"$f":"IFERROR(INDEX(MissingData, SMALL(IF(ISBLANK(MissingData)+ISERROR(MissingData)+LEN(MissingData)=0, \"\", ROW(MissingData)-MIN(ROW(MissingData))+1), ROW(579:579))),\"\")","v":"__AGE05NOTK__VI_SPL_N"},"","",null,"__AGE05NOTK__VI_SPL_N","","AGE05NOTKVISPLN","__AGE05NOTK__VI_SPL_N",{"$f":"IF(LEN(V592)>0,1,0)","v":1},"______"]
[null,null,null,null,null,null,null,null,null,null,null,null,null,null,null,null,null,null,null,null,null,{"$f":"IFERROR(INDEX(MissingData, SMALL(IF(ISBLANK(MissingData)+ISERROR(MissingData)+LEN(MissingData)=0, \"\", ROW(MissingData)-MIN(ROW(MissingData))+1), ROW(580:580))),\"\")","v":"AM7____AUT_H_N"},"","",null,"AM7____AUT_H_N","","AM7AUTHN","AM7____AUT_H_N",1,"______"]
[null,null,null,null,null,null,null,null,null,null,null,null,null,null,null,null,null,null,null,null,null,{"$f":"IFERROR(INDEX(MissingData, SMALL(IF(ISBLANK(MissingData)+ISERROR(MissingData)+LEN(MissingData)=0, \"\", ROW(MissingData)-MIN(ROW(MissingData))+1), ROW(581:581))),\"\")","v":"AM7____AUT_REC10YSVCS_N"},"","",null,"AM7____AUT_REC10YSVCS_N","","AM7AUTREC10YSVCSN","AM7____AUT_REC10YSVCS_N",1,"______"]
[null,null,null,null,null,null,null,null,null,null,null,null,null,null,null,null,null,null,null,null,null,{"$f":"IFERROR(INDEX(MissingData, SMALL(IF(ISBLANK(MissingData)+ISERROR(MissingData)+LEN(MissingData)=0, \"\", ROW(MissingData)-MIN(ROW(MissingData))+1), ROW(582:582))),\"\")","v":"AM7____AUT_REC09YSVCS_N"},"","",null,"AM7____AUT_REC09YSVCS_N","","AM7AUTREC09YSVCSN","AM7____AUT_REC09YSVCS_N",1,"______"]
[null,null,null,null,null,null,null,null,null,null,null,null,null,null,null,null,null,null,null,null,null,{"$f":"IFERROR(INDEX(MissingData, SMALL(IF(ISBLANK(MissingData)+ISERROR(MissingData)+LEN(MissingData)=0, \"\", ROW(MissingData)-MIN(ROW(MissingData))+1), ROW(583:583))),\"\")","v":"AM7____AUT_REC09YOTHLOC_N"},"","",null,"AM7____AUT_REC09YOTHLOC_N","","AM7AUTREC09YOTHLOCN","AM7____AUT_REC09YOTHLOC_N",1,"______"]
[null,null,null,null,null,null,null,null,null,null,null,null,null,null,null,null,null,null,null,null,null,{"$f":"IFERROR(INDEX(MissingData, SMALL(IF(ISBLANK(MissingData)+ISERROR(MissingData)+LEN(MissingData)=0, \"\", ROW(MissingData)-MIN(ROW(MissingData))+1), ROW(584:584))),\"\")","v":"AM7____AUT_RF_N"},"","",null,"AM7____AUT_RF_N","","AM7AUTRFN","AM7____AUT_RF_N",1,"______"]
[null,null,null,null,null,null,null,null,null,null,null,null,null,null,null,null,null,null,null,null,null,{"$f":"IFERROR(INDEX(MissingData, SMALL(IF(ISBLANK(MissingData)+ISERROR(MissingData)+LEN(MissingData)=0, \"\", ROW(MissingData)-MIN(ROW(MissingData))+1), ROW(585:585))),\"\")","v":"AM7____AUT_SPL_N"},"","",null,"AM7____AUT_SPL_N","","AM7AUTSPLN","AM7____AUT_SPL_N",1,"______"]
[null,null,null,null,null,null,null,null,null,null,null,null,null,null,null,null,null,null,null,null,null,{"$f":"IFERROR(INDEX(MissingData, SMALL(IF(ISBLANK(MissingData)+ISERROR(MissingData)+LEN(MissingData)=0, \"\", ROW(MissingData)-MIN(ROW(MissingData))+1), ROW(586:586))),\"\")","v":"AM7____AUT_SS_N"},"","",null,"AM7____AUT_SS_N","","AM7AUTSSN","AM7____AUT_SS_N",1,"______"]
[null,null,null,null,null,null,null,null,null,null,null,null,null,null,null,null,null,null,null,null,null,{"$f":"IFERROR(INDEX(MissingData, SMALL(IF(ISBLANK(MissingData)+ISERROR(MissingData)+LEN(MissingData)=0, \"\", ROW(MissingData)-MIN(ROW(MissingData))+1), ROW(587:587))),\"\")","v":"AM7____DB_H_N"},"","",null,"AM7____DB_H_N","","AM7DBHN","AM7____DB_H_N",1,"______"]
[null,null,null,null,null,null,null,null,null,null,null,null,null,null,null,null,null,null,null,null,null,{"$f":"IFERROR(INDEX(MissingData, SMALL(IF(ISBLANK(MissingData)+ISERROR(MissingData)+LEN(MissingData)=0, \"\", ROW(MissingData)-MIN(ROW(MissingData))+1), ROW(588:588))),\"\")","v":"AM7____DB_REC10YSVCS_N"},"","",null,"AM7____DB_REC10YSVCS_N","","AM7DBREC10YSVCSN","AM7____DB_REC10YSVCS_N",1,"______"]
[null,null,null,null,null,null,null,null,null,null,null,null,null,null,null,null,null,null,null,null,null,{"$f":"IFERROR(INDEX(MissingData, SMALL(IF(ISBLANK(MissingData)+ISERROR(MissingData)+LEN(MissingData)=0, \"\", ROW(MissingData)-MIN(ROW(MissingData))+1), ROW(589:589))),\"\")","v":"AM7____DB_REC10YOTHLOC_N"},"","",null,"AM7____DB_REC10YOTHLOC_N","","AM7DBREC10YOTHLOCN","AM7____DB_REC10YOTHLOC_N",1,"______"]
[null,null,null,null,null,null,null,null,null,null,null,null,null,null,null,null,null,null,null,null,null,{"$f":"IFERROR(INDEX(MissingData, SMALL(IF(ISBLANK(MissingData)+ISERROR(MissingData)+LEN(MissingData)=0, \"\", ROW(MissingData)-MIN(ROW(MissingData))+1), ROW(590:590))),\"\")","v":"AM7____DB_REC09YSVCS_N"},"","",null,"AM7____DB_REC09YSVCS_N","","AM7DBREC09YSVCSN","AM7____DB_REC09YSVCS_N",1,"______"]
[null,null,null,null,null,null,null,null,null,null,null,null,null,null,null,null,null,null,null,null,null,{"$f":"IFERROR(INDEX(MissingData, SMALL(IF(ISBLANK(MissingData)+ISERROR(MissingData)+LEN(MissingData)=0, \"\", ROW(MissingData)-MIN(ROW(MissingData))+1), ROW(591:591))),\"\")","v":"AM7____DB_REC09YOTHLOC_N"},"","",null,"AM7____DB_REC09YOTHLOC_N","","AM7DBREC09YOTHLOCN","AM7____DB_REC09YOTHLOC_N",1,"______"]
[null,null,null,null,null,null,null,null,null,null,null,null,null,null,null,null,null,null,null,null,null,{"$f":"IFERROR(INDEX(MissingData, SMALL(IF(ISBLANK(MissingData)+ISERROR(MissingData)+LEN(MissingData)=0, \"\", ROW(MissingData)-MIN(ROW(MissingData))+1), ROW(592:592))),\"\")","v":"AM7____DB_RF_N"},"","",null,"AM7____DB_RF_N","","AM7DBRFN","AM7____DB_RF_N",1,"______"]
[null,null,null,null,null,null,null,null,null,null,null,null,null,null,null,null,null,null,null,null,null,{"$f":"IFERROR(INDEX(MissingData, SMALL(IF(ISBLANK(MissingData)+ISERROR(MissingData)+LEN(MissingData)=0, \"\", ROW(MissingData)-MIN(ROW(MissingData))+1), ROW(593:593))),\"\")","v":"AM7____DB_SC_N"},"","",null,"AM7____DB_SC_N","","AM7DBSCN","AM7____DB_SC_N",1,"______"]
[null,null,null,null,null,null,null,null,null,null,null,null,null,null,null,null,null,null,null,null,null,{"$f":"IFERROR(INDEX(MissingData, SMALL(IF(ISBLANK(MissingData)+ISERROR(MissingData)+LEN(MissingData)=0, \"\", ROW(MissingData)-MIN(ROW(MissingData))+1), ROW(594:594))),\"\")","v":"AM7____DB_SPL_N"},"","",null,"AM7____DB_SPL_N","","AM7DBSPLN","AM7____DB_SPL_N",1,"______"]
[null,null,null,null,null,null,null,null,null,null,null,null,null,null,null,null,null,null,null,null,null,{"$f":"IFERROR(INDEX(MissingData, SMALL(IF(ISBLANK(MissingData)+ISERROR(MissingData)+LEN(MissingData)=0, \"\", ROW(MissingData)-MIN(ROW(MissingData))+1), ROW(595:595))),\"\")","v":"AM7____DB_SS_N"},"","",null,"AM7____DB_SS_N","","AM7DBSSN","AM7____DB_SS_N",1,"______"]
[null,null,null,null,null,null,null,null,null,null,null,null,null,null,null,null,null,null,null,null,null,{"$f":"IFERROR(INDEX(MissingData, SMALL(IF(ISBLANK(MissingData)+ISERROR(MissingData)+LEN(MissingData)=0, \"\", ROW(MissingData)-MIN(ROW(MissingData))+1), ROW(596:596))),\"\")","v":"AM7____DD_H_N"},"","",null,"AM7____DD_H_N","","AM7DDHN","AM7____DD_H_N",1,"______"]
[null,null,null,null,null,null,null,null,null,null,null,null,null,null,null,null,null,null,null,null,null,{"$f":"IFERROR(INDEX(MissingData, SMALL(IF(ISBLANK(MissingData)+ISERROR(MissingData)+LEN(MissingData)=0, \"\", ROW(MissingData)-MIN(ROW(MissingData))+1), ROW(597:597))),\"\")","v":"AM7____DD_REC09YSVCS_N"},"","",null,"AM7____DD_REC09YSVCS_N","","AM7DDREC09YSVCSN","AM7____DD_REC09YSVCS_N",1,"______"]
[null,null,null,null,null,null,null,null,null,null,null,null,null,null,null,null,null,null,null,null,null,{"$f":"IFERROR(INDEX(MissingData, SMALL(IF(ISBLANK(MissingData)+ISERROR(MissingData)+LEN(MissingData)=0, \"\", ROW(MissingData)-MIN(ROW(MissingData))+1), ROW(598:598))),\"\")","v":"AM7____DD_REC09YOTHLOC_N"},"","",null,"AM7____DD_REC09YOTHLOC_N","","AM7DDREC09YOTHLOCN","AM7____DD_REC09YOTHLOC_N",1,"______"]
[null,null,null,null,null,null,null,null,null,null,null,null,null,null,null,null,null,null,null,null,null,{"$f":"IFERROR(INDEX(MissingData, SMALL(IF(ISBLANK(MissingData)+ISERROR(MissingData)+LEN(MissingData)=0, \"\", ROW(MissingData)-MIN(ROW(MissingData))+1), ROW(599:599))),\"\")","v":"AM7____DD_RF_N"},"","",null,"AM7____DD_RF_N","","AM7DDRFN","AM7____DD_RF_N",1,"______"]
[null,null,null,null,null,null,null,null,null,null,null,null,null,null,null,null,null,null,null,null,null,{"$f":"IFERROR(INDEX(MissingData, SMALL(IF(ISBLANK(MissingData)+ISERROR(MissingData)+LEN(MissingData)=0, \"\", ROW(MissingData)-MIN(ROW(MissingData))+1), ROW(600:600))),\"\")","v":"AM7____DD_SPL_N"},"","",null,"AM7____DD_SPL_N","","AM7DDSPLN","AM7____DD_SPL_N",1,"______"]
[null,null,null,null,null,null,null,null,null,null,null,null,null,null,null,null,null,null,null,null,null,{"$f":"IFERROR(INDEX(MissingData, SMALL(IF(ISBLANK(MissingData)+ISERROR(MissingData)+LEN(MissingData)=0, \"\", ROW(MissingData)-MIN(ROW(MissingData))+1), ROW(601:601))),\"\")","v":"AM7____DD_SS_N"},"","",null,"AM7____DD_SS_N","","AM7DDSSN","AM7____DD_SS_N",1,"______"]
[null,null,null,null,null,null,null,null,null,null,null,null,null,null,null,null,null,null,null,null,null,{"$f":"IFERROR(INDEX(MissingData, SMALL(IF(ISBLANK(MissingData)+ISERROR(MissingData)+LEN(MissingData)=0, \"\", ROW(MissingData)-MIN(ROW(MissingData))+1), ROW(602:602))),\"\")","v":"AM7____EMN_H_N"},"","",null,"AM7____EMN_H_N","","AM7EMNHN","AM7____EMN_H_N",1,"______"]
[null,null,null,null,null,null,null,null,null,null,null,null,null,null,null,null,null,null,null,null,null,{"$f":"IFERROR(INDEX(MissingData, SMALL(IF(ISBLANK(MissingData)+ISERROR(MissingData)+LEN(MissingData)=0, \"\", ROW(MissingData)-MIN(ROW(MissingData))+1), ROW(603:603))),\"\")","v":"AM7____EMN_REC10YSVCS_N"},"","",null,"AM7____EMN_REC10YSVCS_N","","AM7EMNREC10YSVCSN","AM7____EMN_REC10YSVCS_N",1,"______"]
[null,null,null,null,null,null,null,null,null,null,null,null,null,null,null,null,null,null,null,null,null,{"$f":"IFERROR(INDEX(MissingData, SMALL(IF(ISBLANK(MissingData)+ISERROR(MissingData)+LEN(MissingData)=0, \"\", ROW(MissingData)-MIN(ROW(MissingData))+1), ROW(604:604))),\"\")","v":"AM7____EMN_REC10YOTHLOC_N"},"","",null,"AM7____EMN_REC10YOTHLOC_N","","AM7EMNREC10YOTHLOCN","AM7____EMN_REC10YOTHLOC_N",1,"______"]
[null,null,null,null,null,null,null,null,null,null,null,null,null,null,null,null,null,null,null,null,null,{"$f":"IFERROR(INDEX(MissingData, SMALL(IF(ISBLANK(MissingData)+ISERROR(MissingData)+LEN(MissingData)=0, \"\", ROW(MissingData)-MIN(ROW(MissingData))+1), ROW(605:605))),\"\")","v":"AM7____EMN_REC09YSVCS_N"},"","",null,"AM7____EMN_REC09YSVCS_N","","AM7EMNREC09YSVCSN","AM7____EMN_REC09YSVCS_N",1,"______"]
[null,null,null,null,null,null,null,null,null,null,null,null,null,null,null,null,null,null,null,null,null,{"$f":"IFERROR(INDEX(MissingData, SMALL(IF(ISBLANK(MissingData)+ISERROR(MissingData)+LEN(MissingData)=0, \"\", ROW(MissingData)-MIN(ROW(MissingData))+1), ROW(606:606))),\"\")","v":"AM7____EMN_REC09YOTHLOC_N"},"","",null,"AM7____EMN_REC09YOTHLOC_N","","AM7EMNREC09YOTHLOCN","AM7____EMN_REC09YOTHLOC_N",1,"______"]
[null,null,null,null,null,null,null,null,null,null,null,null,null,null,null,null,null,null,null,null,null,{"$f":"IFERROR(INDEX(MissingData, SMALL(IF(ISBLANK(MissingData)+ISERROR(MissingData)+LEN(MissingData)=0, \"\", ROW(MissingData)-MIN(ROW(MissingData))+1), ROW(607:607))),\"\")","v":"AM7____EMN_RF_N"},"","",null,"AM7____EMN_RF_N","","AM7EMNRFN","AM7____EMN_RF_N",1,"______"]
[null,null,null,null,null,null,null,null,null,null,null,null,null,null,null,null,null,null,null,null,null,{"$f":"IFERROR(INDEX(MissingData, SMALL(IF(ISBLANK(MissingData)+ISERROR(MissingData)+LEN(MissingData)=0, \"\", ROW(MissingData)-MIN(ROW(MissingData))+1), ROW(608:608))),\"\")","v":"AM7____EMN_SC_N"},"","",null,"AM7____EMN_SC_N","","AM7EMNSCN","AM7____EMN_SC_N",1,"______"]
[null,null,null,null,null,null,null,null,null,null,null,null,null,null,null,null,null,null,null,null,null,{"$f":"IFERROR(INDEX(MissingData, SMALL(IF(ISBLANK(MissingData)+ISERROR(MissingData)+LEN(MissingData)=0, \"\", ROW(MissingData)-MIN(ROW(MissingData))+1), ROW(609:609))),\"\")","v":"AM7____EMN_SPL_N"},"","",null,"AM7____EMN_SPL_N","","AM7EMNSPLN","AM7____EMN_SPL_N",1,"______"]
[null,null,null,null,null,null,null,null,null,null,null,null,null,null,null,null,null,null,null,null,null,{"$f":"IFERROR(INDEX(MissingData, SMALL(IF(ISBLANK(MissingData)+ISERROR(MissingData)+LEN(MissingData)=0, \"\", ROW(MissingData)-MIN(ROW(MissingData))+1), ROW(610:610))),\"\")","v":"AM7____EMN_SS_N"},"","",null,"AM7____EMN_SS_N","","AM7EMNSSN","AM7____EMN_SS_N",1,"______"]
[null,null,null,null,null,null,null,null,null,null,null,null,null,null,null,null,null,null,null,null,null,{"$f":"IFERROR(INDEX(MissingData, SMALL(IF(ISBLANK(MissingData)+ISERROR(MissingData)+LEN(MissingData)=0, \"\", ROW(MissingData)-MIN(ROW(MissingData))+1), ROW(611:611))),\"\")","v":"AM7____HI_H_N"},"","",null,"AM7____HI_H_N","","AM7HIHN","AM7____HI_H_N",1,"______"]
[null,null,null,null,null,null,null,null,null,null,null,null,null,null,null,null,null,null,null,null,null,{"$f":"IFERROR(INDEX(MissingData, SMALL(IF(ISBLANK(MissingData)+ISERROR(MissingData)+LEN(MissingData)=0, \"\", ROW(MissingData)-MIN(ROW(MissingData))+1), ROW(612:612))),\"\")","v":"AM7____HI_REC10YSVCS_N"},"","",null,"AM7____HI_REC10YSVCS_N","","AM7HIREC10YSVCSN","AM7____HI_REC10YSVCS_N",1,"______"]
[null,null,null,null,null,null,null,null,null,null,null,null,null,null,null,null,null,null,null,null,null,{"$f":"IFERROR(INDEX(MissingData, SMALL(IF(ISBLANK(MissingData)+ISERROR(MissingData)+LEN(MissingData)=0, \"\", ROW(MissingData)-MIN(ROW(MissingData))+1), ROW(613:613))),\"\")","v":"AM7____HI_REC10YOTHLOC_N"},"","",null,"AM7____HI_REC10YOTHLOC_N","","AM7HIREC10YOTHLOCN","AM7____HI_REC10YOTHLOC_N",1,"______"]
[null,null,null,null,null,null,null,null,null,null,null,null,null,null,null,null,null,null,null,null,null,{"$f":"IFERROR(INDEX(MissingData, SMALL(IF(ISBLANK(MissingData)+ISERROR(MissingData)+LEN(MissingData)=0, \"\", ROW(MissingData)-MIN(ROW(MissingData))+1), ROW(614:614))),\"\")","v":"AM7____HI_REC09YSVCS_N"},"","",null,"AM7____HI_REC09YSVCS_N","","AM7HIREC09YSVCSN","AM7____HI_REC09YSVCS_N",1,"______"]
[null,null,null,null,null,null,null,null,null,null,null,null,null,null,null,null,null,null,null,null,null,{"$f":"IFERROR(INDEX(MissingData, SMALL(IF(ISBLANK(MissingData)+ISERROR(MissingData)+LEN(MissingData)=0, \"\", ROW(MissingData)-MIN(ROW(MissingData))+1), ROW(615:615))),\"\")","v":"AM7____HI_REC09YOTHLOC_N"},"","",null,"AM7____HI_REC09YOTHLOC_N","","AM7HIREC09YOTHLOCN","AM7____HI_REC09YOTHLOC_N",1,"______"]
[null,null,null,null,null,null,null,null,null,null,null,null,null,null,null,null,null,null,null,null,null,{"$f":"IFERROR(INDEX(MissingData, SMALL(IF(ISBLANK(MissingData)+ISERROR(MissingData)+LEN(MissingData)=0, \"\", ROW(MissingData)-MIN(ROW(MissingData))+1), ROW(616:616))),\"\")","v":"AM7____HI_RF_N"},"","",null,"AM7____HI_RF_N","","AM7HIRFN","AM7____HI_RF_N",1,"______"]
[null,null,null,null,null,null,null,null,null,null,null,null,null,null,null,null,null,null,null,null,null,{"$f":"IFERROR(INDEX(MissingData, SMALL(IF(ISBLANK(MissingData)+ISERROR(MissingData)+LEN(MissingData)=0, \"\", ROW(MissingData)-MIN(ROW(MissingData))+1), ROW(617:617))),\"\")","v":"AM7____HI_SC_N"},"","",null,"AM7____HI_SC_N","","AM7HISCN","AM7____HI_SC_N",1,"______"]
[null,null,null,null,null,null,null,null,null,null,null,null,null,null,null,null,null,null,null,null,null,{"$f":"IFERROR(INDEX(MissingData, SMALL(IF(ISBLANK(MissingData)+ISERROR(MissingData)+LEN(MissingData)=0, \"\", ROW(MissingData)-MIN(ROW(MissingData))+1), ROW(618:618))),\"\")","v":"AM7____HI_SPL_N"},"","",null,"AM7____HI_SPL_N","","AM7HISPLN","AM7____HI_SPL_N",1,"______"]
[null,null,null,null,null,null,null,null,null,null,null,null,null,null,null,null,null,null,null,null,null,{"$f":"IFERROR(INDEX(MissingData, SMALL(IF(ISBLANK(MissingData)+ISERROR(MissingData)+LEN(MissingData)=0, \"\", ROW(MissingData)-MIN(ROW(MissingData))+1), ROW(619:619))),\"\")","v":"AM7____HI_SS_N"},"","",null,"AM7____HI_SS_N","","AM7HISSN","AM7____HI_SS_N",1,"______"]
[null,null,null,null,null,null,null,null,null,null,null,null,null,null,null,null,null,null,null,null,null,{"$f":"IFERROR(INDEX(MissingData, SMALL(IF(ISBLANK(MissingData)+ISERROR(MissingData)+LEN(MissingData)=0, \"\", ROW(MissingData)-MIN(ROW(MissingData))+1), ROW(620:620))),\"\")","v":"AM7____MD_H_N"},"","",null,"AM7____MD_H_N","","AM7MDHN","AM7____MD_H_N",1,"______"]
[null,null,null,null,null,null,null,null,null,null,null,null,null,null,null,null,null,null,null,null,null,{"$f":"IFERROR(INDEX(MissingData, SMALL(IF(ISBLANK(MissingData)+ISERROR(MissingData)+LEN(MissingData)=0, \"\", ROW(MissingData)-MIN(ROW(MissingData))+1), ROW(621:621))),\"\")","v":"AM7____MD_REC10YSVCS_N"},"","",null,"AM7____MD_REC10YSVCS_N","","AM7MDREC10YSVCSN","AM7____MD_REC10YSVCS_N",1,"______"]
[null,null,null,null,null,null,null,null,null,null,null,null,null,null,null,null,null,null,null,null,null,{"$f":"IFERROR(INDEX(MissingData, SMALL(IF(ISBLANK(MissingData)+ISERROR(MissingData)+LEN(MissingData)=0, \"\", ROW(MissingData)-MIN(ROW(MissingData))+1), ROW(622:622))),\"\")","v":"AM7____MD_REC09YSVCS_N"},"","",null,"AM7____MD_REC09YSVCS_N","","AM7MDREC09YSVCSN","AM7____MD_REC09YSVCS_N",1,"______"]
[null,null,null,null,null,null,null,null,null,null,null,null,null,null,null,null,null,null,null,null,null,{"$f":"IFERROR(INDEX(MissingData, SMALL(IF(ISBLANK(MissingData)+ISERROR(MissingData)+LEN(MissingData)=0, \"\", ROW(MissingData)-MIN(ROW(MissingData))+1), ROW(623:623))),\"\")","v":"AM7____MD_REC09YOTHLOC_N"},"","",null,"AM7____MD_REC09YOTHLOC_N","","AM7MDREC09YOTHLOCN","AM7____MD_REC09YOTHLOC_N",1,"______"]
[null,null,null,null,null,null,null,null,null,null,null,null,null,null,null,null,null,null,null,null,null,{"$f":"IFERROR(INDEX(MissingData, SMALL(IF(ISBLANK(MissingData)+ISERROR(MissingData)+LEN(MissingData)=0, \"\", ROW(MissingData)-MIN(ROW(MissingData))+1), ROW(624:624))),\"\")","v":"AM7____MD_RF_N"},"","",null,"AM7____MD_RF_N","","AM7MDRFN","AM7____MD_RF_N",1,"______"]
[null,null,null,null,null,null,null,null,null,null,null,null,null,null,null,null,null,null,null,null,null,{"$f":"IFERROR(INDEX(MissingData, SMALL(IF(ISBLANK(MissingData)+ISERROR(MissingData)+LEN(MissingData)=0, \"\", ROW(MissingData)-MIN(ROW(MissingData))+1), ROW(625:625))),\"\")","v":"AM7____MD_SC_N"},"","",null,"AM7____MD_SC_N","","AM7MDSCN","AM7____MD_SC_N",1,"______"]
[null,null,null,null,null,null,null,null,null,null,null,null,null,null,null,null,null,null,null,null,null,{"$f":"IFERROR(INDEX(MissingData, SMALL(IF(ISBLANK(MissingData)+ISERROR(MissingData)+LEN(MissingData)=0, \"\", ROW(MissingData)-MIN(ROW(MissingData))+1), ROW(626:626))),\"\")","v":"AM7____MD_SPL_N"},"","",null,"AM7____MD_SPL_N","","AM7MDSPLN","AM7____MD_SPL_N",1,"______"]
[null,null,null,null,null,null,null,null,null,null,null,null,null,null,null,null,null,null,null,null,null,{"$f":"IFERROR(INDEX(MissingData, SMALL(IF(ISBLANK(MissingData)+ISERROR(MissingData)+LEN(MissingData)=0, \"\", ROW(MissingData)-MIN(ROW(MissingData))+1), ROW(627:627))),\"\")","v":"AM7____MD_SS_N"},"","",null,"AM7____MD_SS_N","","AM7MDSSN","AM7____MD_SS_N",1,"______"]
[null,null,null,null,null,null,null,null,null,null,null,null,null,null,null,null,null,null,null,null,null,{"$f":"IFERROR(INDEX(MissingData, SMALL(IF(ISBLANK(MissingData)+ISERROR(MissingData)+LEN(MissingData)=0, \"\", ROW(MissingData)-MIN(ROW(MissingData))+1), ROW(628:628))),\"\")","v":"AM7____ID_H_N"},"","",null,"AM7____ID_H_N","","AM7IDHN","AM7____ID_H_N",1,"______"]
[null,null,null,null,null,null,null,null,null,null,null,null,null,null,null,null,null,null,null,null,null,{"$f":"IFERROR(INDEX(MissingData, SMALL(IF(ISBLANK(MissingData)+ISERROR(MissingData)+LEN(MissingData)=0, \"\", ROW(MissingData)-MIN(ROW(MissingData))+1), ROW(629:629))),\"\")","v":"AM7____ID_REC10YSVCS_N"},"","",null,"AM7____ID_REC10YSVCS_N","","AM7IDREC10YSVCSN","AM7____ID_REC10YSVCS_N",1,"______"]
[null,null,null,null,null,null,null,null,null,null,null,null,null,null,null,null,null,null,null,null,null,{"$f":"IFERROR(INDEX(MissingData, SMALL(IF(ISBLANK(MissingData)+ISERROR(MissingData)+LEN(MissingData)=0, \"\", ROW(MissingData)-MIN(ROW(MissingData))+1), ROW(630:630))),\"\")","v":"AM7____ID_REC10YOTHLOC_N"},"","",null,"AM7____ID_REC10YOTHLOC_N","","AM7IDREC10YOTHLOCN","AM7____ID_REC10YOTHLOC_N",1,"______"]
[null,null,null,null,null,null,null,null,null,null,null,null,null,null,null,null,null,null,null,null,null,{"$f":"IFERROR(INDEX(MissingData, SMALL(IF(ISBLANK(MissingData)+ISERROR(MissingData)+LEN(MissingData)=0, \"\", ROW(MissingData)-MIN(ROW(MissingData))+1), ROW(631:631))),\"\")","v":"AM7____ID_REC09YSVCS_N"},"","",null,"AM7____ID_REC09YSVCS_N","","AM7IDREC09YSVCSN","AM7____ID_REC09YSVCS_N",1,"______"]
[null,null,null,null,null,null,null,null,null,null,null,null,null,null,null,null,null,null,null,null,null,{"$f":"IFERROR(INDEX(MissingData, SMALL(IF(ISBLANK(MissingData)+ISERROR(MissingData)+LEN(MissingData)=0, \"\", ROW(MissingData)-MIN(ROW(MissingData))+1), ROW(632:632))),\"\")","v":"AM7____ID_REC09YOTHLOC_N"},"","",null,"AM7____ID_REC09YOTHLOC_N","","AM7IDREC09YOTHLOCN","AM7____ID_REC09YOTHLOC_N",1,"______"]
[null,null,null,null,null,null,null,null,null,null,null,null,null,null,null,null,null,null,null,null,null,{"$f":"IFERROR(INDEX(MissingData, SMALL(IF(ISBLANK(MissingData)+ISERROR(MissingData)+LEN(MissingData)=0, \"\", ROW(MissingData)-MIN(ROW(MissingData))+1), ROW(633:633))),\"\")","v":"AM7____ID_RF_N"},"","",null,"AM7____ID_RF_N","","AM7IDRFN","AM7____ID_RF_N",1,"______"]
[null,null,null,null,null,null,null,null,null,null,null,null,null,null,null,null,null,null,null,null,null,{"$f":"IFERROR(INDEX(MissingData, SMALL(IF(ISBLANK(MissingData)+ISERROR(MissingData)+LEN(MissingData)=0, \"\", ROW(MissingData)-MIN(ROW(MissingData))+1), ROW(634:634))),\"\")","v":"AM7____ID_SC_N"},"","",null,"AM7____ID_SC_N","","AM7IDSCN","AM7____ID_SC_N",1,"______"]
[null,null,null,null,null,null,null,null,null,null,null,null,null,null,null,null,null,null,null,null,null,{"$f":"IFERROR(INDEX(MissingData, SMALL(IF(ISBLANK(MissingData)+ISERROR(MissingData)+LEN(MissingData)=0, \"\", ROW(MissingData)-MIN(ROW(MissingData))+1), ROW(635:635))),\"\")","v":"AM7____ID_SPL_N"},"","",null,"AM7____ID_SPL_N","","AM7IDSPLN","AM7____ID_SPL_N",1,"______"]
[null,null,null,null,null,null,null,null,null,null,null,null,null,null,null,null,null,null,null,null,null,{"$f":"IFERROR(INDEX(MissingData, SMALL(IF(ISBLANK(MissingData)+ISERROR(MissingData)+LEN(MissingData)=0, \"\", ROW(MissingData)-MIN(ROW(MissingData))+1), ROW(636:636))),\"\")","v":"AM7____ID_SS_N"},"","",null,"AM7____ID_SS_N","","AM7IDSSN","AM7____ID_SS_N",1,"______"]
[null,null,null,null,null,null,null,null,null,null,null,null,null,null,null,null,null,null,null,null,null,{"$f":"IFERROR(INDEX(MissingData, SMALL(IF(ISBLANK(MissingData)+ISERROR(MissingData)+LEN(MissingData)=0, \"\", ROW(MissingData)-MIN(ROW(MissingData))+1), ROW(637:637))),\"\")","v":"AM7____OHI_H_N"},"","",null,"AM7____OHI_H_N","","AM7OHIHN","AM7____OHI_H_N",1,"______"]
[null,null,null,null,null,null,null,null,null,null,null,null,null,null,null,null,null,null,null,null,null,{"$f":"IFERROR(INDEX(MissingData, SMALL(IF(ISBLANK(MissingData)+ISERROR(MissingData)+LEN(MissingData)=0, \"\", ROW(MissingData)-MIN(ROW(MissingData))+1), ROW(638:638))),\"\")","v":"AM7____OHI_REC10YSVCS_N"},"","",null,"AM7____OHI_REC10YSVCS_N","","AM7OHIREC10YSVCSN","AM7____OHI_REC10YSVCS_N",1,"______"]
[null,null,null,null,null,null,null,null,null,null,null,null,null,null,null,null,null,null,null,null,null,{"$f":"IFERROR(INDEX(MissingData, SMALL(IF(ISBLANK(MissingData)+ISERROR(MissingData)+LEN(MissingData)=0, \"\", ROW(MissingData)-MIN(ROW(MissingData))+1), ROW(639:639))),\"\")","v":"AM7____OHI_REC09YSVCS_N"},"","",null,"AM7____OHI_REC09YSVCS_N","","AM7OHIREC09YSVCSN","AM7____OHI_REC09YSVCS_N",1,"______"]
[null,null,null,null,null,null,null,null,null,null,null,null,null,null,null,null,null,null,null,null,null,{"$f":"IFERROR(INDEX(MissingData, SMALL(IF(ISBLANK(MissingData)+ISERROR(MissingData)+LEN(MissingData)=0, \"\", ROW(MissingData)-MIN(ROW(MissingData))+1), ROW(640:640))),\"\")","v":"AM7____OHI_REC09YOTHLOC_N"},"","",null,"AM7____OHI_REC09YOTHLOC_N","","AM7OHIREC09YOTHLOCN","AM7____OHI_REC09YOTHLOC_N",1,"______"]
[null,null,null,null,null,null,null,null,null,null,null,null,null,null,null,null,null,null,null,null,null,{"$f":"IFERROR(INDEX(MissingData, SMALL(IF(ISBLANK(MissingData)+ISERROR(MissingData)+LEN(MissingData)=0, \"\", ROW(MissingData)-MIN(ROW(MissingData))+1), ROW(641:641))),\"\")","v":"AM7____OHI_RF_N"},{"$f":"IF(LEN(AA654)=0,\"\",IF(COUNTIF(CurrentListing_C089,AA654)>1,AE654,\"\"))","v":""},{"$f":"IF(LEN(AA654)=0,\"\",IF(ISNA(MATCH(AA654,MasterListing,0)),AE654,\"\"))","v":""},null,{"$f":"IF(LEN(AC654)=0,\"\",IF(ISNA(MATCH(AB654,CurrentListing_C089,0)),AC654,\"\"))","v":"AM7____OHI_RF_N"},"","AM7OHIRFN","AM7____OHI_RF_N",1,"______"]
[null,null,null,null,null,null,null,null,null,null,null,null,null,null,null,null,null,null,null,null,null,{"$f":"IFERROR(INDEX(MissingData, SMALL(IF(ISBLANK(MissingData)+ISERROR(MissingData)+LEN(MissingData)=0, \"\", ROW(MissingData)-MIN(ROW(MissingData))+1), ROW(642:642))),\"\")","v":"AM7____OHI_SC_N"},"","",null,"AM7____OHI_SC_N",{"$f":"G655&H655&I655&J655&K655&Q655&R655","v":""},"AM7OHISCN","AM7____OHI_SC_N",1,{"$f":"G655&\"_\"&H655&\"_\"&I655&\"_\"&J655&\"_\"&K655&\"_\"&Q655&\"_\"&R655","v":"______"}]
[null,null,null,null,null,null,null,null,null,null,null,null,null,null,null,null,null,null,null,null,null,{"$f":"IFERROR(INDEX(MissingData, SMALL(IF(ISBLANK(MissingData)+ISERROR(MissingData)+LEN(MissingData)=0, \"\", ROW(MissingData)-MIN(ROW(MissingData))+1), ROW(643:643))),\"\")","v":"AM7____OHI_SPL_N"},"","",null,"AM7____OHI_SPL_N","","AM7OHISPLN","AM7____OHI_SPL_N",{"$f":"IF(LEN(V656)>0,1,0)","v":1},"______"]
[null,null,null,null,null,null,null,null,null,null,null,null,null,null,null,null,null,null,null,null,null,{"$f":"IFERROR(INDEX(MissingData, SMALL(IF(ISBLANK(MissingData)+ISERROR(MissingData)+LEN(MissingData)=0, \"\", ROW(MissingData)-MIN(ROW(MissingData))+1), ROW(644:644))),\"\")","v":"AM7____OHI_SS_N"},"","",null,"AM7____OHI_SS_N","","AM7OHISSN","AM7____OHI_SS_N",1,"______"]
[null,null,null,null,null,null,null,null,null,null,null,null,null,null,null,null,null,null,null,null,null,{"$f":"IFERROR(INDEX(MissingData, SMALL(IF(ISBLANK(MissingData)+ISERROR(MissingData)+LEN(MissingData)=0, \"\", ROW(MissingData)-MIN(ROW(MissingData))+1), ROW(645:645))),\"\")","v":"AM7____OI_H_N"},"","",null,"AM7____OI_H_N","","AM7OIHN","AM7____OI_H_N",1,"______"]
[null,null,null,null,null,null,null,null,null,null,null,null,null,null,null,null,null,null,null,null,null,{"$f":"IFERROR(INDEX(MissingData, SMALL(IF(ISBLANK(MissingData)+ISERROR(MissingData)+LEN(MissingData)=0, \"\", ROW(MissingData)-MIN(ROW(MissingData))+1), ROW(646:646))),\"\")","v":"AM7____OI_REC10YSVCS_N"},"","",null,"AM7____OI_REC10YSVCS_N","","AM7OIREC10YSVCSN","AM7____OI_REC10YSVCS_N",1,"______"]
[null,null,null,null,null,null,null,null,null,null,null,null,null,null,null,null,null,null,null,null,null,{"$f":"IFERROR(INDEX(MissingData, SMALL(IF(ISBLANK(MissingData)+ISERROR(MissingData)+LEN(MissingData)=0, \"\", ROW(MissingData)-MIN(ROW(MissingData))+1), ROW(647:647))),\"\")","v":"AM7____OI_REC10YOTHLOC_N"},"","",null,"AM7____OI_REC10YOTHLOC_N","","AM7OIREC10YOTHLOCN","AM7____OI_REC10YOTHLOC_N",1,"______"]
[null,null,null,null,null,null,null,null,null,null,null,null,null,null,null,null,null,null,null,null,null,{"$f":"IFERROR(INDEX(MissingData, SMALL(IF(ISBLANK(MissingData)+ISERROR(MissingData)+LEN(MissingData)=0, \"\", ROW(MissingData)-MIN(ROW(MissingData))+1), ROW(648:648))),\"\")","v":"AM7____OI_REC09YSVCS_N"},"","",null,"AM7____OI_REC09YSVCS_N","","AM7OIREC09YSVCSN","AM7____OI_REC09YSVCS_N",1,"______"]
[null,null,null,null,null,null,null,null,null,null,null,null,null,null,null,null,null,null,null,null,null,{"$f":"IFERROR(INDEX(MissingData, SMALL(IF(ISBLANK(MissingData)+ISERROR(MissingData)+LEN(MissingData)=0, \"\", ROW(MissingData)-MIN(ROW(MissingData))+1), ROW(649:649))),\"\")","v":"AM7____OI_REC09YOTHLOC_N"},"","",null,"AM7____OI_REC09YOTHLOC_N","","AM7OIREC09YOTHLOCN","AM7____OI_REC09YOTHLOC_N",1,"______"]
[null,null,null,null,null,null,null,null,null,null,null,null,null,null,null,null,null,null,null,null,null,{"$f":"IFERROR(INDEX(MissingData, SMALL(IF(ISBLANK(MissingData)+ISERROR(MissingData)+LEN(MissingData)=0, \"\", ROW(MissingData)-MIN(ROW(MissingData))+1), ROW(650:650))),\"\")","v":"AM7____OI_RF_N"},"","",null,"AM7____OI_RF_N","","AM7OIRFN","AM7____OI_RF_N",1,"______"]
[null,null,null,null,null,null,null,null,null,null,null,null,null,null,null,null,null,null,null,null,null,{"$f":"IFERROR(INDEX(MissingData, SMALL(IF(ISBLANK(MissingData)+ISERROR(MissingData)+LEN(MissingData)=0, \"\", ROW(MissingData)-MIN(ROW(MissingData))+1), ROW(651:651))),\"\")","v":"AM7____OI_SC_N"},"","",null,"AM7____OI_SC_N","","AM7OISCN","AM7____OI_SC_N",1,"______"]
[null,null,null,null,null,null,null,null,null,null,null,null,null,null,null,null,null,null,null,null,null,{"$f":"IFERROR(INDEX(MissingData, SMALL(IF(ISBLANK(MissingData)+ISERROR(MissingData)+LEN(MissingData)=0, \"\", ROW(MissingData)-MIN(ROW(MissingData))+1), ROW(652:652))),\"\")","v":"AM7____OI_SPL_N"},"","",null,"AM7____OI_SPL_N","","AM7OISPLN","AM7____OI_SPL_N",1,"______"]
[null,null,null,null,null,null,null,null,null,null,null,null,null,null,null,null,null,null,null,null,null,{"$f":"IFERROR(INDEX(MissingData, SMALL(IF(ISBLANK(MissingData)+ISERROR(MissingData)+LEN(MissingData)=0, \"\", ROW(MissingData)-MIN(ROW(MissingData))+1), ROW(653:653))),\"\")","v":"AM7____OI_SS_N"},"","",null,"AM7____OI_SS_N","","AM7OISSN","AM7____OI_SS_N",1,"______"]
[null,null,null,null,null,null,null,null,null,null,null,null,null,null,null,null,null,null,null,null,null,{"$f":"IFERROR(INDEX(MissingData, SMALL(IF(ISBLANK(MissingData)+ISERROR(MissingData)+LEN(MissingData)=0, \"\", ROW(MissingData)-MIN(ROW(MissingData))+1), ROW(654:654))),\"\")","v":"AM7____SLD_H_N"},"","",null,"AM7____SLD_H_N","","AM7SLDHN","AM7____SLD_H_N",1,"______"]
[null,null,null,null,null,null,null,null,null,null,null,null,null,null,null,null,null,null,null,null,null,{"$f":"IFERROR(INDEX(MissingData, SMALL(IF(ISBLANK(MissingData)+ISERROR(MissingData)+LEN(MissingData)=0, \"\", ROW(MissingData)-MIN(ROW(MissingData))+1), ROW(655:655))),\"\")","v":"AM7____SLD_REC10YSVCS_N"},"","",null,"AM7____SLD_REC10YSVCS_N","","AM7SLDREC10YSVCSN","AM7____SLD_REC10YSVCS_N",1,"______"]
[null,null,null,null,null,null,null,null,null,null,null,null,null,null,null,null,null,null,null,null,null,{"$f":"IFERROR(INDEX(MissingData, SMALL(IF(ISBLANK(MissingData)+ISERROR(MissingData)+LEN(MissingData)=0, \"\", ROW(MissingData)-MIN(ROW(MissingData))+1), ROW(656:656))),\"\")","v":"AM7____SLD_REC10YOTHLOC_N"},"","",null,"AM7____SLD_REC10YOTHLOC_N","","AM7SLDREC10YOTHLOCN","AM7____SLD_REC10YOTHLOC_N",1,"______"]
[null,null,null,null,null,null,null,null,null,null,null,null,null,null,null,null,null,null,null,null,null,{"$f":"IFERROR(INDEX(MissingData, SMALL(IF(ISBLANK(MissingData)+ISERROR(MissingData)+LEN(MissingData)=0, \"\", ROW(MissingData)-MIN(ROW(MissingData))+1), ROW(657:657))),\"\")","v":"AM7____SLD_REC09YSVCS_N"},"","",null,"AM7____SLD_REC09YSVCS_N","","AM7SLDREC09YSVCSN","AM7____SLD_REC09YSVCS_N",1,"______"]
[null,null,null,null,null,null,null,null,null,null,null,null,null,null,null,null,null,null,null,null,null,{"$f":"IFERROR(INDEX(MissingData, SMALL(IF(ISBLANK(MissingData)+ISERROR(MissingData)+LEN(MissingData)=0, \"\", ROW(MissingData)-MIN(ROW(MissingData))+1), ROW(658:658))),\"\")","v":"AM7____SLD_REC09YOTHLOC_N"},"","",null,"AM7____SLD_REC09YOTHLOC_N","","AM7SLDREC09YOTHLOCN","AM7____SLD_REC09YOTHLOC_N",1,"______"]
[null,null,null,null,null,null,null,null,null,null,null,null,null,null,null,null,null,null,null,null,null,{"$f":"IFERROR(INDEX(MissingData, SMALL(IF(ISBLANK(MissingData)+ISERROR(MissingData)+LEN(MissingData)=0, \"\", ROW(MissingData)-MIN(ROW(MissingData))+1), ROW(659:659))),\"\")","v":"AM7____SLD_RF_N"},"","",null,"AM7____SLD_RF_N","","AM7SLDRFN","AM7____SLD_RF_N",1,"______"]
[null,null,null,null,null,null,null,null,null,null,null,null,null,null,null,null,null,null,null,null,null,{"$f":"IFERROR(INDEX(MissingData, SMALL(IF(ISBLANK(MissingData)+ISERROR(MissingData)+LEN(MissingData)=0, \"\", ROW(MissingData)-MIN(ROW(MissingData))+1), ROW(660:660))),\"\")","v":"AM7____SLD_SC_N"},"","",null,"AM7____SLD_SC_N","","AM7SLDSCN","AM7____SLD_SC_N",1,"______"]
[null,null,null,null,null,null,null,null,null,null,null,null,null,null,null,null,null,null,null,null,null,{"$f":"IFERROR(INDEX(MissingData, SMALL(IF(ISBLANK(MissingData)+ISERROR(MissingData)+LEN(MissingData)=0, \"\", ROW(MissingData)-MIN(ROW(MissingData))+1), ROW(661:661))),\"\")","v":"AM7____SLD_SPL_N"},"","",null,"AM7____SLD_SPL_N","","AM7SLDSPLN","AM7____SLD_SPL_N",1,"______"]
[null,null,null,null,null,null,null,null,null,null,null,null,null,null,null,null,null,null,null,null,null,{"$f":"IFERROR(INDEX(MissingData, SMALL(IF(ISBLANK(MissingData)+ISERROR(MissingData)+LEN(MissingData)=0, \"\", ROW(MissingData)-MIN(ROW(MissingData))+1), ROW(662:662))),\"\")","v":"AM7____SLD_SS_N"},"","",null,"AM7____SLD_SS_N","","AM7SLDSSN","AM7____SLD_SS_N",1,"______"]
[null,null,null,null,null,null,null,null,null,null,null,null,null,null,null,null,null,null,null,null,null,{"$f":"IFERROR(INDEX(MissingData, SMALL(IF(ISBLANK(MissingData)+ISERROR(MissingData)+LEN(MissingData)=0, \"\", ROW(MissingData)-MIN(ROW(MissingData))+1), ROW(663:663))),\"\")","v":"AM7____SLI_H_N"},"","",null,"AM7____SLI_H_N","","AM7SLIHN","AM7____SLI_H_N",1,"______"]
[null,null,null,null,null,null,null,null,null,null,null,null,null,null,null,null,null,null,null,null,null,{"$f":"IFERROR(INDEX(MissingData, SMALL(IF(ISBLANK(MissingData)+ISERROR(MissingData)+LEN(MissingData)=0, \"\", ROW(MissingData)-MIN(ROW(MissingData))+1), ROW(664:664))),\"\")","v":"AM7____SLI_REC09YSVCS_N"},"","",null,"AM7____SLI_REC09YSVCS_N","","AM7SLIREC09YSVCSN","AM7____SLI_REC09YSVCS_N",1,"______"]
[null,null,null,null,null,null,null,null,null,null,null,null,null,null,null,null,null,null,null,null,null,{"$f":"IFERROR(INDEX(MissingData, SMALL(IF(ISBLANK(MissingData)+ISERROR(MissingData)+LEN(MissingData)=0, \"\", ROW(MissingData)-MIN(ROW(MissingData))+1), ROW(665:665))),\"\")","v":"AM7____SLI_REC09YOTHLOC_N"},"","",null,"AM7____SLI_REC09YOTHLOC_N","","AM7SLIREC09YOTHLOCN","AM7____SLI_REC09YOTHLOC_N",1,"______"]
[null,null,null,null,null,null,null,null,null,null,null,null,null,null,null,null,null,null,null,null,null,{"$f":"IFERROR(INDEX(MissingData, SMALL(IF(ISBLANK(MissingData)+ISERROR(MissingData)+LEN(MissingData)=0, \"\", ROW(MissingData)-MIN(ROW(MissingData))+1), ROW(666:666))),\"\")","v":"AM7____SLI_RF_N"},"","",null,"AM7____SLI_RF_N","","AM7SLIRFN","AM7____SLI_RF_N",1,"______"]
[null,null,null,null,null,null,null,null,null,null,null,null,null,null,null,null,null,null,null,null,null,{"$f":"IFERROR(INDEX(MissingData, SMALL(IF(ISBLANK(MissingData)+ISERROR(MissingData)+LEN(MissingData)=0, \"\", ROW(MissingData)-MIN(ROW(MissingData))+1), ROW(667:667))),\"\")","v":"AM7____SLI_SC_N"},"","",null,"AM7____SLI_SC_N","","AM7SLISCN","AM7____SLI_SC_N",1,"______"]
[null,null,null,null,null,null,null,null,null,null,null,null,null,null,null,null,null,null,null,null,null,{"$f":"IFERROR(INDEX(MissingData, SMALL(IF(ISBLANK(MissingData)+ISERROR(MissingData)+LEN(MissingData)=0, \"\", ROW(MissingData)-MIN(ROW(MissingData))+1), ROW(668:668))),\"\")","v":"AM7____SLI_SPL_N"},"","",null,"AM7____SLI_SPL_N","","AM7SLISPLN","AM7____SLI_SPL_N",1,"______"]
[null,null,null,null,null,null,null,null,null,null,null,null,null,null,null,null,null,null,null,null,null,{"$f":"IFERROR(INDEX(MissingData, SMALL(IF(ISBLANK(MissingData)+ISERROR(MissingData)+LEN(MissingData)=0, \"\", ROW(MissingData)-MIN(ROW(MissingData))+1), ROW(669:669))),\"\")","v":"AM7____SLI_SS_N"},"","",null,"AM7____SLI_SS_N","","AM7SLISSN","AM7____SLI_SS_N",1,"______"]
[null,null,null,null,null,null,null,null,null,null,null,null,null,null,null,null,null,null,null,null,null,{"$f":"IFERROR(INDEX(MissingData, SMALL(IF(ISBLANK(MissingData)+ISERROR(MissingData)+LEN(MissingData)=0, \"\", ROW(MissingData)-MIN(ROW(MissingData))+1), ROW(670:670))),\"\")","v":"AM7____TBI_H_N"},"","",null,"AM7____TBI_H_N","","AM7TBIHN","AM7____TBI_H_N",1,"______"]
[null,null,null,null,null,null,null,null,null,null,null,null,null,null,null,null,null,null,null,null,null,{"$f":"IFERROR(INDEX(MissingData, SMALL(IF(ISBLANK(MissingData)+ISERROR(MissingData)+LEN(MissingData)=0, \"\", ROW(MissingData)-MIN(ROW(MissingData))+1), ROW(671:671))),\"\")","v":"AM7____TBI_REC10YSVCS_N"},"","",null,"AM7____TBI_REC10YSVCS_N","","AM7TBIREC10YSVCSN","AM7____TBI_REC10YSVCS_N",1,"______"]
[null,null,null,null,null,null,null,null,null,null,null,null,null,null,null,null,null,null,null,null,null,{"$f":"IFERROR(INDEX(MissingData, SMALL(IF(ISBLANK(MissingData)+ISERROR(MissingData)+LEN(MissingData)=0, \"\", ROW(MissingData)-MIN(ROW(MissingData))+1), ROW(672:672))),\"\")","v":"AM7____TBI_REC10YOTHLOC_N"},"","",null,"AM7____TBI_REC10YOTHLOC_N","","AM7TBIREC10YOTHLOCN","AM7____TBI_REC10YOTHLOC_N",1,"______"]
[null,null,null,null,null,null,null,null,null,null,null,null,null,null,null,null,null,null,null,null,null,{"$f":"IFERROR(INDEX(MissingData, SMALL(IF(ISBLANK(MissingData)+ISERROR(MissingData)+LEN(MissingData)=0, \"\", ROW(MissingData)-MIN(ROW(MissingData))+1), ROW(673:673))),\"\")","v":"AM7____TBI_REC09YSVCS_N"},"","",null,"AM7____TBI_REC09YSVCS_N","","AM7TBIREC09YSVCSN","AM7____TBI_REC09YSVCS_N",1,"______"]
[null,null,null,null,null,null,null,null,null,null,null,null,null,null,null,null,null,null,null,null,null,{"$f":"IFERROR(INDEX(MissingData, SMALL(IF(ISBLANK(MissingData)+ISERROR(MissingData)+LEN(MissingData)=0, \"\", ROW(MissingData)-MIN(ROW(MissingData))+1), ROW(674:674))),\"\")","v":"AM7____TBI_REC09YOTHLOC_N"},"","",null,"AM7____TBI_REC09YOTHLOC_N","","AM7TBIREC09YOTHLOCN","AM7____TBI_REC09YOTHLOC_N",1,"______"]
[null,null,null,null,null,null,null,null,null,null,null,null,null,null,null,null,null,null,null,null,null,{"$f":"IFERROR(INDEX(MissingData, SMALL(IF(ISBLANK(MissingData)+ISERROR(MissingData)+LEN(MissingData)=0, \"\", ROW(MissingData)-MIN(ROW(MissingData))+1), ROW(675:675))),\"\")","v":"AM7____TBI_RF_N"},"","",null,"AM7____TBI_RF_N","","AM7TBIRFN","AM7____TBI_RF_N",1,"______"]
[null,null,null,null,null,null,null,null,null,null,null,null,null,null,null,null,null,null,null,null,null,{"$f":"IFERROR(INDEX(MissingData, SMALL(IF(ISBLANK(MissingData)+ISERROR(MissingData)+LEN(MissingData)=0, \"\", ROW(MissingData)-MIN(ROW(MissingData))+1), ROW(676:676))),\"\")","v":"AM7____TBI_SC_N"},"","",null,"AM7____TBI_SC_N","","AM7TBISCN","AM7____TBI_SC_N",1,"______"]
[null,null,null,null,null,null,null,null,null,null,null,null,null,null,null,null,null,null,null,null,null,{"$f":"IFERROR(INDEX(MissingData, SMALL(IF(ISBLANK(MissingData)+ISERROR(MissingData)+LEN(MissingData)=0, \"\", ROW(MissingData)-MIN(ROW(MissingData))+1), ROW(677:677))),\"\")","v":"AM7____TBI_SPL_N"},"","",null,"AM7____TBI_SPL_N","","AM7TBISPLN","AM7____TBI_SPL_N",1,"______"]
[null,null,null,null,null,null,null,null,null,null,null,null,null,null,null,null,null,null,null,null,null,{"$f":"IFERROR(INDEX(MissingData, SMALL(IF(ISBLANK(MissingData)+ISERROR(MissingData)+LEN(MissingData)=0, \"\", ROW(MissingData)-MIN(ROW(MissingData))+1), ROW(678:678))),\"\")","v":"AM7____TBI_SS_N"},"","",null,"AM7____TBI_SS_N","","AM7TBISSN","AM7____TBI_SS_N",1,"______"]
[null,null,null,null,null,null,null,null,null,null,null,null,null,null,null,null,null,null,null,null,null,{"$f":"IFERROR(INDEX(MissingData, SMALL(IF(ISBLANK(MissingData)+ISERROR(MissingData)+LEN(MissingData)=0, \"\", ROW(MissingData)-MIN(ROW(MissingData))+1), ROW(679:679))),\"\")","v":"AM7____VI_H_N"},"","",null,"AM7____VI_H_N","","AM7VIHN","AM7____VI_H_N",1,"______"]
[null,null,null,null,null,null,null,null,null,null,null,null,null,null,null,null,null,null,null,null,null,{"$f":"IFERROR(INDEX(MissingData, SMALL(IF(ISBLANK(MissingData)+ISERROR(MissingData)+LEN(MissingData)=0, \"\", ROW(MissingData)-MIN(ROW(MissingData))+1), ROW(680:680))),\"\")","v":"AM7____VI_REC10YSVCS_N"},"","",null,"AM7____VI_REC10YSVCS_N","","AM7VIREC10YSVCSN","AM7____VI_REC10YSVCS_N",1,"______"]
[null,null,null,null,null,null,null,null,null,null,null,null,null,null,null,null,null,null,null,null,null,{"$f":"IFERROR(INDEX(MissingData, SMALL(IF(ISBLANK(MissingData)+ISERROR(MissingData)+LEN(MissingData)=0, \"\", ROW(MissingData)-MIN(ROW(MissingData))+1), ROW(681:681))),\"\")","v":"AM7____VI_REC10YOTHLOC_N"},"","",null,"AM7____VI_REC10YOTHLOC_N","","AM7VIREC10YOTHLOCN","AM7____VI_REC10YOTHLOC_N",1,"______"]
[null,null,null,null,null,null,null,null,null,null,null,null,null,null,null,null,null,null,null,null,null,{"$f":"IFERROR(INDEX(MissingData, SMALL(IF(ISBLANK(MissingData)+ISERROR(MissingData)+LEN(MissingData)=0, \"\", ROW(MissingData)-MIN(ROW(MissingData))+1), ROW(682:682))),\"\")","v":"AM7____VI_REC09YSVCS_N"},"","",null,"AM7____VI_REC09YSVCS_N","","AM7VIREC09YSVCSN","AM7____VI_REC09YSVCS_N",1,"______"]
[null,null,null,null,null,null,null,null,null,null,null,null,null,null,null,null,null,null,null,null,null,{"$f":"IFERROR(INDEX(MissingData, SMALL(IF(ISBLANK(MissingData)+ISERROR(MissingData)+LEN(MissingData)=0, \"\", ROW(MissingData)-MIN(ROW(MissingData))+1), ROW(683:683))),\"\")","v":"AM7____VI_REC09YOTHLOC_N"},"","",null,"AM7____VI_REC09YOTHLOC_N","","AM7VIREC09YOTHLOCN","AM7____VI_REC09YOTHLOC_N",1,"______"]
[null,null,null,null,null,null,null,null,null,null,null,null,null,null,null,null,null,null,null,null,null,{"$f":"IFERROR(INDEX(MissingData, SMALL(IF(ISBLANK(MissingData)+ISERROR(MissingData)+LEN(MissingData)=0, \"\", ROW(MissingData)-MIN(ROW(MissingData))+1), ROW(684:684))),\"\")","v":"AM7____VI_RF_N"},"","",null,"AM7____VI_RF_N","","AM7VIRFN","AM7____VI_RF_N",1,"______"]
[null,null,null,null,null,null,null,null,null,null,null,null,null,null,null,null,null,null,null,null,null,{"$f":"IFERROR(INDEX(MissingData, SMALL(IF(ISBLANK(MissingData)+ISERROR(MissingData)+LEN(MissingData)=0, \"\", ROW(MissingData)-MIN(ROW(MissingData))+1), ROW(685:685))),\"\")","v":"AM7____VI_SC_N"},"","",null,"AM7____VI_SC_N","","AM7VISCN","AM7____VI_SC_N",1,"______"]
[null,null,null,null,null,null,null,null,null,null,null,null,null,null,null,null,null,null,null,null,null,{"$f":"IFERROR(INDEX(MissingData, SMALL(IF(ISBLANK(MissingData)+ISERROR(MissingData)+LEN(MissingData)=0, \"\", ROW(MissingData)-MIN(ROW(MissingData))+1), ROW(686:686))),\"\")","v":"AM7____VI_SPL_N"},"","",null,"AM7____VI_SPL_N","","AM7VISPLN","AM7____VI_SPL_N",1,"______"]
[null,null,null,null,null,null,null,null,null,null,null,null,null,null,null,null,null,null,null,null,null,{"$f":"IFERROR(INDEX(MissingData, SMALL(IF(ISBLANK(MissingData)+ISERROR(MissingData)+LEN(MissingData)=0, \"\", ROW(MissingData)-MIN(ROW(MissingData))+1), ROW(687:687))),\"\")","v":"AM7____VI_SS_N"},"","",null,"AM7____VI_SS_N","","AM7VISSN","AM7____VI_SS_N",1,"______"]
[null,null,null,null,null,null,null,null,null,null,null,null,null,null,null,null,null,null,null,null,null,{"$f":"IFERROR(INDEX(MissingData, SMALL(IF(ISBLANK(MissingData)+ISERROR(MissingData)+LEN(MissingData)=0, \"\", ROW(MissingData)-MIN(ROW(MissingData))+1), ROW(688:688))),\"\")","v":"AS7____AUT_H_N"},"","",null,"AS7____AUT_H_N","","AS7AUTHN","AS7____AUT_H_N",1,"______"]
[null,null,null,null,null,null,null,null,null,null,null,null,null,null,null,null,null,null,null,null,null,{"$f":"IFERROR(INDEX(MissingData, SMALL(IF(ISBLANK(MissingData)+ISERROR(MissingData)+LEN(MissingData)=0, \"\", ROW(MissingData)-MIN(ROW(MissingData))+1), ROW(689:689))),\"\")","v":"AS7____AUT_REC09YSVCS_N"},"","",null,"AS7____AUT_REC09YSVCS_N","","AS7AUTREC09YSVCSN","AS7____AUT_REC09YSVCS_N",1,"______"]
[null,null,null,null,null,null,null,null,null,null,null,null,null,null,null,null,null,null,null,null,null,{"$f":"IFERROR(INDEX(MissingData, SMALL(IF(ISBLANK(MissingData)+ISERROR(MissingData)+LEN(MissingData)=0, \"\", ROW(MissingData)-MIN(ROW(MissingData))+1), ROW(690:690))),\"\")","v":"AS7____AUT_REC09YOTHLOC_N"},"","",null,"AS7____AUT_REC09YOTHLOC_N","","AS7AUTREC09YOTHLOCN","AS7____AUT_REC09YOTHLOC_N",1,"______"]
[null,null,null,null,null,null,null,null,null,null,null,null,null,null,null,null,null,null,null,null,null,{"$f":"IFERROR(INDEX(MissingData, SMALL(IF(ISBLANK(MissingData)+ISERROR(MissingData)+LEN(MissingData)=0, \"\", ROW(MissingData)-MIN(ROW(MissingData))+1), ROW(691:691))),\"\")","v":"AS7____AUT_RF_N"},"","",null,"AS7____AUT_RF_N","","AS7AUTRFN","AS7____AUT_RF_N",1,"______"]
[null,null,null,null,null,null,null,null,null,null,null,null,null,null,null,null,null,null,null,null,null,{"$f":"IFERROR(INDEX(MissingData, SMALL(IF(ISBLANK(MissingData)+ISERROR(MissingData)+LEN(MissingData)=0, \"\", ROW(MissingData)-MIN(ROW(MissingData))+1), ROW(692:692))),\"\")","v":"AS7____AUT_SPL_N"},"","",null,"AS7____AUT_SPL_N","","AS7AUTSPLN","AS7____AUT_SPL_N",1,"______"]
[null,null,null,null,null,null,null,null,null,null,null,null,null,null,null,null,null,null,null,null,null,{"$f":"IFERROR(INDEX(MissingData, SMALL(IF(ISBLANK(MissingData)+ISERROR(MissingData)+LEN(MissingData)=0, \"\", ROW(MissingData)-MIN(ROW(MissingData))+1), ROW(693:693))),\"\")","v":"AS7____AUT_SS_N"},"","",null,"AS7____AUT_SS_N","","AS7AUTSSN","AS7____AUT_SS_N",1,"______"]
[null,null,null,null,null,null,null,null,null,null,null,null,null,null,null,null,null,null,null,null,null,{"$f":"IFERROR(INDEX(MissingData, SMALL(IF(ISBLANK(MissingData)+ISERROR(MissingData)+LEN(MissingData)=0, \"\", ROW(MissingData)-MIN(ROW(MissingData))+1), ROW(694:694))),\"\")","v":"AS7____DB_H_N"},"","",null,"AS7____DB_H_N","","AS7DBHN","AS7____DB_H_N",1,"______"]
[null,null,null,null,null,null,null,null,null,null,null,null,null,null,null,null,null,null,null,null,null,{"$f":"IFERROR(INDEX(MissingData, SMALL(IF(ISBLANK(MissingData)+ISERROR(MissingData)+LEN(MissingData)=0, \"\", ROW(MissingData)-MIN(ROW(MissingData))+1), ROW(695:695))),\"\")","v":"AS7____DB_REC10YSVCS_N"},"","",null,"AS7____DB_REC10YSVCS_N","","AS7DBREC10YSVCSN","AS7____DB_REC10YSVCS_N",1,"______"]
[null,null,null,null,null,null,null,null,null,null,null,null,null,null,null,null,null,null,null,null,null,{"$f":"IFERROR(INDEX(MissingData, SMALL(IF(ISBLANK(MissingData)+ISERROR(MissingData)+LEN(MissingData)=0, \"\", ROW(MissingData)-MIN(ROW(MissingData))+1), ROW(696:696))),\"\")","v":"AS7____DB_REC10YOTHLOC_N"},"","",null,"AS7____DB_REC10YOTHLOC_N","","AS7DBREC10YOTHLOCN","AS7____DB_REC10YOTHLOC_N",1,"______"]
[null,null,null,null,null,null,null,null,null,null,null,null,null,null,null,null,null,null,null,null,null,{"$f":"IFERROR(INDEX(MissingData, SMALL(IF(ISBLANK(MissingData)+ISERROR(MissingData)+LEN(MissingData)=0, \"\", ROW(MissingData)-MIN(ROW(MissingData))+1), ROW(697:697))),\"\")","v":"AS7____DB_REC09YSVCS_N"},"","",null,"AS7____DB_REC09YSVCS_N","","AS7DBREC09YSVCSN","AS7____DB_REC09YSVCS_N",1,"______"]
[null,null,null,null,null,null,null,null,null,null,null,null,null,null,null,null,null,null,null,null,null,{"$f":"IFERROR(INDEX(MissingData, SMALL(IF(ISBLANK(MissingData)+ISERROR(MissingData)+LEN(MissingData)=0, \"\", ROW(MissingData)-MIN(ROW(MissingData))+1), ROW(698:698))),\"\")","v":"AS7____DB_REC09YOTHLOC_N"},"","",null,"AS7____DB_REC09YOTHLOC_N","","AS7DBREC09YOTHLOCN","AS7____DB_REC09YOTHLOC_N",1,"______"]
[null,null,null,null,null,null,null,null,null,null,null,null,null,null,null,null,null,null,null,null,null,{"$f":"IFERROR(INDEX(MissingData, SMALL(IF(ISBLANK(MissingData)+ISERROR(MissingData)+LEN(MissingData)=0, \"\", ROW(MissingData)-MIN(ROW(MissingData))+1), ROW(699:699))),\"\")","v":"AS7____DB_RF_N"},"","",null,"AS7____DB_RF_N","","AS7DBRFN","AS7____DB_RF_N",1,"______"]
[null,null,null,null,null,null,null,null,null,null,null,null,null,null,null,null,null,null,null,null,null,{"$f":"IFERROR(INDEX(MissingData, SMALL(IF(ISBLANK(MissingData)+ISERROR(MissingData)+LEN(MissingData)=0, \"\", ROW(MissingData)-MIN(ROW(MissingData))+1), ROW(700:700))),\"\")","v":"AS7____DB_SC_N"},"","",null,"AS7____DB_SC_N","","AS7DBSCN","AS7____DB_SC_N",1,"______"]
[null,null,null,null,null,null,null,null,null,null,null,null,null,null,null,null,null,null,null,null,null,{"$f":"IFERROR(INDEX(MissingData, SMALL(IF(ISBLANK(MissingData)+ISERROR(MissingData)+LEN(MissingData)=0, \"\", ROW(MissingData)-MIN(ROW(MissingData))+1), ROW(701:701))),\"\")","v":"AS7____DB_SPL_N"},"","",null,"AS7____DB_SPL_N","","AS7DBSPLN","AS7____DB_SPL_N",1,"______"]
[null,null,null,null,null,null,null,null,null,null,null,null,null,null,null,null,null,null,null,null,null,{"$f":"IFERROR(INDEX(MissingData, SMALL(IF(ISBLANK(MissingData)+ISERROR(MissingData)+LEN(MissingData)=0, \"\", ROW(MissingData)-MIN(ROW(MissingData))+1), ROW(702:702))),\"\")","v":"AS7____DB_SS_N"},"","",null,"AS7____DB_SS_N","","AS7DBSSN","AS7____DB_SS_N",1,"______"]
[null,null,null,null,null,null,null,null,null,null,null,null,null,null,null,null,null,null,null,null,null,{"$f":"IFERROR(INDEX(MissingData, SMALL(IF(ISBLANK(MissingData)+ISERROR(MissingData)+LEN(MissingData)=0, \"\", ROW(MissingData)-MIN(ROW(MissingData))+1), ROW(703:703))),\"\")","v":"AS7____DD_H_N"},"","",null,"AS7____DD_H_N","","AS7DDHN","AS7____DD_H_N",1,"______"]
[null,null,null,null,null,null,null,null,null,null,null,null,null,null,null,null,null,null,null,null,null,{"$f":"IFERROR(INDEX(MissingData, SMALL(IF(ISBLANK(MissingData)+ISERROR(MissingData)+LEN(MissingData)=0, \"\", ROW(MissingData)-MIN(ROW(MissingData))+1), ROW(704:704))),\"\")","v":"AS7____DD_REC09YSVCS_N"},"","",null,"AS7____DD_REC09YSVCS_N","","AS7DDREC09YSVCSN","AS7____DD_REC09YSVCS_N",1,"______"]
[null,null,null,null,null,null,null,null,null,null,null,null,null,null,null,null,null,null,null,null,null,{"$f":"IFERROR(INDEX(MissingData, SMALL(IF(ISBLANK(MissingData)+ISERROR(MissingData)+LEN(MissingData)=0, \"\", ROW(MissingData)-MIN(ROW(MissingData))+1), ROW(705:705))),\"\")","v":"AS7____DD_REC09YOTHLOC_N"},{"$f":"IF(LEN(AA718)=0,\"\",IF(COUNTIF(CurrentListing_C089,AA718)>1,AE718,\"\"))","v":""},{"$f":"IF(LEN(AA718)=0,\"\",IF(ISNA(MATCH(AA718,MasterListing,0)),AE718,\"\"))","v":""},null,{"$f":"IF(LEN(AC718)=0,\"\",IF(ISNA(MATCH(AB718,CurrentListing_C089,0)),AC718,\"\"))","v":"AS7____DD_REC09YOTHLOC_N"},"","AS7DDREC09YOTHLOCN","AS7____DD_REC09YOTHLOC_N",1,"______"]
[null,null,null,null,null,null,null,null,null,null,null,null,null,null,null,null,null,null,null,null,null,{"$f":"IFERROR(INDEX(MissingData, SMALL(IF(ISBLANK(MissingData)+ISERROR(MissingData)+LEN(MissingData)=0, \"\", ROW(MissingData)-MIN(ROW(MissingData))+1), ROW(706:706))),\"\")","v":"AS7____DD_RF_N"},"","",null,"AS7____DD_RF_N",{"$f":"G719&H719&I719&J719&K719&Q719&R719","v":""},"AS7DDRFN","AS7____DD_RF_N",1,{"$f":"G719&\"_\"&H719&\"_\"&I719&\"_\"&J719&\"_\"&K719&\"_\"&Q719&\"_\"&R719","v":"______"}]
[null,null,null,null,null,null,null,null,null,null,null,null,null,null,null,null,null,null,null,null,null,{"$f":"IFERROR(INDEX(MissingData, SMALL(IF(ISBLANK(MissingData)+ISERROR(MissingData)+LEN(MissingData)=0, \"\", ROW(MissingData)-MIN(ROW(MissingData))+1), ROW(707:707))),\"\")","v":"AS7____EMN_H_N"},"","",null,"AS7____EMN_H_N","","AS7EMNHN","AS7____EMN_H_N",{"$f":"IF(LEN(V720)>0,1,0)","v":1},"______"]
[null,null,null,null,null,null,null,null,null,null,null,null,null,null,null,null,null,null,null,null,null,{"$f":"IFERROR(INDEX(MissingData, SMALL(IF(ISBLANK(MissingData)+ISERROR(MissingData)+LEN(MissingData)=0, \"\", ROW(MissingData)-MIN(ROW(MissingData))+1), ROW(708:708))),\"\")","v":"AS7____EMN_REC10YSVCS_N"},"","",null,"AS7____EMN_REC10YSVCS_N","","AS7EMNREC10YSVCSN","AS7____EMN_REC10YSVCS_N",1,"______"]
[null,null,null,null,null,null,null,null,null,null,null,null,null,null,null,null,null,null,null,null,null,{"$f":"IFERROR(INDEX(MissingData, SMALL(IF(ISBLANK(MissingData)+ISERROR(MissingData)+LEN(MissingData)=0, \"\", ROW(MissingData)-MIN(ROW(MissingData))+1), ROW(709:709))),\"\")","v":"AS7____EMN_REC10YOTHLOC_N"},"","",null,"AS7____EMN_REC10YOTHLOC_N","","AS7EMNREC10YOTHLOCN","AS7____EMN_REC10YOTHLOC_N",1,"______"]
[null,null,null,null,null,null,null,null,null,null,null,null,null,null,null,null,null,null,null,null,null,{"$f":"IFERROR(INDEX(MissingData, SMALL(IF(ISBLANK(MissingData)+ISERROR(MissingData)+LEN(MissingData)=0, \"\", ROW(MissingData)-MIN(ROW(MissingData))+1), ROW(710:710))),\"\")","v":"AS7____EMN_REC09YSVCS_N"},"","",null,"AS7____EMN_REC09YSVCS_N","","AS7EMNREC09YSVCSN","AS7____EMN_REC09YSVCS_N",1,"______"]
[null,null,null,null,null,null,null,null,null,null,null,null,null,null,null,null,null,null,null,null,null,{"$f":"IFERROR(INDEX(MissingData, SMALL(IF(ISBLANK(MissingData)+ISERROR(MissingData)+LEN(MissingData)=0, \"\", ROW(MissingData)-MIN(ROW(MissingData))+1), ROW(711:711))),\"\")","v":"AS7____EMN_REC09YOTHLOC_N"},"","",null,"AS7____EMN_REC09YOTHLOC_N","","AS7EMNREC09YOTHLOCN","AS7____EMN_REC09YOTHLOC_N",1,"______"]
[null,null,null,null,null,null,null,null,null,null,null,null,null,null,null,null,null,null,null,null,null,{"$f":"IFERROR(INDEX(MissingData, SMALL(IF(ISBLANK(MissingData)+ISERROR(MissingData)+LEN(MissingData)=0, \"\", ROW(MissingData)-MIN(ROW(MissingData))+1), ROW(712:712))),\"\")","v":"AS7____EMN_RF_N"},"","",null,"AS7____EMN_RF_N","","AS7EMNRFN","AS7____EMN_RF_N",1,"______"]
[null,null,null,null,null,null,null,null,null,null,null,null,null,null,null,null,null,null,null,null,null,{"$f":"IFERROR(INDEX(MissingData, SMALL(IF(ISBLANK(MissingData)+ISERROR(MissingData)+LEN(MissingData)=0, \"\", ROW(MissingData)-MIN(ROW(MissingData))+1), ROW(713:713))),\"\")","v":"AS7____EMN_SC_N"},"","",null,"AS7____EMN_SC_N","","AS7EMNSCN","AS7____EMN_SC_N",1,"______"]
[null,null,null,null,null,null,null,null,null,null,null,null,null,null,null,null,null,null,null,null,null,{"$f":"IFERROR(INDEX(MissingData, SMALL(IF(ISBLANK(MissingData)+ISERROR(MissingData)+LEN(MissingData)=0, \"\", ROW(MissingData)-MIN(ROW(MissingData))+1), ROW(714:714))),\"\")","v":"AS7____EMN_SPL_N"},"","",null,"AS7____EMN_SPL_N","","AS7EMNSPLN","AS7____EMN_SPL_N",1,"______"]
[null,null,null,null,null,null,null,null,null,null,null,null,null,null,null,null,null,null,null,null,null,{"$f":"IFERROR(INDEX(MissingData, SMALL(IF(ISBLANK(MissingData)+ISERROR(MissingData)+LEN(MissingData)=0, \"\", ROW(MissingData)-MIN(ROW(MissingData))+1), ROW(715:715))),\"\")","v":"AS7____EMN_SS_N"},"","",null,"AS7____EMN_SS_N","","AS7EMNSSN","AS7____EMN_SS_N",1,"______"]
[null,null,null,null,null,null,null,null,null,null,null,null,null,null,null,null,null,null,null,null,null,{"$f":"IFERROR(INDEX(MissingData, SMALL(IF(ISBLANK(MissingData)+ISERROR(MissingData)+LEN(MissingData)=0, \"\", ROW(MissingData)-MIN(ROW(MissingData))+1), ROW(716:716))),\"\")","v":"AS7____HI_H_N"},"","",null,"AS7____HI_H_N","","AS7HIHN","AS7____HI_H_N",1,"______"]
[null,null,null,null,null,null,null,null,null,null,null,null,null,null,null,null,null,null,null,null,null,{"$f":"IFERROR(INDEX(MissingData, SMALL(IF(ISBLANK(MissingData)+ISERROR(MissingData)+LEN(MissingData)=0, \"\", ROW(MissingData)-MIN(ROW(MissingData))+1), ROW(717:717))),\"\")","v":"AS7____HI_REC09YSVCS_N"},"","",null,"AS7____HI_REC09YSVCS_N","","AS7HIREC09YSVCSN","AS7____HI_REC09YSVCS_N",1,"______"]
[null,null,null,null,null,null,null,null,null,null,null,null,null,null,null,null,null,null,null,null,null,{"$f":"IFERROR(INDEX(MissingData, SMALL(IF(ISBLANK(MissingData)+ISERROR(MissingData)+LEN(MissingData)=0, \"\", ROW(MissingData)-MIN(ROW(MissingData))+1), ROW(718:718))),\"\")","v":"AS7____HI_REC09YOTHLOC_N"},"","",null,"AS7____HI_REC09YOTHLOC_N","","AS7HIREC09YOTHLOCN","AS7____HI_REC09YOTHLOC_N",1,"______"]
[null,null,null,null,null,null,null,null,null,null,null,null,null,null,null,null,null,null,null,null,null,{"$f":"IFERROR(INDEX(MissingData, SMALL(IF(ISBLANK(MissingData)+ISERROR(MissingData)+LEN(MissingData)=0, \"\", ROW(MissingData)-MIN(ROW(MissingData))+1), ROW(719:719))),\"\")","v":"AS7____HI_RF_N"},"","",null,"AS7____HI_RF_N","","AS7HIRFN","AS7____HI_RF_N",1,"______"]
[null,null,null,null,null,null,null,null,null,null,null,null,null,null,null,null,null,null,null,null,null,{"$f":"IFERROR(INDEX(MissingData, SMALL(IF(ISBLANK(MissingData)+ISERROR(MissingData)+LEN(MissingData)=0, \"\", ROW(MissingData)-MIN(ROW(MissingData))+1), ROW(720:720))),\"\")","v":"AS7____HI_SC_N"},"","",null,"AS7____HI_SC_N","","AS7HISCN","AS7____HI_SC_N",1,"______"]
[null,null,null,null,null,null,null,null,null,null,null,null,null,null,null,null,null,null,null,null,null,{"$f":"IFERROR(INDEX(MissingData, SMALL(IF(ISBLANK(MissingData)+ISERROR(MissingData)+LEN(MissingData)=0, \"\", ROW(MissingData)-MIN(ROW(MissingData))+1), ROW(721:721))),\"\")","v":"AS7____MD_H_N"},"","",null,"AS7____MD_H_N","","AS7MDHN","AS7____MD_H_N",1,"______"]
[null,null,null,null,null,null,null,null,null,null,null,null,null,null,null,null,null,null,null,null,null,{"$f":"IFERROR(INDEX(MissingData, SMALL(IF(ISBLANK(MissingData)+ISERROR(MissingData)+LEN(MissingData)=0, \"\", ROW(MissingData)-MIN(ROW(MissingData))+1), ROW(722:722))),\"\")","v":"AS7____MD_REC10YSVCS_N"},"","",null,"AS7____MD_REC10YSVCS_N","","AS7MDREC10YSVCSN","AS7____MD_REC10YSVCS_N",1,"______"]
[null,null,null,null,null,null,null,null,null,null,null,null,null,null,null,null,null,null,null,null,null,{"$f":"IFERROR(INDEX(MissingData, SMALL(IF(ISBLANK(MissingData)+ISERROR(MissingData)+LEN(MissingData)=0, \"\", ROW(MissingData)-MIN(ROW(MissingData))+1), ROW(723:723))),\"\")","v":"AS7____MD_REC10YOTHLOC_N"},"","",null,"AS7____MD_REC10YOTHLOC_N","","AS7MDREC10YOTHLOCN","AS7____MD_REC10YOTHLOC_N",1,"______"]
[null,null,null,null,null,null,null,null,null,null,null,null,null,null,null,null,null,null,null,null,null,{"$f":"IFERROR(INDEX(MissingData, SMALL(IF(ISBLANK(MissingData)+ISERROR(MissingData)+LEN(MissingData)=0, \"\", ROW(MissingData)-MIN(ROW(MissingData))+1), ROW(724:724))),\"\")","v":"AS7____MD_REC09YSVCS_N"},"","",null,"AS7____MD_REC09YSVCS_N","","AS7MDREC09YSVCSN","AS7____MD_REC09YSVCS_N",1,"______"]
[null,null,null,null,null,null,null,null,null,null,null,null,null,null,null,null,null,null,null,null,null,{"$f":"IFERROR(INDEX(MissingData, SMALL(IF(ISBLANK(MissingData)+ISERROR(MissingData)+LEN(MissingData)=0, \"\", ROW(MissingData)-MIN(ROW(MissingData))+1), ROW(725:725))),\"\")","v":"AS7____MD_REC09YOTHLOC_N"},"","",null,"AS7____MD_REC09YOTHLOC_N","","AS7MDREC09YOTHLOCN","AS7____MD_REC09YOTHLOC_N",1,"______"]
[null,null,null,null,null,null,null,null,null,null,null,null,null,null,null,null,null,null,null,null,null,{"$f":"IFERROR(INDEX(MissingData, SMALL(IF(ISBLANK(MissingData)+ISERROR(MissingData)+LEN(MissingData)=0, \"\", ROW(MissingData)-MIN(ROW(MissingData))+1), ROW(726:726))),\"\")","v":"AS7____MD_RF_N"},"","",null,"AS7____MD_RF_N","","AS7MDRFN","AS7____MD_RF_N",1,"______"]
[null,null,null,null,null,null,null,null,null,null,null,null,null,null,null,null,null,null,null,null,null,{"$f":"IFERROR(INDEX(MissingData, SMALL(IF(ISBLANK(MissingData)+ISERROR(MissingData)+LEN(MissingData)=0, \"\", ROW(MissingData)-MIN(ROW(MissingData))+1), ROW(727:727))),\"\")","v":"AS7____MD_SPL_N"},"","",null,"AS7____MD_SPL_N","","AS7MDSPLN","AS7____MD_SPL_N",1,"______"]
[null,null,null,null,null,null,null,null,null,null,null,null,null,null,null,null,null,null,null,null,null,{"$f":"IFERROR(INDEX(MissingData, SMALL(IF(ISBLANK(MissingData)+ISERROR(MissingData)+LEN(MissingData)=0, \"\", ROW(MissingData)-MIN(ROW(MissingData))+1), ROW(728:728))),\"\")","v":"AS7____MD_SS_N"},"","",null,"AS7____MD_SS_N","","AS7MDSSN","AS7____MD_SS_N",1,"______"]
[null,null,null,null,null,null,null,null,null,null,null,null,null,null,null,null,null,null,null,null,null,{"$f":"IFERROR(INDEX(MissingData, SMALL(IF(ISBLANK(MissingData)+ISERROR(MissingData)+LEN(MissingData)=0, \"\", ROW(MissingData)-MIN(ROW(MissingData))+1), ROW(729:729))),\"\")","v":"AS7____ID_H_N"},"","",null,"AS7____ID_H_N","","AS7IDHN","AS7____ID_H_N",1,"______"]
[null,null,null,null,null,null,null,null,null,null,null,null,null,null,null,null,null,null,null,null,null,{"$f":"IFERROR(INDEX(MissingData, SMALL(IF(ISBLANK(MissingData)+ISERROR(MissingData)+LEN(MissingData)=0, \"\", ROW(MissingData)-MIN(ROW(MissingData))+1), ROW(730:730))),\"\")","v":"AS7____ID_REC10YSVCS_N"},"","",null,"AS7____ID_REC10YSVCS_N","","AS7IDREC10YSVCSN","AS7____ID_REC10YSVCS_N",1,"______"]
[null,null,null,null,null,null,null,null,null,null,null,null,null,null,null,null,null,null,null,null,null,{"$f":"IFERROR(INDEX(MissingData, SMALL(IF(ISBLANK(MissingData)+ISERROR(MissingData)+LEN(MissingData)=0, \"\", ROW(MissingData)-MIN(ROW(MissingData))+1), ROW(731:731))),\"\")","v":"AS7____ID_REC09YSVCS_N"},"","",null,"AS7____ID_REC09YSVCS_N","","AS7IDREC09YSVCSN","AS7____ID_REC09YSVCS_N",1,"______"]
[null,null,null,null,null,null,null,null,null,null,null,null,null,null,null,null,null,null,null,null,null,{"$f":"IFERROR(INDEX(MissingData, SMALL(IF(ISBLANK(MissingData)+ISERROR(MissingData)+LEN(MissingData)=0, \"\", ROW(MissingData)-MIN(ROW(MissingData))+1), ROW(732:732))),\"\")","v":"AS7____ID_REC09YOTHLOC_N"},"","",null,"AS7____ID_REC09YOTHLOC_N","","AS7IDREC09YOTHLOCN","AS7____ID_REC09YOTHLOC_N",1,"______"]
[null,null,null,null,null,null,null,null,null,null,null,null,null,null,null,null,null,null,null,null,null,{"$f":"IFERROR(INDEX(MissingData, SMALL(IF(ISBLANK(MissingData)+ISERROR(MissingData)+LEN(MissingData)=0, \"\", ROW(MissingData)-MIN(ROW(MissingData))+1), ROW(733:733))),\"\")","v":"AS7____ID_RF_N"},"","",null,"AS7____ID_RF_N","","AS7IDRFN","AS7____ID_RF_N",1,"______"]
[null,null,null,null,null,null,null,null,null,null,null,null,null,null,null,null,null,null,null,null,null,{"$f":"IFERROR(INDEX(MissingData, SMALL(IF(ISBLANK(MissingData)+ISERROR(MissingData)+LEN(MissingData)=0, \"\", ROW(MissingData)-MIN(ROW(MissingData))+1), ROW(734:734))),\"\")","v":"AS7____ID_SPL_N"},"","",null,"AS7____ID_SPL_N","","AS7IDSPLN","AS7____ID_SPL_N",1,"______"]
[null,null,null,null,null,null,null,null,null,null,null,null,null,null,null,null,null,null,null,null,null,{"$f":"IFERROR(INDEX(MissingData, SMALL(IF(ISBLANK(MissingData)+ISERROR(MissingData)+LEN(MissingData)=0, \"\", ROW(MissingData)-MIN(ROW(MissingData))+1), ROW(735:735))),\"\")","v":"AS7____ID_SS_N"},"","",null,"AS7____ID_SS_N","","AS7IDSSN","AS7____ID_SS_N",1,"______"]
[null,null,null,null,null,null,null,null,null,null,null,null,null,null,null,null,null,null,null,null,null,{"$f":"IFERROR(INDEX(MissingData, SMALL(IF(ISBLANK(MissingData)+ISERROR(MissingData)+LEN(MissingData)=0, \"\", ROW(MissingData)-MIN(ROW(MissingData))+1), ROW(736:736))),\"\")","v":"AS7____OHI_H_N"},"","",null,"AS7____OHI_H_N","","AS7OHIHN","AS7____OHI_H_N",1,"______"]
[null,null,null,null,null,null,null,null,null,null,null,null,null,null,null,null,null,null,null,null,null,{"$f":"IFERROR(INDEX(MissingData, SMALL(IF(ISBLANK(MissingData)+ISERROR(MissingData)+LEN(MissingData)=0, \"\", ROW(MissingData)-MIN(ROW(MissingData))+1), ROW(737:737))),\"\")","v":"AS7____OHI_REC09YSVCS_N"},"","",null,"AS7____OHI_REC09YSVCS_N","","AS7OHIREC09YSVCSN","AS7____OHI_REC09YSVCS_N",1,"______"]
[null,null,null,null,null,null,null,null,null,null,null,null,null,null,null,null,null,null,null,null,null,{"$f":"IFERROR(INDEX(MissingData, SMALL(IF(ISBLANK(MissingData)+ISERROR(MissingData)+LEN(MissingData)=0, \"\", ROW(MissingData)-MIN(ROW(MissingData))+1), ROW(738:738))),\"\")","v":"AS7____OHI_REC09YOTHLOC_N"},"","",null,"AS7____OHI_REC09YOTHLOC_N","","AS7OHIREC09YOTHLOCN","AS7____OHI_REC09YOTHLOC_N",1,"______"]
[null,null,null,null,null,null,null,null,null,null,null,null,null,null,null,null,null,null,null,null,null,{"$f":"IFERROR(INDEX(MissingData, SMALL(IF(ISBLANK(MissingData)+ISERROR(MissingData)+LEN(MissingData)=0, \"\", ROW(MissingData)-MIN(ROW(MissingData))+1), ROW(739:739))),\"\")","v":"AS7____OHI_RF_N"},"","",null,"AS7____OHI_RF_N","","AS7OHIRFN","AS7____OHI_RF_N",1,"______"]
[null,null,null,null,null,null,null,null,null,null,null,null,null,null,null,null,null,null,null,null,null,{"$f":"IFERROR(INDEX(MissingData, SMALL(IF(ISBLANK(MissingData)+ISERROR(MissingData)+LEN(MissingData)=0, \"\", ROW(MissingData)-MIN(ROW(MissingData))+1), ROW(740:740))),\"\")","v":"AS7____OHI_SPL_N"},"","",null,"AS7____OHI_SPL_N","","AS7OHISPLN","AS7____OHI_SPL_N",1,"______"]
[null,null,null,null,null,null,null,null,null,null,null,null,null,null,null,null,null,null,null,null,null,{"$f":"IFERROR(INDEX(MissingData, SMALL(IF(ISBLANK(MissingData)+ISERROR(MissingData)+LEN(MissingData)=0, \"\", ROW(MissingData)-MIN(ROW(MissingData))+1), ROW(741:741))),\"\")","v":"AS7____OHI_SS_N"},"","",null,"AS7____OHI_SS_N","","AS7OHISSN","AS7____OHI_SS_N",1,"______"]
[null,null,null,null,null,null,null,null,null,null,null,null,null,null,null,null,null,null,null,null,null,{"$f":"IFERROR(INDEX(MissingData, SMALL(IF(ISBLANK(MissingData)+ISERROR(MissingData)+LEN(MissingData)=0, \"\", ROW(MissingData)-MIN(ROW(MissingData))+1), ROW(742:742))),\"\")","v":"AS7____OI_H_N"},"","",null,"AS7____OI_H_N","","AS7OIHN","AS7____OI_H_N",1,"______"]
[null,null,null,null,null,null,null,null,null,null,null,null,null,null,null,null,null,null,null,null,null,{"$f":"IFERROR(INDEX(MissingData, SMALL(IF(ISBLANK(MissingData)+ISERROR(MissingData)+LEN(MissingData)=0, \"\", ROW(MissingData)-MIN(ROW(MissingData))+1), ROW(743:743))),\"\")","v":"AS7____OI_REC10YSVCS_N"},"","",null,"AS7____OI_REC10YSVCS_N","","AS7OIREC10YSVCSN","AS7____OI_REC10YSVCS_N",1,"______"]
[null,null,null,null,null,null,null,null,null,null,null,null,null,null,null,null,null,null,null,null,null,{"$f":"IFERROR(INDEX(MissingData, SMALL(IF(ISBLANK(MissingData)+ISERROR(MissingData)+LEN(MissingData)=0, \"\", ROW(MissingData)-MIN(ROW(MissingData))+1), ROW(744:744))),\"\")","v":"AS7____OI_REC09YSVCS_N"},"","",null,"AS7____OI_REC09YSVCS_N","","AS7OIREC09YSVCSN","AS7____OI_REC09YSVCS_N",1,"______"]
[null,null,null,null,null,null,null,null,null,null,null,null,null,null,null,null,null,null,null,null,null,{"$f":"IFERROR(INDEX(MissingData, SMALL(IF(ISBLANK(MissingData)+ISERROR(MissingData)+LEN(MissingData)=0, \"\", ROW(MissingData)-MIN(ROW(MissingData))+1), ROW(745:745))),\"\")","v":"AS7____OI_REC09YOTHLOC_N"},"","",null,"AS7____OI_REC09YOTHLOC_N","","AS7OIREC09YOTHLOCN","AS7____OI_REC09YOTHLOC_N",1,"______"]
[null,null,null,null,null,null,null,null,null,null,null,null,null,null,null,null,null,null,null,null,null,{"$f":"IFERROR(INDEX(MissingData, SMALL(IF(ISBLANK(MissingData)+ISERROR(MissingData)+LEN(MissingData)=0, \"\", ROW(MissingData)-MIN(ROW(MissingData))+1), ROW(746:746))),\"\")","v":"AS7____OI_RF_N"},"","",null,"AS7____OI_RF_N","","AS7OIRFN","AS7____OI_RF_N",1,"______"]
[null,null,null,null,null,null,null,null,null,null,null,null,null,null,null,null,null,null,null,null,null,{"$f":"IFERROR(INDEX(MissingData, SMALL(IF(ISBLANK(MissingData)+ISERROR(MissingData)+LEN(MissingData)=0, \"\", ROW(MissingData)-MIN(ROW(MissingData))+1), ROW(747:747))),\"\")","v":"AS7____OI_SC_N"},"","",null,"AS7____OI_SC_N","","AS7OISCN","AS7____OI_SC_N",1,"______"]
[null,null,null,null,null,null,null,null,null,null,null,null,null,null,null,null,null,null,null,null,null,{"$f":"IFERROR(INDEX(MissingData, SMALL(IF(ISBLANK(MissingData)+ISERROR(MissingData)+LEN(MissingData)=0, \"\", ROW(MissingData)-MIN(ROW(MissingData))+1), ROW(748:748))),\"\")","v":"AS7____OI_SPL_N"},"","",null,"AS7____OI_SPL_N","","AS7OISPLN","AS7____OI_SPL_N",1,"______"]
[null,null,null,null,null,null,null,null,null,null,null,null,null,null,null,null,null,null,null,null,null,{"$f":"IFERROR(INDEX(MissingData, SMALL(IF(ISBLANK(MissingData)+ISERROR(MissingData)+LEN(MissingData)=0, \"\", ROW(MissingData)-MIN(ROW(MissingData))+1), ROW(749:749))),\"\")","v":"AS7____OI_SS_N"},"","",null,"AS7____OI_SS_N","","AS7OISSN","AS7____OI_SS_N",1,"______"]
[null,null,null,null,null,null,null,null,null,null,null,null,null,null,null,null,null,null,null,null,null,{"$f":"IFERROR(INDEX(MissingData, SMALL(IF(ISBLANK(MissingData)+ISERROR(MissingData)+LEN(MissingData)=0, \"\", ROW(MissingData)-MIN(ROW(MissingData))+1), ROW(750:750))),\"\")","v":"AS7____SLD_H_N"},"","",null,"AS7____SLD_H_N","","AS7SLDHN","AS7____SLD_H_N",1,"______"]
[null,null,null,null,null,null,null,null,null,null,null,null,null,null,null,null,null,null,null,null,null,{"$f":"IFERROR(INDEX(MissingData, SMALL(IF(ISBLANK(MissingData)+ISERROR(MissingData)+LEN(MissingData)=0, \"\", ROW(MissingData)-MIN(ROW(MissingData))+1), ROW(751:751))),\"\")","v":"AS7____SLD_REC10YSVCS_N"},"","",null,"AS7____SLD_REC10YSVCS_N","","AS7SLDREC10YSVCSN","AS7____SLD_REC10YSVCS_N",1,"______"]
[null,null,null,null,null,null,null,null,null,null,null,null,null,null,null,null,null,null,null,null,null,{"$f":"IFERROR(INDEX(MissingData, SMALL(IF(ISBLANK(MissingData)+ISERROR(MissingData)+LEN(MissingData)=0, \"\", ROW(MissingData)-MIN(ROW(MissingData))+1), ROW(752:752))),\"\")","v":"AS7____SLD_REC10YOTHLOC_N"},"","",null,"AS7____SLD_REC10YOTHLOC_N","","AS7SLDREC10YOTHLOCN","AS7____SLD_REC10YOTHLOC_N",1,"______"]
[null,null,null,null,null,null,null,null,null,null,null,null,null,null,null,null,null,null,null,null,null,{"$f":"IFERROR(INDEX(MissingData, SMALL(IF(ISBLANK(MissingData)+ISERROR(MissingData)+LEN(MissingData)=0, \"\", ROW(MissingData)-MIN(ROW(MissingData))+1), ROW(753:753))),\"\")","v":"AS7____SLD_REC09YSVCS_N"},"","",null,"AS7____SLD_REC09YSVCS_N","","AS7SLDREC09YSVCSN","AS7____SLD_REC09YSVCS_N",1,"______"]
[null,null,null,null,null,null,null,null,null,null,null,null,null,null,null,null,null,null,null,null,null,{"$f":"IFERROR(INDEX(MissingData, SMALL(IF(ISBLANK(MissingData)+ISERROR(MissingData)+LEN(MissingData)=0, \"\", ROW(MissingData)-MIN(ROW(MissingData))+1), ROW(754:754))),\"\")","v":"AS7____SLD_REC09YOTHLOC_N"},"","",null,"AS7____SLD_REC09YOTHLOC_N","","AS7SLDREC09YOTHLOCN","AS7____SLD_REC09YOTHLOC_N",1,"______"]
[null,null,null,null,null,null,null,null,null,null,null,null,null,null,null,null,null,null,null,null,null,{"$f":"IFERROR(INDEX(MissingData, SMALL(IF(ISBLANK(MissingData)+ISERROR(MissingData)+LEN(MissingData)=0, \"\", ROW(MissingData)-MIN(ROW(MissingData))+1), ROW(755:755))),\"\")","v":"AS7____SLD_RF_N"},"","",null,"AS7____SLD_RF_N","","AS7SLDRFN","AS7____SLD_RF_N",1,"______"]
[null,null,null,null,null,null,null,null,null,null,null,null,null,null,null,null,null,null,null,null,null,{"$f":"IFERROR(INDEX(MissingData, SMALL(IF(ISBLANK(MissingData)+ISERROR(MissingData)+LEN(MissingData)=0, \"\", ROW(MissingData)-MIN(ROW(MissingData))+1), ROW(756:756))),\"\")","v":"AS7____SLD_SC_N"},"","",null,"AS7____SLD_SC_N","","AS7SLDSCN","AS7____SLD_SC_N",1,"______"]
[null,null,null,null,null,null,null,null,null,null,null,null,null,null,null,null,null,null,null,null,null,{"$f":"IFERROR(INDEX(MissingData, SMALL(IF(ISBLANK(MissingData)+ISERROR(MissingData)+LEN(MissingData)=0, \"\", ROW(MissingData)-MIN(ROW(MissingData))+1), ROW(757:757))),\"\")","v":"AS7____SLD_SPL_N"},"","",null,"AS7____SLD_SPL_N","","AS7SLDSPLN","AS7____SLD_SPL_N",1,"______"]
[null,null,null,null,null,null,null,null,null,null,null,null,null,null,null,null,null,null,null,null,null,{"$f":"IFERROR(INDEX(MissingData, SMALL(IF(ISBLANK(MissingData)+ISERROR(MissingData)+LEN(MissingData)=0, \"\", ROW(MissingData)-MIN(ROW(MissingData))+1), ROW(758:758))),\"\")","v":"AS7____SLD_SS_N"},"","",null,"AS7____SLD_SS_N","","AS7SLDSSN","AS7____SLD_SS_N",1,"______"]
[null,null,null,null,null,null,null,null,null,null,null,null,null,null,null,null,null,null,null,null,null,{"$f":"IFERROR(INDEX(MissingData, SMALL(IF(ISBLANK(MissingData)+ISERROR(MissingData)+LEN(MissingData)=0, \"\", ROW(MissingData)-MIN(ROW(MissingData))+1), ROW(759:759))),\"\")","v":"AS7____SLI_H_N"},"","",null,"AS7____SLI_H_N","","AS7SLIHN","AS7____SLI_H_N",1,"______"]
[null,null,null,null,null,null,null,null,null,null,null,null,null,null,null,null,null,null,null,null,null,{"$f":"IFERROR(INDEX(MissingData, SMALL(IF(ISBLANK(MissingData)+ISERROR(MissingData)+LEN(MissingData)=0, \"\", ROW(MissingData)-MIN(ROW(MissingData))+1), ROW(760:760))),\"\")","v":"AS7____SLI_REC09YSVCS_N"},"","",null,"AS7____SLI_REC09YSVCS_N","","AS7SLIREC09YSVCSN","AS7____SLI_REC09YSVCS_N",1,"______"]
[null,null,null,null,null,null,null,null,null,null,null,null,null,null,null,null,null,null,null,null,null,{"$f":"IFERROR(INDEX(MissingData, SMALL(IF(ISBLANK(MissingData)+ISERROR(MissingData)+LEN(MissingData)=0, \"\", ROW(MissingData)-MIN(ROW(MissingData))+1), ROW(761:761))),\"\")","v":"AS7____SLI_RF_N"},"","",null,"AS7____SLI_RF_N","","AS7SLIRFN","AS7____SLI_RF_N",1,"______"]
[null,null,null,null,null,null,null,null,null,null,null,null,null,null,null,null,null,null,null,null,null,{"$f":"IFERROR(INDEX(MissingData, SMALL(IF(ISBLANK(MissingData)+ISERROR(MissingData)+LEN(MissingData)=0, \"\", ROW(MissingData)-MIN(ROW(MissingData))+1), ROW(762:762))),\"\")","v":"AS7____TBI_H_N"},"","",null,"AS7____TBI_H_N","","AS7TBIHN","AS7____TBI_H_N",1,"______"]
[null,null,null,null,null,null,null,null,null,null,null,null,null,null,null,null,null,null,null,null,null,{"$f":"IFERROR(INDEX(MissingData, SMALL(IF(ISBLANK(MissingData)+ISERROR(MissingData)+LEN(MissingData)=0, \"\", ROW(MissingData)-MIN(ROW(MissingData))+1), ROW(763:763))),\"\")","v":"AS7____TBI_REC10YSVCS_N"},"","",null,"AS7____TBI_REC10YSVCS_N","","AS7TBIREC10YSVCSN","AS7____TBI_REC10YSVCS_N",1,"______"]
[null,null,null,null,null,null,null,null,null,null,null,null,null,null,null,null,null,null,null,null,null,{"$f":"IFERROR(INDEX(MissingData, SMALL(IF(ISBLANK(MissingData)+ISERROR(MissingData)+LEN(MissingData)=0, \"\", ROW(MissingData)-MIN(ROW(MissingData))+1), ROW(764:764))),\"\")","v":"AS7____TBI_REC10YOTHLOC_N"},"","",null,"AS7____TBI_REC10YOTHLOC_N","","AS7TBIREC10YOTHLOCN","AS7____TBI_REC10YOTHLOC_N",1,"______"]
[null,null,null,null,null,null,null,null,null,null,null,null,null,null,null,null,null,null,null,null,null,{"$f":"IFERROR(INDEX(MissingData, SMALL(IF(ISBLANK(MissingData)+ISERROR(MissingData)+LEN(MissingData)=0, \"\", ROW(MissingData)-MIN(ROW(MissingData))+1), ROW(765:765))),\"\")","v":"AS7____TBI_REC09YSVCS_N"},"","",null,"AS7____TBI_REC09YSVCS_N","","AS7TBIREC09YSVCSN","AS7____TBI_REC09YSVCS_N",1,"______"]
[null,null,null,null,null,null,null,null,null,null,null,null,null,null,null,null,null,null,null,null,null,{"$f":"IFERROR(INDEX(MissingData, SMALL(IF(ISBLANK(MissingData)+ISERROR(MissingData)+LEN(MissingData)=0, \"\", ROW(MissingData)-MIN(ROW(MissingData))+1), ROW(766:766))),\"\")","v":"AS7____TBI_REC09YOTHLOC_N"},"","",null,"AS7____TBI_REC09YOTHLOC_N","","AS7TBIREC09YOTHLOCN","AS7____TBI_REC09YOTHLOC_N",1,"______"]
[null,null,null,null,null,null,null,null,null,null,null,null,null,null,null,null,null,null,null,null,null,{"$f":"IFERROR(INDEX(MissingData, SMALL(IF(ISBLANK(MissingData)+ISERROR(MissingData)+LEN(MissingData)=0, \"\", ROW(MissingData)-MIN(ROW(MissingData))+1), ROW(767:767))),\"\")","v":"AS7____TBI_RF_N"},"","",null,"AS7____TBI_RF_N","","AS7TBIRFN","AS7____TBI_RF_N",1,"______"]
[null,null,null,null,null,null,null,null,null,null,null,null,null,null,null,null,null,null,null,null,null,{"$f":"IFERROR(INDEX(MissingData, SMALL(IF(ISBLANK(MissingData)+ISERROR(MissingData)+LEN(MissingData)=0, \"\", ROW(MissingData)-MIN(ROW(MissingData))+1), ROW(768:768))),\"\")","v":"AS7____TBI_SC_N"},"","",null,"AS7____TBI_SC_N","","AS7TBISCN","AS7____TBI_SC_N",1,"______"]
[null,null,null,null,null,null,null,null,null,null,null,null,null,null,null,null,null,null,null,null,null,{"$f":"IFERROR(INDEX(MissingData, SMALL(IF(ISBLANK(MissingData)+ISERROR(MissingData)+LEN(MissingData)=0, \"\", ROW(MissingData)-MIN(ROW(MissingData))+1), ROW(769:769))),\"\")","v":"AS7____TBI_SPL_N"},{"$f":"IF(LEN(AA782)=0,\"\",IF(COUNTIF(CurrentListing_C089,AA782)>1,AE782,\"\"))","v":""},{"$f":"IF(LEN(AA782)=0,\"\",IF(ISNA(MATCH(AA782,MasterListing,0)),AE782,\"\"))","v":""},null,{"$f":"IF(LEN(AC782)=0,\"\",IF(ISNA(MATCH(AB782,CurrentListing_C089,0)),AC782,\"\"))","v":"AS7____TBI_SPL_N"},"","AS7TBISPLN","AS7____TBI_SPL_N",1,"______"]
[null,null,null,null,null,null,null,null,null,null,null,null,null,null,null,null,null,null,null,null,null,{"$f":"IFERROR(INDEX(MissingData, SMALL(IF(ISBLANK(MissingData)+ISERROR(MissingData)+LEN(MissingData)=0, \"\", ROW(MissingData)-MIN(ROW(MissingData))+1), ROW(770:770))),\"\")","v":"AS7____TBI_SS_N"},"","",null,"AS7____TBI_SS_N",{"$f":"G783&H783&I783&J783&K783&Q783&R783","v":""},"AS7TBISSN","AS7____TBI_SS_N",1,{"$f":"G783&\"_\"&H783&\"_\"&I783&\"_\"&J783&\"_\"&K783&\"_\"&Q783&\"_\"&R783","v":"______"}]
[null,null,null,null,null,null,null,null,null,null,null,null,null,null,null,null,null,null,null,null,null,{"$f":"IFERROR(INDEX(MissingData, SMALL(IF(ISBLANK(MissingData)+ISERROR(MissingData)+LEN(MissingData)=0, \"\", ROW(MissingData)-MIN(ROW(MissingData))+1), ROW(771:771))),\"\")","v":"AS7____VI_H_N"},"","",null,"AS7____VI_H_N","","AS7VIHN","AS7____VI_H_N",{"$f":"IF(LEN(V784)>0,1,0)","v":1},"______"]
[null,null,null,null,null,null,null,null,null,null,null,null,null,null,null,null,null,null,null,null,null,{"$f":"IFERROR(INDEX(MissingData, SMALL(IF(ISBLANK(MissingData)+ISERROR(MissingData)+LEN(MissingData)=0, \"\", ROW(MissingData)-MIN(ROW(MissingData))+1), ROW(772:772))),\"\")","v":"AS7____VI_REC10YSVCS_N"},"","",null,"AS7____VI_REC10YSVCS_N","","AS7VIREC10YSVCSN","AS7____VI_REC10YSVCS_N",1,"______"]
[null,null,null,null,null,null,null,null,null,null,null,null,null,null,null,null,null,null,null,null,null,{"$f":"IFERROR(INDEX(MissingData, SMALL(IF(ISBLANK(MissingData)+ISERROR(MissingData)+LEN(MissingData)=0, \"\", ROW(MissingData)-MIN(ROW(MissingData))+1), ROW(773:773))),\"\")","v":"AS7____VI_REC10YOTHLOC_N"},"","",null,"AS7____VI_REC10YOTHLOC_N","","AS7VIREC10YOTHLOCN","AS7____VI_REC10YOTHLOC_N",1,"______"]
[null,null,null,null,null,null,null,null,null,null,null,null,null,null,null,null,null,null,null,null,null,{"$f":"IFERROR(INDEX(MissingData, SMALL(IF(ISBLANK(MissingData)+ISERROR(MissingData)+LEN(MissingData)=0, \"\", ROW(MissingData)-MIN(ROW(MissingData))+1), ROW(774:774))),\"\")","v":"AS7____VI_REC09YSVCS_N"},"","",null,"AS7____VI_REC09YSVCS_N","","AS7VIREC09YSVCSN","AS7____VI_REC09YSVCS_N",1,"______"]
[null,null,null,null,null,null,null,null,null,null,null,null,null,null,null,null,null,null,null,null,null,{"$f":"IFERROR(INDEX(MissingData, SMALL(IF(ISBLANK(MissingData)+ISERROR(MissingData)+LEN(MissingData)=0, \"\", ROW(MissingData)-MIN(ROW(MissingData))+1), ROW(775:775))),\"\")","v":"AS7____VI_REC09YOTHLOC_N"},"","",null,"AS7____VI_REC09YOTHLOC_N","","AS7VIREC09YOTHLOCN","AS7____VI_REC09YOTHLOC_N",1,"______"]
[null,null,null,null,null,null,null,null,null,null,null,null,null,null,null,null,null,null,null,null,null,{"$f":"IFERROR(INDEX(MissingData, SMALL(IF(ISBLANK(MissingData)+ISERROR(MissingData)+LEN(MissingData)=0, \"\", ROW(MissingData)-MIN(ROW(MissingData))+1), ROW(776:776))),\"\")","v":"AS7____VI_RF_N"},"","",null,"AS7____VI_RF_N","","AS7VIRFN","AS7____VI_RF_N",1,"______"]
[null,null,null,null,null,null,null,null,null,null,null,null,null,null,null,null,null,null,null,null,null,{"$f":"IFERROR(INDEX(MissingData, SMALL(IF(ISBLANK(MissingData)+ISERROR(MissingData)+LEN(MissingData)=0, \"\", ROW(MissingData)-MIN(ROW(MissingData))+1), ROW(777:777))),\"\")","v":"AS7____VI_SC_N"},"","",null,"AS7____VI_SC_N","","AS7VISCN","AS7____VI_SC_N",1,"______"]
[null,null,null,null,null,null,null,null,null,null,null,null,null,null,null,null,null,null,null,null,null,{"$f":"IFERROR(INDEX(MissingData, SMALL(IF(ISBLANK(MissingData)+ISERROR(MissingData)+LEN(MissingData)=0, \"\", ROW(MissingData)-MIN(ROW(MissingData))+1), ROW(778:778))),\"\")","v":"AS7____VI_SPL_N"},"","",null,"AS7____VI_SPL_N","","AS7VISPLN","AS7____VI_SPL_N",1,"______"]
[null,null,null,null,null,null,null,null,null,null,null,null,null,null,null,null,null,null,null,null,null,{"$f":"IFERROR(INDEX(MissingData, SMALL(IF(ISBLANK(MissingData)+ISERROR(MissingData)+LEN(MissingData)=0, \"\", ROW(MissingData)-MIN(ROW(MissingData))+1), ROW(779:779))),\"\")","v":"AS7____VI_SS_N"},"","",null,"AS7____VI_SS_N","","AS7VISSN","AS7____VI_SS_N",1,"______"]
[null,null,null,null,null,null,null,null,null,null,null,null,null,null,null,null,null,null,null,null,null,{"$f":"IFERROR(INDEX(MissingData, SMALL(IF(ISBLANK(MissingData)+ISERROR(MissingData)+LEN(MissingData)=0, \"\", ROW(MissingData)-MIN(ROW(MissingData))+1), ROW(780:780))),\"\")","v":"BL7____AUT_REC09YSVCS_N"},"","",null,"BL7____AUT_REC09YSVCS_N","","BL7AUTREC09YSVCSN","BL7____AUT_REC09YSVCS_N",1,"______"]
[null,null,null,null,null,null,null,null,null,null,null,null,null,null,null,null,null,null,null,null,null,{"$f":"IFERROR(INDEX(MissingData, SMALL(IF(ISBLANK(MissingData)+ISERROR(MissingData)+LEN(MissingData)=0, \"\", ROW(MissingData)-MIN(ROW(MissingData))+1), ROW(781:781))),\"\")","v":"BL7____AUT_REC09YOTHLOC_N"},"","",null,"BL7____AUT_REC09YOTHLOC_N","","BL7AUTREC09YOTHLOCN","BL7____AUT_REC09YOTHLOC_N",1,"______"]
[null,null,null,null,null,null,null,null,null,null,null,null,null,null,null,null,null,null,null,null,null,{"$f":"IFERROR(INDEX(MissingData, SMALL(IF(ISBLANK(MissingData)+ISERROR(MissingData)+LEN(MissingData)=0, \"\", ROW(MissingData)-MIN(ROW(MissingData))+1), ROW(782:782))),\"\")","v":"BL7____AUT_RF_N"},"","",null,"BL7____AUT_RF_N","","BL7AUTRFN","BL7____AUT_RF_N",1,"______"]
[null,null,null,null,null,null,null,null,null,null,null,null,null,null,null,null,null,null,null,null,null,{"$f":"IFERROR(INDEX(MissingData, SMALL(IF(ISBLANK(MissingData)+ISERROR(MissingData)+LEN(MissingData)=0, \"\", ROW(MissingData)-MIN(ROW(MissingData))+1), ROW(783:783))),\"\")","v":"BL7____AUT_SPL_N"},"","",null,"BL7____AUT_SPL_N","","BL7AUTSPLN","BL7____AUT_SPL_N",1,"______"]
[null,null,null,null,null,null,null,null,null,null,null,null,null,null,null,null,null,null,null,null,null,{"$f":"IFERROR(INDEX(MissingData, SMALL(IF(ISBLANK(MissingData)+ISERROR(MissingData)+LEN(MissingData)=0, \"\", ROW(MissingData)-MIN(ROW(MissingData))+1), ROW(784:784))),\"\")","v":"BL7____DB_H_N"},"","",null,"BL7____DB_H_N","","BL7DBHN","BL7____DB_H_N",1,"______"]
[null,null,null,null,null,null,null,null,null,null,null,null,null,null,null,null,null,null,null,null,null,{"$f":"IFERROR(INDEX(MissingData, SMALL(IF(ISBLANK(MissingData)+ISERROR(MissingData)+LEN(MissingData)=0, \"\", ROW(MissingData)-MIN(ROW(MissingData))+1), ROW(785:785))),\"\")","v":"BL7____DB_REC10YSVCS_N"},"","",null,"BL7____DB_REC10YSVCS_N","","BL7DBREC10YSVCSN","BL7____DB_REC10YSVCS_N",1,"______"]
[null,null,null,null,null,null,null,null,null,null,null,null,null,null,null,null,null,null,null,null,null,{"$f":"IFERROR(INDEX(MissingData, SMALL(IF(ISBLANK(MissingData)+ISERROR(MissingData)+LEN(MissingData)=0, \"\", ROW(MissingData)-MIN(ROW(MissingData))+1), ROW(786:786))),\"\")","v":"BL7____DB_REC10YOTHLOC_N"},"","",null,"BL7____DB_REC10YOTHLOC_N","","BL7DBREC10YOTHLOCN","BL7____DB_REC10YOTHLOC_N",1,"______"]
[null,null,null,null,null,null,null,null,null,null,null,null,null,null,null,null,null,null,null,null,null,{"$f":"IFERROR(INDEX(MissingData, SMALL(IF(ISBLANK(MissingData)+ISERROR(MissingData)+LEN(MissingData)=0, \"\", ROW(MissingData)-MIN(ROW(MissingData))+1), ROW(787:787))),\"\")","v":"BL7____DB_REC09YSVCS_N"},"","",null,"BL7____DB_REC09YSVCS_N","","BL7DBREC09YSVCSN","BL7____DB_REC09YSVCS_N",1,"______"]
[null,null,null,null,null,null,null,null,null,null,null,null,null,null,null,null,null,null,null,null,null,{"$f":"IFERROR(INDEX(MissingData, SMALL(IF(ISBLANK(MissingData)+ISERROR(MissingData)+LEN(MissingData)=0, \"\", ROW(MissingData)-MIN(ROW(MissingData))+1), ROW(788:788))),\"\")","v":"BL7____DB_REC09YOTHLOC_N"},"","",null,"BL7____DB_REC09YOTHLOC_N","","BL7DBREC09YOTHLOCN","BL7____DB_REC09YOTHLOC_N",1,"______"]
[null,null,null,null,null,null,null,null,null,null,null,null,null,null,null,null,null,null,null,null,null,{"$f":"IFERROR(INDEX(MissingData, SMALL(IF(ISBLANK(MissingData)+ISERROR(MissingData)+LEN(MissingData)=0, \"\", ROW(MissingData)-MIN(ROW(MissingData))+1), ROW(789:789))),\"\")","v":"BL7____DB_RF_N"},"","",null,"BL7____DB_RF_N","","BL7DBRFN","BL7____DB_RF_N",1,"______"]
[null,null,null,null,null,null,null,null,null,null,null,null,null,null,null,null,null,null,null,null,null,{"$f":"IFERROR(INDEX(MissingData, SMALL(IF(ISBLANK(MissingData)+ISERROR(MissingData)+LEN(MissingData)=0, \"\", ROW(MissingData)-MIN(ROW(MissingData))+1), ROW(790:790))),\"\")","v":"BL7____DB_SC_N"},"","",null,"BL7____DB_SC_N","","BL7DBSCN","BL7____DB_SC_N",1,"______"]
[null,null,null,null,null,null,null,null,null,null,null,null,null,null,null,null,null,null,null,null,null,{"$f":"IFERROR(INDEX(MissingData, SMALL(IF(ISBLANK(MissingData)+ISERROR(MissingData)+LEN(MissingData)=0, \"\", ROW(MissingData)-MIN(ROW(MissingData))+1), ROW(791:791))),\"\")","v":"BL7____DB_SPL_N"},"","",null,"BL7____DB_SPL_N","","BL7DBSPLN","BL7____DB_SPL_N",1,"______"]
[null,null,null,null,null,null,null,null,null,null,null,null,null,null,null,null,null,null,null,null,null,{"$f":"IFERROR(INDEX(MissingData, SMALL(IF(ISBLANK(MissingData)+ISERROR(MissingData)+LEN(MissingData)=0, \"\", ROW(MissingData)-MIN(ROW(MissingData))+1), ROW(792:792))),\"\")","v":"BL7____DB_SS_N"},"","",null,"BL7____DB_SS_N","","BL7DBSSN","BL7____DB_SS_N",1,"______"]
[null,null,null,null,null,null,null,null,null,null,null,null,null,null,null,null,null,null,null,null,null,{"$f":"IFERROR(INDEX(MissingData, SMALL(IF(ISBLANK(MissingData)+ISERROR(MissingData)+LEN(MissingData)=0, \"\", ROW(MissingData)-MIN(ROW(MissingData))+1), ROW(793:793))),\"\")","v":"BL7____DD_REC09YSVCS_N"},"","",null,"BL7____DD_REC09YSVCS_N","","BL7DDREC09YSVCSN","BL7____DD_REC09YSVCS_N",1,"______"]
[null,null,null,null,null,null,null,null,null,null,null,null,null,null,null,null,null,null,null,null,null,{"$f":"IFERROR(INDEX(MissingData, SMALL(IF(ISBLANK(MissingData)+ISERROR(MissingData)+LEN(MissingData)=0, \"\", ROW(MissingData)-MIN(ROW(MissingData))+1), ROW(794:794))),\"\")","v":"BL7____DD_REC09YOTHLOC_N"},"","",null,"BL7____DD_REC09YOTHLOC_N","","BL7DDREC09YOTHLOCN","BL7____DD_REC09YOTHLOC_N",1,"______"]
[null,null,null,null,null,null,null,null,null,null,null,null,null,null,null,null,null,null,null,null,null,{"$f":"IFERROR(INDEX(MissingData, SMALL(IF(ISBLANK(MissingData)+ISERROR(MissingData)+LEN(MissingData)=0, \"\", ROW(MissingData)-MIN(ROW(MissingData))+1), ROW(795:795))),\"\")","v":"BL7____DD_RF_N"},"","",null,"BL7____DD_RF_N","","BL7DDRFN","BL7____DD_RF_N",1,"______"]
[null,null,null,null,null,null,null,null,null,null,null,null,null,null,null,null,null,null,null,null,null,{"$f":"IFERROR(INDEX(MissingData, SMALL(IF(ISBLANK(MissingData)+ISERROR(MissingData)+LEN(MissingData)=0, \"\", ROW(MissingData)-MIN(ROW(MissingData))+1), ROW(796:796))),\"\")","v":"BL7____EMN_H_N"},"","",null,"BL7____EMN_H_N","","BL7EMNHN","BL7____EMN_H_N",1,"______"]
[null,null,null,null,null,null,null,null,null,null,null,null,null,null,null,null,null,null,null,null,null,{"$f":"IFERROR(INDEX(MissingData, SMALL(IF(ISBLANK(MissingData)+ISERROR(MissingData)+LEN(MissingData)=0, \"\", ROW(MissingData)-MIN(ROW(MissingData))+1), ROW(797:797))),\"\")","v":"BL7____EMN_REC09YSVCS_N"},"","",null,"BL7____EMN_REC09YSVCS_N","","BL7EMNREC09YSVCSN","BL7____EMN_REC09YSVCS_N",1,"______"]
[null,null,null,null,null,null,null,null,null,null,null,null,null,null,null,null,null,null,null,null,null,{"$f":"IFERROR(INDEX(MissingData, SMALL(IF(ISBLANK(MissingData)+ISERROR(MissingData)+LEN(MissingData)=0, \"\", ROW(MissingData)-MIN(ROW(MissingData))+1), ROW(798:798))),\"\")","v":"BL7____EMN_REC09YOTHLOC_N"},"","",null,"BL7____EMN_REC09YOTHLOC_N","","BL7EMNREC09YOTHLOCN","BL7____EMN_REC09YOTHLOC_N",1,"______"]
[null,null,null,null,null,null,null,null,null,null,null,null,null,null,null,null,null,null,null,null,null,{"$f":"IFERROR(INDEX(MissingData, SMALL(IF(ISBLANK(MissingData)+ISERROR(MissingData)+LEN(MissingData)=0, \"\", ROW(MissingData)-MIN(ROW(MissingData))+1), ROW(799:799))),\"\")","v":"BL7____EMN_RF_N"},"","",null,"BL7____EMN_RF_N","","BL7EMNRFN","BL7____EMN_RF_N",1,"______"]
[null,null,null,null,null,null,null,null,null,null,null,null,null,null,null,null,null,null,null,null,null,{"$f":"IFERROR(INDEX(MissingData, SMALL(IF(ISBLANK(MissingData)+ISERROR(MissingData)+LEN(MissingData)=0, \"\", ROW(MissingData)-MIN(ROW(MissingData))+1), ROW(800:800))),\"\")","v":"BL7____EMN_SPL_N"},"","",null,"BL7____EMN_SPL_N","","BL7EMNSPLN","BL7____EMN_SPL_N",1,"______"]
[null,null,null,null,null,null,null,null,null,null,null,null,null,null,null,null,null,null,null,null,null,{"$f":"IFERROR(INDEX(MissingData, SMALL(IF(ISBLANK(MissingData)+ISERROR(MissingData)+LEN(MissingData)=0, \"\", ROW(MissingData)-MIN(ROW(MissingData))+1), ROW(801:801))),\"\")","v":"BL7____EMN_SS_N"},"","",null,"BL7____EMN_SS_N","","BL7EMNSSN","BL7____EMN_SS_N",1,"______"]
[null,null,null,null,null,null,null,null,null,null,null,null,null,null,null,null,null,null,null,null,null,{"$f":"IFERROR(INDEX(MissingData, SMALL(IF(ISBLANK(MissingData)+ISERROR(MissingData)+LEN(MissingData)=0, \"\", ROW(MissingData)-MIN(ROW(MissingData))+1), ROW(802:802))),\"\")","v":"BL7____HI_H_N"},"","",null,"BL7____HI_H_N","","BL7HIHN","BL7____HI_H_N",1,"______"]
[null,null,null,null,null,null,null,null,null,null,null,null,null,null,null,null,null,null,null,null,null,{"$f":"IFERROR(INDEX(MissingData, SMALL(IF(ISBLANK(MissingData)+ISERROR(MissingData)+LEN(MissingData)=0, \"\", ROW(MissingData)-MIN(ROW(MissingData))+1), ROW(803:803))),\"\")","v":"BL7____HI_REC09YSVCS_N"},"","",null,"BL7____HI_REC09YSVCS_N","","BL7HIREC09YSVCSN","BL7____HI_REC09YSVCS_N",1,"______"]
[null,null,null,null,null,null,null,null,null,null,null,null,null,null,null,null,null,null,null,null,null,{"$f":"IFERROR(INDEX(MissingData, SMALL(IF(ISBLANK(MissingData)+ISERROR(MissingData)+LEN(MissingData)=0, \"\", ROW(MissingData)-MIN(ROW(MissingData))+1), ROW(804:804))),\"\")","v":"BL7____HI_REC09YOTHLOC_N"},"","",null,"BL7____HI_REC09YOTHLOC_N","","BL7HIREC09YOTHLOCN","BL7____HI_REC09YOTHLOC_N",1,"______"]
[null,null,null,null,null,null,null,null,null,null,null,null,null,null,null,null,null,null,null,null,null,{"$f":"IFERROR(INDEX(MissingData, SMALL(IF(ISBLANK(MissingData)+ISERROR(MissingData)+LEN(MissingData)=0, \"\", ROW(MissingData)-MIN(ROW(MissingData))+1), ROW(805:805))),\"\")","v":"BL7____HI_RF_N"},"","",null,"BL7____HI_RF_N","","BL7HIRFN","BL7____HI_RF_N",1,"______"]
[null,null,null,null,null,null,null,null,null,null,null,null,null,null,null,null,null,null,null,null,null,{"$f":"IFERROR(INDEX(MissingData, SMALL(IF(ISBLANK(MissingData)+ISERROR(MissingData)+LEN(MissingData)=0, \"\", ROW(MissingData)-MIN(ROW(MissingData))+1), ROW(806:806))),\"\")","v":"BL7____MD_REC09YSVCS_N"},"","",null,"BL7____MD_REC09YSVCS_N","","BL7MDREC09YSVCSN","BL7____MD_REC09YSVCS_N",1,"______"]
[null,null,null,null,null,null,null,null,null,null,null,null,null,null,null,null,null,null,null,null,null,{"$f":"IFERROR(INDEX(MissingData, SMALL(IF(ISBLANK(MissingData)+ISERROR(MissingData)+LEN(MissingData)=0, \"\", ROW(MissingData)-MIN(ROW(MissingData))+1), ROW(807:807))),\"\")","v":"BL7____MD_REC09YOTHLOC_N"},"","",null,"BL7____MD_REC09YOTHLOC_N","","BL7MDREC09YOTHLOCN","BL7____MD_REC09YOTHLOC_N",1,"______"]
[null,null,null,null,null,null,null,null,null,null,null,null,null,null,null,null,null,null,null,null,null,{"$f":"IFERROR(INDEX(MissingData, SMALL(IF(ISBLANK(MissingData)+ISERROR(MissingData)+LEN(MissingData)=0, \"\", ROW(MissingData)-MIN(ROW(MissingData))+1), ROW(808:808))),\"\")","v":"BL7____MD_RF_N"},"","",null,"BL7____MD_RF_N","","BL7MDRFN","BL7____MD_RF_N",1,"______"]
[null,null,null,null,null,null,null,null,null,null,null,null,null,null,null,null,null,null,null,null,null,{"$f":"IFERROR(INDEX(MissingData, SMALL(IF(ISBLANK(MissingData)+ISERROR(MissingData)+LEN(MissingData)=0, \"\", ROW(MissingData)-MIN(ROW(MissingData))+1), ROW(809:809))),\"\")","v":"BL7____MD_SPL_N"},"","",null,"BL7____MD_SPL_N","","BL7MDSPLN","BL7____MD_SPL_N",1,"______"]
[null,null,null,null,null,null,null,null,null,null,null,null,null,null,null,null,null,null,null,null,null,{"$f":"IFERROR(INDEX(MissingData, SMALL(IF(ISBLANK(MissingData)+ISERROR(MissingData)+LEN(MissingData)=0, \"\", ROW(MissingData)-MIN(ROW(MissingData))+1), ROW(810:810))),\"\")","v":"BL7____ID_REC09YSVCS_N"},"","",null,"BL7____ID_REC09YSVCS_N","","BL7IDREC09YSVCSN","BL7____ID_REC09YSVCS_N",1,"______"]
[null,null,null,null,null,null,null,null,null,null,null,null,null,null,null,null,null,null,null,null,null,{"$f":"IFERROR(INDEX(MissingData, SMALL(IF(ISBLANK(MissingData)+ISERROR(MissingData)+LEN(MissingData)=0, \"\", ROW(MissingData)-MIN(ROW(MissingData))+1), ROW(811:811))),\"\")","v":"BL7____ID_REC09YOTHLOC_N"},"","",null,"BL7____ID_REC09YOTHLOC_N","","BL7IDREC09YOTHLOCN","BL7____ID_REC09YOTHLOC_N",1,"______"]
[null,null,null,null,null,null,null,null,null,null,null,null,null,null,null,null,null,null,null,null,null,{"$f":"IFERROR(INDEX(MissingData, SMALL(IF(ISBLANK(MissingData)+ISERROR(MissingData)+LEN(MissingData)=0, \"\", ROW(MissingData)-MIN(ROW(MissingData))+1), ROW(812:812))),\"\")","v":"BL7____ID_RF_N"},"","",null,"BL7____ID_RF_N","","BL7IDRFN","BL7____ID_RF_N",1,"______"]
[null,null,null,null,null,null,null,null,null,null,null,null,null,null,null,null,null,null,null,null,null,{"$f":"IFERROR(INDEX(MissingData, SMALL(IF(ISBLANK(MissingData)+ISERROR(MissingData)+LEN(MissingData)=0, \"\", ROW(MissingData)-MIN(ROW(MissingData))+1), ROW(813:813))),\"\")","v":"BL7____ID_SPL_N"},"","",null,"BL7____ID_SPL_N","","BL7IDSPLN","BL7____ID_SPL_N",1,"______"]
[null,null,null,null,null,null,null,null,null,null,null,null,null,null,null,null,null,null,null,null,null,{"$f":"IFERROR(INDEX(MissingData, SMALL(IF(ISBLANK(MissingData)+ISERROR(MissingData)+LEN(MissingData)=0, \"\", ROW(MissingData)-MIN(ROW(MissingData))+1), ROW(814:814))),\"\")","v":"BL7____ID_SS_N"},"","",null,"BL7____ID_SS_N","","BL7IDSSN","BL7____ID_SS_N",1,"______"]
[null,null,null,null,null,null,null,null,null,null,null,null,null,null,null,null,null,null,null,null,null,{"$f":"IFERROR(INDEX(MissingData, SMALL(IF(ISBLANK(MissingData)+ISERROR(MissingData)+LEN(MissingData)=0, \"\", ROW(MissingData)-MIN(ROW(MissingData))+1), ROW(815:815))),\"\")","v":"BL7____OHI_H_N"},"","",null,"BL7____OHI_H_N","","BL7OHIHN","BL7____OHI_H_N",1,"______"]
[null,null,null,null,null,null,null,null,null,null,null,null,null,null,null,null,null,null,null,null,null,{"$f":"IFERROR(INDEX(MissingData, SMALL(IF(ISBLANK(MissingData)+ISERROR(MissingData)+LEN(MissingData)=0, \"\", ROW(MissingData)-MIN(ROW(MissingData))+1), ROW(816:816))),\"\")","v":"BL7____OHI_REC09YSVCS_N"},"","",null,"BL7____OHI_REC09YSVCS_N","","BL7OHIREC09YSVCSN","BL7____OHI_REC09YSVCS_N",1,"______"]
[null,null,null,null,null,null,null,null,null,null,null,null,null,null,null,null,null,null,null,null,null,{"$f":"IFERROR(INDEX(MissingData, SMALL(IF(ISBLANK(MissingData)+ISERROR(MissingData)+LEN(MissingData)=0, \"\", ROW(MissingData)-MIN(ROW(MissingData))+1), ROW(817:817))),\"\")","v":"BL7____OHI_REC09YOTHLOC_N"},"","",null,"BL7____OHI_REC09YOTHLOC_N","","BL7OHIREC09YOTHLOCN","BL7____OHI_REC09YOTHLOC_N",1,"______"]
[null,null,null,null,null,null,null,null,null,null,null,null,null,null,null,null,null,null,null,null,null,{"$f":"IFERROR(INDEX(MissingData, SMALL(IF(ISBLANK(MissingData)+ISERROR(MissingData)+LEN(MissingData)=0, \"\", ROW(MissingData)-MIN(ROW(MissingData))+1), ROW(818:818))),\"\")","v":"BL7____OHI_RF_N"},"","",null,"BL7____OHI_RF_N","","BL7OHIRFN","BL7____OHI_RF_N",1,"______"]
[null,null,null,null,null,null,null,null,null,null,null,null,null,null,null,null,null,null,null,null,null,{"$f":"IFERROR(INDEX(MissingData, SMALL(IF(ISBLANK(MissingData)+ISERROR(MissingData)+LEN(MissingData)=0, \"\", ROW(MissingData)-MIN(ROW(MissingData))+1), ROW(819:819))),\"\")","v":"BL7____OHI_SPL_N"},"","",null,"BL7____OHI_SPL_N","","BL7OHISPLN","BL7____OHI_SPL_N",1,"______"]
[null,null,null,null,null,null,null,null,null,null,null,null,null,null,null,null,null,null,null,null,null,{"$f":"IFERROR(INDEX(MissingData, SMALL(IF(ISBLANK(MissingData)+ISERROR(MissingData)+LEN(MissingData)=0, \"\", ROW(MissingData)-MIN(ROW(MissingData))+1), ROW(820:820))),\"\")","v":"BL7____OHI_SS_N"},"","",null,"BL7____OHI_SS_N","","BL7OHISSN","BL7____OHI_SS_N",1,"______"]
[null,null,null,null,null,null,null,null,null,null,null,null,null,null,null,null,null,null,null,null,null,{"$f":"IFERROR(INDEX(MissingData, SMALL(IF(ISBLANK(MissingData)+ISERROR(MissingData)+LEN(MissingData)=0, \"\", ROW(MissingData)-MIN(ROW(MissingData))+1), ROW(821:821))),\"\")","v":"BL7____OI_REC09YSVCS_N"},"","",null,"BL7____OI_REC09YSVCS_N","","BL7OIREC09YSVCSN","BL7____OI_REC09YSVCS_N",1,"______"]
[null,null,null,null,null,null,null,null,null,null,null,null,null,null,null,null,null,null,null,null,null,{"$f":"IFERROR(INDEX(MissingData, SMALL(IF(ISBLANK(MissingData)+ISERROR(MissingData)+LEN(MissingData)=0, \"\", ROW(MissingData)-MIN(ROW(MissingData))+1), ROW(822:822))),\"\")","v":"BL7____OI_REC09YOTHLOC_N"},"","",null,"BL7____OI_REC09YOTHLOC_N","","BL7OIREC09YOTHLOCN","BL7____OI_REC09YOTHLOC_N",1,"______"]
[null,null,null,null,null,null,null,null,null,null,null,null,null,null,null,null,null,null,null,null,null,{"$f":"IFERROR(INDEX(MissingData, SMALL(IF(ISBLANK(MissingData)+ISERROR(MissingData)+LEN(MissingData)=0, \"\", ROW(MissingData)-MIN(ROW(MissingData))+1), ROW(823:823))),\"\")","v":"BL7____OI_RF_N"},"","",null,"BL7____OI_RF_N","","BL7OIRFN","BL7____OI_RF_N",1,"______"]
[null,null,null,null,null,null,null,null,null,null,null,null,null,null,null,null,null,null,null,null,null,{"$f":"IFERROR(INDEX(MissingData, SMALL(IF(ISBLANK(MissingData)+ISERROR(MissingData)+LEN(MissingData)=0, \"\", ROW(MissingData)-MIN(ROW(MissingData))+1), ROW(824:824))),\"\")","v":"BL7____OI_SPL_N"},"","",null,"BL7____OI_SPL_N","","BL7OISPLN","BL7____OI_SPL_N",1,"______"]
[null,null,null,null,null,null,null,null,null,null,null,null,null,null,null,null,null,null,null,null,null,{"$f":"IFERROR(INDEX(MissingData, SMALL(IF(ISBLANK(MissingData)+ISERROR(MissingData)+LEN(MissingData)=0, \"\", ROW(MissingData)-MIN(ROW(MissingData))+1), ROW(825:825))),\"\")","v":"BL7____OI_SS_N"},"","",null,"BL7____OI_SS_N","","BL7OISSN","BL7____OI_SS_N",1,"______"]
[null,null,null,null,null,null,null,null,null,null,null,null,null,null,null,null,null,null,null,null,null,{"$f":"IFERROR(INDEX(MissingData, SMALL(IF(ISBLANK(MissingData)+ISERROR(MissingData)+LEN(MissingData)=0, \"\", ROW(MissingData)-MIN(ROW(MissingData))+1), ROW(826:826))),\"\")","v":"BL7____SLD_H_N"},"","",null,"BL7____SLD_H_N","","BL7SLDHN","BL7____SLD_H_N",1,"______"]
[null,null,null,null,null,null,null,null,null,null,null,null,null,null,null,null,null,null,null,null,null,{"$f":"IFERROR(INDEX(MissingData, SMALL(IF(ISBLANK(MissingData)+ISERROR(MissingData)+LEN(MissingData)=0, \"\", ROW(MissingData)-MIN(ROW(MissingData))+1), ROW(827:827))),\"\")","v":"BL7____SLD_REC10YSVCS_N"},"","",null,"BL7____SLD_REC10YSVCS_N","","BL7SLDREC10YSVCSN","BL7____SLD_REC10YSVCS_N",1,"______"]
[null,null,null,null,null,null,null,null,null,null,null,null,null,null,null,null,null,null,null,null,null,{"$f":"IFERROR(INDEX(MissingData, SMALL(IF(ISBLANK(MissingData)+ISERROR(MissingData)+LEN(MissingData)=0, \"\", ROW(MissingData)-MIN(ROW(MissingData))+1), ROW(828:828))),\"\")","v":"BL7____SLD_REC09YSVCS_N"},"","",null,"BL7____SLD_REC09YSVCS_N","","BL7SLDREC09YSVCSN","BL7____SLD_REC09YSVCS_N",1,"______"]
[null,null,null,null,null,null,null,null,null,null,null,null,null,null,null,null,null,null,null,null,null,{"$f":"IFERROR(INDEX(MissingData, SMALL(IF(ISBLANK(MissingData)+ISERROR(MissingData)+LEN(MissingData)=0, \"\", ROW(MissingData)-MIN(ROW(MissingData))+1), ROW(829:829))),\"\")","v":"BL7____SLD_REC09YOTHLOC_N"},"","",null,"BL7____SLD_REC09YOTHLOC_N","","BL7SLDREC09YOTHLOCN","BL7____SLD_REC09YOTHLOC_N",1,"______"]
[null,null,null,null,null,null,null,null,null,null,null,null,null,null,null,null,null,null,null,null,null,{"$f":"IFERROR(INDEX(MissingData, SMALL(IF(ISBLANK(MissingData)+ISERROR(MissingData)+LEN(MissingData)=0, \"\", ROW(MissingData)-MIN(ROW(MissingData))+1), ROW(830:830))),\"\")","v":"BL7____SLD_RF_N"},"","",null,"BL7____SLD_RF_N","","BL7SLDRFN","BL7____SLD_RF_N",1,"______"]
[null,null,null,null,null,null,null,null,null,null,null,null,null,null,null,null,null,null,null,null,null,{"$f":"IFERROR(INDEX(MissingData, SMALL(IF(ISBLANK(MissingData)+ISERROR(MissingData)+LEN(MissingData)=0, \"\", ROW(MissingData)-MIN(ROW(MissingData))+1), ROW(831:831))),\"\")","v":"BL7____SLD_SC_N"},"","",null,"BL7____SLD_SC_N","","BL7SLDSCN","BL7____SLD_SC_N",1,"______"]
[null,null,null,null,null,null,null,null,null,null,null,null,null,null,null,null,null,null,null,null,null,{"$f":"IFERROR(INDEX(MissingData, SMALL(IF(ISBLANK(MissingData)+ISERROR(MissingData)+LEN(MissingData)=0, \"\", ROW(MissingData)-MIN(ROW(MissingData))+1), ROW(832:832))),\"\")","v":"BL7____SLD_SPL_N"},"","",null,"BL7____SLD_SPL_N","","BL7SLDSPLN","BL7____SLD_SPL_N",1,"______"]
[null,null,null,null,null,null,null,null,null,null,null,null,null,null,null,null,null,null,null,null,null,{"$f":"IFERROR(INDEX(MissingData, SMALL(IF(ISBLANK(MissingData)+ISERROR(MissingData)+LEN(MissingData)=0, \"\", ROW(MissingData)-MIN(ROW(MissingData))+1), ROW(833:833))),\"\")","v":"BL7____SLD_SS_N"},{"$f":"IF(LEN(AA846)=0,\"\",IF(COUNTIF(CurrentListing_C089,AA846)>1,AE846,\"\"))","v":""},{"$f":"IF(LEN(AA846)=0,\"\",IF(ISNA(MATCH(AA846,MasterListing,0)),AE846,\"\"))","v":""},null,{"$f":"IF(LEN(AC846)=0,\"\",IF(ISNA(MATCH(AB846,CurrentListing_C089,0)),AC846,\"\"))","v":"BL7____SLD_SS_N"},"","BL7SLDSSN","BL7____SLD_SS_N",1,"______"]
[null,null,null,null,null,null,null,null,null,null,null,null,null,null,null,null,null,null,null,null,null,{"$f":"IFERROR(INDEX(MissingData, SMALL(IF(ISBLANK(MissingData)+ISERROR(MissingData)+LEN(MissingData)=0, \"\", ROW(MissingData)-MIN(ROW(MissingData))+1), ROW(834:834))),\"\")","v":"BL7____SLI_H_N"},"","",null,"BL7____SLI_H_N",{"$f":"G847&H847&I847&J847&K847&Q847&R847","v":""},"BL7SLIHN","BL7____SLI_H_N",1,{"$f":"G847&\"_\"&H847&\"_\"&I847&\"_\"&J847&\"_\"&K847&\"_\"&Q847&\"_\"&R847","v":"______"}]
[null,null,null,null,null,null,null,null,null,null,null,null,null,null,null,null,null,null,null,null,null,{"$f":"IFERROR(INDEX(MissingData, SMALL(IF(ISBLANK(MissingData)+ISERROR(MissingData)+LEN(MissingData)=0, \"\", ROW(MissingData)-MIN(ROW(MissingData))+1), ROW(835:835))),\"\")","v":"BL7____SLI_REC09YSVCS_N"},"","",null,"BL7____SLI_REC09YSVCS_N","","BL7SLIREC09YSVCSN","BL7____SLI_REC09YSVCS_N",{"$f":"IF(LEN(V848)>0,1,0)","v":1},"______"]
[null,null,null,null,null,null,null,null,null,null,null,null,null,null,null,null,null,null,null,null,null,{"$f":"IFERROR(INDEX(MissingData, SMALL(IF(ISBLANK(MissingData)+ISERROR(MissingData)+LEN(MissingData)=0, \"\", ROW(MissingData)-MIN(ROW(MissingData))+1), ROW(836:836))),\"\")","v":"BL7____SLI_REC09YOTHLOC_N"},"","",null,"BL7____SLI_REC09YOTHLOC_N","","BL7SLIREC09YOTHLOCN","BL7____SLI_REC09YOTHLOC_N",1,"______"]
[null,null,null,null,null,null,null,null,null,null,null,null,null,null,null,null,null,null,null,null,null,{"$f":"IFERROR(INDEX(MissingData, SMALL(IF(ISBLANK(MissingData)+ISERROR(MissingData)+LEN(MissingData)=0, \"\", ROW(MissingData)-MIN(ROW(MissingData))+1), ROW(837:837))),\"\")","v":"BL7____SLI_RF_N"},"","",null,"BL7____SLI_RF_N","","BL7SLIRFN","BL7____SLI_RF_N",1,"______"]
[null,null,null,null,null,null,null,null,null,null,null,null,null,null,null,null,null,null,null,null,null,{"$f":"IFERROR(INDEX(MissingData, SMALL(IF(ISBLANK(MissingData)+ISERROR(MissingData)+LEN(MissingData)=0, \"\", ROW(MissingData)-MIN(ROW(MissingData))+1), ROW(838:838))),\"\")","v":"BL7____TBI_H_N"},"","",null,"BL7____TBI_H_N","","BL7TBIHN","BL7____TBI_H_N",1,"______"]
[null,null,null,null,null,null,null,null,null,null,null,null,null,null,null,null,null,null,null,null,null,{"$f":"IFERROR(INDEX(MissingData, SMALL(IF(ISBLANK(MissingData)+ISERROR(MissingData)+LEN(MissingData)=0, \"\", ROW(MissingData)-MIN(ROW(MissingData))+1), ROW(839:839))),\"\")","v":"BL7____TBI_REC10YSVCS_N"},"","",null,"BL7____TBI_REC10YSVCS_N","","BL7TBIREC10YSVCSN","BL7____TBI_REC10YSVCS_N",1,"______"]
[null,null,null,null,null,null,null,null,null,null,null,null,null,null,null,null,null,null,null,null,null,{"$f":"IFERROR(INDEX(MissingData, SMALL(IF(ISBLANK(MissingData)+ISERROR(MissingData)+LEN(MissingData)=0, \"\", ROW(MissingData)-MIN(ROW(MissingData))+1), ROW(840:840))),\"\")","v":"BL7____TBI_REC09YSVCS_N"},"","",null,"BL7____TBI_REC09YSVCS_N","","BL7TBIREC09YSVCSN","BL7____TBI_REC09YSVCS_N",1,"______"]
[null,null,null,null,null,null,null,null,null,null,null,null,null,null,null,null,null,null,null,null,null,{"$f":"IFERROR(INDEX(MissingData, SMALL(IF(ISBLANK(MissingData)+ISERROR(MissingData)+LEN(MissingData)=0, \"\", ROW(MissingData)-MIN(ROW(MissingData))+1), ROW(841:841))),\"\")","v":"BL7____TBI_REC09YOTHLOC_N"},"","",null,"BL7____TBI_REC09YOTHLOC_N","","BL7TBIREC09YOTHLOCN","BL7____TBI_REC09YOTHLOC_N",1,"______"]
[null,null,null,null,null,null,null,null,null,null,null,null,null,null,null,null,null,null,null,null,null,{"$f":"IFERROR(INDEX(MissingData, SMALL(IF(ISBLANK(MissingData)+ISERROR(MissingData)+LEN(MissingData)=0, \"\", ROW(MissingData)-MIN(ROW(MissingData))+1), ROW(842:842))),\"\")","v":"BL7____TBI_RF_N"},"","",null,"BL7____TBI_RF_N","","BL7TBIRFN","BL7____TBI_RF_N",1,"______"]
[null,null,null,null,null,null,null,null,null,null,null,null,null,null,null,null,null,null,null,null,null,{"$f":"IFERROR(INDEX(MissingData, SMALL(IF(ISBLANK(MissingData)+ISERROR(MissingData)+LEN(MissingData)=0, \"\", ROW(MissingData)-MIN(ROW(MissingData))+1), ROW(843:843))),\"\")","v":"BL7____TBI_SC_N"},"","",null,"BL7____TBI_SC_N","","BL7TBISCN","BL7____TBI_SC_N",1,"______"]
[null,null,null,null,null,null,null,null,null,null,null,null,null,null,null,null,null,null,null,null,null,{"$f":"IFERROR(INDEX(MissingData, SMALL(IF(ISBLANK(MissingData)+ISERROR(MissingData)+LEN(MissingData)=0, \"\", ROW(MissingData)-MIN(ROW(MissingData))+1), ROW(844:844))),\"\")","v":"BL7____TBI_SPL_N"},"","",null,"BL7____TBI_SPL_N","","BL7TBISPLN","BL7____TBI_SPL_N",1,"______"]
[null,null,null,null,null,null,null,null,null,null,null,null,null,null,null,null,null,null,null,null,null,{"$f":"IFERROR(INDEX(MissingData, SMALL(IF(ISBLANK(MissingData)+ISERROR(MissingData)+LEN(MissingData)=0, \"\", ROW(MissingData)-MIN(ROW(MissingData))+1), ROW(845:845))),\"\")","v":"BL7____TBI_SS_N"},"","",null,"BL7____TBI_SS_N","","BL7TBISSN","BL7____TBI_SS_N",1,"______"]
[null,null,null,null,null,null,null,null,null,null,null,null,null,null,null,null,null,null,null,null,null,{"$f":"IFERROR(INDEX(MissingData, SMALL(IF(ISBLANK(MissingData)+ISERROR(MissingData)+LEN(MissingData)=0, \"\", ROW(MissingData)-MIN(ROW(MissingData))+1), ROW(846:846))),\"\")","v":"BL7____VI_H_N"},"","",null,"BL7____VI_H_N","","BL7VIHN","BL7____VI_H_N",1,"______"]
[null,null,null,null,null,null,null,null,null,null,null,null,null,null,null,null,null,null,null,null,null,{"$f":"IFERROR(INDEX(MissingData, SMALL(IF(ISBLANK(MissingData)+ISERROR(MissingData)+LEN(MissingData)=0, \"\", ROW(MissingData)-MIN(ROW(MissingData))+1), ROW(847:847))),\"\")","v":"BL7____VI_REC09YSVCS_N"},"","",null,"BL7____VI_REC09YSVCS_N","","BL7VIREC09YSVCSN","BL7____VI_REC09YSVCS_N",1,"______"]
[null,null,null,null,null,null,null,null,null,null,null,null,null,null,null,null,null,null,null,null,null,{"$f":"IFERROR(INDEX(MissingData, SMALL(IF(ISBLANK(MissingData)+ISERROR(MissingData)+LEN(MissingData)=0, \"\", ROW(MissingData)-MIN(ROW(MissingData))+1), ROW(848:848))),\"\")","v":"BL7____VI_REC09YOTHLOC_N"},"","",null,"BL7____VI_REC09YOTHLOC_N","","BL7VIREC09YOTHLOCN","BL7____VI_REC09YOTHLOC_N",1,"______"]
[null,null,null,null,null,null,null,null,null,null,null,null,null,null,null,null,null,null,null,null,null,{"$f":"IFERROR(INDEX(MissingData, SMALL(IF(ISBLANK(MissingData)+ISERROR(MissingData)+LEN(MissingData)=0, \"\", ROW(MissingData)-MIN(ROW(MissingData))+1), ROW(849:849))),\"\")","v":"BL7____VI_RF_N"},"","",null,"BL7____VI_RF_N","","BL7VIRFN","BL7____VI_RF_N",1,"______"]
[null,null,null,null,null,null,null,null,null,null,null,null,null,null,null,null,null,null,null,null,null,{"$f":"IFERROR(INDEX(MissingData, SMALL(IF(ISBLANK(MissingData)+ISERROR(MissingData)+LEN(MissingData)=0, \"\", ROW(MissingData)-MIN(ROW(MissingData))+1), ROW(850:850))),\"\")","v":"BL7____VI_SPL_N"},"","",null,"BL7____VI_SPL_N","","BL7VISPLN","BL7____VI_SPL_N",1,"______"]
[null,null,null,null,null,null,null,null,null,null,null,null,null,null,null,null,null,null,null,null,null,{"$f":"IFERROR(INDEX(MissingData, SMALL(IF(ISBLANK(MissingData)+ISERROR(MissingData)+LEN(MissingData)=0, \"\", ROW(MissingData)-MIN(ROW(MissingData))+1), ROW(851:851))),\"\")","v":"BL7____VI_SS_N"},"","",null,"BL7____VI_SS_N","","BL7VISSN","BL7____VI_SS_N",1,"______"]
[null,null,null,null,null,null,null,null,null,null,null,null,null,null,null,null,null,null,null,null,null,{"$f":"IFERROR(INDEX(MissingData, SMALL(IF(ISBLANK(MissingData)+ISERROR(MissingData)+LEN(MissingData)=0, \"\", ROW(MissingData)-MIN(ROW(MissingData))+1), ROW(852:852))),\"\")","v":"HI7____AUT_H_N"},"","",null,"HI7____AUT_H_N","","HI7AUTHN","HI7____AUT_H_N",1,"______"]
[null,null,null,null,null,null,null,null,null,null,null,null,null,null,null,null,null,null,null,null,null,{"$f":"IFERROR(INDEX(MissingData, SMALL(IF(ISBLANK(MissingData)+ISERROR(MissingData)+LEN(MissingData)=0, \"\", ROW(MissingData)-MIN(ROW(MissingData))+1), ROW(853:853))),\"\")","v":"HI7____AUT_REC09YSVCS_N"},"","",null,"HI7____AUT_REC09YSVCS_N","","HI7AUTREC09YSVCSN","HI7____AUT_REC09YSVCS_N",1,"______"]
[null,null,null,null,null,null,null,null,null,null,null,null,null,null,null,null,null,null,null,null,null,{"$f":"IFERROR(INDEX(MissingData, SMALL(IF(ISBLANK(MissingData)+ISERROR(MissingData)+LEN(MissingData)=0, \"\", ROW(MissingData)-MIN(ROW(MissingData))+1), ROW(854:854))),\"\")","v":"HI7____AUT_REC09YOTHLOC_N"},"","",null,"HI7____AUT_REC09YOTHLOC_N","","HI7AUTREC09YOTHLOCN","HI7____AUT_REC09YOTHLOC_N",1,"______"]
[null,null,null,null,null,null,null,null,null,null,null,null,null,null,null,null,null,null,null,null,null,{"$f":"IFERROR(INDEX(MissingData, SMALL(IF(ISBLANK(MissingData)+ISERROR(MissingData)+LEN(MissingData)=0, \"\", ROW(MissingData)-MIN(ROW(MissingData))+1), ROW(855:855))),\"\")","v":"HI7____AUT_RF_N"},"","",null,"HI7____AUT_RF_N","","HI7AUTRFN","HI7____AUT_RF_N",1,"______"]
[null,null,null,null,null,null,null,null,null,null,null,null,null,null,null,null,null,null,null,null,null,{"$f":"IFERROR(INDEX(MissingData, SMALL(IF(ISBLANK(MissingData)+ISERROR(MissingData)+LEN(MissingData)=0, \"\", ROW(MissingData)-MIN(ROW(MissingData))+1), ROW(856:856))),\"\")","v":"HI7____AUT_SPL_N"},"","",null,"HI7____AUT_SPL_N","","HI7AUTSPLN","HI7____AUT_SPL_N",1,"______"]
[null,null,null,null,null,null,null,null,null,null,null,null,null,null,null,null,null,null,null,null,null,{"$f":"IFERROR(INDEX(MissingData, SMALL(IF(ISBLANK(MissingData)+ISERROR(MissingData)+LEN(MissingData)=0, \"\", ROW(MissingData)-MIN(ROW(MissingData))+1), ROW(857:857))),\"\")","v":"HI7____DB_H_N"},"","",null,"HI7____DB_H_N","","HI7DBHN","HI7____DB_H_N",1,"______"]
[null,null,null,null,null,null,null,null,null,null,null,null,null,null,null,null,null,null,null,null,null,{"$f":"IFERROR(INDEX(MissingData, SMALL(IF(ISBLANK(MissingData)+ISERROR(MissingData)+LEN(MissingData)=0, \"\", ROW(MissingData)-MIN(ROW(MissingData))+1), ROW(858:858))),\"\")","v":"HI7____DB_REC10YSVCS_N"},"","",null,"HI7____DB_REC10YSVCS_N","","HI7DBREC10YSVCSN","HI7____DB_REC10YSVCS_N",1,"______"]
[null,null,null,null,null,null,null,null,null,null,null,null,null,null,null,null,null,null,null,null,null,{"$f":"IFERROR(INDEX(MissingData, SMALL(IF(ISBLANK(MissingData)+ISERROR(MissingData)+LEN(MissingData)=0, \"\", ROW(MissingData)-MIN(ROW(MissingData))+1), ROW(859:859))),\"\")","v":"HI7____DB_REC10YOTHLOC_N"},"","",null,"HI7____DB_REC10YOTHLOC_N","","HI7DBREC10YOTHLOCN","HI7____DB_REC10YOTHLOC_N",1,"______"]
[null,null,null,null,null,null,null,null,null,null,null,null,null,null,null,null,null,null,null,null,null,{"$f":"IFERROR(INDEX(MissingData, SMALL(IF(ISBLANK(MissingData)+ISERROR(MissingData)+LEN(MissingData)=0, \"\", ROW(MissingData)-MIN(ROW(MissingData))+1), ROW(860:860))),\"\")","v":"HI7____DB_REC09YSVCS_N"},"","",null,"HI7____DB_REC09YSVCS_N","","HI7DBREC09YSVCSN","HI7____DB_REC09YSVCS_N",1,"______"]
[null,null,null,null,null,null,null,null,null,null,null,null,null,null,null,null,null,null,null,null,null,{"$f":"IFERROR(INDEX(MissingData, SMALL(IF(ISBLANK(MissingData)+ISERROR(MissingData)+LEN(MissingData)=0, \"\", ROW(MissingData)-MIN(ROW(MissingData))+1), ROW(861:861))),\"\")","v":"HI7____DB_REC09YOTHLOC_N"},"","",null,"HI7____DB_REC09YOTHLOC_N","","HI7DBREC09YOTHLOCN","HI7____DB_REC09YOTHLOC_N",1,"______"]
[null,null,null,null,null,null,null,null,null,null,null,null,null,null,null,null,null,null,null,null,null,{"$f":"IFERROR(INDEX(MissingData, SMALL(IF(ISBLANK(MissingData)+ISERROR(MissingData)+LEN(MissingData)=0, \"\", ROW(MissingData)-MIN(ROW(MissingData))+1), ROW(862:862))),\"\")","v":"HI7____DB_RF_N"},"","",null,"HI7____DB_RF_N","","HI7DBRFN","HI7____DB_RF_N",1,"______"]
[null,null,null,null,null,null,null,null,null,null,null,null,null,null,null,null,null,null,null,null,null,{"$f":"IFERROR(INDEX(MissingData, SMALL(IF(ISBLANK(MissingData)+ISERROR(MissingData)+LEN(MissingData)=0, \"\", ROW(MissingData)-MIN(ROW(MissingData))+1), ROW(863:863))),\"\")","v":"HI7____DB_SC_N"},"","",null,"HI7____DB_SC_N","","HI7DBSCN","HI7____DB_SC_N",1,"______"]
[null,null,null,null,null,null,null,null,null,null,null,null,null,null,null,null,null,null,null,null,null,{"$f":"IFERROR(INDEX(MissingData, SMALL(IF(ISBLANK(MissingData)+ISERROR(MissingData)+LEN(MissingData)=0, \"\", ROW(MissingData)-MIN(ROW(MissingData))+1), ROW(864:864))),\"\")","v":"HI7____DB_SPL_N"},"","",null,"HI7____DB_SPL_N","","HI7DBSPLN","HI7____DB_SPL_N",1,"______"]
[null,null,null,null,null,null,null,null,null,null,null,null,null,null,null,null,null,null,null,null,null,{"$f":"IFERROR(INDEX(MissingData, SMALL(IF(ISBLANK(MissingData)+ISERROR(MissingData)+LEN(MissingData)=0, \"\", ROW(MissingData)-MIN(ROW(MissingData))+1), ROW(865:865))),\"\")","v":"HI7____DB_SS_N"},"","",null,"HI7____DB_SS_N","","HI7DBSSN","HI7____DB_SS_N",1,"______"]
[null,null,null,null,null,null,null,null,null,null,null,null,null,null,null,null,null,null,null,null,null,{"$f":"IFERROR(INDEX(MissingData, SMALL(IF(ISBLANK(MissingData)+ISERROR(MissingData)+LEN(MissingData)=0, \"\", ROW(MissingData)-MIN(ROW(MissingData))+1), ROW(866:866))),\"\")","v":"HI7____DD_H_N"},"","",null,"HI7____DD_H_N","","HI7DDHN","HI7____DD_H_N",1,"______"]
[null,null,null,null,null,null,null,null,null,null,null,null,null,null,null,null,null,null,null,null,null,{"$f":"IFERROR(INDEX(MissingData, SMALL(IF(ISBLANK(MissingData)+ISERROR(MissingData)+LEN(MissingData)=0, \"\", ROW(MissingData)-MIN(ROW(MissingData))+1), ROW(867:867))),\"\")","v":"HI7____DD_REC09YSVCS_N"},"","",null,"HI7____DD_REC09YSVCS_N","","HI7DDREC09YSVCSN","HI7____DD_REC09YSVCS_N",1,"______"]
[null,null,null,null,null,null,null,null,null,null,null,null,null,null,null,null,null,null,null,null,null,{"$f":"IFERROR(INDEX(MissingData, SMALL(IF(ISBLANK(MissingData)+ISERROR(MissingData)+LEN(MissingData)=0, \"\", ROW(MissingData)-MIN(ROW(MissingData))+1), ROW(868:868))),\"\")","v":"HI7____DD_RF_N"},"","",null,"HI7____DD_RF_N","","HI7DDRFN","HI7____DD_RF_N",1,"______"]
[null,null,null,null,null,null,null,null,null,null,null,null,null,null,null,null,null,null,null,null,null,{"$f":"IFERROR(INDEX(MissingData, SMALL(IF(ISBLANK(MissingData)+ISERROR(MissingData)+LEN(MissingData)=0, \"\", ROW(MissingData)-MIN(ROW(MissingData))+1), ROW(869:869))),\"\")","v":"HI7____DD_SS_N"},"","",null,"HI7____DD_SS_N","","HI7DDSSN","HI7____DD_SS_N",1,"______"]
[null,null,null,null,null,null,null,null,null,null,null,null,null,null,null,null,null,null,null,null,null,{"$f":"IFERROR(INDEX(MissingData, SMALL(IF(ISBLANK(MissingData)+ISERROR(MissingData)+LEN(MissingData)=0, \"\", ROW(MissingData)-MIN(ROW(MissingData))+1), ROW(870:870))),\"\")","v":"HI7____EMN_H_N"},"","",null,"HI7____EMN_H_N","","HI7EMNHN","HI7____EMN_H_N",1,"______"]
[null,null,null,null,null,null,null,null,null,null,null,null,null,null,null,null,null,null,null,null,null,{"$f":"IFERROR(INDEX(MissingData, SMALL(IF(ISBLANK(MissingData)+ISERROR(MissingData)+LEN(MissingData)=0, \"\", ROW(MissingData)-MIN(ROW(MissingData))+1), ROW(871:871))),\"\")","v":"HI7____EMN_REC10YSVCS_N"},"","",null,"HI7____EMN_REC10YSVCS_N","","HI7EMNREC10YSVCSN","HI7____EMN_REC10YSVCS_N",1,"______"]
[null,null,null,null,null,null,null,null,null,null,null,null,null,null,null,null,null,null,null,null,null,{"$f":"IFERROR(INDEX(MissingData, SMALL(IF(ISBLANK(MissingData)+ISERROR(MissingData)+LEN(MissingData)=0, \"\", ROW(MissingData)-MIN(ROW(MissingData))+1), ROW(872:872))),\"\")","v":"HI7____EMN_REC10YOTHLOC_N"},"","",null,"HI7____EMN_REC10YOTHLOC_N","","HI7EMNREC10YOTHLOCN","HI7____EMN_REC10YOTHLOC_N",1,"______"]
[null,null,null,null,null,null,null,null,null,null,null,null,null,null,null,null,null,null,null,null,null,{"$f":"IFERROR(INDEX(MissingData, SMALL(IF(ISBLANK(MissingData)+ISERROR(MissingData)+LEN(MissingData)=0, \"\", ROW(MissingData)-MIN(ROW(MissingData))+1), ROW(873:873))),\"\")","v":"HI7____EMN_REC09YSVCS_N"},"","",null,"HI7____EMN_REC09YSVCS_N","","HI7EMNREC09YSVCSN","HI7____EMN_REC09YSVCS_N",1,"______"]
[null,null,null,null,null,null,null,null,null,null,null,null,null,null,null,null,null,null,null,null,null,{"$f":"IFERROR(INDEX(MissingData, SMALL(IF(ISBLANK(MissingData)+ISERROR(MissingData)+LEN(MissingData)=0, \"\", ROW(MissingData)-MIN(ROW(MissingData))+1), ROW(874:874))),\"\")","v":"HI7____EMN_REC09YOTHLOC_N"},"","",null,"HI7____EMN_REC09YOTHLOC_N","","HI7EMNREC09YOTHLOCN","HI7____EMN_REC09YOTHLOC_N",1,"______"]
[null,null,null,null,null,null,null,null,null,null,null,null,null,null,null,null,null,null,null,null,null,{"$f":"IFERROR(INDEX(MissingData, SMALL(IF(ISBLANK(MissingData)+ISERROR(MissingData)+LEN(MissingData)=0, \"\", ROW(MissingData)-MIN(ROW(MissingData))+1), ROW(875:875))),\"\")","v":"HI7____EMN_RF_N"},"","",null,"HI7____EMN_RF_N","","HI7EMNRFN","HI7____EMN_RF_N",1,"______"]
[null,null,null,null,null,null,null,null,null,null,null,null,null,null,null,null,null,null,null,null,null,{"$f":"IFERROR(INDEX(MissingData, SMALL(IF(ISBLANK(MissingData)+ISERROR(MissingData)+LEN(MissingData)=0, \"\", ROW(MissingData)-MIN(ROW(MissingData))+1), ROW(876:876))),\"\")","v":"HI7____EMN_SC_N"},"","",null,"HI7____EMN_SC_N","","HI7EMNSCN","HI7____EMN_SC_N",1,"______"]
[null,null,null,null,null,null,null,null,null,null,null,null,null,null,null,null,null,null,null,null,null,{"$f":"IFERROR(INDEX(MissingData, SMALL(IF(ISBLANK(MissingData)+ISERROR(MissingData)+LEN(MissingData)=0, \"\", ROW(MissingData)-MIN(ROW(MissingData))+1), ROW(877:877))),\"\")","v":"HI7____EMN_SPL_N"},"","",null,"HI7____EMN_SPL_N","","HI7EMNSPLN","HI7____EMN_SPL_N",1,"______"]
[null,null,null,null,null,null,null,null,null,null,null,null,null,null,null,null,null,null,null,null,null,{"$f":"IFERROR(INDEX(MissingData, SMALL(IF(ISBLANK(MissingData)+ISERROR(MissingData)+LEN(MissingData)=0, \"\", ROW(MissingData)-MIN(ROW(MissingData))+1), ROW(878:878))),\"\")","v":"HI7____EMN_SS_N"},"","",null,"HI7____EMN_SS_N","","HI7EMNSSN","HI7____EMN_SS_N",1,"______"]
[null,null,null,null,null,null,null,null,null,null,null,null,null,null,null,null,null,null,null,null,null,{"$f":"IFERROR(INDEX(MissingData, SMALL(IF(ISBLANK(MissingData)+ISERROR(MissingData)+LEN(MissingData)=0, \"\", ROW(MissingData)-MIN(ROW(MissingData))+1), ROW(879:879))),\"\")","v":"HI7____HI_REC10YSVCS_N"},"","",null,"HI7____HI_REC10YSVCS_N","","HI7HIREC10YSVCSN","HI7____HI_REC10YSVCS_N",1,"______"]
[null,null,null,null,null,null,null,null,null,null,null,null,null,null,null,null,null,null,null,null,null,{"$f":"IFERROR(INDEX(MissingData, SMALL(IF(ISBLANK(MissingData)+ISERROR(MissingData)+LEN(MissingData)=0, \"\", ROW(MissingData)-MIN(ROW(MissingData))+1), ROW(880:880))),\"\")","v":"HI7____HI_REC09YSVCS_N"},"","",null,"HI7____HI_REC09YSVCS_N","","HI7HIREC09YSVCSN","HI7____HI_REC09YSVCS_N",1,"______"]
[null,null,null,null,null,null,null,null,null,null,null,null,null,null,null,null,null,null,null,null,null,{"$f":"IFERROR(INDEX(MissingData, SMALL(IF(ISBLANK(MissingData)+ISERROR(MissingData)+LEN(MissingData)=0, \"\", ROW(MissingData)-MIN(ROW(MissingData))+1), ROW(881:881))),\"\")","v":"HI7____HI_REC09YOTHLOC_N"},"","",null,"HI7____HI_REC09YOTHLOC_N","","HI7HIREC09YOTHLOCN","HI7____HI_REC09YOTHLOC_N",1,"______"]
[null,null,null,null,null,null,null,null,null,null,null,null,null,null,null,null,null,null,null,null,null,{"$f":"IFERROR(INDEX(MissingData, SMALL(IF(ISBLANK(MissingData)+ISERROR(MissingData)+LEN(MissingData)=0, \"\", ROW(MissingData)-MIN(ROW(MissingData))+1), ROW(882:882))),\"\")","v":"HI7____HI_RF_N"},"","",null,"HI7____HI_RF_N","","HI7HIRFN","HI7____HI_RF_N",1,"______"]
[null,null,null,null,null,null,null,null,null,null,null,null,null,null,null,null,null,null,null,null,null,{"$f":"IFERROR(INDEX(MissingData, SMALL(IF(ISBLANK(MissingData)+ISERROR(MissingData)+LEN(MissingData)=0, \"\", ROW(MissingData)-MIN(ROW(MissingData))+1), ROW(883:883))),\"\")","v":"HI7____MD_REC10YSVCS_N"},"","",null,"HI7____MD_REC10YSVCS_N","","HI7MDREC10YSVCSN","HI7____MD_REC10YSVCS_N",1,"______"]
[null,null,null,null,null,null,null,null,null,null,null,null,null,null,null,null,null,null,null,null,null,{"$f":"IFERROR(INDEX(MissingData, SMALL(IF(ISBLANK(MissingData)+ISERROR(MissingData)+LEN(MissingData)=0, \"\", ROW(MissingData)-MIN(ROW(MissingData))+1), ROW(884:884))),\"\")","v":"HI7____MD_REC09YSVCS_N"},"","",null,"HI7____MD_REC09YSVCS_N","","HI7MDREC09YSVCSN","HI7____MD_REC09YSVCS_N",1,"______"]
[null,null,null,null,null,null,null,null,null,null,null,null,null,null,null,null,null,null,null,null,null,{"$f":"IFERROR(INDEX(MissingData, SMALL(IF(ISBLANK(MissingData)+ISERROR(MissingData)+LEN(MissingData)=0, \"\", ROW(MissingData)-MIN(ROW(MissingData))+1), ROW(885:885))),\"\")","v":"HI7____MD_REC09YOTHLOC_N"},"","",null,"HI7____MD_REC09YOTHLOC_N","","HI7MDREC09YOTHLOCN","HI7____MD_REC09YOTHLOC_N",1,"______"]
[null,null,null,null,null,null,null,null,null,null,null,null,null,null,null,null,null,null,null,null,null,{"$f":"IFERROR(INDEX(MissingData, SMALL(IF(ISBLANK(MissingData)+ISERROR(MissingData)+LEN(MissingData)=0, \"\", ROW(MissingData)-MIN(ROW(MissingData))+1), ROW(886:886))),\"\")","v":"HI7____MD_RF_N"},"","",null,"HI7____MD_RF_N","","HI7MDRFN","HI7____MD_RF_N",1,"______"]
[null,null,null,null,null,null,null,null,null,null,null,null,null,null,null,null,null,null,null,null,null,{"$f":"IFERROR(INDEX(MissingData, SMALL(IF(ISBLANK(MissingData)+ISERROR(MissingData)+LEN(MissingData)=0, \"\", ROW(MissingData)-MIN(ROW(MissingData))+1), ROW(887:887))),\"\")","v":"HI7____MD_SPL_N"},"","",null,"HI7____MD_SPL_N","","HI7MDSPLN","HI7____MD_SPL_N",1,"______"]
[null,null,null,null,null,null,null,null,null,null,null,null,null,null,null,null,null,null,null,null,null,{"$f":"IFERROR(INDEX(MissingData, SMALL(IF(ISBLANK(MissingData)+ISERROR(MissingData)+LEN(MissingData)=0, \"\", ROW(MissingData)-MIN(ROW(MissingData))+1), ROW(888:888))),\"\")","v":"HI7____ID_H_N"},"","",null,"HI7____ID_H_N","","HI7IDHN","HI7____ID_H_N",1,"______"]
[null,null,null,null,null,null,null,null,null,null,null,null,null,null,null,null,null,null,null,null,null,{"$f":"IFERROR(INDEX(MissingData, SMALL(IF(ISBLANK(MissingData)+ISERROR(MissingData)+LEN(MissingData)=0, \"\", ROW(MissingData)-MIN(ROW(MissingData))+1), ROW(889:889))),\"\")","v":"HI7____ID_REC10YSVCS_N"},"","",null,"HI7____ID_REC10YSVCS_N","","HI7IDREC10YSVCSN","HI7____ID_REC10YSVCS_N",1,"______"]
[null,null,null,null,null,null,null,null,null,null,null,null,null,null,null,null,null,null,null,null,null,{"$f":"IFERROR(INDEX(MissingData, SMALL(IF(ISBLANK(MissingData)+ISERROR(MissingData)+LEN(MissingData)=0, \"\", ROW(MissingData)-MIN(ROW(MissingData))+1), ROW(890:890))),\"\")","v":"HI7____ID_REC09YSVCS_N"},"","",null,"HI7____ID_REC09YSVCS_N","","HI7IDREC09YSVCSN","HI7____ID_REC09YSVCS_N",1,"______"]
[null,null,null,null,null,null,null,null,null,null,null,null,null,null,null,null,null,null,null,null,null,{"$f":"IFERROR(INDEX(MissingData, SMALL(IF(ISBLANK(MissingData)+ISERROR(MissingData)+LEN(MissingData)=0, \"\", ROW(MissingData)-MIN(ROW(MissingData))+1), ROW(891:891))),\"\")","v":"HI7____ID_REC09YOTHLOC_N"},"","",null,"HI7____ID_REC09YOTHLOC_N","","HI7IDREC09YOTHLOCN","HI7____ID_REC09YOTHLOC_N",1,"______"]
[null,null,null,null,null,null,null,null,null,null,null,null,null,null,null,null,null,null,null,null,null,{"$f":"IFERROR(INDEX(MissingData, SMALL(IF(ISBLANK(MissingData)+ISERROR(MissingData)+LEN(MissingData)=0, \"\", ROW(MissingData)-MIN(ROW(MissingData))+1), ROW(892:892))),\"\")","v":"HI7____ID_RF_N"},"","",null,"HI7____ID_RF_N","","HI7IDRFN","HI7____ID_RF_N",1,"______"]
[null,null,null,null,null,null,null,null,null,null,null,null,null,null,null,null,null,null,null,null,null,{"$f":"IFERROR(INDEX(MissingData, SMALL(IF(ISBLANK(MissingData)+ISERROR(MissingData)+LEN(MissingData)=0, \"\", ROW(MissingData)-MIN(ROW(MissingData))+1), ROW(893:893))),\"\")","v":"HI7____ID_SPL_N"},"","",null,"HI7____ID_SPL_N","","HI7IDSPLN","HI7____ID_SPL_N",1,"______"]
[null,null,null,null,null,null,null,null,null,null,null,null,null,null,null,null,null,null,null,null,null,{"$f":"IFERROR(INDEX(MissingData, SMALL(IF(ISBLANK(MissingData)+ISERROR(MissingData)+LEN(MissingData)=0, \"\", ROW(MissingData)-MIN(ROW(MissingData))+1), ROW(894:894))),\"\")","v":"HI7____ID_SS_N"},"","",null,"HI7____ID_SS_N","","HI7IDSSN","HI7____ID_SS_N",1,"______"]
[null,null,null,null,null,null,null,null,null,null,null,null,null,null,null,null,null,null,null,null,null,{"$f":"IFERROR(INDEX(MissingData, SMALL(IF(ISBLANK(MissingData)+ISERROR(MissingData)+LEN(MissingData)=0, \"\", ROW(MissingData)-MIN(ROW(MissingData))+1), ROW(895:895))),\"\")","v":"HI7____OHI_REC09YSVCS_N"},"","",null,"HI7____OHI_REC09YSVCS_N","","HI7OHIREC09YSVCSN","HI7____OHI_REC09YSVCS_N",1,"______"]
[null,null,null,null,null,null,null,null,null,null,null,null,null,null,null,null,null,null,null,null,null,{"$f":"IFERROR(INDEX(MissingData, SMALL(IF(ISBLANK(MissingData)+ISERROR(MissingData)+LEN(MissingData)=0, \"\", ROW(MissingData)-MIN(ROW(MissingData))+1), ROW(896:896))),\"\")","v":"HI7____OHI_REC09YOTHLOC_N"},"","",null,"HI7____OHI_REC09YOTHLOC_N","","HI7OHIREC09YOTHLOCN","HI7____OHI_REC09YOTHLOC_N",1,"______"]
[null,null,null,null,null,null,null,null,null,null,null,null,null,null,null,null,null,null,null,null,null,{"$f":"IFERROR(INDEX(MissingData, SMALL(IF(ISBLANK(MissingData)+ISERROR(MissingData)+LEN(MissingData)=0, \"\", ROW(MissingData)-MIN(ROW(MissingData))+1), ROW(897:897))),\"\")","v":"HI7____OHI_RF_N"},{"$f":"IF(LEN(AA910)=0,\"\",IF(COUNTIF(CurrentListing_C089,AA910)>1,AE910,\"\"))","v":""},{"$f":"IF(LEN(AA910)=0,\"\",IF(ISNA(MATCH(AA910,MasterListing,0)),AE910,\"\"))","v":""},null,{"$f":"IF(LEN(AC910)=0,\"\",IF(ISNA(MATCH(AB910,CurrentListing_C089,0)),AC910,\"\"))","v":"HI7____OHI_RF_N"},"","HI7OHIRFN","HI7____OHI_RF_N",1,"______"]
[null,null,null,null,null,null,null,null,null,null,null,null,null,null,null,null,null,null,null,null,null,{"$f":"IFERROR(INDEX(MissingData, SMALL(IF(ISBLANK(MissingData)+ISERROR(MissingData)+LEN(MissingData)=0, \"\", ROW(MissingData)-MIN(ROW(MissingData))+1), ROW(898:898))),\"\")","v":"HI7____OHI_SPL_N"},"","",null,"HI7____OHI_SPL_N",{"$f":"G911&H911&I911&J911&K911&Q911&R911","v":""},"HI7OHISPLN","HI7____OHI_SPL_N",1,{"$f":"G911&\"_\"&H911&\"_\"&I911&\"_\"&J911&\"_\"&K911&\"_\"&Q911&\"_\"&R911","v":"______"}]
[null,null,null,null,null,null,null,null,null,null,null,null,null,null,null,null,null,null,null,null,null,{"$f":"IFERROR(INDEX(MissingData, SMALL(IF(ISBLANK(MissingData)+ISERROR(MissingData)+LEN(MissingData)=0, \"\", ROW(MissingData)-MIN(ROW(MissingData))+1), ROW(899:899))),\"\")","v":"HI7____OHI_SS_N"},"","",null,"HI7____OHI_SS_N","","HI7OHISSN","HI7____OHI_SS_N",{"$f":"IF(LEN(V912)>0,1,0)","v":1},"______"]
[null,null,null,null,null,null,null,null,null,null,null,null,null,null,null,null,null,null,null,null,null,{"$f":"IFERROR(INDEX(MissingData, SMALL(IF(ISBLANK(MissingData)+ISERROR(MissingData)+LEN(MissingData)=0, \"\", ROW(MissingData)-MIN(ROW(MissingData))+1), ROW(900:900))),\"\")","v":"HI7____OI_H_N"},"","",null,"HI7____OI_H_N","","HI7OIHN","HI7____OI_H_N",1,"______"]
[null,null,null,null,null,null,null,null,null,null,null,null,null,null,null,null,null,null,null,null,null,{"$f":"IFERROR(INDEX(MissingData, SMALL(IF(ISBLANK(MissingData)+ISERROR(MissingData)+LEN(MissingData)=0, \"\", ROW(MissingData)-MIN(ROW(MissingData))+1), ROW(901:901))),\"\")","v":"HI7____OI_REC09YSVCS_N"},"","",null,"HI7____OI_REC09YSVCS_N","","HI7OIREC09YSVCSN","HI7____OI_REC09YSVCS_N",1,"______"]
[null,null,null,null,null,null,null,null,null,null,null,null,null,null,null,null,null,null,null,null,null,{"$f":"IFERROR(INDEX(MissingData, SMALL(IF(ISBLANK(MissingData)+ISERROR(MissingData)+LEN(MissingData)=0, \"\", ROW(MissingData)-MIN(ROW(MissingData))+1), ROW(902:902))),\"\")","v":"HI7____OI_REC09YOTHLOC_N"},"","",null,"HI7____OI_REC09YOTHLOC_N","","HI7OIREC09YOTHLOCN","HI7____OI_REC09YOTHLOC_N",1,"______"]
[null,null,null,null,null,null,null,null,null,null,null,null,null,null,null,null,null,null,null,null,null,{"$f":"IFERROR(INDEX(MissingData, SMALL(IF(ISBLANK(MissingData)+ISERROR(MissingData)+LEN(MissingData)=0, \"\", ROW(MissingData)-MIN(ROW(MissingData))+1), ROW(903:903))),\"\")","v":"HI7____OI_RF_N"},"","",null,"HI7____OI_RF_N","","HI7OIRFN","HI7____OI_RF_N",1,"______"]
[null,null,null,null,null,null,null,null,null,null,null,null,null,null,null,null,null,null,null,null,null,{"$f":"IFERROR(INDEX(MissingData, SMALL(IF(ISBLANK(MissingData)+ISERROR(MissingData)+LEN(MissingData)=0, \"\", ROW(MissingData)-MIN(ROW(MissingData))+1), ROW(904:904))),\"\")","v":"HI7____OI_SPL_N"},"","",null,"HI7____OI_SPL_N","","HI7OISPLN","HI7____OI_SPL_N",1,"______"]
[null,null,null,null,null,null,null,null,null,null,null,null,null,null,null,null,null,null,null,null,null,{"$f":"IFERROR(INDEX(MissingData, SMALL(IF(ISBLANK(MissingData)+ISERROR(MissingData)+LEN(MissingData)=0, \"\", ROW(MissingData)-MIN(ROW(MissingData))+1), ROW(905:905))),\"\")","v":"HI7____SLD_H_N"},"","",null,"HI7____SLD_H_N","","HI7SLDHN","HI7____SLD_H_N",1,"______"]
[null,null,null,null,null,null,null,null,null,null,null,null,null,null,null,null,null,null,null,null,null,{"$f":"IFERROR(INDEX(MissingData, SMALL(IF(ISBLANK(MissingData)+ISERROR(MissingData)+LEN(MissingData)=0, \"\", ROW(MissingData)-MIN(ROW(MissingData))+1), ROW(906:906))),\"\")","v":"HI7____SLD_REC10YSVCS_N"},"","",null,"HI7____SLD_REC10YSVCS_N","","HI7SLDREC10YSVCSN","HI7____SLD_REC10YSVCS_N",1,"______"]
[null,null,null,null,null,null,null,null,null,null,null,null,null,null,null,null,null,null,null,null,null,{"$f":"IFERROR(INDEX(MissingData, SMALL(IF(ISBLANK(MissingData)+ISERROR(MissingData)+LEN(MissingData)=0, \"\", ROW(MissingData)-MIN(ROW(MissingData))+1), ROW(907:907))),\"\")","v":"HI7____SLD_REC10YOTHLOC_N"},"","",null,"HI7____SLD_REC10YOTHLOC_N","","HI7SLDREC10YOTHLOCN","HI7____SLD_REC10YOTHLOC_N",1,"______"]
[null,null,null,null,null,null,null,null,null,null,null,null,null,null,null,null,null,null,null,null,null,{"$f":"IFERROR(INDEX(MissingData, SMALL(IF(ISBLANK(MissingData)+ISERROR(MissingData)+LEN(MissingData)=0, \"\", ROW(MissingData)-MIN(ROW(MissingData))+1), ROW(908:908))),\"\")","v":"HI7____SLD_REC09YSVCS_N"},"","",null,"HI7____SLD_REC09YSVCS_N","","HI7SLDREC09YSVCSN","HI7____SLD_REC09YSVCS_N",1,"______"]
[null,null,null,null,null,null,null,null,null,null,null,null,null,null,null,null,null,null,null,null,null,{"$f":"IFERROR(INDEX(MissingData, SMALL(IF(ISBLANK(MissingData)+ISERROR(MissingData)+LEN(MissingData)=0, \"\", ROW(MissingData)-MIN(ROW(MissingData))+1), ROW(909:909))),\"\")","v":"HI7____SLD_REC09YOTHLOC_N"},"","",null,"HI7____SLD_REC09YOTHLOC_N","","HI7SLDREC09YOTHLOCN","HI7____SLD_REC09YOTHLOC_N",1,"______"]
[null,null,null,null,null,null,null,null,null,null,null,null,null,null,null,null,null,null,null,null,null,{"$f":"IFERROR(INDEX(MissingData, SMALL(IF(ISBLANK(MissingData)+ISERROR(MissingData)+LEN(MissingData)=0, \"\", ROW(MissingData)-MIN(ROW(MissingData))+1), ROW(910:910))),\"\")","v":"HI7____SLD_RF_N"},"","",null,"HI7____SLD_RF_N","","HI7SLDRFN","HI7____SLD_RF_N",1,"______"]
[null,null,null,null,null,null,null,null,null,null,null,null,null,null,null,null,null,null,null,null,null,{"$f":"IFERROR(INDEX(MissingData, SMALL(IF(ISBLANK(MissingData)+ISERROR(MissingData)+LEN(MissingData)=0, \"\", ROW(MissingData)-MIN(ROW(MissingData))+1), ROW(911:911))),\"\")","v":"HI7____SLD_SC_N"},"","",null,"HI7____SLD_SC_N","","HI7SLDSCN","HI7____SLD_SC_N",1,"______"]
[null,null,null,null,null,null,null,null,null,null,null,null,null,null,null,null,null,null,null,null,null,{"$f":"IFERROR(INDEX(MissingData, SMALL(IF(ISBLANK(MissingData)+ISERROR(MissingData)+LEN(MissingData)=0, \"\", ROW(MissingData)-MIN(ROW(MissingData))+1), ROW(912:912))),\"\")","v":"HI7____SLD_SPL_N"},"","",null,"HI7____SLD_SPL_N","","HI7SLDSPLN","HI7____SLD_SPL_N",1,"______"]
[null,null,null,null,null,null,null,null,null,null,null,null,null,null,null,null,null,null,null,null,null,{"$f":"IFERROR(INDEX(MissingData, SMALL(IF(ISBLANK(MissingData)+ISERROR(MissingData)+LEN(MissingData)=0, \"\", ROW(MissingData)-MIN(ROW(MissingData))+1), ROW(913:913))),\"\")","v":"HI7____SLD_SS_N"},"","",null,"HI7____SLD_SS_N","","HI7SLDSSN","HI7____SLD_SS_N",1,"______"]
[null,null,null,null,null,null,null,null,null,null,null,null,null,null,null,null,null,null,null,null,null,{"$f":"IFERROR(INDEX(MissingData, SMALL(IF(ISBLANK(MissingData)+ISERROR(MissingData)+LEN(MissingData)=0, \"\", ROW(MissingData)-MIN(ROW(MissingData))+1), ROW(914:914))),\"\")","v":"HI7____SLI_H_N"},"","",null,"HI7____SLI_H_N","","HI7SLIHN","HI7____SLI_H_N",1,"______"]
[null,null,null,null,null,null,null,null,null,null,null,null,null,null,null,null,null,null,null,null,null,{"$f":"IFERROR(INDEX(MissingData, SMALL(IF(ISBLANK(MissingData)+ISERROR(MissingData)+LEN(MissingData)=0, \"\", ROW(MissingData)-MIN(ROW(MissingData))+1), ROW(915:915))),\"\")","v":"HI7____SLI_REC09YSVCS_N"},"","",null,"HI7____SLI_REC09YSVCS_N","","HI7SLIREC09YSVCSN","HI7____SLI_REC09YSVCS_N",1,"______"]
[null,null,null,null,null,null,null,null,null,null,null,null,null,null,null,null,null,null,null,null,null,{"$f":"IFERROR(INDEX(MissingData, SMALL(IF(ISBLANK(MissingData)+ISERROR(MissingData)+LEN(MissingData)=0, \"\", ROW(MissingData)-MIN(ROW(MissingData))+1), ROW(916:916))),\"\")","v":"HI7____SLI_REC09YOTHLOC_N"},"","",null,"HI7____SLI_REC09YOTHLOC_N","","HI7SLIREC09YOTHLOCN","HI7____SLI_REC09YOTHLOC_N",1,"______"]
[null,null,null,null,null,null,null,null,null,null,null,null,null,null,null,null,null,null,null,null,null,{"$f":"IFERROR(INDEX(MissingData, SMALL(IF(ISBLANK(MissingData)+ISERROR(MissingData)+LEN(MissingData)=0, \"\", ROW(MissingData)-MIN(ROW(MissingData))+1), ROW(917:917))),\"\")","v":"HI7____SLI_RF_N"},"","",null,"HI7____SLI_RF_N","","HI7SLIRFN","HI7____SLI_RF_N",1,"______"]
[null,null,null,null,null,null,null,null,null,null,null,null,null,null,null,null,null,null,null,null,null,{"$f":"IFERROR(INDEX(MissingData, SMALL(IF(ISBLANK(MissingData)+ISERROR(MissingData)+LEN(MissingData)=0, \"\", ROW(MissingData)-MIN(ROW(MissingData))+1), ROW(918:918))),\"\")","v":"HI7____TBI_H_N"},"","",null,"HI7____TBI_H_N","","HI7TBIHN","HI7____TBI_H_N",1,"______"]
[null,null,null,null,null,null,null,null,null,null,null,null,null,null,null,null,null,null,null,null,null,{"$f":"IFERROR(INDEX(MissingData, SMALL(IF(ISBLANK(MissingData)+ISERROR(MissingData)+LEN(MissingData)=0, \"\", ROW(MissingData)-MIN(ROW(MissingData))+1), ROW(919:919))),\"\")","v":"HI7____TBI_REC10YSVCS_N"},"","",null,"HI7____TBI_REC10YSVCS_N","","HI7TBIREC10YSVCSN","HI7____TBI_REC10YSVCS_N",1,"______"]
[null,null,null,null,null,null,null,null,null,null,null,null,null,null,null,null,null,null,null,null,null,{"$f":"IFERROR(INDEX(MissingData, SMALL(IF(ISBLANK(MissingData)+ISERROR(MissingData)+LEN(MissingData)=0, \"\", ROW(MissingData)-MIN(ROW(MissingData))+1), ROW(920:920))),\"\")","v":"HI7____TBI_REC09YSVCS_N"},"","",null,"HI7____TBI_REC09YSVCS_N","","HI7TBIREC09YSVCSN","HI7____TBI_REC09YSVCS_N",1,"______"]
[null,null,null,null,null,null,null,null,null,null,null,null,null,null,null,null,null,null,null,null,null,{"$f":"IFERROR(INDEX(MissingData, SMALL(IF(ISBLANK(MissingData)+ISERROR(MissingData)+LEN(MissingData)=0, \"\", ROW(MissingData)-MIN(ROW(MissingData))+1), ROW(921:921))),\"\")","v":"HI7____TBI_REC09YOTHLOC_N"},"","",null,"HI7____TBI_REC09YOTHLOC_N","","HI7TBIREC09YOTHLOCN","HI7____TBI_REC09YOTHLOC_N",1,"______"]
[null,null,null,null,null,null,null,null,null,null,null,null,null,null,null,null,null,null,null,null,null,{"$f":"IFERROR(INDEX(MissingData, SMALL(IF(ISBLANK(MissingData)+ISERROR(MissingData)+LEN(MissingData)=0, \"\", ROW(MissingData)-MIN(ROW(MissingData))+1), ROW(922:922))),\"\")","v":"HI7____TBI_RF_N"},"","",null,"HI7____TBI_RF_N","","HI7TBIRFN","HI7____TBI_RF_N",1,"______"]
[null,null,null,null,null,null,null,null,null,null,null,null,null,null,null,null,null,null,null,null,null,{"$f":"IFERROR(INDEX(MissingData, SMALL(IF(ISBLANK(MissingData)+ISERROR(MissingData)+LEN(MissingData)=0, \"\", ROW(MissingData)-MIN(ROW(MissingData))+1), ROW(923:923))),\"\")","v":"HI7____TBI_SC_N"},"","",null,"HI7____TBI_SC_N","","HI7TBISCN","HI7____TBI_SC_N",1,"______"]
[null,null,null,null,null,null,null,null,null,null,null,null,null,null,null,null,null,null,null,null,null,{"$f":"IFERROR(INDEX(MissingData, SMALL(IF(ISBLANK(MissingData)+ISERROR(MissingData)+LEN(MissingData)=0, \"\", ROW(MissingData)-MIN(ROW(MissingData))+1), ROW(924:924))),\"\")","v":"HI7____TBI_SPL_N"},"","",null,"HI7____TBI_SPL_N","","HI7TBISPLN","HI7____TBI_SPL_N",1,"______"]
[null,null,null,null,null,null,null,null,null,null,null,null,null,null,null,null,null,null,null,null,null,{"$f":"IFERROR(INDEX(MissingData, SMALL(IF(ISBLANK(MissingData)+ISERROR(MissingData)+LEN(MissingData)=0, \"\", ROW(MissingData)-MIN(ROW(MissingData))+1), ROW(925:925))),\"\")","v":"HI7____TBI_SS_N"},"","",null,"HI7____TBI_SS_N","","HI7TBISSN","HI7____TBI_SS_N",1,"______"]
[null,null,null,null,null,null,null,null,null,null,null,null,null,null,null,null,null,null,null,null,null,{"$f":"IFERROR(INDEX(MissingData, SMALL(IF(ISBLANK(MissingData)+ISERROR(MissingData)+LEN(MissingData)=0, \"\", ROW(MissingData)-MIN(ROW(MissingData))+1), ROW(926:926))),\"\")","v":"HI7____VI_H_N"},"","",null,"HI7____VI_H_N","","HI7VIHN","HI7____VI_H_N",1,"______"]
[null,null,null,null,null,null,null,null,null,null,null,null,null,null,null,null,null,null,null,null,null,{"$f":"IFERROR(INDEX(MissingData, SMALL(IF(ISBLANK(MissingData)+ISERROR(MissingData)+LEN(MissingData)=0, \"\", ROW(MissingData)-MIN(ROW(MissingData))+1), ROW(927:927))),\"\")","v":"HI7____VI_REC10YSVCS_N"},"","",null,"HI7____VI_REC10YSVCS_N","","HI7VIREC10YSVCSN","HI7____VI_REC10YSVCS_N",1,"______"]
[null,null,null,null,null,null,null,null,null,null,null,null,null,null,null,null,null,null,null,null,null,{"$f":"IFERROR(INDEX(MissingData, SMALL(IF(ISBLANK(MissingData)+ISERROR(MissingData)+LEN(MissingData)=0, \"\", ROW(MissingData)-MIN(ROW(MissingData))+1), ROW(928:928))),\"\")","v":"HI7____VI_REC10YOTHLOC_N"},"","",null,"HI7____VI_REC10YOTHLOC_N","","HI7VIREC10YOTHLOCN","HI7____VI_REC10YOTHLOC_N",1,"______"]
[null,null,null,null,null,null,null,null,null,null,null,null,null,null,null,null,null,null,null,null,null,{"$f":"IFERROR(INDEX(MissingData, SMALL(IF(ISBLANK(MissingData)+ISERROR(MissingData)+LEN(MissingData)=0, \"\", ROW(MissingData)-MIN(ROW(MissingData))+1), ROW(929:929))),\"\")","v":"HI7____VI_REC09YSVCS_N"},"","",null,"HI7____VI_REC09YSVCS_N","","HI7VIREC09YSVCSN","HI7____VI_REC09YSVCS_N",1,"______"]
[null,null,null,null,null,null,null,null,null,null,null,null,null,null,null,null,null,null,null,null,null,{"$f":"IFERROR(INDEX(MissingData, SMALL(IF(ISBLANK(MissingData)+ISERROR(MissingData)+LEN(MissingData)=0, \"\", ROW(MissingData)-MIN(ROW(MissingData))+1), ROW(930:930))),\"\")","v":"HI7____VI_REC09YOTHLOC_N"},"","",null,"HI7____VI_REC09YOTHLOC_N","","HI7VIREC09YOTHLOCN","HI7____VI_REC09YOTHLOC_N",1,"______"]
[null,null,null,null,null,null,null,null,null,null,null,null,null,null,null,null,null,null,null,null,null,{"$f":"IFERROR(INDEX(MissingData, SMALL(IF(ISBLANK(MissingData)+ISERROR(MissingData)+LEN(MissingData)=0, \"\", ROW(MissingData)-MIN(ROW(MissingData))+1), ROW(931:931))),\"\")","v":"HI7____VI_RF_N"},"","",null,"HI7____VI_RF_N","","HI7VIRFN","HI7____VI_RF_N",1,"______"]
[null,null,null,null,null,null,null,null,null,null,null,null,null,null,null,null,null,null,null,null,null,{"$f":"IFERROR(INDEX(MissingData, SMALL(IF(ISBLANK(MissingData)+ISERROR(MissingData)+LEN(MissingData)=0, \"\", ROW(MissingData)-MIN(ROW(MissingData))+1), ROW(932:932))),\"\")","v":"HI7____VI_SPL_N"},"","",null,"HI7____VI_SPL_N","","HI7VISPLN","HI7____VI_SPL_N",1,"______"]
[null,null,null,null,null,null,null,null,null,null,null,null,null,null,null,null,null,null,null,null,null,{"$f":"IFERROR(INDEX(MissingData, SMALL(IF(ISBLANK(MissingData)+ISERROR(MissingData)+LEN(MissingData)=0, \"\", ROW(MissingData)-MIN(ROW(MissingData))+1), ROW(933:933))),\"\")","v":"MU7____AUT_H_N"},"","",null,"MU7____AUT_H_N","","MU7AUTHN","MU7____AUT_H_N",1,"______"]
[null,null,null,null,null,null,null,null,null,null,null,null,null,null,null,null,null,null,null,null,null,{"$f":"IFERROR(INDEX(MissingData, SMALL(IF(ISBLANK(MissingData)+ISERROR(MissingData)+LEN(MissingData)=0, \"\", ROW(MissingData)-MIN(ROW(MissingData))+1), ROW(934:934))),\"\")","v":"MU7____AUT_REC09YSVCS_N"},"","",null,"MU7____AUT_REC09YSVCS_N","","MU7AUTREC09YSVCSN","MU7____AUT_REC09YSVCS_N",1,"______"]
[null,null,null,null,null,null,null,null,null,null,null,null,null,null,null,null,null,null,null,null,null,{"$f":"IFERROR(INDEX(MissingData, SMALL(IF(ISBLANK(MissingData)+ISERROR(MissingData)+LEN(MissingData)=0, \"\", ROW(MissingData)-MIN(ROW(MissingData))+1), ROW(935:935))),\"\")","v":"MU7____AUT_REC09YOTHLOC_N"},"","",null,"MU7____AUT_REC09YOTHLOC_N","","MU7AUTREC09YOTHLOCN","MU7____AUT_REC09YOTHLOC_N",1,"______"]
[null,null,null,null,null,null,null,null,null,null,null,null,null,null,null,null,null,null,null,null,null,{"$f":"IFERROR(INDEX(MissingData, SMALL(IF(ISBLANK(MissingData)+ISERROR(MissingData)+LEN(MissingData)=0, \"\", ROW(MissingData)-MIN(ROW(MissingData))+1), ROW(936:936))),\"\")","v":"MU7____AUT_RF_N"},"","",null,"MU7____AUT_RF_N","","MU7AUTRFN","MU7____AUT_RF_N",1,"______"]
[null,null,null,null,null,null,null,null,null,null,null,null,null,null,null,null,null,null,null,null,null,{"$f":"IFERROR(INDEX(MissingData, SMALL(IF(ISBLANK(MissingData)+ISERROR(MissingData)+LEN(MissingData)=0, \"\", ROW(MissingData)-MIN(ROW(MissingData))+1), ROW(937:937))),\"\")","v":"MU7____AUT_SPL_N"},"","",null,"MU7____AUT_SPL_N","","MU7AUTSPLN","MU7____AUT_SPL_N",1,"______"]
[null,null,null,null,null,null,null,null,null,null,null,null,null,null,null,null,null,null,null,null,null,{"$f":"IFERROR(INDEX(MissingData, SMALL(IF(ISBLANK(MissingData)+ISERROR(MissingData)+LEN(MissingData)=0, \"\", ROW(MissingData)-MIN(ROW(MissingData))+1), ROW(938:938))),\"\")","v":"MU7____DB_H_N"},"","",null,"MU7____DB_H_N","","MU7DBHN","MU7____DB_H_N",1,"______"]
[null,null,null,null,null,null,null,null,null,null,null,null,null,null,null,null,null,null,null,null,null,{"$f":"IFERROR(INDEX(MissingData, SMALL(IF(ISBLANK(MissingData)+ISERROR(MissingData)+LEN(MissingData)=0, \"\", ROW(MissingData)-MIN(ROW(MissingData))+1), ROW(939:939))),\"\")","v":"MU7____DB_REC10YSVCS_N"},"","",null,"MU7____DB_REC10YSVCS_N","","MU7DBREC10YSVCSN","MU7____DB_REC10YSVCS_N",1,"______"]
[null,null,null,null,null,null,null,null,null,null,null,null,null,null,null,null,null,null,null,null,null,{"$f":"IFERROR(INDEX(MissingData, SMALL(IF(ISBLANK(MissingData)+ISERROR(MissingData)+LEN(MissingData)=0, \"\", ROW(MissingData)-MIN(ROW(MissingData))+1), ROW(940:940))),\"\")","v":"MU7____DB_REC10YOTHLOC_N"},"","",null,"MU7____DB_REC10YOTHLOC_N","","MU7DBREC10YOTHLOCN","MU7____DB_REC10YOTHLOC_N",1,"______"]
[null,null,null,null,null,null,null,null,null,null,null,null,null,null,null,null,null,null,null,null,null,{"$f":"IFERROR(INDEX(MissingData, SMALL(IF(ISBLANK(MissingData)+ISERROR(MissingData)+LEN(MissingData)=0, \"\", ROW(MissingData)-MIN(ROW(MissingData))+1), ROW(941:941))),\"\")","v":"MU7____DB_REC09YSVCS_N"},"","",null,"MU7____DB_REC09YSVCS_N","","MU7DBREC09YSVCSN","MU7____DB_REC09YSVCS_N",1,"______"]
[null,null,null,null,null,null,null,null,null,null,null,null,null,null,null,null,null,null,null,null,null,{"$f":"IFERROR(INDEX(MissingData, SMALL(IF(ISBLANK(MissingData)+ISERROR(MissingData)+LEN(MissingData)=0, \"\", ROW(MissingData)-MIN(ROW(MissingData))+1), ROW(942:942))),\"\")","v":"MU7____DB_REC09YOTHLOC_N"},"","",null,"MU7____DB_REC09YOTHLOC_N","","MU7DBREC09YOTHLOCN","MU7____DB_REC09YOTHLOC_N",1,"______"]
[null,null,null,null,null,null,null,null,null,null,null,null,null,null,null,null,null,null,null,null,null,{"$f":"IFERROR(INDEX(MissingData, SMALL(IF(ISBLANK(MissingData)+ISERROR(MissingData)+LEN(MissingData)=0, \"\", ROW(MissingData)-MIN(ROW(MissingData))+1), ROW(943:943))),\"\")","v":"MU7____DB_RF_N"},"","",null,"MU7____DB_RF_N","","MU7DBRFN","MU7____DB_RF_N",1,"______"]
[null,null,null,null,null,null,null,null,null,null,null,null,null,null,null,null,null,null,null,null,null,{"$f":"IFERROR(INDEX(MissingData, SMALL(IF(ISBLANK(MissingData)+ISERROR(MissingData)+LEN(MissingData)=0, \"\", ROW(MissingData)-MIN(ROW(MissingData))+1), ROW(944:944))),\"\")","v":"MU7____DB_SC_N"},"","",null,"MU7____DB_SC_N","","MU7DBSCN","MU7____DB_SC_N",1,"______"]
[null,null,null,null,null,null,null,null,null,null,null,null,null,null,null,null,null,null,null,null,null,{"$f":"IFERROR(INDEX(MissingData, SMALL(IF(ISBLANK(MissingData)+ISERROR(MissingData)+LEN(MissingData)=0, \"\", ROW(MissingData)-MIN(ROW(MissingData))+1), ROW(945:945))),\"\")","v":"MU7____DB_SPL_N"},"","",null,"MU7____DB_SPL_N","","MU7DBSPLN","MU7____DB_SPL_N",1,"______"]
[null,null,null,null,null,null,null,null,null,null,null,null,null,null,null,null,null,null,null,null,null,{"$f":"IFERROR(INDEX(MissingData, SMALL(IF(ISBLANK(MissingData)+ISERROR(MissingData)+LEN(MissingData)=0, \"\", ROW(MissingData)-MIN(ROW(MissingData))+1), ROW(946:946))),\"\")","v":"MU7____DB_SS_N"},"","",null,"MU7____DB_SS_N","","MU7DBSSN","MU7____DB_SS_N",1,"______"]
[null,null,null,null,null,null,null,null,null,null,null,null,null,null,null,null,null,null,null,null,null,{"$f":"IFERROR(INDEX(MissingData, SMALL(IF(ISBLANK(MissingData)+ISERROR(MissingData)+LEN(MissingData)=0, \"\", ROW(MissingData)-MIN(ROW(MissingData))+1), ROW(947:947))),\"\")","v":"MU7____DD_H_N"},"","",null,"MU7____DD_H_N","","MU7DDHN","MU7____DD_H_N",1,"______"]
[null,null,null,null,null,null,null,null,null,null,null,null,null,null,null,null,null,null,null,null,null,{"$f":"IFERROR(INDEX(MissingData, SMALL(IF(ISBLANK(MissingData)+ISERROR(MissingData)+LEN(MissingData)=0, \"\", ROW(MissingData)-MIN(ROW(MissingData))+1), ROW(948:948))),\"\")","v":"MU7____DD_REC09YSVCS_N"},"","",null,"MU7____DD_REC09YSVCS_N","","MU7DDREC09YSVCSN","MU7____DD_REC09YSVCS_N",1,"______"]
[null,null,null,null,null,null,null,null,null,null,null,null,null,null,null,null,null,null,null,null,null,{"$f":"IFERROR(INDEX(MissingData, SMALL(IF(ISBLANK(MissingData)+ISERROR(MissingData)+LEN(MissingData)=0, \"\", ROW(MissingData)-MIN(ROW(MissingData))+1), ROW(949:949))),\"\")","v":"MU7____DD_REC09YOTHLOC_N"},"","",null,"MU7____DD_REC09YOTHLOC_N","","MU7DDREC09YOTHLOCN","MU7____DD_REC09YOTHLOC_N",1,"______"]
[null,null,null,null,null,null,null,null,null,null,null,null,null,null,null,null,null,null,null,null,null,{"$f":"IFERROR(INDEX(MissingData, SMALL(IF(ISBLANK(MissingData)+ISERROR(MissingData)+LEN(MissingData)=0, \"\", ROW(MissingData)-MIN(ROW(MissingData))+1), ROW(950:950))),\"\")","v":"MU7____DD_RF_N"},"","",null,"MU7____DD_RF_N","","MU7DDRFN","MU7____DD_RF_N",1,"______"]
[null,null,null,null,null,null,null,null,null,null,null,null,null,null,null,null,null,null,null,null,null,{"$f":"IFERROR(INDEX(MissingData, SMALL(IF(ISBLANK(MissingData)+ISERROR(MissingData)+LEN(MissingData)=0, \"\", ROW(MissingData)-MIN(ROW(MissingData))+1), ROW(951:951))),\"\")","v":"MU7____DD_SPL_N"},"","",null,"MU7____DD_SPL_N","","MU7DDSPLN","MU7____DD_SPL_N",1,"______"]
[null,null,null,null,null,null,null,null,null,null,null,null,null,null,null,null,null,null,null,null,null,{"$f":"IFERROR(INDEX(MissingData, SMALL(IF(ISBLANK(MissingData)+ISERROR(MissingData)+LEN(MissingData)=0, \"\", ROW(MissingData)-MIN(ROW(MissingData))+1), ROW(952:952))),\"\")","v":"MU7____EMN_H_N"},"","",null,"MU7____EMN_H_N","","MU7EMNHN","MU7____EMN_H_N",1,"______"]
[null,null,null,null,null,null,null,null,null,null,null,null,null,null,null,null,null,null,null,null,null,{"$f":"IFERROR(INDEX(MissingData, SMALL(IF(ISBLANK(MissingData)+ISERROR(MissingData)+LEN(MissingData)=0, \"\", ROW(MissingData)-MIN(ROW(MissingData))+1), ROW(953:953))),\"\")","v":"MU7____EMN_REC10YSVCS_N"},"","",null,"MU7____EMN_REC10YSVCS_N","","MU7EMNREC10YSVCSN","MU7____EMN_REC10YSVCS_N",1,"______"]
[null,null,null,null,null,null,null,null,null,null,null,null,null,null,null,null,null,null,null,null,null,{"$f":"IFERROR(INDEX(MissingData, SMALL(IF(ISBLANK(MissingData)+ISERROR(MissingData)+LEN(MissingData)=0, \"\", ROW(MissingData)-MIN(ROW(MissingData))+1), ROW(954:954))),\"\")","v":"MU7____EMN_REC10YOTHLOC_N"},"","",null,"MU7____EMN_REC10YOTHLOC_N","","MU7EMNREC10YOTHLOCN","MU7____EMN_REC10YOTHLOC_N",1,"______"]
[null,null,null,null,null,null,null,null,null,null,null,null,null,null,null,null,null,null,null,null,null,{"$f":"IFERROR(INDEX(MissingData, SMALL(IF(ISBLANK(MissingData)+ISERROR(MissingData)+LEN(MissingData)=0, \"\", ROW(MissingData)-MIN(ROW(MissingData))+1), ROW(955:955))),\"\")","v":"MU7____EMN_REC09YSVCS_N"},"","",null,"MU7____EMN_REC09YSVCS_N","","MU7EMNREC09YSVCSN","MU7____EMN_REC09YSVCS_N",1,"______"]
[null,null,null,null,null,null,null,null,null,null,null,null,null,null,null,null,null,null,null,null,null,{"$f":"IFERROR(INDEX(MissingData, SMALL(IF(ISBLANK(MissingData)+ISERROR(MissingData)+LEN(MissingData)=0, \"\", ROW(MissingData)-MIN(ROW(MissingData))+1), ROW(956:956))),\"\")","v":"MU7____EMN_REC09YOTHLOC_N"},"","",null,"MU7____EMN_REC09YOTHLOC_N","","MU7EMNREC09YOTHLOCN","MU7____EMN_REC09YOTHLOC_N",1,"______"]
[null,null,null,null,null,null,null,null,null,null,null,null,null,null,null,null,null,null,null,null,null,{"$f":"IFERROR(INDEX(MissingData, SMALL(IF(ISBLANK(MissingData)+ISERROR(MissingData)+LEN(MissingData)=0, \"\", ROW(MissingData)-MIN(ROW(MissingData))+1), ROW(957:957))),\"\")","v":"MU7____EMN_RF_N"},"","",null,"MU7____EMN_RF_N","","MU7EMNRFN","MU7____EMN_RF_N",1,"______"]
[null,null,null,null,null,null,null,null,null,null,null,null,null,null,null,null,null,null,null,null,null,{"$f":"IFERROR(INDEX(MissingData, SMALL(IF(ISBLANK(MissingData)+ISERROR(MissingData)+LEN(MissingData)=0, \"\", ROW(MissingData)-MIN(ROW(MissingData))+1), ROW(958:958))),\"\")","v":"MU7____EMN_SC_N"},"","",null,"MU7____EMN_SC_N","","MU7EMNSCN","MU7____EMN_SC_N",1,"______"]
[null,null,null,null,null,null,null,null,null,null,null,null,null,null,null,null,null,null,null,null,null,{"$f":"IFERROR(INDEX(MissingData, SMALL(IF(ISBLANK(MissingData)+ISERROR(MissingData)+LEN(MissingData)=0, \"\", ROW(MissingData)-MIN(ROW(MissingData))+1), ROW(959:959))),\"\")","v":"MU7____EMN_SPL_N"},"","",null,"MU7____EMN_SPL_N","","MU7EMNSPLN","MU7____EMN_SPL_N",1,"______"]
[null,null,null,null,null,null,null,null,null,null,null,null,null,null,null,null,null,null,null,null,null,{"$f":"IFERROR(INDEX(MissingData, SMALL(IF(ISBLANK(MissingData)+ISERROR(MissingData)+LEN(MissingData)=0, \"\", ROW(MissingData)-MIN(ROW(MissingData))+1), ROW(960:960))),\"\")","v":"MU7____EMN_SS_N"},"","",null,"MU7____EMN_SS_N","","MU7EMNSSN","MU7____EMN_SS_N",1,"______"]
[null,null,null,null,null,null,null,null,null,null,null,null,null,null,null,null,null,null,null,null,null,{"$f":"IFERROR(INDEX(MissingData, SMALL(IF(ISBLANK(MissingData)+ISERROR(MissingData)+LEN(MissingData)=0, \"\", ROW(MissingData)-MIN(ROW(MissingData))+1), ROW(961:961))),\"\")","v":"MU7____HI_H_N"},{"$f":"IF(LEN(AA974)=0,\"\",IF(COUNTIF(CurrentListing_C089,AA974)>1,AE974,\"\"))","v":""},{"$f":"IF(LEN(AA974)=0,\"\",IF(ISNA(MATCH(AA974,MasterListing,0)),AE974,\"\"))","v":""},null,{"$f":"IF(LEN(AC974)=0,\"\",IF(ISNA(MATCH(AB974,CurrentListing_C089,0)),AC974,\"\"))","v":"MU7____HI_H_N"},"","MU7HIHN","MU7____HI_H_N",1,"______"]
[null,null,null,null,null,null,null,null,null,null,null,null,null,null,null,null,null,null,null,null,null,{"$f":"IFERROR(INDEX(MissingData, SMALL(IF(ISBLANK(MissingData)+ISERROR(MissingData)+LEN(MissingData)=0, \"\", ROW(MissingData)-MIN(ROW(MissingData))+1), ROW(962:962))),\"\")","v":"MU7____HI_REC09YSVCS_N"},"","",null,"MU7____HI_REC09YSVCS_N",{"$f":"G975&H975&I975&J975&K975&Q975&R975","v":""},"MU7HIREC09YSVCSN","MU7____HI_REC09YSVCS_N",1,{"$f":"G975&\"_\"&H975&\"_\"&I975&\"_\"&J975&\"_\"&K975&\"_\"&Q975&\"_\"&R975","v":"______"}]
[null,null,null,null,null,null,null,null,null,null,null,null,null,null,null,null,null,null,null,null,null,{"$f":"IFERROR(INDEX(MissingData, SMALL(IF(ISBLANK(MissingData)+ISERROR(MissingData)+LEN(MissingData)=0, \"\", ROW(MissingData)-MIN(ROW(MissingData))+1), ROW(963:963))),\"\")","v":"MU7____HI_REC09YOTHLOC_N"},"","",null,"MU7____HI_REC09YOTHLOC_N","","MU7HIREC09YOTHLOCN","MU7____HI_REC09YOTHLOC_N",{"$f":"IF(LEN(V976)>0,1,0)","v":1},"______"]
[null,null,null,null,null,null,null,null,null,null,null,null,null,null,null,null,null,null,null,null,null,{"$f":"IFERROR(INDEX(MissingData, SMALL(IF(ISBLANK(MissingData)+ISERROR(MissingData)+LEN(MissingData)=0, \"\", ROW(MissingData)-MIN(ROW(MissingData))+1), ROW(964:964))),\"\")","v":"MU7____HI_RF_N"},"","",null,"MU7____HI_RF_N","","MU7HIRFN","MU7____HI_RF_N",1,"______"]
[null,null,null,null,null,null,null,null,null,null,null,null,null,null,null,null,null,null,null,null,null,{"$f":"IFERROR(INDEX(MissingData, SMALL(IF(ISBLANK(MissingData)+ISERROR(MissingData)+LEN(MissingData)=0, \"\", ROW(MissingData)-MIN(ROW(MissingData))+1), ROW(965:965))),\"\")","v":"MU7____HI_SC_N"},"","",null,"MU7____HI_SC_N","","MU7HISCN","MU7____HI_SC_N",1,"______"]
[null,null,null,null,null,null,null,null,null,null,null,null,null,null,null,null,null,null,null,null,null,{"$f":"IFERROR(INDEX(MissingData, SMALL(IF(ISBLANK(MissingData)+ISERROR(MissingData)+LEN(MissingData)=0, \"\", ROW(MissingData)-MIN(ROW(MissingData))+1), ROW(966:966))),\"\")","v":"MU7____HI_SPL_N"},"","",null,"MU7____HI_SPL_N","","MU7HISPLN","MU7____HI_SPL_N",1,"______"]
[null,null,null,null,null,null,null,null,null,null,null,null,null,null,null,null,null,null,null,null,null,{"$f":"IFERROR(INDEX(MissingData, SMALL(IF(ISBLANK(MissingData)+ISERROR(MissingData)+LEN(MissingData)=0, \"\", ROW(MissingData)-MIN(ROW(MissingData))+1), ROW(967:967))),\"\")","v":"MU7____HI_SS_N"},"","",null,"MU7____HI_SS_N","","MU7HISSN","MU7____HI_SS_N",1,"______"]
[null,null,null,null,null,null,null,null,null,null,null,null,null,null,null,null,null,null,null,null,null,{"$f":"IFERROR(INDEX(MissingData, SMALL(IF(ISBLANK(MissingData)+ISERROR(MissingData)+LEN(MissingData)=0, \"\", ROW(MissingData)-MIN(ROW(MissingData))+1), ROW(968:968))),\"\")","v":"MU7____MD_H_N"},"","",null,"MU7____MD_H_N","","MU7MDHN","MU7____MD_H_N",1,"______"]
[null,null,null,null,null,null,null,null,null,null,null,null,null,null,null,null,null,null,null,null,null,{"$f":"IFERROR(INDEX(MissingData, SMALL(IF(ISBLANK(MissingData)+ISERROR(MissingData)+LEN(MissingData)=0, \"\", ROW(MissingData)-MIN(ROW(MissingData))+1), ROW(969:969))),\"\")","v":"MU7____MD_REC10YSVCS_N"},"","",null,"MU7____MD_REC10YSVCS_N","","MU7MDREC10YSVCSN","MU7____MD_REC10YSVCS_N",1,"______"]
[null,null,null,null,null,null,null,null,null,null,null,null,null,null,null,null,null,null,null,null,null,{"$f":"IFERROR(INDEX(MissingData, SMALL(IF(ISBLANK(MissingData)+ISERROR(MissingData)+LEN(MissingData)=0, \"\", ROW(MissingData)-MIN(ROW(MissingData))+1), ROW(970:970))),\"\")","v":"MU7____MD_REC09YSVCS_N"},"","",null,"MU7____MD_REC09YSVCS_N","","MU7MDREC09YSVCSN","MU7____MD_REC09YSVCS_N",1,"______"]
[null,null,null,null,null,null,null,null,null,null,null,null,null,null,null,null,null,null,null,null,null,{"$f":"IFERROR(INDEX(MissingData, SMALL(IF(ISBLANK(MissingData)+ISERROR(MissingData)+LEN(MissingData)=0, \"\", ROW(MissingData)-MIN(ROW(MissingData))+1), ROW(971:971))),\"\")","v":"MU7____MD_REC09YOTHLOC_N"},"","",null,"MU7____MD_REC09YOTHLOC_N","","MU7MDREC09YOTHLOCN","MU7____MD_REC09YOTHLOC_N",1,"______"]
[null,null,null,null,null,null,null,null,null,null,null,null,null,null,null,null,null,null,null,null,null,{"$f":"IFERROR(INDEX(MissingData, SMALL(IF(ISBLANK(MissingData)+ISERROR(MissingData)+LEN(MissingData)=0, \"\", ROW(MissingData)-MIN(ROW(MissingData))+1), ROW(972:972))),\"\")","v":"MU7____MD_RF_N"},"","",null,"MU7____MD_RF_N","","MU7MDRFN","MU7____MD_RF_N",1,"______"]
[null,null,null,null,null,null,null,null,null,null,null,null,null,null,null,null,null,null,null,null,null,{"$f":"IFERROR(INDEX(MissingData, SMALL(IF(ISBLANK(MissingData)+ISERROR(MissingData)+LEN(MissingData)=0, \"\", ROW(MissingData)-MIN(ROW(MissingData))+1), ROW(973:973))),\"\")","v":"MU7____MD_SPL_N"},"","",null,"MU7____MD_SPL_N","","MU7MDSPLN","MU7____MD_SPL_N",1,"______"]
[null,null,null,null,null,null,null,null,null,null,null,null,null,null,null,null,null,null,null,null,null,{"$f":"IFERROR(INDEX(MissingData, SMALL(IF(ISBLANK(MissingData)+ISERROR(MissingData)+LEN(MissingData)=0, \"\", ROW(MissingData)-MIN(ROW(MissingData))+1), ROW(974:974))),\"\")","v":"MU7____MD_SS_N"},"","",null,"MU7____MD_SS_N","","MU7MDSSN","MU7____MD_SS_N",1,"______"]
[null,null,null,null,null,null,null,null,null,null,null,null,null,null,null,null,null,null,null,null,null,{"$f":"IFERROR(INDEX(MissingData, SMALL(IF(ISBLANK(MissingData)+ISERROR(MissingData)+LEN(MissingData)=0, \"\", ROW(MissingData)-MIN(ROW(MissingData))+1), ROW(975:975))),\"\")","v":"MU7____ID_H_N"},"","",null,"MU7____ID_H_N","","MU7IDHN","MU7____ID_H_N",1,"______"]
[null,null,null,null,null,null,null,null,null,null,null,null,null,null,null,null,null,null,null,null,null,{"$f":"IFERROR(INDEX(MissingData, SMALL(IF(ISBLANK(MissingData)+ISERROR(MissingData)+LEN(MissingData)=0, \"\", ROW(MissingData)-MIN(ROW(MissingData))+1), ROW(976:976))),\"\")","v":"MU7____ID_REC10YSVCS_N"},"","",null,"MU7____ID_REC10YSVCS_N","","MU7IDREC10YSVCSN","MU7____ID_REC10YSVCS_N",1,"______"]
[null,null,null,null,null,null,null,null,null,null,null,null,null,null,null,null,null,null,null,null,null,{"$f":"IFERROR(INDEX(MissingData, SMALL(IF(ISBLANK(MissingData)+ISERROR(MissingData)+LEN(MissingData)=0, \"\", ROW(MissingData)-MIN(ROW(MissingData))+1), ROW(977:977))),\"\")","v":"MU7____ID_REC10YOTHLOC_N"},"","",null,"MU7____ID_REC10YOTHLOC_N","","MU7IDREC10YOTHLOCN","MU7____ID_REC10YOTHLOC_N",1,"______"]
[null,null,null,null,null,null,null,null,null,null,null,null,null,null,null,null,null,null,null,null,null,{"$f":"IFERROR(INDEX(MissingData, SMALL(IF(ISBLANK(MissingData)+ISERROR(MissingData)+LEN(MissingData)=0, \"\", ROW(MissingData)-MIN(ROW(MissingData))+1), ROW(978:978))),\"\")","v":"MU7____ID_REC09YSVCS_N"},"","",null,"MU7____ID_REC09YSVCS_N","","MU7IDREC09YSVCSN","MU7____ID_REC09YSVCS_N",1,"______"]
[null,null,null,null,null,null,null,null,null,null,null,null,null,null,null,null,null,null,null,null,null,{"$f":"IFERROR(INDEX(MissingData, SMALL(IF(ISBLANK(MissingData)+ISERROR(MissingData)+LEN(MissingData)=0, \"\", ROW(MissingData)-MIN(ROW(MissingData))+1), ROW(979:979))),\"\")","v":"MU7____ID_REC09YOTHLOC_N"},"","",null,"MU7____ID_REC09YOTHLOC_N","","MU7IDREC09YOTHLOCN","MU7____ID_REC09YOTHLOC_N",1,"______"]
[null,null,null,null,null,null,null,null,null,null,null,null,null,null,null,null,null,null,null,null,null,{"$f":"IFERROR(INDEX(MissingData, SMALL(IF(ISBLANK(MissingData)+ISERROR(MissingData)+LEN(MissingData)=0, \"\", ROW(MissingData)-MIN(ROW(MissingData))+1), ROW(980:980))),\"\")","v":"MU7____ID_RF_N"},"","",null,"MU7____ID_RF_N","","MU7IDRFN","MU7____ID_RF_N",1,"______"]
[null,null,null,null,null,null,null,null,null,null,null,null,null,null,null,null,null,null,null,null,null,{"$f":"IFERROR(INDEX(MissingData, SMALL(IF(ISBLANK(MissingData)+ISERROR(MissingData)+LEN(MissingData)=0, \"\", ROW(MissingData)-MIN(ROW(MissingData))+1), ROW(981:981))),\"\")","v":"MU7____ID_SPL_N"},"","",null,"MU7____ID_SPL_N","","MU7IDSPLN","MU7____ID_SPL_N",1,"______"]
[null,null,null,null,null,null,null,null,null,null,null,null,null,null,null,null,null,null,null,null,null,{"$f":"IFERROR(INDEX(MissingData, SMALL(IF(ISBLANK(MissingData)+ISERROR(MissingData)+LEN(MissingData)=0, \"\", ROW(MissingData)-MIN(ROW(MissingData))+1), ROW(982:982))),\"\")","v":"MU7____ID_SS_N"},"","",null,"MU7____ID_SS_N","","MU7IDSSN","MU7____ID_SS_N",1,"______"]
[null,null,null,null,null,null,null,null,null,null,null,null,null,null,null,null,null,null,null,null,null,{"$f":"IFERROR(INDEX(MissingData, SMALL(IF(ISBLANK(MissingData)+ISERROR(MissingData)+LEN(MissingData)=0, \"\", ROW(MissingData)-MIN(ROW(MissingData))+1), ROW(983:983))),\"\")","v":"MU7____OHI_H_N"},"","",null,"MU7____OHI_H_N","","MU7OHIHN","MU7____OHI_H_N",1,"______"]
[null,null,null,null,null,null,null,null,null,null,null,null,null,null,null,null,null,null,null,null,null,{"$f":"IFERROR(INDEX(MissingData, SMALL(IF(ISBLANK(MissingData)+ISERROR(MissingData)+LEN(MissingData)=0, \"\", ROW(MissingData)-MIN(ROW(MissingData))+1), ROW(984:984))),\"\")","v":"MU7____OHI_REC10YSVCS_N"},"","",null,"MU7____OHI_REC10YSVCS_N","","MU7OHIREC10YSVCSN","MU7____OHI_REC10YSVCS_N",1,"______"]
[null,null,null,null,null,null,null,null,null,null,null,null,null,null,null,null,null,null,null,null,null,{"$f":"IFERROR(INDEX(MissingData, SMALL(IF(ISBLANK(MissingData)+ISERROR(MissingData)+LEN(MissingData)=0, \"\", ROW(MissingData)-MIN(ROW(MissingData))+1), ROW(985:985))),\"\")","v":"MU7____OHI_REC09YSVCS_N"},"","",null,"MU7____OHI_REC09YSVCS_N","","MU7OHIREC09YSVCSN","MU7____OHI_REC09YSVCS_N",1,"______"]
[null,null,null,null,null,null,null,null,null,null,null,null,null,null,null,null,null,null,null,null,null,{"$f":"IFERROR(INDEX(MissingData, SMALL(IF(ISBLANK(MissingData)+ISERROR(MissingData)+LEN(MissingData)=0, \"\", ROW(MissingData)-MIN(ROW(MissingData))+1), ROW(986:986))),\"\")","v":"MU7____OHI_REC09YOTHLOC_N"},"","",null,"MU7____OHI_REC09YOTHLOC_N","","MU7OHIREC09YOTHLOCN","MU7____OHI_REC09YOTHLOC_N",1,"______"]
[null,null,null,null,null,null,null,null,null,null,null,null,null,null,null,null,null,null,null,null,null,{"$f":"IFERROR(INDEX(MissingData, SMALL(IF(ISBLANK(MissingData)+ISERROR(MissingData)+LEN(MissingData)=0, \"\", ROW(MissingData)-MIN(ROW(MissingData))+1), ROW(987:987))),\"\")","v":"MU7____OHI_RF_N"},"","",null,"MU7____OHI_RF_N","","MU7OHIRFN","MU7____OHI_RF_N",1,"______"]
[null,null,null,null,null,null,null,null,null,null,null,null,null,null,null,null,null,null,null,null,null,{"$f":"IFERROR(INDEX(MissingData, SMALL(IF(ISBLANK(MissingData)+ISERROR(MissingData)+LEN(MissingData)=0, \"\", ROW(MissingData)-MIN(ROW(MissingData))+1), ROW(988:988))),\"\")","v":"MU7____OHI_SC_N"},"","",null,"MU7____OHI_SC_N","","MU7OHISCN","MU7____OHI_SC_N",1,"______"]
[null,null,null,null,null,null,null,null,null,null,null,null,null,null,null,null,null,null,null,null,null,{"$f":"IFERROR(INDEX(MissingData, SMALL(IF(ISBLANK(MissingData)+ISERROR(MissingData)+LEN(MissingData)=0, \"\", ROW(MissingData)-MIN(ROW(MissingData))+1), ROW(989:989))),\"\")","v":"MU7____OHI_SPL_N"},"","",null,"MU7____OHI_SPL_N","","MU7OHISPLN","MU7____OHI_SPL_N",1,"______"]
[null,null,null,null,null,null,null,null,null,null,null,null,null,null,null,null,null,null,null,null,null,{"$f":"IFERROR(INDEX(MissingData, SMALL(IF(ISBLANK(MissingData)+ISERROR(MissingData)+LEN(MissingData)=0, \"\", ROW(MissingData)-MIN(ROW(MissingData))+1), ROW(990:990))),\"\")","v":"MU7____OHI_SS_N"},"","",null,"MU7____OHI_SS_N","","MU7OHISSN","MU7____OHI_SS_N",1,"______"]
[null,null,null,null,null,null,null,null,null,null,null,null,null,null,null,null,null,null,null,null,null,{"$f":"IFERROR(INDEX(MissingData, SMALL(IF(ISBLANK(MissingData)+ISERROR(MissingData)+LEN(MissingData)=0, \"\", ROW(MissingData)-MIN(ROW(MissingData))+1), ROW(991:991))),\"\")","v":"MU7____OI_H_N"},"","",null,"MU7____OI_H_N","","MU7OIHN","MU7____OI_H_N",1,"______"]
[null,null,null,null,null,null,null,null,null,null,null,null,null,null,null,null,null,null,null,null,null,{"$f":"IFERROR(INDEX(MissingData, SMALL(IF(ISBLANK(MissingData)+ISERROR(MissingData)+LEN(MissingData)=0, \"\", ROW(MissingData)-MIN(ROW(MissingData))+1), ROW(992:992))),\"\")","v":"MU7____OI_REC09YSVCS_N"},"","",null,"MU7____OI_REC09YSVCS_N","","MU7OIREC09YSVCSN","MU7____OI_REC09YSVCS_N",1,"______"]
[null,null,null,null,null,null,null,null,null,null,null,null,null,null,null,null,null,null,null,null,null,{"$f":"IFERROR(INDEX(MissingData, SMALL(IF(ISBLANK(MissingData)+ISERROR(MissingData)+LEN(MissingData)=0, \"\", ROW(MissingData)-MIN(ROW(MissingData))+1), ROW(993:993))),\"\")","v":"MU7____OI_REC09YOTHLOC_N"},"","",null,"MU7____OI_REC09YOTHLOC_N","","MU7OIREC09YOTHLOCN","MU7____OI_REC09YOTHLOC_N",1,"______"]
[null,null,null,null,null,null,null,null,null,null,null,null,null,null,null,null,null,null,null,null,null,{"$f":"IFERROR(INDEX(MissingData, SMALL(IF(ISBLANK(MissingData)+ISERROR(MissingData)+LEN(MissingData)=0, \"\", ROW(MissingData)-MIN(ROW(MissingData))+1), ROW(994:994))),\"\")","v":"MU7____OI_RF_N"},"","",null,"MU7____OI_RF_N","","MU7OIRFN","MU7____OI_RF_N",1,"______"]
[null,null,null,null,null,null,null,null,null,null,null,null,null,null,null,null,null,null,null,null,null,{"$f":"IFERROR(INDEX(MissingData, SMALL(IF(ISBLANK(MissingData)+ISERROR(MissingData)+LEN(MissingData)=0, \"\", ROW(MissingData)-MIN(ROW(MissingData))+1), ROW(995:995))),\"\")","v":"MU7____OI_SC_N"},"","",null,"MU7____OI_SC_N","","MU7OISCN","MU7____OI_SC_N",1,"______"]
[null,null,null,null,null,null,null,null,null,null,null,null,null,null,null,null,null,null,null,null,null,{"$f":"IFERROR(INDEX(MissingData, SMALL(IF(ISBLANK(MissingData)+ISERROR(MissingData)+LEN(MissingData)=0, \"\", ROW(MissingData)-MIN(ROW(MissingData))+1), ROW(996:996))),\"\")","v":"MU7____OI_SPL_N"},"","",null,"MU7____OI_SPL_N","","MU7OISPLN","MU7____OI_SPL_N",1,"______"]
[null,null,null,null,null,null,null,null,null,null,null,null,null,null,null,null,null,null,null,null,null,{"$f":"IFERROR(INDEX(MissingData, SMALL(IF(ISBLANK(MissingData)+ISERROR(MissingData)+LEN(MissingData)=0, \"\", ROW(MissingData)-MIN(ROW(MissingData))+1), ROW(997:997))),\"\")","v":"MU7____OI_SS_N"},"","",null,"MU7____OI_SS_N","","MU7OISSN","MU7____OI_SS_N",1,"______"]
[null,null,null,null,null,null,null,null,null,null,null,null,null,null,null,null,null,null,null,null,null,{"$f":"IFERROR(INDEX(MissingData, SMALL(IF(ISBLANK(MissingData)+ISERROR(MissingData)+LEN(MissingData)=0, \"\", ROW(MissingData)-MIN(ROW(MissingData))+1), ROW(998:998))),\"\")","v":"MU7____SLD_H_N"},"","",null,"MU7____SLD_H_N","","MU7SLDHN","MU7____SLD_H_N",1,"______"]
[null,null,null,null,null,null,null,null,null,null,null,null,null,null,null,null,null,null,null,null,null,{"$f":"IFERROR(INDEX(MissingData, SMALL(IF(ISBLANK(MissingData)+ISERROR(MissingData)+LEN(MissingData)=0, \"\", ROW(MissingData)-MIN(ROW(MissingData))+1), ROW(999:999))),\"\")","v":"MU7____SLD_REC10YSVCS_N"},"","",null,"MU7____SLD_REC10YSVCS_N","","MU7SLDREC10YSVCSN","MU7____SLD_REC10YSVCS_N",1,"______"]
[null,null,null,null,null,null,null,null,null,null,null,null,null,null,null,null,null,null,null,null,null,{"$f":"IFERROR(INDEX(MissingData, SMALL(IF(ISBLANK(MissingData)+ISERROR(MissingData)+LEN(MissingData)=0, \"\", ROW(MissingData)-MIN(ROW(MissingData))+1), ROW(1000:1000))),\"\")","v":"MU7____SLD_REC10YOTHLOC_N"},"","",null,"MU7____SLD_REC10YOTHLOC_N","","MU7SLDREC10YOTHLOCN","MU7____SLD_REC10YOTHLOC_N",1,"______"]
[null,null,null,null,null,null,null,null,null,null,null,null,null,null,null,null,null,null,null,null,null,{"$f":"IFERROR(INDEX(MissingData, SMALL(IF(ISBLANK(MissingData)+ISERROR(MissingData)+LEN(MissingData)=0, \"\", ROW(MissingData)-MIN(ROW(MissingData))+1), ROW(1001:1001))),\"\")","v":"MU7____SLD_REC09YSVCS_N"},"","",null,"MU7____SLD_REC09YSVCS_N","","MU7SLDREC09YSVCSN","MU7____SLD_REC09YSVCS_N",1,"______"]
[null,null,null,null,null,null,null,null,null,null,null,null,null,null,null,null,null,null,null,null,null,{"$f":"IFERROR(INDEX(MissingData, SMALL(IF(ISBLANK(MissingData)+ISERROR(MissingData)+LEN(MissingData)=0, \"\", ROW(MissingData)-MIN(ROW(MissingData))+1), ROW(1002:1002))),\"\")","v":"MU7____SLD_REC09YOTHLOC_N"},"","",null,"MU7____SLD_REC09YOTHLOC_N","","MU7SLDREC09YOTHLOCN","MU7____SLD_REC09YOTHLOC_N",1,"______"]
[null,null,null,null,null,null,null,null,null,null,null,null,null,null,null,null,null,null,null,null,null,{"$f":"IFERROR(INDEX(MissingData, SMALL(IF(ISBLANK(MissingData)+ISERROR(MissingData)+LEN(MissingData)=0, \"\", ROW(MissingData)-MIN(ROW(MissingData))+1), ROW(1003:1003))),\"\")","v":"MU7____SLD_RF_N"},"","",null,"MU7____SLD_RF_N","","MU7SLDRFN","MU7____SLD_RF_N",1,"______"]
[null,null,null,null,null,null,null,null,null,null,null,null,null,null,null,null,null,null,null,null,null,{"$f":"IFERROR(INDEX(MissingData, SMALL(IF(ISBLANK(MissingData)+ISERROR(MissingData)+LEN(MissingData)=0, \"\", ROW(MissingData)-MIN(ROW(MissingData))+1), ROW(1004:1004))),\"\")","v":"MU7____SLD_SC_N"},"","",null,"MU7____SLD_SC_N","","MU7SLDSCN","MU7____SLD_SC_N",1,"______"]
[null,null,null,null,null,null,null,null,null,null,null,null,null,null,null,null,null,null,null,null,null,{"$f":"IFERROR(INDEX(MissingData, SMALL(IF(ISBLANK(MissingData)+ISERROR(MissingData)+LEN(MissingData)=0, \"\", ROW(MissingData)-MIN(ROW(MissingData))+1), ROW(1005:1005))),\"\")","v":"MU7____SLD_SPL_N"},"","",null,"MU7____SLD_SPL_N","","MU7SLDSPLN","MU7____SLD_SPL_N",1,"______"]
[null,null,null,null,null,null,null,null,null,null,null,null,null,null,null,null,null,null,null,null,null,{"$f":"IFERROR(INDEX(MissingData, SMALL(IF(ISBLANK(MissingData)+ISERROR(MissingData)+LEN(MissingData)=0, \"\", ROW(MissingData)-MIN(ROW(MissingData))+1), ROW(1006:1006))),\"\")","v":"MU7____SLD_SS_N"},"","",null,"MU7____SLD_SS_N","","MU7SLDSSN","MU7____SLD_SS_N",1,"______"]
[null,null,null,null,null,null,null,null,null,null,null,null,null,null,null,null,null,null,null,null,null,{"$f":"IFERROR(INDEX(MissingData, SMALL(IF(ISBLANK(MissingData)+ISERROR(MissingData)+LEN(MissingData)=0, \"\", ROW(MissingData)-MIN(ROW(MissingData))+1), ROW(1007:1007))),\"\")","v":"MU7____SLI_H_N"},"","",null,"MU7____SLI_H_N","","MU7SLIHN","MU7____SLI_H_N",1,"______"]
[null,null,null,null,null,null,null,null,null,null,null,null,null,null,null,null,null,null,null,null,null,{"$f":"IFERROR(INDEX(MissingData, SMALL(IF(ISBLANK(MissingData)+ISERROR(MissingData)+LEN(MissingData)=0, \"\", ROW(MissingData)-MIN(ROW(MissingData))+1), ROW(1008:1008))),\"\")","v":"MU7____SLI_REC09YSVCS_N"},"","",null,"MU7____SLI_REC09YSVCS_N","","MU7SLIREC09YSVCSN","MU7____SLI_REC09YSVCS_N",1,"______"]
[null,null,null,null,null,null,null,null,null,null,null,null,null,null,null,null,null,null,null,null,null,{"$f":"IFERROR(INDEX(MissingData, SMALL(IF(ISBLANK(MissingData)+ISERROR(MissingData)+LEN(MissingData)=0, \"\", ROW(MissingData)-MIN(ROW(MissingData))+1), ROW(1009:1009))),\"\")","v":"MU7____SLI_REC09YOTHLOC_N"},"","",null,"MU7____SLI_REC09YOTHLOC_N","","MU7SLIREC09YOTHLOCN","MU7____SLI_REC09YOTHLOC_N",1,"______"]
[null,null,null,null,null,null,null,null,null,null,null,null,null,null,null,null,null,null,null,null,null,{"$f":"IFERROR(INDEX(MissingData, SMALL(IF(ISBLANK(MissingData)+ISERROR(MissingData)+LEN(MissingData)=0, \"\", ROW(MissingData)-MIN(ROW(MissingData))+1), ROW(1010:1010))),\"\")","v":"MU7____SLI_RF_N"},"","",null,"MU7____SLI_RF_N","","MU7SLIRFN","MU7____SLI_RF_N",1,"______"]
[null,null,null,null,null,null,null,null,null,null,null,null,null,null,null,null,null,null,null,null,null,{"$f":"IFERROR(INDEX(MissingData, SMALL(IF(ISBLANK(MissingData)+ISERROR(MissingData)+LEN(MissingData)=0, \"\", ROW(MissingData)-MIN(ROW(MissingData))+1), ROW(1011:1011))),\"\")","v":"MU7____SLI_SS_N"},"","",null,"MU7____SLI_SS_N","","MU7SLISSN","MU7____SLI_SS_N",1,"______"]
[null,null,null,null,null,null,null,null,null,null,null,null,null,null,null,null,null,null,null,null,null,{"$f":"IFERROR(INDEX(MissingData, SMALL(IF(ISBLANK(MissingData)+ISERROR(MissingData)+LEN(MissingData)=0, \"\", ROW(MissingData)-MIN(ROW(MissingData))+1), ROW(1012:1012))),\"\")","v":"MU7____TBI_H_N"},"","",null,"MU7____TBI_H_N","","MU7TBIHN","MU7____TBI_H_N",1,"______"]
[null,null,null,null,null,null,null,null,null,null,null,null,null,null,null,null,null,null,null,null,null,{"$f":"IFERROR(INDEX(MissingData, SMALL(IF(ISBLANK(MissingData)+ISERROR(MissingData)+LEN(MissingData)=0, \"\", ROW(MissingData)-MIN(ROW(MissingData))+1), ROW(1013:1013))),\"\")","v":"MU7____TBI_REC10YSVCS_N"},"","",null,"MU7____TBI_REC10YSVCS_N","","MU7TBIREC10YSVCSN","MU7____TBI_REC10YSVCS_N",1,"______"]
[null,null,null,null,null,null,null,null,null,null,null,null,null,null,null,null,null,null,null,null,null,{"$f":"IFERROR(INDEX(MissingData, SMALL(IF(ISBLANK(MissingData)+ISERROR(MissingData)+LEN(MissingData)=0, \"\", ROW(MissingData)-MIN(ROW(MissingData))+1), ROW(1014:1014))),\"\")","v":"MU7____TBI_REC10YOTHLOC_N"},"","",null,"MU7____TBI_REC10YOTHLOC_N","","MU7TBIREC10YOTHLOCN","MU7____TBI_REC10YOTHLOC_N",1,"______"]
[null,null,null,null,null,null,null,null,null,null,null,null,null,null,null,null,null,null,null,null,null,{"$f":"IFERROR(INDEX(MissingData, SMALL(IF(ISBLANK(MissingData)+ISERROR(MissingData)+LEN(MissingData)=0, \"\", ROW(MissingData)-MIN(ROW(MissingData))+1), ROW(1015:1015))),\"\")","v":"MU7____TBI_REC09YSVCS_N"},"","",null,"MU7____TBI_REC09YSVCS_N","","MU7TBIREC09YSVCSN","MU7____TBI_REC09YSVCS_N",1,"______"]
[null,null,null,null,null,null,null,null,null,null,null,null,null,null,null,null,null,null,null,null,null,{"$f":"IFERROR(INDEX(MissingData, SMALL(IF(ISBLANK(MissingData)+ISERROR(MissingData)+LEN(MissingData)=0, \"\", ROW(MissingData)-MIN(ROW(MissingData))+1), ROW(1016:1016))),\"\")","v":"MU7____TBI_REC09YOTHLOC_N"},"","",null,"MU7____TBI_REC09YOTHLOC_N","","MU7TBIREC09YOTHLOCN","MU7____TBI_REC09YOTHLOC_N",1,"______"]
[null,null,null,null,null,null,null,null,null,null,null,null,null,null,null,null,null,null,null,null,null,{"$f":"IFERROR(INDEX(MissingData, SMALL(IF(ISBLANK(MissingData)+ISERROR(MissingData)+LEN(MissingData)=0, \"\", ROW(MissingData)-MIN(ROW(MissingData))+1), ROW(1017:1017))),\"\")","v":"MU7____TBI_RF_N"},"","",null,"MU7____TBI_RF_N","","MU7TBIRFN","MU7____TBI_RF_N",1,"______"]
[null,null,null,null,null,null,null,null,null,null,null,null,null,null,null,null,null,null,null,null,null,{"$f":"IFERROR(INDEX(MissingData, SMALL(IF(ISBLANK(MissingData)+ISERROR(MissingData)+LEN(MissingData)=0, \"\", ROW(MissingData)-MIN(ROW(MissingData))+1), ROW(1018:1018))),\"\")","v":"MU7____TBI_SC_N"},"","",null,"MU7____TBI_SC_N","","MU7TBISCN","MU7____TBI_SC_N",1,"______"]
[null,null,null,null,null,null,null,null,null,null,null,null,null,null,null,null,null,null,null,null,null,{"$f":"IFERROR(INDEX(MissingData, SMALL(IF(ISBLANK(MissingData)+ISERROR(MissingData)+LEN(MissingData)=0, \"\", ROW(MissingData)-MIN(ROW(MissingData))+1), ROW(1019:1019))),\"\")","v":"MU7____TBI_SPL_N"},"","",null,"MU7____TBI_SPL_N","","MU7TBISPLN","MU7____TBI_SPL_N",1,"______"]
[null,null,null,null,null,null,null,null,null,null,null,null,null,null,null,null,null,null,null,null,null,{"$f":"IFERROR(INDEX(MissingData, SMALL(IF(ISBLANK(MissingData)+ISERROR(MissingData)+LEN(MissingData)=0, \"\", ROW(MissingData)-MIN(ROW(MissingData))+1), ROW(1020:1020))),\"\")","v":"MU7____TBI_SS_N"},"","",null,"MU7____TBI_SS_N","","MU7TBISSN","MU7____TBI_SS_N",1,"______"]
[null,null,null,null,null,null,null,null,null,null,null,null,null,null,null,null,null,null,null,null,null,{"$f":"IFERROR(INDEX(MissingData, SMALL(IF(ISBLANK(MissingData)+ISERROR(MissingData)+LEN(MissingData)=0, \"\", ROW(MissingData)-MIN(ROW(MissingData))+1), ROW(1021:1021))),\"\")","v":"MU7____VI_H_N"},"","",null,"MU7____VI_H_N","","MU7VIHN","MU7____VI_H_N",1,"______"]
[null,null,null,null,null,null,null,null,null,null,null,null,null,null,null,null,null,null,null,null,null,{"$f":"IFERROR(INDEX(MissingData, SMALL(IF(ISBLANK(MissingData)+ISERROR(MissingData)+LEN(MissingData)=0, \"\", ROW(MissingData)-MIN(ROW(MissingData))+1), ROW(1022:1022))),\"\")","v":"MU7____VI_REC09YSVCS_N"},"","",null,"MU7____VI_REC09YSVCS_N","","MU7VIREC09YSVCSN","MU7____VI_REC09YSVCS_N",1,"______"]
[null,null,null,null,null,null,null,null,null,null,null,null,null,null,null,null,null,null,null,null,null,{"$f":"IFERROR(INDEX(MissingData, SMALL(IF(ISBLANK(MissingData)+ISERROR(MissingData)+LEN(MissingData)=0, \"\", ROW(MissingData)-MIN(ROW(MissingData))+1), ROW(1023:1023))),\"\")","v":"MU7____VI_REC09YOTHLOC_N"},"","",null,"MU7____VI_REC09YOTHLOC_N","","MU7VIREC09YOTHLOCN","MU7____VI_REC09YOTHLOC_N",1,"______"]
[null,null,null,null,null,null,null,null,null,null,null,null,null,null,null,null,null,null,null,null,null,{"$f":"IFERROR(INDEX(MissingData, SMALL(IF(ISBLANK(MissingData)+ISERROR(MissingData)+LEN(MissingData)=0, \"\", ROW(MissingData)-MIN(ROW(MissingData))+1), ROW(1024:1024))),\"\")","v":"MU7____VI_RF_N"},"","",null,"MU7____VI_RF_N","","MU7VIRFN","MU7____VI_RF_N",1,"______"]
[null,null,null,null,null,null,null,null,null,null,null,null,null,null,null,null,null,null,null,null,null,{"$f":"IFERROR(INDEX(MissingData, SMALL(IF(ISBLANK(MissingData)+ISERROR(MissingData)+LEN(MissingData)=0, \"\", ROW(MissingData)-MIN(ROW(MissingData))+1), ROW(1025:1025))),\"\")","v":"MU7____VI_SC_N"},{"$f":"IF(LEN(AA1038)=0,\"\",IF(COUNTIF(CurrentListing_C089,AA1038)>1,AE1038,\"\"))","v":""},{"$f":"IF(LEN(AA1038)=0,\"\",IF(ISNA(MATCH(AA1038,MasterListing,0)),AE1038,\"\"))","v":""},null,{"$f":"IF(LEN(AC1038)=0,\"\",IF(ISNA(MATCH(AB1038,CurrentListing_C089,0)),AC1038,\"\"))","v":"MU7____VI_SC_N"},"","MU7VISCN","MU7____VI_SC_N",1,"______"]
[null,null,null,null,null,null,null,null,null,null,null,null,null,null,null,null,null,null,null,null,null,{"$f":"IFERROR(INDEX(MissingData, SMALL(IF(ISBLANK(MissingData)+ISERROR(MissingData)+LEN(MissingData)=0, \"\", ROW(MissingData)-MIN(ROW(MissingData))+1), ROW(1026:1026))),\"\")","v":"MU7____VI_SPL_N"},"","",null,"MU7____VI_SPL_N",{"$f":"G1039&H1039&I1039&J1039&K1039&Q1039&R1039","v":""},"MU7VISPLN","MU7____VI_SPL_N",1,{"$f":"G1039&\"_\"&H1039&\"_\"&I1039&\"_\"&J1039&\"_\"&K1039&\"_\"&Q1039&\"_\"&R1039","v":"______"}]
[null,null,null,null,null,null,null,null,null,null,null,null,null,null,null,null,null,null,null,null,null,{"$f":"IFERROR(INDEX(MissingData, SMALL(IF(ISBLANK(MissingData)+ISERROR(MissingData)+LEN(MissingData)=0, \"\", ROW(MissingData)-MIN(ROW(MissingData))+1), ROW(1027:1027))),\"\")","v":"MU7____VI_SS_N"},"","",null,"MU7____VI_SS_N","","MU7VISSN","MU7____VI_SS_N",{"$f":"IF(LEN(V1040)>0,1,0)","v":1},"______"]
[null,null,null,null,null,null,null,null,null,null,null,null,null,null,null,null,null,null,null,null,null,{"$f":"IFERROR(INDEX(MissingData, SMALL(IF(ISBLANK(MissingData)+ISERROR(MissingData)+LEN(MissingData)=0, \"\", ROW(MissingData)-MIN(ROW(MissingData))+1), ROW(1028:1028))),\"\")","v":"PI7____AUT_H_N"},"","",null,"PI7____AUT_H_N","","PI7AUTHN","PI7____AUT_H_N",1,"______"]
[null,null,null,null,null,null,null,null,null,null,null,null,null,null,null,null,null,null,null,null,null,{"$f":"IFERROR(INDEX(MissingData, SMALL(IF(ISBLANK(MissingData)+ISERROR(MissingData)+LEN(MissingData)=0, \"\", ROW(MissingData)-MIN(ROW(MissingData))+1), ROW(1029:1029))),\"\")","v":"PI7____AUT_REC10YSVCS_N"},"","",null,"PI7____AUT_REC10YSVCS_N","","PI7AUTREC10YSVCSN","PI7____AUT_REC10YSVCS_N",1,"______"]
[null,null,null,null,null,null,null,null,null,null,null,null,null,null,null,null,null,null,null,null,null,{"$f":"IFERROR(INDEX(MissingData, SMALL(IF(ISBLANK(MissingData)+ISERROR(MissingData)+LEN(MissingData)=0, \"\", ROW(MissingData)-MIN(ROW(MissingData))+1), ROW(1030:1030))),\"\")","v":"PI7____AUT_REC09YSVCS_N"},"","",null,"PI7____AUT_REC09YSVCS_N","","PI7AUTREC09YSVCSN","PI7____AUT_REC09YSVCS_N",1,"______"]
[null,null,null,null,null,null,null,null,null,null,null,null,null,null,null,null,null,null,null,null,null,{"$f":"IFERROR(INDEX(MissingData, SMALL(IF(ISBLANK(MissingData)+ISERROR(MissingData)+LEN(MissingData)=0, \"\", ROW(MissingData)-MIN(ROW(MissingData))+1), ROW(1031:1031))),\"\")","v":"PI7____AUT_REC09YOTHLOC_N"},"","",null,"PI7____AUT_REC09YOTHLOC_N","","PI7AUTREC09YOTHLOCN","PI7____AUT_REC09YOTHLOC_N",1,"______"]
[null,null,null,null,null,null,null,null,null,null,null,null,null,null,null,null,null,null,null,null,null,{"$f":"IFERROR(INDEX(MissingData, SMALL(IF(ISBLANK(MissingData)+ISERROR(MissingData)+LEN(MissingData)=0, \"\", ROW(MissingData)-MIN(ROW(MissingData))+1), ROW(1032:1032))),\"\")","v":"PI7____AUT_RF_N"},"","",null,"PI7____AUT_RF_N","","PI7AUTRFN","PI7____AUT_RF_N",1,"______"]
[null,null,null,null,null,null,null,null,null,null,null,null,null,null,null,null,null,null,null,null,null,{"$f":"IFERROR(INDEX(MissingData, SMALL(IF(ISBLANK(MissingData)+ISERROR(MissingData)+LEN(MissingData)=0, \"\", ROW(MissingData)-MIN(ROW(MissingData))+1), ROW(1033:1033))),\"\")","v":"PI7____AUT_SPL_N"},"","",null,"PI7____AUT_SPL_N","","PI7AUTSPLN","PI7____AUT_SPL_N",1,"______"]
[null,null,null,null,null,null,null,null,null,null,null,null,null,null,null,null,null,null,null,null,null,{"$f":"IFERROR(INDEX(MissingData, SMALL(IF(ISBLANK(MissingData)+ISERROR(MissingData)+LEN(MissingData)=0, \"\", ROW(MissingData)-MIN(ROW(MissingData))+1), ROW(1034:1034))),\"\")","v":"PI7____AUT_SS_N"},"","",null,"PI7____AUT_SS_N","","PI7AUTSSN","PI7____AUT_SS_N",1,"______"]
[null,null,null,null,null,null,null,null,null,null,null,null,null,null,null,null,null,null,null,null,null,{"$f":"IFERROR(INDEX(MissingData, SMALL(IF(ISBLANK(MissingData)+ISERROR(MissingData)+LEN(MissingData)=0, \"\", ROW(MissingData)-MIN(ROW(MissingData))+1), ROW(1035:1035))),\"\")","v":"PI7____DB_H_N"},"","",null,"PI7____DB_H_N","","PI7DBHN","PI7____DB_H_N",1,"______"]
[null,null,null,null,null,null,null,null,null,null,null,null,null,null,null,null,null,null,null,null,null,{"$f":"IFERROR(INDEX(MissingData, SMALL(IF(ISBLANK(MissingData)+ISERROR(MissingData)+LEN(MissingData)=0, \"\", ROW(MissingData)-MIN(ROW(MissingData))+1), ROW(1036:1036))),\"\")","v":"PI7____DB_REC10YSVCS_N"},"","",null,"PI7____DB_REC10YSVCS_N","","PI7DBREC10YSVCSN","PI7____DB_REC10YSVCS_N",1,"______"]
[null,null,null,null,null,null,null,null,null,null,null,null,null,null,null,null,null,null,null,null,null,{"$f":"IFERROR(INDEX(MissingData, SMALL(IF(ISBLANK(MissingData)+ISERROR(MissingData)+LEN(MissingData)=0, \"\", ROW(MissingData)-MIN(ROW(MissingData))+1), ROW(1037:1037))),\"\")","v":"PI7____DB_REC10YOTHLOC_N"},"","",null,"PI7____DB_REC10YOTHLOC_N","","PI7DBREC10YOTHLOCN","PI7____DB_REC10YOTHLOC_N",1,"______"]
[null,null,null,null,null,null,null,null,null,null,null,null,null,null,null,null,null,null,null,null,null,{"$f":"IFERROR(INDEX(MissingData, SMALL(IF(ISBLANK(MissingData)+ISERROR(MissingData)+LEN(MissingData)=0, \"\", ROW(MissingData)-MIN(ROW(MissingData))+1), ROW(1038:1038))),\"\")","v":"PI7____DB_REC09YSVCS_N"},"","",null,"PI7____DB_REC09YSVCS_N","","PI7DBREC09YSVCSN","PI7____DB_REC09YSVCS_N",1,"______"]
[null,null,null,null,null,null,null,null,null,null,null,null,null,null,null,null,null,null,null,null,null,{"$f":"IFERROR(INDEX(MissingData, SMALL(IF(ISBLANK(MissingData)+ISERROR(MissingData)+LEN(MissingData)=0, \"\", ROW(MissingData)-MIN(ROW(MissingData))+1), ROW(1039:1039))),\"\")","v":"PI7____DB_REC09YOTHLOC_N"},"","",null,"PI7____DB_REC09YOTHLOC_N","","PI7DBREC09YOTHLOCN","PI7____DB_REC09YOTHLOC_N",1,"______"]
[null,null,null,null,null,null,null,null,null,null,null,null,null,null,null,null,null,null,null,null,null,{"$f":"IFERROR(INDEX(MissingData, SMALL(IF(ISBLANK(MissingData)+ISERROR(MissingData)+LEN(MissingData)=0, \"\", ROW(MissingData)-MIN(ROW(MissingData))+1), ROW(1040:1040))),\"\")","v":"PI7____DB_RF_N"},"","",null,"PI7____DB_RF_N","","PI7DBRFN","PI7____DB_RF_N",1,"______"]
[null,null,null,null,null,null,null,null,null,null,null,null,null,null,null,null,null,null,null,null,null,{"$f":"IFERROR(INDEX(MissingData, SMALL(IF(ISBLANK(MissingData)+ISERROR(MissingData)+LEN(MissingData)=0, \"\", ROW(MissingData)-MIN(ROW(MissingData))+1), ROW(1041:1041))),\"\")","v":"PI7____DB_SC_N"},"","",null,"PI7____DB_SC_N","","PI7DBSCN","PI7____DB_SC_N",1,"______"]
[null,null,null,null,null,null,null,null,null,null,null,null,null,null,null,null,null,null,null,null,null,{"$f":"IFERROR(INDEX(MissingData, SMALL(IF(ISBLANK(MissingData)+ISERROR(MissingData)+LEN(MissingData)=0, \"\", ROW(MissingData)-MIN(ROW(MissingData))+1), ROW(1042:1042))),\"\")","v":"PI7____DB_SPL_N"},"","",null,"PI7____DB_SPL_N","","PI7DBSPLN","PI7____DB_SPL_N",1,"______"]
[null,null,null,null,null,null,null,null,null,null,null,null,null,null,null,null,null,null,null,null,null,{"$f":"IFERROR(INDEX(MissingData, SMALL(IF(ISBLANK(MissingData)+ISERROR(MissingData)+LEN(MissingData)=0, \"\", ROW(MissingData)-MIN(ROW(MissingData))+1), ROW(1043:1043))),\"\")","v":"PI7____DB_SS_N"},"","",null,"PI7____DB_SS_N","","PI7DBSSN","PI7____DB_SS_N",1,"______"]
[null,null,null,null,null,null,null,null,null,null,null,null,null,null,null,null,null,null,null,null,null,{"$f":"IFERROR(INDEX(MissingData, SMALL(IF(ISBLANK(MissingData)+ISERROR(MissingData)+LEN(MissingData)=0, \"\", ROW(MissingData)-MIN(ROW(MissingData))+1), ROW(1044:1044))),\"\")","v":"PI7____DD_H_N"},"","",null,"PI7____DD_H_N","","PI7DDHN","PI7____DD_H_N",1,"______"]
[null,null,null,null,null,null,null,null,null,null,null,null,null,null,null,null,null,null,null,null,null,{"$f":"IFERROR(INDEX(MissingData, SMALL(IF(ISBLANK(MissingData)+ISERROR(MissingData)+LEN(MissingData)=0, \"\", ROW(MissingData)-MIN(ROW(MissingData))+1), ROW(1045:1045))),\"\")","v":"PI7____DD_REC10YSVCS_N"},"","",null,"PI7____DD_REC10YSVCS_N","","PI7DDREC10YSVCSN","PI7____DD_REC10YSVCS_N",1,"______"]
[null,null,null,null,null,null,null,null,null,null,null,null,null,null,null,null,null,null,null,null,null,{"$f":"IFERROR(INDEX(MissingData, SMALL(IF(ISBLANK(MissingData)+ISERROR(MissingData)+LEN(MissingData)=0, \"\", ROW(MissingData)-MIN(ROW(MissingData))+1), ROW(1046:1046))),\"\")","v":"PI7____DD_REC09YSVCS_N"},"","",null,"PI7____DD_REC09YSVCS_N","","PI7DDREC09YSVCSN","PI7____DD_REC09YSVCS_N",1,"______"]
[null,null,null,null,null,null,null,null,null,null,null,null,null,null,null,null,null,null,null,null,null,{"$f":"IFERROR(INDEX(MissingData, SMALL(IF(ISBLANK(MissingData)+ISERROR(MissingData)+LEN(MissingData)=0, \"\", ROW(MissingData)-MIN(ROW(MissingData))+1), ROW(1047:1047))),\"\")","v":"PI7____DD_REC09YOTHLOC_N"},"","",null,"PI7____DD_REC09YOTHLOC_N","","PI7DDREC09YOTHLOCN","PI7____DD_REC09YOTHLOC_N",1,"______"]
[null,null,null,null,null,null,null,null,null,null,null,null,null,null,null,null,null,null,null,null,null,{"$f":"IFERROR(INDEX(MissingData, SMALL(IF(ISBLANK(MissingData)+ISERROR(MissingData)+LEN(MissingData)=0, \"\", ROW(MissingData)-MIN(ROW(MissingData))+1), ROW(1048:1048))),\"\")","v":"PI7____DD_RF_N"},"","",null,"PI7____DD_RF_N","","PI7DDRFN","PI7____DD_RF_N",1,"______"]
[null,null,null,null,null,null,null,null,null,null,null,null,null,null,null,null,null,null,null,null,null,{"$f":"IFERROR(INDEX(MissingData, SMALL(IF(ISBLANK(MissingData)+ISERROR(MissingData)+LEN(MissingData)=0, \"\", ROW(MissingData)-MIN(ROW(MissingData))+1), ROW(1049:1049))),\"\")","v":"PI7____DD_SC_N"},"","",null,"PI7____DD_SC_N","","PI7DDSCN","PI7____DD_SC_N",1,"______"]
[null,null,null,null,null,null,null,null,null,null,null,null,null,null,null,null,null,null,null,null,null,{"$f":"IFERROR(INDEX(MissingData, SMALL(IF(ISBLANK(MissingData)+ISERROR(MissingData)+LEN(MissingData)=0, \"\", ROW(MissingData)-MIN(ROW(MissingData))+1), ROW(1050:1050))),\"\")","v":"PI7____DD_SPL_N"},"","",null,"PI7____DD_SPL_N","","PI7DDSPLN","PI7____DD_SPL_N",1,"______"]
[null,null,null,null,null,null,null,null,null,null,null,null,null,null,null,null,null,null,null,null,null,{"$f":"IFERROR(INDEX(MissingData, SMALL(IF(ISBLANK(MissingData)+ISERROR(MissingData)+LEN(MissingData)=0, \"\", ROW(MissingData)-MIN(ROW(MissingData))+1), ROW(1051:1051))),\"\")","v":"PI7____DD_SS_N"},"","",null,"PI7____DD_SS_N","","PI7DDSSN","PI7____DD_SS_N",1,"______"]
[null,null,null,null,null,null,null,null,null,null,null,null,null,null,null,null,null,null,null,null,null,{"$f":"IFERROR(INDEX(MissingData, SMALL(IF(ISBLANK(MissingData)+ISERROR(MissingData)+LEN(MissingData)=0, \"\", ROW(MissingData)-MIN(ROW(MissingData))+1), ROW(1052:1052))),\"\")","v":"PI7____EMN_H_N"},"","",null,"PI7____EMN_H_N","","PI7EMNHN","PI7____EMN_H_N",1,"______"]
[null,null,null,null,null,null,null,null,null,null,null,null,null,null,null,null,null,null,null,null,null,{"$f":"IFERROR(INDEX(MissingData, SMALL(IF(ISBLANK(MissingData)+ISERROR(MissingData)+LEN(MissingData)=0, \"\", ROW(MissingData)-MIN(ROW(MissingData))+1), ROW(1053:1053))),\"\")","v":"PI7____EMN_REC10YSVCS_N"},"","",null,"PI7____EMN_REC10YSVCS_N","","PI7EMNREC10YSVCSN","PI7____EMN_REC10YSVCS_N",1,"______"]
[null,null,null,null,null,null,null,null,null,null,null,null,null,null,null,null,null,null,null,null,null,{"$f":"IFERROR(INDEX(MissingData, SMALL(IF(ISBLANK(MissingData)+ISERROR(MissingData)+LEN(MissingData)=0, \"\", ROW(MissingData)-MIN(ROW(MissingData))+1), ROW(1054:1054))),\"\")","v":"PI7____EMN_REC10YOTHLOC_N"},"","",null,"PI7____EMN_REC10YOTHLOC_N","","PI7EMNREC10YOTHLOCN","PI7____EMN_REC10YOTHLOC_N",1,"______"]
[null,null,null,null,null,null,null,null,null,null,null,null,null,null,null,null,null,null,null,null,null,{"$f":"IFERROR(INDEX(MissingData, SMALL(IF(ISBLANK(MissingData)+ISERROR(MissingData)+LEN(MissingData)=0, \"\", ROW(MissingData)-MIN(ROW(MissingData))+1), ROW(1055:1055))),\"\")","v":"PI7____EMN_REC09YSVCS_N"},"","",null,"PI7____EMN_REC09YSVCS_N","","PI7EMNREC09YSVCSN","PI7____EMN_REC09YSVCS_N",1,"______"]
[null,null,null,null,null,null,null,null,null,null,null,null,null,null,null,null,null,null,null,null,null,{"$f":"IFERROR(INDEX(MissingData, SMALL(IF(ISBLANK(MissingData)+ISERROR(MissingData)+LEN(MissingData)=0, \"\", ROW(MissingData)-MIN(ROW(MissingData))+1), ROW(1056:1056))),\"\")","v":"PI7____EMN_REC09YOTHLOC_N"},"","",null,"PI7____EMN_REC09YOTHLOC_N","","PI7EMNREC09YOTHLOCN","PI7____EMN_REC09YOTHLOC_N",1,"______"]
[null,null,null,null,null,null,null,null,null,null,null,null,null,null,null,null,null,null,null,null,null,{"$f":"IFERROR(INDEX(MissingData, SMALL(IF(ISBLANK(MissingData)+ISERROR(MissingData)+LEN(MissingData)=0, \"\", ROW(MissingData)-MIN(ROW(MissingData))+1), ROW(1057:1057))),\"\")","v":"PI7____EMN_RF_N"},"","",null,"PI7____EMN_RF_N","","PI7EMNRFN","PI7____EMN_RF_N",1,"______"]
[null,null,null,null,null,null,null,null,null,null,null,null,null,null,null,null,null,null,null,null,null,{"$f":"IFERROR(INDEX(MissingData, SMALL(IF(ISBLANK(MissingData)+ISERROR(MissingData)+LEN(MissingData)=0, \"\", ROW(MissingData)-MIN(ROW(MissingData))+1), ROW(1058:1058))),\"\")","v":"PI7____EMN_SC_N"},"","",null,"PI7____EMN_SC_N","","PI7EMNSCN","PI7____EMN_SC_N",1,"______"]
[null,null,null,null,null,null,null,null,null,null,null,null,null,null,null,null,null,null,null,null,null,{"$f":"IFERROR(INDEX(MissingData, SMALL(IF(ISBLANK(MissingData)+ISERROR(MissingData)+LEN(MissingData)=0, \"\", ROW(MissingData)-MIN(ROW(MissingData))+1), ROW(1059:1059))),\"\")","v":"PI7____EMN_SPL_N"},"","",null,"PI7____EMN_SPL_N","","PI7EMNSPLN","PI7____EMN_SPL_N",1,"______"]
[null,null,null,null,null,null,null,null,null,null,null,null,null,null,null,null,null,null,null,null,null,{"$f":"IFERROR(INDEX(MissingData, SMALL(IF(ISBLANK(MissingData)+ISERROR(MissingData)+LEN(MissingData)=0, \"\", ROW(MissingData)-MIN(ROW(MissingData))+1), ROW(1060:1060))),\"\")","v":"PI7____EMN_SS_N"},"","",null,"PI7____EMN_SS_N","","PI7EMNSSN","PI7____EMN_SS_N",1,"______"]
[null,null,null,null,null,null,null,null,null,null,null,null,null,null,null,null,null,null,null,null,null,{"$f":"IFERROR(INDEX(MissingData, SMALL(IF(ISBLANK(MissingData)+ISERROR(MissingData)+LEN(MissingData)=0, \"\", ROW(MissingData)-MIN(ROW(MissingData))+1), ROW(1061:1061))),\"\")","v":"PI7____HI_H_N"},"","",null,"PI7____HI_H_N","","PI7HIHN","PI7____HI_H_N",1,"______"]
[null,null,null,null,null,null,null,null,null,null,null,null,null,null,null,null,null,null,null,null,null,{"$f":"IFERROR(INDEX(MissingData, SMALL(IF(ISBLANK(MissingData)+ISERROR(MissingData)+LEN(MissingData)=0, \"\", ROW(MissingData)-MIN(ROW(MissingData))+1), ROW(1062:1062))),\"\")","v":"PI7____HI_REC10YSVCS_N"},"","",null,"PI7____HI_REC10YSVCS_N","","PI7HIREC10YSVCSN","PI7____HI_REC10YSVCS_N",1,"______"]
[null,null,null,null,null,null,null,null,null,null,null,null,null,null,null,null,null,null,null,null,null,{"$f":"IFERROR(INDEX(MissingData, SMALL(IF(ISBLANK(MissingData)+ISERROR(MissingData)+LEN(MissingData)=0, \"\", ROW(MissingData)-MIN(ROW(MissingData))+1), ROW(1063:1063))),\"\")","v":"PI7____HI_REC10YOTHLOC_N"},"","",null,"PI7____HI_REC10YOTHLOC_N","","PI7HIREC10YOTHLOCN","PI7____HI_REC10YOTHLOC_N",1,"______"]
[null,null,null,null,null,null,null,null,null,null,null,null,null,null,null,null,null,null,null,null,null,{"$f":"IFERROR(INDEX(MissingData, SMALL(IF(ISBLANK(MissingData)+ISERROR(MissingData)+LEN(MissingData)=0, \"\", ROW(MissingData)-MIN(ROW(MissingData))+1), ROW(1064:1064))),\"\")","v":"PI7____HI_REC09YSVCS_N"},"","",null,"PI7____HI_REC09YSVCS_N","","PI7HIREC09YSVCSN","PI7____HI_REC09YSVCS_N",1,"______"]
[null,null,null,null,null,null,null,null,null,null,null,null,null,null,null,null,null,null,null,null,null,{"$f":"IFERROR(INDEX(MissingData, SMALL(IF(ISBLANK(MissingData)+ISERROR(MissingData)+LEN(MissingData)=0, \"\", ROW(MissingData)-MIN(ROW(MissingData))+1), ROW(1065:1065))),\"\")","v":"PI7____HI_REC09YOTHLOC_N"},"","",null,"PI7____HI_REC09YOTHLOC_N","","PI7HIREC09YOTHLOCN","PI7____HI_REC09YOTHLOC_N",1,"______"]
[null,null,null,null,null,null,null,null,null,null,null,null,null,null,null,null,null,null,null,null,null,{"$f":"IFERROR(INDEX(MissingData, SMALL(IF(ISBLANK(MissingData)+ISERROR(MissingData)+LEN(MissingData)=0, \"\", ROW(MissingData)-MIN(ROW(MissingData))+1), ROW(1066:1066))),\"\")","v":"PI7____HI_RF_N"},"","",null,"PI7____HI_RF_N","","PI7HIRFN","PI7____HI_RF_N",1,"______"]
[null,null,null,null,null,null,null,null,null,null,null,null,null,null,null,null,null,null,null,null,null,{"$f":"IFERROR(INDEX(MissingData, SMALL(IF(ISBLANK(MissingData)+ISERROR(MissingData)+LEN(MissingData)=0, \"\", ROW(MissingData)-MIN(ROW(MissingData))+1), ROW(1067:1067))),\"\")","v":"PI7____HI_SC_N"},"","",null,"PI7____HI_SC_N","","PI7HISCN","PI7____HI_SC_N",1,"______"]
[null,null,null,null,null,null,null,null,null,null,null,null,null,null,null,null,null,null,null,null,null,{"$f":"IFERROR(INDEX(MissingData, SMALL(IF(ISBLANK(MissingData)+ISERROR(MissingData)+LEN(MissingData)=0, \"\", ROW(MissingData)-MIN(ROW(MissingData))+1), ROW(1068:1068))),\"\")","v":"PI7____HI_SPL_N"},"","",null,"PI7____HI_SPL_N","","PI7HISPLN","PI7____HI_SPL_N",1,"______"]
[null,null,null,null,null,null,null,null,null,null,null,null,null,null,null,null,null,null,null,null,null,{"$f":"IFERROR(INDEX(MissingData, SMALL(IF(ISBLANK(MissingData)+ISERROR(MissingData)+LEN(MissingData)=0, \"\", ROW(MissingData)-MIN(ROW(MissingData))+1), ROW(1069:1069))),\"\")","v":"PI7____HI_SS_N"},"","",null,"PI7____HI_SS_N","","PI7HISSN","PI7____HI_SS_N",1,"______"]
[null,null,null,null,null,null,null,null,null,null,null,null,null,null,null,null,null,null,null,null,null,{"$f":"IFERROR(INDEX(MissingData, SMALL(IF(ISBLANK(MissingData)+ISERROR(MissingData)+LEN(MissingData)=0, \"\", ROW(MissingData)-MIN(ROW(MissingData))+1), ROW(1070:1070))),\"\")","v":"PI7____MD_H_N"},"","",null,"PI7____MD_H_N","","PI7MDHN","PI7____MD_H_N",1,"______"]
[null,null,null,null,null,null,null,null,null,null,null,null,null,null,null,null,null,null,null,null,null,{"$f":"IFERROR(INDEX(MissingData, SMALL(IF(ISBLANK(MissingData)+ISERROR(MissingData)+LEN(MissingData)=0, \"\", ROW(MissingData)-MIN(ROW(MissingData))+1), ROW(1071:1071))),\"\")","v":"PI7____MD_REC10YSVCS_N"},"","",null,"PI7____MD_REC10YSVCS_N","","PI7MDREC10YSVCSN","PI7____MD_REC10YSVCS_N",1,"______"]
[null,null,null,null,null,null,null,null,null,null,null,null,null,null,null,null,null,null,null,null,null,{"$f":"IFERROR(INDEX(MissingData, SMALL(IF(ISBLANK(MissingData)+ISERROR(MissingData)+LEN(MissingData)=0, \"\", ROW(MissingData)-MIN(ROW(MissingData))+1), ROW(1072:1072))),\"\")","v":"PI7____MD_REC10YOTHLOC_N"},"","",null,"PI7____MD_REC10YOTHLOC_N","","PI7MDREC10YOTHLOCN","PI7____MD_REC10YOTHLOC_N",1,"______"]
[null,null,null,null,null,null,null,null,null,null,null,null,null,null,null,null,null,null,null,null,null,{"$f":"IFERROR(INDEX(MissingData, SMALL(IF(ISBLANK(MissingData)+ISERROR(MissingData)+LEN(MissingData)=0, \"\", ROW(MissingData)-MIN(ROW(MissingData))+1), ROW(1073:1073))),\"\")","v":"PI7____MD_REC09YSVCS_N"},"","",null,"PI7____MD_REC09YSVCS_N","","PI7MDREC09YSVCSN","PI7____MD_REC09YSVCS_N",1,"______"]
[null,null,null,null,null,null,null,null,null,null,null,null,null,null,null,null,null,null,null,null,null,{"$f":"IFERROR(INDEX(MissingData, SMALL(IF(ISBLANK(MissingData)+ISERROR(MissingData)+LEN(MissingData)=0, \"\", ROW(MissingData)-MIN(ROW(MissingData))+1), ROW(1074:1074))),\"\")","v":"PI7____MD_REC09YOTHLOC_N"},"","",null,"PI7____MD_REC09YOTHLOC_N","","PI7MDREC09YOTHLOCN","PI7____MD_REC09YOTHLOC_N",1,"______"]
[null,null,null,null,null,null,null,null,null,null,null,null,null,null,null,null,null,null,null,null,null,{"$f":"IFERROR(INDEX(MissingData, SMALL(IF(ISBLANK(MissingData)+ISERROR(MissingData)+LEN(MissingData)=0, \"\", ROW(MissingData)-MIN(ROW(MissingData))+1), ROW(1075:1075))),\"\")","v":"PI7____MD_RF_N"},"","",null,"PI7____MD_RF_N","","PI7MDRFN","PI7____MD_RF_N",1,"______"]
[null,null,null,null,null,null,null,null,null,null,null,null,null,null,null,null,null,null,null,null,null,{"$f":"IFERROR(INDEX(MissingData, SMALL(IF(ISBLANK(MissingData)+ISERROR(MissingData)+LEN(MissingData)=0, \"\", ROW(MissingData)-MIN(ROW(MissingData))+1), ROW(1076:1076))),\"\")","v":"PI7____MD_SC_N"},"","",null,"PI7____MD_SC_N","","PI7MDSCN","PI7____MD_SC_N",1,"______"]
[null,null,null,null,null,null,null,null,null,null,null,null,null,null,null,null,null,null,null,null,null,{"$f":"IFERROR(INDEX(MissingData, SMALL(IF(ISBLANK(MissingData)+ISERROR(MissingData)+LEN(MissingData)=0, \"\", ROW(MissingData)-MIN(ROW(MissingData))+1), ROW(1077:1077))),\"\")","v":"PI7____MD_SPL_N"},"","",null,"PI7____MD_SPL_N","","PI7MDSPLN","PI7____MD_SPL_N",1,"______"]
[null,null,null,null,null,null,null,null,null,null,null,null,null,null,null,null,null,null,null,null,null,{"$f":"IFERROR(INDEX(MissingData, SMALL(IF(ISBLANK(MissingData)+ISERROR(MissingData)+LEN(MissingData)=0, \"\", ROW(MissingData)-MIN(ROW(MissingData))+1), ROW(1078:1078))),\"\")","v":"PI7____MD_SS_N"},"","",null,"PI7____MD_SS_N","","PI7MDSSN","PI7____MD_SS_N",1,"______"]
[null,null,null,null,null,null,null,null,null,null,null,null,null,null,null,null,null,null,null,null,null,{"$f":"IFERROR(INDEX(MissingData, SMALL(IF(ISBLANK(MissingData)+ISERROR(MissingData)+LEN(MissingData)=0, \"\", ROW(MissingData)-MIN(ROW(MissingData))+1), ROW(1079:1079))),\"\")","v":"PI7____ID_H_N"},"","",null,"PI7____ID_H_N","","PI7IDHN","PI7____ID_H_N",1,"______"]
[null,null,null,null,null,null,null,null,null,null,null,null,null,null,null,null,null,null,null,null,null,{"$f":"IFERROR(INDEX(MissingData, SMALL(IF(ISBLANK(MissingData)+ISERROR(MissingData)+LEN(MissingData)=0, \"\", ROW(MissingData)-MIN(ROW(MissingData))+1), ROW(1080:1080))),\"\")","v":"PI7____ID_REC10YSVCS_N"},"","",null,"PI7____ID_REC10YSVCS_N","","PI7IDREC10YSVCSN","PI7____ID_REC10YSVCS_N",1,"______"]
[null,null,null,null,null,null,null,null,null,null,null,null,null,null,null,null,null,null,null,null,null,{"$f":"IFERROR(INDEX(MissingData, SMALL(IF(ISBLANK(MissingData)+ISERROR(MissingData)+LEN(MissingData)=0, \"\", ROW(MissingData)-MIN(ROW(MissingData))+1), ROW(1081:1081))),\"\")","v":"PI7____ID_REC10YOTHLOC_N"},"","",null,"PI7____ID_REC10YOTHLOC_N","","PI7IDREC10YOTHLOCN","PI7____ID_REC10YOTHLOC_N",1,"______"]
[null,null,null,null,null,null,null,null,null,null,null,null,null,null,null,null,null,null,null,null,null,{"$f":"IFERROR(INDEX(MissingData, SMALL(IF(ISBLANK(MissingData)+ISERROR(MissingData)+LEN(MissingData)=0, \"\", ROW(MissingData)-MIN(ROW(MissingData))+1), ROW(1082:1082))),\"\")","v":"PI7____ID_REC09YSVCS_N"},"","",null,"PI7____ID_REC09YSVCS_N","","PI7IDREC09YSVCSN","PI7____ID_REC09YSVCS_N",1,"______"]
[null,null,null,null,null,null,null,null,null,null,null,null,null,null,null,null,null,null,null,null,null,{"$f":"IFERROR(INDEX(MissingData, SMALL(IF(ISBLANK(MissingData)+ISERROR(MissingData)+LEN(MissingData)=0, \"\", ROW(MissingData)-MIN(ROW(MissingData))+1), ROW(1083:1083))),\"\")","v":"PI7____ID_REC09YOTHLOC_N"},"","",null,"PI7____ID_REC09YOTHLOC_N","","PI7IDREC09YOTHLOCN","PI7____ID_REC09YOTHLOC_N",1,"______"]
[null,null,null,null,null,null,null,null,null,null,null,null,null,null,null,null,null,null,null,null,null,{"$f":"IFERROR(INDEX(MissingData, SMALL(IF(ISBLANK(MissingData)+ISERROR(MissingData)+LEN(MissingData)=0, \"\", ROW(MissingData)-MIN(ROW(MissingData))+1), ROW(1084:1084))),\"\")","v":"PI7____ID_RF_N"},"","",null,"PI7____ID_RF_N","","PI7IDRFN","PI7____ID_RF_N",1,"______"]
[null,null,null,null,null,null,null,null,null,null,null,null,null,null,null,null,null,null,null,null,null,{"$f":"IFERROR(INDEX(MissingData, SMALL(IF(ISBLANK(MissingData)+ISERROR(MissingData)+LEN(MissingData)=0, \"\", ROW(MissingData)-MIN(ROW(MissingData))+1), ROW(1085:1085))),\"\")","v":"PI7____ID_SC_N"},"","",null,"PI7____ID_SC_N","","PI7IDSCN","PI7____ID_SC_N",1,"______"]
[null,null,null,null,null,null,null,null,null,null,null,null,null,null,null,null,null,null,null,null,null,{"$f":"IFERROR(INDEX(MissingData, SMALL(IF(ISBLANK(MissingData)+ISERROR(MissingData)+LEN(MissingData)=0, \"\", ROW(MissingData)-MIN(ROW(MissingData))+1), ROW(1086:1086))),\"\")","v":"PI7____ID_SPL_N"},"","",null,"PI7____ID_SPL_N","","PI7IDSPLN","PI7____ID_SPL_N",1,"______"]
[null,null,null,null,null,null,null,null,null,null,null,null,null,null,null,null,null,null,null,null,null,{"$f":"IFERROR(INDEX(MissingData, SMALL(IF(ISBLANK(MissingData)+ISERROR(MissingData)+LEN(MissingData)=0, \"\", ROW(MissingData)-MIN(ROW(MissingData))+1), ROW(1087:1087))),\"\")","v":"PI7____ID_SS_N"},"","",null,"PI7____ID_SS_N","","PI7IDSSN","PI7____ID_SS_N",1,"______"]
[null,null,null,null,null,null,null,null,null,null,null,null,null,null,null,null,null,null,null,null,null,{"$f":"IFERROR(INDEX(MissingData, SMALL(IF(ISBLANK(MissingData)+ISERROR(MissingData)+LEN(MissingData)=0, \"\", ROW(MissingData)-MIN(ROW(MissingData))+1), ROW(1088:1088))),\"\")","v":"PI7____OHI_H_N"},"","",null,"PI7____OHI_H_N","","PI7OHIHN","PI7____OHI_H_N",1,"______"]
[null,null,null,null,null,null,null,null,null,null,null,null,null,null,null,null,null,null,null,null,null,{"$f":"IFERROR(INDEX(MissingData, SMALL(IF(ISBLANK(MissingData)+ISERROR(MissingData)+LEN(MissingData)=0, \"\", ROW(MissingData)-MIN(ROW(MissingData))+1), ROW(1089:1089))),\"\")","v":"PI7____OHI_REC10YSVCS_N"},{"$f":"IF(LEN(AA1102)=0,\"\",IF(COUNTIF(CurrentListing_C089,AA1102)>1,AE1102,\"\"))","v":""},{"$f":"IF(LEN(AA1102)=0,\"\",IF(ISNA(MATCH(AA1102,MasterListing,0)),AE1102,\"\"))","v":""},null,{"$f":"IF(LEN(AC1102)=0,\"\",IF(ISNA(MATCH(AB1102,CurrentListing_C089,0)),AC1102,\"\"))","v":"PI7____OHI_REC10YSVCS_N"},"","PI7OHIREC10YSVCSN","PI7____OHI_REC10YSVCS_N",1,"______"]
[null,null,null,null,null,null,null,null,null,null,null,null,null,null,null,null,null,null,null,null,null,{"$f":"IFERROR(INDEX(MissingData, SMALL(IF(ISBLANK(MissingData)+ISERROR(MissingData)+LEN(MissingData)=0, \"\", ROW(MissingData)-MIN(ROW(MissingData))+1), ROW(1090:1090))),\"\")","v":"PI7____OHI_REC10YOTHLOC_N"},"","",null,"PI7____OHI_REC10YOTHLOC_N",{"$f":"G1103&H1103&I1103&J1103&K1103&Q1103&R1103","v":""},"PI7OHIREC10YOTHLOCN","PI7____OHI_REC10YOTHLOC_N",1,{"$f":"G1103&\"_\"&H1103&\"_\"&I1103&\"_\"&J1103&\"_\"&K1103&\"_\"&Q1103&\"_\"&R1103","v":"______"}]
[null,null,null,null,null,null,null,null,null,null,null,null,null,null,null,null,null,null,null,null,null,{"$f":"IFERROR(INDEX(MissingData, SMALL(IF(ISBLANK(MissingData)+ISERROR(MissingData)+LEN(MissingData)=0, \"\", ROW(MissingData)-MIN(ROW(MissingData))+1), ROW(1091:1091))),\"\")","v":"PI7____OHI_REC09YSVCS_N"},"","",null,"PI7____OHI_REC09YSVCS_N","","PI7OHIREC09YSVCSN","PI7____OHI_REC09YSVCS_N",{"$f":"IF(LEN(V1104)>0,1,0)","v":1},"______"]
[null,null,null,null,null,null,null,null,null,null,null,null,null,null,null,null,null,null,null,null,null,{"$f":"IFERROR(INDEX(MissingData, SMALL(IF(ISBLANK(MissingData)+ISERROR(MissingData)+LEN(MissingData)=0, \"\", ROW(MissingData)-MIN(ROW(MissingData))+1), ROW(1092:1092))),\"\")","v":"PI7____OHI_REC09YOTHLOC_N"},"","",null,"PI7____OHI_REC09YOTHLOC_N","","PI7OHIREC09YOTHLOCN","PI7____OHI_REC09YOTHLOC_N",1,"______"]
[null,null,null,null,null,null,null,null,null,null,null,null,null,null,null,null,null,null,null,null,null,{"$f":"IFERROR(INDEX(MissingData, SMALL(IF(ISBLANK(MissingData)+ISERROR(MissingData)+LEN(MissingData)=0, \"\", ROW(MissingData)-MIN(ROW(MissingData))+1), ROW(1093:1093))),\"\")","v":"PI7____OHI_RF_N"},"","",null,"PI7____OHI_RF_N","","PI7OHIRFN","PI7____OHI_RF_N",1,"______"]
[null,null,null,null,null,null,null,null,null,null,null,null,null,null,null,null,null,null,null,null,null,{"$f":"IFERROR(INDEX(MissingData, SMALL(IF(ISBLANK(MissingData)+ISERROR(MissingData)+LEN(MissingData)=0, \"\", ROW(MissingData)-MIN(ROW(MissingData))+1), ROW(1094:1094))),\"\")","v":"PI7____OHI_SC_N"},"","",null,"PI7____OHI_SC_N","","PI7OHISCN","PI7____OHI_SC_N",1,"______"]
[null,null,null,null,null,null,null,null,null,null,null,null,null,null,null,null,null,null,null,null,null,{"$f":"IFERROR(INDEX(MissingData, SMALL(IF(ISBLANK(MissingData)+ISERROR(MissingData)+LEN(MissingData)=0, \"\", ROW(MissingData)-MIN(ROW(MissingData))+1), ROW(1095:1095))),\"\")","v":"PI7____OHI_SPL_N"},"","",null,"PI7____OHI_SPL_N","","PI7OHISPLN","PI7____OHI_SPL_N",1,"______"]
[null,null,null,null,null,null,null,null,null,null,null,null,null,null,null,null,null,null,null,null,null,{"$f":"IFERROR(INDEX(MissingData, SMALL(IF(ISBLANK(MissingData)+ISERROR(MissingData)+LEN(MissingData)=0, \"\", ROW(MissingData)-MIN(ROW(MissingData))+1), ROW(1096:1096))),\"\")","v":"PI7____OHI_SS_N"},"","",null,"PI7____OHI_SS_N","","PI7OHISSN","PI7____OHI_SS_N",1,"______"]
[null,null,null,null,null,null,null,null,null,null,null,null,null,null,null,null,null,null,null,null,null,{"$f":"IFERROR(INDEX(MissingData, SMALL(IF(ISBLANK(MissingData)+ISERROR(MissingData)+LEN(MissingData)=0, \"\", ROW(MissingData)-MIN(ROW(MissingData))+1), ROW(1097:1097))),\"\")","v":"PI7____OI_H_N"},"","",null,"PI7____OI_H_N","","PI7OIHN","PI7____OI_H_N",1,"______"]
[null,null,null,null,null,null,null,null,null,null,null,null,null,null,null,null,null,null,null,null,null,{"$f":"IFERROR(INDEX(MissingData, SMALL(IF(ISBLANK(MissingData)+ISERROR(MissingData)+LEN(MissingData)=0, \"\", ROW(MissingData)-MIN(ROW(MissingData))+1), ROW(1098:1098))),\"\")","v":"PI7____OI_REC10YSVCS_N"},"","",null,"PI7____OI_REC10YSVCS_N","","PI7OIREC10YSVCSN","PI7____OI_REC10YSVCS_N",1,"______"]
[null,null,null,null,null,null,null,null,null,null,null,null,null,null,null,null,null,null,null,null,null,{"$f":"IFERROR(INDEX(MissingData, SMALL(IF(ISBLANK(MissingData)+ISERROR(MissingData)+LEN(MissingData)=0, \"\", ROW(MissingData)-MIN(ROW(MissingData))+1), ROW(1099:1099))),\"\")","v":"PI7____OI_REC10YOTHLOC_N"},"","",null,"PI7____OI_REC10YOTHLOC_N","","PI7OIREC10YOTHLOCN","PI7____OI_REC10YOTHLOC_N",1,"______"]
[null,null,null,null,null,null,null,null,null,null,null,null,null,null,null,null,null,null,null,null,null,{"$f":"IFERROR(INDEX(MissingData, SMALL(IF(ISBLANK(MissingData)+ISERROR(MissingData)+LEN(MissingData)=0, \"\", ROW(MissingData)-MIN(ROW(MissingData))+1), ROW(1100:1100))),\"\")","v":"PI7____OI_REC09YSVCS_N"},"","",null,"PI7____OI_REC09YSVCS_N","","PI7OIREC09YSVCSN","PI7____OI_REC09YSVCS_N",1,"______"]
[null,null,null,null,null,null,null,null,null,null,null,null,null,null,null,null,null,null,null,null,null,{"$f":"IFERROR(INDEX(MissingData, SMALL(IF(ISBLANK(MissingData)+ISERROR(MissingData)+LEN(MissingData)=0, \"\", ROW(MissingData)-MIN(ROW(MissingData))+1), ROW(1101:1101))),\"\")","v":"PI7____OI_REC09YOTHLOC_N"},"","",null,"PI7____OI_REC09YOTHLOC_N","","PI7OIREC09YOTHLOCN","PI7____OI_REC09YOTHLOC_N",1,"______"]
[null,null,null,null,null,null,null,null,null,null,null,null,null,null,null,null,null,null,null,null,null,{"$f":"IFERROR(INDEX(MissingData, SMALL(IF(ISBLANK(MissingData)+ISERROR(MissingData)+LEN(MissingData)=0, \"\", ROW(MissingData)-MIN(ROW(MissingData))+1), ROW(1102:1102))),\"\")","v":"PI7____OI_RF_N"},"","",null,"PI7____OI_RF_N","","PI7OIRFN","PI7____OI_RF_N",1,"______"]
[null,null,null,null,null,null,null,null,null,null,null,null,null,null,null,null,null,null,null,null,null,{"$f":"IFERROR(INDEX(MissingData, SMALL(IF(ISBLANK(MissingData)+ISERROR(MissingData)+LEN(MissingData)=0, \"\", ROW(MissingData)-MIN(ROW(MissingData))+1), ROW(1103:1103))),\"\")","v":"PI7____OI_SC_N"},"","",null,"PI7____OI_SC_N","","PI7OISCN","PI7____OI_SC_N",1,"______"]
[null,null,null,null,null,null,null,null,null,null,null,null,null,null,null,null,null,null,null,null,null,{"$f":"IFERROR(INDEX(MissingData, SMALL(IF(ISBLANK(MissingData)+ISERROR(MissingData)+LEN(MissingData)=0, \"\", ROW(MissingData)-MIN(ROW(MissingData))+1), ROW(1104:1104))),\"\")","v":"PI7____OI_SPL_N"},"","",null,"PI7____OI_SPL_N","","PI7OISPLN","PI7____OI_SPL_N",1,"______"]
[null,null,null,null,null,null,null,null,null,null,null,null,null,null,null,null,null,null,null,null,null,{"$f":"IFERROR(INDEX(MissingData, SMALL(IF(ISBLANK(MissingData)+ISERROR(MissingData)+LEN(MissingData)=0, \"\", ROW(MissingData)-MIN(ROW(MissingData))+1), ROW(1105:1105))),\"\")","v":"PI7____OI_SS_N"},"","",null,"PI7____OI_SS_N","","PI7OISSN","PI7____OI_SS_N",1,"______"]
[null,null,null,null,null,null,null,null,null,null,null,null,null,null,null,null,null,null,null,null,null,{"$f":"IFERROR(INDEX(MissingData, SMALL(IF(ISBLANK(MissingData)+ISERROR(MissingData)+LEN(MissingData)=0, \"\", ROW(MissingData)-MIN(ROW(MissingData))+1), ROW(1106:1106))),\"\")","v":"PI7____SLD_H_N"},"","",null,"PI7____SLD_H_N","","PI7SLDHN","PI7____SLD_H_N",1,"______"]
[null,null,null,null,null,null,null,null,null,null,null,null,null,null,null,null,null,null,null,null,null,{"$f":"IFERROR(INDEX(MissingData, SMALL(IF(ISBLANK(MissingData)+ISERROR(MissingData)+LEN(MissingData)=0, \"\", ROW(MissingData)-MIN(ROW(MissingData))+1), ROW(1107:1107))),\"\")","v":"PI7____SLD_REC10YSVCS_N"},"","",null,"PI7____SLD_REC10YSVCS_N","","PI7SLDREC10YSVCSN","PI7____SLD_REC10YSVCS_N",1,"______"]
[null,null,null,null,null,null,null,null,null,null,null,null,null,null,null,null,null,null,null,null,null,{"$f":"IFERROR(INDEX(MissingData, SMALL(IF(ISBLANK(MissingData)+ISERROR(MissingData)+LEN(MissingData)=0, \"\", ROW(MissingData)-MIN(ROW(MissingData))+1), ROW(1108:1108))),\"\")","v":"PI7____SLD_REC10YOTHLOC_N"},"","",null,"PI7____SLD_REC10YOTHLOC_N","","PI7SLDREC10YOTHLOCN","PI7____SLD_REC10YOTHLOC_N",1,"______"]
[null,null,null,null,null,null,null,null,null,null,null,null,null,null,null,null,null,null,null,null,null,{"$f":"IFERROR(INDEX(MissingData, SMALL(IF(ISBLANK(MissingData)+ISERROR(MissingData)+LEN(MissingData)=0, \"\", ROW(MissingData)-MIN(ROW(MissingData))+1), ROW(1109:1109))),\"\")","v":"PI7____SLD_REC09YSVCS_N"},"","",null,"PI7____SLD_REC09YSVCS_N","","PI7SLDREC09YSVCSN","PI7____SLD_REC09YSVCS_N",1,"______"]
[null,null,null,null,null,null,null,null,null,null,null,null,null,null,null,null,null,null,null,null,null,{"$f":"IFERROR(INDEX(MissingData, SMALL(IF(ISBLANK(MissingData)+ISERROR(MissingData)+LEN(MissingData)=0, \"\", ROW(MissingData)-MIN(ROW(MissingData))+1), ROW(1110:1110))),\"\")","v":"PI7____SLD_REC09YOTHLOC_N"},"","",null,"PI7____SLD_REC09YOTHLOC_N","","PI7SLDREC09YOTHLOCN","PI7____SLD_REC09YOTHLOC_N",1,"______"]
[null,null,null,null,null,null,null,null,null,null,null,null,null,null,null,null,null,null,null,null,null,{"$f":"IFERROR(INDEX(MissingData, SMALL(IF(ISBLANK(MissingData)+ISERROR(MissingData)+LEN(MissingData)=0, \"\", ROW(MissingData)-MIN(ROW(MissingData))+1), ROW(1111:1111))),\"\")","v":"PI7____SLD_RF_N"},"","",null,"PI7____SLD_RF_N","","PI7SLDRFN","PI7____SLD_RF_N",1,"______"]
[null,null,null,null,null,null,null,null,null,null,null,null,null,null,null,null,null,null,null,null,null,{"$f":"IFERROR(INDEX(MissingData, SMALL(IF(ISBLANK(MissingData)+ISERROR(MissingData)+LEN(MissingData)=0, \"\", ROW(MissingData)-MIN(ROW(MissingData))+1), ROW(1112:1112))),\"\")","v":"PI7____SLD_SC_N"},"","",null,"PI7____SLD_SC_N","","PI7SLDSCN","PI7____SLD_SC_N",1,"______"]
[null,null,null,null,null,null,null,null,null,null,null,null,null,null,null,null,null,null,null,null,null,{"$f":"IFERROR(INDEX(MissingData, SMALL(IF(ISBLANK(MissingData)+ISERROR(MissingData)+LEN(MissingData)=0, \"\", ROW(MissingData)-MIN(ROW(MissingData))+1), ROW(1113:1113))),\"\")","v":"PI7____SLD_SPL_N"},"","",null,"PI7____SLD_SPL_N","","PI7SLDSPLN","PI7____SLD_SPL_N",1,"______"]
[null,null,null,null,null,null,null,null,null,null,null,null,null,null,null,null,null,null,null,null,null,{"$f":"IFERROR(INDEX(MissingData, SMALL(IF(ISBLANK(MissingData)+ISERROR(MissingData)+LEN(MissingData)=0, \"\", ROW(MissingData)-MIN(ROW(MissingData))+1), ROW(1114:1114))),\"\")","v":"PI7____SLD_SS_N"},"","",null,"PI7____SLD_SS_N","","PI7SLDSSN","PI7____SLD_SS_N",1,"______"]
[null,null,null,null,null,null,null,null,null,null,null,null,null,null,null,null,null,null,null,null,null,{"$f":"IFERROR(INDEX(MissingData, SMALL(IF(ISBLANK(MissingData)+ISERROR(MissingData)+LEN(MissingData)=0, \"\", ROW(MissingData)-MIN(ROW(MissingData))+1), ROW(1115:1115))),\"\")","v":"PI7____SLI_H_N"},"","",null,"PI7____SLI_H_N","","PI7SLIHN","PI7____SLI_H_N",1,"______"]
[null,null,null,null,null,null,null,null,null,null,null,null,null,null,null,null,null,null,null,null,null,{"$f":"IFERROR(INDEX(MissingData, SMALL(IF(ISBLANK(MissingData)+ISERROR(MissingData)+LEN(MissingData)=0, \"\", ROW(MissingData)-MIN(ROW(MissingData))+1), ROW(1116:1116))),\"\")","v":"PI7____SLI_REC10YSVCS_N"},"","",null,"PI7____SLI_REC10YSVCS_N","","PI7SLIREC10YSVCSN","PI7____SLI_REC10YSVCS_N",1,"______"]
[null,null,null,null,null,null,null,null,null,null,null,null,null,null,null,null,null,null,null,null,null,{"$f":"IFERROR(INDEX(MissingData, SMALL(IF(ISBLANK(MissingData)+ISERROR(MissingData)+LEN(MissingData)=0, \"\", ROW(MissingData)-MIN(ROW(MissingData))+1), ROW(1117:1117))),\"\")","v":"PI7____SLI_REC09YSVCS_N"},"","",null,"PI7____SLI_REC09YSVCS_N","","PI7SLIREC09YSVCSN","PI7____SLI_REC09YSVCS_N",1,"______"]
[null,null,null,null,null,null,null,null,null,null,null,null,null,null,null,null,null,null,null,null,null,{"$f":"IFERROR(INDEX(MissingData, SMALL(IF(ISBLANK(MissingData)+ISERROR(MissingData)+LEN(MissingData)=0, \"\", ROW(MissingData)-MIN(ROW(MissingData))+1), ROW(1118:1118))),\"\")","v":"PI7____SLI_REC09YOTHLOC_N"},"","",null,"PI7____SLI_REC09YOTHLOC_N","","PI7SLIREC09YOTHLOCN","PI7____SLI_REC09YOTHLOC_N",1,"______"]
[null,null,null,null,null,null,null,null,null,null,null,null,null,null,null,null,null,null,null,null,null,{"$f":"IFERROR(INDEX(MissingData, SMALL(IF(ISBLANK(MissingData)+ISERROR(MissingData)+LEN(MissingData)=0, \"\", ROW(MissingData)-MIN(ROW(MissingData))+1), ROW(1119:1119))),\"\")","v":"PI7____SLI_RF_N"},"","",null,"PI7____SLI_RF_N","","PI7SLIRFN","PI7____SLI_RF_N",1,"______"]
[null,null,null,null,null,null,null,null,null,null,null,null,null,null,null,null,null,null,null,null,null,{"$f":"IFERROR(INDEX(MissingData, SMALL(IF(ISBLANK(MissingData)+ISERROR(MissingData)+LEN(MissingData)=0, \"\", ROW(MissingData)-MIN(ROW(MissingData))+1), ROW(1120:1120))),\"\")","v":"PI7____SLI_SC_N"},"","",null,"PI7____SLI_SC_N","","PI7SLISCN","PI7____SLI_SC_N",1,"______"]
[null,null,null,null,null,null,null,null,null,null,null,null,null,null,null,null,null,null,null,null,null,{"$f":"IFERROR(INDEX(MissingData, SMALL(IF(ISBLANK(MissingData)+ISERROR(MissingData)+LEN(MissingData)=0, \"\", ROW(MissingData)-MIN(ROW(MissingData))+1), ROW(1121:1121))),\"\")","v":"PI7____SLI_SPL_N"},"","",null,"PI7____SLI_SPL_N","","PI7SLISPLN","PI7____SLI_SPL_N",1,"______"]
[null,null,null,null,null,null,null,null,null,null,null,null,null,null,null,null,null,null,null,null,null,{"$f":"IFERROR(INDEX(MissingData, SMALL(IF(ISBLANK(MissingData)+ISERROR(MissingData)+LEN(MissingData)=0, \"\", ROW(MissingData)-MIN(ROW(MissingData))+1), ROW(1122:1122))),\"\")","v":"PI7____SLI_SS_N"},"","",null,"PI7____SLI_SS_N","","PI7SLISSN","PI7____SLI_SS_N",1,"______"]
[null,null,null,null,null,null,null,null,null,null,null,null,null,null,null,null,null,null,null,null,null,{"$f":"IFERROR(INDEX(MissingData, SMALL(IF(ISBLANK(MissingData)+ISERROR(MissingData)+LEN(MissingData)=0, \"\", ROW(MissingData)-MIN(ROW(MissingData))+1), ROW(1123:1123))),\"\")","v":"PI7____TBI_H_N"},"","",null,"PI7____TBI_H_N","","PI7TBIHN","PI7____TBI_H_N",1,"______"]
[null,null,null,null,null,null,null,null,null,null,null,null,null,null,null,null,null,null,null,null,null,{"$f":"IFERROR(INDEX(MissingData, SMALL(IF(ISBLANK(MissingData)+ISERROR(MissingData)+LEN(MissingData)=0, \"\", ROW(MissingData)-MIN(ROW(MissingData))+1), ROW(1124:1124))),\"\")","v":"PI7____TBI_REC10YSVCS_N"},"","",null,"PI7____TBI_REC10YSVCS_N","","PI7TBIREC10YSVCSN","PI7____TBI_REC10YSVCS_N",1,"______"]
[null,null,null,null,null,null,null,null,null,null,null,null,null,null,null,null,null,null,null,null,null,{"$f":"IFERROR(INDEX(MissingData, SMALL(IF(ISBLANK(MissingData)+ISERROR(MissingData)+LEN(MissingData)=0, \"\", ROW(MissingData)-MIN(ROW(MissingData))+1), ROW(1125:1125))),\"\")","v":"PI7____TBI_REC10YOTHLOC_N"},"","",null,"PI7____TBI_REC10YOTHLOC_N","","PI7TBIREC10YOTHLOCN","PI7____TBI_REC10YOTHLOC_N",1,"______"]
[null,null,null,null,null,null,null,null,null,null,null,null,null,null,null,null,null,null,null,null,null,{"$f":"IFERROR(INDEX(MissingData, SMALL(IF(ISBLANK(MissingData)+ISERROR(MissingData)+LEN(MissingData)=0, \"\", ROW(MissingData)-MIN(ROW(MissingData))+1), ROW(1126:1126))),\"\")","v":"PI7____TBI_REC09YSVCS_N"},"","",null,"PI7____TBI_REC09YSVCS_N","","PI7TBIREC09YSVCSN","PI7____TBI_REC09YSVCS_N",1,"______"]
[null,null,null,null,null,null,null,null,null,null,null,null,null,null,null,null,null,null,null,null,null,{"$f":"IFERROR(INDEX(MissingData, SMALL(IF(ISBLANK(MissingData)+ISERROR(MissingData)+LEN(MissingData)=0, \"\", ROW(MissingData)-MIN(ROW(MissingData))+1), ROW(1127:1127))),\"\")","v":"PI7____TBI_REC09YOTHLOC_N"},"","",null,"PI7____TBI_REC09YOTHLOC_N","","PI7TBIREC09YOTHLOCN","PI7____TBI_REC09YOTHLOC_N",1,"______"]
[null,null,null,null,null,null,null,null,null,null,null,null,null,null,null,null,null,null,null,null,null,{"$f":"IFERROR(INDEX(MissingData, SMALL(IF(ISBLANK(MissingData)+ISERROR(MissingData)+LEN(MissingData)=0, \"\", ROW(MissingData)-MIN(ROW(MissingData))+1), ROW(1128:1128))),\"\")","v":"PI7____TBI_RF_N"},"","",null,"PI7____TBI_RF_N","","PI7TBIRFN","PI7____TBI_RF_N",1,"______"]
[null,null,null,null,null,null,null,null,null,null,null,null,null,null,null,null,null,null,null,null,null,{"$f":"IFERROR(INDEX(MissingData, SMALL(IF(ISBLANK(MissingData)+ISERROR(MissingData)+LEN(MissingData)=0, \"\", ROW(MissingData)-MIN(ROW(MissingData))+1), ROW(1129:1129))),\"\")","v":"PI7____TBI_SC_N"},"","",null,"PI7____TBI_SC_N","","PI7TBISCN","PI7____TBI_SC_N",1,"______"]
[null,null,null,null,null,null,null,null,null,null,null,null,null,null,null,null,null,null,null,null,null,{"$f":"IFERROR(INDEX(MissingData, SMALL(IF(ISBLANK(MissingData)+ISERROR(MissingData)+LEN(MissingData)=0, \"\", ROW(MissingData)-MIN(ROW(MissingData))+1), ROW(1130:1130))),\"\")","v":"PI7____TBI_SPL_N"},"","",null,"PI7____TBI_SPL_N","","PI7TBISPLN","PI7____TBI_SPL_N",1,"______"]
[null,null,null,null,null,null,null,null,null,null,null,null,null,null,null,null,null,null,null,null,null,{"$f":"IFERROR(INDEX(MissingData, SMALL(IF(ISBLANK(MissingData)+ISERROR(MissingData)+LEN(MissingData)=0, \"\", ROW(MissingData)-MIN(ROW(MissingData))+1), ROW(1131:1131))),\"\")","v":"PI7____TBI_SS_N"},"","",null,"PI7____TBI_SS_N","","PI7TBISSN","PI7____TBI_SS_N",1,"______"]
[null,null,null,null,null,null,null,null,null,null,null,null,null,null,null,null,null,null,null,null,null,{"$f":"IFERROR(INDEX(MissingData, SMALL(IF(ISBLANK(MissingData)+ISERROR(MissingData)+LEN(MissingData)=0, \"\", ROW(MissingData)-MIN(ROW(MissingData))+1), ROW(1132:1132))),\"\")","v":"PI7____VI_H_N"},"","",null,"PI7____VI_H_N","","PI7VIHN","PI7____VI_H_N",1,"______"]
[null,null,null,null,null,null,null,null,null,null,null,null,null,null,null,null,null,null,null,null,null,{"$f":"IFERROR(INDEX(MissingData, SMALL(IF(ISBLANK(MissingData)+ISERROR(MissingData)+LEN(MissingData)=0, \"\", ROW(MissingData)-MIN(ROW(MissingData))+1), ROW(1133:1133))),\"\")","v":"PI7____VI_REC10YSVCS_N"},"","",null,"PI7____VI_REC10YSVCS_N","","PI7VIREC10YSVCSN","PI7____VI_REC10YSVCS_N",1,"______"]
[null,null,null,null,null,null,null,null,null,null,null,null,null,null,null,null,null,null,null,null,null,{"$f":"IFERROR(INDEX(MissingData, SMALL(IF(ISBLANK(MissingData)+ISERROR(MissingData)+LEN(MissingData)=0, \"\", ROW(MissingData)-MIN(ROW(MissingData))+1), ROW(1134:1134))),\"\")","v":"PI7____VI_REC10YOTHLOC_N"},"","",null,"PI7____VI_REC10YOTHLOC_N","","PI7VIREC10YOTHLOCN","PI7____VI_REC10YOTHLOC_N",1,"______"]
[null,null,null,null,null,null,null,null,null,null,null,null,null,null,null,null,null,null,null,null,null,{"$f":"IFERROR(INDEX(MissingData, SMALL(IF(ISBLANK(MissingData)+ISERROR(MissingData)+LEN(MissingData)=0, \"\", ROW(MissingData)-MIN(ROW(MissingData))+1), ROW(1135:1135))),\"\")","v":"PI7____VI_REC09YSVCS_N"},"","",null,"PI7____VI_REC09YSVCS_N","","PI7VIREC09YSVCSN","PI7____VI_REC09YSVCS_N",1,"______"]
[null,null,null,null,null,null,null,null,null,null,null,null,null,null,null,null,null,null,null,null,null,{"$f":"IFERROR(INDEX(MissingData, SMALL(IF(ISBLANK(MissingData)+ISERROR(MissingData)+LEN(MissingData)=0, \"\", ROW(MissingData)-MIN(ROW(MissingData))+1), ROW(1136:1136))),\"\")","v":"PI7____VI_REC09YOTHLOC_N"},"","",null,"PI7____VI_REC09YOTHLOC_N","","PI7VIREC09YOTHLOCN","PI7____VI_REC09YOTHLOC_N",1,"______"]
[null,null,null,null,null,null,null,null,null,null,null,null,null,null,null,null,null,null,null,null,null,{"$f":"IFERROR(INDEX(MissingData, SMALL(IF(ISBLANK(MissingData)+ISERROR(MissingData)+LEN(MissingData)=0, \"\", ROW(MissingData)-MIN(ROW(MissingData))+1), ROW(1137:1137))),\"\")","v":"PI7____VI_RF_N"},"","",null,"PI7____VI_RF_N","","PI7VIRFN","PI7____VI_RF_N",1,"______"]
[null,null,null,null,null,null,null,null,null,null,null,null,null,null,null,null,null,null,null,null,null,{"$f":"IFERROR(INDEX(MissingData, SMALL(IF(ISBLANK(MissingData)+ISERROR(MissingData)+LEN(MissingData)=0, \"\", ROW(MissingData)-MIN(ROW(MissingData))+1), ROW(1138:1138))),\"\")","v":"PI7____VI_SC_N"},"","",null,"PI7____VI_SC_N","","PI7VISCN","PI7____VI_SC_N",1,"______"]
[null,null,null,null,null,null,null,null,null,null,null,null,null,null,null,null,null,null,null,null,null,{"$f":"IFERROR(INDEX(MissingData, SMALL(IF(ISBLANK(MissingData)+ISERROR(MissingData)+LEN(MissingData)=0, \"\", ROW(MissingData)-MIN(ROW(MissingData))+1), ROW(1139:1139))),\"\")","v":"PI7____VI_SPL_N"},"","",null,"PI7____VI_SPL_N","","PI7VISPLN","PI7____VI_SPL_N",1,"______"]
[null,null,null,null,null,null,null,null,null,null,null,null,null,null,null,null,null,null,null,null,null,{"$f":"IFERROR(INDEX(MissingData, SMALL(IF(ISBLANK(MissingData)+ISERROR(MissingData)+LEN(MissingData)=0, \"\", ROW(MissingData)-MIN(ROW(MissingData))+1), ROW(1140:1140))),\"\")","v":"PI7____VI_SS_N"},"","",null,"PI7____VI_SS_N","","PI7VISSN","PI7____VI_SS_N",1,"______"]
[null,null,null,null,null,null,null,null,null,null,null,null,null,null,null,null,null,null,null,null,null,{"$f":"IFERROR(INDEX(MissingData, SMALL(IF(ISBLANK(MissingData)+ISERROR(MissingData)+LEN(MissingData)=0, \"\", ROW(MissingData)-MIN(ROW(MissingData))+1), ROW(1141:1141))),\"\")","v":"WH7____AUT_REC09YSVCS_N"},"","",null,"WH7____AUT_REC09YSVCS_N","","WH7AUTREC09YSVCSN","WH7____AUT_REC09YSVCS_N",1,"______"]
[null,null,null,null,null,null,null,null,null,null,null,null,null,null,null,null,null,null,null,null,null,{"$f":"IFERROR(INDEX(MissingData, SMALL(IF(ISBLANK(MissingData)+ISERROR(MissingData)+LEN(MissingData)=0, \"\", ROW(MissingData)-MIN(ROW(MissingData))+1), ROW(1142:1142))),\"\")","v":"WH7____AUT_RF_N"},"","",null,"WH7____AUT_RF_N","","WH7AUTRFN","WH7____AUT_RF_N",1,"______"]
[null,null,null,null,null,null,null,null,null,null,null,null,null,null,null,null,null,null,null,null,null,{"$f":"IFERROR(INDEX(MissingData, SMALL(IF(ISBLANK(MissingData)+ISERROR(MissingData)+LEN(MissingData)=0, \"\", ROW(MissingData)-MIN(ROW(MissingData))+1), ROW(1143:1143))),\"\")","v":"WH7____DB_REC10YSVCS_N"},"","",null,"WH7____DB_REC10YSVCS_N","","WH7DBREC10YSVCSN","WH7____DB_REC10YSVCS_N",1,"______"]
[null,null,null,null,null,null,null,null,null,null,null,null,null,null,null,null,null,null,null,null,null,{"$f":"IFERROR(INDEX(MissingData, SMALL(IF(ISBLANK(MissingData)+ISERROR(MissingData)+LEN(MissingData)=0, \"\", ROW(MissingData)-MIN(ROW(MissingData))+1), ROW(1144:1144))),\"\")","v":"WH7____DB_REC09YSVCS_N"},"","",null,"WH7____DB_REC09YSVCS_N","","WH7DBREC09YSVCSN","WH7____DB_REC09YSVCS_N",1,"______"]
[null,null,null,null,null,null,null,null,null,null,null,null,null,null,null,null,null,null,null,null,null,{"$f":"IFERROR(INDEX(MissingData, SMALL(IF(ISBLANK(MissingData)+ISERROR(MissingData)+LEN(MissingData)=0, \"\", ROW(MissingData)-MIN(ROW(MissingData))+1), ROW(1145:1145))),\"\")","v":"WH7____DB_REC09YOTHLOC_N"},"","",null,"WH7____DB_REC09YOTHLOC_N","","WH7DBREC09YOTHLOCN","WH7____DB_REC09YOTHLOC_N",1,"______"]
[null,null,null,null,null,null,null,null,null,null,null,null,null,null,null,null,null,null,null,null,null,{"$f":"IFERROR(INDEX(MissingData, SMALL(IF(ISBLANK(MissingData)+ISERROR(MissingData)+LEN(MissingData)=0, \"\", ROW(MissingData)-MIN(ROW(MissingData))+1), ROW(1146:1146))),\"\")","v":"WH7____DB_RF_N"},"","",null,"WH7____DB_RF_N","","WH7DBRFN","WH7____DB_RF_N",1,"______"]
[null,null,null,null,null,null,null,null,null,null,null,null,null,null,null,null,null,null,null,null,null,{"$f":"IFERROR(INDEX(MissingData, SMALL(IF(ISBLANK(MissingData)+ISERROR(MissingData)+LEN(MissingData)=0, \"\", ROW(MissingData)-MIN(ROW(MissingData))+1), ROW(1147:1147))),\"\")","v":"WH7____DB_SPL_N"},"","",null,"WH7____DB_SPL_N","","WH7DBSPLN","WH7____DB_SPL_N",1,"______"]
[null,null,null,null,null,null,null,null,null,null,null,null,null,null,null,null,null,null,null,null,null,{"$f":"IFERROR(INDEX(MissingData, SMALL(IF(ISBLANK(MissingData)+ISERROR(MissingData)+LEN(MissingData)=0, \"\", ROW(MissingData)-MIN(ROW(MissingData))+1), ROW(1148:1148))),\"\")","v":"WH7____DB_SS_N"},"","",null,"WH7____DB_SS_N","","WH7DBSSN","WH7____DB_SS_N",1,"______"]
[null,null,null,null,null,null,null,null,null,null,null,null,null,null,null,null,null,null,null,null,null,{"$f":"IFERROR(INDEX(MissingData, SMALL(IF(ISBLANK(MissingData)+ISERROR(MissingData)+LEN(MissingData)=0, \"\", ROW(MissingData)-MIN(ROW(MissingData))+1), ROW(1149:1149))),\"\")","v":"WH7____DD_REC09YSVCS_N"},"","",null,"WH7____DD_REC09YSVCS_N","","WH7DDREC09YSVCSN","WH7____DD_REC09YSVCS_N",1,"______"]
[null,null,null,null,null,null,null,null,null,null,null,null,null,null,null,null,null,null,null,null,null,{"$f":"IFERROR(INDEX(MissingData, SMALL(IF(ISBLANK(MissingData)+ISERROR(MissingData)+LEN(MissingData)=0, \"\", ROW(MissingData)-MIN(ROW(MissingData))+1), ROW(1150:1150))),\"\")","v":"WH7____DD_RF_N"},"","",null,"WH7____DD_RF_N","","WH7DDRFN","WH7____DD_RF_N",1,"______"]
[null,null,null,null,null,null,null,null,null,null,null,null,null,null,null,null,null,null,null,null,null,{"$f":"IFERROR(INDEX(MissingData, SMALL(IF(ISBLANK(MissingData)+ISERROR(MissingData)+LEN(MissingData)=0, \"\", ROW(MissingData)-MIN(ROW(MissingData))+1), ROW(1151:1151))),\"\")","v":"WH7____EMN_H_N"},"","",null,"WH7____EMN_H_N","","WH7EMNHN","WH7____EMN_H_N",1,"______"]
[null,null,null,null,null,null,null,null,null,null,null,null,null,null,null,null,null,null,null,null,null,{"$f":"IFERROR(INDEX(MissingData, SMALL(IF(ISBLANK(MissingData)+ISERROR(MissingData)+LEN(MissingData)=0, \"\", ROW(MissingData)-MIN(ROW(MissingData))+1), ROW(1152:1152))),\"\")","v":"WH7____EMN_REC10YSVCS_N"},"","",null,"WH7____EMN_REC10YSVCS_N","","WH7EMNREC10YSVCSN","WH7____EMN_REC10YSVCS_N",1,"______"]
[null,null,null,null,null,null,null,null,null,null,null,null,null,null,null,null,null,null,null,null,null,{"$f":"IFERROR(INDEX(MissingData, SMALL(IF(ISBLANK(MissingData)+ISERROR(MissingData)+LEN(MissingData)=0, \"\", ROW(MissingData)-MIN(ROW(MissingData))+1), ROW(1153:1153))),\"\")","v":"WH7____EMN_REC10YOTHLOC_N"},{"$f":"IF(LEN(AA1166)=0,\"\",IF(COUNTIF(CurrentListing_C089,AA1166)>1,AE1166,\"\"))","v":""},{"$f":"IF(LEN(AA1166)=0,\"\",IF(ISNA(MATCH(AA1166,MasterListing,0)),AE1166,\"\"))","v":""},null,{"$f":"IF(LEN(AC1166)=0,\"\",IF(ISNA(MATCH(AB1166,CurrentListing_C089,0)),AC1166,\"\"))","v":"WH7____EMN_REC10YOTHLOC_N"},"","WH7EMNREC10YOTHLOCN","WH7____EMN_REC10YOTHLOC_N",1,"______"]
[null,null,null,null,null,null,null,null,null,null,null,null,null,null,null,null,null,null,null,null,null,{"$f":"IFERROR(INDEX(MissingData, SMALL(IF(ISBLANK(MissingData)+ISERROR(MissingData)+LEN(MissingData)=0, \"\", ROW(MissingData)-MIN(ROW(MissingData))+1), ROW(1154:1154))),\"\")","v":"WH7____EMN_REC09YSVCS_N"},"","",null,"WH7____EMN_REC09YSVCS_N",{"$f":"G1167&H1167&I1167&J1167&K1167&Q1167&R1167","v":""},"WH7EMNREC09YSVCSN","WH7____EMN_REC09YSVCS_N",1,{"$f":"G1167&\"_\"&H1167&\"_\"&I1167&\"_\"&J1167&\"_\"&K1167&\"_\"&Q1167&\"_\"&R1167","v":"______"}]
[null,null,null,null,null,null,null,null,null,null,null,null,null,null,null,null,null,null,null,null,null,{"$f":"IFERROR(INDEX(MissingData, SMALL(IF(ISBLANK(MissingData)+ISERROR(MissingData)+LEN(MissingData)=0, \"\", ROW(MissingData)-MIN(ROW(MissingData))+1), ROW(1155:1155))),\"\")","v":"WH7____EMN_REC09YOTHLOC_N"},"","",null,"WH7____EMN_REC09YOTHLOC_N","","WH7EMNREC09YOTHLOCN","WH7____EMN_REC09YOTHLOC_N",{"$f":"IF(LEN(V1168)>0,1,0)","v":1},"______"]
[null,null,null,null,null,null,null,null,null,null,null,null,null,null,null,null,null,null,null,null,null,{"$f":"IFERROR(INDEX(MissingData, SMALL(IF(ISBLANK(MissingData)+ISERROR(MissingData)+LEN(MissingData)=0, \"\", ROW(MissingData)-MIN(ROW(MissingData))+1), ROW(1156:1156))),\"\")","v":"WH7____EMN_RF_N"},"","",null,"WH7____EMN_RF_N","","WH7EMNRFN","WH7____EMN_RF_N",1,"______"]
[null,null,null,null,null,null,null,null,null,null,null,null,null,null,null,null,null,null,null,null,null,{"$f":"IFERROR(INDEX(MissingData, SMALL(IF(ISBLANK(MissingData)+ISERROR(MissingData)+LEN(MissingData)=0, \"\", ROW(MissingData)-MIN(ROW(MissingData))+1), ROW(1157:1157))),\"\")","v":"WH7____EMN_SC_N"},"","",null,"WH7____EMN_SC_N","","WH7EMNSCN","WH7____EMN_SC_N",1,"______"]
[null,null,null,null,null,null,null,null,null,null,null,null,null,null,null,null,null,null,null,null,null,{"$f":"IFERROR(INDEX(MissingData, SMALL(IF(ISBLANK(MissingData)+ISERROR(MissingData)+LEN(MissingData)=0, \"\", ROW(MissingData)-MIN(ROW(MissingData))+1), ROW(1158:1158))),\"\")","v":"WH7____EMN_SPL_N"},"","",null,"WH7____EMN_SPL_N","","WH7EMNSPLN","WH7____EMN_SPL_N",1,"______"]
[null,null,null,null,null,null,null,null,null,null,null,null,null,null,null,null,null,null,null,null,null,{"$f":"IFERROR(INDEX(MissingData, SMALL(IF(ISBLANK(MissingData)+ISERROR(MissingData)+LEN(MissingData)=0, \"\", ROW(MissingData)-MIN(ROW(MissingData))+1), ROW(1159:1159))),\"\")","v":"WH7____EMN_SS_N"},"","",null,"WH7____EMN_SS_N","","WH7EMNSSN","WH7____EMN_SS_N",1,"______"]
[null,null,null,null,null,null,null,null,null,null,null,null,null,null,null,null,null,null,null,null,null,{"$f":"IFERROR(INDEX(MissingData, SMALL(IF(ISBLANK(MissingData)+ISERROR(MissingData)+LEN(MissingData)=0, \"\", ROW(MissingData)-MIN(ROW(MissingData))+1), ROW(1160:1160))),\"\")","v":"WH7____HI_H_N"},"","",null,"WH7____HI_H_N","","WH7HIHN","WH7____HI_H_N",1,"______"]
[null,null,null,null,null,null,null,null,null,null,null,null,null,null,null,null,null,null,null,null,null,{"$f":"IFERROR(INDEX(MissingData, SMALL(IF(ISBLANK(MissingData)+ISERROR(MissingData)+LEN(MissingData)=0, \"\", ROW(MissingData)-MIN(ROW(MissingData))+1), ROW(1161:1161))),\"\")","v":"WH7____HI_REC09YSVCS_N"},"","",null,"WH7____HI_REC09YSVCS_N","","WH7HIREC09YSVCSN","WH7____HI_REC09YSVCS_N",1,"______"]
[null,null,null,null,null,null,null,null,null,null,null,null,null,null,null,null,null,null,null,null,null,{"$f":"IFERROR(INDEX(MissingData, SMALL(IF(ISBLANK(MissingData)+ISERROR(MissingData)+LEN(MissingData)=0, \"\", ROW(MissingData)-MIN(ROW(MissingData))+1), ROW(1162:1162))),\"\")","v":"WH7____HI_REC09YOTHLOC_N"},"","",null,"WH7____HI_REC09YOTHLOC_N","","WH7HIREC09YOTHLOCN","WH7____HI_REC09YOTHLOC_N",1,"______"]
[null,null,null,null,null,null,null,null,null,null,null,null,null,null,null,null,null,null,null,null,null,{"$f":"IFERROR(INDEX(MissingData, SMALL(IF(ISBLANK(MissingData)+ISERROR(MissingData)+LEN(MissingData)=0, \"\", ROW(MissingData)-MIN(ROW(MissingData))+1), ROW(1163:1163))),\"\")","v":"WH7____HI_RF_N"},"","",null,"WH7____HI_RF_N","","WH7HIRFN","WH7____HI_RF_N",1,"______"]
[null,null,null,null,null,null,null,null,null,null,null,null,null,null,null,null,null,null,null,null,null,{"$f":"IFERROR(INDEX(MissingData, SMALL(IF(ISBLANK(MissingData)+ISERROR(MissingData)+LEN(MissingData)=0, \"\", ROW(MissingData)-MIN(ROW(MissingData))+1), ROW(1164:1164))),\"\")","v":"WH7____MD_REC09YSVCS_N"},"","",null,"WH7____MD_REC09YSVCS_N","","WH7MDREC09YSVCSN","WH7____MD_REC09YSVCS_N",1,"______"]
[null,null,null,null,null,null,null,null,null,null,null,null,null,null,null,null,null,null,null,null,null,{"$f":"IFERROR(INDEX(MissingData, SMALL(IF(ISBLANK(MissingData)+ISERROR(MissingData)+LEN(MissingData)=0, \"\", ROW(MissingData)-MIN(ROW(MissingData))+1), ROW(1165:1165))),\"\")","v":"WH7____MD_REC09YOTHLOC_N"},"","",null,"WH7____MD_REC09YOTHLOC_N","","WH7MDREC09YOTHLOCN","WH7____MD_REC09YOTHLOC_N",1,"______"]
[null,null,null,null,null,null,null,null,null,null,null,null,null,null,null,null,null,null,null,null,null,{"$f":"IFERROR(INDEX(MissingData, SMALL(IF(ISBLANK(MissingData)+ISERROR(MissingData)+LEN(MissingData)=0, \"\", ROW(MissingData)-MIN(ROW(MissingData))+1), ROW(1166:1166))),\"\")","v":"WH7____MD_RF_N"},"","",null,"WH7____MD_RF_N","","WH7MDRFN","WH7____MD_RF_N",1,"______"]
[null,null,null,null,null,null,null,null,null,null,null,null,null,null,null,null,null,null,null,null,null,{"$f":"IFERROR(INDEX(MissingData, SMALL(IF(ISBLANK(MissingData)+ISERROR(MissingData)+LEN(MissingData)=0, \"\", ROW(MissingData)-MIN(ROW(MissingData))+1), ROW(1167:1167))),\"\")","v":"WH7____MD_SPL_N"},"","",null,"WH7____MD_SPL_N","","WH7MDSPLN","WH7____MD_SPL_N",1,"______"]
[null,null,null,null,null,null,null,null,null,null,null,null,null,null,null,null,null,null,null,null,null,{"$f":"IFERROR(INDEX(MissingData, SMALL(IF(ISBLANK(MissingData)+ISERROR(MissingData)+LEN(MissingData)=0, \"\", ROW(MissingData)-MIN(ROW(MissingData))+1), ROW(1168:1168))),\"\")","v":"WH7____ID_REC09YSVCS_N"},"","",null,"WH7____ID_REC09YSVCS_N","","WH7IDREC09YSVCSN","WH7____ID_REC09YSVCS_N",1,"______"]
[null,null,null,null,null,null,null,null,null,null,null,null,null,null,null,null,null,null,null,null,null,{"$f":"IFERROR(INDEX(MissingData, SMALL(IF(ISBLANK(MissingData)+ISERROR(MissingData)+LEN(MissingData)=0, \"\", ROW(MissingData)-MIN(ROW(MissingData))+1), ROW(1169:1169))),\"\")","v":"WH7____ID_REC09YOTHLOC_N"},"","",null,"WH7____ID_REC09YOTHLOC_N","","WH7IDREC09YOTHLOCN","WH7____ID_REC09YOTHLOC_N",1,"______"]
[null,null,null,null,null,null,null,null,null,null,null,null,null,null,null,null,null,null,null,null,null,{"$f":"IFERROR(INDEX(MissingData, SMALL(IF(ISBLANK(MissingData)+ISERROR(MissingData)+LEN(MissingData)=0, \"\", ROW(MissingData)-MIN(ROW(MissingData))+1), ROW(1170:1170))),\"\")","v":"WH7____ID_RF_N"},"","",null,"WH7____ID_RF_N","","WH7IDRFN","WH7____ID_RF_N",1,"______"]
[null,null,null,null,null,null,null,null,null,null,null,null,null,null,null,null,null,null,null,null,null,{"$f":"IFERROR(INDEX(MissingData, SMALL(IF(ISBLANK(MissingData)+ISERROR(MissingData)+LEN(MissingData)=0, \"\", ROW(MissingData)-MIN(ROW(MissingData))+1), ROW(1171:1171))),\"\")","v":"WH7____ID_SS_N"},"","",null,"WH7____ID_SS_N","","WH7IDSSN","WH7____ID_SS_N",1,"______"]
[null,null,null,null,null,null,null,null,null,null,null,null,null,null,null,null,null,null,null,null,null,{"$f":"IFERROR(INDEX(MissingData, SMALL(IF(ISBLANK(MissingData)+ISERROR(MissingData)+LEN(MissingData)=0, \"\", ROW(MissingData)-MIN(ROW(MissingData))+1), ROW(1172:1172))),\"\")","v":"WH7____OHI_REC09YSVCS_N"},"","",null,"WH7____OHI_REC09YSVCS_N","","WH7OHIREC09YSVCSN","WH7____OHI_REC09YSVCS_N",1,"______"]
[null,null,null,null,null,null,null,null,null,null,null,null,null,null,null,null,null,null,null,null,null,{"$f":"IFERROR(INDEX(MissingData, SMALL(IF(ISBLANK(MissingData)+ISERROR(MissingData)+LEN(MissingData)=0, \"\", ROW(MissingData)-MIN(ROW(MissingData))+1), ROW(1173:1173))),\"\")","v":"WH7____OHI_REC09YOTHLOC_N"},"","",null,"WH7____OHI_REC09YOTHLOC_N","","WH7OHIREC09YOTHLOCN","WH7____OHI_REC09YOTHLOC_N",1,"______"]
[null,null,null,null,null,null,null,null,null,null,null,null,null,null,null,null,null,null,null,null,null,{"$f":"IFERROR(INDEX(MissingData, SMALL(IF(ISBLANK(MissingData)+ISERROR(MissingData)+LEN(MissingData)=0, \"\", ROW(MissingData)-MIN(ROW(MissingData))+1), ROW(1174:1174))),\"\")","v":"WH7____OHI_RF_N"},"","",null,"WH7____OHI_RF_N","","WH7OHIRFN","WH7____OHI_RF_N",1,"______"]
[null,null,null,null,null,null,null,null,null,null,null,null,null,null,null,null,null,null,null,null,null,{"$f":"IFERROR(INDEX(MissingData, SMALL(IF(ISBLANK(MissingData)+ISERROR(MissingData)+LEN(MissingData)=0, \"\", ROW(MissingData)-MIN(ROW(MissingData))+1), ROW(1175:1175))),\"\")","v":"WH7____OI_REC09YSVCS_N"},"","",null,"WH7____OI_REC09YSVCS_N","","WH7OIREC09YSVCSN","WH7____OI_REC09YSVCS_N",1,"______"]
[null,null,null,null,null,null,null,null,null,null,null,null,null,null,null,null,null,null,null,null,null,{"$f":"IFERROR(INDEX(MissingData, SMALL(IF(ISBLANK(MissingData)+ISERROR(MissingData)+LEN(MissingData)=0, \"\", ROW(MissingData)-MIN(ROW(MissingData))+1), ROW(1176:1176))),\"\")","v":"WH7____OI_REC09YOTHLOC_N"},"","",null,"WH7____OI_REC09YOTHLOC_N","","WH7OIREC09YOTHLOCN","WH7____OI_REC09YOTHLOC_N",1,"______"]
[null,null,null,null,null,null,null,null,null,null,null,null,null,null,null,null,null,null,null,null,null,{"$f":"IFERROR(INDEX(MissingData, SMALL(IF(ISBLANK(MissingData)+ISERROR(MissingData)+LEN(MissingData)=0, \"\", ROW(MissingData)-MIN(ROW(MissingData))+1), ROW(1177:1177))),\"\")","v":"WH7____OI_RF_N"},"","",null,"WH7____OI_RF_N","","WH7OIRFN","WH7____OI_RF_N",1,"______"]
[null,null,null,null,null,null,null,null,null,null,null,null,null,null,null,null,null,null,null,null,null,{"$f":"IFERROR(INDEX(MissingData, SMALL(IF(ISBLANK(MissingData)+ISERROR(MissingData)+LEN(MissingData)=0, \"\", ROW(MissingData)-MIN(ROW(MissingData))+1), ROW(1178:1178))),\"\")","v":"WH7____OI_SPL_N"},"","",null,"WH7____OI_SPL_N","","WH7OISPLN","WH7____OI_SPL_N",1,"______"]
[null,null,null,null,null,null,null,null,null,null,null,null,null,null,null,null,null,null,null,null,null,{"$f":"IFERROR(INDEX(MissingData, SMALL(IF(ISBLANK(MissingData)+ISERROR(MissingData)+LEN(MissingData)=0, \"\", ROW(MissingData)-MIN(ROW(MissingData))+1), ROW(1179:1179))),\"\")","v":"WH7____SLD_H_N"},"","",null,"WH7____SLD_H_N","","WH7SLDHN","WH7____SLD_H_N",1,"______"]
[null,null,null,null,null,null,null,null,null,null,null,null,null,null,null,null,null,null,null,null,null,{"$f":"IFERROR(INDEX(MissingData, SMALL(IF(ISBLANK(MissingData)+ISERROR(MissingData)+LEN(MissingData)=0, \"\", ROW(MissingData)-MIN(ROW(MissingData))+1), ROW(1180:1180))),\"\")","v":"WH7____SLD_REC10YSVCS_N"},"","",null,"WH7____SLD_REC10YSVCS_N","","WH7SLDREC10YSVCSN","WH7____SLD_REC10YSVCS_N",1,"______"]
[null,null,null,null,null,null,null,null,null,null,null,null,null,null,null,null,null,null,null,null,null,{"$f":"IFERROR(INDEX(MissingData, SMALL(IF(ISBLANK(MissingData)+ISERROR(MissingData)+LEN(MissingData)=0, \"\", ROW(MissingData)-MIN(ROW(MissingData))+1), ROW(1181:1181))),\"\")","v":"WH7____SLD_REC09YSVCS_N"},"","",null,"WH7____SLD_REC09YSVCS_N","","WH7SLDREC09YSVCSN","WH7____SLD_REC09YSVCS_N",1,"______"]
[null,null,null,null,null,null,null,null,null,null,null,null,null,null,null,null,null,null,null,null,null,{"$f":"IFERROR(INDEX(MissingData, SMALL(IF(ISBLANK(MissingData)+ISERROR(MissingData)+LEN(MissingData)=0, \"\", ROW(MissingData)-MIN(ROW(MissingData))+1), ROW(1182:1182))),\"\")","v":"WH7____SLD_REC09YOTHLOC_N"},"","",null,"WH7____SLD_REC09YOTHLOC_N","","WH7SLDREC09YOTHLOCN","WH7____SLD_REC09YOTHLOC_N",1,"______"]
[null,null,null,null,null,null,null,null,null,null,null,null,null,null,null,null,null,null,null,null,null,{"$f":"IFERROR(INDEX(MissingData, SMALL(IF(ISBLANK(MissingData)+ISERROR(MissingData)+LEN(MissingData)=0, \"\", ROW(MissingData)-MIN(ROW(MissingData))+1), ROW(1183:1183))),\"\")","v":"WH7____SLD_RF_N"},"","",null,"WH7____SLD_RF_N","","WH7SLDRFN","WH7____SLD_RF_N",1,"______"]
[null,null,null,null,null,null,null,null,null,null,null,null,null,null,null,null,null,null,null,null,null,{"$f":"IFERROR(INDEX(MissingData, SMALL(IF(ISBLANK(MissingData)+ISERROR(MissingData)+LEN(MissingData)=0, \"\", ROW(MissingData)-MIN(ROW(MissingData))+1), ROW(1184:1184))),\"\")","v":"WH7____SLD_SC_N"},"","",null,"WH7____SLD_SC_N","","WH7SLDSCN","WH7____SLD_SC_N",1,"______"]
[null,null,null,null,null,null,null,null,null,null,null,null,null,null,null,null,null,null,null,null,null,{"$f":"IFERROR(INDEX(MissingData, SMALL(IF(ISBLANK(MissingData)+ISERROR(MissingData)+LEN(MissingData)=0, \"\", ROW(MissingData)-MIN(ROW(MissingData))+1), ROW(1185:1185))),\"\")","v":"WH7____SLD_SPL_N"},"","",null,"WH7____SLD_SPL_N","","WH7SLDSPLN","WH7____SLD_SPL_N",1,"______"]
[null,null,null,null,null,null,null,null,null,null,null,null,null,null,null,null,null,null,null,null,null,{"$f":"IFERROR(INDEX(MissingData, SMALL(IF(ISBLANK(MissingData)+ISERROR(MissingData)+LEN(MissingData)=0, \"\", ROW(MissingData)-MIN(ROW(MissingData))+1), ROW(1186:1186))),\"\")","v":"WH7____SLD_SS_N"},"","",null,"WH7____SLD_SS_N","","WH7SLDSSN","WH7____SLD_SS_N",1,"______"]
[null,null,null,null,null,null,null,null,null,null,null,null,null,null,null,null,null,null,null,null,null,{"$f":"IFERROR(INDEX(MissingData, SMALL(IF(ISBLANK(MissingData)+ISERROR(MissingData)+LEN(MissingData)=0, \"\", ROW(MissingData)-MIN(ROW(MissingData))+1), ROW(1187:1187))),\"\")","v":"WH7____SLI_RF_N"},"","",null,"WH7____SLI_RF_N","","WH7SLIRFN","WH7____SLI_RF_N",1,"______"]
[null,null,null,null,null,null,null,null,null,null,null,null,null,null,null,null,null,null,null,null,null,{"$f":"IFERROR(INDEX(MissingData, SMALL(IF(ISBLANK(MissingData)+ISERROR(MissingData)+LEN(MissingData)=0, \"\", ROW(MissingData)-MIN(ROW(MissingData))+1), ROW(1188:1188))),\"\")","v":"WH7____TBI_H_N"},"","",null,"WH7____TBI_H_N","","WH7TBIHN","WH7____TBI_H_N",1,"______"]
[null,null,null,null,null,null,null,null,null,null,null,null,null,null,null,null,null,null,null,null,null,{"$f":"IFERROR(INDEX(MissingData, SMALL(IF(ISBLANK(MissingData)+ISERROR(MissingData)+LEN(MissingData)=0, \"\", ROW(MissingData)-MIN(ROW(MissingData))+1), ROW(1189:1189))),\"\")","v":"WH7____TBI_REC09YSVCS_N"},"","",null,"WH7____TBI_REC09YSVCS_N","","WH7TBIREC09YSVCSN","WH7____TBI_REC09YSVCS_N",1,"______"]
[null,null,null,null,null,null,null,null,null,null,null,null,null,null,null,null,null,null,null,null,null,{"$f":"IFERROR(INDEX(MissingData, SMALL(IF(ISBLANK(MissingData)+ISERROR(MissingData)+LEN(MissingData)=0, \"\", ROW(MissingData)-MIN(ROW(MissingData))+1), ROW(1190:1190))),\"\")","v":"WH7____TBI_REC09YOTHLOC_N"},"","",null,"WH7____TBI_REC09YOTHLOC_N","","WH7TBIREC09YOTHLOCN","WH7____TBI_REC09YOTHLOC_N",1,"______"]
[null,null,null,null,null,null,null,null,null,null,null,null,null,null,null,null,null,null,null,null,null,{"$f":"IFERROR(INDEX(MissingData, SMALL(IF(ISBLANK(MissingData)+ISERROR(MissingData)+LEN(MissingData)=0, \"\", ROW(MissingData)-MIN(ROW(MissingData))+1), ROW(1191:1191))),\"\")","v":"WH7____TBI_RF_N"},"","",null,"WH7____TBI_RF_N","","WH7TBIRFN","WH7____TBI_RF_N",1,"______"]
[null,null,null,null,null,null,null,null,null,null,null,null,null,null,null,null,null,null,null,null,null,{"$f":"IFERROR(INDEX(MissingData, SMALL(IF(ISBLANK(MissingData)+ISERROR(MissingData)+LEN(MissingData)=0, \"\", ROW(MissingData)-MIN(ROW(MissingData))+1), ROW(1192:1192))),\"\")","v":"WH7____TBI_SPL_N"},"","",null,"WH7____TBI_SPL_N","","WH7TBISPLN","WH7____TBI_SPL_N",1,"______"]
[null,null,null,null,null,null,null,null,null,null,null,null,null,null,null,null,null,null,null,null,null,{"$f":"IFERROR(INDEX(MissingData, SMALL(IF(ISBLANK(MissingData)+ISERROR(MissingData)+LEN(MissingData)=0, \"\", ROW(MissingData)-MIN(ROW(MissingData))+1), ROW(1193:1193))),\"\")","v":"WH7____VI_H_N"},"","",null,"WH7____VI_H_N","","WH7VIHN","WH7____VI_H_N",1,"______"]
[null,null,null,null,null,null,null,null,null,null,null,null,null,null,null,null,null,null,null,null,null,{"$f":"IFERROR(INDEX(MissingData, SMALL(IF(ISBLANK(MissingData)+ISERROR(MissingData)+LEN(MissingData)=0, \"\", ROW(MissingData)-MIN(ROW(MissingData))+1), ROW(1194:1194))),\"\")","v":"WH7____VI_REC09YSVCS_N"},"","",null,"WH7____VI_REC09YSVCS_N","","WH7VIREC09YSVCSN","WH7____VI_REC09YSVCS_N",1,"______"]
[null,null,null,null,null,null,null,null,null,null,null,null,null,null,null,null,null,null,null,null,null,{"$f":"IFERROR(INDEX(MissingData, SMALL(IF(ISBLANK(MissingData)+ISERROR(MissingData)+LEN(MissingData)=0, \"\", ROW(MissingData)-MIN(ROW(MissingData))+1), ROW(1195:1195))),\"\")","v":"WH7____VI_REC09YOTHLOC_N"},"","",null,"WH7____VI_REC09YOTHLOC_N","","WH7VIREC09YOTHLOCN","WH7____VI_REC09YOTHLOC_N",1,"______"]
[null,null,null,null,null,null,null,null,null,null,null,null,null,null,null,null,null,null,null,null,null,{"$f":"IFERROR(INDEX(MissingData, SMALL(IF(ISBLANK(MissingData)+ISERROR(MissingData)+LEN(MissingData)=0, \"\", ROW(MissingData)-MIN(ROW(MissingData))+1), ROW(1196:1196))),\"\")","v":"WH7____VI_RF_N"},"","",null,"WH7____VI_RF_N","","WH7VIRFN","WH7____VI_RF_N",1,"______"]
[null,null,null,null,null,null,null,null,null,null,null,null,null,null,null,null,null,null,null,null,null,{"$f":"IFERROR(INDEX(MissingData, SMALL(IF(ISBLANK(MissingData)+ISERROR(MissingData)+LEN(MissingData)=0, \"\", ROW(MissingData)-MIN(ROW(MissingData))+1), ROW(1197:1197))),\"\")","v":"WH7____VI_SPL_N"},"","",null,"WH7____VI_SPL_N","","WH7VISPLN","WH7____VI_SPL_N",1,"______"]
[null,null,null,null,null,null,null,null,null,null,null,null,null,null,null,null,null,null,null,null,null,{"$f":"IFERROR(INDEX(MissingData, SMALL(IF(ISBLANK(MissingData)+ISERROR(MissingData)+LEN(MissingData)=0, \"\", ROW(MissingData)-MIN(ROW(MissingData))+1), ROW(1198:1198))),\"\")","v":"_F____RF_N"},"","",null,"_F____RF_N","","FRFN","_F____RF_N",1,"______"]
[null,null,null,null,null,null,null,null,null,null,null,null,null,null,null,null,null,null,null,null,null,{"$f":"IFERROR(INDEX(MissingData, SMALL(IF(ISBLANK(MissingData)+ISERROR(MissingData)+LEN(MissingData)=0, \"\", ROW(MissingData)-MIN(ROW(MissingData))+1), ROW(1199:1199))),\"\")","v":"_M____REC09YSVCS_N"},"","",null,"_M____REC09YSVCS_N","","MREC09YSVCSN","_M____REC09YSVCS_N",1,"______"]
[null,null,null,null,null,null,null,null,null,null,null,null,null,null,null,null,null,null,null,null,null,{"$f":"IFERROR(INDEX(MissingData, SMALL(IF(ISBLANK(MissingData)+ISERROR(MissingData)+LEN(MissingData)=0, \"\", ROW(MissingData)-MIN(ROW(MissingData))+1), ROW(1200:1200))),\"\")","v":"_M____RF_N"},"","",null,"_M____RF_N","","MRFN","_M____RF_N",1,"______"]
[null,null,null,null,null,null,null,null,null,null,null,null,null,null,null,null,null,null,null,null,null,{"$f":"IFERROR(INDEX(MissingData, SMALL(IF(ISBLANK(MissingData)+ISERROR(MissingData)+LEN(MissingData)=0, \"\", ROW(MissingData)-MIN(ROW(MissingData))+1), ROW(1201:1201))),\"\")","v":"___LEP__H_N"},"","",null,"___LEP__H_N","","LEPHN","___LEP__H_N",1,"______"]
[null,null,null,null,null,null,null,null,null,null,null,null,null,null,null,null,null,null,null,null,null,{"$f":"IFERROR(INDEX(MissingData, SMALL(IF(ISBLANK(MissingData)+ISERROR(MissingData)+LEN(MissingData)=0, \"\", ROW(MissingData)-MIN(ROW(MissingData))+1), ROW(1202:1202))),\"\")","v":"___LEP__REC09YSVCS_N"},"","",null,"___LEP__REC09YSVCS_N","","LEPREC09YSVCSN","___LEP__REC09YSVCS_N",1,"______"]
[null,null,null,null,null,null,null,null,null,null,null,null,null,null,null,null,null,null,null,null,null,{"$f":"IFERROR(INDEX(MissingData, SMALL(IF(ISBLANK(MissingData)+ISERROR(MissingData)+LEN(MissingData)=0, \"\", ROW(MissingData)-MIN(ROW(MissingData))+1), ROW(1203:1203))),\"\")","v":"___LEP__REC09YOTHLOC_N"},"","",null,"___LEP__REC09YOTHLOC_N","","LEPREC09YOTHLOCN","___LEP__REC09YOTHLOC_N",1,"______"]
[null,null,null,null,null,null,null,null,null,null,null,null,null,null,null,null,null,null,null,null,null,{"$f":"IFERROR(INDEX(MissingData, SMALL(IF(ISBLANK(MissingData)+ISERROR(MissingData)+LEN(MissingData)=0, \"\", ROW(MissingData)-MIN(ROW(MissingData))+1), ROW(1204:1204))),\"\")","v":"___LEP__RF_N"},"","",null,"___LEP__RF_N","","LEPRFN","___LEP__RF_N",1,"______"]
[null,null,null,null,null,null,null,null,null,null,null,null,null,null,null,null,null,null,null,null,null,{"$f":"IFERROR(INDEX(MissingData, SMALL(IF(ISBLANK(MissingData)+ISERROR(MissingData)+LEN(MissingData)=0, \"\", ROW(MissingData)-MIN(ROW(MissingData))+1), ROW(1205:1205))),\"\")","v":"___LEP__SS_N"},"","",null,"___LEP__SS_N","","LEPSSN","___LEP__SS_N",1,"______"]
[null,null,null,null,null,null,null,null,null,null,null,null,null,null,null,null,null,null,null,null,null,{"$f":"IFERROR(INDEX(MissingData, SMALL(IF(ISBLANK(MissingData)+ISERROR(MissingData)+LEN(MissingData)=0, \"\", ROW(MissingData)-MIN(ROW(MissingData))+1), ROW(1206:1206))),\"\")","v":"___NLEP__RF_N"},"","",null,"___NLEP__RF_N","","NLEPRFN","___NLEP__RF_N",1,"______"]
[null,null,null,null,null,null,null,null,null,null,null,null,null,null,null,null,null,null,null,null,null,{"$f":"IFERROR(INDEX(MissingData, SMALL(IF(ISBLANK(MissingData)+ISERROR(MissingData)+LEN(MissingData)=0, \"\", ROW(MissingData)-MIN(ROW(MissingData))+1), ROW(1207:1207))),\"\")","v":"_F_____Y"},"","",null,"_F_____Y","","FY","_F_____Y",1,"______"]
[null,null,null,null,null,null,null,null,null,null,null,null,null,null,null,null,null,null,null,null,null,{"$f":"IFERROR(INDEX(MissingData, SMALL(IF(ISBLANK(MissingData)+ISERROR(MissingData)+LEN(MissingData)=0, \"\", ROW(MissingData)-MIN(ROW(MissingData))+1), ROW(1208:1208))),\"\")","v":"_M_____Y"},"","",null,"_M_____Y","","MY","_M_____Y",1,"______"]
[null,null,null,null,null,null,null,null,null,null,null,null,null,null,null,null,null,null,null,null,null,{"$f":"IFERROR(INDEX(MissingData, SMALL(IF(ISBLANK(MissingData)+ISERROR(MissingData)+LEN(MissingData)=0, \"\", ROW(MissingData)-MIN(ROW(MissingData))+1), ROW(1209:1209))),\"\")","v":"__3____Y"},"","",null,"__3____Y","","3Y","__3____Y",1,"______"]
[null,null,null,null,null,null,null,null,null,null,null,null,null,null,null,null,null,null,null,null,null,{"$f":"IFERROR(INDEX(MissingData, SMALL(IF(ISBLANK(MissingData)+ISERROR(MissingData)+LEN(MissingData)=0, \"\", ROW(MissingData)-MIN(ROW(MissingData))+1), ROW(1210:1210))),\"\")","v":"__4____Y"},"","",null,"__4____Y","","4Y","__4____Y",1,"______"]
[null,null,null,null,null,null,null,null,null,null,null,null,null,null,null,null,null,null,null,null,null,{"$f":"IFERROR(INDEX(MissingData, SMALL(IF(ISBLANK(MissingData)+ISERROR(MissingData)+LEN(MissingData)=0, \"\", ROW(MissingData)-MIN(ROW(MissingData))+1), ROW(1211:1211))),\"\")","v":"__AGE05NOTK____Y"},"","",null,"__AGE05NOTK____Y","","AGE05NOTKY","__AGE05NOTK____Y",1,"______"]
[null,null,null,null,null,null,null,null,null,null,null,null,null,null,null,null,null,null,null,null,null,{"$f":"IFERROR(INDEX(MissingData, SMALL(IF(ISBLANK(MissingData)+ISERROR(MissingData)+LEN(MissingData)=0, \"\", ROW(MissingData)-MIN(ROW(MissingData))+1), ROW(1212:1212))),\"\")","v":"____AUT__Y"},"","",null,"____AUT__Y","","AUTY","____AUT__Y",1,"______"]
[null,null,null,null,null,null,null,null,null,null,null,null,null,null,null,null,null,null,null,null,null,{"$f":"IFERROR(INDEX(MissingData, SMALL(IF(ISBLANK(MissingData)+ISERROR(MissingData)+LEN(MissingData)=0, \"\", ROW(MissingData)-MIN(ROW(MissingData))+1), ROW(1213:1213))),\"\")","v":"____DB__Y"},"","",null,"____DB__Y","","DBY","____DB__Y",1,"______"]
[null,null,null,null,null,null,null,null,null,null,null,null,null,null,null,null,null,null,null,null,null,{"$f":"IFERROR(INDEX(MissingData, SMALL(IF(ISBLANK(MissingData)+ISERROR(MissingData)+LEN(MissingData)=0, \"\", ROW(MissingData)-MIN(ROW(MissingData))+1), ROW(1214:1214))),\"\")","v":"____DD__Y"},"","",null,"____DD__Y","","DDY","____DD__Y",1,"______"]
[null,null,null,null,null,null,null,null,null,null,null,null,null,null,null,null,null,null,null,null,null,{"$f":"IFERROR(INDEX(MissingData, SMALL(IF(ISBLANK(MissingData)+ISERROR(MissingData)+LEN(MissingData)=0, \"\", ROW(MissingData)-MIN(ROW(MissingData))+1), ROW(1215:1215))),\"\")","v":"____EMN__Y"},"","",null,"____EMN__Y","","EMNY","____EMN__Y",1,"______"]
[null,null,null,null,null,null,null,null,null,null,null,null,null,null,null,null,null,null,null,null,null,{"$f":"IFERROR(INDEX(MissingData, SMALL(IF(ISBLANK(MissingData)+ISERROR(MissingData)+LEN(MissingData)=0, \"\", ROW(MissingData)-MIN(ROW(MissingData))+1), ROW(1216:1216))),\"\")","v":"____HI__Y"},"","",null,"____HI__Y","","HIY","____HI__Y",1,"______"]
[null,null,null,null,null,null,null,null,null,null,null,null,null,null,null,null,null,null,null,null,null,{"$f":"IFERROR(INDEX(MissingData, SMALL(IF(ISBLANK(MissingData)+ISERROR(MissingData)+LEN(MissingData)=0, \"\", ROW(MissingData)-MIN(ROW(MissingData))+1), ROW(1217:1217))),\"\")","v":"____MD__Y"},{"$f":"IF(LEN(AA1230)=0,\"\",IF(COUNTIF(CurrentListing_C089,AA1230)>1,AE1230,\"\"))","v":""},{"$f":"IF(LEN(AA1230)=0,\"\",IF(ISNA(MATCH(AA1230,MasterListing,0)),AE1230,\"\"))","v":""},null,{"$f":"IF(LEN(AC1230)=0,\"\",IF(ISNA(MATCH(AB1230,CurrentListing_C089,0)),AC1230,\"\"))","v":"____MD__Y"},"","MDY","____MD__Y",1,"______"]
[null,null,null,null,null,null,null,null,null,null,null,null,null,null,null,null,null,null,null,null,null,{"$f":"IFERROR(INDEX(MissingData, SMALL(IF(ISBLANK(MissingData)+ISERROR(MissingData)+LEN(MissingData)=0, \"\", ROW(MissingData)-MIN(ROW(MissingData))+1), ROW(1218:1218))),\"\")","v":"____ID__Y"},"","",null,"____ID__Y",{"$f":"G1231&H1231&I1231&J1231&K1231&Q1231&R1231","v":""},"IDY","____ID__Y",1,{"$f":"G1231&\"_\"&H1231&\"_\"&I1231&\"_\"&J1231&\"_\"&K1231&\"_\"&Q1231&\"_\"&R1231","v":"______"}]
[null,null,null,null,null,null,null,null,null,null,null,null,null,null,null,null,null,null,null,null,null,{"$f":"IFERROR(INDEX(MissingData, SMALL(IF(ISBLANK(MissingData)+ISERROR(MissingData)+LEN(MissingData)=0, \"\", ROW(MissingData)-MIN(ROW(MissingData))+1), ROW(1219:1219))),\"\")","v":"____OHI__Y"},"","",null,"____OHI__Y","","OHIY","____OHI__Y",{"$f":"IF(LEN(V1232)>0,1,0)","v":1},"______"]
[null,null,null,null,null,null,null,null,null,null,null,null,null,null,null,null,null,null,null,null,null,{"$f":"IFERROR(INDEX(MissingData, SMALL(IF(ISBLANK(MissingData)+ISERROR(MissingData)+LEN(MissingData)=0, \"\", ROW(MissingData)-MIN(ROW(MissingData))+1), ROW(1220:1220))),\"\")","v":"____OI__Y"},"","",null,"____OI__Y","","OIY","____OI__Y",1,"______"]
[null,null,null,null,null,null,null,null,null,null,null,null,null,null,null,null,null,null,null,null,null,{"$f":"IFERROR(INDEX(MissingData, SMALL(IF(ISBLANK(MissingData)+ISERROR(MissingData)+LEN(MissingData)=0, \"\", ROW(MissingData)-MIN(ROW(MissingData))+1), ROW(1221:1221))),\"\")","v":"____SLD__Y"},"","",null,"____SLD__Y","","SLDY","____SLD__Y",1,"______"]
[null,null,null,null,null,null,null,null,null,null,null,null,null,null,null,null,null,null,null,null,null,{"$f":"IFERROR(INDEX(MissingData, SMALL(IF(ISBLANK(MissingData)+ISERROR(MissingData)+LEN(MissingData)=0, \"\", ROW(MissingData)-MIN(ROW(MissingData))+1), ROW(1222:1222))),\"\")","v":"____SLI__Y"},"","",null,"____SLI__Y","","SLIY","____SLI__Y",1,"______"]
[null,null,null,null,null,null,null,null,null,null,null,null,null,null,null,null,null,null,null,null,null,{"$f":"IFERROR(INDEX(MissingData, SMALL(IF(ISBLANK(MissingData)+ISERROR(MissingData)+LEN(MissingData)=0, \"\", ROW(MissingData)-MIN(ROW(MissingData))+1), ROW(1223:1223))),\"\")","v":"____TBI__Y"},"","",null,"____TBI__Y","","TBIY","____TBI__Y",1,"______"]
[null,null,null,null,null,null,null,null,null,null,null,null,null,null,null,null,null,null,null,null,null,{"$f":"IFERROR(INDEX(MissingData, SMALL(IF(ISBLANK(MissingData)+ISERROR(MissingData)+LEN(MissingData)=0, \"\", ROW(MissingData)-MIN(ROW(MissingData))+1), ROW(1224:1224))),\"\")","v":"____VI__Y"},"","",null,"____VI__Y","","VIY","____VI__Y",1,"______"]
[null,null,null,null,null,null,null,null,null,null,null,null,null,null,null,null,null,null,null,null,null,{"$f":"IFERROR(INDEX(MissingData, SMALL(IF(ISBLANK(MissingData)+ISERROR(MissingData)+LEN(MissingData)=0, \"\", ROW(MissingData)-MIN(ROW(MissingData))+1), ROW(1225:1225))),\"\")","v":"AM7______Y"},"","",null,"AM7______Y","","AM7Y","AM7______Y",1,"______"]
[null,null,null,null,null,null,null,null,null,null,null,null,null,null,null,null,null,null,null,null,null,{"$f":"IFERROR(INDEX(MissingData, SMALL(IF(ISBLANK(MissingData)+ISERROR(MissingData)+LEN(MissingData)=0, \"\", ROW(MissingData)-MIN(ROW(MissingData))+1), ROW(1226:1226))),\"\")","v":"AS7______Y"},"","",null,"AS7______Y","","AS7Y","AS7______Y",1,"______"]
[null,null,null,null,null,null,null,null,null,null,null,null,null,null,null,null,null,null,null,null,null,{"$f":"IFERROR(INDEX(MissingData, SMALL(IF(ISBLANK(MissingData)+ISERROR(MissingData)+LEN(MissingData)=0, \"\", ROW(MissingData)-MIN(ROW(MissingData))+1), ROW(1227:1227))),\"\")","v":"BL7______Y"},"","",null,"BL7______Y","","BL7Y","BL7______Y",1,"______"]
[null,null,null,null,null,null,null,null,null,null,null,null,null,null,null,null,null,null,null,null,null,{"$f":"IFERROR(INDEX(MissingData, SMALL(IF(ISBLANK(MissingData)+ISERROR(MissingData)+LEN(MissingData)=0, \"\", ROW(MissingData)-MIN(ROW(MissingData))+1), ROW(1228:1228))),\"\")","v":"HI7______Y"},"","",null,"HI7______Y","","HI7Y","HI7______Y",1,"______"]
[null,null,null,null,null,null,null,null,null,null,null,null,null,null,null,null,null,null,null,null,null,{"$f":"IFERROR(INDEX(MissingData, SMALL(IF(ISBLANK(MissingData)+ISERROR(MissingData)+LEN(MissingData)=0, \"\", ROW(MissingData)-MIN(ROW(MissingData))+1), ROW(1229:1229))),\"\")","v":"MU7______Y"},"","",null,"MU7______Y","","MU7Y","MU7______Y",1,"______"]
[null,null,null,null,null,null,null,null,null,null,null,null,null,null,null,null,null,null,null,null,null,{"$f":"IFERROR(INDEX(MissingData, SMALL(IF(ISBLANK(MissingData)+ISERROR(MissingData)+LEN(MissingData)=0, \"\", ROW(MissingData)-MIN(ROW(MissingData))+1), ROW(1230:1230))),\"\")","v":"PI7______Y"},"","",null,"PI7______Y","","PI7Y","PI7______Y",1,"______"]
[null,null,null,null,null,null,null,null,null,null,null,null,null,null,null,null,null,null,null,null,null,{"$f":"IFERROR(INDEX(MissingData, SMALL(IF(ISBLANK(MissingData)+ISERROR(MissingData)+LEN(MissingData)=0, \"\", ROW(MissingData)-MIN(ROW(MissingData))+1), ROW(1231:1231))),\"\")","v":"WH7______Y"},"","",null,"WH7______Y","","WH7Y","WH7______Y",1,"______"]
[null,null,null,null,null,null,null,null,null,null,null,null,null,null,null,null,null,null,null,null,null,{"$f":"IFERROR(INDEX(MissingData, SMALL(IF(ISBLANK(MissingData)+ISERROR(MissingData)+LEN(MissingData)=0, \"\", ROW(MissingData)-MIN(ROW(MissingData))+1), ROW(1232:1232))),\"\")","v":"___LEP___Y"},"","",null,"___LEP___Y","","LEPY","___LEP___Y",1,"______"]
[null,null,null,null,null,null,null,null,null,null,null,null,null,null,null,null,null,null,null,null,null,{"$f":"IFERROR(INDEX(MissingData, SMALL(IF(ISBLANK(MissingData)+ISERROR(MissingData)+LEN(MissingData)=0, \"\", ROW(MissingData)-MIN(ROW(MissingData))+1), ROW(1233:1233))),\"\")","v":"___NLEP___Y"},"","",null,"___NLEP___Y","","NLEPY","___NLEP___Y",1,"______"]
[null,null,null,null,null,null,null,null,null,null,null,null,null,null,null,null,null,null,null,null,null,{"$f":"IFERROR(INDEX(MissingData, SMALL(IF(ISBLANK(MissingData)+ISERROR(MissingData)+LEN(MissingData)=0, \"\", ROW(MissingData)-MIN(ROW(MissingData))+1), ROW(1234:1234))),\"\")","v":"_____H_Y"},"","",null,"_____H_Y","","HY","_____H_Y",1,"______"]
[null,null,null,null,null,null,null,null,null,null,null,null,null,null,null,null,null,null,null,null,null,{"$f":"IFERROR(INDEX(MissingData, SMALL(IF(ISBLANK(MissingData)+ISERROR(MissingData)+LEN(MissingData)=0, \"\", ROW(MissingData)-MIN(ROW(MissingData))+1), ROW(1235:1235))),\"\")","v":"_____REC09YOTHLOC_Y"},"","",null,"_____REC09YOTHLOC_Y","","REC09YOTHLOCY","_____REC09YOTHLOC_Y",1,"______"]
[null,null,null,null,null,null,null,null,null,null,null,null,null,null,null,null,null,null,null,null,null,{"$f":"IFERROR(INDEX(MissingData, SMALL(IF(ISBLANK(MissingData)+ISERROR(MissingData)+LEN(MissingData)=0, \"\", ROW(MissingData)-MIN(ROW(MissingData))+1), ROW(1236:1236))),\"\")","v":"_____REC09YSVCS_Y"},"","",null,"_____REC09YSVCS_Y","","REC09YSVCSY","_____REC09YSVCS_Y",1,"______"]
[null,null,null,null,null,null,null,null,null,null,null,null,null,null,null,null,null,null,null,null,null,{"$f":"IFERROR(INDEX(MissingData, SMALL(IF(ISBLANK(MissingData)+ISERROR(MissingData)+LEN(MissingData)=0, \"\", ROW(MissingData)-MIN(ROW(MissingData))+1), ROW(1237:1237))),\"\")","v":"_____REC10YOTHLOC_Y"},"","",null,"_____REC10YOTHLOC_Y","","REC10YOTHLOCY","_____REC10YOTHLOC_Y",1,"______"]
[null,null,null,null,null,null,null,null,null,null,null,null,null,null,null,null,null,null,null,null,null,{"$f":"IFERROR(INDEX(MissingData, SMALL(IF(ISBLANK(MissingData)+ISERROR(MissingData)+LEN(MissingData)=0, \"\", ROW(MissingData)-MIN(ROW(MissingData))+1), ROW(1238:1238))),\"\")","v":"_____REC10YSVCS_Y"},"","",null,"_____REC10YSVCS_Y","","REC10YSVCSY","_____REC10YSVCS_Y",1,"______"]
[null,null,null,null,null,null,null,null,null,null,null,null,null,null,null,null,null,null,null,null,null,{"$f":"IFERROR(INDEX(MissingData, SMALL(IF(ISBLANK(MissingData)+ISERROR(MissingData)+LEN(MissingData)=0, \"\", ROW(MissingData)-MIN(ROW(MissingData))+1), ROW(1239:1239))),\"\")","v":"_____SC_Y"},"","",null,"_____SC_Y","","SCY","_____SC_Y",1,"______"]
[null,null,null,null,null,null,null,null,null,null,null,null,null,null,null,null,null,null,null,null,null,{"$f":"IFERROR(INDEX(MissingData, SMALL(IF(ISBLANK(MissingData)+ISERROR(MissingData)+LEN(MissingData)=0, \"\", ROW(MissingData)-MIN(ROW(MissingData))+1), ROW(1240:1240))),\"\")","v":"_____SPL_Y"},"","",null,"_____SPL_Y","","SPLY","_____SPL_Y",1,"______"]
[null,null,null,null,null,null,null,null,null,null,null,null,null,null,null,null,null,null,null,null,null,{"$f":"IFERROR(INDEX(MissingData, SMALL(IF(ISBLANK(MissingData)+ISERROR(MissingData)+LEN(MissingData)=0, \"\", ROW(MissingData)-MIN(ROW(MissingData))+1), ROW(1241:1241))),\"\")","v":"_____SS_Y"},"","",null,"_____SS_Y","","SSY","_____SS_Y",1,"______"]
[null,null,null,null,null,null,null,null,null,null,null,null,null,null,null,null,null,null,null,null,null,{"$f":"IFERROR(INDEX(MissingData, SMALL(IF(ISBLANK(MissingData)+ISERROR(MissingData)+LEN(MissingData)=0, \"\", ROW(MissingData)-MIN(ROW(MissingData))+1), ROW(1242:1242))),\"\")","v":"______Y"},"","",null,"______Y","","Y","______Y",1,"______"]
[null,null,null,null,null,null,null,null,null,null,null,null,null,null,null,null,null,null,null,null,null,{"$f":"IFERROR(INDEX(MissingData, SMALL(IF(ISBLANK(MissingData)+ISERROR(MissingData)+LEN(MissingData)=0, \"\", ROW(MissingData)-MIN(ROW(MissingData))+1), ROW(1243:1243))),\"\")","v":"_____RF_Y"},"","",null,"_____RF_Y","","RFY","_____RF_Y",1,"______"]
[]
[]
[]
[]
[]
[]
[]
[]
[]
[]
[]
[]
[]
[]
[]
[]
[]
[]
[]
[]
[]
[]
[]
[]
[]
[]
[]
[]
[]
[]
[]
[]
[]
[]
[]
[]
[]
[]
[]
[]
[]
[]
["End of worksheet"]

{"sheet":"Error Messages","index":2,"n_rows":200,"n_cols":27,"rows_kept":200,"cut":false,"hidden":false,"merged":[[0,0,0,15],[3,9,3,15],[4,9,4,14],[5,9,5,14],[6,9,6,14],[9,0,10,0],[9,1,10,11],[9,12,9,15],[199,1,199,11],[193,1,193,11],[194,1,194,11],[195,1,195,11],[196,1,196,11],[197,1,197,11],[198,1,198,11],[187,1,187,11],[188,1,188,11],[189,1,189,11],[190,1,190,11],[191,1,191,11],[192,1,192,11],[181,1,181,11],[182,1,182,11],[183,1,183,11],[184,1,184,11],[185,1,185,11],[186,1,186,11],[175,1,175,11],[176,1,176,11],[177,1,177,11],[178,1,178,11],[179,1,179,11],[180,1,180,11],[169,1,169,11],[170,1,170,11],[171,1,171,11],[172,1,172,11],[173,1,173,11],[174,1,174,11],[163,1,163,11],[164,1,164,11],[165,1,165,11],[166,1,166,11],[167,1,167,11],[168,1,168,11],[157,1,157,11],[158,1,158,11],[159,1,159,11],[160,1,160,11],[161,1,161,11],[162,1,162,11],[151,1,151,11],[152,1,152,11],[153,1,153,11],[154,1,154,11],[155,1,155,11],[156,1,156,11],[145,1,145,11],[146,1,146,11],[147,1,147,11],[148,1,148,11],[149,1,149,11],[150,1,150,11],[139,1,139,11],[140,1,140,11],[141,1,141,11],[142,1,142,11],[143,1,143,11],[144,1,144,11],[133,1,133,11],[134,1,134,11],[135,1,135,11],[136,1,136,11],[137,1,137,11],[138,1,138,11],[127,1,127,11],[128,1,128,11],[129,1,129,11],[130,1,130,11],[131,1,131,11],[132,1,132,11],[121,1,121,11],[122,1,122,11],[123,1,123,11],[124,1,124,11],[125,1,125,11],[126,1,126,11],[115,1,115,11],[116,1,116,11],[117,1,117,11],[118,1,118,11],[119,1,119,11],[120,1,120,11],[109,1,109,11],[110,1,110,11],[111,1,111,11],[112,1,112,11],[113,1,113,11],[114,1,114,11],[103,1,103,11],[104,1,104,11],[105,1,105,11],[106,1,106,11],[107,1,107,11],[108,1,108,11],[97,1,97,11],[98,1,98,11],[99,1,99,11],[100,1,100,11],[101,1,101,11],[102,1,102,11],[91,1,91,11],[92,1,92,11],[93,1,93,11],[94,1,94,11],[95,1,95,11],[96,1,96,11],[85,1,85,11],[86,1,86,11],[87,1,87,11],[88,1,88,11],[89,1,89,11],[90,1,90,11],[79,1,79,11],[80,1,80,11],[81,1,81,11],[82,1,82,11],[83,1,83,11],[84,1,84,11],[73,1,73,11],[74,1,74,11],[75,1,75,11],[76,1,76,11],[77,1,77,11],[78,1,78,11],[67,1,67,11],[68,1,68,11],[69,1,69,11],[70,1,70,11],[71,1,71,11],[72,1,72,11],[61,1,61,11],[62,1,62,11],[63,1,63,11],[64,1,64,11],[65,1,65,11],[66,1,66,11],[55,1,55,11],[56,1,56,11],[57,1,57,11],[58,1,58,11],[59,1,59,11],[60,1,60,11],[49,1,49,11],[50,1,50,11],[51,1,51,11],[52,1,52,11],[53,1,53,11],[54,1,54,11],[43,1,43,11],[44,1,44,11],[45,1,45,11],[46,1,46,11],[47,1,47,11],[48,1,48,11],[38,1,38,11],[39,1,39,11],[40,1,40,11],[41,1,41,11],[42,1,42,11],[34,1,34,11],[11,1,11,11],[12,1,12,11],[13,1,13,11],[14,1,14,11],[15,1,15,11],[6,20,6,23],[6,24,6,27],[35,1,35,11],[36,1,36,11],[37,1,37,11],[28,1,28,11],[29,1,29,11],[30,1,30,11],[31,1,31,11],[32,1,32,11],[33,1,33,11],[22,1,22,11],[23,1,23,11],[24,1,24,11],[25,1,25,11],[26,1,26,11],[27,1,27,11],[16,1,16,11],[17,1,17,11],[18,1,18,11],[19,1,19,11],[20,1,20,11],[21,1,21,11]]}
[{"$f":"\"IDEA Child Count and Educational Environment Ages 3–5 for School Year \"&'FS089'!E13","v":"IDEA Child Count and Educational Environment Ages 3–5 for School Year "}]
[]
[]
[null,null,null,null,null,null,null,null,null,"Triggered Edit Checks"]
[null,null,null,null,null,null,null,null,null,"Data File",null,null,null,null,null,"Count"]
[null,null,null,null,null,null,null,null,null,"FS089 - Children with Disabilities (IDEA) Early Childhood",null,null,null,null,null,{"$f":"SUM(Subtotals!E53:E179)","v":80}]
[null,null,null,null,null,null,null,null,null,"Total",null,null,null,null,null,{"$f":"P6","v":80},null,null,null,null,"Student Count 1",null,null,null,"Student Count 2"]
[null,null,null,null,null,null,null,null,null,null,null,null,null,null,null,null,null,null,null,null,1]
[null,null,null,null,null,null,null,null,null,null,null,null,null,null,null,null,null,null,{"$f":"IFERROR(INDEX(Subtotals!$A$53:$A$199, SMALL(IF(Subtotals!$C$50=Subtotals!$E$53:$E$199, ROW(Subtotals!$E$53:$E$199)-MIN(ROW(Subtotals!$E$53:$E$199))+1, \"\"), ROW(A1))),\"\")","v":"A/3"},{"$f":"IFERROR(INDEX(Subtotals!$B$53:$B$199, SMALL(IF(Subtotals!$C$50=Subtotals!$E$53:$E$199, ROW(Subtotals!$E$53:$E$199)-MIN(ROW(Subtotals!$E$53:$E$199))+1, \"\"), ROW(A1))),\"\")","v":0},{"$f":"IFERROR(INDEX(Subtotals!$F$53:$F$199, SMALL(IF(Subtotals!$C$50=Subtotals!$E$53:$E$199, ROW(Subtotals!$E$53:$E$199)-MIN(ROW(Subtotals!$E$53:$E$199))+1, \"\"), ROW(A1))),\"\")","v":"V12"},{"$f":"IFERROR(INDEX(Subtotals!$G$53:$G$199, SMALL(IF(Subtotals!$C$50=Subtotals!$E$53:$E$199, ROW(Subtotals!$E$53:$E$199)-MIN(ROW(Subtotals!$E$53:$E$199))+1, \"\"), ROW(A1))),\"\")","v":"C089"},{"$f":"IFERROR(INDEX(Subtotals!$J$53:$J$199, SMALL(IF(Subtotals!$C$50=Subtotals!$E$53:$E$199, ROW(Subtotals!$E$53:$E$199)-MIN(ROW(Subtotals!$E$53:$E$199))+1, \"\"), ROW(A1))),\"\")","v":"Calculated grand total of Intellectual Disability in Category Set A (AL16) ≠ Subtotal 3 (B15)"},null,{"$f":"IFERROR(INDEX(Subtotals!$C$53:$C$199, SMALL(IF(Subtotals!$C$50=Subtotals!$E$53:$E$199, ROW(Subtotals!$E$53:$E$199)-MIN(ROW(Subtotals!$E$53:$E$199))+1, \"\"), ROW(A1))),\"\")","v":"MC"},{"$f":"IFERROR(INDEX(Subtotals!$H$53:$H$199, SMALL(IF(Subtotals!$C$50=Subtotals!$E$53:$E$199, ROW(Subtotals!$E$53:$E$199)-MIN(ROW(Subtotals!$E$53:$E$199))+1, \"\"), ROW(A1))),\"\")","v":"V12"},{"$f":"IFERROR(INDEX(Subtotals!$I$53:$I$199, SMALL(IF(Subtotals!$C$50=Subtotals!$E$53:$E$199, ROW(Subtotals!$E$53:$E$199)-MIN(ROW(Subtotals!$E$53:$E$199))+1, \"\"), ROW(A1))),\"\")","v":"C089"}]
["Category Set/\nSubtotal","Triggered Edit Checks",null,null,null,null,null,null,null,null,null,null,"Student Count",null,null,null,null,null,{"$f":"IFERROR(INDEX(Subtotals!$A$53:$A$199, SMALL(IF(Subtotals!$C$50=Subtotals!$E$53:$E$199, ROW(Subtotals!$E$53:$E$199)-MIN(ROW(Subtotals!$E$53:$E$199))+1, \"\"), ROW(A2))),\"\")","v":"A/3"},{"$f":"IFERROR(INDEX(Subtotals!$B$53:$B$199, SMALL(IF(Subtotals!$C$50=Subtotals!$E$53:$E$199, ROW(Subtotals!$E$53:$E$199)-MIN(ROW(Subtotals!$E$53:$E$199))+1, \"\"), ROW(A2))),\"\")","v":0},{"$f":"IFERROR(INDEX(Subtotals!$F$53:$F$199, SMALL(IF(Subtotals!$C$50=Subtotals!$E$53:$E$199, ROW(Subtotals!$E$53:$E$199)-MIN(ROW(Subtotals!$E$53:$E$199))+1, \"\"), ROW(A2))),\"\")","v":"V12"},{"$f":"IFERROR(INDEX(Subtotals!$G$53:$G$199, SMALL(IF(Subtotals!$C$50=Subtotals!$E$53:$E$199, ROW(Subtotals!$E$53:$E$199)-MIN(ROW(Subtotals!$E$53:$E$199))+1, \"\"), ROW(A2))),\"\")","v":"C089"},{"$f":"IFERROR(INDEX(Subtotals!$J$53:$J$199, SMALL(IF(Subtotals!$C$50=Subtotals!$E$53:$E$199, ROW(Subtotals!$E$53:$E$199)-MIN(ROW(Subtotals!$E$53:$E$199))+1, \"\"), ROW(A2))),\"\")","v":"Calculated grand total of Hearing Impairment in Category Set A (AL17) ≠ Subtotal 3 (B16)"},null,{"$f":"IFERROR(INDEX(Subtotals!$C$53:$C$199, SMALL(IF(Subtotals!$C$50=Subtotals!$E$53:$E$199, ROW(Subtotals!$E$53:$E$199)-MIN(ROW(Subtotals!$E$53:$E$199))+1, \"\"), ROW(A2))),\"\")","v":"MC"},{"$f":"IFERROR(INDEX(Subtotals!$H$53:$H$199, SMALL(IF(Subtotals!$C$50=Subtotals!$E$53:$E$199, ROW(Subtotals!$E$53:$E$199)-MIN(ROW(Subtotals!$E$53:$E$199))+1, \"\"), ROW(A2))),\"\")","v":"V12"},{"$f":"IFERROR(INDEX(Subtotals!$I$53:$I$199, SMALL(IF(Subtotals!$C$50=Subtotals!$E$53:$E$199, ROW(Subtotals!$E$53:$E$199)-MIN(ROW(Subtotals!$E$53:$E$199))+1, \"\"), ROW(A2))),\"\")","v":"C089"}]
[null,null,null,null,null,null,null,null,null,null,null,null,"Cell\nreference","Value","Cell\nreference","Value",null,null,{"$f":"IFERROR(INDEX(Subtotals!$A$53:$A$199, SMALL(IF(Subtotals!$C$50=Subtotals!$E$53:$E$199, ROW(Subtotals!$E$53:$E$199)-MIN(ROW(Subtotals!$E$53:$E$199))+1, \"\"), ROW(A3))),\"\")","v":"A/3"},{"$f":"IFERROR(INDEX(Subtotals!$B$53:$B$199, SMALL(IF(Subtotals!$C$50=Subtotals!$E$53:$E$199, ROW(Subtotals!$E$53:$E$199)-MIN(ROW(Subtotals!$E$53:$E$199))+1, \"\"), ROW(A3))),\"\")","v":0},{"$f":"IFERROR(INDEX(Subtotals!$F$53:$F$199, SMALL(IF(Subtotals!$C$50=Subtotals!$E$53:$E$199, ROW(Subtotals!$E$53:$E$199)-MIN(ROW(Subtotals!$E$53:$E$199))+1, \"\"), ROW(A3))),\"\")","v":"V12"},{"$f":"IFERROR(INDEX(Subtotals!$G$53:$G$199, SMALL(IF(Subtotals!$C$50=Subtotals!$E$53:$E$199, ROW(Subtotals!$E$53:$E$199)-MIN(ROW(Subtotals!$E$53:$E$199))+1, \"\"), ROW(A3))),\"\")","v":"C089"},{"$f":"IFERROR(INDEX(Subtotals!$J$53:$J$199, SMALL(IF(Subtotals!$C$50=Subtotals!$E$53:$E$199, ROW(Subtotals!$E$53:$E$199)-MIN(ROW(Subtotals!$E$53:$E$199))+1, \"\"), ROW(A3))),\"\")","v":"Calculated grand total of Speech or Language Impairment in Category Set A (AL18) ≠ Subtotal 3 (B17)"},null,{"$f":"IFERROR(INDEX(Subtotals!$C$53:$C$199, SMALL(IF(Subtotals!$C$50=Subtotals!$E$53:$E$199, ROW(Subtotals!$E$53:$E$199)-MIN(ROW(Subtotals!$E$53:$E$199))+1, \"\"), ROW(A3))),\"\")","v":"MC"},{"$f":"IFERROR(INDEX(Subtotals!$H$53:$H$199, SMALL(IF(Subtotals!$C$50=Subtotals!$E$53:$E$199, ROW(Subtotals!$E$53:$E$199)-MIN(ROW(Subtotals!$E$53:$E$199))+1, \"\"), ROW(A3))),\"\")","v":"V12"},{"$f":"IFERROR(INDEX(Subtotals!$I$53:$I$199, SMALL(IF(Subtotals!$C$50=Subtotals!$E$53:$E$199, ROW(Subtotals!$E$53:$E$199)-MIN(ROW(Subtotals!$E$53:$E$199))+1, \"\"), ROW(A3))),\"\")","v":"C089"}]
[{"$f":"IF(S9=\"\",\"\",S9)","v":"A/3"},{"$f":"IF(W9=\"\",\"\",W9)","v":"Calculated grand total of Intellectual Disability in Category Set A (AL16) ≠ Subtotal 3 (B15)"},null,null,null,null,null,null,null,null,null,null,{"$f":"U9","v":"V12"},{"$f":"IF(T9=\"\",\"\",HYPERLINK(CONCATENATE(\"#\",\"'\",V9,\"'\",\"!\",U9),T9))","v":0},{"$f":"Z9","v":"V12"},{"$f":"IF(Y9=\"\",\"\",HYPERLINK(CONCATENATE(\"#\",\"'\",AA9,\"'\",\"!\",Z9),Y9))","v":"MC"},null,null,{"$f":"IFERROR(INDEX(Subtotals!$A$53:$A$199, SMALL(IF(Subtotals!$C$50=Subtotals!$E$53:$E$199, ROW(Subtotals!$E$53:$E$199)-MIN(ROW(Subtotals!$E$53:$E$199))+1, \"\"), ROW(A4))),\"\")","v":"A/3"},{"$f":"IFERROR(INDEX(Subtotals!$B$53:$B$199, SMALL(IF(Subtotals!$C$50=Subtotals!$E$53:$E$199, ROW(Subtotals!$E$53:$E$199)-MIN(ROW(Subtotals!$E$53:$E$199))+1, \"\"), ROW(A4))),\"\")","v":0},{"$f":"IFERROR(INDEX(Subtotals!$F$53:$F$199, SMALL(IF(Subtotals!$C$50=Subtotals!$E$53:$E$199, ROW(Subtotals!$E$53:$E$199)-MIN(ROW(Subtotals!$E$53:$E$199))+1, \"\"), ROW(A4))),\"\")","v":"V12"},{"$f":"IFERROR(INDEX(Subtotals!$G$53:$G$199, SMALL(IF(Subtotals!$C$50=Subtotals!$E$53:$E$199, ROW(Subtotals!$E$53:$E$199)-MIN(ROW(Subtotals!$E$53:$E$199))+1, \"\"), ROW(A4))),\"\")","v":"C089"},{"$f":"IFERROR(INDEX(Subtotals!$J$53:$J$199, SMALL(IF(Subtotals!$C$50=Subtotals!$E$53:$E$199, ROW(Subtotals!$E$53:$E$199)-MIN(ROW(Subtotals!$E$53:$E$199))+1, \"\"), ROW(A4))),\"\")","v":"Calculated grand total of Visual Impairment in Category Set A (AL19) ≠ Subtotal 3 (B18)"},null,{"$f":"IFERROR(INDEX(Subtotals!$C$53:$C$199, SMALL(IF(Subtotals!$C$50=Subtotals!$E$53:$E$199, ROW(Subtotals!$E$53:$E$199)-MIN(ROW(Subtotals!$E$53:$E$199))+1, \"\"), ROW(A4))),\"\")","v":"MC"},{"$f":"IFERROR(INDEX(Subtotals!$H$53:$H$199, SMALL(IF(Subtotals!$C$50=Subtotals!$E$53:$E$199, ROW(Subtotals!$E$53:$E$199)-MIN(ROW(Subtotals!$E$53:$E$199))+1, \"\"), ROW(A4))),\"\")","v":"V12"},{"$f":"IFERROR(INDEX(Subtotals!$I$53:$I$199, SMALL(IF(Subtotals!$C$50=Subtotals!$E$53:$E$199, ROW(Subtotals!$E$53:$E$199)-MIN(ROW(Subtotals!$E$53:$E$199))+1, \"\"), ROW(A4))),\"\")","v":"C089"}]
[{"$f":"IF(S10=\"\",\"\",S10)","v":"A/3"},{"$f":"IF(W10=\"\",\"\",W10)","v":"Calculated grand total of Hearing Impairment in Category Set A (AL17) ≠ Subtotal 3 (B16)"},null,null,null,null,null,null,null,null,null,null,{"$f":"U10","v":"V12"},{"$f":"IF(T10=\"\",\"\",HYPERLINK(CONCATENATE(\"#\",\"'\",V10,\"'\",\"!\",U10),T10))","v":0},{"$f":"Z10","v":"V12"},{"$f":"IF(Y10=\"\",\"\",HYPERLINK(CONCATENATE(\"#\",\"'\",AA10,\"'\",\"!\",Z10),Y10))","v":"MC"},null,null,{"$f":"IFERROR(INDEX(Subtotals!$A$53:$A$199, SMALL(IF(Subtotals!$C$50=Subtotals!$E$53:$E$199, ROW(Subtotals!$E$53:$E$199)-MIN(ROW(Subtotals!$E$53:$E$199))+1, \"\"), ROW(A5))),\"\")","v":"A/3"},{"$f":"IFERROR(INDEX(Subtotals!$B$53:$B$199, SMALL(IF(Subtotals!$C$50=Subtotals!$E$53:$E$199, ROW(Subtotals!$E$53:$E$199)-MIN(ROW(Subtotals!$E$53:$E$199))+1, \"\"), ROW(A5))),\"\")","v":0},{"$f":"IFERROR(INDEX(Subtotals!$F$53:$F$199, SMALL(IF(Subtotals!$C$50=Subtotals!$E$53:$E$199, ROW(Subtotals!$E$53:$E$199)-MIN(ROW(Subtotals!$E$53:$E$199))+1, \"\"), ROW(A5))),\"\")","v":"V12"},{"$f":"IFERROR(INDEX(Subtotals!$G$53:$G$199, SMALL(IF(Subtotals!$C$50=Subtotals!$E$53:$E$199, ROW(Subtotals!$E$53:$E$199)-MIN(ROW(Subtotals!$E$53:$E$199))+1, \"\"), ROW(A5))),\"\")","v":"C089"},{"$f":"IFERROR(INDEX(Subtotals!$J$53:$J$199, SMALL(IF(Subtotals!$C$50=Subtotals!$E$53:$E$199, ROW(Subtotals!$E$53:$E$199)-MIN(ROW(Subtotals!$E$53:$E$199))+1, \"\"), ROW(A5))),\"\")","v":"Calculated grand total of Emotional Disturbance in Category Set A (AL20) ≠ Subtotal 3 (B19)"},null,{"$f":"IFERROR(INDEX(Subtotals!$C$53:$C$199, SMALL(IF(Subtotals!$C$50=Subtotals!$E$53:$E$199, ROW(Subtotals!$E$53:$E$199)-MIN(ROW(Subtotals!$E$53:$E$199))+1, \"\"), ROW(A5))),\"\")","v":"MC"},{"$f":"IFERROR(INDEX(Subtotals!$H$53:$H$199, SMALL(IF(Subtotals!$C$50=Subtotals!$E$53:$E$199, ROW(Subtotals!$E$53:$E$199)-MIN(ROW(Subtotals!$E$53:$E$199))+1, \"\"), ROW(A5))),\"\")","v":"V12"},{"$f":"IFERROR(INDEX(Subtotals!$I$53:$I$199, SMALL(IF(Subtotals!$C$50=Subtotals!$E$53:$E$199, ROW(Subtotals!$E$53:$E$199)-MIN(ROW(Subtotals!$E$53:$E$199))+1, \"\"), ROW(A5))),\"\")","v":"C089"}]
["A/3","Calculated grand total of Speech or Language Impairment in Category Set A (AL18) ≠ Subtotal 3 (B17)",null,null,null,null,null,null,null,null,null,null,"V12",0,"V12","MC",null,null,{"$f":"IFERROR(INDEX(Subtotals!$A$53:$A$199, SMALL(IF(Subtotals!$C$50=Subtotals!$E$53:$E$199, ROW(Subtotals!$E$53:$E$199)-MIN(ROW(Subtotals!$E$53:$E$199))+1, \"\"), ROW(A6))),\"\")","v":"A/3"},{"$f":"IFERROR(INDEX(Subtotals!$B$53:$B$199, SMALL(IF(Subtotals!$C$50=Subtotals!$E$53:$E$199, ROW(Subtotals!$E$53:$E$199)-MIN(ROW(Subtotals!$E$53:$E$199))+1, \"\"), ROW(A6))),\"\")","v":0},{"$f":"IFERROR(INDEX(Subtotals!$F$53:$F$199, SMALL(IF(Subtotals!$C$50=Subtotals!$E$53:$E$199, ROW(Subtotals!$E$53:$E$199)-MIN(ROW(Subtotals!$E$53:$E$199))+1, \"\"), ROW(A6))),\"\")","v":"V12"},{"$f":"IFERROR(INDEX(Subtotals!$G$53:$G$199, SMALL(IF(Subtotals!$C$50=Subtotals!$E$53:$E$199, ROW(Subtotals!$E$53:$E$199)-MIN(ROW(Subtotals!$E$53:$E$199))+1, \"\"), ROW(A6))),\"\")","v":"C089"},{"$f":"IFERROR(INDEX(Subtotals!$J$53:$J$199, SMALL(IF(Subtotals!$C$50=Subtotals!$E$53:$E$199, ROW(Subtotals!$E$53:$E$199)-MIN(ROW(Subtotals!$E$53:$E$199))+1, \"\"), ROW(A6))),\"\")","v":"Calculated grand total of Orthopedic Impairment in Category Set A (AL21) ≠ Subtotal 3 (B20)"},null,{"$f":"IFERROR(INDEX(Subtotals!$C$53:$C$199, SMALL(IF(Subtotals!$C$50=Subtotals!$E$53:$E$199, ROW(Subtotals!$E$53:$E$199)-MIN(ROW(Subtotals!$E$53:$E$199))+1, \"\"), ROW(A6))),\"\")","v":"MC"},{"$f":"IFERROR(INDEX(Subtotals!$H$53:$H$199, SMALL(IF(Subtotals!$C$50=Subtotals!$E$53:$E$199, ROW(Subtotals!$E$53:$E$199)-MIN(ROW(Subtotals!$E$53:$E$199))+1, \"\"), ROW(A6))),\"\")","v":"V12"},{"$f":"IFERROR(INDEX(Subtotals!$I$53:$I$199, SMALL(IF(Subtotals!$C$50=Subtotals!$E$53:$E$199, ROW(Subtotals!$E$53:$E$199)-MIN(ROW(Subtotals!$E$53:$E$199))+1, \"\"), ROW(A6))),\"\")","v":"C089"}]
["A/3","Calculated grand total of Visual Impairment in Category Set A (AL19) ≠ Subtotal 3 (B18)",null,null,null,null,null,null,null,null,null,null,"V12",0,"V12","MC",null,null,{"$f":"IFERROR(INDEX(Subtotals!$A$53:$A$199, SMALL(IF(Subtotals!$C$50=Subtotals!$E$53:$E$199, ROW(Subtotals!$E$53:$E$199)-MIN(ROW(Subtotals!$E$53:$E$199))+1, \"\"), ROW(A7))),\"\")","v":"A/3"},{"$f":"IFERROR(INDEX(Subtotals!$B$53:$B$199, SMALL(IF(Subtotals!$C$50=Subtotals!$E$53:$E$199, ROW(Subtotals!$E$53:$E$199)-MIN(ROW(Subtotals!$E$53:$E$199))+1, \"\"), ROW(A7))),\"\")","v":0},{"$f":"IFERROR(INDEX(Subtotals!$F$53:$F$199, SMALL(IF(Subtotals!$C$50=Subtotals!$E$53:$E$199, ROW(Subtotals!$E$53:$E$199)-MIN(ROW(Subtotals!$E$53:$E$199))+1, \"\"), ROW(A7))),\"\")","v":"V12"},{"$f":"IFERROR(INDEX(Subtotals!$G$53:$G$199, SMALL(IF(Subtotals!$C$50=Subtotals!$E$53:$E$199, ROW(Subtotals!$E$53:$E$199)-MIN(ROW(Subtotals!$E$53:$E$199))+1, \"\"), ROW(A7))),\"\")","v":"C089"},{"$f":"IFERROR(INDEX(Subtotals!$J$53:$J$199, SMALL(IF(Subtotals!$C$50=Subtotals!$E$53:$E$199, ROW(Subtotals!$E$53:$E$199)-MIN(ROW(Subtotals!$E$53:$E$199))+1, \"\"), ROW(A7))),\"\")","v":"Calculated grand total of Other Health Impairment in Category Set A (AL22) ≠ Subtotal 3 (B21)"},null,{"$f":"IFERROR(INDEX(Subtotals!$C$53:$C$199, SMALL(IF(Subtotals!$C$50=Subtotals!$E$53:$E$199, ROW(Subtotals!$E$53:$E$199)-MIN(ROW(Subtotals!$E$53:$E$199))+1, \"\"), ROW(A7))),\"\")","v":"MC"},{"$f":"IFERROR(INDEX(Subtotals!$H$53:$H$199, SMALL(IF(Subtotals!$C$50=Subtotals!$E$53:$E$199, ROW(Subtotals!$E$53:$E$199)-MIN(ROW(Subtotals!$E$53:$E$199))+1, \"\"), ROW(A7))),\"\")","v":"V12"},{"$f":"IFERROR(INDEX(Subtotals!$I$53:$I$199, SMALL(IF(Subtotals!$C$50=Subtotals!$E$53:$E$199, ROW(Subtotals!$E$53:$E$199)-MIN(ROW(Subtotals!$E$53:$E$199))+1, \"\"), ROW(A7))),\"\")","v":"C089"}]
["A/3","Calculated grand total of Emotional Disturbance in Category Set A (AL20) ≠ Subtotal 3 (B19)",null,null,null,null,null,null,null,null,null,null,"V12",0,"V12","MC",null,null,{"$f":"IFERROR(INDEX(Subtotals!$A$53:$A$199, SMALL(IF(Subtotals!$C$50=Subtotals!$E$53:$E$199, ROW(Subtotals!$E$53:$E$199)-MIN(ROW(Subtotals!$E$53:$E$199))+1, \"\"), ROW(A8))),\"\")","v":"A/3"},{"$f":"IFERROR(INDEX(Subtotals!$B$53:$B$199, SMALL(IF(Subtotals!$C$50=Subtotals!$E$53:$E$199, ROW(Subtotals!$E$53:$E$199)-MIN(ROW(Subtotals!$E$53:$E$199))+1, \"\"), ROW(A8))),\"\")","v":0},{"$f":"IFERROR(INDEX(Subtotals!$F$53:$F$199, SMALL(IF(Subtotals!$C$50=Subtotals!$E$53:$E$199, ROW(Subtotals!$E$53:$E$199)-MIN(ROW(Subtotals!$E$53:$E$199))+1, \"\"), ROW(A8))),\"\")","v":"V12"},{"$f":"IFERROR(INDEX(Subtotals!$G$53:$G$199, SMALL(IF(Subtotals!$C$50=Subtotals!$E$53:$E$199, ROW(Subtotals!$E$53:$E$199)-MIN(ROW(Subtotals!$E$53:$E$199))+1, \"\"), ROW(A8))),\"\")","v":"C089"},{"$f":"IFERROR(INDEX(Subtotals!$J$53:$J$199, SMALL(IF(Subtotals!$C$50=Subtotals!$E$53:$E$199, ROW(Subtotals!$E$53:$E$199)-MIN(ROW(Subtotals!$E$53:$E$199))+1, \"\"), ROW(A8))),\"\")","v":"Calculated grand total of Specific Learning Disability in Category Set A (AL23) ≠ Subtotal 3 (B22)"},null,{"$f":"IFERROR(INDEX(Subtotals!$C$53:$C$199, SMALL(IF(Subtotals!$C$50=Subtotals!$E$53:$E$199, ROW(Subtotals!$E$53:$E$199)-MIN(ROW(Subtotals!$E$53:$E$199))+1, \"\"), ROW(A8))),\"\")","v":"MC"},{"$f":"IFERROR(INDEX(Subtotals!$H$53:$H$199, SMALL(IF(Subtotals!$C$50=Subtotals!$E$53:$E$199, ROW(Subtotals!$E$53:$E$199)-MIN(ROW(Subtotals!$E$53:$E$199))+1, \"\"), ROW(A8))),\"\")","v":"V12"},{"$f":"IFERROR(INDEX(Subtotals!$I$53:$I$199, SMALL(IF(Subtotals!$C$50=Subtotals!$E$53:$E$199, ROW(Subtotals!$E$53:$E$199)-MIN(ROW(Subtotals!$E$53:$E$199))+1, \"\"), ROW(A8))),\"\")","v":"C089"}]
["A/3","Calculated grand total of Orthopedic Impairment in Category Set A (AL21) ≠ Subtotal 3 (B20)",null,null,null,null,null,null,null,null,null,null,"V12",0,"V12","MC",null,null,{"$f":"IFERROR(INDEX(Subtotals!$A$53:$A$199, SMALL(IF(Subtotals!$C$50=Subtotals!$E$53:$E$199, ROW(Subtotals!$E$53:$E$199)-MIN(ROW(Subtotals!$E$53:$E$199))+1, \"\"), ROW(A9))),\"\")","v":"A/3"},{"$f":"IFERROR(INDEX(Subtotals!$B$53:$B$199, SMALL(IF(Subtotals!$C$50=Subtotals!$E$53:$E$199, ROW(Subtotals!$E$53:$E$199)-MIN(ROW(Subtotals!$E$53:$E$199))+1, \"\"), ROW(A9))),\"\")","v":0},{"$f":"IFERROR(INDEX(Subtotals!$F$53:$F$199, SMALL(IF(Subtotals!$C$50=Subtotals!$E$53:$E$199, ROW(Subtotals!$E$53:$E$199)-MIN(ROW(Subtotals!$E$53:$E$199))+1, \"\"), ROW(A9))),\"\")","v":"V12"},{"$f":"IFERROR(INDEX(Subtotals!$G$53:$G$199, SMALL(IF(Subtotals!$C$50=Subtotals!$E$53:$E$199, ROW(Subtotals!$E$53:$E$199)-MIN(ROW(Subtotals!$E$53:$E$199))+1, \"\"), ROW(A9))),\"\")","v":"C089"},{"$f":"IFERROR(INDEX(Subtotals!$J$53:$J$199, SMALL(IF(Subtotals!$C$50=Subtotals!$E$53:$E$199, ROW(Subtotals!$E$53:$E$199)-MIN(ROW(Subtotals!$E$53:$E$199))+1, \"\"), ROW(A9))),\"\")","v":"Calculated grand total of Deaf-Blindness in Category Set A (AL24) ≠ Subtotal 3 (B23)"},null,{"$f":"IFERROR(INDEX(Subtotals!$C$53:$C$199, SMALL(IF(Subtotals!$C$50=Subtotals!$E$53:$E$199, ROW(Subtotals!$E$53:$E$199)-MIN(ROW(Subtotals!$E$53:$E$199))+1, \"\"), ROW(A9))),\"\")","v":"MC"},{"$f":"IFERROR(INDEX(Subtotals!$H$53:$H$199, SMALL(IF(Subtotals!$C$50=Subtotals!$E$53:$E$199, ROW(Subtotals!$E$53:$E$199)-MIN(ROW(Subtotals!$E$53:$E$199))+1, \"\"), ROW(A9))),\"\")","v":"V12"},{"$f":"IFERROR(INDEX(Subtotals!$I$53:$I$199, SMALL(IF(Subtotals!$C$50=Subtotals!$E$53:$E$199, ROW(Subtotals!$E$53:$E$199)-MIN(ROW(Subtotals!$E$53:$E$199))+1, \"\"), ROW(A9))),\"\")","v":"C089"}]
["A/3","Calculated grand total of Other Health Impairment in Category Set A (AL22) ≠ Subtotal 3 (B21)",null,null,null,null,null,null,null,null,null,null,"V12",0,"V12","MC",null,null,{"$f":"IFERROR(INDEX(Subtotals!$A$53:$A$199, SMALL(IF(Subtotals!$C$50=Subtotals!$E$53:$E$199, ROW(Subtotals!$E$53:$E$199)-MIN(ROW(Subtotals!$E$53:$E$199))+1, \"\"), ROW(A10))),\"\")","v":"A/3"},{"$f":"IFERROR(INDEX(Subtotals!$B$53:$B$199, SMALL(IF(Subtotals!$C$50=Subtotals!$E$53:$E$199, ROW(Subtotals!$E$53:$E$199)-MIN(ROW(Subtotals!$E$53:$E$199))+1, \"\"), ROW(A10))),\"\")","v":0},{"$f":"IFERROR(INDEX(Subtotals!$F$53:$F$199, SMALL(IF(Subtotals!$C$50=Subtotals!$E$53:$E$199, ROW(Subtotals!$E$53:$E$199)-MIN(ROW(Subtotals!$E$53:$E$199))+1, \"\"), ROW(A10))),\"\")","v":"V12"},{"$f":"IFERROR(INDEX(Subtotals!$G$53:$G$199, SMALL(IF(Subtotals!$C$50=Subtotals!$E$53:$E$199, ROW(Subtotals!$E$53:$E$199)-MIN(ROW(Subtotals!$E$53:$E$199))+1, \"\"), ROW(A10))),\"\")","v":"C089"},{"$f":"IFERROR(INDEX(Subtotals!$J$53:$J$199, SMALL(IF(Subtotals!$C$50=Subtotals!$E$53:$E$199, ROW(Subtotals!$E$53:$E$199)-MIN(ROW(Subtotals!$E$53:$E$199))+1, \"\"), ROW(A10))),\"\")","v":"Calculated grand total of Multiple Disabilities in Category Set A (AL25) ≠ Subtotal 3 (B24)"},null,{"$f":"IFERROR(INDEX(Subtotals!$C$53:$C$199, SMALL(IF(Subtotals!$C$50=Subtotals!$E$53:$E$199, ROW(Subtotals!$E$53:$E$199)-MIN(ROW(Subtotals!$E$53:$E$199))+1, \"\"), ROW(A10))),\"\")","v":"MC"},{"$f":"IFERROR(INDEX(Subtotals!$H$53:$H$199, SMALL(IF(Subtotals!$C$50=Subtotals!$E$53:$E$199, ROW(Subtotals!$E$53:$E$199)-MIN(ROW(Subtotals!$E$53:$E$199))+1, \"\"), ROW(A10))),\"\")","v":"V12"},{"$f":"IFERROR(INDEX(Subtotals!$I$53:$I$199, SMALL(IF(Subtotals!$C$50=Subtotals!$E$53:$E$199, ROW(Subtotals!$E$53:$E$199)-MIN(ROW(Subtotals!$E$53:$E$199))+1, \"\"), ROW(A10))),\"\")","v":"C089"}]
["A/3","Calculated grand total of Specific Learning Disability in Category Set A (AL23) ≠ Subtotal 3 (B22)",null,null,null,null,null,null,null,null,null,null,"V12",0,"V12","MC",null,null,{"$f":"IFERROR(INDEX(Subtotals!$A$53:$A$199, SMALL(IF(Subtotals!$C$50=Subtotals!$E$53:$E$199, ROW(Subtotals!$E$53:$E$199)-MIN(ROW(Subtotals!$E$53:$E$199))+1, \"\"), ROW(A11))),\"\")","v":"A/3"},{"$f":"IFERROR(INDEX(Subtotals!$B$53:$B$199, SMALL(IF(Subtotals!$C$50=Subtotals!$E$53:$E$199, ROW(Subtotals!$E$53:$E$199)-MIN(ROW(Subtotals!$E$53:$E$199))+1, \"\"), ROW(A11))),\"\")","v":0},{"$f":"IFERROR(INDEX(Subtotals!$F$53:$F$199, SMALL(IF(Subtotals!$C$50=Subtotals!$E$53:$E$199, ROW(Subtotals!$E$53:$E$199)-MIN(ROW(Subtotals!$E$53:$E$199))+1, \"\"), ROW(A11))),\"\")","v":"V12"},{"$f":"IFERROR(INDEX(Subtotals!$G$53:$G$199, SMALL(IF(Subtotals!$C$50=Subtotals!$E$53:$E$199, ROW(Subtotals!$E$53:$E$199)-MIN(ROW(Subtotals!$E$53:$E$199))+1, \"\"), ROW(A11))),\"\")","v":"C089"},{"$f":"IFERROR(INDEX(Subtotals!$J$53:$J$199, SMALL(IF(Subtotals!$C$50=Subtotals!$E$53:$E$199, ROW(Subtotals!$E$53:$E$199)-MIN(ROW(Subtotals!$E$53:$E$199))+1, \"\"), ROW(A11))),\"\")","v":"Calculated grand total of Autism in Category Set A (AL26) ≠ Subtotal 3 (B25)"},null,{"$f":"IFERROR(INDEX(Subtotals!$C$53:$C$199, SMALL(IF(Subtotals!$C$50=Subtotals!$E$53:$E$199, ROW(Subtotals!$E$53:$E$199)-MIN(ROW(Subtotals!$E$53:$E$199))+1, \"\"), ROW(A11))),\"\")","v":"MC"},{"$f":"IFERROR(INDEX(Subtotals!$H$53:$H$199, SMALL(IF(Subtotals!$C$50=Subtotals!$E$53:$E$199, ROW(Subtotals!$E$53:$E$199)-MIN(ROW(Subtotals!$E$53:$E$199))+1, \"\"), ROW(A11))),\"\")","v":"V12"},{"$f":"IFERROR(INDEX(Subtotals!$I$53:$I$199, SMALL(IF(Subtotals!$C$50=Subtotals!$E$53:$E$199, ROW(Subtotals!$E$53:$E$199)-MIN(ROW(Subtotals!$E$53:$E$199))+1, \"\"), ROW(A11))),\"\")","v":"C089"}]
["A/3","Calculated grand total of Deaf-Blindness in Category Set A (AL24) ≠ Subtotal 3 (B23)",null,null,null,null,null,null,null,null,null,null,"V12",0,"V12","MC",null,null,{"$f":"IFERROR(INDEX(Subtotals!$A$53:$A$199, SMALL(IF(Subtotals!$C$50=Subtotals!$E$53:$E$199, ROW(Subtotals!$E$53:$E$199)-MIN(ROW(Subtotals!$E$53:$E$199))+1, \"\"), ROW(A12))),\"\")","v":"A/3"},{"$f":"IFERROR(INDEX(Subtotals!$B$53:$B$199, SMALL(IF(Subtotals!$C$50=Subtotals!$E$53:$E$199, ROW(Subtotals!$E$53:$E$199)-MIN(ROW(Subtotals!$E$53:$E$199))+1, \"\"), ROW(A12))),\"\")","v":0},{"$f":"IFERROR(INDEX(Subtotals!$F$53:$F$199, SMALL(IF(Subtotals!$C$50=Subtotals!$E$53:$E$199, ROW(Subtotals!$E$53:$E$199)-MIN(ROW(Subtotals!$E$53:$E$199))+1, \"\"), ROW(A12))),\"\")","v":"V12"},{"$f":"IFERROR(INDEX(Subtotals!$G$53:$G$199, SMALL(IF(Subtotals!$C$50=Subtotals!$E$53:$E$199, ROW(Subtotals!$E$53:$E$199)-MIN(ROW(Subtotals!$E$53:$E$199))+1, \"\"), ROW(A12))),\"\")","v":"C089"},{"$f":"IFERROR(INDEX(Subtotals!$J$53:$J$199, SMALL(IF(Subtotals!$C$50=Subtotals!$E$53:$E$199, ROW(Subtotals!$E$53:$E$199)-MIN(ROW(Subtotals!$E$53:$E$199))+1, \"\"), ROW(A12))),\"\")","v":"Calculated grand total of Traumatic Brain Injury in Category Set A (AL27) ≠ Subtotal 3 (B26)"},null,{"$f":"IFERROR(INDEX(Subtotals!$C$53:$C$199, SMALL(IF(Subtotals!$C$50=Subtotals!$E$53:$E$199, ROW(Subtotals!$E$53:$E$199)-MIN(ROW(Subtotals!$E$53:$E$199))+1, \"\"), ROW(A12))),\"\")","v":"MC"},{"$f":"IFERROR(INDEX(Subtotals!$H$53:$H$199, SMALL(IF(Subtotals!$C$50=Subtotals!$E$53:$E$199, ROW(Subtotals!$E$53:$E$199)-MIN(ROW(Subtotals!$E$53:$E$199))+1, \"\"), ROW(A12))),\"\")","v":"V12"},{"$f":"IFERROR(INDEX(Subtotals!$I$53:$I$199, SMALL(IF(Subtotals!$C$50=Subtotals!$E$53:$E$199, ROW(Subtotals!$E$53:$E$199)-MIN(ROW(Subtotals!$E$53:$E$199))+1, \"\"), ROW(A12))),\"\")","v":"C089"}]
["A/3","Calculated grand total of Multiple Disabilities in Category Set A (AL25) ≠ Subtotal 3 (B24)",null,null,null,null,null,null,null,null,null,null,"V12",0,"V12","MC",null,null,{"$f":"IFERROR(INDEX(Subtotals!$A$53:$A$199, SMALL(IF(Subtotals!$C$50=Subtotals!$E$53:$E$199, ROW(Subtotals!$E$53:$E$199)-MIN(ROW(Subtotals!$E$53:$E$199))+1, \"\"), ROW(A13))),\"\")","v":"A/3"},{"$f":"IFERROR(INDEX(Subtotals!$B$53:$B$199, SMALL(IF(Subtotals!$C$50=Subtotals!$E$53:$E$199, ROW(Subtotals!$E$53:$E$199)-MIN(ROW(Subtotals!$E$53:$E$199))+1, \"\"), ROW(A13))),\"\")","v":0},{"$f":"IFERROR(INDEX(Subtotals!$F$53:$F$199, SMALL(IF(Subtotals!$C$50=Subtotals!$E$53:$E$199, ROW(Subtotals!$E$53:$E$199)-MIN(ROW(Subtotals!$E$53:$E$199))+1, \"\"), ROW(A13))),\"\")","v":"V12"},{"$f":"IFERROR(INDEX(Subtotals!$G$53:$G$199, SMALL(IF(Subtotals!$C$50=Subtotals!$E$53:$E$199, ROW(Subtotals!$E$53:$E$199)-MIN(ROW(Subtotals!$E$53:$E$199))+1, \"\"), ROW(A13))),\"\")","v":"C089"},{"$f":"IFERROR(INDEX(Subtotals!$J$53:$J$199, SMALL(IF(Subtotals!$C$50=Subtotals!$E$53:$E$199, ROW(Subtotals!$E$53:$E$199)-MIN(ROW(Subtotals!$E$53:$E$199))+1, \"\"), ROW(A13))),\"\")","v":"Calculated grand total of Developmental Delay in Category Set A (AL28) ≠ Subtotal 3 (B27)"},null,{"$f":"IFERROR(INDEX(Subtotals!$C$53:$C$199, SMALL(IF(Subtotals!$C$50=Subtotals!$E$53:$E$199, ROW(Subtotals!$E$53:$E$199)-MIN(ROW(Subtotals!$E$53:$E$199))+1, \"\"), ROW(A13))),\"\")","v":"MC"},{"$f":"IFERROR(INDEX(Subtotals!$H$53:$H$199, SMALL(IF(Subtotals!$C$50=Subtotals!$E$53:$E$199, ROW(Subtotals!$E$53:$E$199)-MIN(ROW(Subtotals!$E$53:$E$199))+1, \"\"), ROW(A13))),\"\")","v":"V12"},{"$f":"IFERROR(INDEX(Subtotals!$I$53:$I$199, SMALL(IF(Subtotals!$C$50=Subtotals!$E$53:$E$199, ROW(Subtotals!$E$53:$E$199)-MIN(ROW(Subtotals!$E$53:$E$199))+1, \"\"), ROW(A13))),\"\")","v":"C089"}]
["A/3","Calculated grand total of Autism in Category Set A (AL26) ≠ Subtotal 3 (B25)",null,null,null,null,null,null,null,null,null,null,"V12",0,"V12","MC",null,null,{"$f":"IFERROR(INDEX(Subtotals!$A$53:$A$199, SMALL(IF(Subtotals!$C$50=Subtotals!$E$53:$E$199, ROW(Subtotals!$E$53:$E$199)-MIN(ROW(Subtotals!$E$53:$E$199))+1, \"\"), ROW(A14))),\"\")","v":"B/3"},{"$f":"IFERROR(INDEX(Subtotals!$B$53:$B$199, SMALL(IF(Subtotals!$C$50=Subtotals!$E$53:$E$199, ROW(Subtotals!$E$53:$E$199)-MIN(ROW(Subtotals!$E$53:$E$199))+1, \"\"), ROW(A14))),\"\")","v":0},{"$f":"IFERROR(INDEX(Subtotals!$F$53:$F$199, SMALL(IF(Subtotals!$C$50=Subtotals!$E$53:$E$199, ROW(Subtotals!$E$53:$E$199)-MIN(ROW(Subtotals!$E$53:$E$199))+1, \"\"), ROW(A14))),\"\")","v":"V12"},{"$f":"IFERROR(INDEX(Subtotals!$G$53:$G$199, SMALL(IF(Subtotals!$C$50=Subtotals!$E$53:$E$199, ROW(Subtotals!$E$53:$E$199)-MIN(ROW(Subtotals!$E$53:$E$199))+1, \"\"), ROW(A14))),\"\")","v":"C089"},{"$f":"IFERROR(INDEX(Subtotals!$J$53:$J$199, SMALL(IF(Subtotals!$C$50=Subtotals!$E$53:$E$199, ROW(Subtotals!$E$53:$E$199)-MIN(ROW(Subtotals!$E$53:$E$199))+1, \"\"), ROW(A14))),\"\")","v":"Calculated grand total of Intellectual Disability in Category Set B (BV35) ≠ Subtotal 3 (B15)"},null,{"$f":"IFERROR(INDEX(Subtotals!$C$53:$C$199, SMALL(IF(Subtotals!$C$50=Subtotals!$E$53:$E$199, ROW(Subtotals!$E$53:$E$199)-MIN(ROW(Subtotals!$E$53:$E$199))+1, \"\"), ROW(A14))),\"\")","v":"MC"},{"$f":"IFERROR(INDEX(Subtotals!$H$53:$H$199, SMALL(IF(Subtotals!$C$50=Subtotals!$E$53:$E$199, ROW(Subtotals!$E$53:$E$199)-MIN(ROW(Subtotals!$E$53:$E$199))+1, \"\"), ROW(A14))),\"\")","v":"V12"},{"$f":"IFERROR(INDEX(Subtotals!$I$53:$I$199, SMALL(IF(Subtotals!$C$50=Subtotals!$E$53:$E$199, ROW(Subtotals!$E$53:$E$199)-MIN(ROW(Subtotals!$E$53:$E$199))+1, \"\"), ROW(A14))),\"\")","v":"C089"}]
["A/3","Calculated grand total of Traumatic Brain Injury in Category Set A (AL27) ≠ Subtotal 3 (B26)",null,null,null,null,null,null,null,null,null,null,"V12",0,"V12","MC",null,null,{"$f":"IFERROR(INDEX(Subtotals!$A$53:$A$199, SMALL(IF(Subtotals!$C$50=Subtotals!$E$53:$E$199, ROW(Subtotals!$E$53:$E$199)-MIN(ROW(Subtotals!$E$53:$E$199))+1, \"\"), ROW(A15))),\"\")","v":"B/3"},{"$f":"IFERROR(INDEX(Subtotals!$B$53:$B$199, SMALL(IF(Subtotals!$C$50=Subtotals!$E$53:$E$199, ROW(Subtotals!$E$53:$E$199)-MIN(ROW(Subtotals!$E$53:$E$199))+1, \"\"), ROW(A15))),\"\")","v":0},{"$f":"IFERROR(INDEX(Subtotals!$F$53:$F$199, SMALL(IF(Subtotals!$C$50=Subtotals!$E$53:$E$199, ROW(Subtotals!$E$53:$E$199)-MIN(ROW(Subtotals!$E$53:$E$199))+1, \"\"), ROW(A15))),\"\")","v":"V12"},{"$f":"IFERROR(INDEX(Subtotals!$G$53:$G$199, SMALL(IF(Subtotals!$C$50=Subtotals!$E$53:$E$199, ROW(Subtotals!$E$53:$E$199)-MIN(ROW(Subtotals!$E$53:$E$199))+1, \"\"), ROW(A15))),\"\")","v":"C089"},{"$f":"IFERROR(INDEX(Subtotals!$J$53:$J$199, SMALL(IF(Subtotals!$C$50=Subtotals!$E$53:$E$199, ROW(Subtotals!$E$53:$E$199)-MIN(ROW(Subtotals!$E$53:$E$199))+1, \"\"), ROW(A15))),\"\")","v":"Calculated grand total of Hearing Impairment in Category Set B (BV36) ≠ Subtotal 3 (B16)"},null,{"$f":"IFERROR(INDEX(Subtotals!$C$53:$C$199, SMALL(IF(Subtotals!$C$50=Subtotals!$E$53:$E$199, ROW(Subtotals!$E$53:$E$199)-MIN(ROW(Subtotals!$E$53:$E$199))+1, \"\"), ROW(A15))),\"\")","v":"MC"},{"$f":"IFERROR(INDEX(Subtotals!$H$53:$H$199, SMALL(IF(Subtotals!$C$50=Subtotals!$E$53:$E$199, ROW(Subtotals!$E$53:$E$199)-MIN(ROW(Subtotals!$E$53:$E$199))+1, \"\"), ROW(A15))),\"\")","v":"V12"},{"$f":"IFERROR(INDEX(Subtotals!$I$53:$I$199, SMALL(IF(Subtotals!$C$50=Subtotals!$E$53:$E$199, ROW(Subtotals!$E$53:$E$199)-MIN(ROW(Subtotals!$E$53:$E$199))+1, \"\"), ROW(A15))),\"\")","v":"C089"}]
["A/3","Calculated grand total of Developmental Delay in Category Set A (AL28) ≠ Subtotal 3 (B27)",null,null,null,null,null,null,null,null,null,null,"V12",0,"V12","MC",null,null,{"$f":"IFERROR(INDEX(Subtotals!$A$53:$A$199, SMALL(IF(Subtotals!$C$50=Subtotals!$E$53:$E$199, ROW(Subtotals!$E$53:$E$199)-MIN(ROW(Subtotals!$E$53:$E$199))+1, \"\"), ROW(A16))),\"\")","v":"B/3"},{"$f":"IFERROR(INDEX(Subtotals!$B$53:$B$199, SMALL(IF(Subtotals!$C$50=Subtotals!$E$53:$E$199, ROW(Subtotals!$E$53:$E$199)-MIN(ROW(Subtotals!$E$53:$E$199))+1, \"\"), ROW(A16))),\"\")","v":0},{"$f":"IFERROR(INDEX(Subtotals!$F$53:$F$199, SMALL(IF(Subtotals!$C$50=Subtotals!$E$53:$E$199, ROW(Subtotals!$E$53:$E$199)-MIN(ROW(Subtotals!$E$53:$E$199))+1, \"\"), ROW(A16))),\"\")","v":"V12"},{"$f":"IFERROR(INDEX(Subtotals!$G$53:$G$199, SMALL(IF(Subtotals!$C$50=Subtotals!$E$53:$E$199, ROW(Subtotals!$E$53:$E$199)-MIN(ROW(Subtotals!$E$53:$E$199))+1, \"\"), ROW(A16))),\"\")","v":"C089"},{"$f":"IFERROR(INDEX(Subtotals!$J$53:$J$199, SMALL(IF(Subtotals!$C$50=Subtotals!$E$53:$E$199, ROW(Subtotals!$E$53:$E$199)-MIN(ROW(Subtotals!$E$53:$E$199))+1, \"\"), ROW(A16))),\"\")","v":"Calculated grand total of Speech or Language Impairment in Category Set B (BV37) ≠ Subtotal 3 (B17)"},null,{"$f":"IFERROR(INDEX(Subtotals!$C$53:$C$199, SMALL(IF(Subtotals!$C$50=Subtotals!$E$53:$E$199, ROW(Subtotals!$E$53:$E$199)-MIN(ROW(Subtotals!$E$53:$E$199))+1, \"\"), ROW(A16))),\"\")","v":"MC"},{"$f":"IFERROR(INDEX(Subtotals!$H$53:$H$199, SMALL(IF(Subtotals!$C$50=Subtotals!$E$53:$E$199, ROW(Subtotals!$E$53:$E$199)-MIN(ROW(Subtotals!$E$53:$E$199))+1, \"\"), ROW(A16))),\"\")","v":"V12"},{"$f":"IFERROR(INDEX(Subtotals!$I$53:$I$199, SMALL(IF(Subtotals!$C$50=Subtotals!$E$53:$E$199, ROW(Subtotals!$E$53:$E$199)-MIN(ROW(Subtotals!$E$53:$E$199))+1, \"\"), ROW(A16))),\"\")","v":"C089"}]
["B/3","Calculated grand total of Intellectual Disability in Category Set B (BV35) ≠ Subtotal 3 (B15)",null,null,null,null,null,null,null,null,null,null,"V12",0,"V12","MC",null,null,{"$f":"IFERROR(INDEX(Subtotals!$A$53:$A$199, SMALL(IF(Subtotals!$C$50=Subtotals!$E$53:$E$199, ROW(Subtotals!$E$53:$E$199)-MIN(ROW(Subtotals!$E$53:$E$199))+1, \"\"), ROW(A17))),\"\")","v":"B/3"},{"$f":"IFERROR(INDEX(Subtotals!$B$53:$B$199, SMALL(IF(Subtotals!$C$50=Subtotals!$E$53:$E$199, ROW(Subtotals!$E$53:$E$199)-MIN(ROW(Subtotals!$E$53:$E$199))+1, \"\"), ROW(A17))),\"\")","v":0},{"$f":"IFERROR(INDEX(Subtotals!$F$53:$F$199, SMALL(IF(Subtotals!$C$50=Subtotals!$E$53:$E$199, ROW(Subtotals!$E$53:$E$199)-MIN(ROW(Subtotals!$E$53:$E$199))+1, \"\"), ROW(A17))),\"\")","v":"V12"},{"$f":"IFERROR(INDEX(Subtotals!$G$53:$G$199, SMALL(IF(Subtotals!$C$50=Subtotals!$E$53:$E$199, ROW(Subtotals!$E$53:$E$199)-MIN(ROW(Subtotals!$E$53:$E$199))+1, \"\"), ROW(A17))),\"\")","v":"C089"},{"$f":"IFERROR(INDEX(Subtotals!$J$53:$J$199, SMALL(IF(Subtotals!$C$50=Subtotals!$E$53:$E$199, ROW(Subtotals!$E$53:$E$199)-MIN(ROW(Subtotals!$E$53:$E$199))+1, \"\"), ROW(A17))),\"\")","v":"Calculated grand total of Visual Impairment in Category Set B (BV38) ≠ Subtotal 3 (B18)"},null,{"$f":"IFERROR(INDEX(Subtotals!$C$53:$C$199, SMALL(IF(Subtotals!$C$50=Subtotals!$E$53:$E$199, ROW(Subtotals!$E$53:$E$199)-MIN(ROW(Subtotals!$E$53:$E$199))+1, \"\"), ROW(A17))),\"\")","v":"MC"},{"$f":"IFERROR(INDEX(Subtotals!$H$53:$H$199, SMALL(IF(Subtotals!$C$50=Subtotals!$E$53:$E$199, ROW(Subtotals!$E$53:$E$199)-MIN(ROW(Subtotals!$E$53:$E$199))+1, \"\"), ROW(A17))),\"\")","v":"V12"},{"$f":"IFERROR(INDEX(Subtotals!$I$53:$I$199, SMALL(IF(Subtotals!$C$50=Subtotals!$E$53:$E$199, ROW(Subtotals!$E$53:$E$199)-MIN(ROW(Subtotals!$E$53:$E$199))+1, \"\"), ROW(A17))),\"\")","v":"C089"}]
["B/3","Calculated grand total of Hearing Impairment in Category Set B (BV36) ≠ Subtotal 3 (B16)",null,null,null,null,null,null,null,null,null,null,"V12",0,"V12","MC",null,null,{"$f":"IFERROR(INDEX(Subtotals!$A$53:$A$199, SMALL(IF(Subtotals!$C$50=Subtotals!$E$53:$E$199, ROW(Subtotals!$E$53:$E$199)-MIN(ROW(Subtotals!$E$53:$E$199))+1, \"\"), ROW(A18))),\"\")","v":"B/3"},{"$f":"IFERROR(INDEX(Subtotals!$B$53:$B$199, SMALL(IF(Subtotals!$C$50=Subtotals!$E$53:$E$199, ROW(Subtotals!$E$53:$E$199)-MIN(ROW(Subtotals!$E$53:$E$199))+1, \"\"), ROW(A18))),\"\")","v":0},{"$f":"IFERROR(INDEX(Subtotals!$F$53:$F$199, SMALL(IF(Subtotals!$C$50=Subtotals!$E$53:$E$199, ROW(Subtotals!$E$53:$E$199)-MIN(ROW(Subtotals!$E$53:$E$199))+1, \"\"), ROW(A18))),\"\")","v":"V12"},{"$f":"IFERROR(INDEX(Subtotals!$G$53:$G$199, SMALL(IF(Subtotals!$C$50=Subtotals!$E$53:$E$199, ROW(Subtotals!$E$53:$E$199)-MIN(ROW(Subtotals!$E$53:$E$199))+1, \"\"), ROW(A18))),\"\")","v":"C089"},{"$f":"IFERROR(INDEX(Subtotals!$J$53:$J$199, SMALL(IF(Subtotals!$C$50=Subtotals!$E$53:$E$199, ROW(Subtotals!$E$53:$E$199)-MIN(ROW(Subtotals!$E$53:$E$199))+1, \"\"), ROW(A18))),\"\")","v":"Calculated grand total of Emotional Disturbance in Category Set B (BV39) ≠ Subtotal 3 (B19)"},null,{"$f":"IFERROR(INDEX(Subtotals!$C$53:$C$199, SMALL(IF(Subtotals!$C$50=Subtotals!$E$53:$E$199, ROW(Subtotals!$E$53:$E$199)-MIN(ROW(Subtotals!$E$53:$E$199))+1, \"\"), ROW(A18))),\"\")","v":"MC"},{"$f":"IFERROR(INDEX(Subtotals!$H$53:$H$199, SMALL(IF(Subtotals!$C$50=Subtotals!$E$53:$E$199, ROW(Subtotals!$E$53:$E$199)-MIN(ROW(Subtotals!$E$53:$E$199))+1, \"\"), ROW(A18))),\"\")","v":"V12"},{"$f":"IFERROR(INDEX(Subtotals!$I$53:$I$199, SMALL(IF(Subtotals!$C$50=Subtotals!$E$53:$E$199, ROW(Subtotals!$E$53:$E$199)-MIN(ROW(Subtotals!$E$53:$E$199))+1, \"\"), ROW(A18))),\"\")","v":"C089"}]
["B/3","Calculated grand total of Speech or Language Impairment in Category Set B (BV37) ≠ Subtotal 3 (B17)",null,null,null,null,null,null,null,null,null,null,"V12",0,"V12","MC",null,null,{"$f":"IFERROR(INDEX(Subtotals!$A$53:$A$199, SMALL(IF(Subtotals!$C$50=Subtotals!$E$53:$E$199, ROW(Subtotals!$E$53:$E$199)-MIN(ROW(Subtotals!$E$53:$E$199))+1, \"\"), ROW(A19))),\"\")","v":"B/3"},{"$f":"IFERROR(INDEX(Subtotals!$B$53:$B$199, SMALL(IF(Subtotals!$C$50=Subtotals!$E$53:$E$199, ROW(Subtotals!$E$53:$E$199)-MIN(ROW(Subtotals!$E$53:$E$199))+1, \"\"), ROW(A19))),\"\")","v":0},{"$f":"IFERROR(INDEX(Subtotals!$F$53:$F$199, SMALL(IF(Subtotals!$C$50=Subtotals!$E$53:$E$199, ROW(Subtotals!$E$53:$E$199)-MIN(ROW(Subtotals!$E$53:$E$199))+1, \"\"), ROW(A19))),\"\")","v":"V12"},{"$f":"IFERROR(INDEX(Subtotals!$G$53:$G$199, SMALL(IF(Subtotals!$C$50=Subtotals!$E$53:$E$199, ROW(Subtotals!$E$53:$E$199)-MIN(ROW(Subtotals!$E$53:$E$199))+1, \"\"), ROW(A19))),\"\")","v":"C089"},{"$f":"IFERROR(INDEX(Subtotals!$J$53:$J$199, SMALL(IF(Subtotals!$C$50=Subtotals!$E$53:$E$199, ROW(Subtotals!$E$53:$E$199)-MIN(ROW(Subtotals!$E$53:$E$199))+1, \"\"), ROW(A19))),\"\")","v":"Calculated grand total of Orthopedic Impairment in Category Set B (BV40) ≠ Subtotal 3 (B20)"},null,{"$f":"IFERROR(INDEX(Subtotals!$C$53:$C$199, SMALL(IF(Subtotals!$C$50=Subtotals!$E$53:$E$199, ROW(Subtotals!$E$53:$E$199)-MIN(ROW(Subtotals!$E$53:$E$199))+1, \"\"), ROW(A19))),\"\")","v":"MC"},{"$f":"IFERROR(INDEX(Subtotals!$H$53:$H$199, SMALL(IF(Subtotals!$C$50=Subtotals!$E$53:$E$199, ROW(Subtotals!$E$53:$E$199)-MIN(ROW(Subtotals!$E$53:$E$199))+1, \"\"), ROW(A19))),\"\")","v":"V12"},{"$f":"IFERROR(INDEX(Subtotals!$I$53:$I$199, SMALL(IF(Subtotals!$C$50=Subtotals!$E$53:$E$199, ROW(Subtotals!$E$53:$E$199)-MIN(ROW(Subtotals!$E$53:$E$199))+1, \"\"), ROW(A19))),\"\")","v":"C089"}]
["B/3","Calculated grand total of Visual Impairment in Category Set B (BV38) ≠ Subtotal 3 (B18)",null,null,null,null,null,null,null,null,null,null,"V12",0,"V12","MC",null,null,{"$f":"IFERROR(INDEX(Subtotals!$A$53:$A$199, SMALL(IF(Subtotals!$C$50=Subtotals!$E$53:$E$199, ROW(Subtotals!$E$53:$E$199)-MIN(ROW(Subtotals!$E$53:$E$199))+1, \"\"), ROW(A20))),\"\")","v":"B/3"},{"$f":"IFERROR(INDEX(Subtotals!$B$53:$B$199, SMALL(IF(Subtotals!$C$50=Subtotals!$E$53:$E$199, ROW(Subtotals!$E$53:$E$199)-MIN(ROW(Subtotals!$E$53:$E$199))+1, \"\"), ROW(A20))),\"\")","v":0},{"$f":"IFERROR(INDEX(Subtotals!$F$53:$F$199, SMALL(IF(Subtotals!$C$50=Subtotals!$E$53:$E$199, ROW(Subtotals!$E$53:$E$199)-MIN(ROW(Subtotals!$E$53:$E$199))+1, \"\"), ROW(A20))),\"\")","v":"V12"},{"$f":"IFERROR(INDEX(Subtotals!$G$53:$G$199, SMALL(IF(Subtotals!$C$50=Subtotals!$E$53:$E$199, ROW(Subtotals!$E$53:$E$199)-MIN(ROW(Subtotals!$E$53:$E$199))+1, \"\"), ROW(A20))),\"\")","v":"C089"},{"$f":"IFERROR(INDEX(Subtotals!$J$53:$J$199, SMALL(IF(Subtotals!$C$50=Subtotals!$E$53:$E$199, ROW(Subtotals!$E$53:$E$199)-MIN(ROW(Subtotals!$E$53:$E$199))+1, \"\"), ROW(A20))),\"\")","v":"Calculated grand total of Other Health Impairment in Category Set B (BV41) ≠ Subtotal 3 (B21)"},null,{"$f":"IFERROR(INDEX(Subtotals!$C$53:$C$199, SMALL(IF(Subtotals!$C$50=Subtotals!$E$53:$E$199, ROW(Subtotals!$E$53:$E$199)-MIN(ROW(Subtotals!$E$53:$E$199))+1, \"\"), ROW(A20))),\"\")","v":"MC"},{"$f":"IFERROR(INDEX(Subtotals!$H$53:$H$199, SMALL(IF(Subtotals!$C$50=Subtotals!$E$53:$E$199, ROW(Subtotals!$E$53:$E$199)-MIN(ROW(Subtotals!$E$53:$E$199))+1, \"\"), ROW(A20))),\"\")","v":"V12"},{"$f":"IFERROR(INDEX(Subtotals!$I$53:$I$199, SMALL(IF(Subtotals!$C$50=Subtotals!$E$53:$E$199, ROW(Subtotals!$E$53:$E$199)-MIN(ROW(Subtotals!$E$53:$E$199))+1, \"\"), ROW(A20))),\"\")","v":"C089"}]
["B/3","Calculated grand total of Emotional Disturbance in Category Set B (BV39) ≠ Subtotal 3 (B19)",null,null,null,null,null,null,null,null,null,null,"V12",0,"V12","MC",null,null,{"$f":"IFERROR(INDEX(Subtotals!$A$53:$A$199, SMALL(IF(Subtotals!$C$50=Subtotals!$E$53:$E$199, ROW(Subtotals!$E$53:$E$199)-MIN(ROW(Subtotals!$E$53:$E$199))+1, \"\"), ROW(A21))),\"\")","v":"B/3"},{"$f":"IFERROR(INDEX(Subtotals!$B$53:$B$199, SMALL(IF(Subtotals!$C$50=Subtotals!$E$53:$E$199, ROW(Subtotals!$E$53:$E$199)-MIN(ROW(Subtotals!$E$53:$E$199))+1, \"\"), ROW(A21))),\"\")","v":0},{"$f":"IFERROR(INDEX(Subtotals!$F$53:$F$199, SMALL(IF(Subtotals!$C$50=Subtotals!$E$53:$E$199, ROW(Subtotals!$E$53:$E$199)-MIN(ROW(Subtotals!$E$53:$E$199))+1, \"\"), ROW(A21))),\"\")","v":"V12"},{"$f":"IFERROR(INDEX(Subtotals!$G$53:$G$199, SMALL(IF(Subtotals!$C$50=Subtotals!$E$53:$E$199, ROW(Subtotals!$E$53:$E$199)-MIN(ROW(Subtotals!$E$53:$E$199))+1, \"\"), ROW(A21))),\"\")","v":"C089"},{"$f":"IFERROR(INDEX(Subtotals!$J$53:$J$199, SMALL(IF(Subtotals!$C$50=Subtotals!$E$53:$E$199, ROW(Subtotals!$E$53:$E$199)-MIN(ROW(Subtotals!$E$53:$E$199))+1, \"\"), ROW(A21))),\"\")","v":"Calculated grand total of Specific Learning Disability in Category Set B (BV42) ≠ Subtotal 3 (B22)"},null,{"$f":"IFERROR(INDEX(Subtotals!$C$53:$C$199, SMALL(IF(Subtotals!$C$50=Subtotals!$E$53:$E$199, ROW(Subtotals!$E$53:$E$199)-MIN(ROW(Subtotals!$E$53:$E$199))+1, \"\"), ROW(A21))),\"\")","v":"MC"},{"$f":"IFERROR(INDEX(Subtotals!$H$53:$H$199, SMALL(IF(Subtotals!$C$50=Subtotals!$E$53:$E$199, ROW(Subtotals!$E$53:$E$199)-MIN(ROW(Subtotals!$E$53:$E$199))+1, \"\"), ROW(A21))),\"\")","v":"V12"},{"$f":"IFERROR(INDEX(Subtotals!$I$53:$I$199, SMALL(IF(Subtotals!$C$50=Subtotals!$E$53:$E$199, ROW(Subtotals!$E$53:$E$199)-MIN(ROW(Subtotals!$E$53:$E$199))+1, \"\"), ROW(A21))),\"\")","v":"C089"}]
["B/3","Calculated grand total of Orthopedic Impairment in Category Set B (BV40) ≠ Subtotal 3 (B20)",null,null,null,null,null,null,null,null,null,null,"V12",0,"V12","MC",null,null,{"$f":"IFERROR(INDEX(Subtotals!$A$53:$A$199, SMALL(IF(Subtotals!$C$50=Subtotals!$E$53:$E$199, ROW(Subtotals!$E$53:$E$199)-MIN(ROW(Subtotals!$E$53:$E$199))+1, \"\"), ROW(A22))),\"\")","v":"B/3"},{"$f":"IFERROR(INDEX(Subtotals!$B$53:$B$199, SMALL(IF(Subtotals!$C$50=Subtotals!$E$53:$E$199, ROW(Subtotals!$E$53:$E$199)-MIN(ROW(Subtotals!$E$53:$E$199))+1, \"\"), ROW(A22))),\"\")","v":0},{"$f":"IFERROR(INDEX(Subtotals!$F$53:$F$199, SMALL(IF(Subtotals!$C$50=Subtotals!$E$53:$E$199, ROW(Subtotals!$E$53:$E$199)-MIN(ROW(Subtotals!$E$53:$E$199))+1, \"\"), ROW(A22))),\"\")","v":"V12"},{"$f":"IFERROR(INDEX(Subtotals!$G$53:$G$199, SMALL(IF(Subtotals!$C$50=Subtotals!$E$53:$E$199, ROW(Subtotals!$E$53:$E$199)-MIN(ROW(Subtotals!$E$53:$E$199))+1, \"\"), ROW(A22))),\"\")","v":"C089"},{"$f":"IFERROR(INDEX(Subtotals!$J$53:$J$199, SMALL(IF(Subtotals!$C$50=Subtotals!$E$53:$E$199, ROW(Subtotals!$E$53:$E$199)-MIN(ROW(Subtotals!$E$53:$E$199))+1, \"\"), ROW(A22))),\"\")","v":"Calculated grand total of Deaf-Blindness in Category Set B (BV43) ≠ Subtotal 3 (B23)"},null,{"$f":"IFERROR(INDEX(Subtotals!$C$53:$C$199, SMALL(IF(Subtotals!$C$50=Subtotals!$E$53:$E$199, ROW(Subtotals!$E$53:$E$199)-MIN(ROW(Subtotals!$E$53:$E$199))+1, \"\"), ROW(A22))),\"\")","v":"MC"},{"$f":"IFERROR(INDEX(Subtotals!$H$53:$H$199, SMALL(IF(Subtotals!$C$50=Subtotals!$E$53:$E$199, ROW(Subtotals!$E$53:$E$199)-MIN(ROW(Subtotals!$E$53:$E$199))+1, \"\"), ROW(A22))),\"\")","v":"V12"},{"$f":"IFERROR(INDEX(Subtotals!$I$53:$I$199, SMALL(IF(Subtotals!$C$50=Subtotals!$E$53:$E$199, ROW(Subtotals!$E$53:$E$199)-MIN(ROW(Subtotals!$E$53:$E$199))+1, \"\"), ROW(A22))),\"\")","v":"C089"}]
["B/3","Calculated grand total of Other Health Impairment in Category Set B (BV41) ≠ Subtotal 3 (B21)",null,null,null,null,null,null,null,null,null,null,"V12",0,"V12","MC",null,null,{"$f":"IFERROR(INDEX(Subtotals!$A$53:$A$199, SMALL(IF(Subtotals!$C$50=Subtotals!$E$53:$E$199, ROW(Subtotals!$E$53:$E$199)-MIN(ROW(Subtotals!$E$53:$E$199))+1, \"\"), ROW(A23))),\"\")","v":"B/3"},{"$f":"IFERROR(INDEX(Subtotals!$B$53:$B$199, SMALL(IF(Subtotals!$C$50=Subtotals!$E$53:$E$199, ROW(Subtotals!$E$53:$E$199)-MIN(ROW(Subtotals!$E$53:$E$199))+1, \"\"), ROW(A23))),\"\")","v":0},{"$f":"IFERROR(INDEX(Subtotals!$F$53:$F$199, SMALL(IF(Subtotals!$C$50=Subtotals!$E$53:$E$199, ROW(Subtotals!$E$53:$E$199)-MIN(ROW(Subtotals!$E$53:$E$199))+1, \"\"), ROW(A23))),\"\")","v":"V12"},{"$f":"IFERROR(INDEX(Subtotals!$G$53:$G$199, SMALL(IF(Subtotals!$C$50=Subtotals!$E$53:$E$199, ROW(Subtotals!$E$53:$E$199)-MIN(ROW(Subtotals!$E$53:$E$199))+1, \"\"), ROW(A23))),\"\")","v":"C089"},{"$f":"IFERROR(INDEX(Subtotals!$J$53:$J$199, SMALL(IF(Subtotals!$C$50=Subtotals!$E$53:$E$199, ROW(Subtotals!$E$53:$E$199)-MIN(ROW(Subtotals!$E$53:$E$199))+1, \"\"), ROW(A23))),\"\")","v":"Calculated grand total of Multiple Disabilities in Category Set B (BV44) ≠ Subtotal 3 (B24)"},null,{"$f":"IFERROR(INDEX(Subtotals!$C$53:$C$199, SMALL(IF(Subtotals!$C$50=Subtotals!$E$53:$E$199, ROW(Subtotals!$E$53:$E$199)-MIN(ROW(Subtotals!$E$53:$E$199))+1, \"\"), ROW(A23))),\"\")","v":"MC"},{"$f":"IFERROR(INDEX(Subtotals!$H$53:$H$199, SMALL(IF(Subtotals!$C$50=Subtotals!$E$53:$E$199, ROW(Subtotals!$E$53:$E$199)-MIN(ROW(Subtotals!$E$53:$E$199))+1, \"\"), ROW(A23))),\"\")","v":"V12"},{"$f":"IFERROR(INDEX(Subtotals!$I$53:$I$199, SMALL(IF(Subtotals!$C$50=Subtotals!$E$53:$E$199, ROW(Subtotals!$E$53:$E$199)-MIN(ROW(Subtotals!$E$53:$E$199))+1, \"\"), ROW(A23))),\"\")","v":"C089"}]
["B/3","Calculated grand total of Specific Learning Disability in Category Set B (BV42) ≠ Subtotal 3 (B22)",null,null,null,null,null,null,null,null,null,null,"V12",0,"V12","MC",null,null,{"$f":"IFERROR(INDEX(Subtotals!$A$53:$A$199, SMALL(IF(Subtotals!$C$50=Subtotals!$E$53:$E$199, ROW(Subtotals!$E$53:$E$199)-MIN(ROW(Subtotals!$E$53:$E$199))+1, \"\"), ROW(A24))),\"\")","v":"B/3"},{"$f":"IFERROR(INDEX(Subtotals!$B$53:$B$199, SMALL(IF(Subtotals!$C$50=Subtotals!$E$53:$E$199, ROW(Subtotals!$E$53:$E$199)-MIN(ROW(Subtotals!$E$53:$E$199))+1, \"\"), ROW(A24))),\"\")","v":0},{"$f":"IFERROR(INDEX(Subtotals!$F$53:$F$199, SMALL(IF(Subtotals!$C$50=Subtotals!$E$53:$E$199, ROW(Subtotals!$E$53:$E$199)-MIN(ROW(Subtotals!$E$53:$E$199))+1, \"\"), ROW(A24))),\"\")","v":"V12"},{"$f":"IFERROR(INDEX(Subtotals!$G$53:$G$199, SMALL(IF(Subtotals!$C$50=Subtotals!$E$53:$E$199, ROW(Subtotals!$E$53:$E$199)-MIN(ROW(Subtotals!$E$53:$E$199))+1, \"\"), ROW(A24))),\"\")","v":"C089"},{"$f":"IFERROR(INDEX(Subtotals!$J$53:$J$199, SMALL(IF(Subtotals!$C$50=Subtotals!$E$53:$E$199, ROW(Subtotals!$E$53:$E$199)-MIN(ROW(Subtotals!$E$53:$E$199))+1, \"\"), ROW(A24))),\"\")","v":"Calculated grand total of Autism in Category Set B (BV45) ≠ Subtotal 3 (B25)"},null,{"$f":"IFERROR(INDEX(Subtotals!$C$53:$C$199, SMALL(IF(Subtotals!$C$50=Subtotals!$E$53:$E$199, ROW(Subtotals!$E$53:$E$199)-MIN(ROW(Subtotals!$E$53:$E$199))+1, \"\"), ROW(A24))),\"\")","v":"MC"},{"$f":"IFERROR(INDEX(Subtotals!$H$53:$H$199, SMALL(IF(Subtotals!$C$50=Subtotals!$E$53:$E$199, ROW(Subtotals!$E$53:$E$199)-MIN(ROW(Subtotals!$E$53:$E$199))+1, \"\"), ROW(A24))),\"\")","v":"V12"},{"$f":"IFERROR(INDEX(Subtotals!$I$53:$I$199, SMALL(IF(Subtotals!$C$50=Subtotals!$E$53:$E$199, ROW(Subtotals!$E$53:$E$199)-MIN(ROW(Subtotals!$E$53:$E$199))+1, \"\"), ROW(A24))),\"\")","v":"C089"}]
["B/3","Calculated grand total of Deaf-Blindness in Category Set B (BV43) ≠ Subtotal 3 (B23)",null,null,null,null,null,null,null,null,null,null,"V12",0,"V12","MC",null,null,{"$f":"IFERROR(INDEX(Subtotals!$A$53:$A$199, SMALL(IF(Subtotals!$C$50=Subtotals!$E$53:$E$199, ROW(Subtotals!$E$53:$E$199)-MIN(ROW(Subtotals!$E$53:$E$199))+1, \"\"), ROW(A25))),\"\")","v":"B/3"},{"$f":"IFERROR(INDEX(Subtotals!$B$53:$B$199, SMALL(IF(Subtotals!$C$50=Subtotals!$E$53:$E$199, ROW(Subtotals!$E$53:$E$199)-MIN(ROW(Subtotals!$E$53:$E$199))+1, \"\"), ROW(A25))),\"\")","v":0},{"$f":"IFERROR(INDEX(Subtotals!$F$53:$F$199, SMALL(IF(Subtotals!$C$50=Subtotals!$E$53:$E$199, ROW(Subtotals!$E$53:$E$199)-MIN(ROW(Subtotals!$E$53:$E$199))+1, \"\"), ROW(A25))),\"\")","v":"V12"},{"$f":"IFERROR(INDEX(Subtotals!$G$53:$G$199, SMALL(IF(Subtotals!$C$50=Subtotals!$E$53:$E$199, ROW(Subtotals!$E$53:$E$199)-MIN(ROW(Subtotals!$E$53:$E$199))+1, \"\"), ROW(A25))),\"\")","v":"C089"},{"$f":"IFERROR(INDEX(Subtotals!$J$53:$J$199, SMALL(IF(Subtotals!$C$50=Subtotals!$E$53:$E$199, ROW(Subtotals!$E$53:$E$199)-MIN(ROW(Subtotals!$E$53:$E$199))+1, \"\"), ROW(A25))),\"\")","v":"Calculated grand total of Traumatic Brain Injury in Category Set B (BV46) ≠ Subtotal 3 (B26)"},null,{"$f":"IFERROR(INDEX(Subtotals!$C$53:$C$199, SMALL(IF(Subtotals!$C$50=Subtotals!$E$53:$E$199, ROW(Subtotals!$E$53:$E$199)-MIN(ROW(Subtotals!$E$53:$E$199))+1, \"\"), ROW(A25))),\"\")","v":"MC"},{"$f":"IFERROR(INDEX(Subtotals!$H$53:$H$199, SMALL(IF(Subtotals!$C$50=Subtotals!$E$53:$E$199, ROW(Subtotals!$E$53:$E$199)-MIN(ROW(Subtotals!$E$53:$E$199))+1, \"\"), ROW(A25))),\"\")","v":"V12"},{"$f":"IFERROR(INDEX(Subtotals!$I$53:$I$199, SMALL(IF(Subtotals!$C$50=Subtotals!$E$53:$E$199, ROW(Subtotals!$E$53:$E$199)-MIN(ROW(Subtotals!$E$53:$E$199))+1, \"\"), ROW(A25))),\"\")","v":"C089"}]
["B/3","Calculated grand total of Multiple Disabilities in Category Set B (BV44) ≠ Subtotal 3 (B24)",null,null,null,null,null,null,null,null,null,null,"V12",0,"V12","MC",null,null,{"$f":"IFERROR(INDEX(Subtotals!$A$53:$A$199, SMALL(IF(Subtotals!$C$50=Subtotals!$E$53:$E$199, ROW(Subtotals!$E$53:$E$199)-MIN(ROW(Subtotals!$E$53:$E$199))+1, \"\"), ROW(A26))),\"\")","v":"B/3"},{"$f":"IFERROR(INDEX(Subtotals!$B$53:$B$199, SMALL(IF(Subtotals!$C$50=Subtotals!$E$53:$E$199, ROW(Subtotals!$E$53:$E$199)-MIN(ROW(Subtotals!$E$53:$E$199))+1, \"\"), ROW(A26))),\"\")","v":0},{"$f":"IFERROR(INDEX(Subtotals!$F$53:$F$199, SMALL(IF(Subtotals!$C$50=Subtotals!$E$53:$E$199, ROW(Subtotals!$E$53:$E$199)-MIN(ROW(Subtotals!$E$53:$E$199))+1, \"\"), ROW(A26))),\"\")","v":"V12"},{"$f":"IFERROR(INDEX(Subtotals!$G$53:$G$199, SMALL(IF(Subtotals!$C$50=Subtotals!$E$53:$E$199, ROW(Subtotals!$E$53:$E$199)-MIN(ROW(Subtotals!$E$53:$E$199))+1, \"\"), ROW(A26))),\"\")","v":"C089"},{"$f":"IFERROR(INDEX(Subtotals!$J$53:$J$199, SMALL(IF(Subtotals!$C$50=Subtotals!$E$53:$E$199, ROW(Subtotals!$E$53:$E$199)-MIN(ROW(Subtotals!$E$53:$E$199))+1, \"\"), ROW(A26))),\"\")","v":"Calculated grand total of Developmental Delay in Category Set B (BV47) ≠ Subtotal 3 (B27)"},null,{"$f":"IFERROR(INDEX(Subtotals!$C$53:$C$199, SMALL(IF(Subtotals!$C$50=Subtotals!$E$53:$E$199, ROW(Subtotals!$E$53:$E$199)-MIN(ROW(Subtotals!$E$53:$E$199))+1, \"\"), ROW(A26))),\"\")","v":"MC"},{"$f":"IFERROR(INDEX(Subtotals!$H$53:$H$199, SMALL(IF(Subtotals!$C$50=Subtotals!$E$53:$E$199, ROW(Subtotals!$E$53:$E$199)-MIN(ROW(Subtotals!$E$53:$E$199))+1, \"\"), ROW(A26))),\"\")","v":"V12"},{"$f":"IFERROR(INDEX(Subtotals!$I$53:$I$199, SMALL(IF(Subtotals!$C$50=Subtotals!$E$53:$E$199, ROW(Subtotals!$E$53:$E$199)-MIN(ROW(Subtotals!$E$53:$E$199))+1, \"\"), ROW(A26))),\"\")","v":"C089"}]
["B/3","Calculated grand total of Autism in Category Set B (BV45) ≠ Subtotal 3 (B25)",null,null,null,null,null,null,null,null,null,null,"V12",0,"V12","MC",null,null,{"$f":"IFERROR(INDEX(Subtotals!$A$53:$A$199, SMALL(IF(Subtotals!$C$50=Subtotals!$E$53:$E$199, ROW(Subtotals!$E$53:$E$199)-MIN(ROW(Subtotals!$E$53:$E$199))+1, \"\"), ROW(A27))),\"\")","v":"C/1"},{"$f":"IFERROR(INDEX(Subtotals!$B$53:$B$199, SMALL(IF(Subtotals!$C$50=Subtotals!$E$53:$E$199, ROW(Subtotals!$E$53:$E$199)-MIN(ROW(Subtotals!$E$53:$E$199))+1, \"\"), ROW(A27))),\"\")","v":0},{"$f":"IFERROR(INDEX(Subtotals!$F$53:$F$199, SMALL(IF(Subtotals!$C$50=Subtotals!$E$53:$E$199, ROW(Subtotals!$E$53:$E$199)-MIN(ROW(Subtotals!$E$53:$E$199))+1, \"\"), ROW(A27))),\"\")","v":"V12"},{"$f":"IFERROR(INDEX(Subtotals!$G$53:$G$199, SMALL(IF(Subtotals!$C$50=Subtotals!$E$53:$E$199, ROW(Subtotals!$E$53:$E$199)-MIN(ROW(Subtotals!$E$53:$E$199))+1, \"\"), ROW(A27))),\"\")","v":"C089"},{"$f":"IFERROR(INDEX(Subtotals!$J$53:$J$199, SMALL(IF(Subtotals!$C$50=Subtotals!$E$53:$E$199, ROW(Subtotals!$E$53:$E$199)-MIN(ROW(Subtotals!$E$53:$E$199))+1, \"\"), ROW(A27))),\"\")","v":"Calculated total of Male in Category Set C (G52+G53+G54+G55+G56+G57+G58+G59+G60) ≠ Subtotal 1 (G23)"},null,{"$f":"IFERROR(INDEX(Subtotals!$C$53:$C$199, SMALL(IF(Subtotals!$C$50=Subtotals!$E$53:$E$199, ROW(Subtotals!$E$53:$E$199)-MIN(ROW(Subtotals!$E$53:$E$199))+1, \"\"), ROW(A27))),\"\")","v":"MC"},{"$f":"IFERROR(INDEX(Subtotals!$H$53:$H$199, SMALL(IF(Subtotals!$C$50=Subtotals!$E$53:$E$199, ROW(Subtotals!$E$53:$E$199)-MIN(ROW(Subtotals!$E$53:$E$199))+1, \"\"), ROW(A27))),\"\")","v":"V12"},{"$f":"IFERROR(INDEX(Subtotals!$I$53:$I$199, SMALL(IF(Subtotals!$C$50=Subtotals!$E$53:$E$199, ROW(Subtotals!$E$53:$E$199)-MIN(ROW(Subtotals!$E$53:$E$199))+1, \"\"), ROW(A27))),\"\")","v":"C089"}]
["B/3","Calculated grand total of Traumatic Brain Injury in Category Set B (BV46) ≠ Subtotal 3 (B26)",null,null,null,null,null,null,null,null,null,null,"V12",0,"V12","MC",null,null,{"$f":"IFERROR(INDEX(Subtotals!$A$53:$A$199, SMALL(IF(Subtotals!$C$50=Subtotals!$E$53:$E$199, ROW(Subtotals!$E$53:$E$199)-MIN(ROW(Subtotals!$E$53:$E$199))+1, \"\"), ROW(A28))),\"\")","v":"C/1"},{"$f":"IFERROR(INDEX(Subtotals!$B$53:$B$199, SMALL(IF(Subtotals!$C$50=Subtotals!$E$53:$E$199, ROW(Subtotals!$E$53:$E$199)-MIN(ROW(Subtotals!$E$53:$E$199))+1, \"\"), ROW(A28))),\"\")","v":0},{"$f":"IFERROR(INDEX(Subtotals!$F$53:$F$199, SMALL(IF(Subtotals!$C$50=Subtotals!$E$53:$E$199, ROW(Subtotals!$E$53:$E$199)-MIN(ROW(Subtotals!$E$53:$E$199))+1, \"\"), ROW(A28))),\"\")","v":"V12"},{"$f":"IFERROR(INDEX(Subtotals!$G$53:$G$199, SMALL(IF(Subtotals!$C$50=Subtotals!$E$53:$E$199, ROW(Subtotals!$E$53:$E$199)-MIN(ROW(Subtotals!$E$53:$E$199))+1, \"\"), ROW(A28))),\"\")","v":"C089"},{"$f":"IFERROR(INDEX(Subtotals!$J$53:$J$199, SMALL(IF(Subtotals!$C$50=Subtotals!$E$53:$E$199, ROW(Subtotals!$E$53:$E$199)-MIN(ROW(Subtotals!$E$53:$E$199))+1, \"\"), ROW(A28))),\"\")","v":"Calculated total of Female in Category Set C (H52+H53+H54+H55+H56+H57+H58+H59+H60) ≠ Subtotal 1 (G24)"},null,{"$f":"IFERROR(INDEX(Subtotals!$C$53:$C$199, SMALL(IF(Subtotals!$C$50=Subtotals!$E$53:$E$199, ROW(Subtotals!$E$53:$E$199)-MIN(ROW(Subtotals!$E$53:$E$199))+1, \"\"), ROW(A28))),\"\")","v":"MC"},{"$f":"IFERROR(INDEX(Subtotals!$H$53:$H$199, SMALL(IF(Subtotals!$C$50=Subtotals!$E$53:$E$199, ROW(Subtotals!$E$53:$E$199)-MIN(ROW(Subtotals!$E$53:$E$199))+1, \"\"), ROW(A28))),\"\")","v":"V12"},{"$f":"IFERROR(INDEX(Subtotals!$I$53:$I$199, SMALL(IF(Subtotals!$C$50=Subtotals!$E$53:$E$199, ROW(Subtotals!$E$53:$E$199)-MIN(ROW(Subtotals!$E$53:$E$199))+1, \"\"), ROW(A28))),\"\")","v":"C089"}]
["B/3","Calculated grand total of Developmental Delay in Category Set B (BV47) ≠ Subtotal 3 (B27)",null,null,null,null,null,null,null,null,null,null,"V12",0,"V12","MC",null,null,{"$f":"IFERROR(INDEX(Subtotals!$A$53:$A$199, SMALL(IF(Subtotals!$C$50=Subtotals!$E$53:$E$199, ROW(Subtotals!$E$53:$E$199)-MIN(ROW(Subtotals!$E$53:$E$199))+1, \"\"), ROW(A29))),\"\")","v":"A/2"},{"$f":"IFERROR(INDEX(Subtotals!$B$53:$B$199, SMALL(IF(Subtotals!$C$50=Subtotals!$E$53:$E$199, ROW(Subtotals!$E$53:$E$199)-MIN(ROW(Subtotals!$E$53:$E$199))+1, \"\"), ROW(A29))),\"\")","v":0},{"$f":"IFERROR(INDEX(Subtotals!$F$53:$F$199, SMALL(IF(Subtotals!$C$50=Subtotals!$E$53:$E$199, ROW(Subtotals!$E$53:$E$199)-MIN(ROW(Subtotals!$E$53:$E$199))+1, \"\"), ROW(A29))),\"\")","v":"V12"},{"$f":"IFERROR(INDEX(Subtotals!$G$53:$G$199, SMALL(IF(Subtotals!$C$50=Subtotals!$E$53:$E$199, ROW(Subtotals!$E$53:$E$199)-MIN(ROW(Subtotals!$E$53:$E$199))+1, \"\"), ROW(A29))),\"\")","v":"C089"},{"$f":"IFERROR(INDEX(Subtotals!$J$53:$J$199, SMALL(IF(Subtotals!$C$50=Subtotals!$E$53:$E$199, ROW(Subtotals!$E$53:$E$199)-MIN(ROW(Subtotals!$E$53:$E$199))+1, \"\"), ROW(A29))),\"\")","v":"Calculated total of Age 3 in Category Set A (B29+F29+J29+N29+R29+V29+Z29+AD29+AH29) ≠ Subtotal 2 (G15)"},null,{"$f":"IFERROR(INDEX(Subtotals!$C$53:$C$199, SMALL(IF(Subtotals!$C$50=Subtotals!$E$53:$E$199, ROW(Subtotals!$E$53:$E$199)-MIN(ROW(Subtotals!$E$53:$E$199))+1, \"\"), ROW(A29))),\"\")","v":"MC"},{"$f":"IFERROR(INDEX(Subtotals!$H$53:$H$199, SMALL(IF(Subtotals!$C$50=Subtotals!$E$53:$E$199, ROW(Subtotals!$E$53:$E$199)-MIN(ROW(Subtotals!$E$53:$E$199))+1, \"\"), ROW(A29))),\"\")","v":"V12"},{"$f":"IFERROR(INDEX(Subtotals!$I$53:$I$199, SMALL(IF(Subtotals!$C$50=Subtotals!$E$53:$E$199, ROW(Subtotals!$E$53:$E$199)-MIN(ROW(Subtotals!$E$53:$E$199))+1, \"\"), ROW(A29))),\"\")","v":"C089"}]
["C/1","Calculated total of Male in Category Set C (G52+G53+G54+G55+G56+G57+G58+G59+G60) ≠ Subtotal 1 (G23)",null,null,null,null,null,null,null,null,null,null,"V12",0,"V12","MC",null,null,{"$f":"IFERROR(INDEX(Subtotals!$A$53:$A$199, SMALL(IF(Subtotals!$C$50=Subtotals!$E$53:$E$199, ROW(Subtotals!$E$53:$E$199)-MIN(ROW(Subtotals!$E$53:$E$199))+1, \"\"), ROW(A30))),\"\")","v":"A/2"},{"$f":"IFERROR(INDEX(Subtotals!$B$53:$B$199, SMALL(IF(Subtotals!$C$50=Subtotals!$E$53:$E$199, ROW(Subtotals!$E$53:$E$199)-MIN(ROW(Subtotals!$E$53:$E$199))+1, \"\"), ROW(A30))),\"\")","v":0},{"$f":"IFERROR(INDEX(Subtotals!$F$53:$F$199, SMALL(IF(Subtotals!$C$50=Subtotals!$E$53:$E$199, ROW(Subtotals!$E$53:$E$199)-MIN(ROW(Subtotals!$E$53:$E$199))+1, \"\"), ROW(A30))),\"\")","v":"V12"},{"$f":"IFERROR(INDEX(Subtotals!$G$53:$G$199, SMALL(IF(Subtotals!$C$50=Subtotals!$E$53:$E$199, ROW(Subtotals!$E$53:$E$199)-MIN(ROW(Subtotals!$E$53:$E$199))+1, \"\"), ROW(A30))),\"\")","v":"C089"},{"$f":"IFERROR(INDEX(Subtotals!$J$53:$J$199, SMALL(IF(Subtotals!$C$50=Subtotals!$E$53:$E$199, ROW(Subtotals!$E$53:$E$199)-MIN(ROW(Subtotals!$E$53:$E$199))+1, \"\"), ROW(A30))),\"\")","v":"Calculated total of Age 4 in Category Set A (C29+G29+K29+O29+S29+W29+AA29+AE29+AI29) ≠ Subtotal 2 (G16)"},null,{"$f":"IFERROR(INDEX(Subtotals!$C$53:$C$199, SMALL(IF(Subtotals!$C$50=Subtotals!$E$53:$E$199, ROW(Subtotals!$E$53:$E$199)-MIN(ROW(Subtotals!$E$53:$E$199))+1, \"\"), ROW(A30))),\"\")","v":"MC"},{"$f":"IFERROR(INDEX(Subtotals!$H$53:$H$199, SMALL(IF(Subtotals!$C$50=Subtotals!$E$53:$E$199, ROW(Subtotals!$E$53:$E$199)-MIN(ROW(Subtotals!$E$53:$E$199))+1, \"\"), ROW(A30))),\"\")","v":"V12"},{"$f":"IFERROR(INDEX(Subtotals!$I$53:$I$199, SMALL(IF(Subtotals!$C$50=Subtotals!$E$53:$E$199, ROW(Subtotals!$E$53:$E$199)-MIN(ROW(Subtotals!$E$53:$E$199))+1, \"\"), ROW(A30))),\"\")","v":"C089"}]
["C/1","Calculated total of Female in Category Set C (H52+H53+H54+H55+H56+H57+H58+H59+H60) ≠ Subtotal 1 (G24)",null,null,null,null,null,null,null,null,null,null,"V12",0,"V12","MC",null,null,{"$f":"IFERROR(INDEX(Subtotals!$A$53:$A$199, SMALL(IF(Subtotals!$C$50=Subtotals!$E$53:$E$199, ROW(Subtotals!$E$53:$E$199)-MIN(ROW(Subtotals!$E$53:$E$199))+1, \"\"), ROW(A31))),\"\")","v":"A/2"},{"$f":"IFERROR(INDEX(Subtotals!$B$53:$B$199, SMALL(IF(Subtotals!$C$50=Subtotals!$E$53:$E$199, ROW(Subtotals!$E$53:$E$199)-MIN(ROW(Subtotals!$E$53:$E$199))+1, \"\"), ROW(A31))),\"\")","v":0},{"$f":"IFERROR(INDEX(Subtotals!$F$53:$F$199, SMALL(IF(Subtotals!$C$50=Subtotals!$E$53:$E$199, ROW(Subtotals!$E$53:$E$199)-MIN(ROW(Subtotals!$E$53:$E$199))+1, \"\"), ROW(A31))),\"\")","v":"V12"},{"$f":"IFERROR(INDEX(Subtotals!$G$53:$G$199, SMALL(IF(Subtotals!$C$50=Subtotals!$E$53:$E$199, ROW(Subtotals!$E$53:$E$199)-MIN(ROW(Subtotals!$E$53:$E$199))+1, \"\"), ROW(A31))),\"\")","v":"C089"},{"$f":"IFERROR(INDEX(Subtotals!$J$53:$J$199, SMALL(IF(Subtotals!$C$50=Subtotals!$E$53:$E$199, ROW(Subtotals!$E$53:$E$199)-MIN(ROW(Subtotals!$E$53:$E$199))+1, \"\"), ROW(A31))),\"\")","v":"Calculated total of Age 5 in Category Set A (D29+H29+L29+P29+T29+X29+AB29+AF29+AJ29) ≠ Subtotal 2 (G17)"},null,{"$f":"IFERROR(INDEX(Subtotals!$C$53:$C$199, SMALL(IF(Subtotals!$C$50=Subtotals!$E$53:$E$199, ROW(Subtotals!$E$53:$E$199)-MIN(ROW(Subtotals!$E$53:$E$199))+1, \"\"), ROW(A31))),\"\")","v":"MC"},{"$f":"IFERROR(INDEX(Subtotals!$H$53:$H$199, SMALL(IF(Subtotals!$C$50=Subtotals!$E$53:$E$199, ROW(Subtotals!$E$53:$E$199)-MIN(ROW(Subtotals!$E$53:$E$199))+1, \"\"), ROW(A31))),\"\")","v":"V12"},{"$f":"IFERROR(INDEX(Subtotals!$I$53:$I$199, SMALL(IF(Subtotals!$C$50=Subtotals!$E$53:$E$199, ROW(Subtotals!$E$53:$E$199)-MIN(ROW(Subtotals!$E$53:$E$199))+1, \"\"), ROW(A31))),\"\")","v":"C089"}]
["A/2","Calculated total of Age 3 in Category Set A (B29+F29+J29+N29+R29+V29+Z29+AD29+AH29) ≠ Subtotal 2 (G15)",null,null,null,null,null,null,null,null,null,null,"V12",0,"V12","MC",null,null,{"$f":"IFERROR(INDEX(Subtotals!$A$53:$A$199, SMALL(IF(Subtotals!$C$50=Subtotals!$E$53:$E$199, ROW(Subtotals!$E$53:$E$199)-MIN(ROW(Subtotals!$E$53:$E$199))+1, \"\"), ROW(A32))),\"\")","v":"B/4"},{"$f":"IFERROR(INDEX(Subtotals!$B$53:$B$199, SMALL(IF(Subtotals!$C$50=Subtotals!$E$53:$E$199, ROW(Subtotals!$E$53:$E$199)-MIN(ROW(Subtotals!$E$53:$E$199))+1, \"\"), ROW(A32))),\"\")","v":0},{"$f":"IFERROR(INDEX(Subtotals!$F$53:$F$199, SMALL(IF(Subtotals!$C$50=Subtotals!$E$53:$E$199, ROW(Subtotals!$E$53:$E$199)-MIN(ROW(Subtotals!$E$53:$E$199))+1, \"\"), ROW(A32))),\"\")","v":"V12"},{"$f":"IFERROR(INDEX(Subtotals!$G$53:$G$199, SMALL(IF(Subtotals!$C$50=Subtotals!$E$53:$E$199, ROW(Subtotals!$E$53:$E$199)-MIN(ROW(Subtotals!$E$53:$E$199))+1, \"\"), ROW(A32))),\"\")","v":"C089"},{"$f":"IFERROR(INDEX(Subtotals!$J$53:$J$199, SMALL(IF(Subtotals!$C$50=Subtotals!$E$53:$E$199, ROW(Subtotals!$E$53:$E$199)-MIN(ROW(Subtotals!$E$53:$E$199))+1, \"\"), ROW(A32))),\"\")","v":"Calculated total of Hispanic/Latino in Category Set B (B48+J48+R48+Z48+AH48+AP48+AX48+BF48+BN48) ≠ Subtotal 4 (K15)"},null,{"$f":"IFERROR(INDEX(Subtotals!$C$53:$C$199, SMALL(IF(Subtotals!$C$50=Subtotals!$E$53:$E$199, ROW(Subtotals!$E$53:$E$199)-MIN(ROW(Subtotals!$E$53:$E$199))+1, \"\"), ROW(A32))),\"\")","v":"MC"},{"$f":"IFERROR(INDEX(Subtotals!$H$53:$H$199, SMALL(IF(Subtotals!$C$50=Subtotals!$E$53:$E$199, ROW(Subtotals!$E$53:$E$199)-MIN(ROW(Subtotals!$E$53:$E$199))+1, \"\"), ROW(A32))),\"\")","v":"V12"},{"$f":"IFERROR(INDEX(Subtotals!$I$53:$I$199, SMALL(IF(Subtotals!$C$50=Subtotals!$E$53:$E$199, ROW(Subtotals!$E$53:$E$199)-MIN(ROW(Subtotals!$E$53:$E$199))+1, \"\"), ROW(A32))),\"\")","v":"C089"}]
["A/2","Calculated total of Age 4 in Category Set A (C29+G29+K29+O29+S29+W29+AA29+AE29+AI29) ≠ Subtotal 2 (G16)",null,null,null,null,null,null,null,null,null,null,"V12",0,"V12","MC",null,null,{"$f":"IFERROR(INDEX(Subtotals!$A$53:$A$199, SMALL(IF(Subtotals!$C$50=Subtotals!$E$53:$E$199, ROW(Subtotals!$E$53:$E$199)-MIN(ROW(Subtotals!$E$53:$E$199))+1, \"\"), ROW(A33))),\"\")","v":"B/4"},{"$f":"IFERROR(INDEX(Subtotals!$B$53:$B$199, SMALL(IF(Subtotals!$C$50=Subtotals!$E$53:$E$199, ROW(Subtotals!$E$53:$E$199)-MIN(ROW(Subtotals!$E$53:$E$199))+1, \"\"), ROW(A33))),\"\")","v":0},{"$f":"IFERROR(INDEX(Subtotals!$F$53:$F$199, SMALL(IF(Subtotals!$C$50=Subtotals!$E$53:$E$199, ROW(Subtotals!$E$53:$E$199)-MIN(ROW(Subtotals!$E$53:$E$199))+1, \"\"), ROW(A33))),\"\")","v":"V12"},{"$f":"IFERROR(INDEX(Subtotals!$G$53:$G$199, SMALL(IF(Subtotals!$C$50=Subtotals!$E$53:$E$199, ROW(Subtotals!$E$53:$E$199)-MIN(ROW(Subtotals!$E$53:$E$199))+1, \"\"), ROW(A33))),\"\")","v":"C089"},{"$f":"IFERROR(INDEX(Subtotals!$J$53:$J$199, SMALL(IF(Subtotals!$C$50=Subtotals!$E$53:$E$199, ROW(Subtotals!$E$53:$E$199)-MIN(ROW(Subtotals!$E$53:$E$199))+1, \"\"), ROW(A33))),\"\")","v":"Calculated total of American Indian or Alaska Native in Category Set B (C48+K48+S48+AA48+AI48+AQ48+AY48+BG48+BO48) ≠ Subtotal 4 (K16)"},null,{"$f":"IFERROR(INDEX(Subtotals!$C$53:$C$199, SMALL(IF(Subtotals!$C$50=Subtotals!$E$53:$E$199, ROW(Subtotals!$E$53:$E$199)-MIN(ROW(Subtotals!$E$53:$E$199))+1, \"\"), ROW(A33))),\"\")","v":"MC"},{"$f":"IFERROR(INDEX(Subtotals!$H$53:$H$199, SMALL(IF(Subtotals!$C$50=Subtotals!$E$53:$E$199, ROW(Subtotals!$E$53:$E$199)-MIN(ROW(Subtotals!$E$53:$E$199))+1, \"\"), ROW(A33))),\"\")","v":"V12"},{"$f":"IFERROR(INDEX(Subtotals!$I$53:$I$199, SMALL(IF(Subtotals!$C$50=Subtotals!$E$53:$E$199, ROW(Subtotals!$E$53:$E$199)-MIN(ROW(Subtotals!$E$53:$E$199))+1, \"\"), ROW(A33))),\"\")","v":"C089"}]
["A/2","Calculated total of Age 5 in Category Set A (D29+H29+L29+P29+T29+X29+AB29+AF29+AJ29) ≠ Subtotal 2 (G17)",null,null,null,null,null,null,null,null,null,null,"V12",0,"V12","MC",null,null,{"$f":"IFERROR(INDEX(Subtotals!$A$53:$A$199, SMALL(IF(Subtotals!$C$50=Subtotals!$E$53:$E$199, ROW(Subtotals!$E$53:$E$199)-MIN(ROW(Subtotals!$E$53:$E$199))+1, \"\"), ROW(A34))),\"\")","v":"B/4"},{"$f":"IFERROR(INDEX(Subtotals!$B$53:$B$199, SMALL(IF(Subtotals!$C$50=Subtotals!$E$53:$E$199, ROW(Subtotals!$E$53:$E$199)-MIN(ROW(Subtotals!$E$53:$E$199))+1, \"\"), ROW(A34))),\"\")","v":0},{"$f":"IFERROR(INDEX(Subtotals!$F$53:$F$199, SMALL(IF(Subtotals!$C$50=Subtotals!$E$53:$E$199, ROW(Subtotals!$E$53:$E$199)-MIN(ROW(Subtotals!$E$53:$E$199))+1, \"\"), ROW(A34))),\"\")","v":"V12"},{"$f":"IFERROR(INDEX(Subtotals!$G$53:$G$199, SMALL(IF(Subtotals!$C$50=Subtotals!$E$53:$E$199, ROW(Subtotals!$E$53:$E$199)-MIN(ROW(Subtotals!$E$53:$E$199))+1, \"\"), ROW(A34))),\"\")","v":"C089"},{"$f":"IFERROR(INDEX(Subtotals!$J$53:$J$199, SMALL(IF(Subtotals!$C$50=Subtotals!$E$53:$E$199, ROW(Subtotals!$E$53:$E$199)-MIN(ROW(Subtotals!$E$53:$E$199))+1, \"\"), ROW(A34))),\"\")","v":"Calculated total of Asian in Category Set B (D48+L48+T48+AB48+AJ48+AR48+AZ48+BH48+BP48) ≠ Subtotal 4 (K17)"},null,{"$f":"IFERROR(INDEX(Subtotals!$C$53:$C$199, SMALL(IF(Subtotals!$C$50=Subtotals!$E$53:$E$199, ROW(Subtotals!$E$53:$E$199)-MIN(ROW(Subtotals!$E$53:$E$199))+1, \"\"), ROW(A34))),\"\")","v":"MC"},{"$f":"IFERROR(INDEX(Subtotals!$H$53:$H$199, SMALL(IF(Subtotals!$C$50=Subtotals!$E$53:$E$199, ROW(Subtotals!$E$53:$E$199)-MIN(ROW(Subtotals!$E$53:$E$199))+1, \"\"), ROW(A34))),\"\")","v":"V12"},{"$f":"IFERROR(INDEX(Subtotals!$I$53:$I$199, SMALL(IF(Subtotals!$C$50=Subtotals!$E$53:$E$199, ROW(Subtotals!$E$53:$E$199)-MIN(ROW(Subtotals!$E$53:$E$199))+1, \"\"), ROW(A34))),\"\")","v":"C089"}]
["B/4","Calculated total of Hispanic/Latino in Category Set B (B48+J48+R48+Z48+AH48+AP48+AX48+BF48+BN48) ≠ Subtotal 4 (K15)",null,null,null,null,null,null,null,null,null,null,"V12",0,"V12","MC",null,null,{"$f":"IFERROR(INDEX(Subtotals!$A$53:$A$199, SMALL(IF(Subtotals!$C$50=Subtotals!$E$53:$E$199, ROW(Subtotals!$E$53:$E$199)-MIN(ROW(Subtotals!$E$53:$E$199))+1, \"\"), ROW(A35))),\"\")","v":"B/4"},{"$f":"IFERROR(INDEX(Subtotals!$B$53:$B$199, SMALL(IF(Subtotals!$C$50=Subtotals!$E$53:$E$199, ROW(Subtotals!$E$53:$E$199)-MIN(ROW(Subtotals!$E$53:$E$199))+1, \"\"), ROW(A35))),\"\")","v":0},{"$f":"IFERROR(INDEX(Subtotals!$F$53:$F$199, SMALL(IF(Subtotals!$C$50=Subtotals!$E$53:$E$199, ROW(Subtotals!$E$53:$E$199)-MIN(ROW(Subtotals!$E$53:$E$199))+1, \"\"), ROW(A35))),\"\")","v":"V12"},{"$f":"IFERROR(INDEX(Subtotals!$G$53:$G$199, SMALL(IF(Subtotals!$C$50=Subtotals!$E$53:$E$199, ROW(Subtotals!$E$53:$E$199)-MIN(ROW(Subtotals!$E$53:$E$199))+1, \"\"), ROW(A35))),\"\")","v":"C089"},{"$f":"IFERROR(INDEX(Subtotals!$J$53:$J$199, SMALL(IF(Subtotals!$C$50=Subtotals!$E$53:$E$199, ROW(Subtotals!$E$53:$E$199)-MIN(ROW(Subtotals!$E$53:$E$199))+1, \"\"), ROW(A35))),\"\")","v":"Calculated total of Black or African American in Category Set B (E48+M48+U48+AC48+AK48+AS48+BA48+BI48+BQ48) ≠ Subtotal 4 (K18)"},null,{"$f":"IFERROR(INDEX(Subtotals!$C$53:$C$199, SMALL(IF(Subtotals!$C$50=Subtotals!$E$53:$E$199, ROW(Subtotals!$E$53:$E$199)-MIN(ROW(Subtotals!$E$53:$E$199))+1, \"\"), ROW(A35))),\"\")","v":"MC"},{"$f":"IFERROR(INDEX(Subtotals!$H$53:$H$199, SMALL(IF(Subtotals!$C$50=Subtotals!$E$53:$E$199, ROW(Subtotals!$E$53:$E$199)-MIN(ROW(Subtotals!$E$53:$E$199))+1, \"\"), ROW(A35))),\"\")","v":"V12"},{"$f":"IFERROR(INDEX(Subtotals!$I$53:$I$199, SMALL(IF(Subtotals!$C$50=Subtotals!$E$53:$E$199, ROW(Subtotals!$E$53:$E$199)-MIN(ROW(Subtotals!$E$53:$E$199))+1, \"\"), ROW(A35))),\"\")","v":"C089"}]
["B/4","Calculated total of American Indian or Alaska Native in Category Set B (C48+K48+S48+AA48+AI48+AQ48+AY48+BG48+BO48) ≠ Subtotal 4 (K16)",null,null,null,null,null,null,null,null,null,null,"V12",0,"V12","MC",null,null,{"$f":"IFERROR(INDEX(Subtotals!$A$53:$A$199, SMALL(IF(Subtotals!$C$50=Subtotals!$E$53:$E$199, ROW(Subtotals!$E$53:$E$199)-MIN(ROW(Subtotals!$E$53:$E$199))+1, \"\"), ROW(A36))),\"\")","v":"B/4"},{"$f":"IFERROR(INDEX(Subtotals!$B$53:$B$199, SMALL(IF(Subtotals!$C$50=Subtotals!$E$53:$E$199, ROW(Subtotals!$E$53:$E$199)-MIN(ROW(Subtotals!$E$53:$E$199))+1, \"\"), ROW(A36))),\"\")","v":0},{"$f":"IFERROR(INDEX(Subtotals!$F$53:$F$199, SMALL(IF(Subtotals!$C$50=Subtotals!$E$53:$E$199, ROW(Subtotals!$E$53:$E$199)-MIN(ROW(Subtotals!$E$53:$E$199))+1, \"\"), ROW(A36))),\"\")","v":"V12"},{"$f":"IFERROR(INDEX(Subtotals!$G$53:$G$199, SMALL(IF(Subtotals!$C$50=Subtotals!$E$53:$E$199, ROW(Subtotals!$E$53:$E$199)-MIN(ROW(Subtotals!$E$53:$E$199))+1, \"\"), ROW(A36))),\"\")","v":"C089"},{"$f":"IFERROR(INDEX(Subtotals!$J$53:$J$199, SMALL(IF(Subtotals!$C$50=Subtotals!$E$53:$E$199, ROW(Subtotals!$E$53:$E$199)-MIN(ROW(Subtotals!$E$53:$E$199))+1, \"\"), ROW(A36))),\"\")","v":"Calculated total of Native Hawaiian or Other Pacific Islander in Category Set B (F48+N48+V48+AD48+AL48+AT48+BB48+BJ48+BR48) ≠ Subtotal 4 (K19)"},null,{"$f":"IFERROR(INDEX(Subtotals!$C$53:$C$199, SMALL(IF(Subtotals!$C$50=Subtotals!$E$53:$E$199, ROW(Subtotals!$E$53:$E$199)-MIN(ROW(Subtotals!$E$53:$E$199))+1, \"\"), ROW(A36))),\"\")","v":"MC"},{"$f":"IFERROR(INDEX(Subtotals!$H$53:$H$199, SMALL(IF(Subtotals!$C$50=Subtotals!$E$53:$E$199, ROW(Subtotals!$E$53:$E$199)-MIN(ROW(Subtotals!$E$53:$E$199))+1, \"\"), ROW(A36))),\"\")","v":"V12"},{"$f":"IFERROR(INDEX(Subtotals!$I$53:$I$199, SMALL(IF(Subtotals!$C$50=Subtotals!$E$53:$E$199, ROW(Subtotals!$E$53:$E$199)-MIN(ROW(Subtotals!$E$53:$E$199))+1, \"\"), ROW(A36))),\"\")","v":"C089"}]
["B/4","Calculated total of Asian in Category Set B (D48+L48+T48+AB48+AJ48+AR48+AZ48+BH48+BP48) ≠ Subtotal 4 (K17)",null,null,null,null,null,null,null,null,null,null,"V12",0,"V12","MC",null,null,{"$f":"IFERROR(INDEX(Subtotals!$A$53:$A$199, SMALL(IF(Subtotals!$C$50=Subtotals!$E$53:$E$199, ROW(Subtotals!$E$53:$E$199)-MIN(ROW(Subtotals!$E$53:$E$199))+1, \"\"), ROW(A37))),\"\")","v":"B/4"},{"$f":"IFERROR(INDEX(Subtotals!$B$53:$B$199, SMALL(IF(Subtotals!$C$50=Subtotals!$E$53:$E$199, ROW(Subtotals!$E$53:$E$199)-MIN(ROW(Subtotals!$E$53:$E$199))+1, \"\"), ROW(A37))),\"\")","v":0},{"$f":"IFERROR(INDEX(Subtotals!$F$53:$F$199, SMALL(IF(Subtotals!$C$50=Subtotals!$E$53:$E$199, ROW(Subtotals!$E$53:$E$199)-MIN(ROW(Subtotals!$E$53:$E$199))+1, \"\"), ROW(A37))),\"\")","v":"V12"},{"$f":"IFERROR(INDEX(Subtotals!$G$53:$G$199, SMALL(IF(Subtotals!$C$50=Subtotals!$E$53:$E$199, ROW(Subtotals!$E$53:$E$199)-MIN(ROW(Subtotals!$E$53:$E$199))+1, \"\"), ROW(A37))),\"\")","v":"C089"},{"$f":"IFERROR(INDEX(Subtotals!$J$53:$J$199, SMALL(IF(Subtotals!$C$50=Subtotals!$E$53:$E$199, ROW(Subtotals!$E$53:$E$199)-MIN(ROW(Subtotals!$E$53:$E$199))+1, \"\"), ROW(A37))),\"\")","v":"Calculated total of White in Category Set B (G48+O48+W48+AE48+AM48+AU48+BC48+BK48+BS48) ≠ Subtotal 4 (K20)"},null,{"$f":"IFERROR(INDEX(Subtotals!$C$53:$C$199, SMALL(IF(Subtotals!$C$50=Subtotals!$E$53:$E$199, ROW(Subtotals!$E$53:$E$199)-MIN(ROW(Subtotals!$E$53:$E$199))+1, \"\"), ROW(A37))),\"\")","v":"MC"},{"$f":"IFERROR(INDEX(Subtotals!$H$53:$H$199, SMALL(IF(Subtotals!$C$50=Subtotals!$E$53:$E$199, ROW(Subtotals!$E$53:$E$199)-MIN(ROW(Subtotals!$E$53:$E$199))+1, \"\"), ROW(A37))),\"\")","v":"V12"},{"$f":"IFERROR(INDEX(Subtotals!$I$53:$I$199, SMALL(IF(Subtotals!$C$50=Subtotals!$E$53:$E$199, ROW(Subtotals!$E$53:$E$199)-MIN(ROW(Subtotals!$E$53:$E$199))+1, \"\"), ROW(A37))),\"\")","v":"C089"}]
["B/4","Calculated total of Black or African American in Category Set B (E48+M48+U48+AC48+AK48+AS48+BA48+BI48+BQ48) ≠ Subtotal 4 (K18)",null,null,null,null,null,null,null,null,null,null,"V12",0,"V12","MC",null,null,{"$f":"IFERROR(INDEX(Subtotals!$A$53:$A$199, SMALL(IF(Subtotals!$C$50=Subtotals!$E$53:$E$199, ROW(Subtotals!$E$53:$E$199)-MIN(ROW(Subtotals!$E$53:$E$199))+1, \"\"), ROW(A38))),\"\")","v":"B/4"},{"$f":"IFERROR(INDEX(Subtotals!$B$53:$B$199, SMALL(IF(Subtotals!$C$50=Subtotals!$E$53:$E$199, ROW(Subtotals!$E$53:$E$199)-MIN(ROW(Subtotals!$E$53:$E$199))+1, \"\"), ROW(A38))),\"\")","v":0},{"$f":"IFERROR(INDEX(Subtotals!$F$53:$F$199, SMALL(IF(Subtotals!$C$50=Subtotals!$E$53:$E$199, ROW(Subtotals!$E$53:$E$199)-MIN(ROW(Subtotals!$E$53:$E$199))+1, \"\"), ROW(A38))),\"\")","v":"V12"},{"$f":"IFERROR(INDEX(Subtotals!$G$53:$G$199, SMALL(IF(Subtotals!$C$50=Subtotals!$E$53:$E$199, ROW(Subtotals!$E$53:$E$199)-MIN(ROW(Subtotals!$E$53:$E$199))+1, \"\"), ROW(A38))),\"\")","v":"C089"},{"$f":"IFERROR(INDEX(Subtotals!$J$53:$J$199, SMALL(IF(Subtotals!$C$50=Subtotals!$E$53:$E$199, ROW(Subtotals!$E$53:$E$199)-MIN(ROW(Subtotals!$E$53:$E$199))+1, \"\"), ROW(A38))),\"\")","v":"Calculated total of Two or more races in Category Set B (H48+P48+X48+AF48+AN48+AV48+BD48+BL48+BT48) ≠ Subtotal 4 (K21)"},null,{"$f":"IFERROR(INDEX(Subtotals!$C$53:$C$199, SMALL(IF(Subtotals!$C$50=Subtotals!$E$53:$E$199, ROW(Subtotals!$E$53:$E$199)-MIN(ROW(Subtotals!$E$53:$E$199))+1, \"\"), ROW(A38))),\"\")","v":"MC"},{"$f":"IFERROR(INDEX(Subtotals!$H$53:$H$199, SMALL(IF(Subtotals!$C$50=Subtotals!$E$53:$E$199, ROW(Subtotals!$E$53:$E$199)-MIN(ROW(Subtotals!$E$53:$E$199))+1, \"\"), ROW(A38))),\"\")","v":"V12"},{"$f":"IFERROR(INDEX(Subtotals!$I$53:$I$199, SMALL(IF(Subtotals!$C$50=Subtotals!$E$53:$E$199, ROW(Subtotals!$E$53:$E$199)-MIN(ROW(Subtotals!$E$53:$E$199))+1, \"\"), ROW(A38))),\"\")","v":"C089"}]
["B/4","Calculated total of Native Hawaiian or Other Pacific Islander in Category Set B (F48+N48+V48+AD48+AL48+AT48+BB48+BJ48+BR48) ≠ Subtotal 4 (K19)",null,null,null,null,null,null,null,null,null,null,"V12",0,"V12","MC",null,null,{"$f":"IFERROR(INDEX(Subtotals!$A$53:$A$199, SMALL(IF(Subtotals!$C$50=Subtotals!$E$53:$E$199, ROW(Subtotals!$E$53:$E$199)-MIN(ROW(Subtotals!$E$53:$E$199))+1, \"\"), ROW(A39))),\"\")","v":"D/5"},{"$f":"IFERROR(INDEX(Subtotals!$B$53:$B$199, SMALL(IF(Subtotals!$C$50=Subtotals!$E$53:$E$199, ROW(Subtotals!$E$53:$E$199)-MIN(ROW(Subtotals!$E$53:$E$199))+1, \"\"), ROW(A39))),\"\")","v":0},{"$f":"IFERROR(INDEX(Subtotals!$F$53:$F$199, SMALL(IF(Subtotals!$C$50=Subtotals!$E$53:$E$199, ROW(Subtotals!$E$53:$E$199)-MIN(ROW(Subtotals!$E$53:$E$199))+1, \"\"), ROW(A39))),\"\")","v":"V12"},{"$f":"IFERROR(INDEX(Subtotals!$G$53:$G$199, SMALL(IF(Subtotals!$C$50=Subtotals!$E$53:$E$199, ROW(Subtotals!$E$53:$E$199)-MIN(ROW(Subtotals!$E$53:$E$199))+1, \"\"), ROW(A39))),\"\")","v":"C089"},{"$f":"IFERROR(INDEX(Subtotals!$J$53:$J$199, SMALL(IF(Subtotals!$C$50=Subtotals!$E$53:$E$199, ROW(Subtotals!$E$53:$E$199)-MIN(ROW(Subtotals!$E$53:$E$199))+1, \"\"), ROW(A39))),\"\")","v":"Calculated total of LEP in Category Set D (S52+S53+S54+S55+S56+S57+S58+S59+S60)  ≠ Subtotal 5 (G30)"},null,{"$f":"IFERROR(INDEX(Subtotals!$C$53:$C$199, SMALL(IF(Subtotals!$C$50=Subtotals!$E$53:$E$199, ROW(Subtotals!$E$53:$E$199)-MIN(ROW(Subtotals!$E$53:$E$199))+1, \"\"), ROW(A39))),\"\")","v":"MC"},{"$f":"IFERROR(INDEX(Subtotals!$H$53:$H$199, SMALL(IF(Subtotals!$C$50=Subtotals!$E$53:$E$199, ROW(Subtotals!$E$53:$E$199)-MIN(ROW(Subtotals!$E$53:$E$199))+1, \"\"), ROW(A39))),\"\")","v":"V12"},{"$f":"IFERROR(INDEX(Subtotals!$I$53:$I$199, SMALL(IF(Subtotals!$C$50=Subtotals!$E$53:$E$199, ROW(Subtotals!$E$53:$E$199)-MIN(ROW(Subtotals!$E$53:$E$199))+1, \"\"), ROW(A39))),\"\")","v":"C089"}]
["B/4","Calculated total of White in Category Set B (G48+O48+W48+AE48+AM48+AU48+BC48+BK48+BS48) ≠ Subtotal 4 (K20)",null,null,null,null,null,null,null,null,null,null,"V12",0,"V12","MC",null,null,{"$f":"IFERROR(INDEX(Subtotals!$A$53:$A$199, SMALL(IF(Subtotals!$C$50=Subtotals!$E$53:$E$199, ROW(Subtotals!$E$53:$E$199)-MIN(ROW(Subtotals!$E$53:$E$199))+1, \"\"), ROW(A40))),\"\")","v":"D/5"},{"$f":"IFERROR(INDEX(Subtotals!$B$53:$B$199, SMALL(IF(Subtotals!$C$50=Subtotals!$E$53:$E$199, ROW(Subtotals!$E$53:$E$199)-MIN(ROW(Subtotals!$E$53:$E$199))+1, \"\"), ROW(A40))),\"\")","v":0},{"$f":"IFERROR(INDEX(Subtotals!$F$53:$F$199, SMALL(IF(Subtotals!$C$50=Subtotals!$E$53:$E$199, ROW(Subtotals!$E$53:$E$199)-MIN(ROW(Subtotals!$E$53:$E$199))+1, \"\"), ROW(A40))),\"\")","v":"V12"},{"$f":"IFERROR(INDEX(Subtotals!$G$53:$G$199, SMALL(IF(Subtotals!$C$50=Subtotals!$E$53:$E$199, ROW(Subtotals!$E$53:$E$199)-MIN(ROW(Subtotals!$E$53:$E$199))+1, \"\"), ROW(A40))),\"\")","v":"C089"},{"$f":"IFERROR(INDEX(Subtotals!$J$53:$J$199, SMALL(IF(Subtotals!$C$50=Subtotals!$E$53:$E$199, ROW(Subtotals!$E$53:$E$199)-MIN(ROW(Subtotals!$E$53:$E$199))+1, \"\"), ROW(A40))),\"\")","v":"Calculated total of Non-LEP in Category Set D (T52+T53+T54+T55+T56+T57+T58+T59+T60)  ≠ Subtotal 5 (G31)"},null,{"$f":"IFERROR(INDEX(Subtotals!$C$53:$C$199, SMALL(IF(Subtotals!$C$50=Subtotals!$E$53:$E$199, ROW(Subtotals!$E$53:$E$199)-MIN(ROW(Subtotals!$E$53:$E$199))+1, \"\"), ROW(A40))),\"\")","v":"MC"},{"$f":"IFERROR(INDEX(Subtotals!$H$53:$H$199, SMALL(IF(Subtotals!$C$50=Subtotals!$E$53:$E$199, ROW(Subtotals!$E$53:$E$199)-MIN(ROW(Subtotals!$E$53:$E$199))+1, \"\"), ROW(A40))),\"\")","v":"V12"},{"$f":"IFERROR(INDEX(Subtotals!$I$53:$I$199, SMALL(IF(Subtotals!$C$50=Subtotals!$E$53:$E$199, ROW(Subtotals!$E$53:$E$199)-MIN(ROW(Subtotals!$E$53:$E$199))+1, \"\"), ROW(A40))),\"\")","v":"C089"}]
["B/4","Calculated total of Two or more races in Category Set B (H48+P48+X48+AF48+AN48+AV48+BD48+BL48+BT48) ≠ Subtotal 4 (K21)",null,null,null,null,null,null,null,null,null,null,"V12",0,"V12","MC",null,null,{"$f":"IFERROR(INDEX(Subtotals!$A$53:$A$199, SMALL(IF(Subtotals!$C$50=Subtotals!$E$53:$E$199, ROW(Subtotals!$E$53:$E$199)-MIN(ROW(Subtotals!$E$53:$E$199))+1, \"\"), ROW(A41))),\"\")","v":"A/6"},{"$f":"IFERROR(INDEX(Subtotals!$B$53:$B$199, SMALL(IF(Subtotals!$C$50=Subtotals!$E$53:$E$199, ROW(Subtotals!$E$53:$E$199)-MIN(ROW(Subtotals!$E$53:$E$199))+1, \"\"), ROW(A41))),\"\")","v":0},{"$f":"IFERROR(INDEX(Subtotals!$F$53:$F$199, SMALL(IF(Subtotals!$C$50=Subtotals!$E$53:$E$199, ROW(Subtotals!$E$53:$E$199)-MIN(ROW(Subtotals!$E$53:$E$199))+1, \"\"), ROW(A41))),\"\")","v":"V12"},{"$f":"IFERROR(INDEX(Subtotals!$G$53:$G$199, SMALL(IF(Subtotals!$C$50=Subtotals!$E$53:$E$199, ROW(Subtotals!$E$53:$E$199)-MIN(ROW(Subtotals!$E$53:$E$199))+1, \"\"), ROW(A41))),\"\")","v":"C089"},{"$f":"IFERROR(INDEX(Subtotals!$J$53:$J$199, SMALL(IF(Subtotals!$C$50=Subtotals!$E$53:$E$199, ROW(Subtotals!$E$53:$E$199)-MIN(ROW(Subtotals!$E$53:$E$199))+1, \"\"), ROW(A41))),\"\")","v":"Calculated total of Educational Environment A1 in Category Set A (E29)  ≠  Subtotal 6 (G36)"},null,{"$f":"IFERROR(INDEX(Subtotals!$C$53:$C$199, SMALL(IF(Subtotals!$C$50=Subtotals!$E$53:$E$199, ROW(Subtotals!$E$53:$E$199)-MIN(ROW(Subtotals!$E$53:$E$199))+1, \"\"), ROW(A41))),\"\")","v":"MC"},{"$f":"IFERROR(INDEX(Subtotals!$H$53:$H$199, SMALL(IF(Subtotals!$C$50=Subtotals!$E$53:$E$199, ROW(Subtotals!$E$53:$E$199)-MIN(ROW(Subtotals!$E$53:$E$199))+1, \"\"), ROW(A41))),\"\")","v":"V12"},{"$f":"IFERROR(INDEX(Subtotals!$I$53:$I$199, SMALL(IF(Subtotals!$C$50=Subtotals!$E$53:$E$199, ROW(Subtotals!$E$53:$E$199)-MIN(ROW(Subtotals!$E$53:$E$199))+1, \"\"), ROW(A41))),\"\")","v":"C089"}]
["D/5","Calculated total of LEP in Category Set D (S52+S53+S54+S55+S56+S57+S58+S59+S60)  ≠ Subtotal 5 (G30)",null,null,null,null,null,null,null,null,null,null,"V12",0,"V12","MC",null,null,{"$f":"IFERROR(INDEX(Subtotals!$A$53:$A$199, SMALL(IF(Subtotals!$C$50=Subtotals!$E$53:$E$199, ROW(Subtotals!$E$53:$E$199)-MIN(ROW(Subtotals!$E$53:$E$199))+1, \"\"), ROW(A42))),\"\")","v":"A/6"},{"$f":"IFERROR(INDEX(Subtotals!$B$53:$B$199, SMALL(IF(Subtotals!$C$50=Subtotals!$E$53:$E$199, ROW(Subtotals!$E$53:$E$199)-MIN(ROW(Subtotals!$E$53:$E$199))+1, \"\"), ROW(A42))),\"\")","v":0},{"$f":"IFERROR(INDEX(Subtotals!$F$53:$F$199, SMALL(IF(Subtotals!$C$50=Subtotals!$E$53:$E$199, ROW(Subtotals!$E$53:$E$199)-MIN(ROW(Subtotals!$E$53:$E$199))+1, \"\"), ROW(A42))),\"\")","v":"V12"},{"$f":"IFERROR(INDEX(Subtotals!$G$53:$G$199, SMALL(IF(Subtotals!$C$50=Subtotals!$E$53:$E$199, ROW(Subtotals!$E$53:$E$199)-MIN(ROW(Subtotals!$E$53:$E$199))+1, \"\"), ROW(A42))),\"\")","v":"C089"},{"$f":"IFERROR(INDEX(Subtotals!$J$53:$J$199, SMALL(IF(Subtotals!$C$50=Subtotals!$E$53:$E$199, ROW(Subtotals!$E$53:$E$199)-MIN(ROW(Subtotals!$E$53:$E$199))+1, \"\"), ROW(A42))),\"\")","v":"Calculated total of Educational Environment A2 in Category Set A (I29)  ≠  Subtotal 6 (G37)"},null,{"$f":"IFERROR(INDEX(Subtotals!$C$53:$C$199, SMALL(IF(Subtotals!$C$50=Subtotals!$E$53:$E$199, ROW(Subtotals!$E$53:$E$199)-MIN(ROW(Subtotals!$E$53:$E$199))+1, \"\"), ROW(A42))),\"\")","v":"MC"},{"$f":"IFERROR(INDEX(Subtotals!$H$53:$H$199, SMALL(IF(Subtotals!$C$50=Subtotals!$E$53:$E$199, ROW(Subtotals!$E$53:$E$199)-MIN(ROW(Subtotals!$E$53:$E$199))+1, \"\"), ROW(A42))),\"\")","v":"V12"},{"$f":"IFERROR(INDEX(Subtotals!$I$53:$I$199, SMALL(IF(Subtotals!$C$50=Subtotals!$E$53:$E$199, ROW(Subtotals!$E$53:$E$199)-MIN(ROW(Subtotals!$E$53:$E$199))+1, \"\"), ROW(A42))),\"\")","v":"C089"}]
["D/5","Calculated total of Non-LEP in Category Set D (T52+T53+T54+T55+T56+T57+T58+T59+T60)  ≠ Subtotal 5 (G31)",null,null,null,null,null,null,null,null,null,null,"V12",0,"V12","MC",null,null,{"$f":"IFERROR(INDEX(Subtotals!$A$53:$A$199, SMALL(IF(Subtotals!$C$50=Subtotals!$E$53:$E$199, ROW(Subtotals!$E$53:$E$199)-MIN(ROW(Subtotals!$E$53:$E$199))+1, \"\"), ROW(A43))),\"\")","v":"A/6"},{"$f":"IFERROR(INDEX(Subtotals!$B$53:$B$199, SMALL(IF(Subtotals!$C$50=Subtotals!$E$53:$E$199, ROW(Subtotals!$E$53:$E$199)-MIN(ROW(Subtotals!$E$53:$E$199))+1, \"\"), ROW(A43))),\"\")","v":0},{"$f":"IFERROR(INDEX(Subtotals!$F$53:$F$199, SMALL(IF(Subtotals!$C$50=Subtotals!$E$53:$E$199, ROW(Subtotals!$E$53:$E$199)-MIN(ROW(Subtotals!$E$53:$E$199))+1, \"\"), ROW(A43))),\"\")","v":"V12"},{"$f":"IFERROR(INDEX(Subtotals!$G$53:$G$199, SMALL(IF(Subtotals!$C$50=Subtotals!$E$53:$E$199, ROW(Subtotals!$E$53:$E$199)-MIN(ROW(Subtotals!$E$53:$E$199))+1, \"\"), ROW(A43))),\"\")","v":"C089"},{"$f":"IFERROR(INDEX(Subtotals!$J$53:$J$199, SMALL(IF(Subtotals!$C$50=Subtotals!$E$53:$E$199, ROW(Subtotals!$E$53:$E$199)-MIN(ROW(Subtotals!$E$53:$E$199))+1, \"\"), ROW(A43))),\"\")","v":"Calculated total of Educational Environment B1 in Category Set A (M29)  ≠  Subtotal 6 (G38)"},null,{"$f":"IFERROR(INDEX(Subtotals!$C$53:$C$199, SMALL(IF(Subtotals!$C$50=Subtotals!$E$53:$E$199, ROW(Subtotals!$E$53:$E$199)-MIN(ROW(Subtotals!$E$53:$E$199))+1, \"\"), ROW(A43))),\"\")","v":"MC"},{"$f":"IFERROR(INDEX(Subtotals!$H$53:$H$199, SMALL(IF(Subtotals!$C$50=Subtotals!$E$53:$E$199, ROW(Subtotals!$E$53:$E$199)-MIN(ROW(Subtotals!$E$53:$E$199))+1, \"\"), ROW(A43))),\"\")","v":"V12"},{"$f":"IFERROR(INDEX(Subtotals!$I$53:$I$199, SMALL(IF(Subtotals!$C$50=Subtotals!$E$53:$E$199, ROW(Subtotals!$E$53:$E$199)-MIN(ROW(Subtotals!$E$53:$E$199))+1, \"\"), ROW(A43))),\"\")","v":"C089"}]
["A/6","Calculated total of Educational Environment A1 in Category Set A (E29)  ≠  Subtotal 6 (G36)",null,null,null,null,null,null,null,null,null,null,"V12",0,"V12","MC",null,null,{"$f":"IFERROR(INDEX(Subtotals!$A$53:$A$199, SMALL(IF(Subtotals!$C$50=Subtotals!$E$53:$E$199, ROW(Subtotals!$E$53:$E$199)-MIN(ROW(Subtotals!$E$53:$E$199))+1, \"\"), ROW(A44))),\"\")","v":"A/6"},{"$f":"IFERROR(INDEX(Subtotals!$B$53:$B$199, SMALL(IF(Subtotals!$C$50=Subtotals!$E$53:$E$199, ROW(Subtotals!$E$53:$E$199)-MIN(ROW(Subtotals!$E$53:$E$199))+1, \"\"), ROW(A44))),\"\")","v":0},{"$f":"IFERROR(INDEX(Subtotals!$F$53:$F$199, SMALL(IF(Subtotals!$C$50=Subtotals!$E$53:$E$199, ROW(Subtotals!$E$53:$E$199)-MIN(ROW(Subtotals!$E$53:$E$199))+1, \"\"), ROW(A44))),\"\")","v":"V12"},{"$f":"IFERROR(INDEX(Subtotals!$G$53:$G$199, SMALL(IF(Subtotals!$C$50=Subtotals!$E$53:$E$199, ROW(Subtotals!$E$53:$E$199)-MIN(ROW(Subtotals!$E$53:$E$199))+1, \"\"), ROW(A44))),\"\")","v":"C089"},{"$f":"IFERROR(INDEX(Subtotals!$J$53:$J$199, SMALL(IF(Subtotals!$C$50=Subtotals!$E$53:$E$199, ROW(Subtotals!$E$53:$E$199)-MIN(ROW(Subtotals!$E$53:$E$199))+1, \"\"), ROW(A44))),\"\")","v":"Calculated total of Educational Environment B2 in Category Set A (Q29)  ≠  Subtotal 6 (G39)"},null,{"$f":"IFERROR(INDEX(Subtotals!$C$53:$C$199, SMALL(IF(Subtotals!$C$50=Subtotals!$E$53:$E$199, ROW(Subtotals!$E$53:$E$199)-MIN(ROW(Subtotals!$E$53:$E$199))+1, \"\"), ROW(A44))),\"\")","v":"MC"},{"$f":"IFERROR(INDEX(Subtotals!$H$53:$H$199, SMALL(IF(Subtotals!$C$50=Subtotals!$E$53:$E$199, ROW(Subtotals!$E$53:$E$199)-MIN(ROW(Subtotals!$E$53:$E$199))+1, \"\"), ROW(A44))),\"\")","v":"V12"},{"$f":"IFERROR(INDEX(Subtotals!$I$53:$I$199, SMALL(IF(Subtotals!$C$50=Subtotals!$E$53:$E$199, ROW(Subtotals!$E$53:$E$199)-MIN(ROW(Subtotals!$E$53:$E$199))+1, \"\"), ROW(A44))),\"\")","v":"C089"}]
["A/6","Calculated total of Educational Environment A2 in Category Set A (I29)  ≠  Subtotal 6 (G37)",null,null,null,null,null,null,null,null,null,null,"V12",0,"V12","MC",null,null,{"$f":"IFERROR(INDEX(Subtotals!$A$53:$A$199, SMALL(IF(Subtotals!$C$50=Subtotals!$E$53:$E$199, ROW(Subtotals!$E$53:$E$199)-MIN(ROW(Subtotals!$E$53:$E$199))+1, \"\"), ROW(A45))),\"\")","v":"A/6"},{"$f":"IFERROR(INDEX(Subtotals!$B$53:$B$199, SMALL(IF(Subtotals!$C$50=Subtotals!$E$53:$E$199, ROW(Subtotals!$E$53:$E$199)-MIN(ROW(Subtotals!$E$53:$E$199))+1, \"\"), ROW(A45))),\"\")","v":0},{"$f":"IFERROR(INDEX(Subtotals!$F$53:$F$199, SMALL(IF(Subtotals!$C$50=Subtotals!$E$53:$E$199, ROW(Subtotals!$E$53:$E$199)-MIN(ROW(Subtotals!$E$53:$E$199))+1, \"\"), ROW(A45))),\"\")","v":"V12"},{"$f":"IFERROR(INDEX(Subtotals!$G$53:$G$199, SMALL(IF(Subtotals!$C$50=Subtotals!$E$53:$E$199, ROW(Subtotals!$E$53:$E$199)-MIN(ROW(Subtotals!$E$53:$E$199))+1, \"\"), ROW(A45))),\"\")","v":"C089"},{"$f":"IFERROR(INDEX(Subtotals!$J$53:$J$199, SMALL(IF(Subtotals!$C$50=Subtotals!$E$53:$E$199, ROW(Subtotals!$E$53:$E$199)-MIN(ROW(Subtotals!$E$53:$E$199))+1, \"\"), ROW(A45))),\"\")","v":"Calculated total of Educational Environment C1 in Category Set A (U29)  ≠  Subtotal 6 (G40)"},null,{"$f":"IFERROR(INDEX(Subtotals!$C$53:$C$199, SMALL(IF(Subtotals!$C$50=Subtotals!$E$53:$E$199, ROW(Subtotals!$E$53:$E$199)-MIN(ROW(Subtotals!$E$53:$E$199))+1, \"\"), ROW(A45))),\"\")","v":"MC"},{"$f":"IFERROR(INDEX(Subtotals!$H$53:$H$199, SMALL(IF(Subtotals!$C$50=Subtotals!$E$53:$E$199, ROW(Subtotals!$E$53:$E$199)-MIN(ROW(Subtotals!$E$53:$E$199))+1, \"\"), ROW(A45))),\"\")","v":"V12"},{"$f":"IFERROR(INDEX(Subtotals!$I$53:$I$199, SMALL(IF(Subtotals!$C$50=Subtotals!$E$53:$E$199, ROW(Subtotals!$E$53:$E$199)-MIN(ROW(Subtotals!$E$53:$E$199))+1, \"\"), ROW(A45))),\"\")","v":"C089"}]
["A/6","Calculated total of Educational Environment B1 in Category Set A (M29)  ≠  Subtotal 6 (G38)",null,null,null,null,null,null,null,null,null,null,"V12",0,"V12","MC",null,null,{"$f":"IFERROR(INDEX(Subtotals!$A$53:$A$199, SMALL(IF(Subtotals!$C$50=Subtotals!$E$53:$E$199, ROW(Subtotals!$E$53:$E$199)-MIN(ROW(Subtotals!$E$53:$E$199))+1, \"\"), ROW(A46))),\"\")","v":"A/6"},{"$f":"IFERROR(INDEX(Subtotals!$B$53:$B$199, SMALL(IF(Subtotals!$C$50=Subtotals!$E$53:$E$199, ROW(Subtotals!$E$53:$E$199)-MIN(ROW(Subtotals!$E$53:$E$199))+1, \"\"), ROW(A46))),\"\")","v":0},{"$f":"IFERROR(INDEX(Subtotals!$F$53:$F$199, SMALL(IF(Subtotals!$C$50=Subtotals!$E$53:$E$199, ROW(Subtotals!$E$53:$E$199)-MIN(ROW(Subtotals!$E$53:$E$199))+1, \"\"), ROW(A46))),\"\")","v":"V12"},{"$f":"IFERROR(INDEX(Subtotals!$G$53:$G$199, SMALL(IF(Subtotals!$C$50=Subtotals!$E$53:$E$199, ROW(Subtotals!$E$53:$E$199)-MIN(ROW(Subtotals!$E$53:$E$199))+1, \"\"), ROW(A46))),\"\")","v":"C089"},{"$f":"IFERROR(INDEX(Subtotals!$J$53:$J$199, SMALL(IF(Subtotals!$C$50=Subtotals!$E$53:$E$199, ROW(Subtotals!$E$53:$E$199)-MIN(ROW(Subtotals!$E$53:$E$199))+1, \"\"), ROW(A46))),\"\")","v":"Calculated total of Educational Environment C2 in Category Set A (Y29)  ≠  Subtotal 6 (G41)"},null,{"$f":"IFERROR(INDEX(Subtotals!$C$53:$C$199, SMALL(IF(Subtotals!$C$50=Subtotals!$E$53:$E$199, ROW(Subtotals!$E$53:$E$199)-MIN(ROW(Subtotals!$E$53:$E$199))+1, \"\"), ROW(A46))),\"\")","v":"MC"},{"$f":"IFERROR(INDEX(Subtotals!$H$53:$H$199, SMALL(IF(Subtotals!$C$50=Subtotals!$E$53:$E$199, ROW(Subtotals!$E$53:$E$199)-MIN(ROW(Subtotals!$E$53:$E$199))+1, \"\"), ROW(A46))),\"\")","v":"V12"},{"$f":"IFERROR(INDEX(Subtotals!$I$53:$I$199, SMALL(IF(Subtotals!$C$50=Subtotals!$E$53:$E$199, ROW(Subtotals!$E$53:$E$199)-MIN(ROW(Subtotals!$E$53:$E$199))+1, \"\"), ROW(A46))),\"\")","v":"C089"}]
["A/6","Calculated total of Educational Environment B2 in Category Set A (Q29)  ≠  Subtotal 6 (G39)",null,null,null,null,null,null,null,null,null,null,"V12",0,"V12","MC",null,null,{"$f":"IFERROR(INDEX(Subtotals!$A$53:$A$199, SMALL(IF(Subtotals!$C$50=Subtotals!$E$53:$E$199, ROW(Subtotals!$E$53:$E$199)-MIN(ROW(Subtotals!$E$53:$E$199))+1, \"\"), ROW(A47))),\"\")","v":"A/6"},{"$f":"IFERROR(INDEX(Subtotals!$B$53:$B$199, SMALL(IF(Subtotals!$C$50=Subtotals!$E$53:$E$199, ROW(Subtotals!$E$53:$E$199)-MIN(ROW(Subtotals!$E$53:$E$199))+1, \"\"), ROW(A47))),\"\")","v":0},{"$f":"IFERROR(INDEX(Subtotals!$F$53:$F$199, SMALL(IF(Subtotals!$C$50=Subtotals!$E$53:$E$199, ROW(Subtotals!$E$53:$E$199)-MIN(ROW(Subtotals!$E$53:$E$199))+1, \"\"), ROW(A47))),\"\")","v":"V12"},{"$f":"IFERROR(INDEX(Subtotals!$G$53:$G$199, SMALL(IF(Subtotals!$C$50=Subtotals!$E$53:$E$199, ROW(Subtotals!$E$53:$E$199)-MIN(ROW(Subtotals!$E$53:$E$199))+1, \"\"), ROW(A47))),\"\")","v":"C089"},{"$f":"IFERROR(INDEX(Subtotals!$J$53:$J$199, SMALL(IF(Subtotals!$C$50=Subtotals!$E$53:$E$199, ROW(Subtotals!$E$53:$E$199)-MIN(ROW(Subtotals!$E$53:$E$199))+1, \"\"), ROW(A47))),\"\")","v":"Calculated total of Educational Environment C3 in Category Set A (AC29)  ≠  Subtotal 6 (G42)"},null,{"$f":"IFERROR(INDEX(Subtotals!$C$53:$C$199, SMALL(IF(Subtotals!$C$50=Subtotals!$E$53:$E$199, ROW(Subtotals!$E$53:$E$199)-MIN(ROW(Subtotals!$E$53:$E$199))+1, \"\"), ROW(A47))),\"\")","v":"MC"},{"$f":"IFERROR(INDEX(Subtotals!$H$53:$H$199, SMALL(IF(Subtotals!$C$50=Subtotals!$E$53:$E$199, ROW(Subtotals!$E$53:$E$199)-MIN(ROW(Subtotals!$E$53:$E$199))+1, \"\"), ROW(A47))),\"\")","v":"V12"},{"$f":"IFERROR(INDEX(Subtotals!$I$53:$I$199, SMALL(IF(Subtotals!$C$50=Subtotals!$E$53:$E$199, ROW(Subtotals!$E$53:$E$199)-MIN(ROW(Subtotals!$E$53:$E$199))+1, \"\"), ROW(A47))),\"\")","v":"C089"}]
["A/6","Calculated total of Educational Environment C1 in Category Set A (U29)  ≠  Subtotal 6 (G40)",null,null,null,null,null,null,null,null,null,null,"V12",0,"V12","MC",null,null,{"$f":"IFERROR(INDEX(Subtotals!$A$53:$A$199, SMALL(IF(Subtotals!$C$50=Subtotals!$E$53:$E$199, ROW(Subtotals!$E$53:$E$199)-MIN(ROW(Subtotals!$E$53:$E$199))+1, \"\"), ROW(A48))),\"\")","v":"A/6"},{"$f":"IFERROR(INDEX(Subtotals!$B$53:$B$199, SMALL(IF(Subtotals!$C$50=Subtotals!$E$53:$E$199, ROW(Subtotals!$E$53:$E$199)-MIN(ROW(Subtotals!$E$53:$E$199))+1, \"\"), ROW(A48))),\"\")","v":0},{"$f":"IFERROR(INDEX(Subtotals!$F$53:$F$199, SMALL(IF(Subtotals!$C$50=Subtotals!$E$53:$E$199, ROW(Subtotals!$E$53:$E$199)-MIN(ROW(Subtotals!$E$53:$E$199))+1, \"\"), ROW(A48))),\"\")","v":"V12"},{"$f":"IFERROR(INDEX(Subtotals!$G$53:$G$199, SMALL(IF(Subtotals!$C$50=Subtotals!$E$53:$E$199, ROW(Subtotals!$E$53:$E$199)-MIN(ROW(Subtotals!$E$53:$E$199))+1, \"\"), ROW(A48))),\"\")","v":"C089"},{"$f":"IFERROR(INDEX(Subtotals!$J$53:$J$199, SMALL(IF(Subtotals!$C$50=Subtotals!$E$53:$E$199, ROW(Subtotals!$E$53:$E$199)-MIN(ROW(Subtotals!$E$53:$E$199))+1, \"\"), ROW(A48))),\"\")","v":"Calculated total of Educational Environment D1 in Category Set A (AG29)  ≠  Subtotal 6 (G43)"},null,{"$f":"IFERROR(INDEX(Subtotals!$C$53:$C$199, SMALL(IF(Subtotals!$C$50=Subtotals!$E$53:$E$199, ROW(Subtotals!$E$53:$E$199)-MIN(ROW(Subtotals!$E$53:$E$199))+1, \"\"), ROW(A48))),\"\")","v":"MC"},{"$f":"IFERROR(INDEX(Subtotals!$H$53:$H$199, SMALL(IF(Subtotals!$C$50=Subtotals!$E$53:$E$199, ROW(Subtotals!$E$53:$E$199)-MIN(ROW(Subtotals!$E$53:$E$199))+1, \"\"), ROW(A48))),\"\")","v":"V12"},{"$f":"IFERROR(INDEX(Subtotals!$I$53:$I$199, SMALL(IF(Subtotals!$C$50=Subtotals!$E$53:$E$199, ROW(Subtotals!$E$53:$E$199)-MIN(ROW(Subtotals!$E$53:$E$199))+1, \"\"), ROW(A48))),\"\")","v":"C089"}]
["A/6","Calculated total of Educational Environment C2 in Category Set A (Y29)  ≠  Subtotal 6 (G41)",null,null,null,null,null,null,null,null,null,null,"V12",0,"V12","MC",null,null,{"$f":"IFERROR(INDEX(Subtotals!$A$53:$A$199, SMALL(IF(Subtotals!$C$50=Subtotals!$E$53:$E$199, ROW(Subtotals!$E$53:$E$199)-MIN(ROW(Subtotals!$E$53:$E$199))+1, \"\"), ROW(A49))),\"\")","v":"A/6"},{"$f":"IFERROR(INDEX(Subtotals!$B$53:$B$199, SMALL(IF(Subtotals!$C$50=Subtotals!$E$53:$E$199, ROW(Subtotals!$E$53:$E$199)-MIN(ROW(Subtotals!$E$53:$E$199))+1, \"\"), ROW(A49))),\"\")","v":0},{"$f":"IFERROR(INDEX(Subtotals!$F$53:$F$199, SMALL(IF(Subtotals!$C$50=Subtotals!$E$53:$E$199, ROW(Subtotals!$E$53:$E$199)-MIN(ROW(Subtotals!$E$53:$E$199))+1, \"\"), ROW(A49))),\"\")","v":"V12"},{"$f":"IFERROR(INDEX(Subtotals!$G$53:$G$199, SMALL(IF(Subtotals!$C$50=Subtotals!$E$53:$E$199, ROW(Subtotals!$E$53:$E$199)-MIN(ROW(Subtotals!$E$53:$E$199))+1, \"\"), ROW(A49))),\"\")","v":"C089"},{"$f":"IFERROR(INDEX(Subtotals!$J$53:$J$199, SMALL(IF(Subtotals!$C$50=Subtotals!$E$53:$E$199, ROW(Subtotals!$E$53:$E$199)-MIN(ROW(Subtotals!$E$53:$E$199))+1, \"\"), ROW(A49))),\"\")","v":"Calculated total of Educational Environment D2 in Category Set A (AK29)  ≠  Subtotal 6 (G44)"},null,{"$f":"IFERROR(INDEX(Subtotals!$C$53:$C$199, SMALL(IF(Subtotals!$C$50=Subtotals!$E$53:$E$199, ROW(Subtotals!$E$53:$E$199)-MIN(ROW(Subtotals!$E$53:$E$199))+1, \"\"), ROW(A49))),\"\")","v":"MC"},{"$f":"IFERROR(INDEX(Subtotals!$H$53:$H$199, SMALL(IF(Subtotals!$C$50=Subtotals!$E$53:$E$199, ROW(Subtotals!$E$53:$E$199)-MIN(ROW(Subtotals!$E$53:$E$199))+1, \"\"), ROW(A49))),\"\")","v":"V12"},{"$f":"IFERROR(INDEX(Subtotals!$I$53:$I$199, SMALL(IF(Subtotals!$C$50=Subtotals!$E$53:$E$199, ROW(Subtotals!$E$53:$E$199)-MIN(ROW(Subtotals!$E$53:$E$199))+1, \"\"), ROW(A49))),\"\")","v":"C089"}]
["A/6","Calculated total of Educational Environment C3 in Category Set A (AC29)  ≠  Subtotal 6 (G42)",null,null,null,null,null,null,null,null,null,null,"V12",0,"V12","MC",null,null,{"$f":"IFERROR(INDEX(Subtotals!$A$53:$A$199, SMALL(IF(Subtotals!$C$50=Subtotals!$E$53:$E$199, ROW(Subtotals!$E$53:$E$199)-MIN(ROW(Subtotals!$E$53:$E$199))+1, \"\"), ROW(A50))),\"\")","v":"B/6"},{"$f":"IFERROR(INDEX(Subtotals!$B$53:$B$199, SMALL(IF(Subtotals!$C$50=Subtotals!$E$53:$E$199, ROW(Subtotals!$E$53:$E$199)-MIN(ROW(Subtotals!$E$53:$E$199))+1, \"\"), ROW(A50))),\"\")","v":0},{"$f":"IFERROR(INDEX(Subtotals!$F$53:$F$199, SMALL(IF(Subtotals!$C$50=Subtotals!$E$53:$E$199, ROW(Subtotals!$E$53:$E$199)-MIN(ROW(Subtotals!$E$53:$E$199))+1, \"\"), ROW(A50))),\"\")","v":"V12"},{"$f":"IFERROR(INDEX(Subtotals!$G$53:$G$199, SMALL(IF(Subtotals!$C$50=Subtotals!$E$53:$E$199, ROW(Subtotals!$E$53:$E$199)-MIN(ROW(Subtotals!$E$53:$E$199))+1, \"\"), ROW(A50))),\"\")","v":"C089"},{"$f":"IFERROR(INDEX(Subtotals!$J$53:$J$199, SMALL(IF(Subtotals!$C$50=Subtotals!$E$53:$E$199, ROW(Subtotals!$E$53:$E$199)-MIN(ROW(Subtotals!$E$53:$E$199))+1, \"\"), ROW(A50))),\"\")","v":"Calculated total of Educational Environment A1 in Category Set B (I48)  ≠  Subtotal 6 (G36)"},null,{"$f":"IFERROR(INDEX(Subtotals!$C$53:$C$199, SMALL(IF(Subtotals!$C$50=Subtotals!$E$53:$E$199, ROW(Subtotals!$E$53:$E$199)-MIN(ROW(Subtotals!$E$53:$E$199))+1, \"\"), ROW(A50))),\"\")","v":"MC"},{"$f":"IFERROR(INDEX(Subtotals!$H$53:$H$199, SMALL(IF(Subtotals!$C$50=Subtotals!$E$53:$E$199, ROW(Subtotals!$E$53:$E$199)-MIN(ROW(Subtotals!$E$53:$E$199))+1, \"\"), ROW(A50))),\"\")","v":"V12"},{"$f":"IFERROR(INDEX(Subtotals!$I$53:$I$199, SMALL(IF(Subtotals!$C$50=Subtotals!$E$53:$E$199, ROW(Subtotals!$E$53:$E$199)-MIN(ROW(Subtotals!$E$53:$E$199))+1, \"\"), ROW(A50))),\"\")","v":"C089"}]
["A/6","Calculated total of Educational Environment D1 in Category Set A (AG29)  ≠  Subtotal 6 (G43)",null,null,null,null,null,null,null,null,null,null,"V12",0,"V12","MC",null,null,{"$f":"IFERROR(INDEX(Subtotals!$A$53:$A$199, SMALL(IF(Subtotals!$C$50=Subtotals!$E$53:$E$199, ROW(Subtotals!$E$53:$E$199)-MIN(ROW(Subtotals!$E$53:$E$199))+1, \"\"), ROW(A51))),\"\")","v":"B/6"},{"$f":"IFERROR(INDEX(Subtotals!$B$53:$B$199, SMALL(IF(Subtotals!$C$50=Subtotals!$E$53:$E$199, ROW(Subtotals!$E$53:$E$199)-MIN(ROW(Subtotals!$E$53:$E$199))+1, \"\"), ROW(A51))),\"\")","v":0},{"$f":"IFERROR(INDEX(Subtotals!$F$53:$F$199, SMALL(IF(Subtotals!$C$50=Subtotals!$E$53:$E$199, ROW(Subtotals!$E$53:$E$199)-MIN(ROW(Subtotals!$E$53:$E$199))+1, \"\"), ROW(A51))),\"\")","v":"V12"},{"$f":"IFERROR(INDEX(Subtotals!$G$53:$G$199, SMALL(IF(Subtotals!$C$50=Subtotals!$E$53:$E$199, ROW(Subtotals!$E$53:$E$199)-MIN(ROW(Subtotals!$E$53:$E$199))+1, \"\"), ROW(A51))),\"\")","v":"C089"},{"$f":"IFERROR(INDEX(Subtotals!$J$53:$J$199, SMALL(IF(Subtotals!$C$50=Subtotals!$E$53:$E$199, ROW(Subtotals!$E$53:$E$199)-MIN(ROW(Subtotals!$E$53:$E$199))+1, \"\"), ROW(A51))),\"\")","v":"Calculated total of Educational Environment A2 in Category Set B (Q48)  ≠  Subtotal 6 (G37)"},null,{"$f":"IFERROR(INDEX(Subtotals!$C$53:$C$199, SMALL(IF(Subtotals!$C$50=Subtotals!$E$53:$E$199, ROW(Subtotals!$E$53:$E$199)-MIN(ROW(Subtotals!$E$53:$E$199))+1, \"\"), ROW(A51))),\"\")","v":"MC"},{"$f":"IFERROR(INDEX(Subtotals!$H$53:$H$199, SMALL(IF(Subtotals!$C$50=Subtotals!$E$53:$E$199, ROW(Subtotals!$E$53:$E$199)-MIN(ROW(Subtotals!$E$53:$E$199))+1, \"\"), ROW(A51))),\"\")","v":"V12"},{"$f":"IFERROR(INDEX(Subtotals!$I$53:$I$199, SMALL(IF(Subtotals!$C$50=Subtotals!$E$53:$E$199, ROW(Subtotals!$E$53:$E$199)-MIN(ROW(Subtotals!$E$53:$E$199))+1, \"\"), ROW(A51))),\"\")","v":"C089"}]
["A/6","Calculated total of Educational Environment D2 in Category Set A (AK29)  ≠  Subtotal 6 (G44)",null,null,null,null,null,null,null,null,null,null,"V12",0,"V12","MC",null,null,{"$f":"IFERROR(INDEX(Subtotals!$A$53:$A$199, SMALL(IF(Subtotals!$C$50=Subtotals!$E$53:$E$199, ROW(Subtotals!$E$53:$E$199)-MIN(ROW(Subtotals!$E$53:$E$199))+1, \"\"), ROW(A52))),\"\")","v":"B/6"},{"$f":"IFERROR(INDEX(Subtotals!$B$53:$B$199, SMALL(IF(Subtotals!$C$50=Subtotals!$E$53:$E$199, ROW(Subtotals!$E$53:$E$199)-MIN(ROW(Subtotals!$E$53:$E$199))+1, \"\"), ROW(A52))),\"\")","v":0},{"$f":"IFERROR(INDEX(Subtotals!$F$53:$F$199, SMALL(IF(Subtotals!$C$50=Subtotals!$E$53:$E$199, ROW(Subtotals!$E$53:$E$199)-MIN(ROW(Subtotals!$E$53:$E$199))+1, \"\"), ROW(A52))),\"\")","v":"V12"},{"$f":"IFERROR(INDEX(Subtotals!$G$53:$G$199, SMALL(IF(Subtotals!$C$50=Subtotals!$E$53:$E$199, ROW(Subtotals!$E$53:$E$199)-MIN(ROW(Subtotals!$E$53:$E$199))+1, \"\"), ROW(A52))),\"\")","v":"C089"},{"$f":"IFERROR(INDEX(Subtotals!$J$53:$J$199, SMALL(IF(Subtotals!$C$50=Subtotals!$E$53:$E$199, ROW(Subtotals!$E$53:$E$199)-MIN(ROW(Subtotals!$E$53:$E$199))+1, \"\"), ROW(A52))),\"\")","v":"Calculated total of Educational Environment B1 in Category Set B (Y48)  ≠  Subtotal 6 (G38)"},null,{"$f":"IFERROR(INDEX(Subtotals!$C$53:$C$199, SMALL(IF(Subtotals!$C$50=Subtotals!$E$53:$E$199, ROW(Subtotals!$E$53:$E$199)-MIN(ROW(Subtotals!$E$53:$E$199))+1, \"\"), ROW(A52))),\"\")","v":"MC"},{"$f":"IFERROR(INDEX(Subtotals!$H$53:$H$199, SMALL(IF(Subtotals!$C$50=Subtotals!$E$53:$E$199, ROW(Subtotals!$E$53:$E$199)-MIN(ROW(Subtotals!$E$53:$E$199))+1, \"\"), ROW(A52))),\"\")","v":"V12"},{"$f":"IFERROR(INDEX(Subtotals!$I$53:$I$199, SMALL(IF(Subtotals!$C$50=Subtotals!$E$53:$E$199, ROW(Subtotals!$E$53:$E$199)-MIN(ROW(Subtotals!$E$53:$E$199))+1, \"\"), ROW(A52))),\"\")","v":"C089"}]
["B/6","Calculated total of Educational Environment A1 in Category Set B (I48)  ≠  Subtotal 6 (G36)",null,null,null,null,null,null,null,null,null,null,"V12",0,"V12","MC",null,null,{"$f":"IFERROR(INDEX(Subtotals!$A$53:$A$199, SMALL(IF(Subtotals!$C$50=Subtotals!$E$53:$E$199, ROW(Subtotals!$E$53:$E$199)-MIN(ROW(Subtotals!$E$53:$E$199))+1, \"\"), ROW(A53))),\"\")","v":"B/6"},{"$f":"IFERROR(INDEX(Subtotals!$B$53:$B$199, SMALL(IF(Subtotals!$C$50=Subtotals!$E$53:$E$199, ROW(Subtotals!$E$53:$E$199)-MIN(ROW(Subtotals!$E$53:$E$199))+1, \"\"), ROW(A53))),\"\")","v":0},{"$f":"IFERROR(INDEX(Subtotals!$F$53:$F$199, SMALL(IF(Subtotals!$C$50=Subtotals!$E$53:$E$199, ROW(Subtotals!$E$53:$E$199)-MIN(ROW(Subtotals!$E$53:$E$199))+1, \"\"), ROW(A53))),\"\")","v":"V12"},{"$f":"IFERROR(INDEX(Subtotals!$G$53:$G$199, SMALL(IF(Subtotals!$C$50=Subtotals!$E$53:$E$199, ROW(Subtotals!$E$53:$E$199)-MIN(ROW(Subtotals!$E$53:$E$199))+1, \"\"), ROW(A53))),\"\")","v":"C089"},{"$f":"IFERROR(INDEX(Subtotals!$J$53:$J$199, SMALL(IF(Subtotals!$C$50=Subtotals!$E$53:$E$199, ROW(Subtotals!$E$53:$E$199)-MIN(ROW(Subtotals!$E$53:$E$199))+1, \"\"), ROW(A53))),\"\")","v":"Calculated total of Educational Environment B2 in Category Set B (AG48)  ≠  Subtotal 6 (G39)"},null,{"$f":"IFERROR(INDEX(Subtotals!$C$53:$C$199, SMALL(IF(Subtotals!$C$50=Subtotals!$E$53:$E$199, ROW(Subtotals!$E$53:$E$199)-MIN(ROW(Subtotals!$E$53:$E$199))+1, \"\"), ROW(A53))),\"\")","v":"MC"},{"$f":"IFERROR(INDEX(Subtotals!$H$53:$H$199, SMALL(IF(Subtotals!$C$50=Subtotals!$E$53:$E$199, ROW(Subtotals!$E$53:$E$199)-MIN(ROW(Subtotals!$E$53:$E$199))+1, \"\"), ROW(A53))),\"\")","v":"V12"},{"$f":"IFERROR(INDEX(Subtotals!$I$53:$I$199, SMALL(IF(Subtotals!$C$50=Subtotals!$E$53:$E$199, ROW(Subtotals!$E$53:$E$199)-MIN(ROW(Subtotals!$E$53:$E$199))+1, \"\"), ROW(A53))),\"\")","v":"C089"}]
["B/6","Calculated total of Educational Environment A2 in Category Set B (Q48)  ≠  Subtotal 6 (G37)",null,null,null,null,null,null,null,null,null,null,"V12",0,"V12","MC",null,null,{"$f":"IFERROR(INDEX(Subtotals!$A$53:$A$199, SMALL(IF(Subtotals!$C$50=Subtotals!$E$53:$E$199, ROW(Subtotals!$E$53:$E$199)-MIN(ROW(Subtotals!$E$53:$E$199))+1, \"\"), ROW(A54))),\"\")","v":"B/6"},{"$f":"IFERROR(INDEX(Subtotals!$B$53:$B$199, SMALL(IF(Subtotals!$C$50=Subtotals!$E$53:$E$199, ROW(Subtotals!$E$53:$E$199)-MIN(ROW(Subtotals!$E$53:$E$199))+1, \"\"), ROW(A54))),\"\")","v":0},{"$f":"IFERROR(INDEX(Subtotals!$F$53:$F$199, SMALL(IF(Subtotals!$C$50=Subtotals!$E$53:$E$199, ROW(Subtotals!$E$53:$E$199)-MIN(ROW(Subtotals!$E$53:$E$199))+1, \"\"), ROW(A54))),\"\")","v":"V12"},{"$f":"IFERROR(INDEX(Subtotals!$G$53:$G$199, SMALL(IF(Subtotals!$C$50=Subtotals!$E$53:$E$199, ROW(Subtotals!$E$53:$E$199)-MIN(ROW(Subtotals!$E$53:$E$199))+1, \"\"), ROW(A54))),\"\")","v":"C089"},{"$f":"IFERROR(INDEX(Subtotals!$J$53:$J$199, SMALL(IF(Subtotals!$C$50=Subtotals!$E$53:$E$199, ROW(Subtotals!$E$53:$E$199)-MIN(ROW(Subtotals!$E$53:$E$199))+1, \"\"), ROW(A54))),\"\")","v":"Calculated total of Educational Environment C1 in Category Set B (AO48)  ≠  Subtotal 6 (G40)"},null,{"$f":"IFERROR(INDEX(Subtotals!$C$53:$C$199, SMALL(IF(Subtotals!$C$50=Subtotals!$E$53:$E$199, ROW(Subtotals!$E$53:$E$199)-MIN(ROW(Subtotals!$E$53:$E$199))+1, \"\"), ROW(A54))),\"\")","v":"MC"},{"$f":"IFERROR(INDEX(Subtotals!$H$53:$H$199, SMALL(IF(Subtotals!$C$50=Subtotals!$E$53:$E$199, ROW(Subtotals!$E$53:$E$199)-MIN(ROW(Subtotals!$E$53:$E$199))+1, \"\"), ROW(A54))),\"\")","v":"V12"},{"$f":"IFERROR(INDEX(Subtotals!$I$53:$I$199, SMALL(IF(Subtotals!$C$50=Subtotals!$E$53:$E$199, ROW(Subtotals!$E$53:$E$199)-MIN(ROW(Subtotals!$E$53:$E$199))+1, \"\"), ROW(A54))),\"\")","v":"C089"}]
["B/6","Calculated total of Educational Environment B1 in Category Set B (Y48)  ≠  Subtotal 6 (G38)",null,null,null,null,null,null,null,null,null,null,"V12",0,"V12","MC",null,null,{"$f":"IFERROR(INDEX(Subtotals!$A$53:$A$199, SMALL(IF(Subtotals!$C$50=Subtotals!$E$53:$E$199, ROW(Subtotals!$E$53:$E$199)-MIN(ROW(Subtotals!$E$53:$E$199))+1, \"\"), ROW(A55))),\"\")","v":"B/6"},{"$f":"IFERROR(INDEX(Subtotals!$B$53:$B$199, SMALL(IF(Subtotals!$C$50=Subtotals!$E$53:$E$199, ROW(Subtotals!$E$53:$E$199)-MIN(ROW(Subtotals!$E$53:$E$199))+1, \"\"), ROW(A55))),\"\")","v":0},{"$f":"IFERROR(INDEX(Subtotals!$F$53:$F$199, SMALL(IF(Subtotals!$C$50=Subtotals!$E$53:$E$199, ROW(Subtotals!$E$53:$E$199)-MIN(ROW(Subtotals!$E$53:$E$199))+1, \"\"), ROW(A55))),\"\")","v":"V12"},{"$f":"IFERROR(INDEX(Subtotals!$G$53:$G$199, SMALL(IF(Subtotals!$C$50=Subtotals!$E$53:$E$199, ROW(Subtotals!$E$53:$E$199)-MIN(ROW(Subtotals!$E$53:$E$199))+1, \"\"), ROW(A55))),\"\")","v":"C089"},{"$f":"IFERROR(INDEX(Subtotals!$J$53:$J$199, SMALL(IF(Subtotals!$C$50=Subtotals!$E$53:$E$199, ROW(Subtotals!$E$53:$E$199)-MIN(ROW(Subtotals!$E$53:$E$199))+1, \"\"), ROW(A55))),\"\")","v":"Calculated total of Educational Environment C2 in Category Set B (AW48)  ≠  Subtotal 6 (G41)"},null,{"$f":"IFERROR(INDEX(Subtotals!$C$53:$C$199, SMALL(IF(Subtotals!$C$50=Subtotals!$E$53:$E$199, ROW(Subtotals!$E$53:$E$199)-MIN(ROW(Subtotals!$E$53:$E$199))+1, \"\"), ROW(A55))),\"\")","v":"MC"},{"$f":"IFERROR(INDEX(Subtotals!$H$53:$H$199, SMALL(IF(Subtotals!$C$50=Subtotals!$E$53:$E$199, ROW(Subtotals!$E$53:$E$199)-MIN(ROW(Subtotals!$E$53:$E$199))+1, \"\"), ROW(A55))),\"\")","v":"V12"},{"$f":"IFERROR(INDEX(Subtotals!$I$53:$I$199, SMALL(IF(Subtotals!$C$50=Subtotals!$E$53:$E$199, ROW(Subtotals!$E$53:$E$199)-MIN(ROW(Subtotals!$E$53:$E$199))+1, \"\"), ROW(A55))),\"\")","v":"C089"}]
["B/6","Calculated total of Educational Environment B2 in Category Set B (AG48)  ≠  Subtotal 6 (G39)",null,null,null,null,null,null,null,null,null,null,"V12",0,"V12","MC",null,null,{"$f":"IFERROR(INDEX(Subtotals!$A$53:$A$199, SMALL(IF(Subtotals!$C$50=Subtotals!$E$53:$E$199, ROW(Subtotals!$E$53:$E$199)-MIN(ROW(Subtotals!$E$53:$E$199))+1, \"\"), ROW(A56))),\"\")","v":"B/6"},{"$f":"IFERROR(INDEX(Subtotals!$B$53:$B$199, SMALL(IF(Subtotals!$C$50=Subtotals!$E$53:$E$199, ROW(Subtotals!$E$53:$E$199)-MIN(ROW(Subtotals!$E$53:$E$199))+1, \"\"), ROW(A56))),\"\")","v":0},{"$f":"IFERROR(INDEX(Subtotals!$F$53:$F$199, SMALL(IF(Subtotals!$C$50=Subtotals!$E$53:$E$199, ROW(Subtotals!$E$53:$E$199)-MIN(ROW(Subtotals!$E$53:$E$199))+1, \"\"), ROW(A56))),\"\")","v":"V12"},{"$f":"IFERROR(INDEX(Subtotals!$G$53:$G$199, SMALL(IF(Subtotals!$C$50=Subtotals!$E$53:$E$199, ROW(Subtotals!$E$53:$E$199)-MIN(ROW(Subtotals!$E$53:$E$199))+1, \"\"), ROW(A56))),\"\")","v":"C089"},{"$f":"IFERROR(INDEX(Subtotals!$J$53:$J$199, SMALL(IF(Subtotals!$C$50=Subtotals!$E$53:$E$199, ROW(Subtotals!$E$53:$E$199)-MIN(ROW(Subtotals!$E$53:$E$199))+1, \"\"), ROW(A56))),\"\")","v":"Calculated total of Educational Environment C3 in Category Set B (BE48)  ≠  Subtotal 6 (G42)"},null,{"$f":"IFERROR(INDEX(Subtotals!$C$53:$C$199, SMALL(IF(Subtotals!$C$50=Subtotals!$E$53:$E$199, ROW(Subtotals!$E$53:$E$199)-MIN(ROW(Subtotals!$E$53:$E$199))+1, \"\"), ROW(A56))),\"\")","v":"MC"},{"$f":"IFERROR(INDEX(Subtotals!$H$53:$H$199, SMALL(IF(Subtotals!$C$50=Subtotals!$E$53:$E$199, ROW(Subtotals!$E$53:$E$199)-MIN(ROW(Subtotals!$E$53:$E$199))+1, \"\"), ROW(A56))),\"\")","v":"V12"},{"$f":"IFERROR(INDEX(Subtotals!$I$53:$I$199, SMALL(IF(Subtotals!$C$50=Subtotals!$E$53:$E$199, ROW(Subtotals!$E$53:$E$199)-MIN(ROW(Subtotals!$E$53:$E$199))+1, \"\"), ROW(A56))),\"\")","v":"C089"}]
["B/6","Calculated total of Educational Environment C1 in Category Set B (AO48)  ≠  Subtotal 6 (G40)",null,null,null,null,null,null,null,null,null,null,"V12",0,"V12","MC",null,null,{"$f":"IFERROR(INDEX(Subtotals!$A$53:$A$199, SMALL(IF(Subtotals!$C$50=Subtotals!$E$53:$E$199, ROW(Subtotals!$E$53:$E$199)-MIN(ROW(Subtotals!$E$53:$E$199))+1, \"\"), ROW(A57))),\"\")","v":"B/6"},{"$f":"IFERROR(INDEX(Subtotals!$B$53:$B$199, SMALL(IF(Subtotals!$C$50=Subtotals!$E$53:$E$199, ROW(Subtotals!$E$53:$E$199)-MIN(ROW(Subtotals!$E$53:$E$199))+1, \"\"), ROW(A57))),\"\")","v":0},{"$f":"IFERROR(INDEX(Subtotals!$F$53:$F$199, SMALL(IF(Subtotals!$C$50=Subtotals!$E$53:$E$199, ROW(Subtotals!$E$53:$E$199)-MIN(ROW(Subtotals!$E$53:$E$199))+1, \"\"), ROW(A57))),\"\")","v":"V12"},{"$f":"IFERROR(INDEX(Subtotals!$G$53:$G$199, SMALL(IF(Subtotals!$C$50=Subtotals!$E$53:$E$199, ROW(Subtotals!$E$53:$E$199)-MIN(ROW(Subtotals!$E$53:$E$199))+1, \"\"), ROW(A57))),\"\")","v":"C089"},{"$f":"IFERROR(INDEX(Subtotals!$J$53:$J$199, SMALL(IF(Subtotals!$C$50=Subtotals!$E$53:$E$199, ROW(Subtotals!$E$53:$E$199)-MIN(ROW(Subtotals!$E$53:$E$199))+1, \"\"), ROW(A57))),\"\")","v":"Calculated total of Educational Environment D1 in Category Set B (BM48)  ≠  Subtotal 6 (G43)"},null,{"$f":"IFERROR(INDEX(Subtotals!$C$53:$C$199, SMALL(IF(Subtotals!$C$50=Subtotals!$E$53:$E$199, ROW(Subtotals!$E$53:$E$199)-MIN(ROW(Subtotals!$E$53:$E$199))+1, \"\"), ROW(A57))),\"\")","v":"MC"},{"$f":"IFERROR(INDEX(Subtotals!$H$53:$H$199, SMALL(IF(Subtotals!$C$50=Subtotals!$E$53:$E$199, ROW(Subtotals!$E$53:$E$199)-MIN(ROW(Subtotals!$E$53:$E$199))+1, \"\"), ROW(A57))),\"\")","v":"V12"},{"$f":"IFERROR(INDEX(Subtotals!$I$53:$I$199, SMALL(IF(Subtotals!$C$50=Subtotals!$E$53:$E$199, ROW(Subtotals!$E$53:$E$199)-MIN(ROW(Subtotals!$E$53:$E$199))+1, \"\"), ROW(A57))),\"\")","v":"C089"}]
["B/6","Calculated total of Educational Environment C2 in Category Set B (AW48)  ≠  Subtotal 6 (G41)",null,null,null,null,null,null,null,null,null,null,"V12",0,"V12","MC",null,null,{"$f":"IFERROR(INDEX(Subtotals!$A$53:$A$199, SMALL(IF(Subtotals!$C$50=Subtotals!$E$53:$E$199, ROW(Subtotals!$E$53:$E$199)-MIN(ROW(Subtotals!$E$53:$E$199))+1, \"\"), ROW(A58))),\"\")","v":"B/6"},{"$f":"IFERROR(INDEX(Subtotals!$B$53:$B$199, SMALL(IF(Subtotals!$C$50=Subtotals!$E$53:$E$199, ROW(Subtotals!$E$53:$E$199)-MIN(ROW(Subtotals!$E$53:$E$199))+1, \"\"), ROW(A58))),\"\")","v":0},{"$f":"IFERROR(INDEX(Subtotals!$F$53:$F$199, SMALL(IF(Subtotals!$C$50=Subtotals!$E$53:$E$199, ROW(Subtotals!$E$53:$E$199)-MIN(ROW(Subtotals!$E$53:$E$199))+1, \"\"), ROW(A58))),\"\")","v":"V12"},{"$f":"IFERROR(INDEX(Subtotals!$G$53:$G$199, SMALL(IF(Subtotals!$C$50=Subtotals!$E$53:$E$199, ROW(Subtotals!$E$53:$E$199)-MIN(ROW(Subtotals!$E$53:$E$199))+1, \"\"), ROW(A58))),\"\")","v":"C089"},{"$f":"IFERROR(INDEX(Subtotals!$J$53:$J$199, SMALL(IF(Subtotals!$C$50=Subtotals!$E$53:$E$199, ROW(Subtotals!$E$53:$E$199)-MIN(ROW(Subtotals!$E$53:$E$199))+1, \"\"), ROW(A58))),\"\")","v":"Calculated total of Educational Environment D2 in Category Set B (BU48)  ≠  Subtotal 6 (G44)"},null,{"$f":"IFERROR(INDEX(Subtotals!$C$53:$C$199, SMALL(IF(Subtotals!$C$50=Subtotals!$E$53:$E$199, ROW(Subtotals!$E$53:$E$199)-MIN(ROW(Subtotals!$E$53:$E$199))+1, \"\"), ROW(A58))),\"\")","v":"MC"},{"$f":"IFERROR(INDEX(Subtotals!$H$53:$H$199, SMALL(IF(Subtotals!$C$50=Subtotals!$E$53:$E$199, ROW(Subtotals!$E$53:$E$199)-MIN(ROW(Subtotals!$E$53:$E$199))+1, \"\"), ROW(A58))),\"\")","v":"V12"},{"$f":"IFERROR(INDEX(Subtotals!$I$53:$I$199, SMALL(IF(Subtotals!$C$50=Subtotals!$E$53:$E$199, ROW(Subtotals!$E$53:$E$199)-MIN(ROW(Subtotals!$E$53:$E$199))+1, \"\"), ROW(A58))),\"\")","v":"C089"}]
["B/6","Calculated total of Educational Environment C3 in Category Set B (BE48)  ≠  Subtotal 6 (G42)",null,null,null,null,null,null,null,null,null,null,"V12",0,"V12","MC",null,null,{"$f":"IFERROR(INDEX(Subtotals!$A$53:$A$199, SMALL(IF(Subtotals!$C$50=Subtotals!$E$53:$E$199, ROW(Subtotals!$E$53:$E$199)-MIN(ROW(Subtotals!$E$53:$E$199))+1, \"\"), ROW(A59))),\"\")","v":"C/6"},{"$f":"IFERROR(INDEX(Subtotals!$B$53:$B$199, SMALL(IF(Subtotals!$C$50=Subtotals!$E$53:$E$199, ROW(Subtotals!$E$53:$E$199)-MIN(ROW(Subtotals!$E$53:$E$199))+1, \"\"), ROW(A59))),\"\")","v":0},{"$f":"IFERROR(INDEX(Subtotals!$F$53:$F$199, SMALL(IF(Subtotals!$C$50=Subtotals!$E$53:$E$199, ROW(Subtotals!$E$53:$E$199)-MIN(ROW(Subtotals!$E$53:$E$199))+1, \"\"), ROW(A59))),\"\")","v":"V12"},{"$f":"IFERROR(INDEX(Subtotals!$G$53:$G$199, SMALL(IF(Subtotals!$C$50=Subtotals!$E$53:$E$199, ROW(Subtotals!$E$53:$E$199)-MIN(ROW(Subtotals!$E$53:$E$199))+1, \"\"), ROW(A59))),\"\")","v":"C089"},{"$f":"IFERROR(INDEX(Subtotals!$J$53:$J$199, SMALL(IF(Subtotals!$C$50=Subtotals!$E$53:$E$199, ROW(Subtotals!$E$53:$E$199)-MIN(ROW(Subtotals!$E$53:$E$199))+1, \"\"), ROW(A59))),\"\")","v":"Calculated total of Educational Environment A1 in Category Set C (I52)  ≠  Subtotal 6 (G36)"},null,{"$f":"IFERROR(INDEX(Subtotals!$C$53:$C$199, SMALL(IF(Subtotals!$C$50=Subtotals!$E$53:$E$199, ROW(Subtotals!$E$53:$E$199)-MIN(ROW(Subtotals!$E$53:$E$199))+1, \"\"), ROW(A59))),\"\")","v":"MC"},{"$f":"IFERROR(INDEX(Subtotals!$H$53:$H$199, SMALL(IF(Subtotals!$C$50=Subtotals!$E$53:$E$199, ROW(Subtotals!$E$53:$E$199)-MIN(ROW(Subtotals!$E$53:$E$199))+1, \"\"), ROW(A59))),\"\")","v":"V12"},{"$f":"IFERROR(INDEX(Subtotals!$I$53:$I$199, SMALL(IF(Subtotals!$C$50=Subtotals!$E$53:$E$199, ROW(Subtotals!$E$53:$E$199)-MIN(ROW(Subtotals!$E$53:$E$199))+1, \"\"), ROW(A59))),\"\")","v":"C089"}]
["B/6","Calculated total of Educational Environment D1 in Category Set B (BM48)  ≠  Subtotal 6 (G43)",null,null,null,null,null,null,null,null,null,null,"V12",0,"V12","MC",null,null,{"$f":"IFERROR(INDEX(Subtotals!$A$53:$A$199, SMALL(IF(Subtotals!$C$50=Subtotals!$E$53:$E$199, ROW(Subtotals!$E$53:$E$199)-MIN(ROW(Subtotals!$E$53:$E$199))+1, \"\"), ROW(A60))),\"\")","v":"C/6"},{"$f":"IFERROR(INDEX(Subtotals!$B$53:$B$199, SMALL(IF(Subtotals!$C$50=Subtotals!$E$53:$E$199, ROW(Subtotals!$E$53:$E$199)-MIN(ROW(Subtotals!$E$53:$E$199))+1, \"\"), ROW(A60))),\"\")","v":0},{"$f":"IFERROR(INDEX(Subtotals!$F$53:$F$199, SMALL(IF(Subtotals!$C$50=Subtotals!$E$53:$E$199, ROW(Subtotals!$E$53:$E$199)-MIN(ROW(Subtotals!$E$53:$E$199))+1, \"\"), ROW(A60))),\"\")","v":"V12"},{"$f":"IFERROR(INDEX(Subtotals!$G$53:$G$199, SMALL(IF(Subtotals!$C$50=Subtotals!$E$53:$E$199, ROW(Subtotals!$E$53:$E$199)-MIN(ROW(Subtotals!$E$53:$E$199))+1, \"\"), ROW(A60))),\"\")","v":"C089"},{"$f":"IFERROR(INDEX(Subtotals!$J$53:$J$199, SMALL(IF(Subtotals!$C$50=Subtotals!$E$53:$E$199, ROW(Subtotals!$E$53:$E$199)-MIN(ROW(Subtotals!$E$53:$E$199))+1, \"\"), ROW(A60))),\"\")","v":"Calculated total of Educational Environment A2 in Category Set C (I53)  ≠  Subtotal 6 (G37)"},null,{"$f":"IFERROR(INDEX(Subtotals!$C$53:$C$199, SMALL(IF(Subtotals!$C$50=Subtotals!$E$53:$E$199, ROW(Subtotals!$E$53:$E$199)-MIN(ROW(Subtotals!$E$53:$E$199))+1, \"\"), ROW(A60))),\"\")","v":"MC"},{"$f":"IFERROR(INDEX(Subtotals!$H$53:$H$199, SMALL(IF(Subtotals!$C$50=Subtotals!$E$53:$E$199, ROW(Subtotals!$E$53:$E$199)-MIN(ROW(Subtotals!$E$53:$E$199))+1, \"\"), ROW(A60))),\"\")","v":"V12"},{"$f":"IFERROR(INDEX(Subtotals!$I$53:$I$199, SMALL(IF(Subtotals!$C$50=Subtotals!$E$53:$E$199, ROW(Subtotals!$E$53:$E$199)-MIN(ROW(Subtotals!$E$53:$E$199))+1, \"\"), ROW(A60))),\"\")","v":"C089"}]
["B/6","Calculated total of Educational Environment D2 in Category Set B (BU48)  ≠  Subtotal 6 (G44)",null,null,null,null,null,null,null,null,null,null,"V12",0,"V12","MC",null,null,{"$f":"IFERROR(INDEX(Subtotals!$A$53:$A$199, SMALL(IF(Subtotals!$C$50=Subtotals!$E$53:$E$199, ROW(Subtotals!$E$53:$E$199)-MIN(ROW(Subtotals!$E$53:$E$199))+1, \"\"), ROW(A61))),\"\")","v":"C/6"},{"$f":"IFERROR(INDEX(Subtotals!$B$53:$B$199, SMALL(IF(Subtotals!$C$50=Subtotals!$E$53:$E$199, ROW(Subtotals!$E$53:$E$199)-MIN(ROW(Subtotals!$E$53:$E$199))+1, \"\"), ROW(A61))),\"\")","v":0},{"$f":"IFERROR(INDEX(Subtotals!$F$53:$F$199, SMALL(IF(Subtotals!$C$50=Subtotals!$E$53:$E$199, ROW(Subtotals!$E$53:$E$199)-MIN(ROW(Subtotals!$E$53:$E$199))+1, \"\"), ROW(A61))),\"\")","v":"V12"},{"$f":"IFERROR(INDEX(Subtotals!$G$53:$G$199, SMALL(IF(Subtotals!$C$50=Subtotals!$E$53:$E$199, ROW(Subtotals!$E$53:$E$199)-MIN(ROW(Subtotals!$E$53:$E$199))+1, \"\"), ROW(A61))),\"\")","v":"C089"},{"$f":"IFERROR(INDEX(Subtotals!$J$53:$J$199, SMALL(IF(Subtotals!$C$50=Subtotals!$E$53:$E$199, ROW(Subtotals!$E$53:$E$199)-MIN(ROW(Subtotals!$E$53:$E$199))+1, \"\"), ROW(A61))),\"\")","v":"Calculated total of Educational Environment B1 in Category Set C (I54)  ≠  Subtotal 6 (G38)"},null,{"$f":"IFERROR(INDEX(Subtotals!$C$53:$C$199, SMALL(IF(Subtotals!$C$50=Subtotals!$E$53:$E$199, ROW(Subtotals!$E$53:$E$199)-MIN(ROW(Subtotals!$E$53:$E$199))+1, \"\"), ROW(A61))),\"\")","v":"MC"},{"$f":"IFERROR(INDEX(Subtotals!$H$53:$H$199, SMALL(IF(Subtotals!$C$50=Subtotals!$E$53:$E$199, ROW(Subtotals!$E$53:$E$199)-MIN(ROW(Subtotals!$E$53:$E$199))+1, \"\"), ROW(A61))),\"\")","v":"V12"},{"$f":"IFERROR(INDEX(Subtotals!$I$53:$I$199, SMALL(IF(Subtotals!$C$50=Subtotals!$E$53:$E$199, ROW(Subtotals!$E$53:$E$199)-MIN(ROW(Subtotals!$E$53:$E$199))+1, \"\"), ROW(A61))),\"\")","v":"C089"}]
["C/6","Calculated total of Educational Environment A1 in Category Set C (I52)  ≠  Subtotal 6 (G36)",null,null,null,null,null,null,null,null,null,null,"V12",0,"V12","MC",null,null,{"$f":"IFERROR(INDEX(Subtotals!$A$53:$A$199, SMALL(IF(Subtotals!$C$50=Subtotals!$E$53:$E$199, ROW(Subtotals!$E$53:$E$199)-MIN(ROW(Subtotals!$E$53:$E$199))+1, \"\"), ROW(A62))),\"\")","v":"C/6"},{"$f":"IFERROR(INDEX(Subtotals!$B$53:$B$199, SMALL(IF(Subtotals!$C$50=Subtotals!$E$53:$E$199, ROW(Subtotals!$E$53:$E$199)-MIN(ROW(Subtotals!$E$53:$E$199))+1, \"\"), ROW(A62))),\"\")","v":0},{"$f":"IFERROR(INDEX(Subtotals!$F$53:$F$199, SMALL(IF(Subtotals!$C$50=Subtotals!$E$53:$E$199, ROW(Subtotals!$E$53:$E$199)-MIN(ROW(Subtotals!$E$53:$E$199))+1, \"\"), ROW(A62))),\"\")","v":"V12"},{"$f":"IFERROR(INDEX(Subtotals!$G$53:$G$199, SMALL(IF(Subtotals!$C$50=Subtotals!$E$53:$E$199, ROW(Subtotals!$E$53:$E$199)-MIN(ROW(Subtotals!$E$53:$E$199))+1, \"\"), ROW(A62))),\"\")","v":"C089"},{"$f":"IFERROR(INDEX(Subtotals!$J$53:$J$199, SMALL(IF(Subtotals!$C$50=Subtotals!$E$53:$E$199, ROW(Subtotals!$E$53:$E$199)-MIN(ROW(Subtotals!$E$53:$E$199))+1, \"\"), ROW(A62))),\"\")","v":"Calculated total of Educational Environment B2 in Category Set C (I55)  ≠  Subtotal 6 (G39)"},null,{"$f":"IFERROR(INDEX(Subtotals!$C$53:$C$199, SMALL(IF(Subtotals!$C$50=Subtotals!$E$53:$E$199, ROW(Subtotals!$E$53:$E$199)-MIN(ROW(Subtotals!$E$53:$E$199))+1, \"\"), ROW(A62))),\"\")","v":"MC"},{"$f":"IFERROR(INDEX(Subtotals!$H$53:$H$199, SMALL(IF(Subtotals!$C$50=Subtotals!$E$53:$E$199, ROW(Subtotals!$E$53:$E$199)-MIN(ROW(Subtotals!$E$53:$E$199))+1, \"\"), ROW(A62))),\"\")","v":"V12"},{"$f":"IFERROR(INDEX(Subtotals!$I$53:$I$199, SMALL(IF(Subtotals!$C$50=Subtotals!$E$53:$E$199, ROW(Subtotals!$E$53:$E$199)-MIN(ROW(Subtotals!$E$53:$E$199))+1, \"\"), ROW(A62))),\"\")","v":"C089"}]
["C/6","Calculated total of Educational Environment A2 in Category Set C (I53)  ≠  Subtotal 6 (G37)",null,null,null,null,null,null,null,null,null,null,"V12",0,"V12","MC",null,null,{"$f":"IFERROR(INDEX(Subtotals!$A$53:$A$199, SMALL(IF(Subtotals!$C$50=Subtotals!$E$53:$E$199, ROW(Subtotals!$E$53:$E$199)-MIN(ROW(Subtotals!$E$53:$E$199))+1, \"\"), ROW(A63))),\"\")","v":"C/6"},{"$f":"IFERROR(INDEX(Subtotals!$B$53:$B$199, SMALL(IF(Subtotals!$C$50=Subtotals!$E$53:$E$199, ROW(Subtotals!$E$53:$E$199)-MIN(ROW(Subtotals!$E$53:$E$199))+1, \"\"), ROW(A63))),\"\")","v":0},{"$f":"IFERROR(INDEX(Subtotals!$F$53:$F$199, SMALL(IF(Subtotals!$C$50=Subtotals!$E$53:$E$199, ROW(Subtotals!$E$53:$E$199)-MIN(ROW(Subtotals!$E$53:$E$199))+1, \"\"), ROW(A63))),\"\")","v":"V12"},{"$f":"IFERROR(INDEX(Subtotals!$G$53:$G$199, SMALL(IF(Subtotals!$C$50=Subtotals!$E$53:$E$199, ROW(Subtotals!$E$53:$E$199)-MIN(ROW(Subtotals!$E$53:$E$199))+1, \"\"), ROW(A63))),\"\")","v":"C089"},{"$f":"IFERROR(INDEX(Subtotals!$J$53:$J$199, SMALL(IF(Subtotals!$C$50=Subtotals!$E$53:$E$199, ROW(Subtotals!$E$53:$E$199)-MIN(ROW(Subtotals!$E$53:$E$199))+1, \"\"), ROW(A63))),\"\")","v":"Calculated total of Educational Environment C1 in Category Set C (I56)  ≠  Subtotal 6 (G40)"},null,{"$f":"IFERROR(INDEX(Subtotals!$C$53:$C$199, SMALL(IF(Subtotals!$C$50=Subtotals!$E$53:$E$199, ROW(Subtotals!$E$53:$E$199)-MIN(ROW(Subtotals!$E$53:$E$199))+1, \"\"), ROW(A63))),\"\")","v":"MC"},{"$f":"IFERROR(INDEX(Subtotals!$H$53:$H$199, SMALL(IF(Subtotals!$C$50=Subtotals!$E$53:$E$199, ROW(Subtotals!$E$53:$E$199)-MIN(ROW(Subtotals!$E$53:$E$199))+1, \"\"), ROW(A63))),\"\")","v":"V12"},{"$f":"IFERROR(INDEX(Subtotals!$I$53:$I$199, SMALL(IF(Subtotals!$C$50=Subtotals!$E$53:$E$199, ROW(Subtotals!$E$53:$E$199)-MIN(ROW(Subtotals!$E$53:$E$199))+1, \"\"), ROW(A63))),\"\")","v":"C089"}]
["C/6","Calculated total of Educational Environment B1 in Category Set C (I54)  ≠  Subtotal 6 (G38)",null,null,null,null,null,null,null,null,null,null,"V12",0,"V12","MC",null,null,{"$f":"IFERROR(INDEX(Subtotals!$A$53:$A$199, SMALL(IF(Subtotals!$C$50=Subtotals!$E$53:$E$199, ROW(Subtotals!$E$53:$E$199)-MIN(ROW(Subtotals!$E$53:$E$199))+1, \"\"), ROW(A64))),\"\")","v":"C/6"},{"$f":"IFERROR(INDEX(Subtotals!$B$53:$B$199, SMALL(IF(Subtotals!$C$50=Subtotals!$E$53:$E$199, ROW(Subtotals!$E$53:$E$199)-MIN(ROW(Subtotals!$E$53:$E$199))+1, \"\"), ROW(A64))),\"\")","v":0},{"$f":"IFERROR(INDEX(Subtotals!$F$53:$F$199, SMALL(IF(Subtotals!$C$50=Subtotals!$E$53:$E$199, ROW(Subtotals!$E$53:$E$199)-MIN(ROW(Subtotals!$E$53:$E$199))+1, \"\"), ROW(A64))),\"\")","v":"V12"},{"$f":"IFERROR(INDEX(Subtotals!$G$53:$G$199, SMALL(IF(Subtotals!$C$50=Subtotals!$E$53:$E$199, ROW(Subtotals!$E$53:$E$199)-MIN(ROW(Subtotals!$E$53:$E$199))+1, \"\"), ROW(A64))),\"\")","v":"C089"},{"$f":"IFERROR(INDEX(Subtotals!$J$53:$J$199, SMALL(IF(Subtotals!$C$50=Subtotals!$E$53:$E$199, ROW(Subtotals!$E$53:$E$199)-MIN(ROW(Subtotals!$E$53:$E$199))+1, \"\"), ROW(A64))),\"\")","v":"Calculated total of Educational Environment C2 in Category Set C (I57)  ≠  Subtotal 6 (G41)"},null,{"$f":"IFERROR(INDEX(Subtotals!$C$53:$C$199, SMALL(IF(Subtotals!$C$50=Subtotals!$E$53:$E$199, ROW(Subtotals!$E$53:$E$199)-MIN(ROW(Subtotals!$E$53:$E$199))+1, \"\"), ROW(A64))),\"\")","v":"MC"},{"$f":"IFERROR(INDEX(Subtotals!$H$53:$H$199, SMALL(IF(Subtotals!$C$50=Subtotals!$E$53:$E$199, ROW(Subtotals!$E$53:$E$199)-MIN(ROW(Subtotals!$E$53:$E$199))+1, \"\"), ROW(A64))),\"\")","v":"V12"},{"$f":"IFERROR(INDEX(Subtotals!$I$53:$I$199, SMALL(IF(Subtotals!$C$50=Subtotals!$E$53:$E$199, ROW(Subtotals!$E$53:$E$199)-MIN(ROW(Subtotals!$E$53:$E$199))+1, \"\"), ROW(A64))),\"\")","v":"C089"}]
["C/6","Calculated total of Educational Environment B2 in Category Set C (I55)  ≠  Subtotal 6 (G39)",null,null,null,null,null,null,null,null,null,null,"V12",0,"V12","MC",null,null,{"$f":"IFERROR(INDEX(Subtotals!$A$53:$A$199, SMALL(IF(Subtotals!$C$50=Subtotals!$E$53:$E$199, ROW(Subtotals!$E$53:$E$199)-MIN(ROW(Subtotals!$E$53:$E$199))+1, \"\"), ROW(A65))),\"\")","v":"C/6"},{"$f":"IFERROR(INDEX(Subtotals!$B$53:$B$199, SMALL(IF(Subtotals!$C$50=Subtotals!$E$53:$E$199, ROW(Subtotals!$E$53:$E$199)-MIN(ROW(Subtotals!$E$53:$E$199))+1, \"\"), ROW(A65))),\"\")","v":0},{"$f":"IFERROR(INDEX(Subtotals!$F$53:$F$199, SMALL(IF(Subtotals!$C$50=Subtotals!$E$53:$E$199, ROW(Subtotals!$E$53:$E$199)-MIN(ROW(Subtotals!$E$53:$E$199))+1, \"\"), ROW(A65))),\"\")","v":"V12"},{"$f":"IFERROR(INDEX(Subtotals!$G$53:$G$199, SMALL(IF(Subtotals!$C$50=Subtotals!$E$53:$E$199, ROW(Subtotals!$E$53:$E$199)-MIN(ROW(Subtotals!$E$53:$E$199))+1, \"\"), ROW(A65))),\"\")","v":"C089"},{"$f":"IFERROR(INDEX(Subtotals!$J$53:$J$199, SMALL(IF(Subtotals!$C$50=Subtotals!$E$53:$E$199, ROW(Subtotals!$E$53:$E$199)-MIN(ROW(Subtotals!$E$53:$E$199))+1, \"\"), ROW(A65))),\"\")","v":"Calculated total of Educational Environment C3 in Category Set C (I58)  ≠  Subtotal 6 (G42)"},null,{"$f":"IFERROR(INDEX(Subtotals!$C$53:$C$199, SMALL(IF(Subtotals!$C$50=Subtotals!$E$53:$E$199, ROW(Subtotals!$E$53:$E$199)-MIN(ROW(Subtotals!$E$53:$E$199))+1, \"\"), ROW(A65))),\"\")","v":"MC"},{"$f":"IFERROR(INDEX(Subtotals!$H$53:$H$199, SMALL(IF(Subtotals!$C$50=Subtotals!$E$53:$E$199, ROW(Subtotals!$E$53:$E$199)-MIN(ROW(Subtotals!$E$53:$E$199))+1, \"\"), ROW(A65))),\"\")","v":"V12"},{"$f":"IFERROR(INDEX(Subtotals!$I$53:$I$199, SMALL(IF(Subtotals!$C$50=Subtotals!$E$53:$E$199, ROW(Subtotals!$E$53:$E$199)-MIN(ROW(Subtotals!$E$53:$E$199))+1, \"\"), ROW(A65))),\"\")","v":"C089"}]
["C/6","Calculated total of Educational Environment C1 in Category Set C (I56)  ≠  Subtotal 6 (G40)",null,null,null,null,null,null,null,null,null,null,"V12",0,"V12","MC",null,null,{"$f":"IFERROR(INDEX(Subtotals!$A$53:$A$199, SMALL(IF(Subtotals!$C$50=Subtotals!$E$53:$E$199, ROW(Subtotals!$E$53:$E$199)-MIN(ROW(Subtotals!$E$53:$E$199))+1, \"\"), ROW(A66))),\"\")","v":"C/6"},{"$f":"IFERROR(INDEX(Subtotals!$B$53:$B$199, SMALL(IF(Subtotals!$C$50=Subtotals!$E$53:$E$199, ROW(Subtotals!$E$53:$E$199)-MIN(ROW(Subtotals!$E$53:$E$199))+1, \"\"), ROW(A66))),\"\")","v":0},{"$f":"IFERROR(INDEX(Subtotals!$F$53:$F$199, SMALL(IF(Subtotals!$C$50=Subtotals!$E$53:$E$199, ROW(Subtotals!$E$53:$E$199)-MIN(ROW(Subtotals!$E$53:$E$199))+1, \"\"), ROW(A66))),\"\")","v":"V12"},{"$f":"IFERROR(INDEX(Subtotals!$G$53:$G$199, SMALL(IF(Subtotals!$C$50=Subtotals!$E$53:$E$199, ROW(Subtotals!$E$53:$E$199)-MIN(ROW(Subtotals!$E$53:$E$199))+1, \"\"), ROW(A66))),\"\")","v":"C089"},{"$f":"IFERROR(INDEX(Subtotals!$J$53:$J$199, SMALL(IF(Subtotals!$C$50=Subtotals!$E$53:$E$199, ROW(Subtotals!$E$53:$E$199)-MIN(ROW(Subtotals!$E$53:$E$199))+1, \"\"), ROW(A66))),\"\")","v":"Calculated total of Educational Environment D1 in Category Set C (I59)  ≠  Subtotal 6 (G43)"},null,{"$f":"IFERROR(INDEX(Subtotals!$C$53:$C$199, SMALL(IF(Subtotals!$C$50=Subtotals!$E$53:$E$199, ROW(Subtotals!$E$53:$E$199)-MIN(ROW(Subtotals!$E$53:$E$199))+1, \"\"), ROW(A66))),\"\")","v":"MC"},{"$f":"IFERROR(INDEX(Subtotals!$H$53:$H$199, SMALL(IF(Subtotals!$C$50=Subtotals!$E$53:$E$199, ROW(Subtotals!$E$53:$E$199)-MIN(ROW(Subtotals!$E$53:$E$199))+1, \"\"), ROW(A66))),\"\")","v":"V12"},{"$f":"IFERROR(INDEX(Subtotals!$I$53:$I$199, SMALL(IF(Subtotals!$C$50=Subtotals!$E$53:$E$199, ROW(Subtotals!$E$53:$E$199)-MIN(ROW(Subtotals!$E$53:$E$199))+1, \"\"), ROW(A66))),\"\")","v":"C089"}]
["C/6","Calculated total of Educational Environment C2 in Category Set C (I57)  ≠  Subtotal 6 (G41)",null,null,null,null,null,null,null,null,null,null,"V12",0,"V12","MC",null,null,{"$f":"IFERROR(INDEX(Subtotals!$A$53:$A$199, SMALL(IF(Subtotals!$C$50=Subtotals!$E$53:$E$199, ROW(Subtotals!$E$53:$E$199)-MIN(ROW(Subtotals!$E$53:$E$199))+1, \"\"), ROW(A67))),\"\")","v":"C/6"},{"$f":"IFERROR(INDEX(Subtotals!$B$53:$B$199, SMALL(IF(Subtotals!$C$50=Subtotals!$E$53:$E$199, ROW(Subtotals!$E$53:$E$199)-MIN(ROW(Subtotals!$E$53:$E$199))+1, \"\"), ROW(A67))),\"\")","v":0},{"$f":"IFERROR(INDEX(Subtotals!$F$53:$F$199, SMALL(IF(Subtotals!$C$50=Subtotals!$E$53:$E$199, ROW(Subtotals!$E$53:$E$199)-MIN(ROW(Subtotals!$E$53:$E$199))+1, \"\"), ROW(A67))),\"\")","v":"V12"},{"$f":"IFERROR(INDEX(Subtotals!$G$53:$G$199, SMALL(IF(Subtotals!$C$50=Subtotals!$E$53:$E$199, ROW(Subtotals!$E$53:$E$199)-MIN(ROW(Subtotals!$E$53:$E$199))+1, \"\"), ROW(A67))),\"\")","v":"C089"},{"$f":"IFERROR(INDEX(Subtotals!$J$53:$J$199, SMALL(IF(Subtotals!$C$50=Subtotals!$E$53:$E$199, ROW(Subtotals!$E$53:$E$199)-MIN(ROW(Subtotals!$E$53:$E$199))+1, \"\"), ROW(A67))),\"\")","v":"Calculated total of Educational Environment D2 in Category Set C (I60)  ≠  Subtotal 6 (G44)"},null,{"$f":"IFERROR(INDEX(Subtotals!$C$53:$C$199, SMALL(IF(Subtotals!$C$50=Subtotals!$E$53:$E$199, ROW(Subtotals!$E$53:$E$199)-MIN(ROW(Subtotals!$E$53:$E$199))+1, \"\"), ROW(A67))),\"\")","v":"MC"},{"$f":"IFERROR(INDEX(Subtotals!$H$53:$H$199, SMALL(IF(Subtotals!$C$50=Subtotals!$E$53:$E$199, ROW(Subtotals!$E$53:$E$199)-MIN(ROW(Subtotals!$E$53:$E$199))+1, \"\"), ROW(A67))),\"\")","v":"V12"},{"$f":"IFERROR(INDEX(Subtotals!$I$53:$I$199, SMALL(IF(Subtotals!$C$50=Subtotals!$E$53:$E$199, ROW(Subtotals!$E$53:$E$199)-MIN(ROW(Subtotals!$E$53:$E$199))+1, \"\"), ROW(A67))),\"\")","v":"C089"}]
["C/6","Calculated total of Educational Environment C3 in Category Set C (I58)  ≠  Subtotal 6 (G42)",null,null,null,null,null,null,null,null,null,null,"V12",0,"V12","MC",null,null,{"$f":"IFERROR(INDEX(Subtotals!$A$53:$A$199, SMALL(IF(Subtotals!$C$50=Subtotals!$E$53:$E$199, ROW(Subtotals!$E$53:$E$199)-MIN(ROW(Subtotals!$E$53:$E$199))+1, \"\"), ROW(A68))),\"\")","v":"D/6"},{"$f":"IFERROR(INDEX(Subtotals!$B$53:$B$199, SMALL(IF(Subtotals!$C$50=Subtotals!$E$53:$E$199, ROW(Subtotals!$E$53:$E$199)-MIN(ROW(Subtotals!$E$53:$E$199))+1, \"\"), ROW(A68))),\"\")","v":0},{"$f":"IFERROR(INDEX(Subtotals!$F$53:$F$199, SMALL(IF(Subtotals!$C$50=Subtotals!$E$53:$E$199, ROW(Subtotals!$E$53:$E$199)-MIN(ROW(Subtotals!$E$53:$E$199))+1, \"\"), ROW(A68))),\"\")","v":"V12"},{"$f":"IFERROR(INDEX(Subtotals!$G$53:$G$199, SMALL(IF(Subtotals!$C$50=Subtotals!$E$53:$E$199, ROW(Subtotals!$E$53:$E$199)-MIN(ROW(Subtotals!$E$53:$E$199))+1, \"\"), ROW(A68))),\"\")","v":"C089"},{"$f":"IFERROR(INDEX(Subtotals!$J$53:$J$199, SMALL(IF(Subtotals!$C$50=Subtotals!$E$53:$E$199, ROW(Subtotals!$E$53:$E$199)-MIN(ROW(Subtotals!$E$53:$E$199))+1, \"\"), ROW(A68))),\"\")","v":"Calculated total of Educational Environment A1 in Category Set D (U52)  ≠  Subtotal 6 (G36)"},null,{"$f":"IFERROR(INDEX(Subtotals!$C$53:$C$199, SMALL(IF(Subtotals!$C$50=Subtotals!$E$53:$E$199, ROW(Subtotals!$E$53:$E$199)-MIN(ROW(Subtotals!$E$53:$E$199))+1, \"\"), ROW(A68))),\"\")","v":"MC"},{"$f":"IFERROR(INDEX(Subtotals!$H$53:$H$199, SMALL(IF(Subtotals!$C$50=Subtotals!$E$53:$E$199, ROW(Subtotals!$E$53:$E$199)-MIN(ROW(Subtotals!$E$53:$E$199))+1, \"\"), ROW(A68))),\"\")","v":"V12"},{"$f":"IFERROR(INDEX(Subtotals!$I$53:$I$199, SMALL(IF(Subtotals!$C$50=Subtotals!$E$53:$E$199, ROW(Subtotals!$E$53:$E$199)-MIN(ROW(Subtotals!$E$53:$E$199))+1, \"\"), ROW(A68))),\"\")","v":"C089"}]
[{"$f":"IF(S74=\"\",\"\",S74)","v":"C/6"},{"$f":"IF(W74=\"\",\"\",W74)","v":"Calculated total of Educational Environment D1 in Category Set C (I59)  ≠  Subtotal 6 (G43)"},null,null,null,null,null,null,null,null,null,null,{"$f":"U74","v":"V12"},{"$f":"IF(T74=\"\",\"\",HYPERLINK(CONCATENATE(\"#\",\"'\",V74,\"'\",\"!\",U74),T74))","v":0},{"$f":"Z74","v":"V12"},{"$f":"IF(Y74=\"\",\"\",HYPERLINK(CONCATENATE(\"#\",\"'\",AA74,\"'\",\"!\",Z74),Y74))","v":"MC"},null,null,{"$f":"IFERROR(INDEX(Subtotals!$A$53:$A$199, SMALL(IF(Subtotals!$C$50=Subtotals!$E$53:$E$199, ROW(Subtotals!$E$53:$E$199)-MIN(ROW(Subtotals!$E$53:$E$199))+1, \"\"), ROW(A69))),\"\")","v":"D/6"},{"$f":"IFERROR(INDEX(Subtotals!$B$53:$B$199, SMALL(IF(Subtotals!$C$50=Subtotals!$E$53:$E$199, ROW(Subtotals!$E$53:$E$199)-MIN(ROW(Subtotals!$E$53:$E$199))+1, \"\"), ROW(A69))),\"\")","v":0},{"$f":"IFERROR(INDEX(Subtotals!$F$53:$F$199, SMALL(IF(Subtotals!$C$50=Subtotals!$E$53:$E$199, ROW(Subtotals!$E$53:$E$199)-MIN(ROW(Subtotals!$E$53:$E$199))+1, \"\"), ROW(A69))),\"\")","v":"V12"},{"$f":"IFERROR(INDEX(Subtotals!$G$53:$G$199, SMALL(IF(Subtotals!$C$50=Subtotals!$E$53:$E$199, ROW(Subtotals!$E$53:$E$199)-MIN(ROW(Subtotals!$E$53:$E$199))+1, \"\"), ROW(A69))),\"\")","v":"C089"},{"$f":"IFERROR(INDEX(Subtotals!$J$53:$J$199, SMALL(IF(Subtotals!$C$50=Subtotals!$E$53:$E$199, ROW(Subtotals!$E$53:$E$199)-MIN(ROW(Subtotals!$E$53:$E$199))+1, \"\"), ROW(A69))),\"\")","v":"Calculated total of Educational Environment A2 in Category Set D (U53)  ≠  Subtotal 6 (G37)"},null,{"$f":"IFERROR(INDEX(Subtotals!$C$53:$C$199, SMALL(IF(Subtotals!$C$50=Subtotals!$E$53:$E$199, ROW(Subtotals!$E$53:$E$199)-MIN(ROW(Subtotals!$E$53:$E$199))+1, \"\"), ROW(A69))),\"\")","v":"MC"},{"$f":"IFERROR(INDEX(Subtotals!$H$53:$H$199, SMALL(IF(Subtotals!$C$50=Subtotals!$E$53:$E$199, ROW(Subtotals!$E$53:$E$199)-MIN(ROW(Subtotals!$E$53:$E$199))+1, \"\"), ROW(A69))),\"\")","v":"V12"},{"$f":"IFERROR(INDEX(Subtotals!$I$53:$I$199, SMALL(IF(Subtotals!$C$50=Subtotals!$E$53:$E$199, ROW(Subtotals!$E$53:$E$199)-MIN(ROW(Subtotals!$E$53:$E$199))+1, \"\"), ROW(A69))),\"\")","v":"C089"}]
["C/6","Calculated total of Educational Environment D2 in Category Set C (I60)  ≠  Subtotal 6 (G44)",null,null,null,null,null,null,null,null,null,null,"V12",0,"V12","MC",null,null,{"$f":"IFERROR(INDEX(Subtotals!$A$53:$A$199, SMALL(IF(Subtotals!$C$50=Subtotals!$E$53:$E$199, ROW(Subtotals!$E$53:$E$199)-MIN(ROW(Subtotals!$E$53:$E$199))+1, \"\"), ROW(A70))),\"\")","v":"D/6"},{"$f":"IFERROR(INDEX(Subtotals!$B$53:$B$199, SMALL(IF(Subtotals!$C$50=Subtotals!$E$53:$E$199, ROW(Subtotals!$E$53:$E$199)-MIN(ROW(Subtotals!$E$53:$E$199))+1, \"\"), ROW(A70))),\"\")","v":0},{"$f":"IFERROR(INDEX(Subtotals!$F$53:$F$199, SMALL(IF(Subtotals!$C$50=Subtotals!$E$53:$E$199, ROW(Subtotals!$E$53:$E$199)-MIN(ROW(Subtotals!$E$53:$E$199))+1, \"\"), ROW(A70))),\"\")","v":"V12"},{"$f":"IFERROR(INDEX(Subtotals!$G$53:$G$199, SMALL(IF(Subtotals!$C$50=Subtotals!$E$53:$E$199, ROW(Subtotals!$E$53:$E$199)-MIN(ROW(Subtotals!$E$53:$E$199))+1, \"\"), ROW(A70))),\"\")","v":"C089"},{"$f":"IFERROR(INDEX(Subtotals!$J$53:$J$199, SMALL(IF(Subtotals!$C$50=Subtotals!$E$53:$E$199, ROW(Subtotals!$E$53:$E$199)-MIN(ROW(Subtotals!$E$53:$E$199))+1, \"\"), ROW(A70))),\"\")","v":"Calculated total of Educational Environment B1 in Category Set D (U54)  ≠  Subtotal 6 (G38)"},null,{"$f":"IFERROR(INDEX(Subtotals!$C$53:$C$199, SMALL(IF(Subtotals!$C$50=Subtotals!$E$53:$E$199, ROW(Subtotals!$E$53:$E$199)-MIN(ROW(Subtotals!$E$53:$E$199))+1, \"\"), ROW(A70))),\"\")","v":"MC"},{"$f":"IFERROR(INDEX(Subtotals!$H$53:$H$199, SMALL(IF(Subtotals!$C$50=Subtotals!$E$53:$E$199, ROW(Subtotals!$E$53:$E$199)-MIN(ROW(Subtotals!$E$53:$E$199))+1, \"\"), ROW(A70))),\"\")","v":"V12"},{"$f":"IFERROR(INDEX(Subtotals!$I$53:$I$199, SMALL(IF(Subtotals!$C$50=Subtotals!$E$53:$E$199, ROW(Subtotals!$E$53:$E$199)-MIN(ROW(Subtotals!$E$53:$E$199))+1, \"\"), ROW(A70))),\"\")","v":"C089"}]
["D/6","Calculated total of Educational Environment A1 in Category Set D (U52)  ≠  Subtotal 6 (G36)",null,null,null,null,null,null,null,null,null,null,"V12",0,"V12","MC",null,null,{"$f":"IFERROR(INDEX(Subtotals!$A$53:$A$199, SMALL(IF(Subtotals!$C$50=Subtotals!$E$53:$E$199, ROW(Subtotals!$E$53:$E$199)-MIN(ROW(Subtotals!$E$53:$E$199))+1, \"\"), ROW(A71))),\"\")","v":"D/6"},{"$f":"IFERROR(INDEX(Subtotals!$B$53:$B$199, SMALL(IF(Subtotals!$C$50=Subtotals!$E$53:$E$199, ROW(Subtotals!$E$53:$E$199)-MIN(ROW(Subtotals!$E$53:$E$199))+1, \"\"), ROW(A71))),\"\")","v":0},{"$f":"IFERROR(INDEX(Subtotals!$F$53:$F$199, SMALL(IF(Subtotals!$C$50=Subtotals!$E$53:$E$199, ROW(Subtotals!$E$53:$E$199)-MIN(ROW(Subtotals!$E$53:$E$199))+1, \"\"), ROW(A71))),\"\")","v":"V12"},{"$f":"IFERROR(INDEX(Subtotals!$G$53:$G$199, SMALL(IF(Subtotals!$C$50=Subtotals!$E$53:$E$199, ROW(Subtotals!$E$53:$E$199)-MIN(ROW(Subtotals!$E$53:$E$199))+1, \"\"), ROW(A71))),\"\")","v":"C089"},{"$f":"IFERROR(INDEX(Subtotals!$J$53:$J$199, SMALL(IF(Subtotals!$C$50=Subtotals!$E$53:$E$199, ROW(Subtotals!$E$53:$E$199)-MIN(ROW(Subtotals!$E$53:$E$199))+1, \"\"), ROW(A71))),\"\")","v":"Calculated total of Educational Environment B2 in Category Set D (U55)  ≠  Subtotal 6 (G39)"},null,{"$f":"IFERROR(INDEX(Subtotals!$C$53:$C$199, SMALL(IF(Subtotals!$C$50=Subtotals!$E$53:$E$199, ROW(Subtotals!$E$53:$E$199)-MIN(ROW(Subtotals!$E$53:$E$199))+1, \"\"), ROW(A71))),\"\")","v":"MC"},{"$f":"IFERROR(INDEX(Subtotals!$H$53:$H$199, SMALL(IF(Subtotals!$C$50=Subtotals!$E$53:$E$199, ROW(Subtotals!$E$53:$E$199)-MIN(ROW(Subtotals!$E$53:$E$199))+1, \"\"), ROW(A71))),\"\")","v":"V12"},{"$f":"IFERROR(INDEX(Subtotals!$I$53:$I$199, SMALL(IF(Subtotals!$C$50=Subtotals!$E$53:$E$199, ROW(Subtotals!$E$53:$E$199)-MIN(ROW(Subtotals!$E$53:$E$199))+1, \"\"), ROW(A71))),\"\")","v":"C089"}]
["D/6","Calculated total of Educational Environment A2 in Category Set D (U53)  ≠  Subtotal 6 (G37)",null,null,null,null,null,null,null,null,null,null,"V12",0,"V12","MC",null,null,{"$f":"IFERROR(INDEX(Subtotals!$A$53:$A$199, SMALL(IF(Subtotals!$C$50=Subtotals!$E$53:$E$199, ROW(Subtotals!$E$53:$E$199)-MIN(ROW(Subtotals!$E$53:$E$199))+1, \"\"), ROW(A72))),\"\")","v":"D/6"},{"$f":"IFERROR(INDEX(Subtotals!$B$53:$B$199, SMALL(IF(Subtotals!$C$50=Subtotals!$E$53:$E$199, ROW(Subtotals!$E$53:$E$199)-MIN(ROW(Subtotals!$E$53:$E$199))+1, \"\"), ROW(A72))),\"\")","v":0},{"$f":"IFERROR(INDEX(Subtotals!$F$53:$F$199, SMALL(IF(Subtotals!$C$50=Subtotals!$E$53:$E$199, ROW(Subtotals!$E$53:$E$199)-MIN(ROW(Subtotals!$E$53:$E$199))+1, \"\"), ROW(A72))),\"\")","v":"V12"},{"$f":"IFERROR(INDEX(Subtotals!$G$53:$G$199, SMALL(IF(Subtotals!$C$50=Subtotals!$E$53:$E$199, ROW(Subtotals!$E$53:$E$199)-MIN(ROW(Subtotals!$E$53:$E$199))+1, \"\"), ROW(A72))),\"\")","v":"C089"},{"$f":"IFERROR(INDEX(Subtotals!$J$53:$J$199, SMALL(IF(Subtotals!$C$50=Subtotals!$E$53:$E$199, ROW(Subtotals!$E$53:$E$199)-MIN(ROW(Subtotals!$E$53:$E$199))+1, \"\"), ROW(A72))),\"\")","v":"Calculated total of Educational Environment C1 in Category Set D (U56)  ≠  Subtotal 6 (G40)"},null,{"$f":"IFERROR(INDEX(Subtotals!$C$53:$C$199, SMALL(IF(Subtotals!$C$50=Subtotals!$E$53:$E$199, ROW(Subtotals!$E$53:$E$199)-MIN(ROW(Subtotals!$E$53:$E$199))+1, \"\"), ROW(A72))),\"\")","v":"MC"},{"$f":"IFERROR(INDEX(Subtotals!$H$53:$H$199, SMALL(IF(Subtotals!$C$50=Subtotals!$E$53:$E$199, ROW(Subtotals!$E$53:$E$199)-MIN(ROW(Subtotals!$E$53:$E$199))+1, \"\"), ROW(A72))),\"\")","v":"V12"},{"$f":"IFERROR(INDEX(Subtotals!$I$53:$I$199, SMALL(IF(Subtotals!$C$50=Subtotals!$E$53:$E$199, ROW(Subtotals!$E$53:$E$199)-MIN(ROW(Subtotals!$E$53:$E$199))+1, \"\"), ROW(A72))),\"\")","v":"C089"}]
["D/6","Calculated total of Educational Environment B1 in Category Set D (U54)  ≠  Subtotal 6 (G38)",null,null,null,null,null,null,null,null,null,null,"V12",0,"V12","MC",null,null,{"$f":"IFERROR(INDEX(Subtotals!$A$53:$A$199, SMALL(IF(Subtotals!$C$50=Subtotals!$E$53:$E$199, ROW(Subtotals!$E$53:$E$199)-MIN(ROW(Subtotals!$E$53:$E$199))+1, \"\"), ROW(A73))),\"\")","v":"D/6"},{"$f":"IFERROR(INDEX(Subtotals!$B$53:$B$199, SMALL(IF(Subtotals!$C$50=Subtotals!$E$53:$E$199, ROW(Subtotals!$E$53:$E$199)-MIN(ROW(Subtotals!$E$53:$E$199))+1, \"\"), ROW(A73))),\"\")","v":0},{"$f":"IFERROR(INDEX(Subtotals!$F$53:$F$199, SMALL(IF(Subtotals!$C$50=Subtotals!$E$53:$E$199, ROW(Subtotals!$E$53:$E$199)-MIN(ROW(Subtotals!$E$53:$E$199))+1, \"\"), ROW(A73))),\"\")","v":"V12"},{"$f":"IFERROR(INDEX(Subtotals!$G$53:$G$199, SMALL(IF(Subtotals!$C$50=Subtotals!$E$53:$E$199, ROW(Subtotals!$E$53:$E$199)-MIN(ROW(Subtotals!$E$53:$E$199))+1, \"\"), ROW(A73))),\"\")","v":"C089"},{"$f":"IFERROR(INDEX(Subtotals!$J$53:$J$199, SMALL(IF(Subtotals!$C$50=Subtotals!$E$53:$E$199, ROW(Subtotals!$E$53:$E$199)-MIN(ROW(Subtotals!$E$53:$E$199))+1, \"\"), ROW(A73))),\"\")","v":"Calculated total of Educational Environment C2 in Category Set D (U57)  ≠  Subtotal 6 (G41)"},null,{"$f":"IFERROR(INDEX(Subtotals!$C$53:$C$199, SMALL(IF(Subtotals!$C$50=Subtotals!$E$53:$E$199, ROW(Subtotals!$E$53:$E$199)-MIN(ROW(Subtotals!$E$53:$E$199))+1, \"\"), ROW(A73))),\"\")","v":"MC"},{"$f":"IFERROR(INDEX(Subtotals!$H$53:$H$199, SMALL(IF(Subtotals!$C$50=Subtotals!$E$53:$E$199, ROW(Subtotals!$E$53:$E$199)-MIN(ROW(Subtotals!$E$53:$E$199))+1, \"\"), ROW(A73))),\"\")","v":"V12"},{"$f":"IFERROR(INDEX(Subtotals!$I$53:$I$199, SMALL(IF(Subtotals!$C$50=Subtotals!$E$53:$E$199, ROW(Subtotals!$E$53:$E$199)-MIN(ROW(Subtotals!$E$53:$E$199))+1, \"\"), ROW(A73))),\"\")","v":"C089"}]
["D/6","Calculated total of Educational Environment B2 in Category Set D (U55)  ≠  Subtotal 6 (G39)",null,null,null,null,null,null,null,null,null,null,"V12",0,"V12","MC",null,null,{"$f":"IFERROR(INDEX(Subtotals!$A$53:$A$199, SMALL(IF(Subtotals!$C$50=Subtotals!$E$53:$E$199, ROW(Subtotals!$E$53:$E$199)-MIN(ROW(Subtotals!$E$53:$E$199))+1, \"\"), ROW(A74))),\"\")","v":"D/6"},{"$f":"IFERROR(INDEX(Subtotals!$B$53:$B$199, SMALL(IF(Subtotals!$C$50=Subtotals!$E$53:$E$199, ROW(Subtotals!$E$53:$E$199)-MIN(ROW(Subtotals!$E$53:$E$199))+1, \"\"), ROW(A74))),\"\")","v":0},{"$f":"IFERROR(INDEX(Subtotals!$F$53:$F$199, SMALL(IF(Subtotals!$C$50=Subtotals!$E$53:$E$199, ROW(Subtotals!$E$53:$E$199)-MIN(ROW(Subtotals!$E$53:$E$199))+1, \"\"), ROW(A74))),\"\")","v":"V12"},{"$f":"IFERROR(INDEX(Subtotals!$G$53:$G$199, SMALL(IF(Subtotals!$C$50=Subtotals!$E$53:$E$199, ROW(Subtotals!$E$53:$E$199)-MIN(ROW(Subtotals!$E$53:$E$199))+1, \"\"), ROW(A74))),\"\")","v":"C089"},{"$f":"IFERROR(INDEX(Subtotals!$J$53:$J$199, SMALL(IF(Subtotals!$C$50=Subtotals!$E$53:$E$199, ROW(Subtotals!$E$53:$E$199)-MIN(ROW(Subtotals!$E$53:$E$199))+1, \"\"), ROW(A74))),\"\")","v":"Calculated total of Educational Environment C3 in Category Set D (U58)  ≠  Subtotal 6 (G42)"},null,{"$f":"IFERROR(INDEX(Subtotals!$C$53:$C$199, SMALL(IF(Subtotals!$C$50=Subtotals!$E$53:$E$199, ROW(Subtotals!$E$53:$E$199)-MIN(ROW(Subtotals!$E$53:$E$199))+1, \"\"), ROW(A74))),\"\")","v":"MC"},{"$f":"IFERROR(INDEX(Subtotals!$H$53:$H$199, SMALL(IF(Subtotals!$C$50=Subtotals!$E$53:$E$199, ROW(Subtotals!$E$53:$E$199)-MIN(ROW(Subtotals!$E$53:$E$199))+1, \"\"), ROW(A74))),\"\")","v":"V12"},{"$f":"IFERROR(INDEX(Subtotals!$I$53:$I$199, SMALL(IF(Subtotals!$C$50=Subtotals!$E$53:$E$199, ROW(Subtotals!$E$53:$E$199)-MIN(ROW(Subtotals!$E$53:$E$199))+1, \"\"), ROW(A74))),\"\")","v":"C089"}]
["D/6","Calculated total of Educational Environment C1 in Category Set D (U56)  ≠  Subtotal 6 (G40)",null,null,null,null,null,null,null,null,null,null,"V12",0,"V12","MC",null,null,{"$f":"IFERROR(INDEX(Subtotals!$A$53:$A$199, SMALL(IF(Subtotals!$C$50=Subtotals!$E$53:$E$199, ROW(Subtotals!$E$53:$E$199)-MIN(ROW(Subtotals!$E$53:$E$199))+1, \"\"), ROW(A75))),\"\")","v":"D/6"},{"$f":"IFERROR(INDEX(Subtotals!$B$53:$B$199, SMALL(IF(Subtotals!$C$50=Subtotals!$E$53:$E$199, ROW(Subtotals!$E$53:$E$199)-MIN(ROW(Subtotals!$E$53:$E$199))+1, \"\"), ROW(A75))),\"\")","v":0},{"$f":"IFERROR(INDEX(Subtotals!$F$53:$F$199, SMALL(IF(Subtotals!$C$50=Subtotals!$E$53:$E$199, ROW(Subtotals!$E$53:$E$199)-MIN(ROW(Subtotals!$E$53:$E$199))+1, \"\"), ROW(A75))),\"\")","v":"V12"},{"$f":"IFERROR(INDEX(Subtotals!$G$53:$G$199, SMALL(IF(Subtotals!$C$50=Subtotals!$E$53:$E$199, ROW(Subtotals!$E$53:$E$199)-MIN(ROW(Subtotals!$E$53:$E$199))+1, \"\"), ROW(A75))),\"\")","v":"C089"},{"$f":"IFERROR(INDEX(Subtotals!$J$53:$J$199, SMALL(IF(Subtotals!$C$50=Subtotals!$E$53:$E$199, ROW(Subtotals!$E$53:$E$199)-MIN(ROW(Subtotals!$E$53:$E$199))+1, \"\"), ROW(A75))),\"\")","v":"Calculated total of Educational Environment D1 in Category Set D (U59)  ≠  Subtotal 6 (G43)"},null,{"$f":"IFERROR(INDEX(Subtotals!$C$53:$C$199, SMALL(IF(Subtotals!$C$50=Subtotals!$E$53:$E$199, ROW(Subtotals!$E$53:$E$199)-MIN(ROW(Subtotals!$E$53:$E$199))+1, \"\"), ROW(A75))),\"\")","v":"MC"},{"$f":"IFERROR(INDEX(Subtotals!$H$53:$H$199, SMALL(IF(Subtotals!$C$50=Subtotals!$E$53:$E$199, ROW(Subtotals!$E$53:$E$199)-MIN(ROW(Subtotals!$E$53:$E$199))+1, \"\"), ROW(A75))),\"\")","v":"V12"},{"$f":"IFERROR(INDEX(Subtotals!$I$53:$I$199, SMALL(IF(Subtotals!$C$50=Subtotals!$E$53:$E$199, ROW(Subtotals!$E$53:$E$199)-MIN(ROW(Subtotals!$E$53:$E$199))+1, \"\"), ROW(A75))),\"\")","v":"C089"}]
["D/6","Calculated total of Educational Environment C2 in Category Set D (U57)  ≠  Subtotal 6 (G41)",null,null,null,null,null,null,null,null,null,null,"V12",0,"V12","MC",null,null,{"$f":"IFERROR(INDEX(Subtotals!$A$53:$A$199, SMALL(IF(Subtotals!$C$50=Subtotals!$E$53:$E$199, ROW(Subtotals!$E$53:$E$199)-MIN(ROW(Subtotals!$E$53:$E$199))+1, \"\"), ROW(A76))),\"\")","v":"D/6"},{"$f":"IFERROR(INDEX(Subtotals!$B$53:$B$199, SMALL(IF(Subtotals!$C$50=Subtotals!$E$53:$E$199, ROW(Subtotals!$E$53:$E$199)-MIN(ROW(Subtotals!$E$53:$E$199))+1, \"\"), ROW(A76))),\"\")","v":0},{"$f":"IFERROR(INDEX(Subtotals!$F$53:$F$199, SMALL(IF(Subtotals!$C$50=Subtotals!$E$53:$E$199, ROW(Subtotals!$E$53:$E$199)-MIN(ROW(Subtotals!$E$53:$E$199))+1, \"\"), ROW(A76))),\"\")","v":"V12"},{"$f":"IFERROR(INDEX(Subtotals!$G$53:$G$199, SMALL(IF(Subtotals!$C$50=Subtotals!$E$53:$E$199, ROW(Subtotals!$E$53:$E$199)-MIN(ROW(Subtotals!$E$53:$E$199))+1, \"\"), ROW(A76))),\"\")","v":"C089"},{"$f":"IFERROR(INDEX(Subtotals!$J$53:$J$199, SMALL(IF(Subtotals!$C$50=Subtotals!$E$53:$E$199, ROW(Subtotals!$E$53:$E$199)-MIN(ROW(Subtotals!$E$53:$E$199))+1, \"\"), ROW(A76))),\"\")","v":"Calculated total of Educational Environment D2 in Category Set D (U60)  ≠  Subtotal 6 (G44)"},null,{"$f":"IFERROR(INDEX(Subtotals!$C$53:$C$199, SMALL(IF(Subtotals!$C$50=Subtotals!$E$53:$E$199, ROW(Subtotals!$E$53:$E$199)-MIN(ROW(Subtotals!$E$53:$E$199))+1, \"\"), ROW(A76))),\"\")","v":"MC"},{"$f":"IFERROR(INDEX(Subtotals!$H$53:$H$199, SMALL(IF(Subtotals!$C$50=Subtotals!$E$53:$E$199, ROW(Subtotals!$E$53:$E$199)-MIN(ROW(Subtotals!$E$53:$E$199))+1, \"\"), ROW(A76))),\"\")","v":"V12"},{"$f":"IFERROR(INDEX(Subtotals!$I$53:$I$199, SMALL(IF(Subtotals!$C$50=Subtotals!$E$53:$E$199, ROW(Subtotals!$E$53:$E$199)-MIN(ROW(Subtotals!$E$53:$E$199))+1, \"\"), ROW(A76))),\"\")","v":"C089"}]
["D/6","Calculated total of Educational Environment C3 in Category Set D (U58)  ≠  Subtotal 6 (G42)",null,null,null,null,null,null,null,null,null,null,"V12",0,"V12","MC",null,null,{"$f":"IFERROR(INDEX(Subtotals!$A$53:$A$199, SMALL(IF(Subtotals!$C$50=Subtotals!$E$53:$E$199, ROW(Subtotals!$E$53:$E$199)-MIN(ROW(Subtotals!$E$53:$E$199))+1, \"\"), ROW(A77))),\"\")","v":"A"},{"$f":"IFERROR(INDEX(Subtotals!$B$53:$B$199, SMALL(IF(Subtotals!$C$50=Subtotals!$E$53:$E$199, ROW(Subtotals!$E$53:$E$199)-MIN(ROW(Subtotals!$E$53:$E$199))+1, \"\"), ROW(A77))),\"\")","v":0},{"$f":"IFERROR(INDEX(Subtotals!$F$53:$F$199, SMALL(IF(Subtotals!$C$50=Subtotals!$E$53:$E$199, ROW(Subtotals!$E$53:$E$199)-MIN(ROW(Subtotals!$E$53:$E$199))+1, \"\"), ROW(A77))),\"\")","v":"V12"},{"$f":"IFERROR(INDEX(Subtotals!$G$53:$G$199, SMALL(IF(Subtotals!$C$50=Subtotals!$E$53:$E$199, ROW(Subtotals!$E$53:$E$199)-MIN(ROW(Subtotals!$E$53:$E$199))+1, \"\"), ROW(A77))),\"\")","v":"C089"},{"$f":"IFERROR(INDEX(Subtotals!$J$53:$J$199, SMALL(IF(Subtotals!$C$50=Subtotals!$E$53:$E$199, ROW(Subtotals!$E$53:$E$199)-MIN(ROW(Subtotals!$E$53:$E$199))+1, \"\"), ROW(A77))),\"\")","v":"Calculated grand total of Category Set A (AL29) ≠ The total education unit (Q10)"},null,{"$f":"IFERROR(INDEX(Subtotals!$C$53:$C$199, SMALL(IF(Subtotals!$C$50=Subtotals!$E$53:$E$199, ROW(Subtotals!$E$53:$E$199)-MIN(ROW(Subtotals!$E$53:$E$199))+1, \"\"), ROW(A77))),\"\")","v":"MC"},{"$f":"IFERROR(INDEX(Subtotals!$H$53:$H$199, SMALL(IF(Subtotals!$C$50=Subtotals!$E$53:$E$199, ROW(Subtotals!$E$53:$E$199)-MIN(ROW(Subtotals!$E$53:$E$199))+1, \"\"), ROW(A77))),\"\")","v":"V12"},{"$f":"IFERROR(INDEX(Subtotals!$I$53:$I$199, SMALL(IF(Subtotals!$C$50=Subtotals!$E$53:$E$199, ROW(Subtotals!$E$53:$E$199)-MIN(ROW(Subtotals!$E$53:$E$199))+1, \"\"), ROW(A77))),\"\")","v":"Category Sets A-D"}]
["D/6","Calculated total of Educational Environment D1 in Category Set D (U59)  ≠  Subtotal 6 (G43)",null,null,null,null,null,null,null,null,null,null,"V12",0,"V12","MC",null,null,{"$f":"IFERROR(INDEX(Subtotals!$A$53:$A$199, SMALL(IF(Subtotals!$C$50=Subtotals!$E$53:$E$199, ROW(Subtotals!$E$53:$E$199)-MIN(ROW(Subtotals!$E$53:$E$199))+1, \"\"), ROW(A78))),\"\")","v":"B"},{"$f":"IFERROR(INDEX(Subtotals!$B$53:$B$199, SMALL(IF(Subtotals!$C$50=Subtotals!$E$53:$E$199, ROW(Subtotals!$E$53:$E$199)-MIN(ROW(Subtotals!$E$53:$E$199))+1, \"\"), ROW(A78))),\"\")","v":0},{"$f":"IFERROR(INDEX(Subtotals!$F$53:$F$199, SMALL(IF(Subtotals!$C$50=Subtotals!$E$53:$E$199, ROW(Subtotals!$E$53:$E$199)-MIN(ROW(Subtotals!$E$53:$E$199))+1, \"\"), ROW(A78))),\"\")","v":"V12"},{"$f":"IFERROR(INDEX(Subtotals!$G$53:$G$199, SMALL(IF(Subtotals!$C$50=Subtotals!$E$53:$E$199, ROW(Subtotals!$E$53:$E$199)-MIN(ROW(Subtotals!$E$53:$E$199))+1, \"\"), ROW(A78))),\"\")","v":"C089"},{"$f":"IFERROR(INDEX(Subtotals!$J$53:$J$199, SMALL(IF(Subtotals!$C$50=Subtotals!$E$53:$E$199, ROW(Subtotals!$E$53:$E$199)-MIN(ROW(Subtotals!$E$53:$E$199))+1, \"\"), ROW(A78))),\"\")","v":"Calculated grand total of Category Set B (BV48) ≠ The total education unit (Q10)"},null,{"$f":"IFERROR(INDEX(Subtotals!$C$53:$C$199, SMALL(IF(Subtotals!$C$50=Subtotals!$E$53:$E$199, ROW(Subtotals!$E$53:$E$199)-MIN(ROW(Subtotals!$E$53:$E$199))+1, \"\"), ROW(A78))),\"\")","v":"MC"},{"$f":"IFERROR(INDEX(Subtotals!$H$53:$H$199, SMALL(IF(Subtotals!$C$50=Subtotals!$E$53:$E$199, ROW(Subtotals!$E$53:$E$199)-MIN(ROW(Subtotals!$E$53:$E$199))+1, \"\"), ROW(A78))),\"\")","v":"V12"},{"$f":"IFERROR(INDEX(Subtotals!$I$53:$I$199, SMALL(IF(Subtotals!$C$50=Subtotals!$E$53:$E$199, ROW(Subtotals!$E$53:$E$199)-MIN(ROW(Subtotals!$E$53:$E$199))+1, \"\"), ROW(A78))),\"\")","v":"Category Sets A-D"}]
["D/6","Calculated total of Educational Environment D2 in Category Set D (U60)  ≠  Subtotal 6 (G44)",null,null,null,null,null,null,null,null,null,null,"V12",0,"V12","MC",null,null,{"$f":"IFERROR(INDEX(Subtotals!$A$53:$A$199, SMALL(IF(Subtotals!$C$50=Subtotals!$E$53:$E$199, ROW(Subtotals!$E$53:$E$199)-MIN(ROW(Subtotals!$E$53:$E$199))+1, \"\"), ROW(A79))),\"\")","v":"C"},{"$f":"IFERROR(INDEX(Subtotals!$B$53:$B$199, SMALL(IF(Subtotals!$C$50=Subtotals!$E$53:$E$199, ROW(Subtotals!$E$53:$E$199)-MIN(ROW(Subtotals!$E$53:$E$199))+1, \"\"), ROW(A79))),\"\")","v":0},{"$f":"IFERROR(INDEX(Subtotals!$F$53:$F$199, SMALL(IF(Subtotals!$C$50=Subtotals!$E$53:$E$199, ROW(Subtotals!$E$53:$E$199)-MIN(ROW(Subtotals!$E$53:$E$199))+1, \"\"), ROW(A79))),\"\")","v":"V12"},{"$f":"IFERROR(INDEX(Subtotals!$G$53:$G$199, SMALL(IF(Subtotals!$C$50=Subtotals!$E$53:$E$199, ROW(Subtotals!$E$53:$E$199)-MIN(ROW(Subtotals!$E$53:$E$199))+1, \"\"), ROW(A79))),\"\")","v":"C089"},{"$f":"IFERROR(INDEX(Subtotals!$J$53:$J$199, SMALL(IF(Subtotals!$C$50=Subtotals!$E$53:$E$199, ROW(Subtotals!$E$53:$E$199)-MIN(ROW(Subtotals!$E$53:$E$199))+1, \"\"), ROW(A79))),\"\")","v":"Calculated total of Category Set C (I61) ≠ The total education unit (Q10)"},null,{"$f":"IFERROR(INDEX(Subtotals!$C$53:$C$199, SMALL(IF(Subtotals!$C$50=Subtotals!$E$53:$E$199, ROW(Subtotals!$E$53:$E$199)-MIN(ROW(Subtotals!$E$53:$E$199))+1, \"\"), ROW(A79))),\"\")","v":"MC"},{"$f":"IFERROR(INDEX(Subtotals!$H$53:$H$199, SMALL(IF(Subtotals!$C$50=Subtotals!$E$53:$E$199, ROW(Subtotals!$E$53:$E$199)-MIN(ROW(Subtotals!$E$53:$E$199))+1, \"\"), ROW(A79))),\"\")","v":"V12"},{"$f":"IFERROR(INDEX(Subtotals!$I$53:$I$199, SMALL(IF(Subtotals!$C$50=Subtotals!$E$53:$E$199, ROW(Subtotals!$E$53:$E$199)-MIN(ROW(Subtotals!$E$53:$E$199))+1, \"\"), ROW(A79))),\"\")","v":"Category Sets A-D"}]
["A","Calculated grand total of Category Set A (AL29) ≠ The total education unit (Q10)",null,null,null,null,null,null,null,null,null,null,"V12",0,"V12","MC",null,null,{"$f":"IFERROR(INDEX(Subtotals!$A$53:$A$199, SMALL(IF(Subtotals!$C$50=Subtotals!$E$53:$E$199, ROW(Subtotals!$E$53:$E$199)-MIN(ROW(Subtotals!$E$53:$E$199))+1, \"\"), ROW(A80))),\"\")","v":"D"},{"$f":"IFERROR(INDEX(Subtotals!$B$53:$B$199, SMALL(IF(Subtotals!$C$50=Subtotals!$E$53:$E$199, ROW(Subtotals!$E$53:$E$199)-MIN(ROW(Subtotals!$E$53:$E$199))+1, \"\"), ROW(A80))),\"\")","v":0},{"$f":"IFERROR(INDEX(Subtotals!$F$53:$F$199, SMALL(IF(Subtotals!$C$50=Subtotals!$E$53:$E$199, ROW(Subtotals!$E$53:$E$199)-MIN(ROW(Subtotals!$E$53:$E$199))+1, \"\"), ROW(A80))),\"\")","v":"V12"},{"$f":"IFERROR(INDEX(Subtotals!$G$53:$G$199, SMALL(IF(Subtotals!$C$50=Subtotals!$E$53:$E$199, ROW(Subtotals!$E$53:$E$199)-MIN(ROW(Subtotals!$E$53:$E$199))+1, \"\"), ROW(A80))),\"\")","v":"C089"},{"$f":"IFERROR(INDEX(Subtotals!$J$53:$J$199, SMALL(IF(Subtotals!$C$50=Subtotals!$E$53:$E$199, ROW(Subtotals!$E$53:$E$199)-MIN(ROW(Subtotals!$E$53:$E$199))+1, \"\"), ROW(A80))),\"\")","v":"Calculated total of Category Set D (U61) ≠ The total education unit (Q10)"},null,{"$f":"IFERROR(INDEX(Subtotals!$C$53:$C$199, SMALL(IF(Subtotals!$C$50=Subtotals!$E$53:$E$199, ROW(Subtotals!$E$53:$E$199)-MIN(ROW(Subtotals!$E$53:$E$199))+1, \"\"), ROW(A80))),\"\")","v":"MC"},{"$f":"IFERROR(INDEX(Subtotals!$H$53:$H$199, SMALL(IF(Subtotals!$C$50=Subtotals!$E$53:$E$199, ROW(Subtotals!$E$53:$E$199)-MIN(ROW(Subtotals!$E$53:$E$199))+1, \"\"), ROW(A80))),\"\")","v":"V12"},{"$f":"IFERROR(INDEX(Subtotals!$I$53:$I$199, SMALL(IF(Subtotals!$C$50=Subtotals!$E$53:$E$199, ROW(Subtotals!$E$53:$E$199)-MIN(ROW(Subtotals!$E$53:$E$199))+1, \"\"), ROW(A80))),\"\")","v":"Category Sets A-D"}]
["B","Calculated grand total of Category Set B (BV48) ≠ The total education unit (Q10)",null,null,null,null,null,null,null,null,null,null,"V12",0,"V12","MC",null,null,{"$f":"IFERROR(INDEX(Subtotals!$A$53:$A$199, SMALL(IF(Subtotals!$C$50=Subtotals!$E$53:$E$199, ROW(Subtotals!$E$53:$E$199)-MIN(ROW(Subtotals!$E$53:$E$199))+1, \"\"), ROW(A81))),\"\")","v":""},{"$f":"IFERROR(INDEX(Subtotals!$B$53:$B$199, SMALL(IF(Subtotals!$C$50=Subtotals!$E$53:$E$199, ROW(Subtotals!$E$53:$E$199)-MIN(ROW(Subtotals!$E$53:$E$199))+1, \"\"), ROW(A81))),\"\")","v":""},{"$f":"IFERROR(INDEX(Subtotals!$F$53:$F$199, SMALL(IF(Subtotals!$C$50=Subtotals!$E$53:$E$199, ROW(Subtotals!$E$53:$E$199)-MIN(ROW(Subtotals!$E$53:$E$199))+1, \"\"), ROW(A81))),\"\")","v":""},{"$f":"IFERROR(INDEX(Subtotals!$G$53:$G$199, SMALL(IF(Subtotals!$C$50=Subtotals!$E$53:$E$199, ROW(Subtotals!$E$53:$E$199)-MIN(ROW(Subtotals!$E$53:$E$199))+1, \"\"), ROW(A81))),\"\")","v":""},{"$f":"IFERROR(INDEX(Subtotals!$J$53:$J$199, SMALL(IF(Subtotals!$C$50=Subtotals!$E$53:$E$199, ROW(Subtotals!$E$53:$E$199)-MIN(ROW(Subtotals!$E$53:$E$199))+1, \"\"), ROW(A81))),\"\")","v":""},null,{"$f":"IFERROR(INDEX(Subtotals!$C$53:$C$199, SMALL(IF(Subtotals!$C$50=Subtotals!$E$53:$E$199, ROW(Subtotals!$E$53:$E$199)-MIN(ROW(Subtotals!$E$53:$E$199))+1, \"\"), ROW(A81))),\"\")","v":""},{"$f":"IFERROR(INDEX(Subtotals!$H$53:$H$199, SMALL(IF(Subtotals!$C$50=Subtotals!$E$53:$E$199, ROW(Subtotals!$E$53:$E$199)-MIN(ROW(Subtotals!$E$53:$E$199))+1, \"\"), ROW(A81))),\"\")","v":""},{"$f":"IFERROR(INDEX(Subtotals!$I$53:$I$199, SMALL(IF(Subtotals!$C$50=Subtotals!$E$53:$E$199, ROW(Subtotals!$E$53:$E$199)-MIN(ROW(Subtotals!$E$53:$E$199))+1, \"\"), ROW(A81))),\"\")","v":""}]
["C","Calculated total of Category Set C (I61) ≠ The total education unit (Q10)",null,null,null,null,null,null,null,null,null,null,"V12",0,"V12","MC",null,null,{"$f":"IFERROR(INDEX(Subtotals!$A$53:$A$199, SMALL(IF(Subtotals!$C$50=Subtotals!$E$53:$E$199, ROW(Subtotals!$E$53:$E$199)-MIN(ROW(Subtotals!$E$53:$E$199))+1, \"\"), ROW(A82))),\"\")","v":""},{"$f":"IFERROR(INDEX(Subtotals!$B$53:$B$199, SMALL(IF(Subtotals!$C$50=Subtotals!$E$53:$E$199, ROW(Subtotals!$E$53:$E$199)-MIN(ROW(Subtotals!$E$53:$E$199))+1, \"\"), ROW(A82))),\"\")","v":""},{"$f":"IFERROR(INDEX(Subtotals!$F$53:$F$199, SMALL(IF(Subtotals!$C$50=Subtotals!$E$53:$E$199, ROW(Subtotals!$E$53:$E$199)-MIN(ROW(Subtotals!$E$53:$E$199))+1, \"\"), ROW(A82))),\"\")","v":""},{"$f":"IFERROR(INDEX(Subtotals!$G$53:$G$199, SMALL(IF(Subtotals!$C$50=Subtotals!$E$53:$E$199, ROW(Subtotals!$E$53:$E$199)-MIN(ROW(Subtotals!$E$53:$E$199))+1, \"\"), ROW(A82))),\"\")","v":""},{"$f":"IFERROR(INDEX(Subtotals!$J$53:$J$199, SMALL(IF(Subtotals!$C$50=Subtotals!$E$53:$E$199, ROW(Subtotals!$E$53:$E$199)-MIN(ROW(Subtotals!$E$53:$E$199))+1, \"\"), ROW(A82))),\"\")","v":""},null,{"$f":"IFERROR(INDEX(Subtotals!$C$53:$C$199, SMALL(IF(Subtotals!$C$50=Subtotals!$E$53:$E$199, ROW(Subtotals!$E$53:$E$199)-MIN(ROW(Subtotals!$E$53:$E$199))+1, \"\"), ROW(A82))),\"\")","v":""},{"$f":"IFERROR(INDEX(Subtotals!$H$53:$H$199, SMALL(IF(Subtotals!$C$50=Subtotals!$E$53:$E$199, ROW(Subtotals!$E$53:$E$199)-MIN(ROW(Subtotals!$E$53:$E$199))+1, \"\"), ROW(A82))),\"\")","v":""},{"$f":"IFERROR(INDEX(Subtotals!$I$53:$I$199, SMALL(IF(Subtotals!$C$50=Subtotals!$E$53:$E$199, ROW(Subtotals!$E$53:$E$199)-MIN(ROW(Subtotals!$E$53:$E$199))+1, \"\"), ROW(A82))),\"\")","v":""}]
["D","Calculated total of Category Set D (U61) ≠ The total education unit (Q10)",null,null,null,null,null,null,null,null,null,null,"V12",0,"V12","MC",null,null,{"$f":"IFERROR(INDEX(Subtotals!$A$53:$A$199, SMALL(IF(Subtotals!$C$50=Subtotals!$E$53:$E$199, ROW(Subtotals!$E$53:$E$199)-MIN(ROW(Subtotals!$E$53:$E$199))+1, \"\"), ROW(A83))),\"\")","v":""},{"$f":"IFERROR(INDEX(Subtotals!$B$53:$B$199, SMALL(IF(Subtotals!$C$50=Subtotals!$E$53:$E$199, ROW(Subtotals!$E$53:$E$199)-MIN(ROW(Subtotals!$E$53:$E$199))+1, \"\"), ROW(A83))),\"\")","v":""},{"$f":"IFERROR(INDEX(Subtotals!$F$53:$F$199, SMALL(IF(Subtotals!$C$50=Subtotals!$E$53:$E$199, ROW(Subtotals!$E$53:$E$199)-MIN(ROW(Subtotals!$E$53:$E$199))+1, \"\"), ROW(A83))),\"\")","v":""},{"$f":"IFERROR(INDEX(Subtotals!$G$53:$G$199, SMALL(IF(Subtotals!$C$50=Subtotals!$E$53:$E$199, ROW(Subtotals!$E$53:$E$199)-MIN(ROW(Subtotals!$E$53:$E$199))+1, \"\"), ROW(A83))),\"\")","v":""},{"$f":"IFERROR(INDEX(Subtotals!$J$53:$J$199, SMALL(IF(Subtotals!$C$50=Subtotals!$E$53:$E$199, ROW(Subtotals!$E$53:$E$199)-MIN(ROW(Subtotals!$E$53:$E$199))+1, \"\"), ROW(A83))),\"\")","v":""},null,{"$f":"IFERROR(INDEX(Subtotals!$C$53:$C$199, SMALL(IF(Subtotals!$C$50=Subtotals!$E$53:$E$199, ROW(Subtotals!$E$53:$E$199)-MIN(ROW(Subtotals!$E$53:$E$199))+1, \"\"), ROW(A83))),\"\")","v":""},{"$f":"IFERROR(INDEX(Subtotals!$H$53:$H$199, SMALL(IF(Subtotals!$C$50=Subtotals!$E$53:$E$199, ROW(Subtotals!$E$53:$E$199)-MIN(ROW(Subtotals!$E$53:$E$199))+1, \"\"), ROW(A83))),\"\")","v":""},{"$f":"IFERROR(INDEX(Subtotals!$I$53:$I$199, SMALL(IF(Subtotals!$C$50=Subtotals!$E$53:$E$199, ROW(Subtotals!$E$53:$E$199)-MIN(ROW(Subtotals!$E$53:$E$199))+1, \"\"), ROW(A83))),\"\")","v":""}]
["","",null,null,null,null,null,null,null,null,null,null,"","","","",null,null,{"$f":"IFERROR(INDEX(Subtotals!$A$53:$A$199, SMALL(IF(Subtotals!$C$50=Subtotals!$E$53:$E$199, ROW(Subtotals!$E$53:$E$199)-MIN(ROW(Subtotals!$E$53:$E$199))+1, \"\"), ROW(A84))),\"\")","v":""},{"$f":"IFERROR(INDEX(Subtotals!$B$53:$B$199, SMALL(IF(Subtotals!$C$50=Subtotals!$E$53:$E$199, ROW(Subtotals!$E$53:$E$199)-MIN(ROW(Subtotals!$E$53:$E$199))+1, \"\"), ROW(A84))),\"\")","v":""},{"$f":"IFERROR(INDEX(Subtotals!$F$53:$F$199, SMALL(IF(Subtotals!$C$50=Subtotals!$E$53:$E$199, ROW(Subtotals!$E$53:$E$199)-MIN(ROW(Subtotals!$E$53:$E$199))+1, \"\"), ROW(A84))),\"\")","v":""},{"$f":"IFERROR(INDEX(Subtotals!$G$53:$G$199, SMALL(IF(Subtotals!$C$50=Subtotals!$E$53:$E$199, ROW(Subtotals!$E$53:$E$199)-MIN(ROW(Subtotals!$E$53:$E$199))+1, \"\"), ROW(A84))),\"\")","v":""},{"$f":"IFERROR(INDEX(Subtotals!$J$53:$J$199, SMALL(IF(Subtotals!$C$50=Subtotals!$E$53:$E$199, ROW(Subtotals!$E$53:$E$199)-MIN(ROW(Subtotals!$E$53:$E$199))+1, \"\"), ROW(A84))),\"\")","v":""},null,{"$f":"IFERROR(INDEX(Subtotals!$C$53:$C$199, SMALL(IF(Subtotals!$C$50=Subtotals!$E$53:$E$199, ROW(Subtotals!$E$53:$E$199)-MIN(ROW(Subtotals!$E$53:$E$199))+1, \"\"), ROW(A84))),\"\")","v":""},{"$f":"IFERROR(INDEX(Subtotals!$H$53:$H$199, SMALL(IF(Subtotals!$C$50=Subtotals!$E$53:$E$199, ROW(Subtotals!$E$53:$E$199)-MIN(ROW(Subtotals!$E$53:$E$199))+1, \"\"), ROW(A84))),\"\")","v":""},{"$f":"IFERROR(INDEX(Subtotals!$I$53:$I$199, SMALL(IF(Subtotals!$C$50=Subtotals!$E$53:$E$199, ROW(Subtotals!$E$53:$E$199)-MIN(ROW(Subtotals!$E$53:$E$199))+1, \"\"), ROW(A84))),\"\")","v":""}]
["","",null,null,null,null,null,null,null,null,null,null,"","","","",null,null,{"$f":"IFERROR(INDEX(Subtotals!$A$53:$A$199, SMALL(IF(Subtotals!$C$50=Subtotals!$E$53:$E$199, ROW(Subtotals!$E$53:$E$199)-MIN(ROW(Subtotals!$E$53:$E$199))+1, \"\"), ROW(A85))),\"\")","v":""},{"$f":"IFERROR(INDEX(Subtotals!$B$53:$B$199, SMALL(IF(Subtotals!$C$50=Subtotals!$E$53:$E$199, ROW(Subtotals!$E$53:$E$199)-MIN(ROW(Subtotals!$E$53:$E$199))+1, \"\"), ROW(A85))),\"\")","v":""},{"$f":"IFERROR(INDEX(Subtotals!$F$53:$F$199, SMALL(IF(Subtotals!$C$50=Subtotals!$E$53:$E$199, ROW(Subtotals!$E$53:$E$199)-MIN(ROW(Subtotals!$E$53:$E$199))+1, \"\"), ROW(A85))),\"\")","v":""},{"$f":"IFERROR(INDEX(Subtotals!$G$53:$G$199, SMALL(IF(Subtotals!$C$50=Subtotals!$E$53:$E$199, ROW(Subtotals!$E$53:$E$199)-MIN(ROW(Subtotals!$E$53:$E$199))+1, \"\"), ROW(A85))),\"\")","v":""},{"$f":"IFERROR(INDEX(Subtotals!$J$53:$J$199, SMALL(IF(Subtotals!$C$50=Subtotals!$E$53:$E$199, ROW(Subtotals!$E$53:$E$199)-MIN(ROW(Subtotals!$E$53:$E$199))+1, \"\"), ROW(A85))),\"\")","v":""},null,{"$f":"IFERROR(INDEX(Subtotals!$C$53:$C$199, SMALL(IF(Subtotals!$C$50=Subtotals!$E$53:$E$199, ROW(Subtotals!$E$53:$E$199)-MIN(ROW(Subtotals!$E$53:$E$199))+1, \"\"), ROW(A85))),\"\")","v":""},{"$f":"IFERROR(INDEX(Subtotals!$H$53:$H$199, SMALL(IF(Subtotals!$C$50=Subtotals!$E$53:$E$199, ROW(Subtotals!$E$53:$E$199)-MIN(ROW(Subtotals!$E$53:$E$199))+1, \"\"), ROW(A85))),\"\")","v":""},{"$f":"IFERROR(INDEX(Subtotals!$I$53:$I$199, SMALL(IF(Subtotals!$C$50=Subtotals!$E$53:$E$199, ROW(Subtotals!$E$53:$E$199)-MIN(ROW(Subtotals!$E$53:$E$199))+1, \"\"), ROW(A85))),\"\")","v":""}]
["","",null,null,null,null,null,null,null,null,null,null,"","","","",null,null,{"$f":"IFERROR(INDEX(Subtotals!$A$53:$A$199, SMALL(IF(Subtotals!$C$50=Subtotals!$E$53:$E$199, ROW(Subtotals!$E$53:$E$199)-MIN(ROW(Subtotals!$E$53:$E$199))+1, \"\"), ROW(A86))),\"\")","v":""},{"$f":"IFERROR(INDEX(Subtotals!$B$53:$B$199, SMALL(IF(Subtotals!$C$50=Subtotals!$E$53:$E$199, ROW(Subtotals!$E$53:$E$199)-MIN(ROW(Subtotals!$E$53:$E$199))+1, \"\"), ROW(A86))),\"\")","v":""},{"$f":"IFERROR(INDEX(Subtotals!$F$53:$F$199, SMALL(IF(Subtotals!$C$50=Subtotals!$E$53:$E$199, ROW(Subtotals!$E$53:$E$199)-MIN(ROW(Subtotals!$E$53:$E$199))+1, \"\"), ROW(A86))),\"\")","v":""},{"$f":"IFERROR(INDEX(Subtotals!$G$53:$G$199, SMALL(IF(Subtotals!$C$50=Subtotals!$E$53:$E$199, ROW(Subtotals!$E$53:$E$199)-MIN(ROW(Subtotals!$E$53:$E$199))+1, \"\"), ROW(A86))),\"\")","v":""},{"$f":"IFERROR(INDEX(Subtotals!$J$53:$J$199, SMALL(IF(Subtotals!$C$50=Subtotals!$E$53:$E$199, ROW(Subtotals!$E$53:$E$199)-MIN(ROW(Subtotals!$E$53:$E$199))+1, \"\"), ROW(A86))),\"\")","v":""},null,{"$f":"IFERROR(INDEX(Subtotals!$C$53:$C$199, SMALL(IF(Subtotals!$C$50=Subtotals!$E$53:$E$199, ROW(Subtotals!$E$53:$E$199)-MIN(ROW(Subtotals!$E$53:$E$199))+1, \"\"), ROW(A86))),\"\")","v":""},{"$f":"IFERROR(INDEX(Subtotals!$H$53:$H$199, SMALL(IF(Subtotals!$C$50=Subtotals!$E$53:$E$199, ROW(Subtotals!$E$53:$E$199)-MIN(ROW(Subtotals!$E$53:$E$199))+1, \"\"), ROW(A86))),\"\")","v":""},{"$f":"IFERROR(INDEX(Subtotals!$I$53:$I$199, SMALL(IF(Subtotals!$C$50=Subtotals!$E$53:$E$199, ROW(Subtotals!$E$53:$E$199)-MIN(ROW(Subtotals!$E$53:$E$199))+1, \"\"), ROW(A86))),\"\")","v":""}]
["","",null,null,null,null,null,null,null,null,null,null,"","","","",null,null,{"$f":"IFERROR(INDEX(Subtotals!$A$53:$A$199, SMALL(IF(Subtotals!$C$50=Subtotals!$E$53:$E$199, ROW(Subtotals!$E$53:$E$199)-MIN(ROW(Subtotals!$E$53:$E$199))+1, \"\"), ROW(A87))),\"\")","v":""},{"$f":"IFERROR(INDEX(Subtotals!$B$53:$B$199, SMALL(IF(Subtotals!$C$50=Subtotals!$E$53:$E$199, ROW(Subtotals!$E$53:$E$199)-MIN(ROW(Subtotals!$E$53:$E$199))+1, \"\"), ROW(A87))),\"\")","v":""},{"$f":"IFERROR(INDEX(Subtotals!$F$53:$F$199, SMALL(IF(Subtotals!$C$50=Subtotals!$E$53:$E$199, ROW(Subtotals!$E$53:$E$199)-MIN(ROW(Subtotals!$E$53:$E$199))+1, \"\"), ROW(A87))),\"\")","v":""},{"$f":"IFERROR(INDEX(Subtotals!$G$53:$G$199, SMALL(IF(Subtotals!$C$50=Subtotals!$E$53:$E$199, ROW(Subtotals!$E$53:$E$199)-MIN(ROW(Subtotals!$E$53:$E$199))+1, \"\"), ROW(A87))),\"\")","v":""},{"$f":"IFERROR(INDEX(Subtotals!$J$53:$J$199, SMALL(IF(Subtotals!$C$50=Subtotals!$E$53:$E$199, ROW(Subtotals!$E$53:$E$199)-MIN(ROW(Subtotals!$E$53:$E$199))+1, \"\"), ROW(A87))),\"\")","v":""},null,{"$f":"IFERROR(INDEX(Subtotals!$C$53:$C$199, SMALL(IF(Subtotals!$C$50=Subtotals!$E$53:$E$199, ROW(Subtotals!$E$53:$E$199)-MIN(ROW(Subtotals!$E$53:$E$199))+1, \"\"), ROW(A87))),\"\")","v":""},{"$f":"IFERROR(INDEX(Subtotals!$H$53:$H$199, SMALL(IF(Subtotals!$C$50=Subtotals!$E$53:$E$199, ROW(Subtotals!$E$53:$E$199)-MIN(ROW(Subtotals!$E$53:$E$199))+1, \"\"), ROW(A87))),\"\")","v":""},{"$f":"IFERROR(INDEX(Subtotals!$I$53:$I$199, SMALL(IF(Subtotals!$C$50=Subtotals!$E$53:$E$199, ROW(Subtotals!$E$53:$E$199)-MIN(ROW(Subtotals!$E$53:$E$199))+1, \"\"), ROW(A87))),\"\")","v":""}]
["","",null,null,null,null,null,null,null,null,null,null,"","","","",null,null,{"$f":"IFERROR(INDEX(Subtotals!$A$53:$A$199, SMALL(IF(Subtotals!$C$50=Subtotals!$E$53:$E$199, ROW(Subtotals!$E$53:$E$199)-MIN(ROW(Subtotals!$E$53:$E$199))+1, \"\"), ROW(A88))),\"\")","v":""},{"$f":"IFERROR(INDEX(Subtotals!$B$53:$B$199, SMALL(IF(Subtotals!$C$50=Subtotals!$E$53:$E$199, ROW(Subtotals!$E$53:$E$199)-MIN(ROW(Subtotals!$E$53:$E$199))+1, \"\"), ROW(A88))),\"\")","v":""},{"$f":"IFERROR(INDEX(Subtotals!$F$53:$F$199, SMALL(IF(Subtotals!$C$50=Subtotals!$E$53:$E$199, ROW(Subtotals!$E$53:$E$199)-MIN(ROW(Subtotals!$E$53:$E$199))+1, \"\"), ROW(A88))),\"\")","v":""},{"$f":"IFERROR(INDEX(Subtotals!$G$53:$G$199, SMALL(IF(Subtotals!$C$50=Subtotals!$E$53:$E$199, ROW(Subtotals!$E$53:$E$199)-MIN(ROW(Subtotals!$E$53:$E$199))+1, \"\"), ROW(A88))),\"\")","v":""},{"$f":"IFERROR(INDEX(Subtotals!$J$53:$J$199, SMALL(IF(Subtotals!$C$50=Subtotals!$E$53:$E$199, ROW(Subtotals!$E$53:$E$199)-MIN(ROW(Subtotals!$E$53:$E$199))+1, \"\"), ROW(A88))),\"\")","v":""},null,{"$f":"IFERROR(INDEX(Subtotals!$C$53:$C$199, SMALL(IF(Subtotals!$C$50=Subtotals!$E$53:$E$199, ROW(Subtotals!$E$53:$E$199)-MIN(ROW(Subtotals!$E$53:$E$199))+1, \"\"), ROW(A88))),\"\")","v":""},{"$f":"IFERROR(INDEX(Subtotals!$H$53:$H$199, SMALL(IF(Subtotals!$C$50=Subtotals!$E$53:$E$199, ROW(Subtotals!$E$53:$E$199)-MIN(ROW(Subtotals!$E$53:$E$199))+1, \"\"), ROW(A88))),\"\")","v":""},{"$f":"IFERROR(INDEX(Subtotals!$I$53:$I$199, SMALL(IF(Subtotals!$C$50=Subtotals!$E$53:$E$199, ROW(Subtotals!$E$53:$E$199)-MIN(ROW(Subtotals!$E$53:$E$199))+1, \"\"), ROW(A88))),\"\")","v":""}]
["","",null,null,null,null,null,null,null,null,null,null,"","","","",null,null,{"$f":"IFERROR(INDEX(Subtotals!$A$53:$A$199, SMALL(IF(Subtotals!$C$50=Subtotals!$E$53:$E$199, ROW(Subtotals!$E$53:$E$199)-MIN(ROW(Subtotals!$E$53:$E$199))+1, \"\"), ROW(A89))),\"\")","v":""},{"$f":"IFERROR(INDEX(Subtotals!$B$53:$B$199, SMALL(IF(Subtotals!$C$50=Subtotals!$E$53:$E$199, ROW(Subtotals!$E$53:$E$199)-MIN(ROW(Subtotals!$E$53:$E$199))+1, \"\"), ROW(A89))),\"\")","v":""},{"$f":"IFERROR(INDEX(Subtotals!$F$53:$F$199, SMALL(IF(Subtotals!$C$50=Subtotals!$E$53:$E$199, ROW(Subtotals!$E$53:$E$199)-MIN(ROW(Subtotals!$E$53:$E$199))+1, \"\"), ROW(A89))),\"\")","v":""},{"$f":"IFERROR(INDEX(Subtotals!$G$53:$G$199, SMALL(IF(Subtotals!$C$50=Subtotals!$E$53:$E$199, ROW(Subtotals!$E$53:$E$199)-MIN(ROW(Subtotals!$E$53:$E$199))+1, \"\"), ROW(A89))),\"\")","v":""},{"$f":"IFERROR(INDEX(Subtotals!$J$53:$J$199, SMALL(IF(Subtotals!$C$50=Subtotals!$E$53:$E$199, ROW(Subtotals!$E$53:$E$199)-MIN(ROW(Subtotals!$E$53:$E$199))+1, \"\"), ROW(A89))),\"\")","v":""},null,{"$f":"IFERROR(INDEX(Subtotals!$C$53:$C$199, SMALL(IF(Subtotals!$C$50=Subtotals!$E$53:$E$199, ROW(Subtotals!$E$53:$E$199)-MIN(ROW(Subtotals!$E$53:$E$199))+1, \"\"), ROW(A89))),\"\")","v":""},{"$f":"IFERROR(INDEX(Subtotals!$H$53:$H$199, SMALL(IF(Subtotals!$C$50=Subtotals!$E$53:$E$199, ROW(Subtotals!$E$53:$E$199)-MIN(ROW(Subtotals!$E$53:$E$199))+1, \"\"), ROW(A89))),\"\")","v":""},{"$f":"IFERROR(INDEX(Subtotals!$I$53:$I$199, SMALL(IF(Subtotals!$C$50=Subtotals!$E$53:$E$199, ROW(Subtotals!$E$53:$E$199)-MIN(ROW(Subtotals!$E$53:$E$199))+1, \"\"), ROW(A89))),\"\")","v":""}]
["","",null,null,null,null,null,null,null,null,null,null,"","","","",null,null,{"$f":"IFERROR(INDEX(Subtotals!$A$53:$A$199, SMALL(IF(Subtotals!$C$50=Subtotals!$E$53:$E$199, ROW(Subtotals!$E$53:$E$199)-MIN(ROW(Subtotals!$E$53:$E$199))+1, \"\"), ROW(A90))),\"\")","v":""},{"$f":"IFERROR(INDEX(Subtotals!$B$53:$B$199, SMALL(IF(Subtotals!$C$50=Subtotals!$E$53:$E$199, ROW(Subtotals!$E$53:$E$199)-MIN(ROW(Subtotals!$E$53:$E$199))+1, \"\"), ROW(A90))),\"\")","v":""},{"$f":"IFERROR(INDEX(Subtotals!$F$53:$F$199, SMALL(IF(Subtotals!$C$50=Subtotals!$E$53:$E$199, ROW(Subtotals!$E$53:$E$199)-MIN(ROW(Subtotals!$E$53:$E$199))+1, \"\"), ROW(A90))),\"\")","v":""},{"$f":"IFERROR(INDEX(Subtotals!$G$53:$G$199, SMALL(IF(Subtotals!$C$50=Subtotals!$E$53:$E$199, ROW(Subtotals!$E$53:$E$199)-MIN(ROW(Subtotals!$E$53:$E$199))+1, \"\"), ROW(A90))),\"\")","v":""},{"$f":"IFERROR(INDEX(Subtotals!$J$53:$J$199, SMALL(IF(Subtotals!$C$50=Subtotals!$E$53:$E$199, ROW(Subtotals!$E$53:$E$199)-MIN(ROW(Subtotals!$E$53:$E$199))+1, \"\"), ROW(A90))),\"\")","v":""},null,{"$f":"IFERROR(INDEX(Subtotals!$C$53:$C$199, SMALL(IF(Subtotals!$C$50=Subtotals!$E$53:$E$199, ROW(Subtotals!$E$53:$E$199)-MIN(ROW(Subtotals!$E$53:$E$199))+1, \"\"), ROW(A90))),\"\")","v":""},{"$f":"IFERROR(INDEX(Subtotals!$H$53:$H$199, SMALL(IF(Subtotals!$C$50=Subtotals!$E$53:$E$199, ROW(Subtotals!$E$53:$E$199)-MIN(ROW(Subtotals!$E$53:$E$199))+1, \"\"), ROW(A90))),\"\")","v":""},{"$f":"IFERROR(INDEX(Subtotals!$I$53:$I$199, SMALL(IF(Subtotals!$C$50=Subtotals!$E$53:$E$199, ROW(Subtotals!$E$53:$E$199)-MIN(ROW(Subtotals!$E$53:$E$199))+1, \"\"), ROW(A90))),\"\")","v":""}]
["","",null,null,null,null,null,null,null,null,null,null,"","","","",null,null,{"$f":"IFERROR(INDEX(Subtotals!$A$53:$A$199, SMALL(IF(Subtotals!$C$50=Subtotals!$E$53:$E$199, ROW(Subtotals!$E$53:$E$199)-MIN(ROW(Subtotals!$E$53:$E$199))+1, \"\"), ROW(A91))),\"\")","v":""},{"$f":"IFERROR(INDEX(Subtotals!$B$53:$B$199, SMALL(IF(Subtotals!$C$50=Subtotals!$E$53:$E$199, ROW(Subtotals!$E$53:$E$199)-MIN(ROW(Subtotals!$E$53:$E$199))+1, \"\"), ROW(A91))),\"\")","v":""},{"$f":"IFERROR(INDEX(Subtotals!$F$53:$F$199, SMALL(IF(Subtotals!$C$50=Subtotals!$E$53:$E$199, ROW(Subtotals!$E$53:$E$199)-MIN(ROW(Subtotals!$E$53:$E$199))+1, \"\"), ROW(A91))),\"\")","v":""},{"$f":"IFERROR(INDEX(Subtotals!$G$53:$G$199, SMALL(IF(Subtotals!$C$50=Subtotals!$E$53:$E$199, ROW(Subtotals!$E$53:$E$199)-MIN(ROW(Subtotals!$E$53:$E$199))+1, \"\"), ROW(A91))),\"\")","v":""},{"$f":"IFERROR(INDEX(Subtotals!$J$53:$J$199, SMALL(IF(Subtotals!$C$50=Subtotals!$E$53:$E$199, ROW(Subtotals!$E$53:$E$199)-MIN(ROW(Subtotals!$E$53:$E$199))+1, \"\"), ROW(A91))),\"\")","v":""},null,{"$f":"IFERROR(INDEX(Subtotals!$C$53:$C$199, SMALL(IF(Subtotals!$C$50=Subtotals!$E$53:$E$199, ROW(Subtotals!$E$53:$E$199)-MIN(ROW(Subtotals!$E$53:$E$199))+1, \"\"), ROW(A91))),\"\")","v":""},{"$f":"IFERROR(INDEX(Subtotals!$H$53:$H$199, SMALL(IF(Subtotals!$C$50=Subtotals!$E$53:$E$199, ROW(Subtotals!$E$53:$E$199)-MIN(ROW(Subtotals!$E$53:$E$199))+1, \"\"), ROW(A91))),\"\")","v":""},{"$f":"IFERROR(INDEX(Subtotals!$I$53:$I$199, SMALL(IF(Subtotals!$C$50=Subtotals!$E$53:$E$199, ROW(Subtotals!$E$53:$E$199)-MIN(ROW(Subtotals!$E$53:$E$199))+1, \"\"), ROW(A91))),\"\")","v":""}]
["","",null,null,null,null,null,null,null,null,null,null,"","","","",null,null,{"$f":"IFERROR(INDEX(Subtotals!$A$53:$A$199, SMALL(IF(Subtotals!$C$50=Subtotals!$E$53:$E$199, ROW(Subtotals!$E$53:$E$199)-MIN(ROW(Subtotals!$E$53:$E$199))+1, \"\"), ROW(A92))),\"\")","v":""},{"$f":"IFERROR(INDEX(Subtotals!$B$53:$B$199, SMALL(IF(Subtotals!$C$50=Subtotals!$E$53:$E$199, ROW(Subtotals!$E$53:$E$199)-MIN(ROW(Subtotals!$E$53:$E$199))+1, \"\"), ROW(A92))),\"\")","v":""},{"$f":"IFERROR(INDEX(Subtotals!$F$53:$F$199, SMALL(IF(Subtotals!$C$50=Subtotals!$E$53:$E$199, ROW(Subtotals!$E$53:$E$199)-MIN(ROW(Subtotals!$E$53:$E$199))+1, \"\"), ROW(A92))),\"\")","v":""},{"$f":"IFERROR(INDEX(Subtotals!$G$53:$G$199, SMALL(IF(Subtotals!$C$50=Subtotals!$E$53:$E$199, ROW(Subtotals!$E$53:$E$199)-MIN(ROW(Subtotals!$E$53:$E$199))+1, \"\"), ROW(A92))),\"\")","v":""},{"$f":"IFERROR(INDEX(Subtotals!$J$53:$J$199, SMALL(IF(Subtotals!$C$50=Subtotals!$E$53:$E$199, ROW(Subtotals!$E$53:$E$199)-MIN(ROW(Subtotals!$E$53:$E$199))+1, \"\"), ROW(A92))),\"\")","v":""},null,{"$f":"IFERROR(INDEX(Subtotals!$C$53:$C$199, SMALL(IF(Subtotals!$C$50=Subtotals!$E$53:$E$199, ROW(Subtotals!$E$53:$E$199)-MIN(ROW(Subtotals!$E$53:$E$199))+1, \"\"), ROW(A92))),\"\")","v":""},{"$f":"IFERROR(INDEX(Subtotals!$H$53:$H$199, SMALL(IF(Subtotals!$C$50=Subtotals!$E$53:$E$199, ROW(Subtotals!$E$53:$E$199)-MIN(ROW(Subtotals!$E$53:$E$199))+1, \"\"), ROW(A92))),\"\")","v":""},{"$f":"IFERROR(INDEX(Subtotals!$I$53:$I$199, SMALL(IF(Subtotals!$C$50=Subtotals!$E$53:$E$199, ROW(Subtotals!$E$53:$E$199)-MIN(ROW(Subtotals!$E$53:$E$199))+1, \"\"), ROW(A92))),\"\")","v":""}]
["","",null,null,null,null,null,null,null,null,null,null,"","","","",null,null,{"$f":"IFERROR(INDEX(Subtotals!$A$53:$A$199, SMALL(IF(Subtotals!$C$50=Subtotals!$E$53:$E$199, ROW(Subtotals!$E$53:$E$199)-MIN(ROW(Subtotals!$E$53:$E$199))+1, \"\"), ROW(A93))),\"\")","v":""},{"$f":"IFERROR(INDEX(Subtotals!$B$53:$B$199, SMALL(IF(Subtotals!$C$50=Subtotals!$E$53:$E$199, ROW(Subtotals!$E$53:$E$199)-MIN(ROW(Subtotals!$E$53:$E$199))+1, \"\"), ROW(A93))),\"\")","v":""},{"$f":"IFERROR(INDEX(Subtotals!$F$53:$F$199, SMALL(IF(Subtotals!$C$50=Subtotals!$E$53:$E$199, ROW(Subtotals!$E$53:$E$199)-MIN(ROW(Subtotals!$E$53:$E$199))+1, \"\"), ROW(A93))),\"\")","v":""},{"$f":"IFERROR(INDEX(Subtotals!$G$53:$G$199, SMALL(IF(Subtotals!$C$50=Subtotals!$E$53:$E$199, ROW(Subtotals!$E$53:$E$199)-MIN(ROW(Subtotals!$E$53:$E$199))+1, \"\"), ROW(A93))),\"\")","v":""},{"$f":"IFERROR(INDEX(Subtotals!$J$53:$J$199, SMALL(IF(Subtotals!$C$50=Subtotals!$E$53:$E$199, ROW(Subtotals!$E$53:$E$199)-MIN(ROW(Subtotals!$E$53:$E$199))+1, \"\"), ROW(A93))),\"\")","v":""},null,{"$f":"IFERROR(INDEX(Subtotals!$C$53:$C$199, SMALL(IF(Subtotals!$C$50=Subtotals!$E$53:$E$199, ROW(Subtotals!$E$53:$E$199)-MIN(ROW(Subtotals!$E$53:$E$199))+1, \"\"), ROW(A93))),\"\")","v":""},{"$f":"IFERROR(INDEX(Subtotals!$H$53:$H$199, SMALL(IF(Subtotals!$C$50=Subtotals!$E$53:$E$199, ROW(Subtotals!$E$53:$E$199)-MIN(ROW(Subtotals!$E$53:$E$199))+1, \"\"), ROW(A93))),\"\")","v":""},{"$f":"IFERROR(INDEX(Subtotals!$I$53:$I$199, SMALL(IF(Subtotals!$C$50=Subtotals!$E$53:$E$199, ROW(Subtotals!$E$53:$E$199)-MIN(ROW(Subtotals!$E$53:$E$199))+1, \"\"), ROW(A93))),\"\")","v":""}]
["","",null,null,null,null,null,null,null,null,null,null,"","","","",null,null,{"$f":"IFERROR(INDEX(Subtotals!$A$53:$A$199, SMALL(IF(Subtotals!$C$50=Subtotals!$E$53:$E$199, ROW(Subtotals!$E$53:$E$199)-MIN(ROW(Subtotals!$E$53:$E$199))+1, \"\"), ROW(A94))),\"\")","v":""},{"$f":"IFERROR(INDEX(Subtotals!$B$53:$B$199, SMALL(IF(Subtotals!$C$50=Subtotals!$E$53:$E$199, ROW(Subtotals!$E$53:$E$199)-MIN(ROW(Subtotals!$E$53:$E$199))+1, \"\"), ROW(A94))),\"\")","v":""},{"$f":"IFERROR(INDEX(Subtotals!$F$53:$F$199, SMALL(IF(Subtotals!$C$50=Subtotals!$E$53:$E$199, ROW(Subtotals!$E$53:$E$199)-MIN(ROW(Subtotals!$E$53:$E$199))+1, \"\"), ROW(A94))),\"\")","v":""},{"$f":"IFERROR(INDEX(Subtotals!$G$53:$G$199, SMALL(IF(Subtotals!$C$50=Subtotals!$E$53:$E$199, ROW(Subtotals!$E$53:$E$199)-MIN(ROW(Subtotals!$E$53:$E$199))+1, \"\"), ROW(A94))),\"\")","v":""},{"$f":"IFERROR(INDEX(Subtotals!$J$53:$J$199, SMALL(IF(Subtotals!$C$50=Subtotals!$E$53:$E$199, ROW(Subtotals!$E$53:$E$199)-MIN(ROW(Subtotals!$E$53:$E$199))+1, \"\"), ROW(A94))),\"\")","v":""},null,{"$f":"IFERROR(INDEX(Subtotals!$C$53:$C$199, SMALL(IF(Subtotals!$C$50=Subtotals!$E$53:$E$199, ROW(Subtotals!$E$53:$E$199)-MIN(ROW(Subtotals!$E$53:$E$199))+1, \"\"), ROW(A94))),\"\")","v":""},{"$f":"IFERROR(INDEX(Subtotals!$H$53:$H$199, SMALL(IF(Subtotals!$C$50=Subtotals!$E$53:$E$199, ROW(Subtotals!$E$53:$E$199)-MIN(ROW(Subtotals!$E$53:$E$199))+1, \"\"), ROW(A94))),\"\")","v":""},{"$f":"IFERROR(INDEX(Subtotals!$I$53:$I$199, SMALL(IF(Subtotals!$C$50=Subtotals!$E$53:$E$199, ROW(Subtotals!$E$53:$E$199)-MIN(ROW(Subtotals!$E$53:$E$199))+1, \"\"), ROW(A94))),\"\")","v":""}]
["","",null,null,null,null,null,null,null,null,null,null,"","","","",null,null,{"$f":"IFERROR(INDEX(Subtotals!$A$53:$A$199, SMALL(IF(Subtotals!$C$50=Subtotals!$E$53:$E$199, ROW(Subtotals!$E$53:$E$199)-MIN(ROW(Subtotals!$E$53:$E$199))+1, \"\"), ROW(A95))),\"\")","v":""},{"$f":"IFERROR(INDEX(Subtotals!$B$53:$B$199, SMALL(IF(Subtotals!$C$50=Subtotals!$E$53:$E$199, ROW(Subtotals!$E$53:$E$199)-MIN(ROW(Subtotals!$E$53:$E$199))+1, \"\"), ROW(A95))),\"\")","v":""},{"$f":"IFERROR(INDEX(Subtotals!$F$53:$F$199, SMALL(IF(Subtotals!$C$50=Subtotals!$E$53:$E$199, ROW(Subtotals!$E$53:$E$199)-MIN(ROW(Subtotals!$E$53:$E$199))+1, \"\"), ROW(A95))),\"\")","v":""},{"$f":"IFERROR(INDEX(Subtotals!$G$53:$G$199, SMALL(IF(Subtotals!$C$50=Subtotals!$E$53:$E$199, ROW(Subtotals!$E$53:$E$199)-MIN(ROW(Subtotals!$E$53:$E$199))+1, \"\"), ROW(A95))),\"\")","v":""},{"$f":"IFERROR(INDEX(Subtotals!$J$53:$J$199, SMALL(IF(Subtotals!$C$50=Subtotals!$E$53:$E$199, ROW(Subtotals!$E$53:$E$199)-MIN(ROW(Subtotals!$E$53:$E$199))+1, \"\"), ROW(A95))),\"\")","v":""},null,{"$f":"IFERROR(INDEX(Subtotals!$C$53:$C$199, SMALL(IF(Subtotals!$C$50=Subtotals!$E$53:$E$199, ROW(Subtotals!$E$53:$E$199)-MIN(ROW(Subtotals!$E$53:$E$199))+1, \"\"), ROW(A95))),\"\")","v":""},{"$f":"IFERROR(INDEX(Subtotals!$H$53:$H$199, SMALL(IF(Subtotals!$C$50=Subtotals!$E$53:$E$199, ROW(Subtotals!$E$53:$E$199)-MIN(ROW(Subtotals!$E$53:$E$199))+1, \"\"), ROW(A95))),\"\")","v":""},{"$f":"IFERROR(INDEX(Subtotals!$I$53:$I$199, SMALL(IF(Subtotals!$C$50=Subtotals!$E$53:$E$199, ROW(Subtotals!$E$53:$E$199)-MIN(ROW(Subtotals!$E$53:$E$199))+1, \"\"), ROW(A95))),\"\")","v":""}]
["","",null,null,null,null,null,null,null,null,null,null,"","","","",null,null,{"$f":"IFERROR(INDEX(Subtotals!$A$53:$A$199, SMALL(IF(Subtotals!$C$50=Subtotals!$E$53:$E$199, ROW(Subtotals!$E$53:$E$199)-MIN(ROW(Subtotals!$E$53:$E$199))+1, \"\"), ROW(A96))),\"\")","v":""},{"$f":"IFERROR(INDEX(Subtotals!$B$53:$B$199, SMALL(IF(Subtotals!$C$50=Subtotals!$E$53:$E$199, ROW(Subtotals!$E$53:$E$199)-MIN(ROW(Subtotals!$E$53:$E$199))+1, \"\"), ROW(A96))),\"\")","v":""},{"$f":"IFERROR(INDEX(Subtotals!$F$53:$F$199, SMALL(IF(Subtotals!$C$50=Subtotals!$E$53:$E$199, ROW(Subtotals!$E$53:$E$199)-MIN(ROW(Subtotals!$E$53:$E$199))+1, \"\"), ROW(A96))),\"\")","v":""},{"$f":"IFERROR(INDEX(Subtotals!$G$53:$G$199, SMALL(IF(Subtotals!$C$50=Subtotals!$E$53:$E$199, ROW(Subtotals!$E$53:$E$199)-MIN(ROW(Subtotals!$E$53:$E$199))+1, \"\"), ROW(A96))),\"\")","v":""},{"$f":"IFERROR(INDEX(Subtotals!$J$53:$J$199, SMALL(IF(Subtotals!$C$50=Subtotals!$E$53:$E$199, ROW(Subtotals!$E$53:$E$199)-MIN(ROW(Subtotals!$E$53:$E$199))+1, \"\"), ROW(A96))),\"\")","v":""},null,{"$f":"IFERROR(INDEX(Subtotals!$C$53:$C$199, SMALL(IF(Subtotals!$C$50=Subtotals!$E$53:$E$199, ROW(Subtotals!$E$53:$E$199)-MIN(ROW(Subtotals!$E$53:$E$199))+1, \"\"), ROW(A96))),\"\")","v":""},{"$f":"IFERROR(INDEX(Subtotals!$H$53:$H$199, SMALL(IF(Subtotals!$C$50=Subtotals!$E$53:$E$199, ROW(Subtotals!$E$53:$E$199)-MIN(ROW(Subtotals!$E$53:$E$199))+1, \"\"), ROW(A96))),\"\")","v":""},{"$f":"IFERROR(INDEX(Subtotals!$I$53:$I$199, SMALL(IF(Subtotals!$C$50=Subtotals!$E$53:$E$199, ROW(Subtotals!$E$53:$E$199)-MIN(ROW(Subtotals!$E$53:$E$199))+1, \"\"), ROW(A96))),\"\")","v":""}]
["","",null,null,null,null,null,null,null,null,null,null,"","","","",null,null,{"$f":"IFERROR(INDEX(Subtotals!$A$53:$A$199, SMALL(IF(Subtotals!$C$50=Subtotals!$E$53:$E$199, ROW(Subtotals!$E$53:$E$199)-MIN(ROW(Subtotals!$E$53:$E$199))+1, \"\"), ROW(A97))),\"\")","v":""},{"$f":"IFERROR(INDEX(Subtotals!$B$53:$B$199, SMALL(IF(Subtotals!$C$50=Subtotals!$E$53:$E$199, ROW(Subtotals!$E$53:$E$199)-MIN(ROW(Subtotals!$E$53:$E$199))+1, \"\"), ROW(A97))),\"\")","v":""},{"$f":"IFERROR(INDEX(Subtotals!$F$53:$F$199, SMALL(IF(Subtotals!$C$50=Subtotals!$E$53:$E$199, ROW(Subtotals!$E$53:$E$199)-MIN(ROW(Subtotals!$E$53:$E$199))+1, \"\"), ROW(A97))),\"\")","v":""},{"$f":"IFERROR(INDEX(Subtotals!$G$53:$G$199, SMALL(IF(Subtotals!$C$50=Subtotals!$E$53:$E$199, ROW(Subtotals!$E$53:$E$199)-MIN(ROW(Subtotals!$E$53:$E$199))+1, \"\"), ROW(A97))),\"\")","v":""},{"$f":"IFERROR(INDEX(Subtotals!$J$53:$J$199, SMALL(IF(Subtotals!$C$50=Subtotals!$E$53:$E$199, ROW(Subtotals!$E$53:$E$199)-MIN(ROW(Subtotals!$E$53:$E$199))+1, \"\"), ROW(A97))),\"\")","v":""},null,{"$f":"IFERROR(INDEX(Subtotals!$C$53:$C$199, SMALL(IF(Subtotals!$C$50=Subtotals!$E$53:$E$199, ROW(Subtotals!$E$53:$E$199)-MIN(ROW(Subtotals!$E$53:$E$199))+1, \"\"), ROW(A97))),\"\")","v":""},{"$f":"IFERROR(INDEX(Subtotals!$H$53:$H$199, SMALL(IF(Subtotals!$C$50=Subtotals!$E$53:$E$199, ROW(Subtotals!$E$53:$E$199)-MIN(ROW(Subtotals!$E$53:$E$199))+1, \"\"), ROW(A97))),\"\")","v":""},{"$f":"IFERROR(INDEX(Subtotals!$I$53:$I$199, SMALL(IF(Subtotals!$C$50=Subtotals!$E$53:$E$199, ROW(Subtotals!$E$53:$E$199)-MIN(ROW(Subtotals!$E$53:$E$199))+1, \"\"), ROW(A97))),\"\")","v":""}]
["","",null,null,null,null,null,null,null,null,null,null,"","","","",null,null,{"$f":"IFERROR(INDEX(Subtotals!$A$53:$A$199, SMALL(IF(Subtotals!$C$50=Subtotals!$E$53:$E$199, ROW(Subtotals!$E$53:$E$199)-MIN(ROW(Subtotals!$E$53:$E$199))+1, \"\"), ROW(A98))),\"\")","v":""},{"$f":"IFERROR(INDEX(Subtotals!$B$53:$B$199, SMALL(IF(Subtotals!$C$50=Subtotals!$E$53:$E$199, ROW(Subtotals!$E$53:$E$199)-MIN(ROW(Subtotals!$E$53:$E$199))+1, \"\"), ROW(A98))),\"\")","v":""},{"$f":"IFERROR(INDEX(Subtotals!$F$53:$F$199, SMALL(IF(Subtotals!$C$50=Subtotals!$E$53:$E$199, ROW(Subtotals!$E$53:$E$199)-MIN(ROW(Subtotals!$E$53:$E$199))+1, \"\"), ROW(A98))),\"\")","v":""},{"$f":"IFERROR(INDEX(Subtotals!$G$53:$G$199, SMALL(IF(Subtotals!$C$50=Subtotals!$E$53:$E$199, ROW(Subtotals!$E$53:$E$199)-MIN(ROW(Subtotals!$E$53:$E$199))+1, \"\"), ROW(A98))),\"\")","v":""},{"$f":"IFERROR(INDEX(Subtotals!$J$53:$J$199, SMALL(IF(Subtotals!$C$50=Subtotals!$E$53:$E$199, ROW(Subtotals!$E$53:$E$199)-MIN(ROW(Subtotals!$E$53:$E$199))+1, \"\"), ROW(A98))),\"\")","v":""},null,{"$f":"IFERROR(INDEX(Subtotals!$C$53:$C$199, SMALL(IF(Subtotals!$C$50=Subtotals!$E$53:$E$199, ROW(Subtotals!$E$53:$E$199)-MIN(ROW(Subtotals!$E$53:$E$199))+1, \"\"), ROW(A98))),\"\")","v":""},{"$f":"IFERROR(INDEX(Subtotals!$H$53:$H$199, SMALL(IF(Subtotals!$C$50=Subtotals!$E$53:$E$199, ROW(Subtotals!$E$53:$E$199)-MIN(ROW(Subtotals!$E$53:$E$199))+1, \"\"), ROW(A98))),\"\")","v":""},{"$f":"IFERROR(INDEX(Subtotals!$I$53:$I$199, SMALL(IF(Subtotals!$C$50=Subtotals!$E$53:$E$199, ROW(Subtotals!$E$53:$E$199)-MIN(ROW(Subtotals!$E$53:$E$199))+1, \"\"), ROW(A98))),\"\")","v":""}]
["","",null,null,null,null,null,null,null,null,null,null,"","","","",null,null,{"$f":"IFERROR(INDEX(Subtotals!$A$53:$A$199, SMALL(IF(Subtotals!$C$50=Subtotals!$E$53:$E$199, ROW(Subtotals!$E$53:$E$199)-MIN(ROW(Subtotals!$E$53:$E$199))+1, \"\"), ROW(A99))),\"\")","v":""},{"$f":"IFERROR(INDEX(Subtotals!$B$53:$B$199, SMALL(IF(Subtotals!$C$50=Subtotals!$E$53:$E$199, ROW(Subtotals!$E$53:$E$199)-MIN(ROW(Subtotals!$E$53:$E$199))+1, \"\"), ROW(A99))),\"\")","v":""},{"$f":"IFERROR(INDEX(Subtotals!$F$53:$F$199, SMALL(IF(Subtotals!$C$50=Subtotals!$E$53:$E$199, ROW(Subtotals!$E$53:$E$199)-MIN(ROW(Subtotals!$E$53:$E$199))+1, \"\"), ROW(A99))),\"\")","v":""},{"$f":"IFERROR(INDEX(Subtotals!$G$53:$G$199, SMALL(IF(Subtotals!$C$50=Subtotals!$E$53:$E$199, ROW(Subtotals!$E$53:$E$199)-MIN(ROW(Subtotals!$E$53:$E$199))+1, \"\"), ROW(A99))),\"\")","v":""},{"$f":"IFERROR(INDEX(Subtotals!$J$53:$J$199, SMALL(IF(Subtotals!$C$50=Subtotals!$E$53:$E$199, ROW(Subtotals!$E$53:$E$199)-MIN(ROW(Subtotals!$E$53:$E$199))+1, \"\"), ROW(A99))),\"\")","v":""},null,{"$f":"IFERROR(INDEX(Subtotals!$C$53:$C$199, SMALL(IF(Subtotals!$C$50=Subtotals!$E$53:$E$199, ROW(Subtotals!$E$53:$E$199)-MIN(ROW(Subtotals!$E$53:$E$199))+1, \"\"), ROW(A99))),\"\")","v":""},{"$f":"IFERROR(INDEX(Subtotals!$H$53:$H$199, SMALL(IF(Subtotals!$C$50=Subtotals!$E$53:$E$199, ROW(Subtotals!$E$53:$E$199)-MIN(ROW(Subtotals!$E$53:$E$199))+1, \"\"), ROW(A99))),\"\")","v":""},{"$f":"IFERROR(INDEX(Subtotals!$I$53:$I$199, SMALL(IF(Subtotals!$C$50=Subtotals!$E$53:$E$199, ROW(Subtotals!$E$53:$E$199)-MIN(ROW(Subtotals!$E$53:$E$199))+1, \"\"), ROW(A99))),\"\")","v":""}]
["","",null,null,null,null,null,null,null,null,null,null,"","","","",null,null,{"$f":"IFERROR(INDEX(Subtotals!$A$53:$A$199, SMALL(IF(Subtotals!$C$50=Subtotals!$E$53:$E$199, ROW(Subtotals!$E$53:$E$199)-MIN(ROW(Subtotals!$E$53:$E$199))+1, \"\"), ROW(A100))),\"\")","v":""},{"$f":"IFERROR(INDEX(Subtotals!$B$53:$B$199, SMALL(IF(Subtotals!$C$50=Subtotals!$E$53:$E$199, ROW(Subtotals!$E$53:$E$199)-MIN(ROW(Subtotals!$E$53:$E$199))+1, \"\"), ROW(A100))),\"\")","v":""},{"$f":"IFERROR(INDEX(Subtotals!$F$53:$F$199, SMALL(IF(Subtotals!$C$50=Subtotals!$E$53:$E$199, ROW(Subtotals!$E$53:$E$199)-MIN(ROW(Subtotals!$E$53:$E$199))+1, \"\"), ROW(A100))),\"\")","v":""},{"$f":"IFERROR(INDEX(Subtotals!$G$53:$G$199, SMALL(IF(Subtotals!$C$50=Subtotals!$E$53:$E$199, ROW(Subtotals!$E$53:$E$199)-MIN(ROW(Subtotals!$E$53:$E$199))+1, \"\"), ROW(A100))),\"\")","v":""},{"$f":"IFERROR(INDEX(Subtotals!$J$53:$J$199, SMALL(IF(Subtotals!$C$50=Subtotals!$E$53:$E$199, ROW(Subtotals!$E$53:$E$199)-MIN(ROW(Subtotals!$E$53:$E$199))+1, \"\"), ROW(A100))),\"\")","v":""},null,{"$f":"IFERROR(INDEX(Subtotals!$C$53:$C$199, SMALL(IF(Subtotals!$C$50=Subtotals!$E$53:$E$199, ROW(Subtotals!$E$53:$E$199)-MIN(ROW(Subtotals!$E$53:$E$199))+1, \"\"), ROW(A100))),\"\")","v":""},{"$f":"IFERROR(INDEX(Subtotals!$H$53:$H$199, SMALL(IF(Subtotals!$C$50=Subtotals!$E$53:$E$199, ROW(Subtotals!$E$53:$E$199)-MIN(ROW(Subtotals!$E$53:$E$199))+1, \"\"), ROW(A100))),\"\")","v":""},{"$f":"IFERROR(INDEX(Subtotals!$I$53:$I$199, SMALL(IF(Subtotals!$C$50=Subtotals!$E$53:$E$199, ROW(Subtotals!$E$53:$E$199)-MIN(ROW(Subtotals!$E$53:$E$199))+1, \"\"), ROW(A100))),\"\")","v":""}]
["","",null,null,null,null,null,null,null,null,null,null,"","","","",null,null,{"$f":"IFERROR(INDEX(Subtotals!$A$53:$A$199, SMALL(IF(Subtotals!$C$50=Subtotals!$E$53:$E$199, ROW(Subtotals!$E$53:$E$199)-MIN(ROW(Subtotals!$E$53:$E$199))+1, \"\"), ROW(A101))),\"\")","v":""},{"$f":"IFERROR(INDEX(Subtotals!$B$53:$B$199, SMALL(IF(Subtotals!$C$50=Subtotals!$E$53:$E$199, ROW(Subtotals!$E$53:$E$199)-MIN(ROW(Subtotals!$E$53:$E$199))+1, \"\"), ROW(A101))),\"\")","v":""},{"$f":"IFERROR(INDEX(Subtotals!$F$53:$F$199, SMALL(IF(Subtotals!$C$50=Subtotals!$E$53:$E$199, ROW(Subtotals!$E$53:$E$199)-MIN(ROW(Subtotals!$E$53:$E$199))+1, \"\"), ROW(A101))),\"\")","v":""},{"$f":"IFERROR(INDEX(Subtotals!$G$53:$G$199, SMALL(IF(Subtotals!$C$50=Subtotals!$E$53:$E$199, ROW(Subtotals!$E$53:$E$199)-MIN(ROW(Subtotals!$E$53:$E$199))+1, \"\"), ROW(A101))),\"\")","v":""},{"$f":"IFERROR(INDEX(Subtotals!$J$53:$J$199, SMALL(IF(Subtotals!$C$50=Subtotals!$E$53:$E$199, ROW(Subtotals!$E$53:$E$199)-MIN(ROW(Subtotals!$E$53:$E$199))+1, \"\"), ROW(A101))),\"\")","v":""},null,{"$f":"IFERROR(INDEX(Subtotals!$C$53:$C$199, SMALL(IF(Subtotals!$C$50=Subtotals!$E$53:$E$199, ROW(Subtotals!$E$53:$E$199)-MIN(ROW(Subtotals!$E$53:$E$199))+1, \"\"), ROW(A101))),\"\")","v":""},{"$f":"IFERROR(INDEX(Subtotals!$H$53:$H$199, SMALL(IF(Subtotals!$C$50=Subtotals!$E$53:$E$199, ROW(Subtotals!$E$53:$E$199)-MIN(ROW(Subtotals!$E$53:$E$199))+1, \"\"), ROW(A101))),\"\")","v":""},{"$f":"IFERROR(INDEX(Subtotals!$I$53:$I$199, SMALL(IF(Subtotals!$C$50=Subtotals!$E$53:$E$199, ROW(Subtotals!$E$53:$E$199)-MIN(ROW(Subtotals!$E$53:$E$199))+1, \"\"), ROW(A101))),\"\")","v":""}]
["","",null,null,null,null,null,null,null,null,null,null,"","","","",null,null,{"$f":"IFERROR(INDEX(Subtotals!$A$53:$A$199, SMALL(IF(Subtotals!$C$50=Subtotals!$E$53:$E$199, ROW(Subtotals!$E$53:$E$199)-MIN(ROW(Subtotals!$E$53:$E$199))+1, \"\"), ROW(A102))),\"\")","v":""},{"$f":"IFERROR(INDEX(Subtotals!$B$53:$B$199, SMALL(IF(Subtotals!$C$50=Subtotals!$E$53:$E$199, ROW(Subtotals!$E$53:$E$199)-MIN(ROW(Subtotals!$E$53:$E$199))+1, \"\"), ROW(A102))),\"\")","v":""},{"$f":"IFERROR(INDEX(Subtotals!$F$53:$F$199, SMALL(IF(Subtotals!$C$50=Subtotals!$E$53:$E$199, ROW(Subtotals!$E$53:$E$199)-MIN(ROW(Subtotals!$E$53:$E$199))+1, \"\"), ROW(A102))),\"\")","v":""},{"$f":"IFERROR(INDEX(Subtotals!$G$53:$G$199, SMALL(IF(Subtotals!$C$50=Subtotals!$E$53:$E$199, ROW(Subtotals!$E$53:$E$199)-MIN(ROW(Subtotals!$E$53:$E$199))+1, \"\"), ROW(A102))),\"\")","v":""},{"$f":"IFERROR(INDEX(Subtotals!$J$53:$J$199, SMALL(IF(Subtotals!$C$50=Subtotals!$E$53:$E$199, ROW(Subtotals!$E$53:$E$199)-MIN(ROW(Subtotals!$E$53:$E$199))+1, \"\"), ROW(A102))),\"\")","v":""},null,{"$f":"IFERROR(INDEX(Subtotals!$C$53:$C$199, SMALL(IF(Subtotals!$C$50=Subtotals!$E$53:$E$199, ROW(Subtotals!$E$53:$E$199)-MIN(ROW(Subtotals!$E$53:$E$199))+1, \"\"), ROW(A102))),\"\")","v":""},{"$f":"IFERROR(INDEX(Subtotals!$H$53:$H$199, SMALL(IF(Subtotals!$C$50=Subtotals!$E$53:$E$199, ROW(Subtotals!$E$53:$E$199)-MIN(ROW(Subtotals!$E$53:$E$199))+1, \"\"), ROW(A102))),\"\")","v":""},{"$f":"IFERROR(INDEX(Subtotals!$I$53:$I$199, SMALL(IF(Subtotals!$C$50=Subtotals!$E$53:$E$199, ROW(Subtotals!$E$53:$E$199)-MIN(ROW(Subtotals!$E$53:$E$199))+1, \"\"), ROW(A102))),\"\")","v":""}]
["","",null,null,null,null,null,null,null,null,null,null,"","","","",null,null,{"$f":"IFERROR(INDEX(Subtotals!$A$53:$A$199, SMALL(IF(Subtotals!$C$50=Subtotals!$E$53:$E$199, ROW(Subtotals!$E$53:$E$199)-MIN(ROW(Subtotals!$E$53:$E$199))+1, \"\"), ROW(A103))),\"\")","v":""},{"$f":"IFERROR(INDEX(Subtotals!$B$53:$B$199, SMALL(IF(Subtotals!$C$50=Subtotals!$E$53:$E$199, ROW(Subtotals!$E$53:$E$199)-MIN(ROW(Subtotals!$E$53:$E$199))+1, \"\"), ROW(A103))),\"\")","v":""},{"$f":"IFERROR(INDEX(Subtotals!$F$53:$F$199, SMALL(IF(Subtotals!$C$50=Subtotals!$E$53:$E$199, ROW(Subtotals!$E$53:$E$199)-MIN(ROW(Subtotals!$E$53:$E$199))+1, \"\"), ROW(A103))),\"\")","v":""},{"$f":"IFERROR(INDEX(Subtotals!$G$53:$G$199, SMALL(IF(Subtotals!$C$50=Subtotals!$E$53:$E$199, ROW(Subtotals!$E$53:$E$199)-MIN(ROW(Subtotals!$E$53:$E$199))+1, \"\"), ROW(A103))),\"\")","v":""},{"$f":"IFERROR(INDEX(Subtotals!$J$53:$J$199, SMALL(IF(Subtotals!$C$50=Subtotals!$E$53:$E$199, ROW(Subtotals!$E$53:$E$199)-MIN(ROW(Subtotals!$E$53:$E$199))+1, \"\"), ROW(A103))),\"\")","v":""},null,{"$f":"IFERROR(INDEX(Subtotals!$C$53:$C$199, SMALL(IF(Subtotals!$C$50=Subtotals!$E$53:$E$199, ROW(Subtotals!$E$53:$E$199)-MIN(ROW(Subtotals!$E$53:$E$199))+1, \"\"), ROW(A103))),\"\")","v":""},{"$f":"IFERROR(INDEX(Subtotals!$H$53:$H$199, SMALL(IF(Subtotals!$C$50=Subtotals!$E$53:$E$199, ROW(Subtotals!$E$53:$E$199)-MIN(ROW(Subtotals!$E$53:$E$199))+1, \"\"), ROW(A103))),\"\")","v":""},{"$f":"IFERROR(INDEX(Subtotals!$I$53:$I$199, SMALL(IF(Subtotals!$C$50=Subtotals!$E$53:$E$199, ROW(Subtotals!$E$53:$E$199)-MIN(ROW(Subtotals!$E$53:$E$199))+1, \"\"), ROW(A103))),\"\")","v":""}]
["","",null,null,null,null,null,null,null,null,null,null,"","","","",null,null,{"$f":"IFERROR(INDEX(Subtotals!$A$53:$A$199, SMALL(IF(Subtotals!$C$50=Subtotals!$E$53:$E$199, ROW(Subtotals!$E$53:$E$199)-MIN(ROW(Subtotals!$E$53:$E$199))+1, \"\"), ROW(A104))),\"\")","v":""},{"$f":"IFERROR(INDEX(Subtotals!$B$53:$B$199, SMALL(IF(Subtotals!$C$50=Subtotals!$E$53:$E$199, ROW(Subtotals!$E$53:$E$199)-MIN(ROW(Subtotals!$E$53:$E$199))+1, \"\"), ROW(A104))),\"\")","v":""},{"$f":"IFERROR(INDEX(Subtotals!$F$53:$F$199, SMALL(IF(Subtotals!$C$50=Subtotals!$E$53:$E$199, ROW(Subtotals!$E$53:$E$199)-MIN(ROW(Subtotals!$E$53:$E$199))+1, \"\"), ROW(A104))),\"\")","v":""},{"$f":"IFERROR(INDEX(Subtotals!$G$53:$G$199, SMALL(IF(Subtotals!$C$50=Subtotals!$E$53:$E$199, ROW(Subtotals!$E$53:$E$199)-MIN(ROW(Subtotals!$E$53:$E$199))+1, \"\"), ROW(A104))),\"\")","v":""},{"$f":"IFERROR(INDEX(Subtotals!$J$53:$J$199, SMALL(IF(Subtotals!$C$50=Subtotals!$E$53:$E$199, ROW(Subtotals!$E$53:$E$199)-MIN(ROW(Subtotals!$E$53:$E$199))+1, \"\"), ROW(A104))),\"\")","v":""},null,{"$f":"IFERROR(INDEX(Subtotals!$C$53:$C$199, SMALL(IF(Subtotals!$C$50=Subtotals!$E$53:$E$199, ROW(Subtotals!$E$53:$E$199)-MIN(ROW(Subtotals!$E$53:$E$199))+1, \"\"), ROW(A104))),\"\")","v":""},{"$f":"IFERROR(INDEX(Subtotals!$H$53:$H$199, SMALL(IF(Subtotals!$C$50=Subtotals!$E$53:$E$199, ROW(Subtotals!$E$53:$E$199)-MIN(ROW(Subtotals!$E$53:$E$199))+1, \"\"), ROW(A104))),\"\")","v":""},{"$f":"IFERROR(INDEX(Subtotals!$I$53:$I$199, SMALL(IF(Subtotals!$C$50=Subtotals!$E$53:$E$199, ROW(Subtotals!$E$53:$E$199)-MIN(ROW(Subtotals!$E$53:$E$199))+1, \"\"), ROW(A104))),\"\")","v":""}]
["","",null,null,null,null,null,null,null,null,null,null,"","","","",null,null,{"$f":"IFERROR(INDEX(Subtotals!$A$53:$A$199, SMALL(IF(Subtotals!$C$50=Subtotals!$E$53:$E$199, ROW(Subtotals!$E$53:$E$199)-MIN(ROW(Subtotals!$E$53:$E$199))+1, \"\"), ROW(A105))),\"\")","v":""},{"$f":"IFERROR(INDEX(Subtotals!$B$53:$B$199, SMALL(IF(Subtotals!$C$50=Subtotals!$E$53:$E$199, ROW(Subtotals!$E$53:$E$199)-MIN(ROW(Subtotals!$E$53:$E$199))+1, \"\"), ROW(A105))),\"\")","v":""},{"$f":"IFERROR(INDEX(Subtotals!$F$53:$F$199, SMALL(IF(Subtotals!$C$50=Subtotals!$E$53:$E$199, ROW(Subtotals!$E$53:$E$199)-MIN(ROW(Subtotals!$E$53:$E$199))+1, \"\"), ROW(A105))),\"\")","v":""},{"$f":"IFERROR(INDEX(Subtotals!$G$53:$G$199, SMALL(IF(Subtotals!$C$50=Subtotals!$E$53:$E$199, ROW(Subtotals!$E$53:$E$199)-MIN(ROW(Subtotals!$E$53:$E$199))+1, \"\"), ROW(A105))),\"\")","v":""},{"$f":"IFERROR(INDEX(Subtotals!$J$53:$J$199, SMALL(IF(Subtotals!$C$50=Subtotals!$E$53:$E$199, ROW(Subtotals!$E$53:$E$199)-MIN(ROW(Subtotals!$E$53:$E$199))+1, \"\"), ROW(A105))),\"\")","v":""},null,{"$f":"IFERROR(INDEX(Subtotals!$C$53:$C$199, SMALL(IF(Subtotals!$C$50=Subtotals!$E$53:$E$199, ROW(Subtotals!$E$53:$E$199)-MIN(ROW(Subtotals!$E$53:$E$199))+1, \"\"), ROW(A105))),\"\")","v":""},{"$f":"IFERROR(INDEX(Subtotals!$H$53:$H$199, SMALL(IF(Subtotals!$C$50=Subtotals!$E$53:$E$199, ROW(Subtotals!$E$53:$E$199)-MIN(ROW(Subtotals!$E$53:$E$199))+1, \"\"), ROW(A105))),\"\")","v":""},{"$f":"IFERROR(INDEX(Subtotals!$I$53:$I$199, SMALL(IF(Subtotals!$C$50=Subtotals!$E$53:$E$199, ROW(Subtotals!$E$53:$E$199)-MIN(ROW(Subtotals!$E$53:$E$199))+1, \"\"), ROW(A105))),\"\")","v":""}]
["","",null,null,null,null,null,null,null,null,null,null,"","","","",null,null,{"$f":"IFERROR(INDEX(Subtotals!$A$53:$A$199, SMALL(IF(Subtotals!$C$50=Subtotals!$E$53:$E$199, ROW(Subtotals!$E$53:$E$199)-MIN(ROW(Subtotals!$E$53:$E$199))+1, \"\"), ROW(A106))),\"\")","v":""},{"$f":"IFERROR(INDEX(Subtotals!$B$53:$B$199, SMALL(IF(Subtotals!$C$50=Subtotals!$E$53:$E$199, ROW(Subtotals!$E$53:$E$199)-MIN(ROW(Subtotals!$E$53:$E$199))+1, \"\"), ROW(A106))),\"\")","v":""},{"$f":"IFERROR(INDEX(Subtotals!$F$53:$F$199, SMALL(IF(Subtotals!$C$50=Subtotals!$E$53:$E$199, ROW(Subtotals!$E$53:$E$199)-MIN(ROW(Subtotals!$E$53:$E$199))+1, \"\"), ROW(A106))),\"\")","v":""},{"$f":"IFERROR(INDEX(Subtotals!$G$53:$G$199, SMALL(IF(Subtotals!$C$50=Subtotals!$E$53:$E$199, ROW(Subtotals!$E$53:$E$199)-MIN(ROW(Subtotals!$E$53:$E$199))+1, \"\"), ROW(A106))),\"\")","v":""},{"$f":"IFERROR(INDEX(Subtotals!$J$53:$J$199, SMALL(IF(Subtotals!$C$50=Subtotals!$E$53:$E$199, ROW(Subtotals!$E$53:$E$199)-MIN(ROW(Subtotals!$E$53:$E$199))+1, \"\"), ROW(A106))),\"\")","v":""},null,{"$f":"IFERROR(INDEX(Subtotals!$C$53:$C$199, SMALL(IF(Subtotals!$C$50=Subtotals!$E$53:$E$199, ROW(Subtotals!$E$53:$E$199)-MIN(ROW(Subtotals!$E$53:$E$199))+1, \"\"), ROW(A106))),\"\")","v":""},{"$f":"IFERROR(INDEX(Subtotals!$H$53:$H$199, SMALL(IF(Subtotals!$C$50=Subtotals!$E$53:$E$199, ROW(Subtotals!$E$53:$E$199)-MIN(ROW(Subtotals!$E$53:$E$199))+1, \"\"), ROW(A106))),\"\")","v":""},{"$f":"IFERROR(INDEX(Subtotals!$I$53:$I$199, SMALL(IF(Subtotals!$C$50=Subtotals!$E$53:$E$199, ROW(Subtotals!$E$53:$E$199)-MIN(ROW(Subtotals!$E$53:$E$199))+1, \"\"), ROW(A106))),\"\")","v":""}]
["","",null,null,null,null,null,null,null,null,null,null,"","","","",null,null,{"$f":"IFERROR(INDEX(Subtotals!$A$53:$A$199, SMALL(IF(Subtotals!$C$50=Subtotals!$E$53:$E$199, ROW(Subtotals!$E$53:$E$199)-MIN(ROW(Subtotals!$E$53:$E$199))+1, \"\"), ROW(A107))),\"\")","v":""},{"$f":"IFERROR(INDEX(Subtotals!$B$53:$B$199, SMALL(IF(Subtotals!$C$50=Subtotals!$E$53:$E$199, ROW(Subtotals!$E$53:$E$199)-MIN(ROW(Subtotals!$E$53:$E$199))+1, \"\"), ROW(A107))),\"\")","v":""},{"$f":"IFERROR(INDEX(Subtotals!$F$53:$F$199, SMALL(IF(Subtotals!$C$50=Subtotals!$E$53:$E$199, ROW(Subtotals!$E$53:$E$199)-MIN(ROW(Subtotals!$E$53:$E$199))+1, \"\"), ROW(A107))),\"\")","v":""},{"$f":"IFERROR(INDEX(Subtotals!$G$53:$G$199, SMALL(IF(Subtotals!$C$50=Subtotals!$E$53:$E$199, ROW(Subtotals!$E$53:$E$199)-MIN(ROW(Subtotals!$E$53:$E$199))+1, \"\"), ROW(A107))),\"\")","v":""},{"$f":"IFERROR(INDEX(Subtotals!$J$53:$J$199, SMALL(IF(Subtotals!$C$50=Subtotals!$E$53:$E$199, ROW(Subtotals!$E$53:$E$199)-MIN(ROW(Subtotals!$E$53:$E$199))+1, \"\"), ROW(A107))),\"\")","v":""},null,{"$f":"IFERROR(INDEX(Subtotals!$C$53:$C$199, SMALL(IF(Subtotals!$C$50=Subtotals!$E$53:$E$199, ROW(Subtotals!$E$53:$E$199)-MIN(ROW(Subtotals!$E$53:$E$199))+1, \"\"), ROW(A107))),\"\")","v":""},{"$f":"IFERROR(INDEX(Subtotals!$H$53:$H$199, SMALL(IF(Subtotals!$C$50=Subtotals!$E$53:$E$199, ROW(Subtotals!$E$53:$E$199)-MIN(ROW(Subtotals!$E$53:$E$199))+1, \"\"), ROW(A107))),\"\")","v":""},{"$f":"IFERROR(INDEX(Subtotals!$I$53:$I$199, SMALL(IF(Subtotals!$C$50=Subtotals!$E$53:$E$199, ROW(Subtotals!$E$53:$E$199)-MIN(ROW(Subtotals!$E$53:$E$199))+1, \"\"), ROW(A107))),\"\")","v":""}]
["","",null,null,null,null,null,null,null,null,null,null,"","","","",null,null,{"$f":"IFERROR(INDEX(Subtotals!$A$53:$A$199, SMALL(IF(Subtotals!$C$50=Subtotals!$E$53:$E$199, ROW(Subtotals!$E$53:$E$199)-MIN(ROW(Subtotals!$E$53:$E$199))+1, \"\"), ROW(A108))),\"\")","v":""},{"$f":"IFERROR(INDEX(Subtotals!$B$53:$B$199, SMALL(IF(Subtotals!$C$50=Subtotals!$E$53:$E$199, ROW(Subtotals!$E$53:$E$199)-MIN(ROW(Subtotals!$E$53:$E$199))+1, \"\"), ROW(A108))),\"\")","v":""},{"$f":"IFERROR(INDEX(Subtotals!$F$53:$F$199, SMALL(IF(Subtotals!$C$50=Subtotals!$E$53:$E$199, ROW(Subtotals!$E$53:$E$199)-MIN(ROW(Subtotals!$E$53:$E$199))+1, \"\"), ROW(A108))),\"\")","v":""},{"$f":"IFERROR(INDEX(Subtotals!$G$53:$G$199, SMALL(IF(Subtotals!$C$50=Subtotals!$E$53:$E$199, ROW(Subtotals!$E$53:$E$199)-MIN(ROW(Subtotals!$E$53:$E$199))+1, \"\"), ROW(A108))),\"\")","v":""},{"$f":"IFERROR(INDEX(Subtotals!$J$53:$J$199, SMALL(IF(Subtotals!$C$50=Subtotals!$E$53:$E$199, ROW(Subtotals!$E$53:$E$199)-MIN(ROW(Subtotals!$E$53:$E$199))+1, \"\"), ROW(A108))),\"\")","v":""},null,{"$f":"IFERROR(INDEX(Subtotals!$C$53:$C$199, SMALL(IF(Subtotals!$C$50=Subtotals!$E$53:$E$199, ROW(Subtotals!$E$53:$E$199)-MIN(ROW(Subtotals!$E$53:$E$199))+1, \"\"), ROW(A108))),\"\")","v":""},{"$f":"IFERROR(INDEX(Subtotals!$H$53:$H$199, SMALL(IF(Subtotals!$C$50=Subtotals!$E$53:$E$199, ROW(Subtotals!$E$53:$E$199)-MIN(ROW(Subtotals!$E$53:$E$199))+1, \"\"), ROW(A108))),\"\")","v":""},{"$f":"IFERROR(INDEX(Subtotals!$I$53:$I$199, SMALL(IF(Subtotals!$C$50=Subtotals!$E$53:$E$199, ROW(Subtotals!$E$53:$E$199)-MIN(ROW(Subtotals!$E$53:$E$199))+1, \"\"), ROW(A108))),\"\")","v":""}]
["","",null,null,null,null,null,null,null,null,null,null,"","","","",null,null,{"$f":"IFERROR(INDEX(Subtotals!$A$53:$A$199, SMALL(IF(Subtotals!$C$50=Subtotals!$E$53:$E$199, ROW(Subtotals!$E$53:$E$199)-MIN(ROW(Subtotals!$E$53:$E$199))+1, \"\"), ROW(A109))),\"\")","v":""},{"$f":"IFERROR(INDEX(Subtotals!$B$53:$B$199, SMALL(IF(Subtotals!$C$50=Subtotals!$E$53:$E$199, ROW(Subtotals!$E$53:$E$199)-MIN(ROW(Subtotals!$E$53:$E$199))+1, \"\"), ROW(A109))),\"\")","v":""},{"$f":"IFERROR(INDEX(Subtotals!$F$53:$F$199, SMALL(IF(Subtotals!$C$50=Subtotals!$E$53:$E$199, ROW(Subtotals!$E$53:$E$199)-MIN(ROW(Subtotals!$E$53:$E$199))+1, \"\"), ROW(A109))),\"\")","v":""},{"$f":"IFERROR(INDEX(Subtotals!$G$53:$G$199, SMALL(IF(Subtotals!$C$50=Subtotals!$E$53:$E$199, ROW(Subtotals!$E$53:$E$199)-MIN(ROW(Subtotals!$E$53:$E$199))+1, \"\"), ROW(A109))),\"\")","v":""},{"$f":"IFERROR(INDEX(Subtotals!$J$53:$J$199, SMALL(IF(Subtotals!$C$50=Subtotals!$E$53:$E$199, ROW(Subtotals!$E$53:$E$199)-MIN(ROW(Subtotals!$E$53:$E$199))+1, \"\"), ROW(A109))),\"\")","v":""},null,{"$f":"IFERROR(INDEX(Subtotals!$C$53:$C$199, SMALL(IF(Subtotals!$C$50=Subtotals!$E$53:$E$199, ROW(Subtotals!$E$53:$E$199)-MIN(ROW(Subtotals!$E$53:$E$199))+1, \"\"), ROW(A109))),\"\")","v":""},{"$f":"IFERROR(INDEX(Subtotals!$H$53:$H$199, SMALL(IF(Subtotals!$C$50=Subtotals!$E$53:$E$199, ROW(Subtotals!$E$53:$E$199)-MIN(ROW(Subtotals!$E$53:$E$199))+1, \"\"), ROW(A109))),\"\")","v":""},{"$f":"IFERROR(INDEX(Subtotals!$I$53:$I$199, SMALL(IF(Subtotals!$C$50=Subtotals!$E$53:$E$199, ROW(Subtotals!$E$53:$E$199)-MIN(ROW(Subtotals!$E$53:$E$199))+1, \"\"), ROW(A109))),\"\")","v":""}]
["","",null,null,null,null,null,null,null,null,null,null,"","","","",null,null,{"$f":"IFERROR(INDEX(Subtotals!$A$53:$A$199, SMALL(IF(Subtotals!$C$50=Subtotals!$E$53:$E$199, ROW(Subtotals!$E$53:$E$199)-MIN(ROW(Subtotals!$E$53:$E$199))+1, \"\"), ROW(A110))),\"\")","v":""},{"$f":"IFERROR(INDEX(Subtotals!$B$53:$B$199, SMALL(IF(Subtotals!$C$50=Subtotals!$E$53:$E$199, ROW(Subtotals!$E$53:$E$199)-MIN(ROW(Subtotals!$E$53:$E$199))+1, \"\"), ROW(A110))),\"\")","v":""},{"$f":"IFERROR(INDEX(Subtotals!$F$53:$F$199, SMALL(IF(Subtotals!$C$50=Subtotals!$E$53:$E$199, ROW(Subtotals!$E$53:$E$199)-MIN(ROW(Subtotals!$E$53:$E$199))+1, \"\"), ROW(A110))),\"\")","v":""},{"$f":"IFERROR(INDEX(Subtotals!$G$53:$G$199, SMALL(IF(Subtotals!$C$50=Subtotals!$E$53:$E$199, ROW(Subtotals!$E$53:$E$199)-MIN(ROW(Subtotals!$E$53:$E$199))+1, \"\"), ROW(A110))),\"\")","v":""},{"$f":"IFERROR(INDEX(Subtotals!$J$53:$J$199, SMALL(IF(Subtotals!$C$50=Subtotals!$E$53:$E$199, ROW(Subtotals!$E$53:$E$199)-MIN(ROW(Subtotals!$E$53:$E$199))+1, \"\"), ROW(A110))),\"\")","v":""},null,{"$f":"IFERROR(INDEX(Subtotals!$C$53:$C$199, SMALL(IF(Subtotals!$C$50=Subtotals!$E$53:$E$199, ROW(Subtotals!$E$53:$E$199)-MIN(ROW(Subtotals!$E$53:$E$199))+1, \"\"), ROW(A110))),\"\")","v":""},{"$f":"IFERROR(INDEX(Subtotals!$H$53:$H$199, SMALL(IF(Subtotals!$C$50=Subtotals!$E$53:$E$199, ROW(Subtotals!$E$53:$E$199)-MIN(ROW(Subtotals!$E$53:$E$199))+1, \"\"), ROW(A110))),\"\")","v":""},{"$f":"IFERROR(INDEX(Subtotals!$I$53:$I$199, SMALL(IF(Subtotals!$C$50=Subtotals!$E$53:$E$199, ROW(Subtotals!$E$53:$E$199)-MIN(ROW(Subtotals!$E$53:$E$199))+1, \"\"), ROW(A110))),\"\")","v":""}]
["","",null,null,null,null,null,null,null,null,null,null,"","","","",null,null,{"$f":"IFERROR(INDEX(Subtotals!$A$53:$A$199, SMALL(IF(Subtotals!$C$50=Subtotals!$E$53:$E$199, ROW(Subtotals!$E$53:$E$199)-MIN(ROW(Subtotals!$E$53:$E$199))+1, \"\"), ROW(A111))),\"\")","v":""},{"$f":"IFERROR(INDEX(Subtotals!$B$53:$B$199, SMALL(IF(Subtotals!$C$50=Subtotals!$E$53:$E$199, ROW(Subtotals!$E$53:$E$199)-MIN(ROW(Subtotals!$E$53:$E$199))+1, \"\"), ROW(A111))),\"\")","v":""},{"$f":"IFERROR(INDEX(Subtotals!$F$53:$F$199, SMALL(IF(Subtotals!$C$50=Subtotals!$E$53:$E$199, ROW(Subtotals!$E$53:$E$199)-MIN(ROW(Subtotals!$E$53:$E$199))+1, \"\"), ROW(A111))),\"\")","v":""},{"$f":"IFERROR(INDEX(Subtotals!$G$53:$G$199, SMALL(IF(Subtotals!$C$50=Subtotals!$E$53:$E$199, ROW(Subtotals!$E$53:$E$199)-MIN(ROW(Subtotals!$E$53:$E$199))+1, \"\"), ROW(A111))),\"\")","v":""},{"$f":"IFERROR(INDEX(Subtotals!$J$53:$J$199, SMALL(IF(Subtotals!$C$50=Subtotals!$E$53:$E$199, ROW(Subtotals!$E$53:$E$199)-MIN(ROW(Subtotals!$E$53:$E$199))+1, \"\"), ROW(A111))),\"\")","v":""},null,{"$f":"IFERROR(INDEX(Subtotals!$C$53:$C$199, SMALL(IF(Subtotals!$C$50=Subtotals!$E$53:$E$199, ROW(Subtotals!$E$53:$E$199)-MIN(ROW(Subtotals!$E$53:$E$199))+1, \"\"), ROW(A111))),\"\")","v":""},{"$f":"IFERROR(INDEX(Subtotals!$H$53:$H$199, SMALL(IF(Subtotals!$C$50=Subtotals!$E$53:$E$199, ROW(Subtotals!$E$53:$E$199)-MIN(ROW(Subtotals!$E$53:$E$199))+1, \"\"), ROW(A111))),\"\")","v":""},{"$f":"IFERROR(INDEX(Subtotals!$I$53:$I$199, SMALL(IF(Subtotals!$C$50=Subtotals!$E$53:$E$199, ROW(Subtotals!$E$53:$E$199)-MIN(ROW(Subtotals!$E$53:$E$199))+1, \"\"), ROW(A111))),\"\")","v":""}]
["","",null,null,null,null,null,null,null,null,null,null,"","","","",null,null,{"$f":"IFERROR(INDEX(Subtotals!$A$53:$A$199, SMALL(IF(Subtotals!$C$50=Subtotals!$E$53:$E$199, ROW(Subtotals!$E$53:$E$199)-MIN(ROW(Subtotals!$E$53:$E$199))+1, \"\"), ROW(A112))),\"\")","v":""},{"$f":"IFERROR(INDEX(Subtotals!$B$53:$B$199, SMALL(IF(Subtotals!$C$50=Subtotals!$E$53:$E$199, ROW(Subtotals!$E$53:$E$199)-MIN(ROW(Subtotals!$E$53:$E$199))+1, \"\"), ROW(A112))),\"\")","v":""},{"$f":"IFERROR(INDEX(Subtotals!$F$53:$F$199, SMALL(IF(Subtotals!$C$50=Subtotals!$E$53:$E$199, ROW(Subtotals!$E$53:$E$199)-MIN(ROW(Subtotals!$E$53:$E$199))+1, \"\"), ROW(A112))),\"\")","v":""},{"$f":"IFERROR(INDEX(Subtotals!$G$53:$G$199, SMALL(IF(Subtotals!$C$50=Subtotals!$E$53:$E$199, ROW(Subtotals!$E$53:$E$199)-MIN(ROW(Subtotals!$E$53:$E$199))+1, \"\"), ROW(A112))),\"\")","v":""},{"$f":"IFERROR(INDEX(Subtotals!$J$53:$J$199, SMALL(IF(Subtotals!$C$50=Subtotals!$E$53:$E$199, ROW(Subtotals!$E$53:$E$199)-MIN(ROW(Subtotals!$E$53:$E$199))+1, \"\"), ROW(A112))),\"\")","v":""},null,{"$f":"IFERROR(INDEX(Subtotals!$C$53:$C$199, SMALL(IF(Subtotals!$C$50=Subtotals!$E$53:$E$199, ROW(Subtotals!$E$53:$E$199)-MIN(ROW(Subtotals!$E$53:$E$199))+1, \"\"), ROW(A112))),\"\")","v":""},{"$f":"IFERROR(INDEX(Subtotals!$H$53:$H$199, SMALL(IF(Subtotals!$C$50=Subtotals!$E$53:$E$199, ROW(Subtotals!$E$53:$E$199)-MIN(ROW(Subtotals!$E$53:$E$199))+1, \"\"), ROW(A112))),\"\")","v":""},{"$f":"IFERROR(INDEX(Subtotals!$I$53:$I$199, SMALL(IF(Subtotals!$C$50=Subtotals!$E$53:$E$199, ROW(Subtotals!$E$53:$E$199)-MIN(ROW(Subtotals!$E$53:$E$199))+1, \"\"), ROW(A112))),\"\")","v":""}]
["","",null,null,null,null,null,null,null,null,null,null,"","","","",null,null,{"$f":"IFERROR(INDEX(Subtotals!$A$53:$A$199, SMALL(IF(Subtotals!$C$50=Subtotals!$E$53:$E$199, ROW(Subtotals!$E$53:$E$199)-MIN(ROW(Subtotals!$E$53:$E$199))+1, \"\"), ROW(A113))),\"\")","v":""},{"$f":"IFERROR(INDEX(Subtotals!$B$53:$B$199, SMALL(IF(Subtotals!$C$50=Subtotals!$E$53:$E$199, ROW(Subtotals!$E$53:$E$199)-MIN(ROW(Subtotals!$E$53:$E$199))+1, \"\"), ROW(A113))),\"\")","v":""},{"$f":"IFERROR(INDEX(Subtotals!$F$53:$F$199, SMALL(IF(Subtotals!$C$50=Subtotals!$E$53:$E$199, ROW(Subtotals!$E$53:$E$199)-MIN(ROW(Subtotals!$E$53:$E$199))+1, \"\"), ROW(A113))),\"\")","v":""},{"$f":"IFERROR(INDEX(Subtotals!$G$53:$G$199, SMALL(IF(Subtotals!$C$50=Subtotals!$E$53:$E$199, ROW(Subtotals!$E$53:$E$199)-MIN(ROW(Subtotals!$E$53:$E$199))+1, \"\"), ROW(A113))),\"\")","v":""},{"$f":"IFERROR(INDEX(Subtotals!$J$53:$J$199, SMALL(IF(Subtotals!$C$50=Subtotals!$E$53:$E$199, ROW(Subtotals!$E$53:$E$199)-MIN(ROW(Subtotals!$E$53:$E$199))+1, \"\"), ROW(A113))),\"\")","v":""},null,{"$f":"IFERROR(INDEX(Subtotals!$C$53:$C$199, SMALL(IF(Subtotals!$C$50=Subtotals!$E$53:$E$199, ROW(Subtotals!$E$53:$E$199)-MIN(ROW(Subtotals!$E$53:$E$199))+1, \"\"), ROW(A113))),\"\")","v":""},{"$f":"IFERROR(INDEX(Subtotals!$H$53:$H$199, SMALL(IF(Subtotals!$C$50=Subtotals!$E$53:$E$199, ROW(Subtotals!$E$53:$E$199)-MIN(ROW(Subtotals!$E$53:$E$199))+1, \"\"), ROW(A113))),\"\")","v":""},{"$f":"IFERROR(INDEX(Subtotals!$I$53:$I$199, SMALL(IF(Subtotals!$C$50=Subtotals!$E$53:$E$199, ROW(Subtotals!$E$53:$E$199)-MIN(ROW(Subtotals!$E$53:$E$199))+1, \"\"), ROW(A113))),\"\")","v":""}]
["","",null,null,null,null,null,null,null,null,null,null,"","","","",null,null,{"$f":"IFERROR(INDEX(Subtotals!$A$53:$A$199, SMALL(IF(Subtotals!$C$50=Subtotals!$E$53:$E$199, ROW(Subtotals!$E$53:$E$199)-MIN(ROW(Subtotals!$E$53:$E$199))+1, \"\"), ROW(A114))),\"\")","v":""},{"$f":"IFERROR(INDEX(Subtotals!$B$53:$B$199, SMALL(IF(Subtotals!$C$50=Subtotals!$E$53:$E$199, ROW(Subtotals!$E$53:$E$199)-MIN(ROW(Subtotals!$E$53:$E$199))+1, \"\"), ROW(A114))),\"\")","v":""},{"$f":"IFERROR(INDEX(Subtotals!$F$53:$F$199, SMALL(IF(Subtotals!$C$50=Subtotals!$E$53:$E$199, ROW(Subtotals!$E$53:$E$199)-MIN(ROW(Subtotals!$E$53:$E$199))+1, \"\"), ROW(A114))),\"\")","v":""},{"$f":"IFERROR(INDEX(Subtotals!$G$53:$G$199, SMALL(IF(Subtotals!$C$50=Subtotals!$E$53:$E$199, ROW(Subtotals!$E$53:$E$199)-MIN(ROW(Subtotals!$E$53:$E$199))+1, \"\"), ROW(A114))),\"\")","v":""},{"$f":"IFERROR(INDEX(Subtotals!$J$53:$J$199, SMALL(IF(Subtotals!$C$50=Subtotals!$E$53:$E$199, ROW(Subtotals!$E$53:$E$199)-MIN(ROW(Subtotals!$E$53:$E$199))+1, \"\"), ROW(A114))),\"\")","v":""},null,{"$f":"IFERROR(INDEX(Subtotals!$C$53:$C$199, SMALL(IF(Subtotals!$C$50=Subtotals!$E$53:$E$199, ROW(Subtotals!$E$53:$E$199)-MIN(ROW(Subtotals!$E$53:$E$199))+1, \"\"), ROW(A114))),\"\")","v":""},{"$f":"IFERROR(INDEX(Subtotals!$H$53:$H$199, SMALL(IF(Subtotals!$C$50=Subtotals!$E$53:$E$199, ROW(Subtotals!$E$53:$E$199)-MIN(ROW(Subtotals!$E$53:$E$199))+1, \"\"), ROW(A114))),\"\")","v":""},{"$f":"IFERROR(INDEX(Subtotals!$I$53:$I$199, SMALL(IF(Subtotals!$C$50=Subtotals!$E$53:$E$199, ROW(Subtotals!$E$53:$E$199)-MIN(ROW(Subtotals!$E$53:$E$199))+1, \"\"), ROW(A114))),\"\")","v":""}]
["","",null,null,null,null,null,null,null,null,null,null,"","","","",null,null,{"$f":"IFERROR(INDEX(Subtotals!$A$53:$A$199, SMALL(IF(Subtotals!$C$50=Subtotals!$E$53:$E$199, ROW(Subtotals!$E$53:$E$199)-MIN(ROW(Subtotals!$E$53:$E$199))+1, \"\"), ROW(A115))),\"\")","v":""},{"$f":"IFERROR(INDEX(Subtotals!$B$53:$B$199, SMALL(IF(Subtotals!$C$50=Subtotals!$E$53:$E$199, ROW(Subtotals!$E$53:$E$199)-MIN(ROW(Subtotals!$E$53:$E$199))+1, \"\"), ROW(A115))),\"\")","v":""},{"$f":"IFERROR(INDEX(Subtotals!$F$53:$F$199, SMALL(IF(Subtotals!$C$50=Subtotals!$E$53:$E$199, ROW(Subtotals!$E$53:$E$199)-MIN(ROW(Subtotals!$E$53:$E$199))+1, \"\"), ROW(A115))),\"\")","v":""},{"$f":"IFERROR(INDEX(Subtotals!$G$53:$G$199, SMALL(IF(Subtotals!$C$50=Subtotals!$E$53:$E$199, ROW(Subtotals!$E$53:$E$199)-MIN(ROW(Subtotals!$E$53:$E$199))+1, \"\"), ROW(A115))),\"\")","v":""},{"$f":"IFERROR(INDEX(Subtotals!$J$53:$J$199, SMALL(IF(Subtotals!$C$50=Subtotals!$E$53:$E$199, ROW(Subtotals!$E$53:$E$199)-MIN(ROW(Subtotals!$E$53:$E$199))+1, \"\"), ROW(A115))),\"\")","v":""},null,{"$f":"IFERROR(INDEX(Subtotals!$C$53:$C$199, SMALL(IF(Subtotals!$C$50=Subtotals!$E$53:$E$199, ROW(Subtotals!$E$53:$E$199)-MIN(ROW(Subtotals!$E$53:$E$199))+1, \"\"), ROW(A115))),\"\")","v":""},{"$f":"IFERROR(INDEX(Subtotals!$H$53:$H$199, SMALL(IF(Subtotals!$C$50=Subtotals!$E$53:$E$199, ROW(Subtotals!$E$53:$E$199)-MIN(ROW(Subtotals!$E$53:$E$199))+1, \"\"), ROW(A115))),\"\")","v":""},{"$f":"IFERROR(INDEX(Subtotals!$I$53:$I$199, SMALL(IF(Subtotals!$C$50=Subtotals!$E$53:$E$199, ROW(Subtotals!$E$53:$E$199)-MIN(ROW(Subtotals!$E$53:$E$199))+1, \"\"), ROW(A115))),\"\")","v":""}]
["","",null,null,null,null,null,null,null,null,null,null,"","","","",null,null,{"$f":"IFERROR(INDEX(Subtotals!$A$53:$A$199, SMALL(IF(Subtotals!$C$50=Subtotals!$E$53:$E$199, ROW(Subtotals!$E$53:$E$199)-MIN(ROW(Subtotals!$E$53:$E$199))+1, \"\"), ROW(A116))),\"\")","v":""},{"$f":"IFERROR(INDEX(Subtotals!$B$53:$B$199, SMALL(IF(Subtotals!$C$50=Subtotals!$E$53:$E$199, ROW(Subtotals!$E$53:$E$199)-MIN(ROW(Subtotals!$E$53:$E$199))+1, \"\"), ROW(A116))),\"\")","v":""},{"$f":"IFERROR(INDEX(Subtotals!$F$53:$F$199, SMALL(IF(Subtotals!$C$50=Subtotals!$E$53:$E$199, ROW(Subtotals!$E$53:$E$199)-MIN(ROW(Subtotals!$E$53:$E$199))+1, \"\"), ROW(A116))),\"\")","v":""},{"$f":"IFERROR(INDEX(Subtotals!$G$53:$G$199, SMALL(IF(Subtotals!$C$50=Subtotals!$E$53:$E$199, ROW(Subtotals!$E$53:$E$199)-MIN(ROW(Subtotals!$E$53:$E$199))+1, \"\"), ROW(A116))),\"\")","v":""},{"$f":"IFERROR(INDEX(Subtotals!$J$53:$J$199, SMALL(IF(Subtotals!$C$50=Subtotals!$E$53:$E$199, ROW(Subtotals!$E$53:$E$199)-MIN(ROW(Subtotals!$E$53:$E$199))+1, \"\"), ROW(A116))),\"\")","v":""},null,{"$f":"IFERROR(INDEX(Subtotals!$C$53:$C$199, SMALL(IF(Subtotals!$C$50=Subtotals!$E$53:$E$199, ROW(Subtotals!$E$53:$E$199)-MIN(ROW(Subtotals!$E$53:$E$199))+1, \"\"), ROW(A116))),\"\")","v":""},{"$f":"IFERROR(INDEX(Subtotals!$H$53:$H$199, SMALL(IF(Subtotals!$C$50=Subtotals!$E$53:$E$199, ROW(Subtotals!$E$53:$E$199)-MIN(ROW(Subtotals!$E$53:$E$199))+1, \"\"), ROW(A116))),\"\")","v":""},{"$f":"IFERROR(INDEX(Subtotals!$I$53:$I$199, SMALL(IF(Subtotals!$C$50=Subtotals!$E$53:$E$199, ROW(Subtotals!$E$53:$E$199)-MIN(ROW(Subtotals!$E$53:$E$199))+1, \"\"), ROW(A116))),\"\")","v":""}]
["","",null,null,null,null,null,null,null,null,null,null,"","","","",null,null,{"$f":"IFERROR(INDEX(Subtotals!$A$53:$A$199, SMALL(IF(Subtotals!$C$50=Subtotals!$E$53:$E$199, ROW(Subtotals!$E$53:$E$199)-MIN(ROW(Subtotals!$E$53:$E$199))+1, \"\"), ROW(A117))),\"\")","v":""},{"$f":"IFERROR(INDEX(Subtotals!$B$53:$B$199, SMALL(IF(Subtotals!$C$50=Subtotals!$E$53:$E$199, ROW(Subtotals!$E$53:$E$199)-MIN(ROW(Subtotals!$E$53:$E$199))+1, \"\"), ROW(A117))),\"\")","v":""},{"$f":"IFERROR(INDEX(Subtotals!$F$53:$F$199, SMALL(IF(Subtotals!$C$50=Subtotals!$E$53:$E$199, ROW(Subtotals!$E$53:$E$199)-MIN(ROW(Subtotals!$E$53:$E$199))+1, \"\"), ROW(A117))),\"\")","v":""},{"$f":"IFERROR(INDEX(Subtotals!$G$53:$G$199, SMALL(IF(Subtotals!$C$50=Subtotals!$E$53:$E$199, ROW(Subtotals!$E$53:$E$199)-MIN(ROW(Subtotals!$E$53:$E$199))+1, \"\"), ROW(A117))),\"\")","v":""},{"$f":"IFERROR(INDEX(Subtotals!$J$53:$J$199, SMALL(IF(Subtotals!$C$50=Subtotals!$E$53:$E$199, ROW(Subtotals!$E$53:$E$199)-MIN(ROW(Subtotals!$E$53:$E$199))+1, \"\"), ROW(A117))),\"\")","v":""},null,{"$f":"IFERROR(INDEX(Subtotals!$C$53:$C$199, SMALL(IF(Subtotals!$C$50=Subtotals!$E$53:$E$199, ROW(Subtotals!$E$53:$E$199)-MIN(ROW(Subtotals!$E$53:$E$199))+1, \"\"), ROW(A117))),\"\")","v":""},{"$f":"IFERROR(INDEX(Subtotals!$H$53:$H$199, SMALL(IF(Subtotals!$C$50=Subtotals!$E$53:$E$199, ROW(Subtotals!$E$53:$E$199)-MIN(ROW(Subtotals!$E$53:$E$199))+1, \"\"), ROW(A117))),\"\")","v":""},{"$f":"IFERROR(INDEX(Subtotals!$I$53:$I$199, SMALL(IF(Subtotals!$C$50=Subtotals!$E$53:$E$199, ROW(Subtotals!$E$53:$E$199)-MIN(ROW(Subtotals!$E$53:$E$199))+1, \"\"), ROW(A117))),\"\")","v":""}]
["","",null,null,null,null,null,null,null,null,null,null,"","","","",null,null,{"$f":"IFERROR(INDEX(Subtotals!$A$53:$A$199, SMALL(IF(Subtotals!$C$50=Subtotals!$E$53:$E$199, ROW(Subtotals!$E$53:$E$199)-MIN(ROW(Subtotals!$E$53:$E$199))+1, \"\"), ROW(A118))),\"\")","v":""},{"$f":"IFERROR(INDEX(Subtotals!$B$53:$B$199, SMALL(IF(Subtotals!$C$50=Subtotals!$E$53:$E$199, ROW(Subtotals!$E$53:$E$199)-MIN(ROW(Subtotals!$E$53:$E$199))+1, \"\"), ROW(A118))),\"\")","v":""},{"$f":"IFERROR(INDEX(Subtotals!$F$53:$F$199, SMALL(IF(Subtotals!$C$50=Subtotals!$E$53:$E$199, ROW(Subtotals!$E$53:$E$199)-MIN(ROW(Subtotals!$E$53:$E$199))+1, \"\"), ROW(A118))),\"\")","v":""},{"$f":"IFERROR(INDEX(Subtotals!$G$53:$G$199, SMALL(IF(Subtotals!$C$50=Subtotals!$E$53:$E$199, ROW(Subtotals!$E$53:$E$199)-MIN(ROW(Subtotals!$E$53:$E$199))+1, \"\"), ROW(A118))),\"\")","v":""},{"$f":"IFERROR(INDEX(Subtotals!$J$53:$J$199, SMALL(IF(Subtotals!$C$50=Subtotals!$E$53:$E$199, ROW(Subtotals!$E$53:$E$199)-MIN(ROW(Subtotals!$E$53:$E$199))+1, \"\"), ROW(A118))),\"\")","v":""},null,{"$f":"IFERROR(INDEX(Subtotals!$C$53:$C$199, SMALL(IF(Subtotals!$C$50=Subtotals!$E$53:$E$199, ROW(Subtotals!$E$53:$E$199)-MIN(ROW(Subtotals!$E$53:$E$199))+1, \"\"), ROW(A118))),\"\")","v":""},{"$f":"IFERROR(INDEX(Subtotals!$H$53:$H$199, SMALL(IF(Subtotals!$C$50=Subtotals!$E$53:$E$199, ROW(Subtotals!$E$53:$E$199)-MIN(ROW(Subtotals!$E$53:$E$199))+1, \"\"), ROW(A118))),\"\")","v":""},{"$f":"IFERROR(INDEX(Subtotals!$I$53:$I$199, SMALL(IF(Subtotals!$C$50=Subtotals!$E$53:$E$199, ROW(Subtotals!$E$53:$E$199)-MIN(ROW(Subtotals!$E$53:$E$199))+1, \"\"), ROW(A118))),\"\")","v":""}]
["","",null,null,null,null,null,null,null,null,null,null,"","","","",null,null,{"$f":"IFERROR(INDEX(Subtotals!$A$53:$A$199, SMALL(IF(Subtotals!$C$50=Subtotals!$E$53:$E$199, ROW(Subtotals!$E$53:$E$199)-MIN(ROW(Subtotals!$E$53:$E$199))+1, \"\"), ROW(A119))),\"\")","v":""},{"$f":"IFERROR(INDEX(Subtotals!$B$53:$B$199, SMALL(IF(Subtotals!$C$50=Subtotals!$E$53:$E$199, ROW(Subtotals!$E$53:$E$199)-MIN(ROW(Subtotals!$E$53:$E$199))+1, \"\"), ROW(A119))),\"\")","v":""},{"$f":"IFERROR(INDEX(Subtotals!$F$53:$F$199, SMALL(IF(Subtotals!$C$50=Subtotals!$E$53:$E$199, ROW(Subtotals!$E$53:$E$199)-MIN(ROW(Subtotals!$E$53:$E$199))+1, \"\"), ROW(A119))),\"\")","v":""},{"$f":"IFERROR(INDEX(Subtotals!$G$53:$G$199, SMALL(IF(Subtotals!$C$50=Subtotals!$E$53:$E$199, ROW(Subtotals!$E$53:$E$199)-MIN(ROW(Subtotals!$E$53:$E$199))+1, \"\"), ROW(A119))),\"\")","v":""},{"$f":"IFERROR(INDEX(Subtotals!$J$53:$J$199, SMALL(IF(Subtotals!$C$50=Subtotals!$E$53:$E$199, ROW(Subtotals!$E$53:$E$199)-MIN(ROW(Subtotals!$E$53:$E$199))+1, \"\"), ROW(A119))),\"\")","v":""},null,{"$f":"IFERROR(INDEX(Subtotals!$C$53:$C$199, SMALL(IF(Subtotals!$C$50=Subtotals!$E$53:$E$199, ROW(Subtotals!$E$53:$E$199)-MIN(ROW(Subtotals!$E$53:$E$199))+1, \"\"), ROW(A119))),\"\")","v":""},{"$f":"IFERROR(INDEX(Subtotals!$H$53:$H$199, SMALL(IF(Subtotals!$C$50=Subtotals!$E$53:$E$199, ROW(Subtotals!$E$53:$E$199)-MIN(ROW(Subtotals!$E$53:$E$199))+1, \"\"), ROW(A119))),\"\")","v":""},{"$f":"IFERROR(INDEX(Subtotals!$I$53:$I$199, SMALL(IF(Subtotals!$C$50=Subtotals!$E$53:$E$199, ROW(Subtotals!$E$53:$E$199)-MIN(ROW(Subtotals!$E$53:$E$199))+1, \"\"), ROW(A119))),\"\")","v":""}]
["","",null,null,null,null,null,null,null,null,null,null,"","","","",null,null,{"$f":"IFERROR(INDEX(Subtotals!$A$53:$A$199, SMALL(IF(Subtotals!$C$50=Subtotals!$E$53:$E$199, ROW(Subtotals!$E$53:$E$199)-MIN(ROW(Subtotals!$E$53:$E$199))+1, \"\"), ROW(A120))),\"\")","v":""},{"$f":"IFERROR(INDEX(Subtotals!$B$53:$B$199, SMALL(IF(Subtotals!$C$50=Subtotals!$E$53:$E$199, ROW(Subtotals!$E$53:$E$199)-MIN(ROW(Subtotals!$E$53:$E$199))+1, \"\"), ROW(A120))),\"\")","v":""},{"$f":"IFERROR(INDEX(Subtotals!$F$53:$F$199, SMALL(IF(Subtotals!$C$50=Subtotals!$E$53:$E$199, ROW(Subtotals!$E$53:$E$199)-MIN(ROW(Subtotals!$E$53:$E$199))+1, \"\"), ROW(A120))),\"\")","v":""},{"$f":"IFERROR(INDEX(Subtotals!$G$53:$G$199, SMALL(IF(Subtotals!$C$50=Subtotals!$E$53:$E$199, ROW(Subtotals!$E$53:$E$199)-MIN(ROW(Subtotals!$E$53:$E$199))+1, \"\"), ROW(A120))),\"\")","v":""},{"$f":"IFERROR(INDEX(Subtotals!$J$53:$J$199, SMALL(IF(Subtotals!$C$50=Subtotals!$E$53:$E$199, ROW(Subtotals!$E$53:$E$199)-MIN(ROW(Subtotals!$E$53:$E$199))+1, \"\"), ROW(A120))),\"\")","v":""},null,{"$f":"IFERROR(INDEX(Subtotals!$C$53:$C$199, SMALL(IF(Subtotals!$C$50=Subtotals!$E$53:$E$199, ROW(Subtotals!$E$53:$E$199)-MIN(ROW(Subtotals!$E$53:$E$199))+1, \"\"), ROW(A120))),\"\")","v":""},{"$f":"IFERROR(INDEX(Subtotals!$H$53:$H$199, SMALL(IF(Subtotals!$C$50=Subtotals!$E$53:$E$199, ROW(Subtotals!$E$53:$E$199)-MIN(ROW(Subtotals!$E$53:$E$199))+1, \"\"), ROW(A120))),\"\")","v":""},{"$f":"IFERROR(INDEX(Subtotals!$I$53:$I$199, SMALL(IF(Subtotals!$C$50=Subtotals!$E$53:$E$199, ROW(Subtotals!$E$53:$E$199)-MIN(ROW(Subtotals!$E$53:$E$199))+1, \"\"), ROW(A120))),\"\")","v":""}]
["","",null,null,null,null,null,null,null,null,null,null,"","","","",null,null,{"$f":"IFERROR(INDEX(Subtotals!$A$53:$A$199, SMALL(IF(Subtotals!$C$50=Subtotals!$E$53:$E$199, ROW(Subtotals!$E$53:$E$199)-MIN(ROW(Subtotals!$E$53:$E$199))+1, \"\"), ROW(A121))),\"\")","v":""},{"$f":"IFERROR(INDEX(Subtotals!$B$53:$B$199, SMALL(IF(Subtotals!$C$50=Subtotals!$E$53:$E$199, ROW(Subtotals!$E$53:$E$199)-MIN(ROW(Subtotals!$E$53:$E$199))+1, \"\"), ROW(A121))),\"\")","v":""},{"$f":"IFERROR(INDEX(Subtotals!$F$53:$F$199, SMALL(IF(Subtotals!$C$50=Subtotals!$E$53:$E$199, ROW(Subtotals!$E$53:$E$199)-MIN(ROW(Subtotals!$E$53:$E$199))+1, \"\"), ROW(A121))),\"\")","v":""},{"$f":"IFERROR(INDEX(Subtotals!$G$53:$G$199, SMALL(IF(Subtotals!$C$50=Subtotals!$E$53:$E$199, ROW(Subtotals!$E$53:$E$199)-MIN(ROW(Subtotals!$E$53:$E$199))+1, \"\"), ROW(A121))),\"\")","v":""},{"$f":"IFERROR(INDEX(Subtotals!$J$53:$J$199, SMALL(IF(Subtotals!$C$50=Subtotals!$E$53:$E$199, ROW(Subtotals!$E$53:$E$199)-MIN(ROW(Subtotals!$E$53:$E$199))+1, \"\"), ROW(A121))),\"\")","v":""},null,{"$f":"IFERROR(INDEX(Subtotals!$C$53:$C$199, SMALL(IF(Subtotals!$C$50=Subtotals!$E$53:$E$199, ROW(Subtotals!$E$53:$E$199)-MIN(ROW(Subtotals!$E$53:$E$199))+1, \"\"), ROW(A121))),\"\")","v":""},{"$f":"IFERROR(INDEX(Subtotals!$H$53:$H$199, SMALL(IF(Subtotals!$C$50=Subtotals!$E$53:$E$199, ROW(Subtotals!$E$53:$E$199)-MIN(ROW(Subtotals!$E$53:$E$199))+1, \"\"), ROW(A121))),\"\")","v":""},{"$f":"IFERROR(INDEX(Subtotals!$I$53:$I$199, SMALL(IF(Subtotals!$C$50=Subtotals!$E$53:$E$199, ROW(Subtotals!$E$53:$E$199)-MIN(ROW(Subtotals!$E$53:$E$199))+1, \"\"), ROW(A121))),\"\")","v":""}]
["","",null,null,null,null,null,null,null,null,null,null,"","","","",null,null,{"$f":"IFERROR(INDEX(Subtotals!$A$53:$A$199, SMALL(IF(Subtotals!$C$50=Subtotals!$E$53:$E$199, ROW(Subtotals!$E$53:$E$199)-MIN(ROW(Subtotals!$E$53:$E$199))+1, \"\"), ROW(A122))),\"\")","v":""},{"$f":"IFERROR(INDEX(Subtotals!$B$53:$B$199, SMALL(IF(Subtotals!$C$50=Subtotals!$E$53:$E$199, ROW(Subtotals!$E$53:$E$199)-MIN(ROW(Subtotals!$E$53:$E$199))+1, \"\"), ROW(A122))),\"\")","v":""},{"$f":"IFERROR(INDEX(Subtotals!$F$53:$F$199, SMALL(IF(Subtotals!$C$50=Subtotals!$E$53:$E$199, ROW(Subtotals!$E$53:$E$199)-MIN(ROW(Subtotals!$E$53:$E$199))+1, \"\"), ROW(A122))),\"\")","v":""},{"$f":"IFERROR(INDEX(Subtotals!$G$53:$G$199, SMALL(IF(Subtotals!$C$50=Subtotals!$E$53:$E$199, ROW(Subtotals!$E$53:$E$199)-MIN(ROW(Subtotals!$E$53:$E$199))+1, \"\"), ROW(A122))),\"\")","v":""},{"$f":"IFERROR(INDEX(Subtotals!$J$53:$J$199, SMALL(IF(Subtotals!$C$50=Subtotals!$E$53:$E$199, ROW(Subtotals!$E$53:$E$199)-MIN(ROW(Subtotals!$E$53:$E$199))+1, \"\"), ROW(A122))),\"\")","v":""},null,{"$f":"IFERROR(INDEX(Subtotals!$C$53:$C$199, SMALL(IF(Subtotals!$C$50=Subtotals!$E$53:$E$199, ROW(Subtotals!$E$53:$E$199)-MIN(ROW(Subtotals!$E$53:$E$199))+1, \"\"), ROW(A122))),\"\")","v":""},{"$f":"IFERROR(INDEX(Subtotals!$H$53:$H$199, SMALL(IF(Subtotals!$C$50=Subtotals!$E$53:$E$199, ROW(Subtotals!$E$53:$E$199)-MIN(ROW(Subtotals!$E$53:$E$199))+1, \"\"), ROW(A122))),\"\")","v":""},{"$f":"IFERROR(INDEX(Subtotals!$I$53:$I$199, SMALL(IF(Subtotals!$C$50=Subtotals!$E$53:$E$199, ROW(Subtotals!$E$53:$E$199)-MIN(ROW(Subtotals!$E$53:$E$199))+1, \"\"), ROW(A122))),\"\")","v":""}]
["","",null,null,null,null,null,null,null,null,null,null,"","","","",null,null,{"$f":"IFERROR(INDEX(Subtotals!$A$53:$A$199, SMALL(IF(Subtotals!$C$50=Subtotals!$E$53:$E$199, ROW(Subtotals!$E$53:$E$199)-MIN(ROW(Subtotals!$E$53:$E$199))+1, \"\"), ROW(A123))),\"\")","v":""},{"$f":"IFERROR(INDEX(Subtotals!$B$53:$B$199, SMALL(IF(Subtotals!$C$50=Subtotals!$E$53:$E$199, ROW(Subtotals!$E$53:$E$199)-MIN(ROW(Subtotals!$E$53:$E$199))+1, \"\"), ROW(A123))),\"\")","v":""},{"$f":"IFERROR(INDEX(Subtotals!$F$53:$F$199, SMALL(IF(Subtotals!$C$50=Subtotals!$E$53:$E$199, ROW(Subtotals!$E$53:$E$199)-MIN(ROW(Subtotals!$E$53:$E$199))+1, \"\"), ROW(A123))),\"\")","v":""},{"$f":"IFERROR(INDEX(Subtotals!$G$53:$G$199, SMALL(IF(Subtotals!$C$50=Subtotals!$E$53:$E$199, ROW(Subtotals!$E$53:$E$199)-MIN(ROW(Subtotals!$E$53:$E$199))+1, \"\"), ROW(A123))),\"\")","v":""},{"$f":"IFERROR(INDEX(Subtotals!$J$53:$J$199, SMALL(IF(Subtotals!$C$50=Subtotals!$E$53:$E$199, ROW(Subtotals!$E$53:$E$199)-MIN(ROW(Subtotals!$E$53:$E$199))+1, \"\"), ROW(A123))),\"\")","v":""},null,{"$f":"IFERROR(INDEX(Subtotals!$C$53:$C$199, SMALL(IF(Subtotals!$C$50=Subtotals!$E$53:$E$199, ROW(Subtotals!$E$53:$E$199)-MIN(ROW(Subtotals!$E$53:$E$199))+1, \"\"), ROW(A123))),\"\")","v":""},{"$f":"IFERROR(INDEX(Subtotals!$H$53:$H$199, SMALL(IF(Subtotals!$C$50=Subtotals!$E$53:$E$199, ROW(Subtotals!$E$53:$E$199)-MIN(ROW(Subtotals!$E$53:$E$199))+1, \"\"), ROW(A123))),\"\")","v":""},{"$f":"IFERROR(INDEX(Subtotals!$I$53:$I$199, SMALL(IF(Subtotals!$C$50=Subtotals!$E$53:$E$199, ROW(Subtotals!$E$53:$E$199)-MIN(ROW(Subtotals!$E$53:$E$199))+1, \"\"), ROW(A123))),\"\")","v":""}]
["","",null,null,null,null,null,null,null,null,null,null,"","","","",null,null,{"$f":"IFERROR(INDEX(Subtotals!$A$53:$A$199, SMALL(IF(Subtotals!$C$50=Subtotals!$E$53:$E$199, ROW(Subtotals!$E$53:$E$199)-MIN(ROW(Subtotals!$E$53:$E$199))+1, \"\"), ROW(A124))),\"\")","v":""},{"$f":"IFERROR(INDEX(Subtotals!$B$53:$B$199, SMALL(IF(Subtotals!$C$50=Subtotals!$E$53:$E$199, ROW(Subtotals!$E$53:$E$199)-MIN(ROW(Subtotals!$E$53:$E$199))+1, \"\"), ROW(A124))),\"\")","v":""},{"$f":"IFERROR(INDEX(Subtotals!$F$53:$F$199, SMALL(IF(Subtotals!$C$50=Subtotals!$E$53:$E$199, ROW(Subtotals!$E$53:$E$199)-MIN(ROW(Subtotals!$E$53:$E$199))+1, \"\"), ROW(A124))),\"\")","v":""},{"$f":"IFERROR(INDEX(Subtotals!$G$53:$G$199, SMALL(IF(Subtotals!$C$50=Subtotals!$E$53:$E$199, ROW(Subtotals!$E$53:$E$199)-MIN(ROW(Subtotals!$E$53:$E$199))+1, \"\"), ROW(A124))),\"\")","v":""},{"$f":"IFERROR(INDEX(Subtotals!$J$53:$J$199, SMALL(IF(Subtotals!$C$50=Subtotals!$E$53:$E$199, ROW(Subtotals!$E$53:$E$199)-MIN(ROW(Subtotals!$E$53:$E$199))+1, \"\"), ROW(A124))),\"\")","v":""},null,{"$f":"IFERROR(INDEX(Subtotals!$C$53:$C$199, SMALL(IF(Subtotals!$C$50=Subtotals!$E$53:$E$199, ROW(Subtotals!$E$53:$E$199)-MIN(ROW(Subtotals!$E$53:$E$199))+1, \"\"), ROW(A124))),\"\")","v":""},{"$f":"IFERROR(INDEX(Subtotals!$H$53:$H$199, SMALL(IF(Subtotals!$C$50=Subtotals!$E$53:$E$199, ROW(Subtotals!$E$53:$E$199)-MIN(ROW(Subtotals!$E$53:$E$199))+1, \"\"), ROW(A124))),\"\")","v":""},{"$f":"IFERROR(INDEX(Subtotals!$I$53:$I$199, SMALL(IF(Subtotals!$C$50=Subtotals!$E$53:$E$199, ROW(Subtotals!$E$53:$E$199)-MIN(ROW(Subtotals!$E$53:$E$199))+1, \"\"), ROW(A124))),\"\")","v":""}]
["","",null,null,null,null,null,null,null,null,null,null,"","","","",null,null,{"$f":"IFERROR(INDEX(Subtotals!$A$53:$A$199, SMALL(IF(Subtotals!$C$50=Subtotals!$E$53:$E$199, ROW(Subtotals!$E$53:$E$199)-MIN(ROW(Subtotals!$E$53:$E$199))+1, \"\"), ROW(A125))),\"\")","v":""},{"$f":"IFERROR(INDEX(Subtotals!$B$53:$B$199, SMALL(IF(Subtotals!$C$50=Subtotals!$E$53:$E$199, ROW(Subtotals!$E$53:$E$199)-MIN(ROW(Subtotals!$E$53:$E$199))+1, \"\"), ROW(A125))),\"\")","v":""},{"$f":"IFERROR(INDEX(Subtotals!$F$53:$F$199, SMALL(IF(Subtotals!$C$50=Subtotals!$E$53:$E$199, ROW(Subtotals!$E$53:$E$199)-MIN(ROW(Subtotals!$E$53:$E$199))+1, \"\"), ROW(A125))),\"\")","v":""},{"$f":"IFERROR(INDEX(Subtotals!$G$53:$G$199, SMALL(IF(Subtotals!$C$50=Subtotals!$E$53:$E$199, ROW(Subtotals!$E$53:$E$199)-MIN(ROW(Subtotals!$E$53:$E$199))+1, \"\"), ROW(A125))),\"\")","v":""},{"$f":"IFERROR(INDEX(Subtotals!$J$53:$J$199, SMALL(IF(Subtotals!$C$50=Subtotals!$E$53:$E$199, ROW(Subtotals!$E$53:$E$199)-MIN(ROW(Subtotals!$E$53:$E$199))+1, \"\"), ROW(A125))),\"\")","v":""},null,{"$f":"IFERROR(INDEX(Subtotals!$C$53:$C$199, SMALL(IF(Subtotals!$C$50=Subtotals!$E$53:$E$199, ROW(Subtotals!$E$53:$E$199)-MIN(ROW(Subtotals!$E$53:$E$199))+1, \"\"), ROW(A125))),\"\")","v":""},{"$f":"IFERROR(INDEX(Subtotals!$H$53:$H$199, SMALL(IF(Subtotals!$C$50=Subtotals!$E$53:$E$199, ROW(Subtotals!$E$53:$E$199)-MIN(ROW(Subtotals!$E$53:$E$199))+1, \"\"), ROW(A125))),\"\")","v":""},{"$f":"IFERROR(INDEX(Subtotals!$I$53:$I$199, SMALL(IF(Subtotals!$C$50=Subtotals!$E$53:$E$199, ROW(Subtotals!$E$53:$E$199)-MIN(ROW(Subtotals!$E$53:$E$199))+1, \"\"), ROW(A125))),\"\")","v":""}]
["","",null,null,null,null,null,null,null,null,null,null,"","","","",null,null,{"$f":"IFERROR(INDEX(Subtotals!$A$53:$A$199, SMALL(IF(Subtotals!$C$50=Subtotals!$E$53:$E$199, ROW(Subtotals!$E$53:$E$199)-MIN(ROW(Subtotals!$E$53:$E$199))+1, \"\"), ROW(A126))),\"\")","v":""},{"$f":"IFERROR(INDEX(Subtotals!$B$53:$B$199, SMALL(IF(Subtotals!$C$50=Subtotals!$E$53:$E$199, ROW(Subtotals!$E$53:$E$199)-MIN(ROW(Subtotals!$E$53:$E$199))+1, \"\"), ROW(A126))),\"\")","v":""},{"$f":"IFERROR(INDEX(Subtotals!$F$53:$F$199, SMALL(IF(Subtotals!$C$50=Subtotals!$E$53:$E$199, ROW(Subtotals!$E$53:$E$199)-MIN(ROW(Subtotals!$E$53:$E$199))+1, \"\"), ROW(A126))),\"\")","v":""},{"$f":"IFERROR(INDEX(Subtotals!$G$53:$G$199, SMALL(IF(Subtotals!$C$50=Subtotals!$E$53:$E$199, ROW(Subtotals!$E$53:$E$199)-MIN(ROW(Subtotals!$E$53:$E$199))+1, \"\"), ROW(A126))),\"\")","v":""},{"$f":"IFERROR(INDEX(Subtotals!$J$53:$J$199, SMALL(IF(Subtotals!$C$50=Subtotals!$E$53:$E$199, ROW(Subtotals!$E$53:$E$199)-MIN(ROW(Subtotals!$E$53:$E$199))+1, \"\"), ROW(A126))),\"\")","v":""},null,{"$f":"IFERROR(INDEX(Subtotals!$C$53:$C$199, SMALL(IF(Subtotals!$C$50=Subtotals!$E$53:$E$199, ROW(Subtotals!$E$53:$E$199)-MIN(ROW(Subtotals!$E$53:$E$199))+1, \"\"), ROW(A126))),\"\")","v":""},{"$f":"IFERROR(INDEX(Subtotals!$H$53:$H$199, SMALL(IF(Subtotals!$C$50=Subtotals!$E$53:$E$199, ROW(Subtotals!$E$53:$E$199)-MIN(ROW(Subtotals!$E$53:$E$199))+1, \"\"), ROW(A126))),\"\")","v":""},{"$f":"IFERROR(INDEX(Subtotals!$I$53:$I$199, SMALL(IF(Subtotals!$C$50=Subtotals!$E$53:$E$199, ROW(Subtotals!$E$53:$E$199)-MIN(ROW(Subtotals!$E$53:$E$199))+1, \"\"), ROW(A126))),\"\")","v":""}]
["","",null,null,null,null,null,null,null,null,null,null,"","","","",null,null,{"$f":"IFERROR(INDEX(Subtotals!$A$53:$A$199, SMALL(IF(Subtotals!$C$50=Subtotals!$E$53:$E$199, ROW(Subtotals!$E$53:$E$199)-MIN(ROW(Subtotals!$E$53:$E$199))+1, \"\"), ROW(A127))),\"\")","v":""},{"$f":"IFERROR(INDEX(Subtotals!$B$53:$B$199, SMALL(IF(Subtotals!$C$50=Subtotals!$E$53:$E$199, ROW(Subtotals!$E$53:$E$199)-MIN(ROW(Subtotals!$E$53:$E$199))+1, \"\"), ROW(A127))),\"\")","v":""},{"$f":"IFERROR(INDEX(Subtotals!$F$53:$F$199, SMALL(IF(Subtotals!$C$50=Subtotals!$E$53:$E$199, ROW(Subtotals!$E$53:$E$199)-MIN(ROW(Subtotals!$E$53:$E$199))+1, \"\"), ROW(A127))),\"\")","v":""},{"$f":"IFERROR(INDEX(Subtotals!$G$53:$G$199, SMALL(IF(Subtotals!$C$50=Subtotals!$E$53:$E$199, ROW(Subtotals!$E$53:$E$199)-MIN(ROW(Subtotals!$E$53:$E$199))+1, \"\"), ROW(A127))),\"\")","v":""},{"$f":"IFERROR(INDEX(Subtotals!$J$53:$J$199, SMALL(IF(Subtotals!$C$50=Subtotals!$E$53:$E$199, ROW(Subtotals!$E$53:$E$199)-MIN(ROW(Subtotals!$E$53:$E$199))+1, \"\"), ROW(A127))),\"\")","v":""},null,{"$f":"IFERROR(INDEX(Subtotals!$C$53:$C$199, SMALL(IF(Subtotals!$C$50=Subtotals!$E$53:$E$199, ROW(Subtotals!$E$53:$E$199)-MIN(ROW(Subtotals!$E$53:$E$199))+1, \"\"), ROW(A127))),\"\")","v":""},{"$f":"IFERROR(INDEX(Subtotals!$H$53:$H$199, SMALL(IF(Subtotals!$C$50=Subtotals!$E$53:$E$199, ROW(Subtotals!$E$53:$E$199)-MIN(ROW(Subtotals!$E$53:$E$199))+1, \"\"), ROW(A127))),\"\")","v":""},{"$f":"IFERROR(INDEX(Subtotals!$I$53:$I$199, SMALL(IF(Subtotals!$C$50=Subtotals!$E$53:$E$199, ROW(Subtotals!$E$53:$E$199)-MIN(ROW(Subtotals!$E$53:$E$199))+1, \"\"), ROW(A127))),\"\")","v":""}]
["","",null,null,null,null,null,null,null,null,null,null,"","","","",null,null,{"$f":"IFERROR(INDEX(Subtotals!$A$53:$A$199, SMALL(IF(Subtotals!$C$50=Subtotals!$E$53:$E$199, ROW(Subtotals!$E$53:$E$199)-MIN(ROW(Subtotals!$E$53:$E$199))+1, \"\"), ROW(A128))),\"\")","v":""},{"$f":"IFERROR(INDEX(Subtotals!$B$53:$B$199, SMALL(IF(Subtotals!$C$50=Subtotals!$E$53:$E$199, ROW(Subtotals!$E$53:$E$199)-MIN(ROW(Subtotals!$E$53:$E$199))+1, \"\"), ROW(A128))),\"\")","v":""},{"$f":"IFERROR(INDEX(Subtotals!$F$53:$F$199, SMALL(IF(Subtotals!$C$50=Subtotals!$E$53:$E$199, ROW(Subtotals!$E$53:$E$199)-MIN(ROW(Subtotals!$E$53:$E$199))+1, \"\"), ROW(A128))),\"\")","v":""},{"$f":"IFERROR(INDEX(Subtotals!$G$53:$G$199, SMALL(IF(Subtotals!$C$50=Subtotals!$E$53:$E$199, ROW(Subtotals!$E$53:$E$199)-MIN(ROW(Subtotals!$E$53:$E$199))+1, \"\"), ROW(A128))),\"\")","v":""},{"$f":"IFERROR(INDEX(Subtotals!$J$53:$J$199, SMALL(IF(Subtotals!$C$50=Subtotals!$E$53:$E$199, ROW(Subtotals!$E$53:$E$199)-MIN(ROW(Subtotals!$E$53:$E$199))+1, \"\"), ROW(A128))),\"\")","v":""},null,{"$f":"IFERROR(INDEX(Subtotals!$C$53:$C$199, SMALL(IF(Subtotals!$C$50=Subtotals!$E$53:$E$199, ROW(Subtotals!$E$53:$E$199)-MIN(ROW(Subtotals!$E$53:$E$199))+1, \"\"), ROW(A128))),\"\")","v":""},{"$f":"IFERROR(INDEX(Subtotals!$H$53:$H$199, SMALL(IF(Subtotals!$C$50=Subtotals!$E$53:$E$199, ROW(Subtotals!$E$53:$E$199)-MIN(ROW(Subtotals!$E$53:$E$199))+1, \"\"), ROW(A128))),\"\")","v":""},{"$f":"IFERROR(INDEX(Subtotals!$I$53:$I$199, SMALL(IF(Subtotals!$C$50=Subtotals!$E$53:$E$199, ROW(Subtotals!$E$53:$E$199)-MIN(ROW(Subtotals!$E$53:$E$199))+1, \"\"), ROW(A128))),\"\")","v":""}]
["","",null,null,null,null,null,null,null,null,null,null,"","","","",null,null,{"$f":"IFERROR(INDEX(Subtotals!$A$53:$A$199, SMALL(IF(Subtotals!$C$50=Subtotals!$E$53:$E$199, ROW(Subtotals!$E$53:$E$199)-MIN(ROW(Subtotals!$E$53:$E$199))+1, \"\"), ROW(A129))),\"\")","v":""},{"$f":"IFERROR(INDEX(Subtotals!$B$53:$B$199, SMALL(IF(Subtotals!$C$50=Subtotals!$E$53:$E$199, ROW(Subtotals!$E$53:$E$199)-MIN(ROW(Subtotals!$E$53:$E$199))+1, \"\"), ROW(A129))),\"\")","v":""},{"$f":"IFERROR(INDEX(Subtotals!$F$53:$F$199, SMALL(IF(Subtotals!$C$50=Subtotals!$E$53:$E$199, ROW(Subtotals!$E$53:$E$199)-MIN(ROW(Subtotals!$E$53:$E$199))+1, \"\"), ROW(A129))),\"\")","v":""},{"$f":"IFERROR(INDEX(Subtotals!$G$53:$G$199, SMALL(IF(Subtotals!$C$50=Subtotals!$E$53:$E$199, ROW(Subtotals!$E$53:$E$199)-MIN(ROW(Subtotals!$E$53:$E$199))+1, \"\"), ROW(A129))),\"\")","v":""},{"$f":"IFERROR(INDEX(Subtotals!$J$53:$J$199, SMALL(IF(Subtotals!$C$50=Subtotals!$E$53:$E$199, ROW(Subtotals!$E$53:$E$199)-MIN(ROW(Subtotals!$E$53:$E$199))+1, \"\"), ROW(A129))),\"\")","v":""},null,{"$f":"IFERROR(INDEX(Subtotals!$C$53:$C$199, SMALL(IF(Subtotals!$C$50=Subtotals!$E$53:$E$199, ROW(Subtotals!$E$53:$E$199)-MIN(ROW(Subtotals!$E$53:$E$199))+1, \"\"), ROW(A129))),\"\")","v":""},{"$f":"IFERROR(INDEX(Subtotals!$H$53:$H$199, SMALL(IF(Subtotals!$C$50=Subtotals!$E$53:$E$199, ROW(Subtotals!$E$53:$E$199)-MIN(ROW(Subtotals!$E$53:$E$199))+1, \"\"), ROW(A129))),\"\")","v":""},{"$f":"IFERROR(INDEX(Subtotals!$I$53:$I$199, SMALL(IF(Subtotals!$C$50=Subtotals!$E$53:$E$199, ROW(Subtotals!$E$53:$E$199)-MIN(ROW(Subtotals!$E$53:$E$199))+1, \"\"), ROW(A129))),\"\")","v":""}]
["","",null,null,null,null,null,null,null,null,null,null,"","","","",null,null,{"$f":"IFERROR(INDEX(Subtotals!$A$53:$A$199, SMALL(IF(Subtotals!$C$50=Subtotals!$E$53:$E$199, ROW(Subtotals!$E$53:$E$199)-MIN(ROW(Subtotals!$E$53:$E$199))+1, \"\"), ROW(A130))),\"\")","v":""},{"$f":"IFERROR(INDEX(Subtotals!$B$53:$B$199, SMALL(IF(Subtotals!$C$50=Subtotals!$E$53:$E$199, ROW(Subtotals!$E$53:$E$199)-MIN(ROW(Subtotals!$E$53:$E$199))+1, \"\"), ROW(A130))),\"\")","v":""},{"$f":"IFERROR(INDEX(Subtotals!$F$53:$F$199, SMALL(IF(Subtotals!$C$50=Subtotals!$E$53:$E$199, ROW(Subtotals!$E$53:$E$199)-MIN(ROW(Subtotals!$E$53:$E$199))+1, \"\"), ROW(A130))),\"\")","v":""},{"$f":"IFERROR(INDEX(Subtotals!$G$53:$G$199, SMALL(IF(Subtotals!$C$50=Subtotals!$E$53:$E$199, ROW(Subtotals!$E$53:$E$199)-MIN(ROW(Subtotals!$E$53:$E$199))+1, \"\"), ROW(A130))),\"\")","v":""},{"$f":"IFERROR(INDEX(Subtotals!$J$53:$J$199, SMALL(IF(Subtotals!$C$50=Subtotals!$E$53:$E$199, ROW(Subtotals!$E$53:$E$199)-MIN(ROW(Subtotals!$E$53:$E$199))+1, \"\"), ROW(A130))),\"\")","v":""},null,{"$f":"IFERROR(INDEX(Subtotals!$C$53:$C$199, SMALL(IF(Subtotals!$C$50=Subtotals!$E$53:$E$199, ROW(Subtotals!$E$53:$E$199)-MIN(ROW(Subtotals!$E$53:$E$199))+1, \"\"), ROW(A130))),\"\")","v":""},{"$f":"IFERROR(INDEX(Subtotals!$H$53:$H$199, SMALL(IF(Subtotals!$C$50=Subtotals!$E$53:$E$199, ROW(Subtotals!$E$53:$E$199)-MIN(ROW(Subtotals!$E$53:$E$199))+1, \"\"), ROW(A130))),\"\")","v":""},{"$f":"IFERROR(INDEX(Subtotals!$I$53:$I$199, SMALL(IF(Subtotals!$C$50=Subtotals!$E$53:$E$199, ROW(Subtotals!$E$53:$E$199)-MIN(ROW(Subtotals!$E$53:$E$199))+1, \"\"), ROW(A130))),\"\")","v":""}]
["","",null,null,null,null,null,null,null,null,null,null,"","","","",null,null,{"$f":"IFERROR(INDEX(Subtotals!$A$53:$A$199, SMALL(IF(Subtotals!$C$50=Subtotals!$E$53:$E$199, ROW(Subtotals!$E$53:$E$199)-MIN(ROW(Subtotals!$E$53:$E$199))+1, \"\"), ROW(A131))),\"\")","v":""},{"$f":"IFERROR(INDEX(Subtotals!$B$53:$B$199, SMALL(IF(Subtotals!$C$50=Subtotals!$E$53:$E$199, ROW(Subtotals!$E$53:$E$199)-MIN(ROW(Subtotals!$E$53:$E$199))+1, \"\"), ROW(A131))),\"\")","v":""},{"$f":"IFERROR(INDEX(Subtotals!$F$53:$F$199, SMALL(IF(Subtotals!$C$50=Subtotals!$E$53:$E$199, ROW(Subtotals!$E$53:$E$199)-MIN(ROW(Subtotals!$E$53:$E$199))+1, \"\"), ROW(A131))),\"\")","v":""},{"$f":"IFERROR(INDEX(Subtotals!$G$53:$G$199, SMALL(IF(Subtotals!$C$50=Subtotals!$E$53:$E$199, ROW(Subtotals!$E$53:$E$199)-MIN(ROW(Subtotals!$E$53:$E$199))+1, \"\"), ROW(A131))),\"\")","v":""},{"$f":"IFERROR(INDEX(Subtotals!$J$53:$J$199, SMALL(IF(Subtotals!$C$50=Subtotals!$E$53:$E$199, ROW(Subtotals!$E$53:$E$199)-MIN(ROW(Subtotals!$E$53:$E$199))+1, \"\"), ROW(A131))),\"\")","v":""},null,{"$f":"IFERROR(INDEX(Subtotals!$C$53:$C$199, SMALL(IF(Subtotals!$C$50=Subtotals!$E$53:$E$199, ROW(Subtotals!$E$53:$E$199)-MIN(ROW(Subtotals!$E$53:$E$199))+1, \"\"), ROW(A131))),\"\")","v":""},{"$f":"IFERROR(INDEX(Subtotals!$H$53:$H$199, SMALL(IF(Subtotals!$C$50=Subtotals!$E$53:$E$199, ROW(Subtotals!$E$53:$E$199)-MIN(ROW(Subtotals!$E$53:$E$199))+1, \"\"), ROW(A131))),\"\")","v":""},{"$f":"IFERROR(INDEX(Subtotals!$I$53:$I$199, SMALL(IF(Subtotals!$C$50=Subtotals!$E$53:$E$199, ROW(Subtotals!$E$53:$E$199)-MIN(ROW(Subtotals!$E$53:$E$199))+1, \"\"), ROW(A131))),\"\")","v":""}]
[{"$f":"IF(S137=\"\",\"\",S137)","v":""},{"$f":"IF(T137=\"\",\"\",T137)","v":""},null,null,null,null,null,null,null,null,null,null,null,null,null,null,null,null,{"$f":"IFERROR(INDEX(Subtotals!$A$53:$A$199, SMALL(IF(Subtotals!$C$50=Subtotals!$E$53:$E$199, ROW(Subtotals!$E$53:$E$199)-MIN(ROW(Subtotals!$E$53:$E$199))+1, \"\"), ROW(A132))),\"\")","v":""},{"$f":"IFERROR(INDEX(Subtotals!$B$53:$B$199, SMALL(IF(Subtotals!$C$50=Subtotals!$E$53:$E$199, ROW(Subtotals!$E$53:$E$199)-MIN(ROW(Subtotals!$E$53:$E$199))+1, \"\"), ROW(A132))),\"\")","v":""},{"$f":"IFERROR(INDEX(Subtotals!$F$53:$F$199, SMALL(IF(Subtotals!$C$50=Subtotals!$E$53:$E$199, ROW(Subtotals!$E$53:$E$199)-MIN(ROW(Subtotals!$E$53:$E$199))+1, \"\"), ROW(A132))),\"\")","v":""},{"$f":"IFERROR(INDEX(Subtotals!$G$53:$G$199, SMALL(IF(Subtotals!$C$50=Subtotals!$E$53:$E$199, ROW(Subtotals!$E$53:$E$199)-MIN(ROW(Subtotals!$E$53:$E$199))+1, \"\"), ROW(A132))),\"\")","v":""},{"$f":"IFERROR(INDEX(Subtotals!$J$53:$J$199, SMALL(IF(Subtotals!$C$50=Subtotals!$E$53:$E$199, ROW(Subtotals!$E$53:$E$199)-MIN(ROW(Subtotals!$E$53:$E$199))+1, \"\"), ROW(A132))),\"\")","v":""},null,{"$f":"IFERROR(INDEX(Subtotals!$C$53:$C$199, SMALL(IF(Subtotals!$C$50=Subtotals!$E$53:$E$199, ROW(Subtotals!$E$53:$E$199)-MIN(ROW(Subtotals!$E$53:$E$199))+1, \"\"), ROW(A132))),\"\")","v":""},{"$f":"IFERROR(INDEX(Subtotals!$H$53:$H$199, SMALL(IF(Subtotals!$C$50=Subtotals!$E$53:$E$199, ROW(Subtotals!$E$53:$E$199)-MIN(ROW(Subtotals!$E$53:$E$199))+1, \"\"), ROW(A132))),\"\")","v":""},{"$f":"IFERROR(INDEX(Subtotals!$I$53:$I$199, SMALL(IF(Subtotals!$C$50=Subtotals!$E$53:$E$199, ROW(Subtotals!$E$53:$E$199)-MIN(ROW(Subtotals!$E$53:$E$199))+1, \"\"), ROW(A132))),\"\")","v":""}]
[{"$f":"IF(S138=\"\",\"\",S138)","v":""},"",null,null,null,null,null,null,null,null,null,null,null,null,null,null,null,null,{"$f":"IFERROR(INDEX(Subtotals!$A$53:$A$199, SMALL(IF(Subtotals!$C$50=Subtotals!$E$53:$E$199, ROW(Subtotals!$E$53:$E$199)-MIN(ROW(Subtotals!$E$53:$E$199))+1, \"\"), ROW(A133))),\"\")","v":""},{"$f":"IFERROR(INDEX(Subtotals!$B$53:$B$199, SMALL(IF(Subtotals!$C$50=Subtotals!$E$53:$E$199, ROW(Subtotals!$E$53:$E$199)-MIN(ROW(Subtotals!$E$53:$E$199))+1, \"\"), ROW(A133))),\"\")","v":""},{"$f":"IFERROR(INDEX(Subtotals!$F$53:$F$199, SMALL(IF(Subtotals!$C$50=Subtotals!$E$53:$E$199, ROW(Subtotals!$E$53:$E$199)-MIN(ROW(Subtotals!$E$53:$E$199))+1, \"\"), ROW(A133))),\"\")","v":""},{"$f":"IFERROR(INDEX(Subtotals!$G$53:$G$199, SMALL(IF(Subtotals!$C$50=Subtotals!$E$53:$E$199, ROW(Subtotals!$E$53:$E$199)-MIN(ROW(Subtotals!$E$53:$E$199))+1, \"\"), ROW(A133))),\"\")","v":""},{"$f":"IFERROR(INDEX(Subtotals!$J$53:$J$199, SMALL(IF(Subtotals!$C$50=Subtotals!$E$53:$E$199, ROW(Subtotals!$E$53:$E$199)-MIN(ROW(Subtotals!$E$53:$E$199))+1, \"\"), ROW(A133))),\"\")","v":""},null,{"$f":"IFERROR(INDEX(Subtotals!$C$53:$C$199, SMALL(IF(Subtotals!$C$50=Subtotals!$E$53:$E$199, ROW(Subtotals!$E$53:$E$199)-MIN(ROW(Subtotals!$E$53:$E$199))+1, \"\"), ROW(A133))),\"\")","v":""},{"$f":"IFERROR(INDEX(Subtotals!$H$53:$H$199, SMALL(IF(Subtotals!$C$50=Subtotals!$E$53:$E$199, ROW(Subtotals!$E$53:$E$199)-MIN(ROW(Subtotals!$E$53:$E$199))+1, \"\"), ROW(A133))),\"\")","v":""},{"$f":"IFERROR(INDEX(Subtotals!$I$53:$I$199, SMALL(IF(Subtotals!$C$50=Subtotals!$E$53:$E$199, ROW(Subtotals!$E$53:$E$199)-MIN(ROW(Subtotals!$E$53:$E$199))+1, \"\"), ROW(A133))),\"\")","v":""}]
["","",null,null,null,null,null,null,null,null,null,null,null,null,null,null,null,null,{"$f":"IFERROR(INDEX(Subtotals!$A$53:$A$199, SMALL(IF(Subtotals!$C$50=Subtotals!$E$53:$E$199, ROW(Subtotals!$E$53:$E$199)-MIN(ROW(Subtotals!$E$53:$E$199))+1, \"\"), ROW(A134))),\"\")","v":""},{"$f":"IFERROR(INDEX(Subtotals!$B$53:$B$199, SMALL(IF(Subtotals!$C$50=Subtotals!$E$53:$E$199, ROW(Subtotals!$E$53:$E$199)-MIN(ROW(Subtotals!$E$53:$E$199))+1, \"\"), ROW(A134))),\"\")","v":""},{"$f":"IFERROR(INDEX(Subtotals!$F$53:$F$199, SMALL(IF(Subtotals!$C$50=Subtotals!$E$53:$E$199, ROW(Subtotals!$E$53:$E$199)-MIN(ROW(Subtotals!$E$53:$E$199))+1, \"\"), ROW(A134))),\"\")","v":""},{"$f":"IFERROR(INDEX(Subtotals!$G$53:$G$199, SMALL(IF(Subtotals!$C$50=Subtotals!$E$53:$E$199, ROW(Subtotals!$E$53:$E$199)-MIN(ROW(Subtotals!$E$53:$E$199))+1, \"\"), ROW(A134))),\"\")","v":""},{"$f":"IFERROR(INDEX(Subtotals!$J$53:$J$199, SMALL(IF(Subtotals!$C$50=Subtotals!$E$53:$E$199, ROW(Subtotals!$E$53:$E$199)-MIN(ROW(Subtotals!$E$53:$E$199))+1, \"\"), ROW(A134))),\"\")","v":""},null,{"$f":"IFERROR(INDEX(Subtotals!$C$53:$C$199, SMALL(IF(Subtotals!$C$50=Subtotals!$E$53:$E$199, ROW(Subtotals!$E$53:$E$199)-MIN(ROW(Subtotals!$E$53:$E$199))+1, \"\"), ROW(A134))),\"\")","v":""},{"$f":"IFERROR(INDEX(Subtotals!$H$53:$H$199, SMALL(IF(Subtotals!$C$50=Subtotals!$E$53:$E$199, ROW(Subtotals!$E$53:$E$199)-MIN(ROW(Subtotals!$E$53:$E$199))+1, \"\"), ROW(A134))),\"\")","v":""},{"$f":"IFERROR(INDEX(Subtotals!$I$53:$I$199, SMALL(IF(Subtotals!$C$50=Subtotals!$E$53:$E$199, ROW(Subtotals!$E$53:$E$199)-MIN(ROW(Subtotals!$E$53:$E$199))+1, \"\"), ROW(A134))),\"\")","v":""}]
["","",null,null,null,null,null,null,null,null,null,null,null,null,null,null,null,null,{"$f":"IFERROR(INDEX(Subtotals!$A$53:$A$199, SMALL(IF(Subtotals!$C$50=Subtotals!$E$53:$E$199, ROW(Subtotals!$E$53:$E$199)-MIN(ROW(Subtotals!$E$53:$E$199))+1, \"\"), ROW(A135))),\"\")","v":""},{"$f":"IFERROR(INDEX(Subtotals!$B$53:$B$199, SMALL(IF(Subtotals!$C$50=Subtotals!$E$53:$E$199, ROW(Subtotals!$E$53:$E$199)-MIN(ROW(Subtotals!$E$53:$E$199))+1, \"\"), ROW(A135))),\"\")","v":""},{"$f":"IFERROR(INDEX(Subtotals!$F$53:$F$199, SMALL(IF(Subtotals!$C$50=Subtotals!$E$53:$E$199, ROW(Subtotals!$E$53:$E$199)-MIN(ROW(Subtotals!$E$53:$E$199))+1, \"\"), ROW(A135))),\"\")","v":""},{"$f":"IFERROR(INDEX(Subtotals!$G$53:$G$199, SMALL(IF(Subtotals!$C$50=Subtotals!$E$53:$E$199, ROW(Subtotals!$E$53:$E$199)-MIN(ROW(Subtotals!$E$53:$E$199))+1, \"\"), ROW(A135))),\"\")","v":""},{"$f":"IFERROR(INDEX(Subtotals!$J$53:$J$199, SMALL(IF(Subtotals!$C$50=Subtotals!$E$53:$E$199, ROW(Subtotals!$E$53:$E$199)-MIN(ROW(Subtotals!$E$53:$E$199))+1, \"\"), ROW(A135))),\"\")","v":""},null,{"$f":"IFERROR(INDEX(Subtotals!$C$53:$C$199, SMALL(IF(Subtotals!$C$50=Subtotals!$E$53:$E$199, ROW(Subtotals!$E$53:$E$199)-MIN(ROW(Subtotals!$E$53:$E$199))+1, \"\"), ROW(A135))),\"\")","v":""},{"$f":"IFERROR(INDEX(Subtotals!$H$53:$H$199, SMALL(IF(Subtotals!$C$50=Subtotals!$E$53:$E$199, ROW(Subtotals!$E$53:$E$199)-MIN(ROW(Subtotals!$E$53:$E$199))+1, \"\"), ROW(A135))),\"\")","v":""},{"$f":"IFERROR(INDEX(Subtotals!$I$53:$I$199, SMALL(IF(Subtotals!$C$50=Subtotals!$E$53:$E$199, ROW(Subtotals!$E$53:$E$199)-MIN(ROW(Subtotals!$E$53:$E$199))+1, \"\"), ROW(A135))),\"\")","v":""}]
["","",null,null,null,null,null,null,null,null,null,null,null,null,null,null,null,null,{"$f":"IFERROR(INDEX(Subtotals!$A$53:$A$199, SMALL(IF(Subtotals!$C$50=Subtotals!$E$53:$E$199, ROW(Subtotals!$E$53:$E$199)-MIN(ROW(Subtotals!$E$53:$E$199))+1, \"\"), ROW(A136))),\"\")","v":""},{"$f":"IFERROR(INDEX(Subtotals!$B$53:$B$199, SMALL(IF(Subtotals!$C$50=Subtotals!$E$53:$E$199, ROW(Subtotals!$E$53:$E$199)-MIN(ROW(Subtotals!$E$53:$E$199))+1, \"\"), ROW(A136))),\"\")","v":""},{"$f":"IFERROR(INDEX(Subtotals!$F$53:$F$199, SMALL(IF(Subtotals!$C$50=Subtotals!$E$53:$E$199, ROW(Subtotals!$E$53:$E$199)-MIN(ROW(Subtotals!$E$53:$E$199))+1, \"\"), ROW(A136))),\"\")","v":""},{"$f":"IFERROR(INDEX(Subtotals!$G$53:$G$199, SMALL(IF(Subtotals!$C$50=Subtotals!$E$53:$E$199, ROW(Subtotals!$E$53:$E$199)-MIN(ROW(Subtotals!$E$53:$E$199))+1, \"\"), ROW(A136))),\"\")","v":""},{"$f":"IFERROR(INDEX(Subtotals!$J$53:$J$199, SMALL(IF(Subtotals!$C$50=Subtotals!$E$53:$E$199, ROW(Subtotals!$E$53:$E$199)-MIN(ROW(Subtotals!$E$53:$E$199))+1, \"\"), ROW(A136))),\"\")","v":""},null,{"$f":"IFERROR(INDEX(Subtotals!$C$53:$C$199, SMALL(IF(Subtotals!$C$50=Subtotals!$E$53:$E$199, ROW(Subtotals!$E$53:$E$199)-MIN(ROW(Subtotals!$E$53:$E$199))+1, \"\"), ROW(A136))),\"\")","v":""},{"$f":"IFERROR(INDEX(Subtotals!$H$53:$H$199, SMALL(IF(Subtotals!$C$50=Subtotals!$E$53:$E$199, ROW(Subtotals!$E$53:$E$199)-MIN(ROW(Subtotals!$E$53:$E$199))+1, \"\"), ROW(A136))),\"\")","v":""},{"$f":"IFERROR(INDEX(Subtotals!$I$53:$I$199, SMALL(IF(Subtotals!$C$50=Subtotals!$E$53:$E$199, ROW(Subtotals!$E$53:$E$199)-MIN(ROW(Subtotals!$E$53:$E$199))+1, \"\"), ROW(A136))),\"\")","v":""}]
["",{"$f":"IF(T142=\"\",\"\",T142)","v":""},null,null,null,null,null,null,null,null,null,null,null,null,null,null,null,null,{"$f":"IFERROR(INDEX(Subtotals!$A$53:$A$199, SMALL(IF(Subtotals!$C$50=Subtotals!$E$53:$E$199, ROW(Subtotals!$E$53:$E$199)-MIN(ROW(Subtotals!$E$53:$E$199))+1, \"\"), ROW(A137))),\"\")","v":""},{"$f":"IFERROR(INDEX(Subtotals!$B$53:$B$199, SMALL(IF(Subtotals!$C$50=Subtotals!$E$53:$E$199, ROW(Subtotals!$E$53:$E$199)-MIN(ROW(Subtotals!$E$53:$E$199))+1, \"\"), ROW(A137))),\"\")","v":""},{"$f":"IFERROR(INDEX(Subtotals!$F$53:$F$199, SMALL(IF(Subtotals!$C$50=Subtotals!$E$53:$E$199, ROW(Subtotals!$E$53:$E$199)-MIN(ROW(Subtotals!$E$53:$E$199))+1, \"\"), ROW(A137))),\"\")","v":""},{"$f":"IFERROR(INDEX(Subtotals!$G$53:$G$199, SMALL(IF(Subtotals!$C$50=Subtotals!$E$53:$E$199, ROW(Subtotals!$E$53:$E$199)-MIN(ROW(Subtotals!$E$53:$E$199))+1, \"\"), ROW(A137))),\"\")","v":""},{"$f":"IFERROR(INDEX(Subtotals!$J$53:$J$199, SMALL(IF(Subtotals!$C$50=Subtotals!$E$53:$E$199, ROW(Subtotals!$E$53:$E$199)-MIN(ROW(Subtotals!$E$53:$E$199))+1, \"\"), ROW(A137))),\"\")","v":""},null,{"$f":"IFERROR(INDEX(Subtotals!$C$53:$C$199, SMALL(IF(Subtotals!$C$50=Subtotals!$E$53:$E$199, ROW(Subtotals!$E$53:$E$199)-MIN(ROW(Subtotals!$E$53:$E$199))+1, \"\"), ROW(A137))),\"\")","v":""},{"$f":"IFERROR(INDEX(Subtotals!$H$53:$H$199, SMALL(IF(Subtotals!$C$50=Subtotals!$E$53:$E$199, ROW(Subtotals!$E$53:$E$199)-MIN(ROW(Subtotals!$E$53:$E$199))+1, \"\"), ROW(A137))),\"\")","v":""},{"$f":"IFERROR(INDEX(Subtotals!$I$53:$I$199, SMALL(IF(Subtotals!$C$50=Subtotals!$E$53:$E$199, ROW(Subtotals!$E$53:$E$199)-MIN(ROW(Subtotals!$E$53:$E$199))+1, \"\"), ROW(A137))),\"\")","v":""}]
["","",null,null,null,null,null,null,null,null,null,null,null,null,null,null,null,null,{"$f":"IFERROR(INDEX(Subtotals!$A$53:$A$199, SMALL(IF(Subtotals!$C$50=Subtotals!$E$53:$E$199, ROW(Subtotals!$E$53:$E$199)-MIN(ROW(Subtotals!$E$53:$E$199))+1, \"\"), ROW(A138))),\"\")","v":""},{"$f":"IFERROR(INDEX(Subtotals!$B$53:$B$199, SMALL(IF(Subtotals!$C$50=Subtotals!$E$53:$E$199, ROW(Subtotals!$E$53:$E$199)-MIN(ROW(Subtotals!$E$53:$E$199))+1, \"\"), ROW(A138))),\"\")","v":""},{"$f":"IFERROR(INDEX(Subtotals!$F$53:$F$199, SMALL(IF(Subtotals!$C$50=Subtotals!$E$53:$E$199, ROW(Subtotals!$E$53:$E$199)-MIN(ROW(Subtotals!$E$53:$E$199))+1, \"\"), ROW(A138))),\"\")","v":""},{"$f":"IFERROR(INDEX(Subtotals!$G$53:$G$199, SMALL(IF(Subtotals!$C$50=Subtotals!$E$53:$E$199, ROW(Subtotals!$E$53:$E$199)-MIN(ROW(Subtotals!$E$53:$E$199))+1, \"\"), ROW(A138))),\"\")","v":""},{"$f":"IFERROR(INDEX(Subtotals!$J$53:$J$199, SMALL(IF(Subtotals!$C$50=Subtotals!$E$53:$E$199, ROW(Subtotals!$E$53:$E$199)-MIN(ROW(Subtotals!$E$53:$E$199))+1, \"\"), ROW(A138))),\"\")","v":""},null,{"$f":"IFERROR(INDEX(Subtotals!$C$53:$C$199, SMALL(IF(Subtotals!$C$50=Subtotals!$E$53:$E$199, ROW(Subtotals!$E$53:$E$199)-MIN(ROW(Subtotals!$E$53:$E$199))+1, \"\"), ROW(A138))),\"\")","v":""},{"$f":"IFERROR(INDEX(Subtotals!$H$53:$H$199, SMALL(IF(Subtotals!$C$50=Subtotals!$E$53:$E$199, ROW(Subtotals!$E$53:$E$199)-MIN(ROW(Subtotals!$E$53:$E$199))+1, \"\"), ROW(A138))),\"\")","v":""},{"$f":"IFERROR(INDEX(Subtotals!$I$53:$I$199, SMALL(IF(Subtotals!$C$50=Subtotals!$E$53:$E$199, ROW(Subtotals!$E$53:$E$199)-MIN(ROW(Subtotals!$E$53:$E$199))+1, \"\"), ROW(A138))),\"\")","v":""}]
["","",null,null,null,null,null,null,null,null,null,null,null,null,null,null,null,null,{"$f":"IFERROR(INDEX(Subtotals!$A$53:$A$199, SMALL(IF(Subtotals!$C$50=Subtotals!$E$53:$E$199, ROW(Subtotals!$E$53:$E$199)-MIN(ROW(Subtotals!$E$53:$E$199))+1, \"\"), ROW(A139))),\"\")","v":""},{"$f":"IFERROR(INDEX(Subtotals!$B$53:$B$199, SMALL(IF(Subtotals!$C$50=Subtotals!$E$53:$E$199, ROW(Subtotals!$E$53:$E$199)-MIN(ROW(Subtotals!$E$53:$E$199))+1, \"\"), ROW(A139))),\"\")","v":""},{"$f":"IFERROR(INDEX(Subtotals!$F$53:$F$199, SMALL(IF(Subtotals!$C$50=Subtotals!$E$53:$E$199, ROW(Subtotals!$E$53:$E$199)-MIN(ROW(Subtotals!$E$53:$E$199))+1, \"\"), ROW(A139))),\"\")","v":""},{"$f":"IFERROR(INDEX(Subtotals!$G$53:$G$199, SMALL(IF(Subtotals!$C$50=Subtotals!$E$53:$E$199, ROW(Subtotals!$E$53:$E$199)-MIN(ROW(Subtotals!$E$53:$E$199))+1, \"\"), ROW(A139))),\"\")","v":""},{"$f":"IFERROR(INDEX(Subtotals!$J$53:$J$199, SMALL(IF(Subtotals!$C$50=Subtotals!$E$53:$E$199, ROW(Subtotals!$E$53:$E$199)-MIN(ROW(Subtotals!$E$53:$E$199))+1, \"\"), ROW(A139))),\"\")","v":""},null,{"$f":"IFERROR(INDEX(Subtotals!$C$53:$C$199, SMALL(IF(Subtotals!$C$50=Subtotals!$E$53:$E$199, ROW(Subtotals!$E$53:$E$199)-MIN(ROW(Subtotals!$E$53:$E$199))+1, \"\"), ROW(A139))),\"\")","v":""},{"$f":"IFERROR(INDEX(Subtotals!$H$53:$H$199, SMALL(IF(Subtotals!$C$50=Subtotals!$E$53:$E$199, ROW(Subtotals!$E$53:$E$199)-MIN(ROW(Subtotals!$E$53:$E$199))+1, \"\"), ROW(A139))),\"\")","v":""},{"$f":"IFERROR(INDEX(Subtotals!$I$53:$I$199, SMALL(IF(Subtotals!$C$50=Subtotals!$E$53:$E$199, ROW(Subtotals!$E$53:$E$199)-MIN(ROW(Subtotals!$E$53:$E$199))+1, \"\"), ROW(A139))),\"\")","v":""}]
["","",null,null,null,null,null,null,null,null,null,null,null,null,null,null,null,null,{"$f":"IFERROR(INDEX(Subtotals!$A$53:$A$199, SMALL(IF(Subtotals!$C$50=Subtotals!$E$53:$E$199, ROW(Subtotals!$E$53:$E$199)-MIN(ROW(Subtotals!$E$53:$E$199))+1, \"\"), ROW(A140))),\"\")","v":""},{"$f":"IFERROR(INDEX(Subtotals!$B$53:$B$199, SMALL(IF(Subtotals!$C$50=Subtotals!$E$53:$E$199, ROW(Subtotals!$E$53:$E$199)-MIN(ROW(Subtotals!$E$53:$E$199))+1, \"\"), ROW(A140))),\"\")","v":""},{"$f":"IFERROR(INDEX(Subtotals!$F$53:$F$199, SMALL(IF(Subtotals!$C$50=Subtotals!$E$53:$E$199, ROW(Subtotals!$E$53:$E$199)-MIN(ROW(Subtotals!$E$53:$E$199))+1, \"\"), ROW(A140))),\"\")","v":""},{"$f":"IFERROR(INDEX(Subtotals!$G$53:$G$199, SMALL(IF(Subtotals!$C$50=Subtotals!$E$53:$E$199, ROW(Subtotals!$E$53:$E$199)-MIN(ROW(Subtotals!$E$53:$E$199))+1, \"\"), ROW(A140))),\"\")","v":""},{"$f":"IFERROR(INDEX(Subtotals!$J$53:$J$199, SMALL(IF(Subtotals!$C$50=Subtotals!$E$53:$E$199, ROW(Subtotals!$E$53:$E$199)-MIN(ROW(Subtotals!$E$53:$E$199))+1, \"\"), ROW(A140))),\"\")","v":""},null,{"$f":"IFERROR(INDEX(Subtotals!$C$53:$C$199, SMALL(IF(Subtotals!$C$50=Subtotals!$E$53:$E$199, ROW(Subtotals!$E$53:$E$199)-MIN(ROW(Subtotals!$E$53:$E$199))+1, \"\"), ROW(A140))),\"\")","v":""},{"$f":"IFERROR(INDEX(Subtotals!$H$53:$H$199, SMALL(IF(Subtotals!$C$50=Subtotals!$E$53:$E$199, ROW(Subtotals!$E$53:$E$199)-MIN(ROW(Subtotals!$E$53:$E$199))+1, \"\"), ROW(A140))),\"\")","v":""},{"$f":"IFERROR(INDEX(Subtotals!$I$53:$I$199, SMALL(IF(Subtotals!$C$50=Subtotals!$E$53:$E$199, ROW(Subtotals!$E$53:$E$199)-MIN(ROW(Subtotals!$E$53:$E$199))+1, \"\"), ROW(A140))),\"\")","v":""}]
["","",null,null,null,null,null,null,null,null,null,null,null,null,null,null,null,null,{"$f":"IFERROR(INDEX(Subtotals!$A$53:$A$199, SMALL(IF(Subtotals!$C$50=Subtotals!$E$53:$E$199, ROW(Subtotals!$E$53:$E$199)-MIN(ROW(Subtotals!$E$53:$E$199))+1, \"\"), ROW(A141))),\"\")","v":""},{"$f":"IFERROR(INDEX(Subtotals!$B$53:$B$199, SMALL(IF(Subtotals!$C$50=Subtotals!$E$53:$E$199, ROW(Subtotals!$E$53:$E$199)-MIN(ROW(Subtotals!$E$53:$E$199))+1, \"\"), ROW(A141))),\"\")","v":""},{"$f":"IFERROR(INDEX(Subtotals!$F$53:$F$199, SMALL(IF(Subtotals!$C$50=Subtotals!$E$53:$E$199, ROW(Subtotals!$E$53:$E$199)-MIN(ROW(Subtotals!$E$53:$E$199))+1, \"\"), ROW(A141))),\"\")","v":""},{"$f":"IFERROR(INDEX(Subtotals!$G$53:$G$199, SMALL(IF(Subtotals!$C$50=Subtotals!$E$53:$E$199, ROW(Subtotals!$E$53:$E$199)-MIN(ROW(Subtotals!$E$53:$E$199))+1, \"\"), ROW(A141))),\"\")","v":""},{"$f":"IFERROR(INDEX(Subtotals!$J$53:$J$199, SMALL(IF(Subtotals!$C$50=Subtotals!$E$53:$E$199, ROW(Subtotals!$E$53:$E$199)-MIN(ROW(Subtotals!$E$53:$E$199))+1, \"\"), ROW(A141))),\"\")","v":""},null,{"$f":"IFERROR(INDEX(Subtotals!$C$53:$C$199, SMALL(IF(Subtotals!$C$50=Subtotals!$E$53:$E$199, ROW(Subtotals!$E$53:$E$199)-MIN(ROW(Subtotals!$E$53:$E$199))+1, \"\"), ROW(A141))),\"\")","v":""},{"$f":"IFERROR(INDEX(Subtotals!$H$53:$H$199, SMALL(IF(Subtotals!$C$50=Subtotals!$E$53:$E$199, ROW(Subtotals!$E$53:$E$199)-MIN(ROW(Subtotals!$E$53:$E$199))+1, \"\"), ROW(A141))),\"\")","v":""},{"$f":"IFERROR(INDEX(Subtotals!$I$53:$I$199, SMALL(IF(Subtotals!$C$50=Subtotals!$E$53:$E$199, ROW(Subtotals!$E$53:$E$199)-MIN(ROW(Subtotals!$E$53:$E$199))+1, \"\"), ROW(A141))),\"\")","v":""}]
["","",null,null,null,null,null,null,null,null,null,null,null,null,null,null,null,null,{"$f":"IFERROR(INDEX(Subtotals!$A$53:$A$199, SMALL(IF(Subtotals!$C$50=Subtotals!$E$53:$E$199, ROW(Subtotals!$E$53:$E$199)-MIN(ROW(Subtotals!$E$53:$E$199))+1, \"\"), ROW(A142))),\"\")","v":""},{"$f":"IFERROR(INDEX(Subtotals!$B$53:$B$199, SMALL(IF(Subtotals!$C$50=Subtotals!$E$53:$E$199, ROW(Subtotals!$E$53:$E$199)-MIN(ROW(Subtotals!$E$53:$E$199))+1, \"\"), ROW(A142))),\"\")","v":""},{"$f":"IFERROR(INDEX(Subtotals!$F$53:$F$199, SMALL(IF(Subtotals!$C$50=Subtotals!$E$53:$E$199, ROW(Subtotals!$E$53:$E$199)-MIN(ROW(Subtotals!$E$53:$E$199))+1, \"\"), ROW(A142))),\"\")","v":""},{"$f":"IFERROR(INDEX(Subtotals!$G$53:$G$199, SMALL(IF(Subtotals!$C$50=Subtotals!$E$53:$E$199, ROW(Subtotals!$E$53:$E$199)-MIN(ROW(Subtotals!$E$53:$E$199))+1, \"\"), ROW(A142))),\"\")","v":""},{"$f":"IFERROR(INDEX(Subtotals!$J$53:$J$199, SMALL(IF(Subtotals!$C$50=Subtotals!$E$53:$E$199, ROW(Subtotals!$E$53:$E$199)-MIN(ROW(Subtotals!$E$53:$E$199))+1, \"\"), ROW(A142))),\"\")","v":""},null,{"$f":"IFERROR(INDEX(Subtotals!$C$53:$C$199, SMALL(IF(Subtotals!$C$50=Subtotals!$E$53:$E$199, ROW(Subtotals!$E$53:$E$199)-MIN(ROW(Subtotals!$E$53:$E$199))+1, \"\"), ROW(A142))),\"\")","v":""},{"$f":"IFERROR(INDEX(Subtotals!$H$53:$H$199, SMALL(IF(Subtotals!$C$50=Subtotals!$E$53:$E$199, ROW(Subtotals!$E$53:$E$199)-MIN(ROW(Subtotals!$E$53:$E$199))+1, \"\"), ROW(A142))),\"\")","v":""},{"$f":"IFERROR(INDEX(Subtotals!$I$53:$I$199, SMALL(IF(Subtotals!$C$50=Subtotals!$E$53:$E$199, ROW(Subtotals!$E$53:$E$199)-MIN(ROW(Subtotals!$E$53:$E$199))+1, \"\"), ROW(A142))),\"\")","v":""}]
["","",null,null,null,null,null,null,null,null,null,null,null,null,null,null,null,null,{"$f":"IFERROR(INDEX(Subtotals!$A$53:$A$199, SMALL(IF(Subtotals!$C$50=Subtotals!$E$53:$E$199, ROW(Subtotals!$E$53:$E$199)-MIN(ROW(Subtotals!$E$53:$E$199))+1, \"\"), ROW(A143))),\"\")","v":""},{"$f":"IFERROR(INDEX(Subtotals!$B$53:$B$199, SMALL(IF(Subtotals!$C$50=Subtotals!$E$53:$E$199, ROW(Subtotals!$E$53:$E$199)-MIN(ROW(Subtotals!$E$53:$E$199))+1, \"\"), ROW(A143))),\"\")","v":""},{"$f":"IFERROR(INDEX(Subtotals!$F$53:$F$199, SMALL(IF(Subtotals!$C$50=Subtotals!$E$53:$E$199, ROW(Subtotals!$E$53:$E$199)-MIN(ROW(Subtotals!$E$53:$E$199))+1, \"\"), ROW(A143))),\"\")","v":""},{"$f":"IFERROR(INDEX(Subtotals!$G$53:$G$199, SMALL(IF(Subtotals!$C$50=Subtotals!$E$53:$E$199, ROW(Subtotals!$E$53:$E$199)-MIN(ROW(Subtotals!$E$53:$E$199))+1, \"\"), ROW(A143))),\"\")","v":""},{"$f":"IFERROR(INDEX(Subtotals!$J$53:$J$199, SMALL(IF(Subtotals!$C$50=Subtotals!$E$53:$E$199, ROW(Subtotals!$E$53:$E$199)-MIN(ROW(Subtotals!$E$53:$E$199))+1, \"\"), ROW(A143))),\"\")","v":""},null,{"$f":"IFERROR(INDEX(Subtotals!$C$53:$C$199, SMALL(IF(Subtotals!$C$50=Subtotals!$E$53:$E$199, ROW(Subtotals!$E$53:$E$199)-MIN(ROW(Subtotals!$E$53:$E$199))+1, \"\"), ROW(A143))),\"\")","v":""},{"$f":"IFERROR(INDEX(Subtotals!$H$53:$H$199, SMALL(IF(Subtotals!$C$50=Subtotals!$E$53:$E$199, ROW(Subtotals!$E$53:$E$199)-MIN(ROW(Subtotals!$E$53:$E$199))+1, \"\"), ROW(A143))),\"\")","v":""},{"$f":"IFERROR(INDEX(Subtotals!$I$53:$I$199, SMALL(IF(Subtotals!$C$50=Subtotals!$E$53:$E$199, ROW(Subtotals!$E$53:$E$199)-MIN(ROW(Subtotals!$E$53:$E$199))+1, \"\"), ROW(A143))),\"\")","v":""}]
["","",null,null,null,null,null,null,null,null,null,null,null,null,null,null,null,null,{"$f":"IFERROR(INDEX(Subtotals!$A$53:$A$199, SMALL(IF(Subtotals!$C$50=Subtotals!$E$53:$E$199, ROW(Subtotals!$E$53:$E$199)-MIN(ROW(Subtotals!$E$53:$E$199))+1, \"\"), ROW(A144))),\"\")","v":""},{"$f":"IFERROR(INDEX(Subtotals!$B$53:$B$199, SMALL(IF(Subtotals!$C$50=Subtotals!$E$53:$E$199, ROW(Subtotals!$E$53:$E$199)-MIN(ROW(Subtotals!$E$53:$E$199))+1, \"\"), ROW(A144))),\"\")","v":""},{"$f":"IFERROR(INDEX(Subtotals!$F$53:$F$199, SMALL(IF(Subtotals!$C$50=Subtotals!$E$53:$E$199, ROW(Subtotals!$E$53:$E$199)-MIN(ROW(Subtotals!$E$53:$E$199))+1, \"\"), ROW(A144))),\"\")","v":""},{"$f":"IFERROR(INDEX(Subtotals!$G$53:$G$199, SMALL(IF(Subtotals!$C$50=Subtotals!$E$53:$E$199, ROW(Subtotals!$E$53:$E$199)-MIN(ROW(Subtotals!$E$53:$E$199))+1, \"\"), ROW(A144))),\"\")","v":""},{"$f":"IFERROR(INDEX(Subtotals!$J$53:$J$199, SMALL(IF(Subtotals!$C$50=Subtotals!$E$53:$E$199, ROW(Subtotals!$E$53:$E$199)-MIN(ROW(Subtotals!$E$53:$E$199))+1, \"\"), ROW(A144))),\"\")","v":""},null,{"$f":"IFERROR(INDEX(Subtotals!$C$53:$C$199, SMALL(IF(Subtotals!$C$50=Subtotals!$E$53:$E$199, ROW(Subtotals!$E$53:$E$199)-MIN(ROW(Subtotals!$E$53:$E$199))+1, \"\"), ROW(A144))),\"\")","v":""},{"$f":"IFERROR(INDEX(Subtotals!$H$53:$H$199, SMALL(IF(Subtotals!$C$50=Subtotals!$E$53:$E$199, ROW(Subtotals!$E$53:$E$199)-MIN(ROW(Subtotals!$E$53:$E$199))+1, \"\"), ROW(A144))),\"\")","v":""},{"$f":"IFERROR(INDEX(Subtotals!$I$53:$I$199, SMALL(IF(Subtotals!$C$50=Subtotals!$E$53:$E$199, ROW(Subtotals!$E$53:$E$199)-MIN(ROW(Subtotals!$E$53:$E$199))+1, \"\"), ROW(A144))),\"\")","v":""}]
["","",null,null,null,null,null,null,null,null,null,null,null,null,null,null,null,null,{"$f":"IFERROR(INDEX(Subtotals!$A$53:$A$199, SMALL(IF(Subtotals!$C$50=Subtotals!$E$53:$E$199, ROW(Subtotals!$E$53:$E$199)-MIN(ROW(Subtotals!$E$53:$E$199))+1, \"\"), ROW(A145))),\"\")","v":""},{"$f":"IFERROR(INDEX(Subtotals!$B$53:$B$199, SMALL(IF(Subtotals!$C$50=Subtotals!$E$53:$E$199, ROW(Subtotals!$E$53:$E$199)-MIN(ROW(Subtotals!$E$53:$E$199))+1, \"\"), ROW(A145))),\"\")","v":""},{"$f":"IFERROR(INDEX(Subtotals!$F$53:$F$199, SMALL(IF(Subtotals!$C$50=Subtotals!$E$53:$E$199, ROW(Subtotals!$E$53:$E$199)-MIN(ROW(Subtotals!$E$53:$E$199))+1, \"\"), ROW(A145))),\"\")","v":""},{"$f":"IFERROR(INDEX(Subtotals!$G$53:$G$199, SMALL(IF(Subtotals!$C$50=Subtotals!$E$53:$E$199, ROW(Subtotals!$E$53:$E$199)-MIN(ROW(Subtotals!$E$53:$E$199))+1, \"\"), ROW(A145))),\"\")","v":""},{"$f":"IFERROR(INDEX(Subtotals!$J$53:$J$199, SMALL(IF(Subtotals!$C$50=Subtotals!$E$53:$E$199, ROW(Subtotals!$E$53:$E$199)-MIN(ROW(Subtotals!$E$53:$E$199))+1, \"\"), ROW(A145))),\"\")","v":""},null,{"$f":"IFERROR(INDEX(Subtotals!$C$53:$C$199, SMALL(IF(Subtotals!$C$50=Subtotals!$E$53:$E$199, ROW(Subtotals!$E$53:$E$199)-MIN(ROW(Subtotals!$E$53:$E$199))+1, \"\"), ROW(A145))),\"\")","v":""},{"$f":"IFERROR(INDEX(Subtotals!$H$53:$H$199, SMALL(IF(Subtotals!$C$50=Subtotals!$E$53:$E$199, ROW(Subtotals!$E$53:$E$199)-MIN(ROW(Subtotals!$E$53:$E$199))+1, \"\"), ROW(A145))),\"\")","v":""},{"$f":"IFERROR(INDEX(Subtotals!$I$53:$I$199, SMALL(IF(Subtotals!$C$50=Subtotals!$E$53:$E$199, ROW(Subtotals!$E$53:$E$199)-MIN(ROW(Subtotals!$E$53:$E$199))+1, \"\"), ROW(A145))),\"\")","v":""}]
["","",null,null,null,null,null,null,null,null,null,null,null,null,null,null,null,null,{"$f":"IFERROR(INDEX(Subtotals!$A$53:$A$199, SMALL(IF(Subtotals!$C$50=Subtotals!$E$53:$E$199, ROW(Subtotals!$E$53:$E$199)-MIN(ROW(Subtotals!$E$53:$E$199))+1, \"\"), ROW(A146))),\"\")","v":""},{"$f":"IFERROR(INDEX(Subtotals!$B$53:$B$199, SMALL(IF(Subtotals!$C$50=Subtotals!$E$53:$E$199, ROW(Subtotals!$E$53:$E$199)-MIN(ROW(Subtotals!$E$53:$E$199))+1, \"\"), ROW(A146))),\"\")","v":""},{"$f":"IFERROR(INDEX(Subtotals!$F$53:$F$199, SMALL(IF(Subtotals!$C$50=Subtotals!$E$53:$E$199, ROW(Subtotals!$E$53:$E$199)-MIN(ROW(Subtotals!$E$53:$E$199))+1, \"\"), ROW(A146))),\"\")","v":""},{"$f":"IFERROR(INDEX(Subtotals!$G$53:$G$199, SMALL(IF(Subtotals!$C$50=Subtotals!$E$53:$E$199, ROW(Subtotals!$E$53:$E$199)-MIN(ROW(Subtotals!$E$53:$E$199))+1, \"\"), ROW(A146))),\"\")","v":""},{"$f":"IFERROR(INDEX(Subtotals!$J$53:$J$199, SMALL(IF(Subtotals!$C$50=Subtotals!$E$53:$E$199, ROW(Subtotals!$E$53:$E$199)-MIN(ROW(Subtotals!$E$53:$E$199))+1, \"\"), ROW(A146))),\"\")","v":""},null,{"$f":"IFERROR(INDEX(Subtotals!$C$53:$C$199, SMALL(IF(Subtotals!$C$50=Subtotals!$E$53:$E$199, ROW(Subtotals!$E$53:$E$199)-MIN(ROW(Subtotals!$E$53:$E$199))+1, \"\"), ROW(A146))),\"\")","v":""},{"$f":"IFERROR(INDEX(Subtotals!$H$53:$H$199, SMALL(IF(Subtotals!$C$50=Subtotals!$E$53:$E$199, ROW(Subtotals!$E$53:$E$199)-MIN(ROW(Subtotals!$E$53:$E$199))+1, \"\"), ROW(A146))),\"\")","v":""},{"$f":"IFERROR(INDEX(Subtotals!$I$53:$I$199, SMALL(IF(Subtotals!$C$50=Subtotals!$E$53:$E$199, ROW(Subtotals!$E$53:$E$199)-MIN(ROW(Subtotals!$E$53:$E$199))+1, \"\"), ROW(A146))),\"\")","v":""}]
["","",null,null,null,null,null,null,null,null,null,null,null,null,null,null,null,null,{"$f":"IFERROR(INDEX(Subtotals!$A$53:$A$199, SMALL(IF(Subtotals!$C$50=Subtotals!$E$53:$E$199, ROW(Subtotals!$E$53:$E$199)-MIN(ROW(Subtotals!$E$53:$E$199))+1, \"\"), ROW(A147))),\"\")","v":""},{"$f":"IFERROR(INDEX(Subtotals!$B$53:$B$199, SMALL(IF(Subtotals!$C$50=Subtotals!$E$53:$E$199, ROW(Subtotals!$E$53:$E$199)-MIN(ROW(Subtotals!$E$53:$E$199))+1, \"\"), ROW(A147))),\"\")","v":""},{"$f":"IFERROR(INDEX(Subtotals!$F$53:$F$199, SMALL(IF(Subtotals!$C$50=Subtotals!$E$53:$E$199, ROW(Subtotals!$E$53:$E$199)-MIN(ROW(Subtotals!$E$53:$E$199))+1, \"\"), ROW(A147))),\"\")","v":""},{"$f":"IFERROR(INDEX(Subtotals!$G$53:$G$199, SMALL(IF(Subtotals!$C$50=Subtotals!$E$53:$E$199, ROW(Subtotals!$E$53:$E$199)-MIN(ROW(Subtotals!$E$53:$E$199))+1, \"\"), ROW(A147))),\"\")","v":""},{"$f":"IFERROR(INDEX(Subtotals!$J$53:$J$199, SMALL(IF(Subtotals!$C$50=Subtotals!$E$53:$E$199, ROW(Subtotals!$E$53:$E$199)-MIN(ROW(Subtotals!$E$53:$E$199))+1, \"\"), ROW(A147))),\"\")","v":""},null,{"$f":"IFERROR(INDEX(Subtotals!$C$53:$C$199, SMALL(IF(Subtotals!$C$50=Subtotals!$E$53:$E$199, ROW(Subtotals!$E$53:$E$199)-MIN(ROW(Subtotals!$E$53:$E$199))+1, \"\"), ROW(A147))),\"\")","v":""},{"$f":"IFERROR(INDEX(Subtotals!$H$53:$H$199, SMALL(IF(Subtotals!$C$50=Subtotals!$E$53:$E$199, ROW(Subtotals!$E$53:$E$199)-MIN(ROW(Subtotals!$E$53:$E$199))+1, \"\"), ROW(A147))),\"\")","v":""},{"$f":"IFERROR(INDEX(Subtotals!$I$53:$I$199, SMALL(IF(Subtotals!$C$50=Subtotals!$E$53:$E$199, ROW(Subtotals!$E$53:$E$199)-MIN(ROW(Subtotals!$E$53:$E$199))+1, \"\"), ROW(A147))),\"\")","v":""}]
["","",null,null,null,null,null,null,null,null,null,null,null,null,null,null,null,null,{"$f":"IFERROR(INDEX(Subtotals!$A$53:$A$199, SMALL(IF(Subtotals!$C$50=Subtotals!$E$53:$E$199, ROW(Subtotals!$E$53:$E$199)-MIN(ROW(Subtotals!$E$53:$E$199))+1, \"\"), ROW(A148))),\"\")","v":""},{"$f":"IFERROR(INDEX(Subtotals!$B$53:$B$199, SMALL(IF(Subtotals!$C$50=Subtotals!$E$53:$E$199, ROW(Subtotals!$E$53:$E$199)-MIN(ROW(Subtotals!$E$53:$E$199))+1, \"\"), ROW(A148))),\"\")","v":""},{"$f":"IFERROR(INDEX(Subtotals!$F$53:$F$199, SMALL(IF(Subtotals!$C$50=Subtotals!$E$53:$E$199, ROW(Subtotals!$E$53:$E$199)-MIN(ROW(Subtotals!$E$53:$E$199))+1, \"\"), ROW(A148))),\"\")","v":""},{"$f":"IFERROR(INDEX(Subtotals!$G$53:$G$199, SMALL(IF(Subtotals!$C$50=Subtotals!$E$53:$E$199, ROW(Subtotals!$E$53:$E$199)-MIN(ROW(Subtotals!$E$53:$E$199))+1, \"\"), ROW(A148))),\"\")","v":""},{"$f":"IFERROR(INDEX(Subtotals!$J$53:$J$199, SMALL(IF(Subtotals!$C$50=Subtotals!$E$53:$E$199, ROW(Subtotals!$E$53:$E$199)-MIN(ROW(Subtotals!$E$53:$E$199))+1, \"\"), ROW(A148))),\"\")","v":""},null,{"$f":"IFERROR(INDEX(Subtotals!$C$53:$C$199, SMALL(IF(Subtotals!$C$50=Subtotals!$E$53:$E$199, ROW(Subtotals!$E$53:$E$199)-MIN(ROW(Subtotals!$E$53:$E$199))+1, \"\"), ROW(A148))),\"\")","v":""},{"$f":"IFERROR(INDEX(Subtotals!$H$53:$H$199, SMALL(IF(Subtotals!$C$50=Subtotals!$E$53:$E$199, ROW(Subtotals!$E$53:$E$199)-MIN(ROW(Subtotals!$E$53:$E$199))+1, \"\"), ROW(A148))),\"\")","v":""},{"$f":"IFERROR(INDEX(Subtotals!$I$53:$I$199, SMALL(IF(Subtotals!$C$50=Subtotals!$E$53:$E$199, ROW(Subtotals!$E$53:$E$199)-MIN(ROW(Subtotals!$E$53:$E$199))+1, \"\"), ROW(A148))),\"\")","v":""}]
["","",null,null,null,null,null,null,null,null,null,null,null,null,null,null,null,null,{"$f":"IFERROR(INDEX(Subtotals!$A$53:$A$199, SMALL(IF(Subtotals!$C$50=Subtotals!$E$53:$E$199, ROW(Subtotals!$E$53:$E$199)-MIN(ROW(Subtotals!$E$53:$E$199))+1, \"\"), ROW(A149))),\"\")","v":""},{"$f":"IFERROR(INDEX(Subtotals!$B$53:$B$199, SMALL(IF(Subtotals!$C$50=Subtotals!$E$53:$E$199, ROW(Subtotals!$E$53:$E$199)-MIN(ROW(Subtotals!$E$53:$E$199))+1, \"\"), ROW(A149))),\"\")","v":""},{"$f":"IFERROR(INDEX(Subtotals!$F$53:$F$199, SMALL(IF(Subtotals!$C$50=Subtotals!$E$53:$E$199, ROW(Subtotals!$E$53:$E$199)-MIN(ROW(Subtotals!$E$53:$E$199))+1, \"\"), ROW(A149))),\"\")","v":""},{"$f":"IFERROR(INDEX(Subtotals!$G$53:$G$199, SMALL(IF(Subtotals!$C$50=Subtotals!$E$53:$E$199, ROW(Subtotals!$E$53:$E$199)-MIN(ROW(Subtotals!$E$53:$E$199))+1, \"\"), ROW(A149))),\"\")","v":""},{"$f":"IFERROR(INDEX(Subtotals!$J$53:$J$199, SMALL(IF(Subtotals!$C$50=Subtotals!$E$53:$E$199, ROW(Subtotals!$E$53:$E$199)-MIN(ROW(Subtotals!$E$53:$E$199))+1, \"\"), ROW(A149))),\"\")","v":""},null,{"$f":"IFERROR(INDEX(Subtotals!$C$53:$C$199, SMALL(IF(Subtotals!$C$50=Subtotals!$E$53:$E$199, ROW(Subtotals!$E$53:$E$199)-MIN(ROW(Subtotals!$E$53:$E$199))+1, \"\"), ROW(A149))),\"\")","v":""},{"$f":"IFERROR(INDEX(Subtotals!$H$53:$H$199, SMALL(IF(Subtotals!$C$50=Subtotals!$E$53:$E$199, ROW(Subtotals!$E$53:$E$199)-MIN(ROW(Subtotals!$E$53:$E$199))+1, \"\"), ROW(A149))),\"\")","v":""},{"$f":"IFERROR(INDEX(Subtotals!$I$53:$I$199, SMALL(IF(Subtotals!$C$50=Subtotals!$E$53:$E$199, ROW(Subtotals!$E$53:$E$199)-MIN(ROW(Subtotals!$E$53:$E$199))+1, \"\"), ROW(A149))),\"\")","v":""}]
["","",null,null,null,null,null,null,null,null,null,null,null,null,null,null,null,null,{"$f":"IFERROR(INDEX(Subtotals!$A$53:$A$199, SMALL(IF(Subtotals!$C$50=Subtotals!$E$53:$E$199, ROW(Subtotals!$E$53:$E$199)-MIN(ROW(Subtotals!$E$53:$E$199))+1, \"\"), ROW(A150))),\"\")","v":""},{"$f":"IFERROR(INDEX(Subtotals!$B$53:$B$199, SMALL(IF(Subtotals!$C$50=Subtotals!$E$53:$E$199, ROW(Subtotals!$E$53:$E$199)-MIN(ROW(Subtotals!$E$53:$E$199))+1, \"\"), ROW(A150))),\"\")","v":""},{"$f":"IFERROR(INDEX(Subtotals!$F$53:$F$199, SMALL(IF(Subtotals!$C$50=Subtotals!$E$53:$E$199, ROW(Subtotals!$E$53:$E$199)-MIN(ROW(Subtotals!$E$53:$E$199))+1, \"\"), ROW(A150))),\"\")","v":""},{"$f":"IFERROR(INDEX(Subtotals!$G$53:$G$199, SMALL(IF(Subtotals!$C$50=Subtotals!$E$53:$E$199, ROW(Subtotals!$E$53:$E$199)-MIN(ROW(Subtotals!$E$53:$E$199))+1, \"\"), ROW(A150))),\"\")","v":""},{"$f":"IFERROR(INDEX(Subtotals!$J$53:$J$199, SMALL(IF(Subtotals!$C$50=Subtotals!$E$53:$E$199, ROW(Subtotals!$E$53:$E$199)-MIN(ROW(Subtotals!$E$53:$E$199))+1, \"\"), ROW(A150))),\"\")","v":""},null,{"$f":"IFERROR(INDEX(Subtotals!$C$53:$C$199, SMALL(IF(Subtotals!$C$50=Subtotals!$E$53:$E$199, ROW(Subtotals!$E$53:$E$199)-MIN(ROW(Subtotals!$E$53:$E$199))+1, \"\"), ROW(A150))),\"\")","v":""},{"$f":"IFERROR(INDEX(Subtotals!$H$53:$H$199, SMALL(IF(Subtotals!$C$50=Subtotals!$E$53:$E$199, ROW(Subtotals!$E$53:$E$199)-MIN(ROW(Subtotals!$E$53:$E$199))+1, \"\"), ROW(A150))),\"\")","v":""},{"$f":"IFERROR(INDEX(Subtotals!$I$53:$I$199, SMALL(IF(Subtotals!$C$50=Subtotals!$E$53:$E$199, ROW(Subtotals!$E$53:$E$199)-MIN(ROW(Subtotals!$E$53:$E$199))+1, \"\"), ROW(A150))),\"\")","v":""}]
["","",null,null,null,null,null,null,null,null,null,null,null,null,null,null,null,null,{"$f":"IFERROR(INDEX(Subtotals!$A$53:$A$199, SMALL(IF(Subtotals!$C$50=Subtotals!$E$53:$E$199, ROW(Subtotals!$E$53:$E$199)-MIN(ROW(Subtotals!$E$53:$E$199))+1, \"\"), ROW(A151))),\"\")","v":""},{"$f":"IFERROR(INDEX(Subtotals!$B$53:$B$199, SMALL(IF(Subtotals!$C$50=Subtotals!$E$53:$E$199, ROW(Subtotals!$E$53:$E$199)-MIN(ROW(Subtotals!$E$53:$E$199))+1, \"\"), ROW(A151))),\"\")","v":""},{"$f":"IFERROR(INDEX(Subtotals!$F$53:$F$199, SMALL(IF(Subtotals!$C$50=Subtotals!$E$53:$E$199, ROW(Subtotals!$E$53:$E$199)-MIN(ROW(Subtotals!$E$53:$E$199))+1, \"\"), ROW(A151))),\"\")","v":""},{"$f":"IFERROR(INDEX(Subtotals!$G$53:$G$199, SMALL(IF(Subtotals!$C$50=Subtotals!$E$53:$E$199, ROW(Subtotals!$E$53:$E$199)-MIN(ROW(Subtotals!$E$53:$E$199))+1, \"\"), ROW(A151))),\"\")","v":""},{"$f":"IFERROR(INDEX(Subtotals!$J$53:$J$199, SMALL(IF(Subtotals!$C$50=Subtotals!$E$53:$E$199, ROW(Subtotals!$E$53:$E$199)-MIN(ROW(Subtotals!$E$53:$E$199))+1, \"\"), ROW(A151))),\"\")","v":""},null,{"$f":"IFERROR(INDEX(Subtotals!$C$53:$C$199, SMALL(IF(Subtotals!$C$50=Subtotals!$E$53:$E$199, ROW(Subtotals!$E$53:$E$199)-MIN(ROW(Subtotals!$E$53:$E$199))+1, \"\"), ROW(A151))),\"\")","v":""},{"$f":"IFERROR(INDEX(Subtotals!$H$53:$H$199, SMALL(IF(Subtotals!$C$50=Subtotals!$E$53:$E$199, ROW(Subtotals!$E$53:$E$199)-MIN(ROW(Subtotals!$E$53:$E$199))+1, \"\"), ROW(A151))),\"\")","v":""},{"$f":"IFERROR(INDEX(Subtotals!$I$53:$I$199, SMALL(IF(Subtotals!$C$50=Subtotals!$E$53:$E$199, ROW(Subtotals!$E$53:$E$199)-MIN(ROW(Subtotals!$E$53:$E$199))+1, \"\"), ROW(A151))),\"\")","v":""}]
["","",null,null,null,null,null,null,null,null,null,null,null,null,null,null,null,null,{"$f":"IFERROR(INDEX(Subtotals!$A$53:$A$199, SMALL(IF(Subtotals!$C$50=Subtotals!$E$53:$E$199, ROW(Subtotals!$E$53:$E$199)-MIN(ROW(Subtotals!$E$53:$E$199))+1, \"\"), ROW(A152))),\"\")","v":""},{"$f":"IFERROR(INDEX(Subtotals!$B$53:$B$199, SMALL(IF(Subtotals!$C$50=Subtotals!$E$53:$E$199, ROW(Subtotals!$E$53:$E$199)-MIN(ROW(Subtotals!$E$53:$E$199))+1, \"\"), ROW(A152))),\"\")","v":""},{"$f":"IFERROR(INDEX(Subtotals!$F$53:$F$199, SMALL(IF(Subtotals!$C$50=Subtotals!$E$53:$E$199, ROW(Subtotals!$E$53:$E$199)-MIN(ROW(Subtotals!$E$53:$E$199))+1, \"\"), ROW(A152))),\"\")","v":""},{"$f":"IFERROR(INDEX(Subtotals!$G$53:$G$199, SMALL(IF(Subtotals!$C$50=Subtotals!$E$53:$E$199, ROW(Subtotals!$E$53:$E$199)-MIN(ROW(Subtotals!$E$53:$E$199))+1, \"\"), ROW(A152))),\"\")","v":""},{"$f":"IFERROR(INDEX(Subtotals!$J$53:$J$199, SMALL(IF(Subtotals!$C$50=Subtotals!$E$53:$E$199, ROW(Subtotals!$E$53:$E$199)-MIN(ROW(Subtotals!$E$53:$E$199))+1, \"\"), ROW(A152))),\"\")","v":""},null,{"$f":"IFERROR(INDEX(Subtotals!$C$53:$C$199, SMALL(IF(Subtotals!$C$50=Subtotals!$E$53:$E$199, ROW(Subtotals!$E$53:$E$199)-MIN(ROW(Subtotals!$E$53:$E$199))+1, \"\"), ROW(A152))),\"\")","v":""},{"$f":"IFERROR(INDEX(Subtotals!$H$53:$H$199, SMALL(IF(Subtotals!$C$50=Subtotals!$E$53:$E$199, ROW(Subtotals!$E$53:$E$199)-MIN(ROW(Subtotals!$E$53:$E$199))+1, \"\"), ROW(A152))),\"\")","v":""},{"$f":"IFERROR(INDEX(Subtotals!$I$53:$I$199, SMALL(IF(Subtotals!$C$50=Subtotals!$E$53:$E$199, ROW(Subtotals!$E$53:$E$199)-MIN(ROW(Subtotals!$E$53:$E$199))+1, \"\"), ROW(A152))),\"\")","v":""}]
["","",null,null,null,null,null,null,null,null,null,null,null,null,null,null,null,null,{"$f":"IFERROR(INDEX(Subtotals!$A$53:$A$199, SMALL(IF(Subtotals!$C$50=Subtotals!$E$53:$E$199, ROW(Subtotals!$E$53:$E$199)-MIN(ROW(Subtotals!$E$53:$E$199))+1, \"\"), ROW(A153))),\"\")","v":""},{"$f":"IFERROR(INDEX(Subtotals!$B$53:$B$199, SMALL(IF(Subtotals!$C$50=Subtotals!$E$53:$E$199, ROW(Subtotals!$E$53:$E$199)-MIN(ROW(Subtotals!$E$53:$E$199))+1, \"\"), ROW(A153))),\"\")","v":""},{"$f":"IFERROR(INDEX(Subtotals!$F$53:$F$199, SMALL(IF(Subtotals!$C$50=Subtotals!$E$53:$E$199, ROW(Subtotals!$E$53:$E$199)-MIN(ROW(Subtotals!$E$53:$E$199))+1, \"\"), ROW(A153))),\"\")","v":""},{"$f":"IFERROR(INDEX(Subtotals!$G$53:$G$199, SMALL(IF(Subtotals!$C$50=Subtotals!$E$53:$E$199, ROW(Subtotals!$E$53:$E$199)-MIN(ROW(Subtotals!$E$53:$E$199))+1, \"\"), ROW(A153))),\"\")","v":""},{"$f":"IFERROR(INDEX(Subtotals!$J$53:$J$199, SMALL(IF(Subtotals!$C$50=Subtotals!$E$53:$E$199, ROW(Subtotals!$E$53:$E$199)-MIN(ROW(Subtotals!$E$53:$E$199))+1, \"\"), ROW(A153))),\"\")","v":""},null,{"$f":"IFERROR(INDEX(Subtotals!$C$53:$C$199, SMALL(IF(Subtotals!$C$50=Subtotals!$E$53:$E$199, ROW(Subtotals!$E$53:$E$199)-MIN(ROW(Subtotals!$E$53:$E$199))+1, \"\"), ROW(A153))),\"\")","v":""},{"$f":"IFERROR(INDEX(Subtotals!$H$53:$H$199, SMALL(IF(Subtotals!$C$50=Subtotals!$E$53:$E$199, ROW(Subtotals!$E$53:$E$199)-MIN(ROW(Subtotals!$E$53:$E$199))+1, \"\"), ROW(A153))),\"\")","v":""},{"$f":"IFERROR(INDEX(Subtotals!$I$53:$I$199, SMALL(IF(Subtotals!$C$50=Subtotals!$E$53:$E$199, ROW(Subtotals!$E$53:$E$199)-MIN(ROW(Subtotals!$E$53:$E$199))+1, \"\"), ROW(A153))),\"\")","v":""}]
["","",null,null,null,null,null,null,null,null,null,null,null,null,null,null,null,null,{"$f":"IFERROR(INDEX(Subtotals!$A$53:$A$199, SMALL(IF(Subtotals!$C$50=Subtotals!$E$53:$E$199, ROW(Subtotals!$E$53:$E$199)-MIN(ROW(Subtotals!$E$53:$E$199))+1, \"\"), ROW(A154))),\"\")","v":""},{"$f":"IFERROR(INDEX(Subtotals!$B$53:$B$199, SMALL(IF(Subtotals!$C$50=Subtotals!$E$53:$E$199, ROW(Subtotals!$E$53:$E$199)-MIN(ROW(Subtotals!$E$53:$E$199))+1, \"\"), ROW(A154))),\"\")","v":""},{"$f":"IFERROR(INDEX(Subtotals!$F$53:$F$199, SMALL(IF(Subtotals!$C$50=Subtotals!$E$53:$E$199, ROW(Subtotals!$E$53:$E$199)-MIN(ROW(Subtotals!$E$53:$E$199))+1, \"\"), ROW(A154))),\"\")","v":""},{"$f":"IFERROR(INDEX(Subtotals!$G$53:$G$199, SMALL(IF(Subtotals!$C$50=Subtotals!$E$53:$E$199, ROW(Subtotals!$E$53:$E$199)-MIN(ROW(Subtotals!$E$53:$E$199))+1, \"\"), ROW(A154))),\"\")","v":""},{"$f":"IFERROR(INDEX(Subtotals!$J$53:$J$199, SMALL(IF(Subtotals!$C$50=Subtotals!$E$53:$E$199, ROW(Subtotals!$E$53:$E$199)-MIN(ROW(Subtotals!$E$53:$E$199))+1, \"\"), ROW(A154))),\"\")","v":""},null,{"$f":"IFERROR(INDEX(Subtotals!$C$53:$C$199, SMALL(IF(Subtotals!$C$50=Subtotals!$E$53:$E$199, ROW(Subtotals!$E$53:$E$199)-MIN(ROW(Subtotals!$E$53:$E$199))+1, \"\"), ROW(A154))),\"\")","v":""},{"$f":"IFERROR(INDEX(Subtotals!$H$53:$H$199, SMALL(IF(Subtotals!$C$50=Subtotals!$E$53:$E$199, ROW(Subtotals!$E$53:$E$199)-MIN(ROW(Subtotals!$E$53:$E$199))+1, \"\"), ROW(A154))),\"\")","v":""},{"$f":"IFERROR(INDEX(Subtotals!$I$53:$I$199, SMALL(IF(Subtotals!$C$50=Subtotals!$E$53:$E$199, ROW(Subtotals!$E$53:$E$199)-MIN(ROW(Subtotals!$E$53:$E$199))+1, \"\"), ROW(A154))),\"\")","v":""}]
["","",null,null,null,null,null,null,null,null,null,null,null,null,null,null,null,null,{"$f":"IFERROR(INDEX(Subtotals!$A$53:$A$199, SMALL(IF(Subtotals!$C$50=Subtotals!$E$53:$E$199, ROW(Subtotals!$E$53:$E$199)-MIN(ROW(Subtotals!$E$53:$E$199))+1, \"\"), ROW(A155))),\"\")","v":""},{"$f":"IFERROR(INDEX(Subtotals!$B$53:$B$199, SMALL(IF(Subtotals!$C$50=Subtotals!$E$53:$E$199, ROW(Subtotals!$E$53:$E$199)-MIN(ROW(Subtotals!$E$53:$E$199))+1, \"\"), ROW(A155))),\"\")","v":""},{"$f":"IFERROR(INDEX(Subtotals!$F$53:$F$199, SMALL(IF(Subtotals!$C$50=Subtotals!$E$53:$E$199, ROW(Subtotals!$E$53:$E$199)-MIN(ROW(Subtotals!$E$53:$E$199))+1, \"\"), ROW(A155))),\"\")","v":""},{"$f":"IFERROR(INDEX(Subtotals!$G$53:$G$199, SMALL(IF(Subtotals!$C$50=Subtotals!$E$53:$E$199, ROW(Subtotals!$E$53:$E$199)-MIN(ROW(Subtotals!$E$53:$E$199))+1, \"\"), ROW(A155))),\"\")","v":""},{"$f":"IFERROR(INDEX(Subtotals!$J$53:$J$199, SMALL(IF(Subtotals!$C$50=Subtotals!$E$53:$E$199, ROW(Subtotals!$E$53:$E$199)-MIN(ROW(Subtotals!$E$53:$E$199))+1, \"\"), ROW(A155))),\"\")","v":""},null,{"$f":"IFERROR(INDEX(Subtotals!$C$53:$C$199, SMALL(IF(Subtotals!$C$50=Subtotals!$E$53:$E$199, ROW(Subtotals!$E$53:$E$199)-MIN(ROW(Subtotals!$E$53:$E$199))+1, \"\"), ROW(A155))),\"\")","v":""},{"$f":"IFERROR(INDEX(Subtotals!$H$53:$H$199, SMALL(IF(Subtotals!$C$50=Subtotals!$E$53:$E$199, ROW(Subtotals!$E$53:$E$199)-MIN(ROW(Subtotals!$E$53:$E$199))+1, \"\"), ROW(A155))),\"\")","v":""},{"$f":"IFERROR(INDEX(Subtotals!$I$53:$I$199, SMALL(IF(Subtotals!$C$50=Subtotals!$E$53:$E$199, ROW(Subtotals!$E$53:$E$199)-MIN(ROW(Subtotals!$E$53:$E$199))+1, \"\"), ROW(A155))),\"\")","v":""}]
["","",null,null,null,null,null,null,null,null,null,null,null,null,null,null,null,null,{"$f":"IFERROR(INDEX(Subtotals!$A$53:$A$199, SMALL(IF(Subtotals!$C$50=Subtotals!$E$53:$E$199, ROW(Subtotals!$E$53:$E$199)-MIN(ROW(Subtotals!$E$53:$E$199))+1, \"\"), ROW(A156))),\"\")","v":""},{"$f":"IFERROR(INDEX(Subtotals!$B$53:$B$199, SMALL(IF(Subtotals!$C$50=Subtotals!$E$53:$E$199, ROW(Subtotals!$E$53:$E$199)-MIN(ROW(Subtotals!$E$53:$E$199))+1, \"\"), ROW(A156))),\"\")","v":""},{"$f":"IFERROR(INDEX(Subtotals!$F$53:$F$199, SMALL(IF(Subtotals!$C$50=Subtotals!$E$53:$E$199, ROW(Subtotals!$E$53:$E$199)-MIN(ROW(Subtotals!$E$53:$E$199))+1, \"\"), ROW(A156))),\"\")","v":""},{"$f":"IFERROR(INDEX(Subtotals!$G$53:$G$199, SMALL(IF(Subtotals!$C$50=Subtotals!$E$53:$E$199, ROW(Subtotals!$E$53:$E$199)-MIN(ROW(Subtotals!$E$53:$E$199))+1, \"\"), ROW(A156))),\"\")","v":""},{"$f":"IFERROR(INDEX(Subtotals!$J$53:$J$199, SMALL(IF(Subtotals!$C$50=Subtotals!$E$53:$E$199, ROW(Subtotals!$E$53:$E$199)-MIN(ROW(Subtotals!$E$53:$E$199))+1, \"\"), ROW(A156))),\"\")","v":""},null,{"$f":"IFERROR(INDEX(Subtotals!$C$53:$C$199, SMALL(IF(Subtotals!$C$50=Subtotals!$E$53:$E$199, ROW(Subtotals!$E$53:$E$199)-MIN(ROW(Subtotals!$E$53:$E$199))+1, \"\"), ROW(A156))),\"\")","v":""},{"$f":"IFERROR(INDEX(Subtotals!$H$53:$H$199, SMALL(IF(Subtotals!$C$50=Subtotals!$E$53:$E$199, ROW(Subtotals!$E$53:$E$199)-MIN(ROW(Subtotals!$E$53:$E$199))+1, \"\"), ROW(A156))),\"\")","v":""},{"$f":"IFERROR(INDEX(Subtotals!$I$53:$I$199, SMALL(IF(Subtotals!$C$50=Subtotals!$E$53:$E$199, ROW(Subtotals!$E$53:$E$199)-MIN(ROW(Subtotals!$E$53:$E$199))+1, \"\"), ROW(A156))),\"\")","v":""}]
["","",null,null,null,null,null,null,null,null,null,null,null,null,null,null,null,null,{"$f":"IFERROR(INDEX(Subtotals!$A$53:$A$199, SMALL(IF(Subtotals!$C$50=Subtotals!$E$53:$E$199, ROW(Subtotals!$E$53:$E$199)-MIN(ROW(Subtotals!$E$53:$E$199))+1, \"\"), ROW(A157))),\"\")","v":""},{"$f":"IFERROR(INDEX(Subtotals!$B$53:$B$199, SMALL(IF(Subtotals!$C$50=Subtotals!$E$53:$E$199, ROW(Subtotals!$E$53:$E$199)-MIN(ROW(Subtotals!$E$53:$E$199))+1, \"\"), ROW(A157))),\"\")","v":""},{"$f":"IFERROR(INDEX(Subtotals!$F$53:$F$199, SMALL(IF(Subtotals!$C$50=Subtotals!$E$53:$E$199, ROW(Subtotals!$E$53:$E$199)-MIN(ROW(Subtotals!$E$53:$E$199))+1, \"\"), ROW(A157))),\"\")","v":""},{"$f":"IFERROR(INDEX(Subtotals!$G$53:$G$199, SMALL(IF(Subtotals!$C$50=Subtotals!$E$53:$E$199, ROW(Subtotals!$E$53:$E$199)-MIN(ROW(Subtotals!$E$53:$E$199))+1, \"\"), ROW(A157))),\"\")","v":""},{"$f":"IFERROR(INDEX(Subtotals!$J$53:$J$199, SMALL(IF(Subtotals!$C$50=Subtotals!$E$53:$E$199, ROW(Subtotals!$E$53:$E$199)-MIN(ROW(Subtotals!$E$53:$E$199))+1, \"\"), ROW(A157))),\"\")","v":""},null,{"$f":"IFERROR(INDEX(Subtotals!$C$53:$C$199, SMALL(IF(Subtotals!$C$50=Subtotals!$E$53:$E$199, ROW(Subtotals!$E$53:$E$199)-MIN(ROW(Subtotals!$E$53:$E$199))+1, \"\"), ROW(A157))),\"\")","v":""},{"$f":"IFERROR(INDEX(Subtotals!$H$53:$H$199, SMALL(IF(Subtotals!$C$50=Subtotals!$E$53:$E$199, ROW(Subtotals!$E$53:$E$199)-MIN(ROW(Subtotals!$E$53:$E$199))+1, \"\"), ROW(A157))),\"\")","v":""},{"$f":"IFERROR(INDEX(Subtotals!$I$53:$I$199, SMALL(IF(Subtotals!$C$50=Subtotals!$E$53:$E$199, ROW(Subtotals!$E$53:$E$199)-MIN(ROW(Subtotals!$E$53:$E$199))+1, \"\"), ROW(A157))),\"\")","v":""}]
["","",null,null,null,null,null,null,null,null,null,null,null,null,null,null,null,null,{"$f":"IFERROR(INDEX(Subtotals!$A$53:$A$199, SMALL(IF(Subtotals!$C$50=Subtotals!$E$53:$E$199, ROW(Subtotals!$E$53:$E$199)-MIN(ROW(Subtotals!$E$53:$E$199))+1, \"\"), ROW(A158))),\"\")","v":""},{"$f":"IFERROR(INDEX(Subtotals!$B$53:$B$199, SMALL(IF(Subtotals!$C$50=Subtotals!$E$53:$E$199, ROW(Subtotals!$E$53:$E$199)-MIN(ROW(Subtotals!$E$53:$E$199))+1, \"\"), ROW(A158))),\"\")","v":""},{"$f":"IFERROR(INDEX(Subtotals!$F$53:$F$199, SMALL(IF(Subtotals!$C$50=Subtotals!$E$53:$E$199, ROW(Subtotals!$E$53:$E$199)-MIN(ROW(Subtotals!$E$53:$E$199))+1, \"\"), ROW(A158))),\"\")","v":""},{"$f":"IFERROR(INDEX(Subtotals!$G$53:$G$199, SMALL(IF(Subtotals!$C$50=Subtotals!$E$53:$E$199, ROW(Subtotals!$E$53:$E$199)-MIN(ROW(Subtotals!$E$53:$E$199))+1, \"\"), ROW(A158))),\"\")","v":""},{"$f":"IFERROR(INDEX(Subtotals!$J$53:$J$199, SMALL(IF(Subtotals!$C$50=Subtotals!$E$53:$E$199, ROW(Subtotals!$E$53:$E$199)-MIN(ROW(Subtotals!$E$53:$E$199))+1, \"\"), ROW(A158))),\"\")","v":""},null,{"$f":"IFERROR(INDEX(Subtotals!$C$53:$C$199, SMALL(IF(Subtotals!$C$50=Subtotals!$E$53:$E$199, ROW(Subtotals!$E$53:$E$199)-MIN(ROW(Subtotals!$E$53:$E$199))+1, \"\"), ROW(A158))),\"\")","v":""},{"$f":"IFERROR(INDEX(Subtotals!$H$53:$H$199, SMALL(IF(Subtotals!$C$50=Subtotals!$E$53:$E$199, ROW(Subtotals!$E$53:$E$199)-MIN(ROW(Subtotals!$E$53:$E$199))+1, \"\"), ROW(A158))),\"\")","v":""},{"$f":"IFERROR(INDEX(Subtotals!$I$53:$I$199, SMALL(IF(Subtotals!$C$50=Subtotals!$E$53:$E$199, ROW(Subtotals!$E$53:$E$199)-MIN(ROW(Subtotals!$E$53:$E$199))+1, \"\"), ROW(A158))),\"\")","v":""}]
["","",null,null,null,null,null,null,null,null,null,null,null,null,null,null,null,null,{"$f":"IFERROR(INDEX(Subtotals!$A$53:$A$199, SMALL(IF(Subtotals!$C$50=Subtotals!$E$53:$E$199, ROW(Subtotals!$E$53:$E$199)-MIN(ROW(Subtotals!$E$53:$E$199))+1, \"\"), ROW(A159))),\"\")","v":""},{"$f":"IFERROR(INDEX(Subtotals!$B$53:$B$199, SMALL(IF(Subtotals!$C$50=Subtotals!$E$53:$E$199, ROW(Subtotals!$E$53:$E$199)-MIN(ROW(Subtotals!$E$53:$E$199))+1, \"\"), ROW(A159))),\"\")","v":""},{"$f":"IFERROR(INDEX(Subtotals!$F$53:$F$199, SMALL(IF(Subtotals!$C$50=Subtotals!$E$53:$E$199, ROW(Subtotals!$E$53:$E$199)-MIN(ROW(Subtotals!$E$53:$E$199))+1, \"\"), ROW(A159))),\"\")","v":""},{"$f":"IFERROR(INDEX(Subtotals!$G$53:$G$199, SMALL(IF(Subtotals!$C$50=Subtotals!$E$53:$E$199, ROW(Subtotals!$E$53:$E$199)-MIN(ROW(Subtotals!$E$53:$E$199))+1, \"\"), ROW(A159))),\"\")","v":""},{"$f":"IFERROR(INDEX(Subtotals!$J$53:$J$199, SMALL(IF(Subtotals!$C$50=Subtotals!$E$53:$E$199, ROW(Subtotals!$E$53:$E$199)-MIN(ROW(Subtotals!$E$53:$E$199))+1, \"\"), ROW(A159))),\"\")","v":""},null,{"$f":"IFERROR(INDEX(Subtotals!$C$53:$C$199, SMALL(IF(Subtotals!$C$50=Subtotals!$E$53:$E$199, ROW(Subtotals!$E$53:$E$199)-MIN(ROW(Subtotals!$E$53:$E$199))+1, \"\"), ROW(A159))),\"\")","v":""},{"$f":"IFERROR(INDEX(Subtotals!$H$53:$H$199, SMALL(IF(Subtotals!$C$50=Subtotals!$E$53:$E$199, ROW(Subtotals!$E$53:$E$199)-MIN(ROW(Subtotals!$E$53:$E$199))+1, \"\"), ROW(A159))),\"\")","v":""},{"$f":"IFERROR(INDEX(Subtotals!$I$53:$I$199, SMALL(IF(Subtotals!$C$50=Subtotals!$E$53:$E$199, ROW(Subtotals!$E$53:$E$199)-MIN(ROW(Subtotals!$E$53:$E$199))+1, \"\"), ROW(A159))),\"\")","v":""}]
["","",null,null,null,null,null,null,null,null,null,null,null,null,null,null,null,null,{"$f":"IFERROR(INDEX(Subtotals!$A$53:$A$199, SMALL(IF(Subtotals!$C$50=Subtotals!$E$53:$E$199, ROW(Subtotals!$E$53:$E$199)-MIN(ROW(Subtotals!$E$53:$E$199))+1, \"\"), ROW(A160))),\"\")","v":""},{"$f":"IFERROR(INDEX(Subtotals!$B$53:$B$199, SMALL(IF(Subtotals!$C$50=Subtotals!$E$53:$E$199, ROW(Subtotals!$E$53:$E$199)-MIN(ROW(Subtotals!$E$53:$E$199))+1, \"\"), ROW(A160))),\"\")","v":""},{"$f":"IFERROR(INDEX(Subtotals!$F$53:$F$199, SMALL(IF(Subtotals!$C$50=Subtotals!$E$53:$E$199, ROW(Subtotals!$E$53:$E$199)-MIN(ROW(Subtotals!$E$53:$E$199))+1, \"\"), ROW(A160))),\"\")","v":""},{"$f":"IFERROR(INDEX(Subtotals!$G$53:$G$199, SMALL(IF(Subtotals!$C$50=Subtotals!$E$53:$E$199, ROW(Subtotals!$E$53:$E$199)-MIN(ROW(Subtotals!$E$53:$E$199))+1, \"\"), ROW(A160))),\"\")","v":""},{"$f":"IFERROR(INDEX(Subtotals!$J$53:$J$199, SMALL(IF(Subtotals!$C$50=Subtotals!$E$53:$E$199, ROW(Subtotals!$E$53:$E$199)-MIN(ROW(Subtotals!$E$53:$E$199))+1, \"\"), ROW(A160))),\"\")","v":""},null,{"$f":"IFERROR(INDEX(Subtotals!$C$53:$C$199, SMALL(IF(Subtotals!$C$50=Subtotals!$E$53:$E$199, ROW(Subtotals!$E$53:$E$199)-MIN(ROW(Subtotals!$E$53:$E$199))+1, \"\"), ROW(A160))),\"\")","v":""},{"$f":"IFERROR(INDEX(Subtotals!$H$53:$H$199, SMALL(IF(Subtotals!$C$50=Subtotals!$E$53:$E$199, ROW(Subtotals!$E$53:$E$199)-MIN(ROW(Subtotals!$E$53:$E$199))+1, \"\"), ROW(A160))),\"\")","v":""},{"$f":"IFERROR(INDEX(Subtotals!$I$53:$I$199, SMALL(IF(Subtotals!$C$50=Subtotals!$E$53:$E$199, ROW(Subtotals!$E$53:$E$199)-MIN(ROW(Subtotals!$E$53:$E$199))+1, \"\"), ROW(A160))),\"\")","v":""}]
["","",null,null,null,null,null,null,null,null,null,null,null,null,null,null,null,null,{"$f":"IFERROR(INDEX(Subtotals!$A$53:$A$199, SMALL(IF(Subtotals!$C$50=Subtotals!$E$53:$E$199, ROW(Subtotals!$E$53:$E$199)-MIN(ROW(Subtotals!$E$53:$E$199))+1, \"\"), ROW(A161))),\"\")","v":""},{"$f":"IFERROR(INDEX(Subtotals!$B$53:$B$199, SMALL(IF(Subtotals!$C$50=Subtotals!$E$53:$E$199, ROW(Subtotals!$E$53:$E$199)-MIN(ROW(Subtotals!$E$53:$E$199))+1, \"\"), ROW(A161))),\"\")","v":""},{"$f":"IFERROR(INDEX(Subtotals!$F$53:$F$199, SMALL(IF(Subtotals!$C$50=Subtotals!$E$53:$E$199, ROW(Subtotals!$E$53:$E$199)-MIN(ROW(Subtotals!$E$53:$E$199))+1, \"\"), ROW(A161))),\"\")","v":""},{"$f":"IFERROR(INDEX(Subtotals!$G$53:$G$199, SMALL(IF(Subtotals!$C$50=Subtotals!$E$53:$E$199, ROW(Subtotals!$E$53:$E$199)-MIN(ROW(Subtotals!$E$53:$E$199))+1, \"\"), ROW(A161))),\"\")","v":""},{"$f":"IFERROR(INDEX(Subtotals!$J$53:$J$199, SMALL(IF(Subtotals!$C$50=Subtotals!$E$53:$E$199, ROW(Subtotals!$E$53:$E$199)-MIN(ROW(Subtotals!$E$53:$E$199))+1, \"\"), ROW(A161))),\"\")","v":""},null,{"$f":"IFERROR(INDEX(Subtotals!$C$53:$C$199, SMALL(IF(Subtotals!$C$50=Subtotals!$E$53:$E$199, ROW(Subtotals!$E$53:$E$199)-MIN(ROW(Subtotals!$E$53:$E$199))+1, \"\"), ROW(A161))),\"\")","v":""},{"$f":"IFERROR(INDEX(Subtotals!$H$53:$H$199, SMALL(IF(Subtotals!$C$50=Subtotals!$E$53:$E$199, ROW(Subtotals!$E$53:$E$199)-MIN(ROW(Subtotals!$E$53:$E$199))+1, \"\"), ROW(A161))),\"\")","v":""},{"$f":"IFERROR(INDEX(Subtotals!$I$53:$I$199, SMALL(IF(Subtotals!$C$50=Subtotals!$E$53:$E$199, ROW(Subtotals!$E$53:$E$199)-MIN(ROW(Subtotals!$E$53:$E$199))+1, \"\"), ROW(A161))),\"\")","v":""}]
["","",null,null,null,null,null,null,null,null,null,null,null,null,null,null,null,null,{"$f":"IFERROR(INDEX(Subtotals!$A$53:$A$199, SMALL(IF(Subtotals!$C$50=Subtotals!$E$53:$E$199, ROW(Subtotals!$E$53:$E$199)-MIN(ROW(Subtotals!$E$53:$E$199))+1, \"\"), ROW(A162))),\"\")","v":""},{"$f":"IFERROR(INDEX(Subtotals!$B$53:$B$199, SMALL(IF(Subtotals!$C$50=Subtotals!$E$53:$E$199, ROW(Subtotals!$E$53:$E$199)-MIN(ROW(Subtotals!$E$53:$E$199))+1, \"\"), ROW(A162))),\"\")","v":""},{"$f":"IFERROR(INDEX(Subtotals!$F$53:$F$199, SMALL(IF(Subtotals!$C$50=Subtotals!$E$53:$E$199, ROW(Subtotals!$E$53:$E$199)-MIN(ROW(Subtotals!$E$53:$E$199))+1, \"\"), ROW(A162))),\"\")","v":""},{"$f":"IFERROR(INDEX(Subtotals!$G$53:$G$199, SMALL(IF(Subtotals!$C$50=Subtotals!$E$53:$E$199, ROW(Subtotals!$E$53:$E$199)-MIN(ROW(Subtotals!$E$53:$E$199))+1, \"\"), ROW(A162))),\"\")","v":""},{"$f":"IFERROR(INDEX(Subtotals!$J$53:$J$199, SMALL(IF(Subtotals!$C$50=Subtotals!$E$53:$E$199, ROW(Subtotals!$E$53:$E$199)-MIN(ROW(Subtotals!$E$53:$E$199))+1, \"\"), ROW(A162))),\"\")","v":""},null,{"$f":"IFERROR(INDEX(Subtotals!$C$53:$C$199, SMALL(IF(Subtotals!$C$50=Subtotals!$E$53:$E$199, ROW(Subtotals!$E$53:$E$199)-MIN(ROW(Subtotals!$E$53:$E$199))+1, \"\"), ROW(A162))),\"\")","v":""},{"$f":"IFERROR(INDEX(Subtotals!$H$53:$H$199, SMALL(IF(Subtotals!$C$50=Subtotals!$E$53:$E$199, ROW(Subtotals!$E$53:$E$199)-MIN(ROW(Subtotals!$E$53:$E$199))+1, \"\"), ROW(A162))),\"\")","v":""},{"$f":"IFERROR(INDEX(Subtotals!$I$53:$I$199, SMALL(IF(Subtotals!$C$50=Subtotals!$E$53:$E$199, ROW(Subtotals!$E$53:$E$199)-MIN(ROW(Subtotals!$E$53:$E$199))+1, \"\"), ROW(A162))),\"\")","v":""}]
["","",null,null,null,null,null,null,null,null,null,null,null,null,null,null,null,null,{"$f":"IFERROR(INDEX(Subtotals!$A$53:$A$199, SMALL(IF(Subtotals!$C$50=Subtotals!$E$53:$E$199, ROW(Subtotals!$E$53:$E$199)-MIN(ROW(Subtotals!$E$53:$E$199))+1, \"\"), ROW(A163))),\"\")","v":""},{"$f":"IFERROR(INDEX(Subtotals!$B$53:$B$199, SMALL(IF(Subtotals!$C$50=Subtotals!$E$53:$E$199, ROW(Subtotals!$E$53:$E$199)-MIN(ROW(Subtotals!$E$53:$E$199))+1, \"\"), ROW(A163))),\"\")","v":""},{"$f":"IFERROR(INDEX(Subtotals!$F$53:$F$199, SMALL(IF(Subtotals!$C$50=Subtotals!$E$53:$E$199, ROW(Subtotals!$E$53:$E$199)-MIN(ROW(Subtotals!$E$53:$E$199))+1, \"\"), ROW(A163))),\"\")","v":""},{"$f":"IFERROR(INDEX(Subtotals!$G$53:$G$199, SMALL(IF(Subtotals!$C$50=Subtotals!$E$53:$E$199, ROW(Subtotals!$E$53:$E$199)-MIN(ROW(Subtotals!$E$53:$E$199))+1, \"\"), ROW(A163))),\"\")","v":""},{"$f":"IFERROR(INDEX(Subtotals!$J$53:$J$199, SMALL(IF(Subtotals!$C$50=Subtotals!$E$53:$E$199, ROW(Subtotals!$E$53:$E$199)-MIN(ROW(Subtotals!$E$53:$E$199))+1, \"\"), ROW(A163))),\"\")","v":""},null,{"$f":"IFERROR(INDEX(Subtotals!$C$53:$C$199, SMALL(IF(Subtotals!$C$50=Subtotals!$E$53:$E$199, ROW(Subtotals!$E$53:$E$199)-MIN(ROW(Subtotals!$E$53:$E$199))+1, \"\"), ROW(A163))),\"\")","v":""},{"$f":"IFERROR(INDEX(Subtotals!$H$53:$H$199, SMALL(IF(Subtotals!$C$50=Subtotals!$E$53:$E$199, ROW(Subtotals!$E$53:$E$199)-MIN(ROW(Subtotals!$E$53:$E$199))+1, \"\"), ROW(A163))),\"\")","v":""},{"$f":"IFERROR(INDEX(Subtotals!$I$53:$I$199, SMALL(IF(Subtotals!$C$50=Subtotals!$E$53:$E$199, ROW(Subtotals!$E$53:$E$199)-MIN(ROW(Subtotals!$E$53:$E$199))+1, \"\"), ROW(A163))),\"\")","v":""}]
["","",null,null,null,null,null,null,null,null,null,null,null,null,null,null,null,null,{"$f":"IFERROR(INDEX(Subtotals!$A$53:$A$199, SMALL(IF(Subtotals!$C$50=Subtotals!$E$53:$E$199, ROW(Subtotals!$E$53:$E$199)-MIN(ROW(Subtotals!$E$53:$E$199))+1, \"\"), ROW(A164))),\"\")","v":""},{"$f":"IFERROR(INDEX(Subtotals!$B$53:$B$199, SMALL(IF(Subtotals!$C$50=Subtotals!$E$53:$E$199, ROW(Subtotals!$E$53:$E$199)-MIN(ROW(Subtotals!$E$53:$E$199))+1, \"\"), ROW(A164))),\"\")","v":""},{"$f":"IFERROR(INDEX(Subtotals!$F$53:$F$199, SMALL(IF(Subtotals!$C$50=Subtotals!$E$53:$E$199, ROW(Subtotals!$E$53:$E$199)-MIN(ROW(Subtotals!$E$53:$E$199))+1, \"\"), ROW(A164))),\"\")","v":""},{"$f":"IFERROR(INDEX(Subtotals!$G$53:$G$199, SMALL(IF(Subtotals!$C$50=Subtotals!$E$53:$E$199, ROW(Subtotals!$E$53:$E$199)-MIN(ROW(Subtotals!$E$53:$E$199))+1, \"\"), ROW(A164))),\"\")","v":""},{"$f":"IFERROR(INDEX(Subtotals!$J$53:$J$199, SMALL(IF(Subtotals!$C$50=Subtotals!$E$53:$E$199, ROW(Subtotals!$E$53:$E$199)-MIN(ROW(Subtotals!$E$53:$E$199))+1, \"\"), ROW(A164))),\"\")","v":""},null,{"$f":"IFERROR(INDEX(Subtotals!$C$53:$C$199, SMALL(IF(Subtotals!$C$50=Subtotals!$E$53:$E$199, ROW(Subtotals!$E$53:$E$199)-MIN(ROW(Subtotals!$E$53:$E$199))+1, \"\"), ROW(A164))),\"\")","v":""},{"$f":"IFERROR(INDEX(Subtotals!$H$53:$H$199, SMALL(IF(Subtotals!$C$50=Subtotals!$E$53:$E$199, ROW(Subtotals!$E$53:$E$199)-MIN(ROW(Subtotals!$E$53:$E$199))+1, \"\"), ROW(A164))),\"\")","v":""},{"$f":"IFERROR(INDEX(Subtotals!$I$53:$I$199, SMALL(IF(Subtotals!$C$50=Subtotals!$E$53:$E$199, ROW(Subtotals!$E$53:$E$199)-MIN(ROW(Subtotals!$E$53:$E$199))+1, \"\"), ROW(A164))),\"\")","v":""}]
["","",null,null,null,null,null,null,null,null,null,null,null,null,null,null,null,null,{"$f":"IFERROR(INDEX(Subtotals!$A$53:$A$199, SMALL(IF(Subtotals!$C$50=Subtotals!$E$53:$E$199, ROW(Subtotals!$E$53:$E$199)-MIN(ROW(Subtotals!$E$53:$E$199))+1, \"\"), ROW(A165))),\"\")","v":""},{"$f":"IFERROR(INDEX(Subtotals!$B$53:$B$199, SMALL(IF(Subtotals!$C$50=Subtotals!$E$53:$E$199, ROW(Subtotals!$E$53:$E$199)-MIN(ROW(Subtotals!$E$53:$E$199))+1, \"\"), ROW(A165))),\"\")","v":""},{"$f":"IFERROR(INDEX(Subtotals!$F$53:$F$199, SMALL(IF(Subtotals!$C$50=Subtotals!$E$53:$E$199, ROW(Subtotals!$E$53:$E$199)-MIN(ROW(Subtotals!$E$53:$E$199))+1, \"\"), ROW(A165))),\"\")","v":""},{"$f":"IFERROR(INDEX(Subtotals!$G$53:$G$199, SMALL(IF(Subtotals!$C$50=Subtotals!$E$53:$E$199, ROW(Subtotals!$E$53:$E$199)-MIN(ROW(Subtotals!$E$53:$E$199))+1, \"\"), ROW(A165))),\"\")","v":""},{"$f":"IFERROR(INDEX(Subtotals!$J$53:$J$199, SMALL(IF(Subtotals!$C$50=Subtotals!$E$53:$E$199, ROW(Subtotals!$E$53:$E$199)-MIN(ROW(Subtotals!$E$53:$E$199))+1, \"\"), ROW(A165))),\"\")","v":""},null,{"$f":"IFERROR(INDEX(Subtotals!$C$53:$C$199, SMALL(IF(Subtotals!$C$50=Subtotals!$E$53:$E$199, ROW(Subtotals!$E$53:$E$199)-MIN(ROW(Subtotals!$E$53:$E$199))+1, \"\"), ROW(A165))),\"\")","v":""},{"$f":"IFERROR(INDEX(Subtotals!$H$53:$H$199, SMALL(IF(Subtotals!$C$50=Subtotals!$E$53:$E$199, ROW(Subtotals!$E$53:$E$199)-MIN(ROW(Subtotals!$E$53:$E$199))+1, \"\"), ROW(A165))),\"\")","v":""},{"$f":"IFERROR(INDEX(Subtotals!$I$53:$I$199, SMALL(IF(Subtotals!$C$50=Subtotals!$E$53:$E$199, ROW(Subtotals!$E$53:$E$199)-MIN(ROW(Subtotals!$E$53:$E$199))+1, \"\"), ROW(A165))),\"\")","v":""}]
["","",null,null,null,null,null,null,null,null,null,null,null,null,null,null,null,null,{"$f":"IFERROR(INDEX(Subtotals!$A$53:$A$199, SMALL(IF(Subtotals!$C$50=Subtotals!$E$53:$E$199, ROW(Subtotals!$E$53:$E$199)-MIN(ROW(Subtotals!$E$53:$E$199))+1, \"\"), ROW(A166))),\"\")","v":""},{"$f":"IFERROR(INDEX(Subtotals!$B$53:$B$199, SMALL(IF(Subtotals!$C$50=Subtotals!$E$53:$E$199, ROW(Subtotals!$E$53:$E$199)-MIN(ROW(Subtotals!$E$53:$E$199))+1, \"\"), ROW(A166))),\"\")","v":""},{"$f":"IFERROR(INDEX(Subtotals!$F$53:$F$199, SMALL(IF(Subtotals!$C$50=Subtotals!$E$53:$E$199, ROW(Subtotals!$E$53:$E$199)-MIN(ROW(Subtotals!$E$53:$E$199))+1, \"\"), ROW(A166))),\"\")","v":""},{"$f":"IFERROR(INDEX(Subtotals!$G$53:$G$199, SMALL(IF(Subtotals!$C$50=Subtotals!$E$53:$E$199, ROW(Subtotals!$E$53:$E$199)-MIN(ROW(Subtotals!$E$53:$E$199))+1, \"\"), ROW(A166))),\"\")","v":""},{"$f":"IFERROR(INDEX(Subtotals!$J$53:$J$199, SMALL(IF(Subtotals!$C$50=Subtotals!$E$53:$E$199, ROW(Subtotals!$E$53:$E$199)-MIN(ROW(Subtotals!$E$53:$E$199))+1, \"\"), ROW(A166))),\"\")","v":""},null,{"$f":"IFERROR(INDEX(Subtotals!$C$53:$C$199, SMALL(IF(Subtotals!$C$50=Subtotals!$E$53:$E$199, ROW(Subtotals!$E$53:$E$199)-MIN(ROW(Subtotals!$E$53:$E$199))+1, \"\"), ROW(A166))),\"\")","v":""},{"$f":"IFERROR(INDEX(Subtotals!$H$53:$H$199, SMALL(IF(Subtotals!$C$50=Subtotals!$E$53:$E$199, ROW(Subtotals!$E$53:$E$199)-MIN(ROW(Subtotals!$E$53:$E$199))+1, \"\"), ROW(A166))),\"\")","v":""},{"$f":"IFERROR(INDEX(Subtotals!$I$53:$I$199, SMALL(IF(Subtotals!$C$50=Subtotals!$E$53:$E$199, ROW(Subtotals!$E$53:$E$199)-MIN(ROW(Subtotals!$E$53:$E$199))+1, \"\"), ROW(A166))),\"\")","v":""}]
["","",null,null,null,null,null,null,null,null,null,null,null,null,null,null,null,null,{"$f":"IFERROR(INDEX(Subtotals!$A$53:$A$199, SMALL(IF(Subtotals!$C$50=Subtotals!$E$53:$E$199, ROW(Subtotals!$E$53:$E$199)-MIN(ROW(Subtotals!$E$53:$E$199))+1, \"\"), ROW(A167))),\"\")","v":""},{"$f":"IFERROR(INDEX(Subtotals!$B$53:$B$199, SMALL(IF(Subtotals!$C$50=Subtotals!$E$53:$E$199, ROW(Subtotals!$E$53:$E$199)-MIN(ROW(Subtotals!$E$53:$E$199))+1, \"\"), ROW(A167))),\"\")","v":""},{"$f":"IFERROR(INDEX(Subtotals!$F$53:$F$199, SMALL(IF(Subtotals!$C$50=Subtotals!$E$53:$E$199, ROW(Subtotals!$E$53:$E$199)-MIN(ROW(Subtotals!$E$53:$E$199))+1, \"\"), ROW(A167))),\"\")","v":""},{"$f":"IFERROR(INDEX(Subtotals!$G$53:$G$199, SMALL(IF(Subtotals!$C$50=Subtotals!$E$53:$E$199, ROW(Subtotals!$E$53:$E$199)-MIN(ROW(Subtotals!$E$53:$E$199))+1, \"\"), ROW(A167))),\"\")","v":""},{"$f":"IFERROR(INDEX(Subtotals!$J$53:$J$199, SMALL(IF(Subtotals!$C$50=Subtotals!$E$53:$E$199, ROW(Subtotals!$E$53:$E$199)-MIN(ROW(Subtotals!$E$53:$E$199))+1, \"\"), ROW(A167))),\"\")","v":""},null,{"$f":"IFERROR(INDEX(Subtotals!$C$53:$C$199, SMALL(IF(Subtotals!$C$50=Subtotals!$E$53:$E$199, ROW(Subtotals!$E$53:$E$199)-MIN(ROW(Subtotals!$E$53:$E$199))+1, \"\"), ROW(A167))),\"\")","v":""},{"$f":"IFERROR(INDEX(Subtotals!$H$53:$H$199, SMALL(IF(Subtotals!$C$50=Subtotals!$E$53:$E$199, ROW(Subtotals!$E$53:$E$199)-MIN(ROW(Subtotals!$E$53:$E$199))+1, \"\"), ROW(A167))),\"\")","v":""},{"$f":"IFERROR(INDEX(Subtotals!$I$53:$I$199, SMALL(IF(Subtotals!$C$50=Subtotals!$E$53:$E$199, ROW(Subtotals!$E$53:$E$199)-MIN(ROW(Subtotals!$E$53:$E$199))+1, \"\"), ROW(A167))),\"\")","v":""}]
["","",null,null,null,null,null,null,null,null,null,null,null,null,null,null,null,null,{"$f":"IFERROR(INDEX(Subtotals!$A$53:$A$199, SMALL(IF(Subtotals!$C$50=Subtotals!$E$53:$E$199, ROW(Subtotals!$E$53:$E$199)-MIN(ROW(Subtotals!$E$53:$E$199))+1, \"\"), ROW(A168))),\"\")","v":""},{"$f":"IFERROR(INDEX(Subtotals!$B$53:$B$199, SMALL(IF(Subtotals!$C$50=Subtotals!$E$53:$E$199, ROW(Subtotals!$E$53:$E$199)-MIN(ROW(Subtotals!$E$53:$E$199))+1, \"\"), ROW(A168))),\"\")","v":""},{"$f":"IFERROR(INDEX(Subtotals!$F$53:$F$199, SMALL(IF(Subtotals!$C$50=Subtotals!$E$53:$E$199, ROW(Subtotals!$E$53:$E$199)-MIN(ROW(Subtotals!$E$53:$E$199))+1, \"\"), ROW(A168))),\"\")","v":""},{"$f":"IFERROR(INDEX(Subtotals!$G$53:$G$199, SMALL(IF(Subtotals!$C$50=Subtotals!$E$53:$E$199, ROW(Subtotals!$E$53:$E$199)-MIN(ROW(Subtotals!$E$53:$E$199))+1, \"\"), ROW(A168))),\"\")","v":""},{"$f":"IFERROR(INDEX(Subtotals!$J$53:$J$199, SMALL(IF(Subtotals!$C$50=Subtotals!$E$53:$E$199, ROW(Subtotals!$E$53:$E$199)-MIN(ROW(Subtotals!$E$53:$E$199))+1, \"\"), ROW(A168))),\"\")","v":""},null,{"$f":"IFERROR(INDEX(Subtotals!$C$53:$C$199, SMALL(IF(Subtotals!$C$50=Subtotals!$E$53:$E$199, ROW(Subtotals!$E$53:$E$199)-MIN(ROW(Subtotals!$E$53:$E$199))+1, \"\"), ROW(A168))),\"\")","v":""},{"$f":"IFERROR(INDEX(Subtotals!$H$53:$H$199, SMALL(IF(Subtotals!$C$50=Subtotals!$E$53:$E$199, ROW(Subtotals!$E$53:$E$199)-MIN(ROW(Subtotals!$E$53:$E$199))+1, \"\"), ROW(A168))),\"\")","v":""},{"$f":"IFERROR(INDEX(Subtotals!$I$53:$I$199, SMALL(IF(Subtotals!$C$50=Subtotals!$E$53:$E$199, ROW(Subtotals!$E$53:$E$199)-MIN(ROW(Subtotals!$E$53:$E$199))+1, \"\"), ROW(A168))),\"\")","v":""}]
["","",null,null,null,null,null,null,null,null,null,null,null,null,null,null,null,null,{"$f":"IFERROR(INDEX(Subtotals!$A$53:$A$199, SMALL(IF(Subtotals!$C$50=Subtotals!$E$53:$E$199, ROW(Subtotals!$E$53:$E$199)-MIN(ROW(Subtotals!$E$53:$E$199))+1, \"\"), ROW(A169))),\"\")","v":""},{"$f":"IFERROR(INDEX(Subtotals!$B$53:$B$199, SMALL(IF(Subtotals!$C$50=Subtotals!$E$53:$E$199, ROW(Subtotals!$E$53:$E$199)-MIN(ROW(Subtotals!$E$53:$E$199))+1, \"\"), ROW(A169))),\"\")","v":""},{"$f":"IFERROR(INDEX(Subtotals!$F$53:$F$199, SMALL(IF(Subtotals!$C$50=Subtotals!$E$53:$E$199, ROW(Subtotals!$E$53:$E$199)-MIN(ROW(Subtotals!$E$53:$E$199))+1, \"\"), ROW(A169))),\"\")","v":""},{"$f":"IFERROR(INDEX(Subtotals!$G$53:$G$199, SMALL(IF(Subtotals!$C$50=Subtotals!$E$53:$E$199, ROW(Subtotals!$E$53:$E$199)-MIN(ROW(Subtotals!$E$53:$E$199))+1, \"\"), ROW(A169))),\"\")","v":""},{"$f":"IFERROR(INDEX(Subtotals!$J$53:$J$199, SMALL(IF(Subtotals!$C$50=Subtotals!$E$53:$E$199, ROW(Subtotals!$E$53:$E$199)-MIN(ROW(Subtotals!$E$53:$E$199))+1, \"\"), ROW(A169))),\"\")","v":""},null,{"$f":"IFERROR(INDEX(Subtotals!$C$53:$C$199, SMALL(IF(Subtotals!$C$50=Subtotals!$E$53:$E$199, ROW(Subtotals!$E$53:$E$199)-MIN(ROW(Subtotals!$E$53:$E$199))+1, \"\"), ROW(A169))),\"\")","v":""},{"$f":"IFERROR(INDEX(Subtotals!$H$53:$H$199, SMALL(IF(Subtotals!$C$50=Subtotals!$E$53:$E$199, ROW(Subtotals!$E$53:$E$199)-MIN(ROW(Subtotals!$E$53:$E$199))+1, \"\"), ROW(A169))),\"\")","v":""},{"$f":"IFERROR(INDEX(Subtotals!$I$53:$I$199, SMALL(IF(Subtotals!$C$50=Subtotals!$E$53:$E$199, ROW(Subtotals!$E$53:$E$199)-MIN(ROW(Subtotals!$E$53:$E$199))+1, \"\"), ROW(A169))),\"\")","v":""}]
["","",null,null,null,null,null,null,null,null,null,null,null,null,null,null,null,null,{"$f":"IFERROR(INDEX(Subtotals!$A$53:$A$199, SMALL(IF(Subtotals!$C$50=Subtotals!$E$53:$E$199, ROW(Subtotals!$E$53:$E$199)-MIN(ROW(Subtotals!$E$53:$E$199))+1, \"\"), ROW(A170))),\"\")","v":""},{"$f":"IFERROR(INDEX(Subtotals!$B$53:$B$199, SMALL(IF(Subtotals!$C$50=Subtotals!$E$53:$E$199, ROW(Subtotals!$E$53:$E$199)-MIN(ROW(Subtotals!$E$53:$E$199))+1, \"\"), ROW(A170))),\"\")","v":""},{"$f":"IFERROR(INDEX(Subtotals!$F$53:$F$199, SMALL(IF(Subtotals!$C$50=Subtotals!$E$53:$E$199, ROW(Subtotals!$E$53:$E$199)-MIN(ROW(Subtotals!$E$53:$E$199))+1, \"\"), ROW(A170))),\"\")","v":""},{"$f":"IFERROR(INDEX(Subtotals!$G$53:$G$199, SMALL(IF(Subtotals!$C$50=Subtotals!$E$53:$E$199, ROW(Subtotals!$E$53:$E$199)-MIN(ROW(Subtotals!$E$53:$E$199))+1, \"\"), ROW(A170))),\"\")","v":""},{"$f":"IFERROR(INDEX(Subtotals!$J$53:$J$199, SMALL(IF(Subtotals!$C$50=Subtotals!$E$53:$E$199, ROW(Subtotals!$E$53:$E$199)-MIN(ROW(Subtotals!$E$53:$E$199))+1, \"\"), ROW(A170))),\"\")","v":""},null,{"$f":"IFERROR(INDEX(Subtotals!$C$53:$C$199, SMALL(IF(Subtotals!$C$50=Subtotals!$E$53:$E$199, ROW(Subtotals!$E$53:$E$199)-MIN(ROW(Subtotals!$E$53:$E$199))+1, \"\"), ROW(A170))),\"\")","v":""},{"$f":"IFERROR(INDEX(Subtotals!$H$53:$H$199, SMALL(IF(Subtotals!$C$50=Subtotals!$E$53:$E$199, ROW(Subtotals!$E$53:$E$199)-MIN(ROW(Subtotals!$E$53:$E$199))+1, \"\"), ROW(A170))),\"\")","v":""},{"$f":"IFERROR(INDEX(Subtotals!$I$53:$I$199, SMALL(IF(Subtotals!$C$50=Subtotals!$E$53:$E$199, ROW(Subtotals!$E$53:$E$199)-MIN(ROW(Subtotals!$E$53:$E$199))+1, \"\"), ROW(A170))),\"\")","v":""}]
["","",null,null,null,null,null,null,null,null,null,null,null,null,null,null,null,null,{"$f":"IFERROR(INDEX(Subtotals!$A$53:$A$199, SMALL(IF(Subtotals!$C$50=Subtotals!$E$53:$E$199, ROW(Subtotals!$E$53:$E$199)-MIN(ROW(Subtotals!$E$53:$E$199))+1, \"\"), ROW(A171))),\"\")","v":""},{"$f":"IFERROR(INDEX(Subtotals!$B$53:$B$199, SMALL(IF(Subtotals!$C$50=Subtotals!$E$53:$E$199, ROW(Subtotals!$E$53:$E$199)-MIN(ROW(Subtotals!$E$53:$E$199))+1, \"\"), ROW(A171))),\"\")","v":""},{"$f":"IFERROR(INDEX(Subtotals!$F$53:$F$199, SMALL(IF(Subtotals!$C$50=Subtotals!$E$53:$E$199, ROW(Subtotals!$E$53:$E$199)-MIN(ROW(Subtotals!$E$53:$E$199))+1, \"\"), ROW(A171))),\"\")","v":""},{"$f":"IFERROR(INDEX(Subtotals!$G$53:$G$199, SMALL(IF(Subtotals!$C$50=Subtotals!$E$53:$E$199, ROW(Subtotals!$E$53:$E$199)-MIN(ROW(Subtotals!$E$53:$E$199))+1, \"\"), ROW(A171))),\"\")","v":""},{"$f":"IFERROR(INDEX(Subtotals!$J$53:$J$199, SMALL(IF(Subtotals!$C$50=Subtotals!$E$53:$E$199, ROW(Subtotals!$E$53:$E$199)-MIN(ROW(Subtotals!$E$53:$E$199))+1, \"\"), ROW(A171))),\"\")","v":""},null,{"$f":"IFERROR(INDEX(Subtotals!$C$53:$C$199, SMALL(IF(Subtotals!$C$50=Subtotals!$E$53:$E$199, ROW(Subtotals!$E$53:$E$199)-MIN(ROW(Subtotals!$E$53:$E$199))+1, \"\"), ROW(A171))),\"\")","v":""},{"$f":"IFERROR(INDEX(Subtotals!$H$53:$H$199, SMALL(IF(Subtotals!$C$50=Subtotals!$E$53:$E$199, ROW(Subtotals!$E$53:$E$199)-MIN(ROW(Subtotals!$E$53:$E$199))+1, \"\"), ROW(A171))),\"\")","v":""},{"$f":"IFERROR(INDEX(Subtotals!$I$53:$I$199, SMALL(IF(Subtotals!$C$50=Subtotals!$E$53:$E$199, ROW(Subtotals!$E$53:$E$199)-MIN(ROW(Subtotals!$E$53:$E$199))+1, \"\"), ROW(A171))),\"\")","v":""}]
["","",null,null,null,null,null,null,null,null,null,null,null,null,null,null,null,null,{"$f":"IFERROR(INDEX(Subtotals!$A$53:$A$199, SMALL(IF(Subtotals!$C$50=Subtotals!$E$53:$E$199, ROW(Subtotals!$E$53:$E$199)-MIN(ROW(Subtotals!$E$53:$E$199))+1, \"\"), ROW(A172))),\"\")","v":""},{"$f":"IFERROR(INDEX(Subtotals!$B$53:$B$199, SMALL(IF(Subtotals!$C$50=Subtotals!$E$53:$E$199, ROW(Subtotals!$E$53:$E$199)-MIN(ROW(Subtotals!$E$53:$E$199))+1, \"\"), ROW(A172))),\"\")","v":""},{"$f":"IFERROR(INDEX(Subtotals!$F$53:$F$199, SMALL(IF(Subtotals!$C$50=Subtotals!$E$53:$E$199, ROW(Subtotals!$E$53:$E$199)-MIN(ROW(Subtotals!$E$53:$E$199))+1, \"\"), ROW(A172))),\"\")","v":""},{"$f":"IFERROR(INDEX(Subtotals!$G$53:$G$199, SMALL(IF(Subtotals!$C$50=Subtotals!$E$53:$E$199, ROW(Subtotals!$E$53:$E$199)-MIN(ROW(Subtotals!$E$53:$E$199))+1, \"\"), ROW(A172))),\"\")","v":""},{"$f":"IFERROR(INDEX(Subtotals!$J$53:$J$199, SMALL(IF(Subtotals!$C$50=Subtotals!$E$53:$E$199, ROW(Subtotals!$E$53:$E$199)-MIN(ROW(Subtotals!$E$53:$E$199))+1, \"\"), ROW(A172))),\"\")","v":""},null,{"$f":"IFERROR(INDEX(Subtotals!$C$53:$C$199, SMALL(IF(Subtotals!$C$50=Subtotals!$E$53:$E$199, ROW(Subtotals!$E$53:$E$199)-MIN(ROW(Subtotals!$E$53:$E$199))+1, \"\"), ROW(A172))),\"\")","v":""},{"$f":"IFERROR(INDEX(Subtotals!$H$53:$H$199, SMALL(IF(Subtotals!$C$50=Subtotals!$E$53:$E$199, ROW(Subtotals!$E$53:$E$199)-MIN(ROW(Subtotals!$E$53:$E$199))+1, \"\"), ROW(A172))),\"\")","v":""},{"$f":"IFERROR(INDEX(Subtotals!$I$53:$I$199, SMALL(IF(Subtotals!$C$50=Subtotals!$E$53:$E$199, ROW(Subtotals!$E$53:$E$199)-MIN(ROW(Subtotals!$E$53:$E$199))+1, \"\"), ROW(A172))),\"\")","v":""}]
["","",null,null,null,null,null,null,null,null,null,null,null,null,null,null,null,null,{"$f":"IFERROR(INDEX(Subtotals!$A$53:$A$199, SMALL(IF(Subtotals!$C$50=Subtotals!$E$53:$E$199, ROW(Subtotals!$E$53:$E$199)-MIN(ROW(Subtotals!$E$53:$E$199))+1, \"\"), ROW(A173))),\"\")","v":""},{"$f":"IFERROR(INDEX(Subtotals!$B$53:$B$199, SMALL(IF(Subtotals!$C$50=Subtotals!$E$53:$E$199, ROW(Subtotals!$E$53:$E$199)-MIN(ROW(Subtotals!$E$53:$E$199))+1, \"\"), ROW(A173))),\"\")","v":""},{"$f":"IFERROR(INDEX(Subtotals!$F$53:$F$199, SMALL(IF(Subtotals!$C$50=Subtotals!$E$53:$E$199, ROW(Subtotals!$E$53:$E$199)-MIN(ROW(Subtotals!$E$53:$E$199))+1, \"\"), ROW(A173))),\"\")","v":""},{"$f":"IFERROR(INDEX(Subtotals!$G$53:$G$199, SMALL(IF(Subtotals!$C$50=Subtotals!$E$53:$E$199, ROW(Subtotals!$E$53:$E$199)-MIN(ROW(Subtotals!$E$53:$E$199))+1, \"\"), ROW(A173))),\"\")","v":""},{"$f":"IFERROR(INDEX(Subtotals!$J$53:$J$199, SMALL(IF(Subtotals!$C$50=Subtotals!$E$53:$E$199, ROW(Subtotals!$E$53:$E$199)-MIN(ROW(Subtotals!$E$53:$E$199))+1, \"\"), ROW(A173))),\"\")","v":""},null,{"$f":"IFERROR(INDEX(Subtotals!$C$53:$C$199, SMALL(IF(Subtotals!$C$50=Subtotals!$E$53:$E$199, ROW(Subtotals!$E$53:$E$199)-MIN(ROW(Subtotals!$E$53:$E$199))+1, \"\"), ROW(A173))),\"\")","v":""},{"$f":"IFERROR(INDEX(Subtotals!$H$53:$H$199, SMALL(IF(Subtotals!$C$50=Subtotals!$E$53:$E$199, ROW(Subtotals!$E$53:$E$199)-MIN(ROW(Subtotals!$E$53:$E$199))+1, \"\"), ROW(A173))),\"\")","v":""},{"$f":"IFERROR(INDEX(Subtotals!$I$53:$I$199, SMALL(IF(Subtotals!$C$50=Subtotals!$E$53:$E$199, ROW(Subtotals!$E$53:$E$199)-MIN(ROW(Subtotals!$E$53:$E$199))+1, \"\"), ROW(A173))),\"\")","v":""}]
["","",null,null,null,null,null,null,null,null,null,null,null,null,null,null,null,null,{"$f":"IFERROR(INDEX(Subtotals!$A$53:$A$199, SMALL(IF(Subtotals!$C$50=Subtotals!$E$53:$E$199, ROW(Subtotals!$E$53:$E$199)-MIN(ROW(Subtotals!$E$53:$E$199))+1, \"\"), ROW(A174))),\"\")","v":""},{"$f":"IFERROR(INDEX(Subtotals!$B$53:$B$199, SMALL(IF(Subtotals!$C$50=Subtotals!$E$53:$E$199, ROW(Subtotals!$E$53:$E$199)-MIN(ROW(Subtotals!$E$53:$E$199))+1, \"\"), ROW(A174))),\"\")","v":""},{"$f":"IFERROR(INDEX(Subtotals!$F$53:$F$199, SMALL(IF(Subtotals!$C$50=Subtotals!$E$53:$E$199, ROW(Subtotals!$E$53:$E$199)-MIN(ROW(Subtotals!$E$53:$E$199))+1, \"\"), ROW(A174))),\"\")","v":""},{"$f":"IFERROR(INDEX(Subtotals!$G$53:$G$199, SMALL(IF(Subtotals!$C$50=Subtotals!$E$53:$E$199, ROW(Subtotals!$E$53:$E$199)-MIN(ROW(Subtotals!$E$53:$E$199))+1, \"\"), ROW(A174))),\"\")","v":""},{"$f":"IFERROR(INDEX(Subtotals!$J$53:$J$199, SMALL(IF(Subtotals!$C$50=Subtotals!$E$53:$E$199, ROW(Subtotals!$E$53:$E$199)-MIN(ROW(Subtotals!$E$53:$E$199))+1, \"\"), ROW(A174))),\"\")","v":""},null,{"$f":"IFERROR(INDEX(Subtotals!$C$53:$C$199, SMALL(IF(Subtotals!$C$50=Subtotals!$E$53:$E$199, ROW(Subtotals!$E$53:$E$199)-MIN(ROW(Subtotals!$E$53:$E$199))+1, \"\"), ROW(A174))),\"\")","v":""},{"$f":"IFERROR(INDEX(Subtotals!$H$53:$H$199, SMALL(IF(Subtotals!$C$50=Subtotals!$E$53:$E$199, ROW(Subtotals!$E$53:$E$199)-MIN(ROW(Subtotals!$E$53:$E$199))+1, \"\"), ROW(A174))),\"\")","v":""},{"$f":"IFERROR(INDEX(Subtotals!$I$53:$I$199, SMALL(IF(Subtotals!$C$50=Subtotals!$E$53:$E$199, ROW(Subtotals!$E$53:$E$199)-MIN(ROW(Subtotals!$E$53:$E$199))+1, \"\"), ROW(A174))),\"\")","v":""}]
["","",null,null,null,null,null,null,null,null,null,null,null,null,null,null,null,null,{"$f":"IFERROR(INDEX(Subtotals!$A$53:$A$199, SMALL(IF(Subtotals!$C$50=Subtotals!$E$53:$E$199, ROW(Subtotals!$E$53:$E$199)-MIN(ROW(Subtotals!$E$53:$E$199))+1, \"\"), ROW(A175))),\"\")","v":""},{"$f":"IFERROR(INDEX(Subtotals!$B$53:$B$199, SMALL(IF(Subtotals!$C$50=Subtotals!$E$53:$E$199, ROW(Subtotals!$E$53:$E$199)-MIN(ROW(Subtotals!$E$53:$E$199))+1, \"\"), ROW(A175))),\"\")","v":""},{"$f":"IFERROR(INDEX(Subtotals!$F$53:$F$199, SMALL(IF(Subtotals!$C$50=Subtotals!$E$53:$E$199, ROW(Subtotals!$E$53:$E$199)-MIN(ROW(Subtotals!$E$53:$E$199))+1, \"\"), ROW(A175))),\"\")","v":""},{"$f":"IFERROR(INDEX(Subtotals!$G$53:$G$199, SMALL(IF(Subtotals!$C$50=Subtotals!$E$53:$E$199, ROW(Subtotals!$E$53:$E$199)-MIN(ROW(Subtotals!$E$53:$E$199))+1, \"\"), ROW(A175))),\"\")","v":""},{"$f":"IFERROR(INDEX(Subtotals!$J$53:$J$199, SMALL(IF(Subtotals!$C$50=Subtotals!$E$53:$E$199, ROW(Subtotals!$E$53:$E$199)-MIN(ROW(Subtotals!$E$53:$E$199))+1, \"\"), ROW(A175))),\"\")","v":""},null,{"$f":"IFERROR(INDEX(Subtotals!$C$53:$C$199, SMALL(IF(Subtotals!$C$50=Subtotals!$E$53:$E$199, ROW(Subtotals!$E$53:$E$199)-MIN(ROW(Subtotals!$E$53:$E$199))+1, \"\"), ROW(A175))),\"\")","v":""},{"$f":"IFERROR(INDEX(Subtotals!$H$53:$H$199, SMALL(IF(Subtotals!$C$50=Subtotals!$E$53:$E$199, ROW(Subtotals!$E$53:$E$199)-MIN(ROW(Subtotals!$E$53:$E$199))+1, \"\"), ROW(A175))),\"\")","v":""},{"$f":"IFERROR(INDEX(Subtotals!$I$53:$I$199, SMALL(IF(Subtotals!$C$50=Subtotals!$E$53:$E$199, ROW(Subtotals!$E$53:$E$199)-MIN(ROW(Subtotals!$E$53:$E$199))+1, \"\"), ROW(A175))),\"\")","v":""}]
["","",null,null,null,null,null,null,null,null,null,null,null,null,null,null,null,null,{"$f":"IFERROR(INDEX(Subtotals!$A$53:$A$199, SMALL(IF(Subtotals!$C$50=Subtotals!$E$53:$E$199, ROW(Subtotals!$E$53:$E$199)-MIN(ROW(Subtotals!$E$53:$E$199))+1, \"\"), ROW(A176))),\"\")","v":""},{"$f":"IFERROR(INDEX(Subtotals!$B$53:$B$199, SMALL(IF(Subtotals!$C$50=Subtotals!$E$53:$E$199, ROW(Subtotals!$E$53:$E$199)-MIN(ROW(Subtotals!$E$53:$E$199))+1, \"\"), ROW(A176))),\"\")","v":""},{"$f":"IFERROR(INDEX(Subtotals!$F$53:$F$199, SMALL(IF(Subtotals!$C$50=Subtotals!$E$53:$E$199, ROW(Subtotals!$E$53:$E$199)-MIN(ROW(Subtotals!$E$53:$E$199))+1, \"\"), ROW(A176))),\"\")","v":""},{"$f":"IFERROR(INDEX(Subtotals!$G$53:$G$199, SMALL(IF(Subtotals!$C$50=Subtotals!$E$53:$E$199, ROW(Subtotals!$E$53:$E$199)-MIN(ROW(Subtotals!$E$53:$E$199))+1, \"\"), ROW(A176))),\"\")","v":""},{"$f":"IFERROR(INDEX(Subtotals!$J$53:$J$199, SMALL(IF(Subtotals!$C$50=Subtotals!$E$53:$E$199, ROW(Subtotals!$E$53:$E$199)-MIN(ROW(Subtotals!$E$53:$E$199))+1, \"\"), ROW(A176))),\"\")","v":""},null,{"$f":"IFERROR(INDEX(Subtotals!$C$53:$C$199, SMALL(IF(Subtotals!$C$50=Subtotals!$E$53:$E$199, ROW(Subtotals!$E$53:$E$199)-MIN(ROW(Subtotals!$E$53:$E$199))+1, \"\"), ROW(A176))),\"\")","v":""},{"$f":"IFERROR(INDEX(Subtotals!$H$53:$H$199, SMALL(IF(Subtotals!$C$50=Subtotals!$E$53:$E$199, ROW(Subtotals!$E$53:$E$199)-MIN(ROW(Subtotals!$E$53:$E$199))+1, \"\"), ROW(A176))),\"\")","v":""},{"$f":"IFERROR(INDEX(Subtotals!$I$53:$I$199, SMALL(IF(Subtotals!$C$50=Subtotals!$E$53:$E$199, ROW(Subtotals!$E$53:$E$199)-MIN(ROW(Subtotals!$E$53:$E$199))+1, \"\"), ROW(A176))),\"\")","v":""}]
["","",null,null,null,null,null,null,null,null,null,null,null,null,null,null,null,null,{"$f":"IFERROR(INDEX(Subtotals!$A$53:$A$199, SMALL(IF(Subtotals!$C$50=Subtotals!$E$53:$E$199, ROW(Subtotals!$E$53:$E$199)-MIN(ROW(Subtotals!$E$53:$E$199))+1, \"\"), ROW(A177))),\"\")","v":""},{"$f":"IFERROR(INDEX(Subtotals!$B$53:$B$199, SMALL(IF(Subtotals!$C$50=Subtotals!$E$53:$E$199, ROW(Subtotals!$E$53:$E$199)-MIN(ROW(Subtotals!$E$53:$E$199))+1, \"\"), ROW(A177))),\"\")","v":""},{"$f":"IFERROR(INDEX(Subtotals!$F$53:$F$199, SMALL(IF(Subtotals!$C$50=Subtotals!$E$53:$E$199, ROW(Subtotals!$E$53:$E$199)-MIN(ROW(Subtotals!$E$53:$E$199))+1, \"\"), ROW(A177))),\"\")","v":""},{"$f":"IFERROR(INDEX(Subtotals!$G$53:$G$199, SMALL(IF(Subtotals!$C$50=Subtotals!$E$53:$E$199, ROW(Subtotals!$E$53:$E$199)-MIN(ROW(Subtotals!$E$53:$E$199))+1, \"\"), ROW(A177))),\"\")","v":""},{"$f":"IFERROR(INDEX(Subtotals!$J$53:$J$199, SMALL(IF(Subtotals!$C$50=Subtotals!$E$53:$E$199, ROW(Subtotals!$E$53:$E$199)-MIN(ROW(Subtotals!$E$53:$E$199))+1, \"\"), ROW(A177))),\"\")","v":""},null,{"$f":"IFERROR(INDEX(Subtotals!$C$53:$C$199, SMALL(IF(Subtotals!$C$50=Subtotals!$E$53:$E$199, ROW(Subtotals!$E$53:$E$199)-MIN(ROW(Subtotals!$E$53:$E$199))+1, \"\"), ROW(A177))),\"\")","v":""},{"$f":"IFERROR(INDEX(Subtotals!$H$53:$H$199, SMALL(IF(Subtotals!$C$50=Subtotals!$E$53:$E$199, ROW(Subtotals!$E$53:$E$199)-MIN(ROW(Subtotals!$E$53:$E$199))+1, \"\"), ROW(A177))),\"\")","v":""},{"$f":"IFERROR(INDEX(Subtotals!$I$53:$I$199, SMALL(IF(Subtotals!$C$50=Subtotals!$E$53:$E$199, ROW(Subtotals!$E$53:$E$199)-MIN(ROW(Subtotals!$E$53:$E$199))+1, \"\"), ROW(A177))),\"\")","v":""}]
["","",null,null,null,null,null,null,null,null,null,null,null,null,null,null,null,null,{"$f":"IFERROR(INDEX(Subtotals!$A$53:$A$199, SMALL(IF(Subtotals!$C$50=Subtotals!$E$53:$E$199, ROW(Subtotals!$E$53:$E$199)-MIN(ROW(Subtotals!$E$53:$E$199))+1, \"\"), ROW(A178))),\"\")","v":""},{"$f":"IFERROR(INDEX(Subtotals!$B$53:$B$199, SMALL(IF(Subtotals!$C$50=Subtotals!$E$53:$E$199, ROW(Subtotals!$E$53:$E$199)-MIN(ROW(Subtotals!$E$53:$E$199))+1, \"\"), ROW(A178))),\"\")","v":""},{"$f":"IFERROR(INDEX(Subtotals!$F$53:$F$199, SMALL(IF(Subtotals!$C$50=Subtotals!$E$53:$E$199, ROW(Subtotals!$E$53:$E$199)-MIN(ROW(Subtotals!$E$53:$E$199))+1, \"\"), ROW(A178))),\"\")","v":""},{"$f":"IFERROR(INDEX(Subtotals!$G$53:$G$199, SMALL(IF(Subtotals!$C$50=Subtotals!$E$53:$E$199, ROW(Subtotals!$E$53:$E$199)-MIN(ROW(Subtotals!$E$53:$E$199))+1, \"\"), ROW(A178))),\"\")","v":""},{"$f":"IFERROR(INDEX(Subtotals!$J$53:$J$199, SMALL(IF(Subtotals!$C$50=Subtotals!$E$53:$E$199, ROW(Subtotals!$E$53:$E$199)-MIN(ROW(Subtotals!$E$53:$E$199))+1, \"\"), ROW(A178))),\"\")","v":""},null,{"$f":"IFERROR(INDEX(Subtotals!$C$53:$C$199, SMALL(IF(Subtotals!$C$50=Subtotals!$E$53:$E$199, ROW(Subtotals!$E$53:$E$199)-MIN(ROW(Subtotals!$E$53:$E$199))+1, \"\"), ROW(A178))),\"\")","v":""},{"$f":"IFERROR(INDEX(Subtotals!$H$53:$H$199, SMALL(IF(Subtotals!$C$50=Subtotals!$E$53:$E$199, ROW(Subtotals!$E$53:$E$199)-MIN(ROW(Subtotals!$E$53:$E$199))+1, \"\"), ROW(A178))),\"\")","v":""},{"$f":"IFERROR(INDEX(Subtotals!$I$53:$I$199, SMALL(IF(Subtotals!$C$50=Subtotals!$E$53:$E$199, ROW(Subtotals!$E$53:$E$199)-MIN(ROW(Subtotals!$E$53:$E$199))+1, \"\"), ROW(A178))),\"\")","v":""}]
["","",null,null,null,null,null,null,null,null,null,null,null,null,null,null,null,null,{"$f":"IFERROR(INDEX(Subtotals!$A$53:$A$199, SMALL(IF(Subtotals!$C$50=Subtotals!$E$53:$E$199, ROW(Subtotals!$E$53:$E$199)-MIN(ROW(Subtotals!$E$53:$E$199))+1, \"\"), ROW(A179))),\"\")","v":""},{"$f":"IFERROR(INDEX(Subtotals!$B$53:$B$199, SMALL(IF(Subtotals!$C$50=Subtotals!$E$53:$E$199, ROW(Subtotals!$E$53:$E$199)-MIN(ROW(Subtotals!$E$53:$E$199))+1, \"\"), ROW(A179))),\"\")","v":""},{"$f":"IFERROR(INDEX(Subtotals!$F$53:$F$199, SMALL(IF(Subtotals!$C$50=Subtotals!$E$53:$E$199, ROW(Subtotals!$E$53:$E$199)-MIN(ROW(Subtotals!$E$53:$E$199))+1, \"\"), ROW(A179))),\"\")","v":""},{"$f":"IFERROR(INDEX(Subtotals!$G$53:$G$199, SMALL(IF(Subtotals!$C$50=Subtotals!$E$53:$E$199, ROW(Subtotals!$E$53:$E$199)-MIN(ROW(Subtotals!$E$53:$E$199))+1, \"\"), ROW(A179))),\"\")","v":""},{"$f":"IFERROR(INDEX(Subtotals!$J$53:$J$199, SMALL(IF(Subtotals!$C$50=Subtotals!$E$53:$E$199, ROW(Subtotals!$E$53:$E$199)-MIN(ROW(Subtotals!$E$53:$E$199))+1, \"\"), ROW(A179))),\"\")","v":""},null,{"$f":"IFERROR(INDEX(Subtotals!$C$53:$C$199, SMALL(IF(Subtotals!$C$50=Subtotals!$E$53:$E$199, ROW(Subtotals!$E$53:$E$199)-MIN(ROW(Subtotals!$E$53:$E$199))+1, \"\"), ROW(A179))),\"\")","v":""},{"$f":"IFERROR(INDEX(Subtotals!$H$53:$H$199, SMALL(IF(Subtotals!$C$50=Subtotals!$E$53:$E$199, ROW(Subtotals!$E$53:$E$199)-MIN(ROW(Subtotals!$E$53:$E$199))+1, \"\"), ROW(A179))),\"\")","v":""},{"$f":"IFERROR(INDEX(Subtotals!$I$53:$I$199, SMALL(IF(Subtotals!$C$50=Subtotals!$E$53:$E$199, ROW(Subtotals!$E$53:$E$199)-MIN(ROW(Subtotals!$E$53:$E$199))+1, \"\"), ROW(A179))),\"\")","v":""}]
["","",null,null,null,null,null,null,null,null,null,null,null,null,null,null,null,null,{"$f":"IFERROR(INDEX(Subtotals!$A$53:$A$199, SMALL(IF(Subtotals!$C$50=Subtotals!$E$53:$E$199, ROW(Subtotals!$E$53:$E$199)-MIN(ROW(Subtotals!$E$53:$E$199))+1, \"\"), ROW(A180))),\"\")","v":""},{"$f":"IFERROR(INDEX(Subtotals!$B$53:$B$199, SMALL(IF(Subtotals!$C$50=Subtotals!$E$53:$E$199, ROW(Subtotals!$E$53:$E$199)-MIN(ROW(Subtotals!$E$53:$E$199))+1, \"\"), ROW(A180))),\"\")","v":""},{"$f":"IFERROR(INDEX(Subtotals!$F$53:$F$199, SMALL(IF(Subtotals!$C$50=Subtotals!$E$53:$E$199, ROW(Subtotals!$E$53:$E$199)-MIN(ROW(Subtotals!$E$53:$E$199))+1, \"\"), ROW(A180))),\"\")","v":""},{"$f":"IFERROR(INDEX(Subtotals!$G$53:$G$199, SMALL(IF(Subtotals!$C$50=Subtotals!$E$53:$E$199, ROW(Subtotals!$E$53:$E$199)-MIN(ROW(Subtotals!$E$53:$E$199))+1, \"\"), ROW(A180))),\"\")","v":""},{"$f":"IFERROR(INDEX(Subtotals!$J$53:$J$199, SMALL(IF(Subtotals!$C$50=Subtotals!$E$53:$E$199, ROW(Subtotals!$E$53:$E$199)-MIN(ROW(Subtotals!$E$53:$E$199))+1, \"\"), ROW(A180))),\"\")","v":""},null,{"$f":"IFERROR(INDEX(Subtotals!$C$53:$C$199, SMALL(IF(Subtotals!$C$50=Subtotals!$E$53:$E$199, ROW(Subtotals!$E$53:$E$199)-MIN(ROW(Subtotals!$E$53:$E$199))+1, \"\"), ROW(A180))),\"\")","v":""},{"$f":"IFERROR(INDEX(Subtotals!$H$53:$H$199, SMALL(IF(Subtotals!$C$50=Subtotals!$E$53:$E$199, ROW(Subtotals!$E$53:$E$199)-MIN(ROW(Subtotals!$E$53:$E$199))+1, \"\"), ROW(A180))),\"\")","v":""},{"$f":"IFERROR(INDEX(Subtotals!$I$53:$I$199, SMALL(IF(Subtotals!$C$50=Subtotals!$E$53:$E$199, ROW(Subtotals!$E$53:$E$199)-MIN(ROW(Subtotals!$E$53:$E$199))+1, \"\"), ROW(A180))),\"\")","v":""}]
["","",null,null,null,null,null,null,null,null,null,null,null,null,null,null,null,null,{"$f":"IFERROR(INDEX(Subtotals!$A$53:$A$199, SMALL(IF(Subtotals!$C$50=Subtotals!$E$53:$E$199, ROW(Subtotals!$E$53:$E$199)-MIN(ROW(Subtotals!$E$53:$E$199))+1, \"\"), ROW(A181))),\"\")","v":""},{"$f":"IFERROR(INDEX(Subtotals!$B$53:$B$199, SMALL(IF(Subtotals!$C$50=Subtotals!$E$53:$E$199, ROW(Subtotals!$E$53:$E$199)-MIN(ROW(Subtotals!$E$53:$E$199))+1, \"\"), ROW(A181))),\"\")","v":""},{"$f":"IFERROR(INDEX(Subtotals!$F$53:$F$199, SMALL(IF(Subtotals!$C$50=Subtotals!$E$53:$E$199, ROW(Subtotals!$E$53:$E$199)-MIN(ROW(Subtotals!$E$53:$E$199))+1, \"\"), ROW(A181))),\"\")","v":""},{"$f":"IFERROR(INDEX(Subtotals!$G$53:$G$199, SMALL(IF(Subtotals!$C$50=Subtotals!$E$53:$E$199, ROW(Subtotals!$E$53:$E$199)-MIN(ROW(Subtotals!$E$53:$E$199))+1, \"\"), ROW(A181))),\"\")","v":""},{"$f":"IFERROR(INDEX(Subtotals!$J$53:$J$199, SMALL(IF(Subtotals!$C$50=Subtotals!$E$53:$E$199, ROW(Subtotals!$E$53:$E$199)-MIN(ROW(Subtotals!$E$53:$E$199))+1, \"\"), ROW(A181))),\"\")","v":""},null,{"$f":"IFERROR(INDEX(Subtotals!$C$53:$C$199, SMALL(IF(Subtotals!$C$50=Subtotals!$E$53:$E$199, ROW(Subtotals!$E$53:$E$199)-MIN(ROW(Subtotals!$E$53:$E$199))+1, \"\"), ROW(A181))),\"\")","v":""},{"$f":"IFERROR(INDEX(Subtotals!$H$53:$H$199, SMALL(IF(Subtotals!$C$50=Subtotals!$E$53:$E$199, ROW(Subtotals!$E$53:$E$199)-MIN(ROW(Subtotals!$E$53:$E$199))+1, \"\"), ROW(A181))),\"\")","v":""},{"$f":"IFERROR(INDEX(Subtotals!$I$53:$I$199, SMALL(IF(Subtotals!$C$50=Subtotals!$E$53:$E$199, ROW(Subtotals!$E$53:$E$199)-MIN(ROW(Subtotals!$E$53:$E$199))+1, \"\"), ROW(A181))),\"\")","v":""}]
["","",null,null,null,null,null,null,null,null,null,null,null,null,null,null,null,null,{"$f":"IFERROR(INDEX(Subtotals!$A$53:$A$199, SMALL(IF(Subtotals!$C$50=Subtotals!$E$53:$E$199, ROW(Subtotals!$E$53:$E$199)-MIN(ROW(Subtotals!$E$53:$E$199))+1, \"\"), ROW(A182))),\"\")","v":""},{"$f":"IFERROR(INDEX(Subtotals!$B$53:$B$199, SMALL(IF(Subtotals!$C$50=Subtotals!$E$53:$E$199, ROW(Subtotals!$E$53:$E$199)-MIN(ROW(Subtotals!$E$53:$E$199))+1, \"\"), ROW(A182))),\"\")","v":""},{"$f":"IFERROR(INDEX(Subtotals!$F$53:$F$199, SMALL(IF(Subtotals!$C$50=Subtotals!$E$53:$E$199, ROW(Subtotals!$E$53:$E$199)-MIN(ROW(Subtotals!$E$53:$E$199))+1, \"\"), ROW(A182))),\"\")","v":""},{"$f":"IFERROR(INDEX(Subtotals!$G$53:$G$199, SMALL(IF(Subtotals!$C$50=Subtotals!$E$53:$E$199, ROW(Subtotals!$E$53:$E$199)-MIN(ROW(Subtotals!$E$53:$E$199))+1, \"\"), ROW(A182))),\"\")","v":""},{"$f":"IFERROR(INDEX(Subtotals!$J$53:$J$199, SMALL(IF(Subtotals!$C$50=Subtotals!$E$53:$E$199, ROW(Subtotals!$E$53:$E$199)-MIN(ROW(Subtotals!$E$53:$E$199))+1, \"\"), ROW(A182))),\"\")","v":""},null,{"$f":"IFERROR(INDEX(Subtotals!$C$53:$C$199, SMALL(IF(Subtotals!$C$50=Subtotals!$E$53:$E$199, ROW(Subtotals!$E$53:$E$199)-MIN(ROW(Subtotals!$E$53:$E$199))+1, \"\"), ROW(A182))),\"\")","v":""},{"$f":"IFERROR(INDEX(Subtotals!$H$53:$H$199, SMALL(IF(Subtotals!$C$50=Subtotals!$E$53:$E$199, ROW(Subtotals!$E$53:$E$199)-MIN(ROW(Subtotals!$E$53:$E$199))+1, \"\"), ROW(A182))),\"\")","v":""},{"$f":"IFERROR(INDEX(Subtotals!$I$53:$I$199, SMALL(IF(Subtotals!$C$50=Subtotals!$E$53:$E$199, ROW(Subtotals!$E$53:$E$199)-MIN(ROW(Subtotals!$E$53:$E$199))+1, \"\"), ROW(A182))),\"\")","v":""}]
["","",null,null,null,null,null,null,null,null,null,null,null,null,null,null,null,null,{"$f":"IFERROR(INDEX(Subtotals!$A$53:$A$199, SMALL(IF(Subtotals!$C$50=Subtotals!$E$53:$E$199, ROW(Subtotals!$E$53:$E$199)-MIN(ROW(Subtotals!$E$53:$E$199))+1, \"\"), ROW(A183))),\"\")","v":""},{"$f":"IFERROR(INDEX(Subtotals!$B$53:$B$199, SMALL(IF(Subtotals!$C$50=Subtotals!$E$53:$E$199, ROW(Subtotals!$E$53:$E$199)-MIN(ROW(Subtotals!$E$53:$E$199))+1, \"\"), ROW(A183))),\"\")","v":""},{"$f":"IFERROR(INDEX(Subtotals!$F$53:$F$199, SMALL(IF(Subtotals!$C$50=Subtotals!$E$53:$E$199, ROW(Subtotals!$E$53:$E$199)-MIN(ROW(Subtotals!$E$53:$E$199))+1, \"\"), ROW(A183))),\"\")","v":""},{"$f":"IFERROR(INDEX(Subtotals!$G$53:$G$199, SMALL(IF(Subtotals!$C$50=Subtotals!$E$53:$E$199, ROW(Subtotals!$E$53:$E$199)-MIN(ROW(Subtotals!$E$53:$E$199))+1, \"\"), ROW(A183))),\"\")","v":""},{"$f":"IFERROR(INDEX(Subtotals!$J$53:$J$199, SMALL(IF(Subtotals!$C$50=Subtotals!$E$53:$E$199, ROW(Subtotals!$E$53:$E$199)-MIN(ROW(Subtotals!$E$53:$E$199))+1, \"\"), ROW(A183))),\"\")","v":""},null,{"$f":"IFERROR(INDEX(Subtotals!$C$53:$C$199, SMALL(IF(Subtotals!$C$50=Subtotals!$E$53:$E$199, ROW(Subtotals!$E$53:$E$199)-MIN(ROW(Subtotals!$E$53:$E$199))+1, \"\"), ROW(A183))),\"\")","v":""},{"$f":"IFERROR(INDEX(Subtotals!$H$53:$H$199, SMALL(IF(Subtotals!$C$50=Subtotals!$E$53:$E$199, ROW(Subtotals!$E$53:$E$199)-MIN(ROW(Subtotals!$E$53:$E$199))+1, \"\"), ROW(A183))),\"\")","v":""},{"$f":"IFERROR(INDEX(Subtotals!$I$53:$I$199, SMALL(IF(Subtotals!$C$50=Subtotals!$E$53:$E$199, ROW(Subtotals!$E$53:$E$199)-MIN(ROW(Subtotals!$E$53:$E$199))+1, \"\"), ROW(A183))),\"\")","v":""}]
["","",null,null,null,null,null,null,null,null,null,null,null,null,null,null,null,null,{"$f":"IFERROR(INDEX(Subtotals!$A$53:$A$199, SMALL(IF(Subtotals!$C$50=Subtotals!$E$53:$E$199, ROW(Subtotals!$E$53:$E$199)-MIN(ROW(Subtotals!$E$53:$E$199))+1, \"\"), ROW(A184))),\"\")","v":""},{"$f":"IFERROR(INDEX(Subtotals!$B$53:$B$199, SMALL(IF(Subtotals!$C$50=Subtotals!$E$53:$E$199, ROW(Subtotals!$E$53:$E$199)-MIN(ROW(Subtotals!$E$53:$E$199))+1, \"\"), ROW(A184))),\"\")","v":""},{"$f":"IFERROR(INDEX(Subtotals!$F$53:$F$199, SMALL(IF(Subtotals!$C$50=Subtotals!$E$53:$E$199, ROW(Subtotals!$E$53:$E$199)-MIN(ROW(Subtotals!$E$53:$E$199))+1, \"\"), ROW(A184))),\"\")","v":""},{"$f":"IFERROR(INDEX(Subtotals!$G$53:$G$199, SMALL(IF(Subtotals!$C$50=Subtotals!$E$53:$E$199, ROW(Subtotals!$E$53:$E$199)-MIN(ROW(Subtotals!$E$53:$E$199))+1, \"\"), ROW(A184))),\"\")","v":""},{"$f":"IFERROR(INDEX(Subtotals!$J$53:$J$199, SMALL(IF(Subtotals!$C$50=Subtotals!$E$53:$E$199, ROW(Subtotals!$E$53:$E$199)-MIN(ROW(Subtotals!$E$53:$E$199))+1, \"\"), ROW(A184))),\"\")","v":""},null,{"$f":"IFERROR(INDEX(Subtotals!$C$53:$C$199, SMALL(IF(Subtotals!$C$50=Subtotals!$E$53:$E$199, ROW(Subtotals!$E$53:$E$199)-MIN(ROW(Subtotals!$E$53:$E$199))+1, \"\"), ROW(A184))),\"\")","v":""},{"$f":"IFERROR(INDEX(Subtotals!$H$53:$H$199, SMALL(IF(Subtotals!$C$50=Subtotals!$E$53:$E$199, ROW(Subtotals!$E$53:$E$199)-MIN(ROW(Subtotals!$E$53:$E$199))+1, \"\"), ROW(A184))),\"\")","v":""},{"$f":"IFERROR(INDEX(Subtotals!$I$53:$I$199, SMALL(IF(Subtotals!$C$50=Subtotals!$E$53:$E$199, ROW(Subtotals!$E$53:$E$199)-MIN(ROW(Subtotals!$E$53:$E$199))+1, \"\"), ROW(A184))),\"\")","v":""}]
["","",null,null,null,null,null,null,null,null,null,null,null,null,null,null,null,null,{"$f":"IFERROR(INDEX(Subtotals!$A$53:$A$199, SMALL(IF(Subtotals!$C$50=Subtotals!$E$53:$E$199, ROW(Subtotals!$E$53:$E$199)-MIN(ROW(Subtotals!$E$53:$E$199))+1, \"\"), ROW(A185))),\"\")","v":""},{"$f":"IFERROR(INDEX(Subtotals!$B$53:$B$199, SMALL(IF(Subtotals!$C$50=Subtotals!$E$53:$E$199, ROW(Subtotals!$E$53:$E$199)-MIN(ROW(Subtotals!$E$53:$E$199))+1, \"\"), ROW(A185))),\"\")","v":""},{"$f":"IFERROR(INDEX(Subtotals!$F$53:$F$199, SMALL(IF(Subtotals!$C$50=Subtotals!$E$53:$E$199, ROW(Subtotals!$E$53:$E$199)-MIN(ROW(Subtotals!$E$53:$E$199))+1, \"\"), ROW(A185))),\"\")","v":""},{"$f":"IFERROR(INDEX(Subtotals!$G$53:$G$199, SMALL(IF(Subtotals!$C$50=Subtotals!$E$53:$E$199, ROW(Subtotals!$E$53:$E$199)-MIN(ROW(Subtotals!$E$53:$E$199))+1, \"\"), ROW(A185))),\"\")","v":""},{"$f":"IFERROR(INDEX(Subtotals!$J$53:$J$199, SMALL(IF(Subtotals!$C$50=Subtotals!$E$53:$E$199, ROW(Subtotals!$E$53:$E$199)-MIN(ROW(Subtotals!$E$53:$E$199))+1, \"\"), ROW(A185))),\"\")","v":""},null,{"$f":"IFERROR(INDEX(Subtotals!$C$53:$C$199, SMALL(IF(Subtotals!$C$50=Subtotals!$E$53:$E$199, ROW(Subtotals!$E$53:$E$199)-MIN(ROW(Subtotals!$E$53:$E$199))+1, \"\"), ROW(A185))),\"\")","v":""},{"$f":"IFERROR(INDEX(Subtotals!$H$53:$H$199, SMALL(IF(Subtotals!$C$50=Subtotals!$E$53:$E$199, ROW(Subtotals!$E$53:$E$199)-MIN(ROW(Subtotals!$E$53:$E$199))+1, \"\"), ROW(A185))),\"\")","v":""},{"$f":"IFERROR(INDEX(Subtotals!$I$53:$I$199, SMALL(IF(Subtotals!$C$50=Subtotals!$E$53:$E$199, ROW(Subtotals!$E$53:$E$199)-MIN(ROW(Subtotals!$E$53:$E$199))+1, \"\"), ROW(A185))),\"\")","v":""}]
["","",null,null,null,null,null,null,null,null,null,null,null,null,null,null,null,null,{"$f":"IFERROR(INDEX(Subtotals!$A$53:$A$199, SMALL(IF(Subtotals!$C$50=Subtotals!$E$53:$E$199, ROW(Subtotals!$E$53:$E$199)-MIN(ROW(Subtotals!$E$53:$E$199))+1, \"\"), ROW(A186))),\"\")","v":""},{"$f":"IFERROR(INDEX(Subtotals!$B$53:$B$199, SMALL(IF(Subtotals!$C$50=Subtotals!$E$53:$E$199, ROW(Subtotals!$E$53:$E$199)-MIN(ROW(Subtotals!$E$53:$E$199))+1, \"\"), ROW(A186))),\"\")","v":""},{"$f":"IFERROR(INDEX(Subtotals!$F$53:$F$199, SMALL(IF(Subtotals!$C$50=Subtotals!$E$53:$E$199, ROW(Subtotals!$E$53:$E$199)-MIN(ROW(Subtotals!$E$53:$E$199))+1, \"\"), ROW(A186))),\"\")","v":""},{"$f":"IFERROR(INDEX(Subtotals!$G$53:$G$199, SMALL(IF(Subtotals!$C$50=Subtotals!$E$53:$E$199, ROW(Subtotals!$E$53:$E$199)-MIN(ROW(Subtotals!$E$53:$E$199))+1, \"\"), ROW(A186))),\"\")","v":""},{"$f":"IFERROR(INDEX(Subtotals!$J$53:$J$199, SMALL(IF(Subtotals!$C$50=Subtotals!$E$53:$E$199, ROW(Subtotals!$E$53:$E$199)-MIN(ROW(Subtotals!$E$53:$E$199))+1, \"\"), ROW(A186))),\"\")","v":""},null,{"$f":"IFERROR(INDEX(Subtotals!$C$53:$C$199, SMALL(IF(Subtotals!$C$50=Subtotals!$E$53:$E$199, ROW(Subtotals!$E$53:$E$199)-MIN(ROW(Subtotals!$E$53:$E$199))+1, \"\"), ROW(A186))),\"\")","v":""},{"$f":"IFERROR(INDEX(Subtotals!$H$53:$H$199, SMALL(IF(Subtotals!$C$50=Subtotals!$E$53:$E$199, ROW(Subtotals!$E$53:$E$199)-MIN(ROW(Subtotals!$E$53:$E$199))+1, \"\"), ROW(A186))),\"\")","v":""},{"$f":"IFERROR(INDEX(Subtotals!$I$53:$I$199, SMALL(IF(Subtotals!$C$50=Subtotals!$E$53:$E$199, ROW(Subtotals!$E$53:$E$199)-MIN(ROW(Subtotals!$E$53:$E$199))+1, \"\"), ROW(A186))),\"\")","v":""}]
["","",null,null,null,null,null,null,null,null,null,null,null,null,null,null,null,null,{"$f":"IFERROR(INDEX(Subtotals!$A$53:$A$199, SMALL(IF(Subtotals!$C$50=Subtotals!$E$53:$E$199, ROW(Subtotals!$E$53:$E$199)-MIN(ROW(Subtotals!$E$53:$E$199))+1, \"\"), ROW(A187))),\"\")","v":""},{"$f":"IFERROR(INDEX(Subtotals!$B$53:$B$199, SMALL(IF(Subtotals!$C$50=Subtotals!$E$53:$E$199, ROW(Subtotals!$E$53:$E$199)-MIN(ROW(Subtotals!$E$53:$E$199))+1, \"\"), ROW(A187))),\"\")","v":""},{"$f":"IFERROR(INDEX(Subtotals!$F$53:$F$199, SMALL(IF(Subtotals!$C$50=Subtotals!$E$53:$E$199, ROW(Subtotals!$E$53:$E$199)-MIN(ROW(Subtotals!$E$53:$E$199))+1, \"\"), ROW(A187))),\"\")","v":""},{"$f":"IFERROR(INDEX(Subtotals!$G$53:$G$199, SMALL(IF(Subtotals!$C$50=Subtotals!$E$53:$E$199, ROW(Subtotals!$E$53:$E$199)-MIN(ROW(Subtotals!$E$53:$E$199))+1, \"\"), ROW(A187))),\"\")","v":""},{"$f":"IFERROR(INDEX(Subtotals!$J$53:$J$199, SMALL(IF(Subtotals!$C$50=Subtotals!$E$53:$E$199, ROW(Subtotals!$E$53:$E$199)-MIN(ROW(Subtotals!$E$53:$E$199))+1, \"\"), ROW(A187))),\"\")","v":""},null,{"$f":"IFERROR(INDEX(Subtotals!$C$53:$C$199, SMALL(IF(Subtotals!$C$50=Subtotals!$E$53:$E$199, ROW(Subtotals!$E$53:$E$199)-MIN(ROW(Subtotals!$E$53:$E$199))+1, \"\"), ROW(A187))),\"\")","v":""},{"$f":"IFERROR(INDEX(Subtotals!$H$53:$H$199, SMALL(IF(Subtotals!$C$50=Subtotals!$E$53:$E$199, ROW(Subtotals!$E$53:$E$199)-MIN(ROW(Subtotals!$E$53:$E$199))+1, \"\"), ROW(A187))),\"\")","v":""},{"$f":"IFERROR(INDEX(Subtotals!$I$53:$I$199, SMALL(IF(Subtotals!$C$50=Subtotals!$E$53:$E$199, ROW(Subtotals!$E$53:$E$199)-MIN(ROW(Subtotals!$E$53:$E$199))+1, \"\"), ROW(A187))),\"\")","v":""}]
["","",null,null,null,null,null,null,null,null,null,null,null,null,null,null,null,null,{"$f":"IFERROR(INDEX(Subtotals!$A$53:$A$199, SMALL(IF(Subtotals!$C$50=Subtotals!$E$53:$E$199, ROW(Subtotals!$E$53:$E$199)-MIN(ROW(Subtotals!$E$53:$E$199))+1, \"\"), ROW(A188))),\"\")","v":""},{"$f":"IFERROR(INDEX(Subtotals!$B$53:$B$199, SMALL(IF(Subtotals!$C$50=Subtotals!$E$53:$E$199, ROW(Subtotals!$E$53:$E$199)-MIN(ROW(Subtotals!$E$53:$E$199))+1, \"\"), ROW(A188))),\"\")","v":""},{"$f":"IFERROR(INDEX(Subtotals!$F$53:$F$199, SMALL(IF(Subtotals!$C$50=Subtotals!$E$53:$E$199, ROW(Subtotals!$E$53:$E$199)-MIN(ROW(Subtotals!$E$53:$E$199))+1, \"\"), ROW(A188))),\"\")","v":""},{"$f":"IFERROR(INDEX(Subtotals!$G$53:$G$199, SMALL(IF(Subtotals!$C$50=Subtotals!$E$53:$E$199, ROW(Subtotals!$E$53:$E$199)-MIN(ROW(Subtotals!$E$53:$E$199))+1, \"\"), ROW(A188))),\"\")","v":""},{"$f":"IFERROR(INDEX(Subtotals!$J$53:$J$199, SMALL(IF(Subtotals!$C$50=Subtotals!$E$53:$E$199, ROW(Subtotals!$E$53:$E$199)-MIN(ROW(Subtotals!$E$53:$E$199))+1, \"\"), ROW(A188))),\"\")","v":""},null,{"$f":"IFERROR(INDEX(Subtotals!$C$53:$C$199, SMALL(IF(Subtotals!$C$50=Subtotals!$E$53:$E$199, ROW(Subtotals!$E$53:$E$199)-MIN(ROW(Subtotals!$E$53:$E$199))+1, \"\"), ROW(A188))),\"\")","v":""},{"$f":"IFERROR(INDEX(Subtotals!$H$53:$H$199, SMALL(IF(Subtotals!$C$50=Subtotals!$E$53:$E$199, ROW(Subtotals!$E$53:$E$199)-MIN(ROW(Subtotals!$E$53:$E$199))+1, \"\"), ROW(A188))),\"\")","v":""},{"$f":"IFERROR(INDEX(Subtotals!$I$53:$I$199, SMALL(IF(Subtotals!$C$50=Subtotals!$E$53:$E$199, ROW(Subtotals!$E$53:$E$199)-MIN(ROW(Subtotals!$E$53:$E$199))+1, \"\"), ROW(A188))),\"\")","v":""}]
["","",null,null,null,null,null,null,null,null,null,null,null,null,null,null,null,null,{"$f":"IFERROR(INDEX(Subtotals!$A$53:$A$199, SMALL(IF(Subtotals!$C$50=Subtotals!$E$53:$E$199, ROW(Subtotals!$E$53:$E$199)-MIN(ROW(Subtotals!$E$53:$E$199))+1, \"\"), ROW(A189))),\"\")","v":""},{"$f":"IFERROR(INDEX(Subtotals!$B$53:$B$199, SMALL(IF(Subtotals!$C$50=Subtotals!$E$53:$E$199, ROW(Subtotals!$E$53:$E$199)-MIN(ROW(Subtotals!$E$53:$E$199))+1, \"\"), ROW(A189))),\"\")","v":""},{"$f":"IFERROR(INDEX(Subtotals!$F$53:$F$199, SMALL(IF(Subtotals!$C$50=Subtotals!$E$53:$E$199, ROW(Subtotals!$E$53:$E$199)-MIN(ROW(Subtotals!$E$53:$E$199))+1, \"\"), ROW(A189))),\"\")","v":""},{"$f":"IFERROR(INDEX(Subtotals!$G$53:$G$199, SMALL(IF(Subtotals!$C$50=Subtotals!$E$53:$E$199, ROW(Subtotals!$E$53:$E$199)-MIN(ROW(Subtotals!$E$53:$E$199))+1, \"\"), ROW(A189))),\"\")","v":""},{"$f":"IFERROR(INDEX(Subtotals!$J$53:$J$199, SMALL(IF(Subtotals!$C$50=Subtotals!$E$53:$E$199, ROW(Subtotals!$E$53:$E$199)-MIN(ROW(Subtotals!$E$53:$E$199))+1, \"\"), ROW(A189))),\"\")","v":""},null,{"$f":"IFERROR(INDEX(Subtotals!$C$53:$C$199, SMALL(IF(Subtotals!$C$50=Subtotals!$E$53:$E$199, ROW(Subtotals!$E$53:$E$199)-MIN(ROW(Subtotals!$E$53:$E$199))+1, \"\"), ROW(A189))),\"\")","v":""},{"$f":"IFERROR(INDEX(Subtotals!$H$53:$H$199, SMALL(IF(Subtotals!$C$50=Subtotals!$E$53:$E$199, ROW(Subtotals!$E$53:$E$199)-MIN(ROW(Subtotals!$E$53:$E$199))+1, \"\"), ROW(A189))),\"\")","v":""},{"$f":"IFERROR(INDEX(Subtotals!$I$53:$I$199, SMALL(IF(Subtotals!$C$50=Subtotals!$E$53:$E$199, ROW(Subtotals!$E$53:$E$199)-MIN(ROW(Subtotals!$E$53:$E$199))+1, \"\"), ROW(A189))),\"\")","v":""}]
["","",null,null,null,null,null,null,null,null,null,null,null,null,null,null,null,null,{"$f":"IFERROR(INDEX(Subtotals!$A$53:$A$199, SMALL(IF(Subtotals!$C$50=Subtotals!$E$53:$E$199, ROW(Subtotals!$E$53:$E$199)-MIN(ROW(Subtotals!$E$53:$E$199))+1, \"\"), ROW(A190))),\"\")","v":""},{"$f":"IFERROR(INDEX(Subtotals!$B$53:$B$199, SMALL(IF(Subtotals!$C$50=Subtotals!$E$53:$E$199, ROW(Subtotals!$E$53:$E$199)-MIN(ROW(Subtotals!$E$53:$E$199))+1, \"\"), ROW(A190))),\"\")","v":""},{"$f":"IFERROR(INDEX(Subtotals!$F$53:$F$199, SMALL(IF(Subtotals!$C$50=Subtotals!$E$53:$E$199, ROW(Subtotals!$E$53:$E$199)-MIN(ROW(Subtotals!$E$53:$E$199))+1, \"\"), ROW(A190))),\"\")","v":""},{"$f":"IFERROR(INDEX(Subtotals!$G$53:$G$199, SMALL(IF(Subtotals!$C$50=Subtotals!$E$53:$E$199, ROW(Subtotals!$E$53:$E$199)-MIN(ROW(Subtotals!$E$53:$E$199))+1, \"\"), ROW(A190))),\"\")","v":""},{"$f":"IFERROR(INDEX(Subtotals!$J$53:$J$199, SMALL(IF(Subtotals!$C$50=Subtotals!$E$53:$E$199, ROW(Subtotals!$E$53:$E$199)-MIN(ROW(Subtotals!$E$53:$E$199))+1, \"\"), ROW(A190))),\"\")","v":""},null,{"$f":"IFERROR(INDEX(Subtotals!$C$53:$C$199, SMALL(IF(Subtotals!$C$50=Subtotals!$E$53:$E$199, ROW(Subtotals!$E$53:$E$199)-MIN(ROW(Subtotals!$E$53:$E$199))+1, \"\"), ROW(A190))),\"\")","v":""},{"$f":"IFERROR(INDEX(Subtotals!$H$53:$H$199, SMALL(IF(Subtotals!$C$50=Subtotals!$E$53:$E$199, ROW(Subtotals!$E$53:$E$199)-MIN(ROW(Subtotals!$E$53:$E$199))+1, \"\"), ROW(A190))),\"\")","v":""},{"$f":"IFERROR(INDEX(Subtotals!$I$53:$I$199, SMALL(IF(Subtotals!$C$50=Subtotals!$E$53:$E$199, ROW(Subtotals!$E$53:$E$199)-MIN(ROW(Subtotals!$E$53:$E$199))+1, \"\"), ROW(A190))),\"\")","v":""}]
["","",null,null,null,null,null,null,null,null,null,null,null,null,null,null,null,null,{"$f":"IFERROR(INDEX(Subtotals!$A$53:$A$199, SMALL(IF(Subtotals!$C$50=Subtotals!$E$53:$E$199, ROW(Subtotals!$E$53:$E$199)-MIN(ROW(Subtotals!$E$53:$E$199))+1, \"\"), ROW(A191))),\"\")","v":""},{"$f":"IFERROR(INDEX(Subtotals!$B$53:$B$199, SMALL(IF(Subtotals!$C$50=Subtotals!$E$53:$E$199, ROW(Subtotals!$E$53:$E$199)-MIN(ROW(Subtotals!$E$53:$E$199))+1, \"\"), ROW(A191))),\"\")","v":""},{"$f":"IFERROR(INDEX(Subtotals!$F$53:$F$199, SMALL(IF(Subtotals!$C$50=Subtotals!$E$53:$E$199, ROW(Subtotals!$E$53:$E$199)-MIN(ROW(Subtotals!$E$53:$E$199))+1, \"\"), ROW(A191))),\"\")","v":""},{"$f":"IFERROR(INDEX(Subtotals!$G$53:$G$199, SMALL(IF(Subtotals!$C$50=Subtotals!$E$53:$E$199, ROW(Subtotals!$E$53:$E$199)-MIN(ROW(Subtotals!$E$53:$E$199))+1, \"\"), ROW(A191))),\"\")","v":""},{"$f":"IFERROR(INDEX(Subtotals!$J$53:$J$199, SMALL(IF(Subtotals!$C$50=Subtotals!$E$53:$E$199, ROW(Subtotals!$E$53:$E$199)-MIN(ROW(Subtotals!$E$53:$E$199))+1, \"\"), ROW(A191))),\"\")","v":""},null,{"$f":"IFERROR(INDEX(Subtotals!$C$53:$C$199, SMALL(IF(Subtotals!$C$50=Subtotals!$E$53:$E$199, ROW(Subtotals!$E$53:$E$199)-MIN(ROW(Subtotals!$E$53:$E$199))+1, \"\"), ROW(A191))),\"\")","v":""},{"$f":"IFERROR(INDEX(Subtotals!$H$53:$H$199, SMALL(IF(Subtotals!$C$50=Subtotals!$E$53:$E$199, ROW(Subtotals!$E$53:$E$199)-MIN(ROW(Subtotals!$E$53:$E$199))+1, \"\"), ROW(A191))),\"\")","v":""},{"$f":"IFERROR(INDEX(Subtotals!$I$53:$I$199, SMALL(IF(Subtotals!$C$50=Subtotals!$E$53:$E$199, ROW(Subtotals!$E$53:$E$199)-MIN(ROW(Subtotals!$E$53:$E$199))+1, \"\"), ROW(A191))),\"\")","v":""}]
["","",null,null,null,null,null,null,null,null,null,null,null,null,null,null,null,null,{"$f":"IFERROR(INDEX(Subtotals!$A$53:$A$199, SMALL(IF(Subtotals!$C$50=Subtotals!$E$53:$E$199, ROW(Subtotals!$E$53:$E$199)-MIN(ROW(Subtotals!$E$53:$E$199))+1, \"\"), ROW(A192))),\"\")","v":""},{"$f":"IFERROR(INDEX(Subtotals!$B$53:$B$199, SMALL(IF(Subtotals!$C$50=Subtotals!$E$53:$E$199, ROW(Subtotals!$E$53:$E$199)-MIN(ROW(Subtotals!$E$53:$E$199))+1, \"\"), ROW(A192))),\"\")","v":""},{"$f":"IFERROR(INDEX(Subtotals!$F$53:$F$199, SMALL(IF(Subtotals!$C$50=Subtotals!$E$53:$E$199, ROW(Subtotals!$E$53:$E$199)-MIN(ROW(Subtotals!$E$53:$E$199))+1, \"\"), ROW(A192))),\"\")","v":""},{"$f":"IFERROR(INDEX(Subtotals!$G$53:$G$199, SMALL(IF(Subtotals!$C$50=Subtotals!$E$53:$E$199, ROW(Subtotals!$E$53:$E$199)-MIN(ROW(Subtotals!$E$53:$E$199))+1, \"\"), ROW(A192))),\"\")","v":""},{"$f":"IFERROR(INDEX(Subtotals!$J$53:$J$199, SMALL(IF(Subtotals!$C$50=Subtotals!$E$53:$E$199, ROW(Subtotals!$E$53:$E$199)-MIN(ROW(Subtotals!$E$53:$E$199))+1, \"\"), ROW(A192))),\"\")","v":""},null,{"$f":"IFERROR(INDEX(Subtotals!$C$53:$C$199, SMALL(IF(Subtotals!$C$50=Subtotals!$E$53:$E$199, ROW(Subtotals!$E$53:$E$199)-MIN(ROW(Subtotals!$E$53:$E$199))+1, \"\"), ROW(A192))),\"\")","v":""},{"$f":"IFERROR(INDEX(Subtotals!$H$53:$H$199, SMALL(IF(Subtotals!$C$50=Subtotals!$E$53:$E$199, ROW(Subtotals!$E$53:$E$199)-MIN(ROW(Subtotals!$E$53:$E$199))+1, \"\"), ROW(A192))),\"\")","v":""},{"$f":"IFERROR(INDEX(Subtotals!$I$53:$I$199, SMALL(IF(Subtotals!$C$50=Subtotals!$E$53:$E$199, ROW(Subtotals!$E$53:$E$199)-MIN(ROW(Subtotals!$E$53:$E$199))+1, \"\"), ROW(A192))),\"\")","v":""}]

{"sheet":"Subtotals","index":3,"n_rows":180,"n_cols":39,"rows_kept":180,"cut":false,"hidden":false,"merged":[[178,9,178,18],[177,9,177,18],[176,9,176,18],[175,9,175,18],[174,9,174,18],[173,9,173,18],[74,9,74,18],[73,9,73,18],[72,9,72,18],[98,9,98,18],[97,9,97,18],[104,9,104,18],[112,9,112,18],[111,9,111,18],[110,9,110,18],[109,9,109,18],[108,9,108,18],[107,9,107,18],[106,9,106,18],[105,9,105,18],[103,9,103,18],[102,9,102,18],[101,9,101,18],[100,9,100,18],[99,9,99,18],[54,9,54,18],[53,9,53,18],[52,9,52,18],[71,9,71,18],[70,9,70,18],[69,9,69,18],[68,9,68,18],[67,9,67,18],[66,9,66,18],[65,9,65,18],[64,9,64,18],[63,9,63,18],[62,9,62,18],[61,9,61,18],[60,9,60,18],[59,9,59,18],[58,9,58,18],[57,9,57,18],[56,9,56,18],[55,9,55,18],[96,9,96,18],[95,9,95,18],[94,9,94,18],[178,19,178,28],[169,19,169,28],[170,19,170,28],[171,19,171,28],[172,19,172,28],[173,19,173,28],[174,19,174,28],[175,19,175,28],[176,19,176,28],[177,19,177,28],[160,19,160,28],[161,19,161,28],[162,19,162,28],[163,19,163,28],[164,19,164,28],[165,19,165,28],[166,19,166,28],[167,19,167,28],[168,19,168,28],[151,19,151,28],[152,19,152,28],[153,19,153,28],[154,19,154,28],[155,19,155,28],[156,19,156,28],[157,19,157,28],[158,19,158,28],[159,19,159,28],[142,19,142,28],[143,19,143,28],[144,19,144,28],[145,19,145,28],[146,19,146,28],[147,19,147,28],[148,19,148,28],[149,19,149,28],[150,19,150,28],[133,19,133,28],[134,19,134,28],[135,19,135,28],[136,19,136,28],[137,19,137,28],[138,19,138,28],[139,19,139,28],[140,19,140,28],[141,19,141,28],[124,19,124,28],[125,19,125,28],[126,19,126,28],[127,19,127,28],[128,19,128,28],[129,19,129,28],[130,19,130,28],[131,19,131,28],[132,19,132,28],[115,19,115,28],[116,19,116,28],[117,19,117,28],[118,19,118,28],[119,19,119,28],[120,19,120,28],[121,19,121,28],[122,19,122,28],[123,19,123,28],[106,19,106,28],[107,19,107,28],[108,19,108,28],[109,19,109,28],[110,19,110,28],[111,19,111,28],[112,19,112,28],[113,19,113,28],[114,19,114,28],[97,19,97,28],[98,19,98,28],[99,19,99,28],[100,19,100,28],[101,19,101,28],[102,19,102,28],[103,19,103,28],[104,19,104,28],[105,19,105,28],[88,19,88,28],[89,19,89,28],[90,19,90,28],[91,19,91,28],[92,19,92,28],[93,19,93,28],[94,19,94,28],[95,19,95,28],[96,19,96,28],[79,19,79,28],[80,19,80,28],[81,19,81,28],[82,19,82,28],[83,19,83,28],[84,19,84,28],[85,19,85,28],[86,19,86,28],[87,19,87,28],[70,19,70,28],[71,19,71,28],[72,19,72,28],[73,19,73,28],[74,19,74,28],[75,19,75,28],[76,19,76,28],[77,19,77,28],[78,19,78,28],[61,19,61,28],[62,19,62,28],[63,19,63,28],[64,19,64,28],[65,19,65,28],[66,19,66,28],[67,19,67,28],[68,19,68,28],[69,19,69,28],[52,19,52,28],[53,19,53,28],[54,19,54,28],[55,19,55,28],[56,19,56,28],[57,19,57,28],[58,19,58,28],[59,19,59,28],[60,19,60,28],[93,9,93,18],[92,9,92,18],[91,9,91,18],[90,9,90,18],[89,9,89,18],[75,9,75,18],[88,9,88,18],[87,9,87,18],[86,9,86,18],[85,9,85,18],[84,9,84,18],[83,9,83,18],[82,9,82,18],[81,9,81,18],[80,9,80,18],[79,9,79,18],[78,9,78,18],[77,9,77,18],[76,9,76,18],[16,24,16,25],[12,17,12,19],[47,0,47,13],[0,13,46,13],[13,24,13,25],[14,24,14,25],[15,24,15,25],[12,0,12,2],[12,9,12,11],[10,9,10,10],[0,0,0,11],[19,4,19,7],[2,9,2,11],[31,4,31,5],[3,9,3,10],[4,9,4,10],[14,4,14,5],[15,4,15,5],[16,4,16,5],[23,4,23,5],[17,4,17,5],[33,0,33,7],[29,4,29,5],[30,4,30,5],[12,33,12,35],[8,17,8,18],[12,24,12,27],[12,4,12,7],[13,4,13,5],[5,9,5,10],[6,9,6,10],[7,9,7,10],[8,9,8,10],[26,4,26,7],[24,4,24,5],[20,4,21,5],[20,6,21,6],[20,7,21,7],[22,4,22,5],[44,0,44,5],[34,0,34,5],[27,4,28,5],[27,6,28,6],[27,7,28,7],[28,0,31,2],[35,0,36,0],[37,0,38,0],[39,0,41,0],[42,0,43,0],[43,1,43,5],[42,1,42,5],[41,1,41,5],[40,1,40,5],[39,1,39,5],[38,1,38,5],[37,1,37,5],[36,1,36,5],[30,24,30,25],[31,24,31,25],[17,24,17,25],[22,24,22,25],[23,24,23,25],[24,24,24,25],[26,24,26,27],[27,24,28,25],[27,26,28,26],[27,27,28,27],[19,24,19,27],[20,24,21,25],[20,26,21,26],[20,27,21,27],[29,24,29,25],[33,17,33,24],[34,17,34,22],[36,18,36,22],[37,17,38,17],[37,18,37,22],[38,18,38,22],[42,17,43,17],[42,18,42,22],[43,18,43,22],[35,1,35,5],[39,17,41,17],[39,18,39,22],[40,18,40,22],[41,18,41,22],[35,17,36,17],[35,18,35,22],[44,17,44,22],[51,3,51,4],[51,9,51,18],[116,9,116,18],[115,9,115,18],[114,9,114,18],[113,9,113,18],[125,9,125,18],[124,9,124,18],[123,9,123,18],[122,9,122,18],[121,9,121,18],[120,9,120,18],[119,9,119,18],[118,9,118,18],[117,9,117,18],[127,9,127,18],[126,9,126,18],[134,9,134,18],[133,9,133,18],[132,9,132,18],[131,9,131,18],[130,9,130,18],[129,9,129,18],[128,9,128,18],[142,9,142,18],[141,9,141,18],[140,9,140,18],[139,9,139,18],[138,9,138,18],[137,9,137,18],[136,9,136,18],[135,9,135,18],[143,9,143,18],[152,9,152,18],[151,9,151,18],[150,9,150,18],[149,9,149,18],[148,9,148,18],[147,9,147,18],[146,9,146,18],[145,9,145,18],[144,9,144,18],[157,9,157,18],[156,9,156,18],[155,9,155,18],[154,9,154,18],[153,9,153,18],[172,9,172,18],[171,9,171,18],[170,9,170,18],[169,9,169,18],[168,9,168,18],[167,9,167,18],[166,9,166,18],[165,9,165,18],[164,9,164,18],[163,9,163,18],[162,9,162,18],[161,9,161,18],[160,9,160,18],[159,9,159,18],[158,9,158,18]]}
[{"$f":"\"IDEA Child Count and Educational Environment Ages 3–5 for School Year \"&'FS089'!E13","v":"IDEA Child Count and Educational Environment Ages 3–5 for School Year "},null,null,null,null,null,null,null,null,null,null,null,null,"End of worksheet",null,"AUTY"]
[null,null,null,null,null,null,null,null,null,null,null,null,null,null,null,"DBY"]
[null,null,null,null,null,null,null,null,null,"Calculated Subtotals"]
[null,null,null,null,null,null,null,null,null,"1. Sex",null,{"$f":"IF(G25=0, \"\", G25)","v":""}]
[null,null,null,null,null,null,null,null,null,"2. Age ",null,{"$f":"IF(G18=0, \"\", G18)","v":""}]
[null,null,null,null,null,null,null,null,null,"3. Disability Category",null,{"$f":"IF(B28=0, \"\", B28)","v":""}]
[null,null,null,null,null,null,null,null,null,"4. Racial Ethnic",null,{"$f":"IF(K22=0, \"\", K22)","v":""}]
[null,null,null,null,null,null,null,null,null,"5. English Learner Status (Both)",null,{"$f":"IF(G32=0, \"\", G32)","v":""}]
[null,null,null,null,null,null,null,null,null,"6. Educational Environment",null,{"$f":"IF(G45=0, \"\", G45)","v":""},null,null,null,null,null,"Total of the Education Units",null,{"$f":"IFERROR(IF(INDEX(Ttl_C089,MATCH(P11,CurrentListing_C089,0))=\"\",\"No Data\",INDEX(Ttl_C089,MATCH(P11,CurrentListing_C089,0))),\"MC\")","v":"MC"}]
[]
[null,null,null,null,null,null,null,null,null,"Total of the Education Unit",null,{"$f":"IFERROR(HYPERLINK(\"#'C089'!\"&ADDRESS(ROW(INDEX(CurrentListing_C089,MATCH(P11,CurrentListing_C089,0),1)),20),T9),HYPERLINK(\"#'C089'!\"&\"$V$12\",T9))","v":"MC"},null,null,null,"Y",null,null,null,null,null,null,null,null,null,null,null,null,"Link","Triggered?"]
[null,null,null,null,null,null,null,null,null,null,null,null,null,null,null,null,null,null,null,null,null,null,null,null,null,null,null,null,"D14",{"$f":"IF(T13=\"\",0,IF(OR(T13=\"No Data\",SUM(R13:S13)<>T13),1,0))","v":0}]
["Subtotal 3 - Children with Disabilities by Disability Category ",null,null,null,"Subtotal 2 - Children with Disabilities by Age",null,null,null,null,"Subtotal 4 - Children with Disabilities by Racial Ethnic",null,null,null,null,null,null,null,"Children with Disabilities by Disability Category ",null,null,null,null,null,null,"Children with Disabilities by Age",null,null,null,"D15",{"$f":"IF(T14=\"\",0,IF(OR(T14=\"No Data\",SUM(R14:S14)<>T14),1,0))","v":1},null,null,null,"Children with Disabilities by Racial Ethnic"]
["Disability Category ","Student\nCount","Percentage",null,"Age",null,"Student\nCount","Percentage",null,"Racial Ethnic","Student\nCount","Percentage",null,null,null,null,null,"Disability Category ","Student\nCount","Percentage",null,null,null,null,"Age",null,"Student\nCount","Percentage","B16",{"$f":"IF(R15=\"\",0,IF(OR(R15=\"No Data\",SUM(Q11:Q14)<>R15),1,0))","v":1},null,null,null,"Racial Ethnic","Student\nCount","Percentage"]
["Intellectual Disability",{"$f":"IFERROR(HYPERLINK(\"#'C089'!\"&ADDRESS(ROW(INDEX(CurrentListing_C089,MATCH(P15,CurrentListing_C089,0),1)),20),S15),HYPERLINK(\"#'C089'!\"&\"$V$12\",S15))","v":"MC"},{"$f":"T15","v":""},null,3,null,{"$f":"IFERROR(HYPERLINK(\"#'C089'!\"&ADDRESS(ROW(INDEX(CurrentListing_C089,MATCH(W15,CurrentListing_C089,0),1)),20),AA15),HYPERLINK(\"#'C089'!\"&\"$V$12\",AA15))","v":"MC"},{"$f":"AB15","v":""},null,"Hispanic/Latino ",{"$f":"IFERROR(HYPERLINK(\"#'C089'!\"&ADDRESS(ROW(INDEX(CurrentListing_C089,MATCH(AF15,CurrentListing_C089,0),1)),20),AI15),HYPERLINK(\"#'C089'!\"&\"$V$12\",AI15))","v":"MC"},{"$f":"AJ15","v":""},null,null,null,"IDY",null,"Intellectual disability",{"$f":"IFERROR(IF(INDEX(Ttl_C089,MATCH(P15,CurrentListing_C089,0))=\"\",\"No Data\",INDEX(Ttl_C089,MATCH(P15,CurrentListing_C089,0))),\"MC\")","v":"MC"},{"$f":"IF($S$28=0,\"\",S15/$S$28)","v":""},null,null,"3Y",null,3,null,{"$f":"IFERROR(IF(INDEX(Ttl_C089,MATCH(W15,CurrentListing_C089,0))=\"\",\"No Data\",INDEX(Ttl_C089,MATCH(W15,CurrentListing_C089,0))),\"MC\")","v":"MC"},{"$f":"IF($AA$18=0,\"\",AA15/$AA$18)","v":""},"C16",{"$f":"IF(S15=\"\",0,IF(OR(S15=\"No Data\",SUM(R11:R14)<>S15),1,0))","v":1},null,"HI7Y",null,"Hispanic/Latino ",{"$f":"IFERROR(IF(INDEX(Ttl_C089,MATCH(AF15,CurrentListing_C089,0))=\"\",\"No Data\",INDEX(Ttl_C089,MATCH(AF15,CurrentListing_C089,0))),\"MC\")","v":"MC"},{"$f":"IF($AI$22=0,\"\",AI15/$AI$22)","v":""}]
["Hearing Impairment",{"$f":"IFERROR(HYPERLINK(\"#'C089'!\"&ADDRESS(ROW(INDEX(CurrentListing_C089,MATCH(P16,CurrentListing_C089,0),1)),20),S16),HYPERLINK(\"#'C089'!\"&\"$V$12\",S16))","v":"MC"},{"$f":"T16","v":""},null,4,null,{"$f":"IFERROR(HYPERLINK(\"#'C089'!\"&ADDRESS(ROW(INDEX(CurrentListing_C089,MATCH(W16,CurrentListing_C089,0),1)),20),AA16),HYPERLINK(\"#'C089'!\"&\"$V$12\",AA16))","v":"MC"},"",null,"American Indian or Alaska Native ",{"$f":"IFERROR(HYPERLINK(\"#'C089'!\"&ADDRESS(ROW(INDEX(CurrentListing_C089,MATCH(AF16,CurrentListing_C089,0),1)),20),AI16),HYPERLINK(\"#'C089'!\"&\"$V$12\",AI16))","v":"MC"},{"$f":"AJ16","v":""},null,null,null,"HIY",null,"Hearing impairment","MC",{"$f":"IF($S$28=0,\"\",S16/$S$28)","v":""},null,null,"4Y",null,4,null,{"$f":"IFERROR(IF(INDEX(Ttl_C089,MATCH(W16,CurrentListing_C089,0))=\"\",\"No Data\",INDEX(Ttl_C089,MATCH(W16,CurrentListing_C089,0))),\"MC\")","v":"MC"},{"$f":"IF($AA$18=0,\"\",AA16/$AA$18)","v":""},"D16",{"$f":"IF(T15=\"\",0,IF(OR(T15=\"No Data\",SUM(S11:S14)<>T15),1,0))","v":0},null,"AM7Y",null,"American Indian or Alaska Native ","MC",{"$f":"IF($AI$22=0,\"\",AI16/$AI$22)","v":""}]
["Speech or Language Impairment",{"$f":"IFERROR(HYPERLINK(\"#'C089'!\"&ADDRESS(ROW(INDEX(CurrentListing_C089,MATCH(P17,CurrentListing_C089,0),1)),20),S17),HYPERLINK(\"#'C089'!\"&\"$V$12\",S17))","v":"MC"},"",null,5,null,{"$f":"IFERROR(HYPERLINK(\"#'C089'!\"&ADDRESS(ROW(INDEX(CurrentListing_C089,MATCH(W17,CurrentListing_C089,0),1)),20),AA17),HYPERLINK(\"#'C089'!\"&\"$V$12\",AA17))","v":"MC"},"",null,"Asian ",{"$f":"IFERROR(HYPERLINK(\"#'C089'!\"&ADDRESS(ROW(INDEX(CurrentListing_C089,MATCH(AF17,CurrentListing_C089,0),1)),20),AI17),HYPERLINK(\"#'C089'!\"&\"$V$12\",AI17))","v":"MC"},"",null,null,null,"SLIY",null,"Speech or language impairment","MC","",null,null,"AGE05NOTKY",null,5,null,{"$f":"IFERROR(IF(INDEX(Ttl_C089,MATCH(W17,CurrentListing_C089,0))=\"\",\"No Data\",INDEX(Ttl_C089,MATCH(W17,CurrentListing_C089,0))),\"MC\")","v":"MC"},"","D16",{"$f":"IF(T15=\"\",0,IF(OR(T15=\"No Data\",SUM(R15:S15)<>T15),1,0))","v":0},null,"AS7Y",null,"Asian ","MC",""]
["Visual Impairment",{"$f":"IFERROR(HYPERLINK(\"#'C089'!\"&ADDRESS(ROW(INDEX(CurrentListing_C089,MATCH(P18,CurrentListing_C089,0),1)),20),S18),HYPERLINK(\"#'C089'!\"&\"$V$12\",S18))","v":"MC"},"",null,"Calculated Subtotal",null,{"$f":"IF(AA18=0, \"\", AA18)","v":""},"",null,"Black or African American ",{"$f":"IFERROR(HYPERLINK(\"#'C089'!\"&ADDRESS(ROW(INDEX(CurrentListing_C089,MATCH(AF18,CurrentListing_C089,0),1)),20),AI18),HYPERLINK(\"#'C089'!\"&\"$V$12\",AI18))","v":"MC"},"",null,null,null,"VIY",null,"Visual impairment","MC","",null,null,null,null,"Calculated Subtotal",null,{"$f":"SUM(AA15:AA17)","v":0},{"$f":"IF($AA$18=0,\"\",AA18/$AA$18)","v":""},null,null,null,"BL7Y",null,"Black or African American ","MC",""]
["Emotional Disturbance",{"$f":"IFERROR(HYPERLINK(\"#'C089'!\"&ADDRESS(ROW(INDEX(CurrentListing_C089,MATCH(P19,CurrentListing_C089,0),1)),20),S19),HYPERLINK(\"#'C089'!\"&\"$V$12\",S19))","v":"MC"},"",null,null,null,null,null,null,"Native Hawaiian or Other Pacific Islander ",{"$f":"IFERROR(HYPERLINK(\"#'C089'!\"&ADDRESS(ROW(INDEX(CurrentListing_C089,MATCH(AF19,CurrentListing_C089,0),1)),20),AI19),HYPERLINK(\"#'C089'!\"&\"$V$12\",AI19))","v":"MC"},"",null,null,null,"EMNY",null,"Emotional disturbance","MC","",null,null,null,null,null,null,null,null,null,null,null,"PI7Y",null,"Native Hawaiian or Other Pacific Islander ","MC",""]
["Orthopedic Impairment",{"$f":"IFERROR(HYPERLINK(\"#'C089'!\"&ADDRESS(ROW(INDEX(CurrentListing_C089,MATCH(P20,CurrentListing_C089,0),1)),20),S20),HYPERLINK(\"#'C089'!\"&\"$V$12\",S20))","v":"MC"},"",null,"Subtotal 1 - Children with Disabilities by Sex",null,null,null,null,"White ",{"$f":"IFERROR(HYPERLINK(\"#'C089'!\"&ADDRESS(ROW(INDEX(CurrentListing_C089,MATCH(AF20,CurrentListing_C089,0),1)),20),AI20),HYPERLINK(\"#'C089'!\"&\"$V$12\",AI20))","v":"MC"},"",null,null,null,"OIY",null,"Orthopedic impairment","MC","",null,null,null,null,"Children with Disabilities by Sex",null,null,null,null,null,null,"WH7Y",null,"White ","MC",""]
["Other Health Impairment ",{"$f":"IFERROR(HYPERLINK(\"#'C089'!\"&ADDRESS(ROW(INDEX(CurrentListing_C089,MATCH(P21,CurrentListing_C089,0),1)),20),S21),HYPERLINK(\"#'C089'!\"&\"$V$12\",S21))","v":"MC"},"",null,"Sex",null,"Student \nCount","Percentage",null,"Two or more races",{"$f":"IFERROR(HYPERLINK(\"#'C089'!\"&ADDRESS(ROW(INDEX(CurrentListing_C089,MATCH(AF21,CurrentListing_C089,0),1)),20),AI21),HYPERLINK(\"#'C089'!\"&\"$V$12\",AI21))","v":"MC"},"",null,null,null,"OHIY",null,"Other health impairment ","MC","",null,null,null,null,"Sex",null,"Student \nCount","Percentage",null,null,null,"MU7Y",null,"Two or more races","MC",""]
["Specific Learning Disability",{"$f":"IFERROR(HYPERLINK(\"#'C089'!\"&ADDRESS(ROW(INDEX(CurrentListing_C089,MATCH(P22,CurrentListing_C089,0),1)),20),S22),HYPERLINK(\"#'C089'!\"&\"$V$12\",S22))","v":"MC"},"",null,null,null,null,null,null,"Calculated Subtotal",{"$f":"IF(AI22=0, \"\", AI22)","v":""},"",null,null,null,"SLDY",null,"Specific learning disability","MC","",null,null,null,null,null,null,null,null,null,null,null,null,null,"Calculated Subtotal",{"$f":"SUM(AI15:AI21)","v":0},{"$f":"IF($AI$22=0,\"\",SUM(AJ15:AJ21))","v":""}]
["Deaf-Blindness",{"$f":"IFERROR(HYPERLINK(\"#'C089'!\"&ADDRESS(ROW(INDEX(CurrentListing_C089,MATCH(P23,CurrentListing_C089,0),1)),20),S23),HYPERLINK(\"#'C089'!\"&\"$V$12\",S23))","v":"MC"},"",null,"Male",null,{"$f":"IFERROR(HYPERLINK(\"#'C089'!\"&ADDRESS(ROW(INDEX(CurrentListing_C089,MATCH(W23,CurrentListing_C089,0),1)),20),AA23),HYPERLINK(\"#'C089'!\"&\"$V$12\",AA23))","v":"MC"},{"$f":"AB23","v":""},null,null,null,null,null,null,null,"DBY",null,"Deaf–blindness","MC","",null,null,"MY",null,"Male",null,{"$f":"IFERROR(IF(INDEX(Ttl_C089,MATCH(W23,CurrentListing_C089,0))=\"\",\"No Data\",INDEX(Ttl_C089,MATCH(W23,CurrentListing_C089,0))),\"MC\")","v":"MC"},{"$f":"IF($AA$25=0,\"\",AA23/$AA$25)","v":""}]
["Multiple Disabilities",{"$f":"IFERROR(HYPERLINK(\"#'C089'!\"&ADDRESS(ROW(INDEX(CurrentListing_C089,MATCH(P24,CurrentListing_C089,0),1)),20),S24),HYPERLINK(\"#'C089'!\"&\"$V$12\",S24))","v":"MC"},"",null,"Female",null,{"$f":"IFERROR(HYPERLINK(\"#'C089'!\"&ADDRESS(ROW(INDEX(CurrentListing_C089,MATCH(W24,CurrentListing_C089,0),1)),20),AA24),HYPERLINK(\"#'C089'!\"&\"$V$12\",AA24))","v":"MC"},{"$f":"AB24","v":""},null,null,null,null,null,null,null,"MDY",null,"Multiple disabilities","MC","",null,null,"FY",null,"Female",null,{"$f":"IFERROR(IF(INDEX(Ttl_C089,MATCH(W24,CurrentListing_C089,0))=\"\",\"No Data\",INDEX(Ttl_C089,MATCH(W24,CurrentListing_C089,0))),\"MC\")","v":"MC"},{"$f":"IF($AA$25=0,\"\",AA24/$AA$25)","v":""}]
["Autism",{"$f":"IFERROR(HYPERLINK(\"#'C089'!\"&ADDRESS(ROW(INDEX(CurrentListing_C089,MATCH(P25,CurrentListing_C089,0),1)),20),S25),HYPERLINK(\"#'C089'!\"&\"$V$12\",S25))","v":"MC"},"",null,"Calculated Subtotal",null,{"$f":"IF(AA25=0, \"\", AA25)","v":""},"",null,{"$f":"hashyperlink(G23)","v":0},null,null,null,null,null,"AUTY",null,"Autism","MC","",null,null,null,null,"Calculated Subtotal",null,{"$f":"SUM(AA23:AA24)","v":0},{"$f":"IF(AA25=0,\"\",SUM(AB23:AB24))","v":""}]
["Traumatic Brain Injury",{"$f":"IFERROR(HYPERLINK(\"#'C089'!\"&ADDRESS(ROW(INDEX(CurrentListing_C089,MATCH(P26,CurrentListing_C089,0),1)),20),S26),HYPERLINK(\"#'C089'!\"&\"$V$12\",S26))","v":"MC"},"",null,null,null,null,null,null,null,null,null,null,null,null,"TBIY",null,"Traumatic brain injury","MC",""]
["Developmental Delay1",{"$f":"IFERROR(HYPERLINK(\"#'C089'!\"&ADDRESS(ROW(INDEX(CurrentListing_C089,MATCH(P27,CurrentListing_C089,0),1)),20),S27),HYPERLINK(\"#'C089'!\"&\"$V$12\",S27))","v":"MC"},"",null,"Subtotal 5 - Children with Disabilities by English Learner Status (Both) ",null,null,null,null,null,null,null,null,null,null,"DDY",null,"Developmental Delay1","MC","",null,null,null,null,"Children with Disabilities by LEP Status"]
["Calculated Subtotal",{"$f":"IF(S28=0, \"\", S28 )","v":""},"",null,"English Learner Status ",null,"Student \nCount","Percentage",null,null,null,null,null,null,null,null,null,"Calculated Subtotal",{"$f":"SUM(S15:S27)","v":0},{"$f":"IF(S28=0,\"\",SUM(T15:T27))","v":""},null,null,null,null,"LEP Status",null,"Student \nCount","Percentage"]
["1The definition of developmental delay is state-determined and applies to children with disabilities (IDEA) aged 3 through 9, or a subset of that age range. See 34 C.F.R. Part 300.111(b)."]
[null,null,null,null,"English Learner",null,{"$f":"IFERROR(HYPERLINK(\"#'C089'!\"&ADDRESS(ROW(INDEX(CurrentListing_C089,MATCH(W30,CurrentListing_C089,0),1)),20),AA30),HYPERLINK(\"#'C089'!\"&\"$V$12\",AA30))","v":"MC"},{"$f":"AB30","v":""},null,null,null,null,null,null,null,null,null,null,null,null,null,null,"LEPY",null,"LEP ",null,{"$f":"IFERROR(IF(INDEX(Ttl_C089,MATCH(W30,CurrentListing_C089,0))=\"\",\"No Data\",INDEX(Ttl_C089,MATCH(W30,CurrentListing_C089,0))),\"MC\")","v":"MC"},{"$f":"IF($AA$32=0,\"\",AA30/$AA$32)","v":""}]
[null,null,null,null,"Non-English Learner",null,{"$f":"IFERROR(HYPERLINK(\"#'C089'!\"&ADDRESS(ROW(INDEX(CurrentListing_C089,MATCH(W31,CurrentListing_C089,0),1)),20),AA31),HYPERLINK(\"#'C089'!\"&\"$V$12\",AA31))","v":"MC"},"",null,null,null,null,null,null,null,null,null,null,null,null,null,null,"NLEPY",null,"Non–LEP",null,{"$f":"IFERROR(IF(INDEX(Ttl_C089,MATCH(W31,CurrentListing_C089,0))=\"\",\"No Data\",INDEX(Ttl_C089,MATCH(W31,CurrentListing_C089,0))),\"MC\")","v":"MC"},{"$f":"IF($AA$32=0,\"\",AA31/$AA$32)","v":""}]
[null,null,null,null,"Calculated Subtotal",null,{"$f":"IF(AA32=0, \"\", AA32)","v":""},"",null,null,null,null,null,null,null,null,null,null,null,null,null,null,null,null,"Calculated Subtotal",null,{"$f":"SUM(AA30:AA31)","v":0},{"$f":"IF(AA32=0,\"\",SUM(AB30:AB31))","v":""}]
[]
["Subtotal 6 - Children with Disabilities by Educational Environment",null,null,null,null,null,null,null,null,null,null,null,null,null,null,null,null,"Children with Disabilities by Educational Environment"]
["Educational Environment",null,null,null,null,null,"Student\nCount","Percentage",null,null,null,null,null,null,null,null,null,"Educational Environment",null,null,null,null,null,"Student\nCount","Percentage"]
["(A) Children attending a Regular Early Childhood Program at least 10 hrs. per week,…","(A1)... and receiving the majority of hours of special education and related services in the Regular Early Childhood Program",null,null,null,null,{"$f":"IFERROR(HYPERLINK(\"#'C089'!\"&ADDRESS(ROW(INDEX(CurrentListing_C089,MATCH(P36,CurrentListing_C089,0),1)),20),X36),HYPERLINK(\"#'C089'!\"&\"$V$12\",X36))","v":"MC"},{"$f":"Y36","v":""},null,null,null,null,null,null,null,"REC10YSVCSY",null,"(A) Children attending a Regular Early Childhood Program at least 10 hrs. per week,…","(A1)... and receiving the majority of hours of special education and related services in the Regular Early Childhood Program",null,null,null,null,{"$f":"IFERROR(IF(INDEX(Ttl_C089,MATCH(P36,CurrentListing_C089,0))=\"\",\"No Data\",INDEX(Ttl_C089,MATCH(P36,CurrentListing_C089,0))),\"MC\")","v":"MC"},{"$f":"IF($X$45=0,\"\",X36/$X$45)","v":""}]
[null,"(A2)… and receiving the majority of hours of special education and related services in some Other Location ",null,null,null,null,{"$f":"IFERROR(HYPERLINK(\"#'C089'!\"&ADDRESS(ROW(INDEX(CurrentListing_C089,MATCH(P37,CurrentListing_C089,0),1)),20),X37),HYPERLINK(\"#'C089'!\"&\"$V$12\",X37))","v":"MC"},{"$f":"Y37","v":""},null,null,null,null,null,null,null,"REC10YOTHLOCY",null,null,"(A2)… and receiving the majority of hours of special education and related services in some Other Location ",null,null,null,null,"MC",{"$f":"IF($X$45=0,\"\",X37/$X$45)","v":""}]
["(B) Children attending a Regular Early Childhood Program less than 10 hrs. per week,…","(B1)… and receiving the majority of hours of special education and related services in the Regular Early Childhood Program",null,null,null,null,{"$f":"IFERROR(HYPERLINK(\"#'C089'!\"&ADDRESS(ROW(INDEX(CurrentListing_C089,MATCH(P38,CurrentListing_C089,0),1)),20),X38),HYPERLINK(\"#'C089'!\"&\"$V$12\",X38))","v":"MC"},"",null,null,null,null,null,null,null,"REC09YSVCSY",null,"(B) Children attending a Regular Early Childhood Program less than 10 hrs per week,…","(B1)… and receiving the majority of hours of special education and related services in the Regular Early Childhood Program",null,null,null,null,"MC",""]
[null,"(B2)… and receiving the majority of hours of special education and related services in some Other Location",null,null,null,null,{"$f":"IFERROR(HYPERLINK(\"#'C089'!\"&ADDRESS(ROW(INDEX(CurrentListing_C089,MATCH(P39,CurrentListing_C089,0),1)),20),X39),HYPERLINK(\"#'C089'!\"&\"$V$12\",X39))","v":"MC"},"",null,null,null,null,null,null,null,"REC09YOTHLOCY",null,null,"(B2)… and receiving the majority of hours of special education and related services in some Other Location",null,null,null,null,"MC",""]
["(C) Children attending a Special Education\nProgram (NOT in any Regular Early Childhood Program),...\n","(C1)… specifically, a Separate Special \nEducation Class",null,null,null,null,{"$f":"IFERROR(HYPERLINK(\"#'C089'!\"&ADDRESS(ROW(INDEX(CurrentListing_C089,MATCH(P40,CurrentListing_C089,0),1)),20),X40),HYPERLINK(\"#'C089'!\"&\"$V$12\",X40))","v":"MC"},"",null,null,null,null,null,null,null,"SCY",null,"(C) Children attending a Special \nEducation Program (NOT in any\nregular early childhood program),...\n","(C1)… specifically, a Separate Special \nEducation Class",null,null,null,null,"MC",""]
[null,"(C2)… specifically, a Separate School",null,null,null,null,{"$f":"IFERROR(HYPERLINK(\"#'C089'!\"&ADDRESS(ROW(INDEX(CurrentListing_C089,MATCH(P41,CurrentListing_C089,0),1)),20),X41),HYPERLINK(\"#'C089'!\"&\"$V$12\",X41))","v":"MC"},"",null,null,null,null,null,null,null,"SSY",null,null,"(C2)… specifically, a Separate School",null,null,null,null,"MC",""]
[null,"(C3)… specifically, a Residential Facility",null,null,null,null,{"$f":"IFERROR(HYPERLINK(\"#'C089'!\"&ADDRESS(ROW(INDEX(CurrentListing_C089,MATCH(P42,CurrentListing_C089,0),1)),20),X42),HYPERLINK(\"#'C089'!\"&\"$V$12\",X42))","v":"MC"},"",null,null,null,null,null,null,null,"RFY",null,null,"(C3)… specifically, a Residential Facility",null,null,null,null,"MC",""]
["(D) Children attending neither a Regular Early Childhood Program nor a Special Education Program (not included in (A), (B), or (C))","(D1)… and receiving the majority of hours of \nspecial education and related services at\nHome",null,null,null,null,{"$f":"IFERROR(HYPERLINK(\"#'C089'!\"&ADDRESS(ROW(INDEX(CurrentListing_C089,MATCH(P43,CurrentListing_C089,0),1)),20),X43),HYPERLINK(\"#'C089'!\"&\"$V$12\",X43))","v":"MC"},"",null,null,null,null,null,null,null,"HY",null,"(D) Children attending neither a\nRegular Early Childhood Program\nnor a Special Education Program\n(not included in (A), (B) or (C))","(D1)… and receiving the majority of hours of \nspecial education and related services at\nHome",null,null,null,null,"MC",""]
[null,"(D2)… and receiving the majority of hours of special education and related services at the Service Provider Location or some Other Location not in any other category",null,null,null,null,{"$f":"IFERROR(HYPERLINK(\"#'C089'!\"&ADDRESS(ROW(INDEX(CurrentListing_C089,MATCH(P44,CurrentListing_C089,0),1)),20),X44),HYPERLINK(\"#'C089'!\"&\"$V$12\",X44))","v":"MC"},"",null,null,null,null,null,null,null,"SPLY",null,null,"(D2)… and receiving the majority of hours of special education and related services at the Service Provider Location or some Other Location not in any other category",null,null,null,null,"MC",""]
["Calculated Subtotal",null,null,null,null,null,{"$f":"IF(SUM(G36:G44)=0, \"\", SUM(G36:G44))","v":""},{"$f":"IF(SUM(H36:H44)=0, \"\", SUM(H36:H44))","v":""},null,null,null,null,null,null,null,null,null,"Calculated Subtotal",null,null,null,null,null,{"$f":"SUM(X36:X44)","v":0},{"$f":"IF(X45=0,\"\",SUM(Y36:Y44))","v":""}]
[null,null,null,null,null,null,null,null,null,null,null,"≠"]
["NOTE: \"MC\" = Missing Category"]
["End of worksheet"]
["End of worksheet"]
[null,"Search Value:",1]
[]
["Category Set / Subtotal","Value1","Value2","Triggered?",null,"Link (Value1)","Tab Name\n(Value1)","Link \n(Value2)","Tab Name\n(Value2)","Error Messages"]
["A/3",{"$f":"'Category Sets A-D'!AL16","v":0},{"$f":"B15","v":"MC"},null,{"$f":"IF(B15=\"\",0,IF(OR(B15=\"No Data\",B53<>C53),1,0))","v":1},{"$f":"IF(OR(B53=\"MC\",C53=\"MC\"),\"V12\",\"AL16\")","v":"V12"},{"$f":"IF(OR(B53=\"MC\",C53=\"MC\"),\"C089\",\"Category Sets A-D\")","v":"C089"},{"$f":"IF(OR(B53=\"MC\",C53=\"MC\"),\"V12\",\"B15\")","v":"V12"},{"$f":"IF(OR(B53=\"MC\",C53=\"MC\"),\"C089\",\"Subtotals\")","v":"C089"},{"$f":"IF(E53=1,\"Calculated grand total of Intellectual Disability in Category Set A (AL16) ≠ Subtotal 3 (B15)\",\"\")","v":"Calculated grand total of Intellectual Disability in Category Set A (AL16) ≠ Subtotal 3 (B15)"},null,null,null,null,null,null,null,null,null,{"$f":"_xlfn.FORMULATEXT(J53)","v":"=IF(E53=1,\"Calculated grand total of Intellectual Disability in Category Set A (AL16) ≠ Subtotal 3 (B15)\",\"\")"},null,null,null,null,null,null,null,null,null,{"$f":"_xlfn.FORMULATEXT(B15)","v":"{=IFERROR(HYPERLINK(\"#'C089'!\"&ADDRESS(ROW(INDEX(CurrentListing_C089,MATCH(P15,CurrentListing_C089,0),1)),20),S15),HYPERLINK(\"#'C089'!\"&\"$V$12\",S15))}"},{"$f":"_xlfn.FORMULATEXT('Category Sets A-D'!AL16)","v":"=SUM(E16,I16,M16,Q16,U16,Y16,AC16,AG16,AK16)"},"HYPERLINK",{"$f":"ISNUMBER(SEARCH($AF$53,AD53))","v":true},{"$f":"ISNUMBER(SEARCH($AF$53,AE53))","v":false},{"$f":"IF(OR(AG53=TRUE,AH53=TRUE),1,0)","v":1},{"$f":"\"crap\"&_xlfn.FORMULATEXT(C53)","v":"crap=B15"},null,null,{"$f":"RIGHT(4,25)","v":"4"}]
["A/3",{"$f":"'Category Sets A-D'!AL17","v":0},{"$f":"B16","v":"MC"},null,{"$f":"IF(B16=\"\",0,IF(OR(B16=\"No Data\",B54<>C54),1,0))","v":1},{"$f":"IF(OR(B54=\"MC\",C54=\"MC\"),\"V12\",\"AL17\")","v":"V12"},"C089",{"$f":"IF(OR(B54=\"MC\",C54=\"MC\"),\"V12\",\"B16\")","v":"V12"},{"$f":"IF(OR(B54=\"MC\",C54=\"MC\"),\"C089\",\"Subtotals\")","v":"C089"},{"$f":"IF(E54=1,\"Calculated grand total of Hearing Impairment in Category Set A (AL17) ≠ Subtotal 3 (B16)\",\"\")","v":"Calculated grand total of Hearing Impairment in Category Set A (AL17) ≠ Subtotal 3 (B16)"},null,null,null,null,null,null,null,null,null,{"$f":"_xlfn.FORMULATEXT(J54)","v":"=IF(E54=1,\"Calculated grand total of Hearing Impairment in Category Set A (AL17) ≠ Subtotal 3 (B16)\",\"\")"},null,null,null,null,null,null,null,null,null,"{=IFERROR(HYPERLINK(\"#'C089'!\"&ADDRESS(ROW(INDEX(CurrentListing_C089,MATCH(P16,CurrentListing_C089,0),1)),20),S16),HYPERLINK(\"#'C089'!\"&\"$V$12\",S16))}",{"$f":"_xlfn.FORMULATEXT('Category Sets A-D'!AL17)","v":"=SUM(E17,I17,M17,Q17,U17,Y17,AC17,AG17,AK17)"},null,{"$f":"ISNUMBER(SEARCH($AF$53,AD54))","v":true},{"$f":"ISNUMBER(SEARCH($AF$53,AE54))","v":false},{"$f":"IF(OR(AG54=TRUE,AH54=TRUE),1,0)","v":1}]
["A/3",{"$f":"'Category Sets A-D'!AL18","v":0},{"$f":"B17","v":"MC"},null,1,{"$f":"IF(OR(B55=\"MC\",C55=\"MC\"),\"V12\",\"AL18\")","v":"V12"},"C089",{"$f":"IF(OR(B55=\"MC\",C55=\"MC\"),\"V12\",\"B17\")","v":"V12"},"C089",{"$f":"IF(E55=1,\"Calculated grand total of Speech or Language Impairment in Category Set A (AL18) ≠ Subtotal 3 (B17)\",\"\")","v":"Calculated grand total of Speech or Language Impairment in Category Set A (AL18) ≠ Subtotal 3 (B17)"},null,null,null,null,null,null,null,null,null,"=IF(E55=1,\"Calculated grand total of Speech or Language Impairment in Category Set A (AL18) ≠ Subtotal 3 (B17)\",\"\")",null,null,null,null,null,null,null,null,null,"{=IFERROR(HYPERLINK(\"#'C089'!\"&ADDRESS(ROW(INDEX(CurrentListing_C089,MATCH(P17,CurrentListing_C089,0),1)),20),S17),HYPERLINK(\"#'C089'!\"&\"$V$12\",S17))}",{"$f":"_xlfn.FORMULATEXT('Category Sets A-D'!AL18)","v":"=SUM(E18,I18,M18,Q18,U18,Y18,AC18,AG18,AK18)"},null,true,false,1]
["A/3",{"$f":"'Category Sets A-D'!AL19","v":0},"MC",null,1,{"$f":"IF(OR(B56=\"MC\",C56=\"MC\"),\"V12\",\"AL19\")","v":"V12"},"C089",{"$f":"IF(OR(B56=\"MC\",C56=\"MC\"),\"V12\",\"B18\")","v":"V12"},"C089",{"$f":"IF(E56=1,\"Calculated grand total of Visual Impairment in Category Set A (AL19) ≠ Subtotal 3 (B18)\",\"\")","v":"Calculated grand total of Visual Impairment in Category Set A (AL19) ≠ Subtotal 3 (B18)"},null,null,null,null,null,null,null,null,null,"=IF(E56=1,\"Calculated grand total of Visual Impairment in Category Set A (AL19) ≠ Subtotal 3 (B18)\",\"\")",null,null,null,null,null,null,null,null,null,"{=IFERROR(HYPERLINK(\"#'C089'!\"&ADDRESS(ROW(INDEX(CurrentListing_C089,MATCH(P18,CurrentListing_C089,0),1)),20),S18),HYPERLINK(\"#'C089'!\"&\"$V$12\",S18))}",{"$f":"_xlfn.FORMULATEXT('Category Sets A-D'!AL19)","v":"=SUM(E19,I19,M19,Q19,U19,Y19,AC19,AG19,AK19)"},null,true,false,1]
["A/3",{"$f":"'Category Sets A-D'!AL20","v":0},"MC",null,1,{"$f":"IF(OR(B57=\"MC\",C57=\"MC\"),\"V12\",\"AL20\")","v":"V12"},"C089",{"$f":"IF(OR(B57=\"MC\",C57=\"MC\"),\"V12\",\"B19\")","v":"V12"},"C089",{"$f":"IF(E57=1,\"Calculated grand total of Emotional Disturbance in Category Set A (AL20) ≠ Subtotal 3 (B19)\",\"\")","v":"Calculated grand total of Emotional Disturbance in Category Set A (AL20) ≠ Subtotal 3 (B19)"},null,null,null,null,null,null,null,null,null,"=IF(E57=1,\"Calculated grand total of Emotional Disturbance in Category Set A (AL20) ≠ Subtotal 3 (B19)\",\"\")",null,null,null,null,null,null,null,null,null,"{=IFERROR(HYPERLINK(\"#'C089'!\"&ADDRESS(ROW(INDEX(CurrentListing_C089,MATCH(P19,CurrentListing_C089,0),1)),20),S19),HYPERLINK(\"#'C089'!\"&\"$V$12\",S19))}",{"$f":"_xlfn.FORMULATEXT('Category Sets A-D'!AL20)","v":"=SUM(E20,I20,M20,Q20,U20,Y20,AC20,AG20,AK20)"},null,true,false,1]
["A/3",{"$f":"'Category Sets A-D'!AL21","v":0},"MC",null,1,{"$f":"IF(OR(B58=\"MC\",C58=\"MC\"),\"V12\",\"AL21\")","v":"V12"},"C089",{"$f":"IF(OR(B58=\"MC\",C58=\"MC\"),\"V12\",\"B20\")","v":"V12"},"C089",{"$f":"IF(E58=1,\"Calculated grand total of Orthopedic Impairment in Category Set A (AL21) ≠ Subtotal 3 (B20)\",\"\")","v":"Calculated grand total of Orthopedic Impairment in Category Set A (AL21) ≠ Subtotal 3 (B20)"},null,null,null,null,null,null,null,null,null,"=IF(E58=1,\"Calculated grand total of Orthopedic Impairment in Category Set A (AL21) ≠ Subtotal 3 (B20)\",\"\")",null,null,null,null,null,null,null,null,null,"{=IFERROR(HYPERLINK(\"#'C089'!\"&ADDRESS(ROW(INDEX(CurrentListing_C089,MATCH(P20,CurrentListing_C089,0),1)),20),S20),HYPERLINK(\"#'C089'!\"&\"$V$12\",S20))}",{"$f":"_xlfn.FORMULATEXT('Category Sets A-D'!AL21)","v":"=SUM(E21,I21,M21,Q21,U21,Y21,AC21,AG21,AK21)"},null,true,false,1]
["A/3",{"$f":"'Category Sets A-D'!AL22","v":0},"MC",null,1,{"$f":"IF(OR(B59=\"MC\",C59=\"MC\"),\"V12\",\"AL22\")","v":"V12"},"C089",{"$f":"IF(OR(B59=\"MC\",C59=\"MC\"),\"V12\",\"B21\")","v":"V12"},"C089",{"$f":"IF(E59=1,\"Calculated grand total of Other Health Impairment in Category Set A (AL22) ≠ Subtotal 3 (B21)\",\"\")","v":"Calculated grand total of Other Health Impairment in Category Set A (AL22) ≠ Subtotal 3 (B21)"},null,null,null,null,null,null,null,null,null,"=IF(E59=1,\"Calculated grand total of Other Health Impairment in Category Set A (AL22) ≠ Subtotal 3 (B21)\",\"\")",null,null,null,null,null,null,null,null,null,"{=IFERROR(HYPERLINK(\"#'C089'!\"&ADDRESS(ROW(INDEX(CurrentListing_C089,MATCH(P21,CurrentListing_C089,0),1)),20),S21),HYPERLINK(\"#'C089'!\"&\"$V$12\",S21))}",{"$f":"_xlfn.FORMULATEXT('Category Sets A-D'!AL22)","v":"=SUM(E22,I22,M22,Q22,U22,Y22,AC22,AG22,AK22)"},null,true,false,1]
["A/3",{"$f":"'Category Sets A-D'!AL23","v":0},"MC",null,1,{"$f":"IF(OR(B60=\"MC\",C60=\"MC\"),\"V12\",\"AL23\")","v":"V12"},"C089",{"$f":"IF(OR(B60=\"MC\",C60=\"MC\"),\"V12\",\"B22\")","v":"V12"},"C089",{"$f":"IF(E60=1,\"Calculated grand total of Specific Learning Disability in Category Set A (AL23) ≠ Subtotal 3 (B22)\",\"\")","v":"Calculated grand total of Specific Learning Disability in Category Set A (AL23) ≠ Subtotal 3 (B22)"},null,null,null,null,null,null,null,null,null,"=IF(E60=1,\"Calculated grand total of Specific Learning Disability in Category Set A (AL23) ≠ Subtotal 3 (B22)\",\"\")",null,null,null,null,null,null,null,null,null,"{=IFERROR(HYPERLINK(\"#'C089'!\"&ADDRESS(ROW(INDEX(CurrentListing_C089,MATCH(P22,CurrentListing_C089,0),1)),20),S22),HYPERLINK(\"#'C089'!\"&\"$V$12\",S22))}",{"$f":"_xlfn.FORMULATEXT('Category Sets A-D'!AL23)","v":"=SUM(E23,I23,M23,Q23,U23,Y23,AC23,AG23,AK23)"},null,true,false,1]
["A/3",{"$f":"'Category Sets A-D'!AL24","v":0},"MC",null,1,{"$f":"IF(OR(B61=\"MC\",C61=\"MC\"),\"V12\",\"AL24\")","v":"V12"},"C089",{"$f":"IF(OR(B61=\"MC\",C61=\"MC\"),\"V12\",\"B23\")","v":"V12"},"C089",{"$f":"IF(E61=1,\"Calculated grand total of Deaf-Blindness in Category Set A (AL24) ≠ Subtotal 3 (B23)\",\"\")","v":"Calculated grand total of Deaf-Blindness in Category Set A (AL24) ≠ Subtotal 3 (B23)"},null,null,null,null,null,null,null,null,null,"=IF(E61=1,\"Calculated grand total of Deaf-Blindness in Category Set A (AL24) ≠ Subtotal 3 (B23)\",\"\")",null,null,null,null,null,null,null,null,null,"{=IFERROR(HYPERLINK(\"#'C089'!\"&ADDRESS(ROW(INDEX(CurrentListing_C089,MATCH(P23,CurrentListing_C089,0),1)),20),S23),HYPERLINK(\"#'C089'!\"&\"$V$12\",S23))}",{"$f":"_xlfn.FORMULATEXT('Category Sets A-D'!AL24)","v":"=SUM(E24,I24,M24,Q24,U24,Y24,AC24,AG24,AK24)"},null,true,false,1]
["A/3",{"$f":"'Category Sets A-D'!AL25","v":0},"MC",null,1,{"$f":"IF(OR(B62=\"MC\",C62=\"MC\"),\"V12\",\"AL25\")","v":"V12"},"C089",{"$f":"IF(OR(B62=\"MC\",C62=\"MC\"),\"V12\",\"B24\")","v":"V12"},"C089",{"$f":"IF(E62=1,\"Calculated grand total of Multiple Disabilities in Category Set A (AL25) ≠ Subtotal 3 (B24)\",\"\")","v":"Calculated grand total of Multiple Disabilities in Category Set A (AL25) ≠ Subtotal 3 (B24)"},null,null,null,null,null,null,null,null,null,"=IF(E62=1,\"Calculated grand total of Multiple Disabilities in Category Set A (AL25) ≠ Subtotal 3 (B24)\",\"\")",null,null,null,null,null,null,null,null,null,"{=IFERROR(HYPERLINK(\"#'C089'!\"&ADDRESS(ROW(INDEX(CurrentListing_C089,MATCH(P24,CurrentListing_C089,0),1)),20),S24),HYPERLINK(\"#'C089'!\"&\"$V$12\",S24))}",{"$f":"_xlfn.FORMULATEXT('Category Sets A-D'!AL25)","v":"=SUM(E25,I25,M25,Q25,U25,Y25,AC25,AG25,AK25)"},null,true,false,1]
["A/3",{"$f":"'Category Sets A-D'!AL26","v":0},"MC",null,1,{"$f":"IF(OR(B63=\"MC\",C63=\"MC\"),\"V12\",\"AL26\")","v":"V12"},"C089",{"$f":"IF(OR(B63=\"MC\",C63=\"MC\"),\"V12\",\"B25\")","v":"V12"},"C089",{"$f":"IF(E63=1,\"Calculated grand total of Autism in Category Set A (AL26) ≠ Subtotal 3 (B25)\",\"\")","v":"Calculated grand total of Autism in Category Set A (AL26) ≠ Subtotal 3 (B25)"},null,null,null,null,null,null,null,null,null,"=IF(E63=1,\"Calculated grand total of Autism in Category Set A (AL26) ≠ Subtotal 3 (B25)\",\"\")",null,null,null,null,null,null,null,null,null,"{=IFERROR(HYPERLINK(\"#'C089'!\"&ADDRESS(ROW(INDEX(CurrentListing_C089,MATCH(P25,CurrentListing_C089,0),1)),20),S25),HYPERLINK(\"#'C089'!\"&\"$V$12\",S25))}",{"$f":"_xlfn.FORMULATEXT('Category Sets A-D'!AL26)","v":"=SUM(E26,I26,M26,Q26,U26,Y26,AC26,AG26,AK26)"},null,true,false,1]
["A/3",{"$f":"'Category Sets A-D'!AL27","v":0},"MC",null,1,{"$f":"IF(OR(B64=\"MC\",C64=\"MC\"),\"V12\",\"AL27\")","v":"V12"},"C089",{"$f":"IF(OR(B64=\"MC\",C64=\"MC\"),\"V12\",\"B26\")","v":"V12"},"C089",{"$f":"IF(E64=1,\"Calculated grand total of Traumatic Brain Injury in Category Set A (AL27) ≠ Subtotal 3 (B26)\",\"\")","v":"Calculated grand total of Traumatic Brain Injury in Category Set A (AL27) ≠ Subtotal 3 (B26)"},null,null,null,null,null,null,null,null,null,"=IF(E64=1,\"Calculated grand total of Traumatic Brain Injury in Category Set A (AL27) ≠ Subtotal 3 (B26)\",\"\")",null,null,null,null,null,null,null,null,null,"{=IFERROR(HYPERLINK(\"#'C089'!\"&ADDRESS(ROW(INDEX(CurrentListing_C089,MATCH(P26,CurrentListing_C089,0),1)),20),S26),HYPERLINK(\"#'C089'!\"&\"$V$12\",S26))}",{"$f":"_xlfn.FORMULATEXT('Category Sets A-D'!AL27)","v":"=SUM(E27,I27,M27,Q27,U27,Y27,AC27,AG27,AK27)"},null,true,false,1]
["A/3",{"$f":"'Category Sets A-D'!AL28","v":0},"MC",null,1,{"$f":"IF(OR(B65=\"MC\",C65=\"MC\"),\"V12\",\"AL28\")","v":"V12"},"C089",{"$f":"IF(OR(B65=\"MC\",C65=\"MC\"),\"V12\",\"B27\")","v":"V12"},"C089",{"$f":"IF(E65=1,\"Calculated grand total of Developmental Delay in Category Set A (AL28) ≠ Subtotal 3 (B27)\",\"\")","v":"Calculated grand total of Developmental Delay in Category Set A (AL28) ≠ Subtotal 3 (B27)"},null,null,null,null,null,null,null,null,null,"=IF(E65=1,\"Calculated grand total of Developmental Delay in Category Set A (AL28) ≠ Subtotal 3 (B27)\",\"\")",null,null,null,null,null,null,null,null,null,"{=IFERROR(HYPERLINK(\"#'C089'!\"&ADDRESS(ROW(INDEX(CurrentListing_C089,MATCH(P27,CurrentListing_C089,0),1)),20),S27),HYPERLINK(\"#'C089'!\"&\"$V$12\",S27))}",{"$f":"_xlfn.FORMULATEXT('Category Sets A-D'!AL28)","v":"=SUM(E28,I28,M28,Q28,U28,Y28,AC28,AG28,AK28)"},null,true,false,1]
["B/3",{"$f":"'Category Sets A-D'!BV35","v":0},{"$f":"B15","v":"MC"},null,{"$f":"IF(B15=\"\",0,IF(OR(B15=\"No Data\",B66<>C66),1,0))","v":1},{"$f":"IF(OR(B66=\"MC\",C66=\"MC\"),\"V12\",\"BV35\")","v":"V12"},"C089",{"$f":"IF(OR(B66=\"MC\",C66=\"MC\"),\"V12\",\"B15\")","v":"V12"},"C089",{"$f":"IF(E66=1,\"Calculated grand total of Intellectual Disability in Category Set B (BV35) ≠ Subtotal 3 (B15)\",\"\")","v":"Calculated grand total of Intellectual Disability in Category Set B (BV35) ≠ Subtotal 3 (B15)"},null,null,null,null,null,null,null,null,null,"=IF(E66=1,\"Calculated grand total of Intellectual Disability in Category Set B (BV35) ≠ Subtotal 3 (B15)\",\"\")",null,null,null,null,null,null,null,null,null,{"$f":"_xlfn.FORMULATEXT(B15)","v":"{=IFERROR(HYPERLINK(\"#'C089'!\"&ADDRESS(ROW(INDEX(CurrentListing_C089,MATCH(P15,CurrentListing_C089,0),1)),20),S15),HYPERLINK(\"#'C089'!\"&\"$V$12\",S15))}"},{"$f":"_xlfn.FORMULATEXT('Category Sets A-D'!BV35)","v":"=SUM(I35,Q35,Y35,AG35,AO35,AW35,BE35,BM35,BU35)"},null,true,false,1]
["B/3",{"$f":"'Category Sets A-D'!BV36","v":0},{"$f":"B16","v":"MC"},null,1,{"$f":"IF(OR(B67=\"MC\",C67=\"MC\"),\"V12\",\"BV36\")","v":"V12"},"C089",{"$f":"IF(OR(B67=\"MC\",C67=\"MC\"),\"V12\",\"B16\")","v":"V12"},"C089",{"$f":"IF(E67=1,\"Calculated grand total of Hearing Impairment in Category Set B (BV36) ≠ Subtotal 3 (B16)\",\"\")","v":"Calculated grand total of Hearing Impairment in Category Set B (BV36) ≠ Subtotal 3 (B16)"},null,null,null,null,null,null,null,null,null,"=IF(E67=1,\"Calculated grand total of Hearing Impairment in Category Set B (BV36) ≠ Subtotal 3 (B16)\",\"\")",null,null,null,null,null,null,null,null,null,"{=IFERROR(HYPERLINK(\"#'C089'!\"&ADDRESS(ROW(INDEX(CurrentListing_C089,MATCH(P16,CurrentListing_C089,0),1)),20),S16),HYPERLINK(\"#'C089'!\"&\"$V$12\",S16))}",{"$f":"_xlfn.FORMULATEXT('Category Sets A-D'!BV36)","v":"=SUM(I36,Q36,Y36,AG36,AO36,AW36,BE36,BM36,BU36)"},null,true,false,1]
["B/3",{"$f":"'Category Sets A-D'!BV37","v":0},"MC",null,1,{"$f":"IF(OR(B68=\"MC\",C68=\"MC\"),\"V12\",\"BV37\")","v":"V12"},"C089",{"$f":"IF(OR(B68=\"MC\",C68=\"MC\"),\"V12\",\"B17\")","v":"V12"},"C089",{"$f":"IF(E68=1,\"Calculated grand total of Speech or Language Impairment in Category Set B (BV37) ≠ Subtotal 3 (B17)\",\"\")","v":"Calculated grand total of Speech or Language Impairment in Category Set B (BV37) ≠ Subtotal 3 (B17)"},null,null,null,null,null,null,null,null,null,"=IF(E68=1,\"Calculated grand total of Speech or Language Impairment in Category Set B (BV37) ≠ Subtotal 3 (B17)\",\"\")",null,null,null,null,null,null,null,null,null,"{=IFERROR(HYPERLINK(\"#'C089'!\"&ADDRESS(ROW(INDEX(CurrentListing_C089,MATCH(P17,CurrentListing_C089,0),1)),20),S17),HYPERLINK(\"#'C089'!\"&\"$V$12\",S17))}",{"$f":"_xlfn.FORMULATEXT('Category Sets A-D'!BV37)","v":"=SUM(I37,Q37,Y37,AG37,AO37,AW37,BE37,BM37,BU37)"},null,true,false,1]
["B/3",{"$f":"'Category Sets A-D'!BV38","v":0},"MC",null,1,{"$f":"IF(OR(B69=\"MC\",C69=\"MC\"),\"V12\",\"BV38\")","v":"V12"},"C089",{"$f":"IF(OR(B69=\"MC\",C69=\"MC\"),\"V12\",\"B18\")","v":"V12"},"C089",{"$f":"IF(E69=1,\"Calculated grand total of Visual Impairment in Category Set B (BV38) ≠ Subtotal 3 (B18)\",\"\")","v":"Calculated grand total of Visual Impairment in Category Set B (BV38) ≠ Subtotal 3 (B18)"},null,null,null,null,null,null,null,null,null,"=IF(E69=1,\"Calculated grand total of Visual Impairment in Category Set B (BV38) ≠ Subtotal 3 (B18)\",\"\")",null,null,null,null,null,null,null,null,null,"{=IFERROR(HYPERLINK(\"#'C089'!\"&ADDRESS(ROW(INDEX(CurrentListing_C089,MATCH(P18,CurrentListing_C089,0),1)),20),S18),HYPERLINK(\"#'C089'!\"&\"$V$12\",S18))}",{"$f":"_xlfn.FORMULATEXT('Category Sets A-D'!BV38)","v":"=SUM(I38,Q38,Y38,AG38,AO38,AW38,BE38,BM38,BU38)"},null,true,false,1]
["B/3",{"$f":"'Category Sets A-D'!BV39","v":0},"MC",null,1,{"$f":"IF(OR(B70=\"MC\",C70=\"MC\"),\"V12\",\"BV39\")","v":"V12"},"C089",{"$f":"IF(OR(B70=\"MC\",C70=\"MC\"),\"V12\",\"B19\")","v":"V12"},"C089",{"$f":"IF(E70=1,\"Calculated grand total of Emotional Disturbance in Category Set B (BV39) ≠ Subtotal 3 (B19)\",\"\")","v":"Calculated grand total of Emotional Disturbance in Category Set B (BV39) ≠ Subtotal 3 (B19)"},null,null,null,null,null,null,null,null,null,"=IF(E70=1,\"Calculated grand total of Emotional Disturbance in Category Set B (BV39) ≠ Subtotal 3 (B19)\",\"\")",null,null,null,null,null,null,null,null,null,"{=IFERROR(HYPERLINK(\"#'C089'!\"&ADDRESS(ROW(INDEX(CurrentListing_C089,MATCH(P19,CurrentListing_C089,0),1)),20),S19),HYPERLINK(\"#'C089'!\"&\"$V$12\",S19))}",{"$f":"_xlfn.FORMULATEXT('Category Sets A-D'!BV39)","v":"=SUM(I39,Q39,Y39,AG39,AO39,AW39,BE39,BM39,BU39)"},null,true,false,1]
["B/3",{"$f":"'Category Sets A-D'!BV40","v":0},"MC",null,1,{"$f":"IF(OR(B71=\"MC\",C71=\"MC\"),\"V12\",\"BV40\")","v":"V12"},"C089",{"$f":"IF(OR(B71=\"MC\",C71=\"MC\"),\"V12\",\"B20\")","v":"V12"},"C089",{"$f":"IF(E71=1,\"Calculated grand total of Orthopedic Impairment in Category Set B (BV40) ≠ Subtotal 3 (B20)\",\"\")","v":"Calculated grand total of Orthopedic Impairment in Category Set B (BV40) ≠ Subtotal 3 (B20)"},null,null,null,null,null,null,null,null,null,"=IF(E71=1,\"Calculated grand total of Orthopedic Impairment in Category Set B (BV40) ≠ Subtotal 3 (B20)\",\"\")",null,null,null,null,null,null,null,null,null,"{=IFERROR(HYPERLINK(\"#'C089'!\"&ADDRESS(ROW(INDEX(CurrentListing_C089,MATCH(P20,CurrentListing_C089,0),1)),20),S20),HYPERLINK(\"#'C089'!\"&\"$V$12\",S20))}",{"$f":"_xlfn.FORMULATEXT('Category Sets A-D'!BV40)","v":"=SUM(I40,Q40,Y40,AG40,AO40,AW40,BE40,BM40,BU40)"},null,true,false,1]
["B/3",{"$f":"'Category Sets A-D'!BV41","v":0},"MC",null,1,{"$f":"IF(OR(B72=\"MC\",C72=\"MC\"),\"V12\",\"BV41\")","v":"V12"},"C089",{"$f":"IF(OR(B72=\"MC\",C72=\"MC\"),\"V12\",\"B21\")","v":"V12"},"C089",{"$f":"IF(E72=1,\"Calculated grand total of Other Health Impairment in Category Set B (BV41) ≠ Subtotal 3 (B21)\",\"\")","v":"Calculated grand total of Other Health Impairment in Category Set B (BV41) ≠ Subtotal 3 (B21)"},null,null,null,null,null,null,null,null,null,"=IF(E72=1,\"Calculated grand total of Other Health Impairment in Category Set B (BV41) ≠ Subtotal 3 (B21)\",\"\")",null,null,null,null,null,null,null,null,null,"{=IFERROR(HYPERLINK(\"#'C089'!\"&ADDRESS(ROW(INDEX(CurrentListing_C089,MATCH(P21,CurrentListing_C089,0),1)),20),S21),HYPERLINK(\"#'C089'!\"&\"$V$12\",S21))}",{"$f":"_xlfn.FORMULATEXT('Category Sets A-D'!BV41)","v":"=SUM(I41,Q41,Y41,AG41,AO41,AW41,BE41,BM41,BU41)"},null,true,false,1]
["B/3",{"$f":"'Category Sets A-D'!BV42","v":0},"MC",null,1,{"$f":"IF(OR(B73=\"MC\",C73=\"MC\"),\"V12\",\"BV42\")","v":"V12"},"C089",{"$f":"IF(OR(B73=\"MC\",C73=\"MC\"),\"V12\",\"B22\")","v":"V12"},"C089",{"$f":"IF(E73=1,\"Calculated grand total of Specific Learning Disability in Category Set B (BV42) ≠ Subtotal 3 (B22)\",\"\")","v":"Calculated grand total of Specific Learning Disability in Category Set B (BV42) ≠ Subtotal 3 (B22)"},null,null,null,null,null,null,null,null,null,"=IF(E73=1,\"Calculated grand total of Specific Learning Disability in Category Set B (BV42) ≠ Subtotal 3 (B22)\",\"\")",null,null,null,null,null,null,null,null,null,"{=IFERROR(HYPERLINK(\"#'C089'!\"&ADDRESS(ROW(INDEX(CurrentListing_C089,MATCH(P22,CurrentListing_C089,0),1)),20),S22),HYPERLINK(\"#'C089'!\"&\"$V$12\",S22))}",{"$f":"_xlfn.FORMULATEXT('Category Sets A-D'!BV42)","v":"=SUM(I42,Q42,Y42,AG42,AO42,AW42,BE42,BM42,BU42)"},null,true,false,1]
["B/3",{"$f":"'Category Sets A-D'!BV43","v":0},"MC",null,1,{"$f":"IF(OR(B74=\"MC\",C74=\"MC\"),\"V12\",\"BV43\")","v":"V12"},"C089",{"$f":"IF(OR(B74=\"MC\",C74=\"MC\"),\"V12\",\"B23\")","v":"V12"},"C089",{"$f":"IF(E74=1,\"Calculated grand total of Deaf-Blindness in Category Set B (BV43) ≠ Subtotal 3 (B23)\",\"\")","v":"Calculated grand total of Deaf-Blindness in Category Set B (BV43) ≠ Subtotal 3 (B23)"},null,null,null,null,null,null,null,null,null,"=IF(E74=1,\"Calculated grand total of Deaf-Blindness in Category Set B (BV43) ≠ Subtotal 3 (B23)\",\"\")",null,null,null,null,null,null,null,null,null,"{=IFERROR(HYPERLINK(\"#'C089'!\"&ADDRESS(ROW(INDEX(CurrentListing_C089,MATCH(P23,CurrentListing_C089,0),1)),20),S23),HYPERLINK(\"#'C089'!\"&\"$V$12\",S23))}",{"$f":"_xlfn.FORMULATEXT('Category Sets A-D'!BV43)","v":"=SUM(I43,Q43,Y43,AG43,AO43,AW43,BE43,BM43,BU43)"},null,true,false,1]
["B/3",{"$f":"'Category Sets A-D'!BV44","v":0},"MC",null,1,{"$f":"IF(OR(B75=\"MC\",C75=\"MC\"),\"V12\",\"BV44\")","v":"V12"},"C089",{"$f":"IF(OR(B75=\"MC\",C75=\"MC\"),\"V12\",\"B24\")","v":"V12"},"C089",{"$f":"IF(E75=1,\"Calculated grand total of Multiple Disabilities in Category Set B (BV44) ≠ Subtotal 3 (B24)\",\"\")","v":"Calculated grand total of Multiple Disabilities in Category Set B (BV44) ≠ Subtotal 3 (B24)"},null,null,null,null,null,null,null,null,null,"=IF(E75=1,\"Calculated grand total of Multiple Disabilities in Category Set B (BV44) ≠ Subtotal 3 (B24)\",\"\")",null,null,null,null,null,null,null,null,null,"{=IFERROR(HYPERLINK(\"#'C089'!\"&ADDRESS(ROW(INDEX(CurrentListing_C089,MATCH(P24,CurrentListing_C089,0),1)),20),S24),HYPERLINK(\"#'C089'!\"&\"$V$12\",S24))}",{"$f":"_xlfn.FORMULATEXT('Category Sets A-D'!BV44)","v":"=SUM(I44,Q44,Y44,AG44,AO44,AW44,BE44,BM44,BU44)"},null,true,false,1]
["B/3",{"$f":"'Category Sets A-D'!BV45","v":0},"MC",null,1,{"$f":"IF(OR(B76=\"MC\",C76=\"MC\"),\"V12\",\"BV45\")","v":"V12"},"C089",{"$f":"IF(OR(B76=\"MC\",C76=\"MC\"),\"V12\",\"B25\")","v":"V12"},"C089",{"$f":"IF(E76=1,\"Calculated grand total of Autism in Category Set B (BV45) ≠ Subtotal 3 (B25)\",\"\")","v":"Calculated grand total of Autism in Category Set B (BV45) ≠ Subtotal 3 (B25)"},null,null,null,null,null,null,null,null,null,"=IF(E76=1,\"Calculated grand total of Autism in Category Set B (BV45) ≠ Subtotal 3 (B25)\",\"\")",null,null,null,null,null,null,null,null,null,"{=IFERROR(HYPERLINK(\"#'C089'!\"&ADDRESS(ROW(INDEX(CurrentListing_C089,MATCH(P25,CurrentListing_C089,0),1)),20),S25),HYPERLINK(\"#'C089'!\"&\"$V$12\",S25))}",{"$f":"_xlfn.FORMULATEXT('Category Sets A-D'!BV45)","v":"=SUM(I45,Q45,Y45,AG45,AO45,AW45,BE45,BM45,BU45)"},null,true,false,1]
["B/3",{"$f":"'Category Sets A-D'!BV46","v":0},"MC",null,1,{"$f":"IF(OR(B77=\"MC\",C77=\"MC\"),\"V12\",\"BV46\")","v":"V12"},"C089",{"$f":"IF(OR(B77=\"MC\",C77=\"MC\"),\"V12\",\"B26\")","v":"V12"},"C089",{"$f":"IF(E77=1,\"Calculated grand total of Traumatic Brain Injury in Category Set B (BV46) ≠ Subtotal 3 (B26)\",\"\")","v":"Calculated grand total of Traumatic Brain Injury in Category Set B (BV46) ≠ Subtotal 3 (B26)"},null,null,null,null,null,null,null,null,null,"=IF(E77=1,\"Calculated grand total of Traumatic Brain Injury in Category Set B (BV46) ≠ Subtotal 3 (B26)\",\"\")",null,null,null,null,null,null,null,null,null,"{=IFERROR(HYPERLINK(\"#'C089'!\"&ADDRESS(ROW(INDEX(CurrentListing_C089,MATCH(P26,CurrentListing_C089,0),1)),20),S26),HYPERLINK(\"#'C089'!\"&\"$V$12\",S26))}",{"$f":"_xlfn.FORMULATEXT('Category Sets A-D'!BV46)","v":"=SUM(I46,Q46,Y46,AG46,AO46,AW46,BE46,BM46,BU46)"},null,true,false,1]
["B/3",{"$f":"'Category Sets A-D'!BV47","v":0},"MC",null,1,{"$f":"IF(OR(B78=\"MC\",C78=\"MC\"),\"V12\",\"BV47\")","v":"V12"},"C089",{"$f":"IF(OR(B78=\"MC\",C78=\"MC\"),\"V12\",\"B27\")","v":"V12"},"C089",{"$f":"IF(E78=1,\"Calculated grand total of Developmental Delay in Category Set B (BV47) ≠ Subtotal 3 (B27)\",\"\")","v":"Calculated grand total of Developmental Delay in Category Set B (BV47) ≠ Subtotal 3 (B27)"},null,null,null,null,null,null,null,null,null,"=IF(E78=1,\"Calculated grand total of Developmental Delay in Category Set B (BV47) ≠ Subtotal 3 (B27)\",\"\")",null,null,null,null,null,null,null,null,null,"{=IFERROR(HYPERLINK(\"#'C089'!\"&ADDRESS(ROW(INDEX(CurrentListing_C089,MATCH(P27,CurrentListing_C089,0),1)),20),S27),HYPERLINK(\"#'C089'!\"&\"$V$12\",S27))}",{"$f":"_xlfn.FORMULATEXT('Category Sets A-D'!BV47)","v":"=SUM(I47,Q47,Y47,AG47,AO47,AW47,BE47,BM47,BU47)"},null,true,false,1]
["B/3",{"$f":"G18","v":""},{"$f":"L11","v":"MC"},null,0,"G18",{"$f":"IF(OR(B79=\"MC\",C79=\"MC\"),\"C089\",\"Subtotals\")","v":"C089"},{"$f":"IF(OR(B79=\"MC\",C79=\"MC\"),\"V12\",\"L11\")","v":"V12"},"C089",{"$f":"IF(E79=1,\"Total of Subtotal 2 (G18)  ≠ The total education unit (L11)\",\"\")","v":""},null,null,null,null,null,null,null,null,null,"=IF(E79=1,\"Total of Subtotal 2 (G18)  ≠ The total education unit (L11)\",\"\")",null,null,null,null,null,null,null,null,null,{"$f":"_xlfn.FORMULATEXT(G18)","v":"=IF(AA18=0, \"\", AA18)"},{"$f":"_xlfn.FORMULATEXT(L11)","v":"{=IFERROR(HYPERLINK(\"#'C089'!\"&ADDRESS(ROW(INDEX(CurrentListing_C089,MATCH(P11,CurrentListing_C089,0),1)),20),T9),HYPERLINK(\"#'C089'!\"&\"$V$12\",T9))}"},null,false,true,1]
["C/1",{"$f":"SUM('Category Sets A-D'!G52:G60)","v":0},{"$f":"G23","v":"MC"},null,{"$f":"IF(B80=\"\",0,IF(OR(B80=\"No Data\",B80<>C80),1,0))","v":1},{"$f":"IF(OR(B80=\"MC\",C80=\"MC\"),\"V12\",\"G52\")","v":"V12"},"C089",{"$f":"IF(OR(B80=\"MC\",C80=\"MC\"),\"V12\",\"G23\")","v":"V12"},"C089",{"$f":"IF(E80=1,\"Calculated total of Male in Category Set C (G52+G53+G54+G55+G56+G57+G58+G59+G60) ≠ Subtotal 1 (G23)\",\"\")","v":"Calculated total of Male in Category Set C (G52+G53+G54+G55+G56+G57+G58+G59+G60) ≠ Subtotal 1 (G23)"},null,null,null,null,null,null,null,null,null,"=IF(E80=1,\"Calculated total of Male in Category Set C (G52+G53+G54+G55+G56+G57+G58+G59+G60) ≠ Subtotal 1 (G23)\",\"\")",null,null,null,null,null,null,null,null,null,{"$f":"_xlfn.FORMULATEXT('Category Sets A-D'!G52)","v":"{=IFERROR(HYPERLINK(\"#'C089'!\"&ADDRESS(ROW(INDEX(CurrentListing_C089,MATCH(BX52,CurrentListing_C089,0),1)),20),CG52),HYPERLINK(\"#'C089'!\"&\"$V$12\",CG52))}"},{"$f":"_xlfn.FORMULATEXT(G23)","v":"{=IFERROR(HYPERLINK(\"#'C089'!\"&ADDRESS(ROW(INDEX(CurrentListing_C089,MATCH(W23,CurrentListing_C089,0),1)),20),AA23),HYPERLINK(\"#'C089'!\"&\"$V$12\",AA23))}"},null,true,true,1]
["C/1",{"$f":"SUM('Category Sets A-D'!H52:H60)","v":0},{"$f":"G24","v":"MC"},null,{"$f":"IF(B81=\"\",0,IF(OR(B81=\"No Data\",B81<>C81),1,0))","v":1},{"$f":"IF(OR(B81=\"MC\",C81=\"MC\"),\"V12\",\"H52\")","v":"V12"},{"$f":"IF(OR(B81=\"MC\",C81=\"MC\"),\"C089\",\"Category Sets A-D\")","v":"C089"},{"$f":"IF(OR(B81=\"MC\",C81=\"MC\"),\"V12\",\"G24\")","v":"V12"},"C089",{"$f":"IF(E81=1,\"Calculated total of Female in Category Set C (H52+H53+H54+H55+H56+H57+H58+H59+H60) ≠ Subtotal 1 (G24)\",\"\")","v":"Calculated total of Female in Category Set C (H52+H53+H54+H55+H56+H57+H58+H59+H60) ≠ Subtotal 1 (G24)"},null,null,null,null,null,null,null,null,null,"=IF(E81=1,\"Calculated total of Female in Category Set C (H52+H53+H54+H55+H56+H57+H58+H59+H60) ≠ Subtotal 1 (G24)\",\"\")",null,null,null,null,null,null,null,null,null,{"$f":"_xlfn.FORMULATEXT('Category Sets A-D'!H52)","v":"{=IFERROR(HYPERLINK(\"#'C089'!\"&ADDRESS(ROW(INDEX(CurrentListing_C089,MATCH(BY52,CurrentListing_C089,0),1)),20),CH52),HYPERLINK(\"#'C089'!\"&\"$V$12\",CH52))}"},{"$f":"_xlfn.FORMULATEXT(G24)","v":"{=IFERROR(HYPERLINK(\"#'C089'!\"&ADDRESS(ROW(INDEX(CurrentListing_C089,MATCH(W24,CurrentListing_C089,0),1)),20),AA24),HYPERLINK(\"#'C089'!\"&\"$V$12\",AA24))}"},null,true,true,1]
["A/2",{"$f":"SUM('Category Sets A-D'!B29,'Category Sets A-D'!F29,'Category Sets A-D'!J29,'Category Sets A-D'!N29,'Category Sets A-D'!R29,'Category Sets A-D'!V29,'Category Sets A-D'!Z29,'Category Sets A-D'!AD29,'Category Sets A-D'!AH29)","v":0},{"$f":"G15","v":"MC"},null,{"$f":"IF(B82=\"\",0,IF(OR(B82=\"No Data\",B82<>C82),1,0))","v":1},{"$f":"IF(OR(B82=\"MC\",C82=\"MC\"),\"V12\",\"B29\")","v":"V12"},"C089",{"$f":"IF(OR(B82=\"MC\",C82=\"MC\"),\"V12\",\"G15\")","v":"V12"},"C089",{"$f":"IF(E82=1,\"Calculated total of Age 3 in Category Set A (B29+F29+J29+N29+R29+V29+Z29+AD29+AH29) ≠ Subtotal 2 (G15)\",\"\")","v":"Calculated total of Age 3 in Category Set A (B29+F29+J29+N29+R29+V29+Z29+AD29+AH29) ≠ Subtotal 2 (G15)"},null,null,null,null,null,null,null,null,null,"=IF(E82=1,\"Calculated total of Age 3 in Category Set A (B29+F29+J29+N29+R29+V29+Z29+AD29+AH29) ≠ Subtotal 2 (G15)\",\"\")",null,null,null,null,null,null,null,null,null,{"$f":"_xlfn.FORMULATEXT('Category Sets A-D'!B29)","v":"=SUM(B16:B28)"},{"$f":"_xlfn.FORMULATEXT(G15)","v":"{=IFERROR(HYPERLINK(\"#'C089'!\"&ADDRESS(ROW(INDEX(CurrentListing_C089,MATCH(W15,CurrentListing_C089,0),1)),20),AA15),HYPERLINK(\"#'C089'!\"&\"$V$12\",AA15))}"},null,false,true,1]
["A/2",{"$f":"SUM('Category Sets A-D'!C29,'Category Sets A-D'!G29,'Category Sets A-D'!K29,'Category Sets A-D'!O29,'Category Sets A-D'!S29,'Category Sets A-D'!W29,'Category Sets A-D'!AA29,'Category Sets A-D'!AE29,'Category Sets A-D'!AI29)","v":0},{"$f":"G16","v":"MC"},null,{"$f":"IF(B83=\"\",0,IF(OR(B83=\"No Data\",B83<>C83),1,0))","v":1},{"$f":"IF(OR(B83=\"MC\",C83=\"MC\"),\"V12\",\"C29\")","v":"V12"},"C089",{"$f":"IF(OR(B83=\"MC\",C83=\"MC\"),\"V12\",\"G16\")","v":"V12"},"C089",{"$f":"IF(E83=1,\"Calculated total of Age 4 in Category Set A (C29+G29+K29+O29+S29+W29+AA29+AE29+AI29) ≠ Subtotal 2 (G16)\",\"\")","v":"Calculated total of Age 4 in Category Set A (C29+G29+K29+O29+S29+W29+AA29+AE29+AI29) ≠ Subtotal 2 (G16)"},null,null,null,null,null,null,null,null,null,"=IF(E83=1,\"Calculated total of Age 4 in Category Set A (C29+G29+K29+O29+S29+W29+AA29+AE29+AI29) ≠ Subtotal 2 (G16)\",\"\")",null,null,null,null,null,null,null,null,null,{"$f":"_xlfn.FORMULATEXT('Category Sets A-D'!C29)","v":"=SUM(C16:C28)"},{"$f":"_xlfn.FORMULATEXT(G16)","v":"{=IFERROR(HYPERLINK(\"#'C089'!\"&ADDRESS(ROW(INDEX(CurrentListing_C089,MATCH(W16,CurrentListing_C089,0),1)),20),AA16),HYPERLINK(\"#'C089'!\"&\"$V$12\",AA16))}"},null,false,true,1]
["A/2",{"$f":"SUM('Category Sets A-D'!D29,'Category Sets A-D'!H29,'Category Sets A-D'!L29,'Category Sets A-D'!P29,'Category Sets A-D'!T29,'Category Sets A-D'!X29,'Category Sets A-D'!AB29,'Category Sets A-D'!AF29,'Category Sets A-D'!AJ29)","v":0},{"$f":"G17","v":"MC"},null,{"$f":"IF(B84=\"\",0,IF(OR(B84=\"No Data\",B84<>C84),1,0))","v":1},{"$f":"IF(OR(B84=\"MC\",C84=\"MC\"),\"V12\",\"D29\")","v":"V12"},"C089",{"$f":"IF(OR(B84=\"MC\",C84=\"MC\"),\"V12\",\"G17\")","v":"V12"},"C089",{"$f":"IF(E84=1,\"Calculated total of Age 5 in Category Set A (D29+H29+L29+P29+T29+X29+AB29+AF29+AJ29) ≠ Subtotal 2 (G17)\",\"\")","v":"Calculated total of Age 5 in Category Set A (D29+H29+L29+P29+T29+X29+AB29+AF29+AJ29) ≠ Subtotal 2 (G17)"},null,null,null,null,null,null,null,null,null,"=IF(E84=1,\"Calculated total of Age 5 in Category Set A (D29+H29+L29+P29+T29+X29+AB29+AF29+AJ29) ≠ Subtotal 2 (G17)\",\"\")",null,null,null,null,null,null,null,null,null,{"$f":"_xlfn.FORMULATEXT('Category Sets A-D'!D29)","v":"=SUM(D16:D28)"},{"$f":"_xlfn.FORMULATEXT(G17)","v":"{=IFERROR(HYPERLINK(\"#'C089'!\"&ADDRESS(ROW(INDEX(CurrentListing_C089,MATCH(W17,CurrentListing_C089,0),1)),20),AA17),HYPERLINK(\"#'C089'!\"&\"$V$12\",AA17))}"},null,false,true,1]
["B/4",{"$f":"SUM('Category Sets A-D'!B48,'Category Sets A-D'!J48,'Category Sets A-D'!R48,'Category Sets A-D'!Z48,'Category Sets A-D'!AH48,'Category Sets A-D'!AP48,'Category Sets A-D'!AX48,'Category Sets A-D'!BF48,'Category Sets A-D'!BN48)","v":0},{"$f":"K15","v":"MC"},null,{"$f":"IF(B85=\"\",0,IF(OR(B85=\"No Data\",B85<>C85),1,0))","v":1},{"$f":"IF(OR(B85=\"MC\",C85=\"MC\"),\"V12\",\"B48\")","v":"V12"},"C089",{"$f":"IF(OR(B85=\"MC\",C85=\"MC\"),\"V12\",\"K15\")","v":"V12"},"C089",{"$f":"IF(E85=1,\"Calculated total of Hispanic/Latino in Category Set B (B48+J48+R48+Z48+AH48+AP48+AX48+BF48+BN48) ≠ Subtotal 4 (K15)\",\"\")","v":"Calculated total of Hispanic/Latino in Category Set B (B48+J48+R48+Z48+AH48+AP48+AX48+BF48+BN48) ≠ Subtotal 4 (K15)"},null,null,null,null,null,null,null,null,null,"=IF(E85=1,\"Calculated total of Hispanic/Latino in Category Set B (B48+J48+R48+Z48+AH48+AP48+AX48+BF48+BN48) ≠ Subtotal 4 (K15)\",\"\")",null,null,null,null,null,null,null,null,null,{"$f":"_xlfn.FORMULATEXT('Category Sets A-D'!B48)","v":"=SUM(B35:B47)"},{"$f":"_xlfn.FORMULATEXT(K15)","v":"{=IFERROR(HYPERLINK(\"#'C089'!\"&ADDRESS(ROW(INDEX(CurrentListing_C089,MATCH(AF15,CurrentListing_C089,0),1)),20),AI15),HYPERLINK(\"#'C089'!\"&\"$V$12\",AI15))}"},null,false,true,1]
["B/4",{"$f":"SUM('Category Sets A-D'!C48,'Category Sets A-D'!K48,'Category Sets A-D'!S48,'Category Sets A-D'!AA48,'Category Sets A-D'!AI48,'Category Sets A-D'!AQ48,'Category Sets A-D'!AY48,'Category Sets A-D'!BG48,,'Category Sets A-D'!BO48)","v":0},"MC",null,1,{"$f":"IF(OR(B86=\"MC\",C86=\"MC\"),\"V12\",\"C48\")","v":"V12"},"C089",{"$f":"IF(OR(B86=\"MC\",C86=\"MC\"),\"V12\",\"K16\")","v":"V12"},"C089",{"$f":"IF(E86=1,\"Calculated total of American Indian or Alaska Native in Category Set B (C48+K48+S48+AA48+AI48+AQ48+AY48+BG48+BO48) ≠ Subtotal 4 (K16)\",\"\")","v":"Calculated total of American Indian or Alaska Native in Category Set B (C48+K48+S48+AA48+AI48+AQ48+AY48+BG48+BO48) ≠ Subtotal 4 (K16)"},null,null,null,null,null,null,null,null,null,"=IF(E86=1,\"Calculated total of American Indian or Alaska Native in Category Set B (C48+K48+S48+AA48+AI48+AQ48+AY48+BG48+BO48) ≠ Subtotal 4 (K16)\",\"\")",null,null,null,null,null,null,null,null,null,{"$f":"_xlfn.FORMULATEXT('Category Sets A-D'!C48)","v":"=SUM(C35:C47)"},"{=IFERROR(HYPERLINK(\"#'C089'!\"&ADDRESS(ROW(INDEX(CurrentListing_C089,MATCH(AF16,CurrentListing_C089,0),1)),20),AI16),HYPERLINK(\"#'C089'!\"&\"$V$12\",AI16))}",null,false,true,1]
["B/4",{"$f":"SUM('Category Sets A-D'!D48,'Category Sets A-D'!L48,'Category Sets A-D'!T48,'Category Sets A-D'!AB48,'Category Sets A-D'!AJ48,'Category Sets A-D'!AR48,'Category Sets A-D'!AZ48,'Category Sets A-D'!BH48,'Category Sets A-D'!BP48)","v":0},"MC",null,1,{"$f":"IF(OR(B87=\"MC\",C87=\"MC\"),\"V12\",\"D48\")","v":"V12"},"C089",{"$f":"IF(OR(B87=\"MC\",C87=\"MC\"),\"V12\",\"K17\")","v":"V12"},"C089",{"$f":"IF(E87=1,\"Calculated total of Asian in Category Set B (D48+L48+T48+AB48+AJ48+AR48+AZ48+BH48+BP48) ≠ Subtotal 4 (K17)\",\"\")","v":"Calculated total of Asian in Category Set B (D48+L48+T48+AB48+AJ48+AR48+AZ48+BH48+BP48) ≠ Subtotal 4 (K17)"},null,null,null,null,null,null,null,null,null,"=IF(E87=1,\"Calculated total of Asian in Category Set B (D48+L48+T48+AB48+AJ48+AR48+AZ48+BH48+BP48) ≠ Subtotal 4 (K17)\",\"\")",null,null,null,null,null,null,null,null,null,{"$f":"_xlfn.FORMULATEXT('Category Sets A-D'!D48)","v":"=SUM(D35:D47)"},"{=IFERROR(HYPERLINK(\"#'C089'!\"&ADDRESS(ROW(INDEX(CurrentListing_C089,MATCH(AF17,CurrentListing_C089,0),1)),20),AI17),HYPERLINK(\"#'C089'!\"&\"$V$12\",AI17))}",null,false,true,1]
["B/4",{"$f":"SUM('Category Sets A-D'!E48,'Category Sets A-D'!M48,'Category Sets A-D'!U48,'Category Sets A-D'!AC48,'Category Sets A-D'!AK48,'Category Sets A-D'!AS48,'Category Sets A-D'!BA48,'Category Sets A-D'!BI48,'Category Sets A-D'!BQ48)","v":0},"MC",null,1,{"$f":"IF(OR(B88=\"MC\",C88=\"MC\"),\"V12\",\"E48\")","v":"V12"},"C089",{"$f":"IF(OR(B88=\"MC\",C88=\"MC\"),\"V12\",\"K18\")","v":"V12"},"C089",{"$f":"IF(E88=1,\"Calculated total of Black or African American in Category Set B (E48+M48+U48+AC48+AK48+AS48+BA48+BI48+BQ48) ≠ Subtotal 4 (K18)\",\"\")","v":"Calculated total of Black or African American in Category Set B (E48+M48+U48+AC48+AK48+AS48+BA48+BI48+BQ48) ≠ Subtotal 4 (K18)"},null,null,null,null,null,null,null,null,null,"=IF(E88=1,\"Calculated total of Black or African American in Category Set B (E48+M48+U48+AC48+AK48+AS48+BA48+BI48+BQ48) ≠ Subtotal 4 (K18)\",\"\")",null,null,null,null,null,null,null,null,null,{"$f":"_xlfn.FORMULATEXT('Category Sets A-D'!E48)","v":"=SUM(E35:E47)"},"{=IFERROR(HYPERLINK(\"#'C089'!\"&ADDRESS(ROW(INDEX(CurrentListing_C089,MATCH(AF18,CurrentListing_C089,0),1)),20),AI18),HYPERLINK(\"#'C089'!\"&\"$V$12\",AI18))}",null,false,true,1]
["B/4",{"$f":"SUM('Category Sets A-D'!F48,'Category Sets A-D'!N48,'Category Sets A-D'!V48,'Category Sets A-D'!AD48,'Category Sets A-D'!AL48,'Category Sets A-D'!AT48,'Category Sets A-D'!BB48,'Category Sets A-D'!BJ48,'Category Sets A-D'!BR48)","v":0},"MC",null,1,{"$f":"IF(OR(B89=\"MC\",C89=\"MC\"),\"V12\",\"F48\")","v":"V12"},"C089",{"$f":"IF(OR(B89=\"MC\",C89=\"MC\"),\"V12\",\"K19\")","v":"V12"},"C089",{"$f":"IF(E89=1,\"Calculated total of Native Hawaiian or Other Pacific Islander in Category Set B (F48+N48+V48+AD48+AL48+AT48+BB48+BJ48+BR48) ≠ Subtotal 4 (K19)\",\"\")","v":"Calculated total of Native Hawaiian or Other Pacific Islander in Category Set B (F48+N48+V48+AD48+AL48+AT48+BB48+BJ48+BR48) ≠ Subtotal 4 (K19)"},null,null,null,null,null,null,null,null,null,"=IF(E89=1,\"Calculated total of Native Hawaiian or Other Pacific Islander in Category Set B (F48+N48+V48+AD48+AL48+AT48+BB48+BJ48+BR48) ≠ Subtotal 4 (K19)\",\"\")",null,null,null,null,null,null,null,null,null,{"$f":"_xlfn.FORMULATEXT('Category Sets A-D'!F48)","v":"=SUM(F35:F47)"},"{=IFERROR(HYPERLINK(\"#'C089'!\"&ADDRESS(ROW(INDEX(CurrentListing_C089,MATCH(AF19,CurrentListing_C089,0),1)),20),AI19),HYPERLINK(\"#'C089'!\"&\"$V$12\",AI19))}",null,false,true,1]
["B/4",{"$f":"SUM('Category Sets A-D'!G48,'Category Sets A-D'!O48,'Category Sets A-D'!W48,'Category Sets A-D'!AE48,'Category Sets A-D'!AM48,'Category Sets A-D'!AU48,'Category Sets A-D'!BC48,'Category Sets A-D'!BK48,'Category Sets A-D'!BS48)","v":0},"MC",null,1,{"$f":"IF(OR(B90=\"MC\",C90=\"MC\"),\"V12\",\"G48\")","v":"V12"},"C089",{"$f":"IF(OR(B90=\"MC\",C90=\"MC\"),\"V12\",\"K20\")","v":"V12"},"C089",{"$f":"IF(E90=1,\"Calculated total of White in Category Set B (G48+O48+W48+AE48+AM48+AU48+BC48+BK48+BS48) ≠ Subtotal 4 (K20)\",\"\")","v":"Calculated total of White in Category Set B (G48+O48+W48+AE48+AM48+AU48+BC48+BK48+BS48) ≠ Subtotal 4 (K20)"},null,null,null,null,null,null,null,null,null,"=IF(E90=1,\"Calculated total of White in Category Set B (G48+O48+W48+AE48+AM48+AU48+BC48+BK48+BS48) ≠ Subtotal 4 (K20)\",\"\")",null,null,null,null,null,null,null,null,null,{"$f":"_xlfn.FORMULATEXT('Category Sets A-D'!G48)","v":"=SUM(G35:G47)"},"{=IFERROR(HYPERLINK(\"#'C089'!\"&ADDRESS(ROW(INDEX(CurrentListing_C089,MATCH(AF20,CurrentListing_C089,0),1)),20),AI20),HYPERLINK(\"#'C089'!\"&\"$V$12\",AI20))}",null,false,true,1]
["B/4",{"$f":"SUM('Category Sets A-D'!H48,'Category Sets A-D'!P48,'Category Sets A-D'!X48,'Category Sets A-D'!AF48,'Category Sets A-D'!AN48,'Category Sets A-D'!AV48,'Category Sets A-D'!BD48,'Category Sets A-D'!BL48,'Category Sets A-D'!BT48)","v":0},"MC",null,1,{"$f":"IF(OR(B91=\"MC\",C91=\"MC\"),\"V12\",\"H48\")","v":"V12"},"C089",{"$f":"IF(OR(B91=\"MC\",C91=\"MC\"),\"V12\",\"K21\")","v":"V12"},"C089",{"$f":"IF(E91=1,\"Calculated total of Two or more races in Category Set B (H48+P48+X48+AF48+AN48+AV48+BD48+BL48+BT48) ≠ Subtotal 4 (K21)\",\"\")","v":"Calculated total of Two or more races in Category Set B (H48+P48+X48+AF48+AN48+AV48+BD48+BL48+BT48) ≠ Subtotal 4 (K21)"},null,null,null,null,null,null,null,null,null,"=IF(E91=1,\"Calculated total of Two or more races in Category Set B (H48+P48+X48+AF48+AN48+AV48+BD48+BL48+BT48) ≠ Subtotal 4 (K21)\",\"\")",null,null,null,null,null,null,null,null,null,{"$f":"_xlfn.FORMULATEXT('Category Sets A-D'!H48)","v":"=SUM(H35:H47)"},"{=IFERROR(HYPERLINK(\"#'C089'!\"&ADDRESS(ROW(INDEX(CurrentListing_C089,MATCH(AF21,CurrentListing_C089,0),1)),20),AI21),HYPERLINK(\"#'C089'!\"&\"$V$12\",AI21))}",null,false,true,1]
["D/5",{"$f":"SUM('Category Sets A-D'!S52:S60)","v":0},{"$f":"G30","v":"MC"},null,1,{"$f":"IF(OR(B92=\"MC\",C92=\"MC\"),\"V12\",\"S52\")","v":"V12"},"C089",{"$f":"IF(OR(B92=\"MC\",C92=\"MC\"),\"V12\",\"G30\")","v":"V12"},"C089",{"$f":"IF(E92=1,\"Calculated total of LEP in Category Set D (S52+S53+S54+S55+S56+S57+S58+S59+S60)  ≠ Subtotal 5 (G30)\",\"\")","v":"Calculated total of LEP in Category Set D (S52+S53+S54+S55+S56+S57+S58+S59+S60)  ≠ Subtotal 5 (G30)"},null,null,null,null,null,null,null,null,null,"=IF(E92=1,\"Calculated total of LEP in Category Set D (S52+S53+S54+S55+S56+S57+S58+S59+S60)  ≠ Subtotal 5 (G30)\",\"\")",null,null,null,null,null,null,null,null,null,{"$f":"_xlfn.FORMULATEXT('Category Sets A-D'!S52)","v":"{=IFERROR(HYPERLINK(\"#'C089'!\"&ADDRESS(ROW(INDEX(CurrentListing_C089,MATCH(CK52,CurrentListing_C089,0),1)),20),CV52),HYPERLINK(\"#'C089'!\"&\"$V$12\",CV52))}"},{"$f":"_xlfn.FORMULATEXT(G30)","v":"{=IFERROR(HYPERLINK(\"#'C089'!\"&ADDRESS(ROW(INDEX(CurrentListing_C089,MATCH(W30,CurrentListing_C089,0),1)),20),AA30),HYPERLINK(\"#'C089'!\"&\"$V$12\",AA30))}"},null,true,true,1]
["D/5",{"$f":"SUM('Category Sets A-D'!T52:T60)","v":0},{"$f":"G31","v":"MC"},null,1,{"$f":"IF(OR(B93=\"MC\",C93=\"MC\"),\"V12\",\"T52\")","v":"V12"},"C089",{"$f":"IF(OR(B93=\"MC\",C93=\"MC\"),\"V12\",\"G31\")","v":"V12"},"C089",{"$f":"IF(E93=1,\"Calculated total of Non-LEP in Category Set D (T52+T53+T54+T55+T56+T57+T58+T59+T60)  ≠ Subtotal 5 (G31)\",\"\")","v":"Calculated total of Non-LEP in Category Set D (T52+T53+T54+T55+T56+T57+T58+T59+T60)  ≠ Subtotal 5 (G31)"},null,null,null,null,null,null,null,null,null,"=IF(E93=1,\"Calculated total of Non-LEP in Category Set D (T52+T53+T54+T55+T56+T57+T58+T59+T60)  ≠ Subtotal 5 (G31)\",\"\")",null,null,null,null,null,null,null,null,null,{"$f":"_xlfn.FORMULATEXT('Category Sets A-D'!T52)","v":"{=IFERROR(HYPERLINK(\"#'C089'!\"&ADDRESS(ROW(INDEX(CurrentListing_C089,MATCH(CL52,CurrentListing_C089,0),1)),20),CW52),HYPERLINK(\"#'C089'!\"&\"$V$12\",CW52))}"},{"$f":"_xlfn.FORMULATEXT(G31)","v":"{=IFERROR(HYPERLINK(\"#'C089'!\"&ADDRESS(ROW(INDEX(CurrentListing_C089,MATCH(W31,CurrentListing_C089,0),1)),20),AA31),HYPERLINK(\"#'C089'!\"&\"$V$12\",AA31))}"},null,true,true,1]
["A/6",{"$f":"'Category Sets A-D'!E29","v":0},{"$f":"G36","v":"MC"},null,1,{"$f":"IF(OR(B94=\"MC\",C94=\"MC\"),\"V12\",\"E29\")","v":"V12"},"C089",{"$f":"IF(OR(B94=\"MC\",C94=\"MC\"),\"V12\",\"G36\")","v":"V12"},"C089",{"$f":"IF(E94=1,\"Calculated total of Educational Environment A1 in Category Set A (E29)  ≠  Subtotal 6 (G36)\",\"\")","v":"Calculated total of Educational Environment A1 in Category Set A (E29)  ≠  Subtotal 6 (G36)"},null,null,null,null,null,null,null,null,null,"=IF(E94=1,\"Calculated total of Educational Environment A1 in Category Set A (E29)  ≠  Subtotal 6 (G36)\",\"\")",null,null,null,null,null,null,null,null,null,{"$f":"_xlfn.FORMULATEXT('Category Sets A-D'!E29)","v":"=SUM(E16:E28)"},{"$f":"_xlfn.FORMULATEXT(G36)","v":"{=IFERROR(HYPERLINK(\"#'C089'!\"&ADDRESS(ROW(INDEX(CurrentListing_C089,MATCH(P36,CurrentListing_C089,0),1)),20),X36),HYPERLINK(\"#'C089'!\"&\"$V$12\",X36))}"},null,false,true,1]
["A/6",{"$f":"'Category Sets A-D'!I29","v":0},"MC",null,1,{"$f":"IF(OR(B95=\"MC\",C95=\"MC\"),\"V12\",\"I29\")","v":"V12"},"C089",{"$f":"IF(OR(B95=\"MC\",C95=\"MC\"),\"V12\",\"G37\")","v":"V12"},"C089",{"$f":"IF(E95=1,\"Calculated total of Educational Environment A2 in Category Set A (I29)  ≠  Subtotal 6 (G37)\",\"\")","v":"Calculated total of Educational Environment A2 in Category Set A (I29)  ≠  Subtotal 6 (G37)"},null,null,null,null,null,null,null,null,null,"=IF(E95=1,\"Calculated total of Educational Environment A2 in Category Set A (I29)  ≠  Subtotal 6 (G37)\",\"\")",null,null,null,null,null,null,null,null,null,{"$f":"_xlfn.FORMULATEXT('Category Sets A-D'!I29)","v":"=SUM(I16:I28)"},"{=IFERROR(HYPERLINK(\"#'C089'!\"&ADDRESS(ROW(INDEX(CurrentListing_C089,MATCH(P37,CurrentListing_C089,0),1)),20),X37),HYPERLINK(\"#'C089'!\"&\"$V$12\",X37))}",null,false,true,1]
["A/6",{"$f":"'Category Sets A-D'!M29","v":0},"MC",null,1,{"$f":"IF(OR(B96=\"MC\",C96=\"MC\"),\"V12\",\"M29\")","v":"V12"},"C089",{"$f":"IF(OR(B96=\"MC\",C96=\"MC\"),\"V12\",\"G38\")","v":"V12"},"C089",{"$f":"IF(E96=1,\"Calculated total of Educational Environment B1 in Category Set A (M29)  ≠  Subtotal 6 (G38)\",\"\")","v":"Calculated total of Educational Environment B1 in Category Set A (M29)  ≠  Subtotal 6 (G38)"},null,null,null,null,null,null,null,null,null,"=IF(E96=1,\"Calculated total of Educational Environment B1 in Category Set A (M29)  ≠  Subtotal 6 (G38)\",\"\")",null,null,null,null,null,null,null,null,null,{"$f":"_xlfn.FORMULATEXT('Category Sets A-D'!M29)","v":"=SUM(M16:M28)"},"{=IFERROR(HYPERLINK(\"#'C089'!\"&ADDRESS(ROW(INDEX(CurrentListing_C089,MATCH(P38,CurrentListing_C089,0),1)),20),X38),HYPERLINK(\"#'C089'!\"&\"$V$12\",X38))}",null,false,true,1]
["A/6",{"$f":"'Category Sets A-D'!Q29","v":0},"MC",null,1,{"$f":"IF(OR(B97=\"MC\",C97=\"MC\"),\"V12\",\"Q29\")","v":"V12"},"C089",{"$f":"IF(OR(B97=\"MC\",C97=\"MC\"),\"V12\",\"G39\")","v":"V12"},"C089",{"$f":"IF(E97=1,\"Calculated total of Educational Environment B2 in Category Set A (Q29)  ≠  Subtotal 6 (G39)\",\"\")","v":"Calculated total of Educational Environment B2 in Category Set A (Q29)  ≠  Subtotal 6 (G39)"},null,null,null,null,null,null,null,null,null,"=IF(E97=1,\"Calculated total of Educational Environment B2 in Category Set A (Q29)  ≠  Subtotal 6 (G39)\",\"\")",null,null,null,null,null,null,null,null,null,{"$f":"_xlfn.FORMULATEXT('Category Sets A-D'!Q29)","v":"=SUM(Q16:Q28)"},"{=IFERROR(HYPERLINK(\"#'C089'!\"&ADDRESS(ROW(INDEX(CurrentListing_C089,MATCH(P39,CurrentListing_C089,0),1)),20),X39),HYPERLINK(\"#'C089'!\"&\"$V$12\",X39))}",null,false,true,1]
["A/6",{"$f":"'Category Sets A-D'!U29","v":0},"MC",null,1,{"$f":"IF(OR(B98=\"MC\",C98=\"MC\"),\"V12\",\"U29\")","v":"V12"},"C089",{"$f":"IF(OR(B98=\"MC\",C98=\"MC\"),\"V12\",\"G40\")","v":"V12"},"C089",{"$f":"IF(E98=1,\"Calculated total of Educational Environment C1 in Category Set A (U29)  ≠  Subtotal 6 (G40)\",\"\")","v":"Calculated total of Educational Environment C1 in Category Set A (U29)  ≠  Subtotal 6 (G40)"},null,null,null,null,null,null,null,null,null,"=IF(E98=1,\"Calculated total of Educational Environment C1 in Category Set A (U29)  ≠  Subtotal 6 (G40)\",\"\")",null,null,null,null,null,null,null,null,null,{"$f":"_xlfn.FORMULATEXT('Category Sets A-D'!U29)","v":"=SUM(U16:U28)"},"{=IFERROR(HYPERLINK(\"#'C089'!\"&ADDRESS(ROW(INDEX(CurrentListing_C089,MATCH(P40,CurrentListing_C089,0),1)),20),X40),HYPERLINK(\"#'C089'!\"&\"$V$12\",X40))}",null,false,true,1]
["A/6",{"$f":"'Category Sets A-D'!Y29","v":0},"MC",null,1,{"$f":"IF(OR(B99=\"MC\",C99=\"MC\"),\"V12\",\"Y29\")","v":"V12"},"C089",{"$f":"IF(OR(B99=\"MC\",C99=\"MC\"),\"V12\",\"G41\")","v":"V12"},"C089",{"$f":"IF(E99=1,\"Calculated total of Educational Environment C2 in Category Set A (Y29)  ≠  Subtotal 6 (G41)\",\"\")","v":"Calculated total of Educational Environment C2 in Category Set A (Y29)  ≠  Subtotal 6 (G41)"},null,null,null,null,null,null,null,null,null,"=IF(E99=1,\"Calculated total of Educational Environment C2 in Category Set A (Y29)  ≠  Subtotal 6 (G41)\",\"\")",null,null,null,null,null,null,null,null,null,{"$f":"_xlfn.FORMULATEXT('Category Sets A-D'!Y29)","v":"=SUM(Y16:Y28)"},"{=IFERROR(HYPERLINK(\"#'C089'!\"&ADDRESS(ROW(INDEX(CurrentListing_C089,MATCH(P41,CurrentListing_C089,0),1)),20),X41),HYPERLINK(\"#'C089'!\"&\"$V$12\",X41))}",null,false,true,1]
["A/6",{"$f":"'Category Sets A-D'!AC29","v":0},"MC",null,1,{"$f":"IF(OR(B100=\"MC\",C100=\"MC\"),\"V12\",\"AC29\")","v":"V12"},"C089",{"$f":"IF(OR(B100=\"MC\",C100=\"MC\"),\"V12\",\"G42\")","v":"V12"},"C089",{"$f":"IF(E100=1,\"Calculated total of Educational Environment C3 in Category Set A (AC29)  ≠  Subtotal 6 (G42)\",\"\")","v":"Calculated total of Educational Environment C3 in Category Set A (AC29)  ≠  Subtotal 6 (G42)"},null,null,null,null,null,null,null,null,null,"=IF(E100=1,\"Calculated total of Educational Environment C3 in Category Set A (AC29)  ≠  Subtotal 6 (G42)\",\"\")",null,null,null,null,null,null,null,null,null,{"$f":"_xlfn.FORMULATEXT('Category Sets A-D'!AC29)","v":"=SUM(AC16:AC28)"},"{=IFERROR(HYPERLINK(\"#'C089'!\"&ADDRESS(ROW(INDEX(CurrentListing_C089,MATCH(P42,CurrentListing_C089,0),1)),20),X42),HYPERLINK(\"#'C089'!\"&\"$V$12\",X42))}",null,false,true,1]
["A/6",{"$f":"'Category Sets A-D'!AG29","v":0},"MC",null,1,{"$f":"IF(OR(B101=\"MC\",C101=\"MC\"),\"V12\",\"AG29\")","v":"V12"},"C089",{"$f":"IF(OR(B101=\"MC\",C101=\"MC\"),\"V12\",\"G43\")","v":"V12"},"C089",{"$f":"IF(E101=1,\"Calculated total of Educational Environment D1 in Category Set A (AG29)  ≠  Subtotal 6 (G43)\",\"\")","v":"Calculated total of Educational Environment D1 in Category Set A (AG29)  ≠  Subtotal 6 (G43)"},null,null,null,null,null,null,null,null,null,"=IF(E101=1,\"Calculated total of Educational Environment D1 in Category Set A (AG29)  ≠  Subtotal 6 (G43)\",\"\")",null,null,null,null,null,null,null,null,null,{"$f":"_xlfn.FORMULATEXT('Category Sets A-D'!AG29)","v":"=SUM(AG16:AG28)"},"{=IFERROR(HYPERLINK(\"#'C089'!\"&ADDRESS(ROW(INDEX(CurrentListing_C089,MATCH(P43,CurrentListing_C089,0),1)),20),X43),HYPERLINK(\"#'C089'!\"&\"$V$12\",X43))}",null,false,true,1]
["A/6",{"$f":"'Category Sets A-D'!AK29","v":0},"MC",null,1,{"$f":"IF(OR(B102=\"MC\",C102=\"MC\"),\"V12\",\"AK29\")","v":"V12"},"C089",{"$f":"IF(OR(B102=\"MC\",C102=\"MC\"),\"V12\",\"G44\")","v":"V12"},"C089",{"$f":"IF(E102=1,\"Calculated total of Educational Environment D2 in Category Set A (AK29)  ≠  Subtotal 6 (G44)\",\"\")","v":"Calculated total of Educational Environment D2 in Category Set A (AK29)  ≠  Subtotal 6 (G44)"},null,null,null,null,null,null,null,null,null,"=IF(E102=1,\"Calculated total of Educational Environment D2 in Category Set A (AK29)  ≠  Subtotal 6 (G44)\",\"\")",null,null,null,null,null,null,null,null,null,{"$f":"_xlfn.FORMULATEXT('Category Sets A-D'!AK29)","v":"=SUM(AK16:AK28)"},"{=IFERROR(HYPERLINK(\"#'C089'!\"&ADDRESS(ROW(INDEX(CurrentListing_C089,MATCH(P44,CurrentListing_C089,0),1)),20),X44),HYPERLINK(\"#'C089'!\"&\"$V$12\",X44))}",null,false,true,1]
["B/6",{"$f":"'Category Sets A-D'!I48","v":0},{"$f":"G36","v":"MC"},null,1,{"$f":"IF(OR(B103=\"MC\",C103=\"MC\"),\"V12\",\"I48\")","v":"V12"},"C089",{"$f":"IF(OR(B103=\"MC\",C103=\"MC\"),\"V12\",\"G36\")","v":"V12"},"C089",{"$f":"IF(E103=1,\"Calculated total of Educational Environment A1 in Category Set B (I48)  ≠  Subtotal 6 (G36)\",\"\")","v":"Calculated total of Educational Environment A1 in Category Set B (I48)  ≠  Subtotal 6 (G36)"},null,null,null,null,null,null,null,null,null,"=IF(E103=1,\"Calculated total of Educational Environment A1 in Category Set B (I48)  ≠  Subtotal 6 (G36)\",\"\")",null,null,null,null,null,null,null,null,null,{"$f":"_xlfn.FORMULATEXT('Category Sets A-D'!I48)","v":"=SUM(I35:I47)"},{"$f":"_xlfn.FORMULATEXT(G36)","v":"{=IFERROR(HYPERLINK(\"#'C089'!\"&ADDRESS(ROW(INDEX(CurrentListing_C089,MATCH(P36,CurrentListing_C089,0),1)),20),X36),HYPERLINK(\"#'C089'!\"&\"$V$12\",X36))}"},null,false,true,1]
["B/6",{"$f":"'Category Sets A-D'!Q48","v":0},"MC",null,1,{"$f":"IF(OR(B104=\"MC\",C104=\"MC\"),\"V12\",\"Q48\")","v":"V12"},"C089",{"$f":"IF(OR(B104=\"MC\",C104=\"MC\"),\"V12\",\"G37\")","v":"V12"},"C089",{"$f":"IF(E104=1,\"Calculated total of Educational Environment A2 in Category Set B (Q48)  ≠  Subtotal 6 (G37)\",\"\")","v":"Calculated total of Educational Environment A2 in Category Set B (Q48)  ≠  Subtotal 6 (G37)"},null,null,null,null,null,null,null,null,null,"=IF(E104=1,\"Calculated total of Educational Environment A2 in Category Set B (Q48)  ≠  Subtotal 6 (G37)\",\"\")",null,null,null,null,null,null,null,null,null,{"$f":"_xlfn.FORMULATEXT('Category Sets A-D'!Q48)","v":"=SUM(Q35:Q47)"},"{=IFERROR(HYPERLINK(\"#'C089'!\"&ADDRESS(ROW(INDEX(CurrentListing_C089,MATCH(P37,CurrentListing_C089,0),1)),20),X37),HYPERLINK(\"#'C089'!\"&\"$V$12\",X37))}",null,false,true,1]
["B/6",{"$f":"'Category Sets A-D'!Y48","v":0},"MC",null,1,{"$f":"IF(OR(B105=\"MC\",C105=\"MC\"),\"V12\",\"Y48\")","v":"V12"},"C089",{"$f":"IF(OR(B105=\"MC\",C105=\"MC\"),\"V12\",\"G38\")","v":"V12"},"C089",{"$f":"IF(E105=1,\"Calculated total of Educational Environment B1 in Category Set B (Y48)  ≠  Subtotal 6 (G38)\",\"\")","v":"Calculated total of Educational Environment B1 in Category Set B (Y48)  ≠  Subtotal 6 (G38)"},null,null,null,null,null,null,null,null,null,"=IF(E105=1,\"Calculated total of Educational Environment B1 in Category Set B (Y48)  ≠  Subtotal 6 (G38)\",\"\")",null,null,null,null,null,null,null,null,null,{"$f":"_xlfn.FORMULATEXT('Category Sets A-D'!Y48)","v":"=SUM(Y35:Y47)"},"{=IFERROR(HYPERLINK(\"#'C089'!\"&ADDRESS(ROW(INDEX(CurrentListing_C089,MATCH(P38,CurrentListing_C089,0),1)),20),X38),HYPERLINK(\"#'C089'!\"&\"$V$12\",X38))}",null,false,true,1]
["B/6",{"$f":"'Category Sets A-D'!AG48","v":0},"MC",null,1,{"$f":"IF(OR(B106=\"MC\",C106=\"MC\"),\"V12\",\"AG48\")","v":"V12"},"C089",{"$f":"IF(OR(B106=\"MC\",C106=\"MC\"),\"V12\",\"G39\")","v":"V12"},"C089",{"$f":"IF(E106=1,\"Calculated total of Educational Environment B2 in Category Set B (AG48)  ≠  Subtotal 6 (G39)\",\"\")","v":"Calculated total of Educational Environment B2 in Category Set B (AG48)  ≠  Subtotal 6 (G39)"},null,null,null,null,null,null,null,null,null,"=IF(E106=1,\"Calculated total of Educational Environment B2 in Category Set B (AG48)  ≠  Subtotal 6 (G39)\",\"\")",null,null,null,null,null,null,null,null,null,{"$f":"_xlfn.FORMULATEXT('Category Sets A-D'!AG48)","v":"=SUM(AG35:AG47)"},"{=IFERROR(HYPERLINK(\"#'C089'!\"&ADDRESS(ROW(INDEX(CurrentListing_C089,MATCH(P39,CurrentListing_C089,0),1)),20),X39),HYPERLINK(\"#'C089'!\"&\"$V$12\",X39))}",null,false,true,1]
["B/6",{"$f":"'Category Sets A-D'!AO48","v":0},"MC",null,1,{"$f":"IF(OR(B107=\"MC\",C107=\"MC\"),\"V12\",\"AO48\")","v":"V12"},"C089",{"$f":"IF(OR(B107=\"MC\",C107=\"MC\"),\"V12\",\"G40\")","v":"V12"},"C089",{"$f":"IF(E107=1,\"Calculated total of Educational Environment C1 in Category Set B (AO48)  ≠  Subtotal 6 (G40)\",\"\")","v":"Calculated total of Educational Environment C1 in Category Set B (AO48)  ≠  Subtotal 6 (G40)"},null,null,null,null,null,null,null,null,null,"=IF(E107=1,\"Calculated total of Educational Environment C1 in Category Set B (AO48)  ≠  Subtotal 6 (G40)\",\"\")",null,null,null,null,null,null,null,null,null,{"$f":"_xlfn.FORMULATEXT('Category Sets A-D'!AO48)","v":"=SUM(AO35:AO47)"},"{=IFERROR(HYPERLINK(\"#'C089'!\"&ADDRESS(ROW(INDEX(CurrentListing_C089,MATCH(P40,CurrentListing_C089,0),1)),20),X40),HYPERLINK(\"#'C089'!\"&\"$V$12\",X40))}",null,false,true,1]
["B/6",{"$f":"'Category Sets A-D'!AW48","v":0},"MC",null,1,{"$f":"IF(OR(B108=\"MC\",C108=\"MC\"),\"V12\",\"AW48\")","v":"V12"},"C089",{"$f":"IF(OR(B108=\"MC\",C108=\"MC\"),\"V12\",\"G41\")","v":"V12"},"C089",{"$f":"IF(E108=1,\"Calculated total of Educational Environment C2 in Category Set B (AW48)  ≠  Subtotal 6 (G41)\",\"\")","v":"Calculated total of Educational Environment C2 in Category Set B (AW48)  ≠  Subtotal 6 (G41)"},null,null,null,null,null,null,null,null,null,"=IF(E108=1,\"Calculated total of Educational Environment C2 in Category Set B (AW48)  ≠  Subtotal 6 (G41)\",\"\")",null,null,null,null,null,null,null,null,null,{"$f":"_xlfn.FORMULATEXT('Category Sets A-D'!AW48)","v":"=SUM(AW35:AW47)"},"{=IFERROR(HYPERLINK(\"#'C089'!\"&ADDRESS(ROW(INDEX(CurrentListing_C089,MATCH(P41,CurrentListing_C089,0),1)),20),X41),HYPERLINK(\"#'C089'!\"&\"$V$12\",X41))}",null,false,true,1]
["B/6",{"$f":"'Category Sets A-D'!BE48","v":0},"MC",null,1,{"$f":"IF(OR(B109=\"MC\",C109=\"MC\"),\"V12\",\"BE48\")","v":"V12"},"C089",{"$f":"IF(OR(B109=\"MC\",C109=\"MC\"),\"V12\",\"G42\")","v":"V12"},"C089",{"$f":"IF(E109=1,\"Calculated total of Educational Environment C3 in Category Set B (BE48)  ≠  Subtotal 6 (G42)\",\"\")","v":"Calculated total of Educational Environment C3 in Category Set B (BE48)  ≠  Subtotal 6 (G42)"},null,null,null,null,null,null,null,null,null,"=IF(E109=1,\"Calculated total of Educational Environment C3 in Category Set B (BE48)  ≠  Subtotal 6 (G42)\",\"\")",null,null,null,null,null,null,null,null,null,{"$f":"_xlfn.FORMULATEXT('Category Sets A-D'!BE48)","v":"=SUM(BE35:BE47)"},"{=IFERROR(HYPERLINK(\"#'C089'!\"&ADDRESS(ROW(INDEX(CurrentListing_C089,MATCH(P42,CurrentListing_C089,0),1)),20),X42),HYPERLINK(\"#'C089'!\"&\"$V$12\",X42))}",null,false,true,1]
["B/6",{"$f":"'Category Sets A-D'!BM48","v":0},"MC",null,1,{"$f":"IF(OR(B110=\"MC\",C110=\"MC\"),\"V12\",\"BM48\")","v":"V12"},"C089",{"$f":"IF(OR(B110=\"MC\",C110=\"MC\"),\"V12\",\"G43\")","v":"V12"},"C089",{"$f":"IF(E110=1,\"Calculated total of Educational Environment D1 in Category Set B (BM48)  ≠  Subtotal 6 (G43)\",\"\")","v":"Calculated total of Educational Environment D1 in Category Set B (BM48)  ≠  Subtotal 6 (G43)"},null,null,null,null,null,null,null,null,null,"=IF(E110=1,\"Calculated total of Educational Environment D1 in Category Set B (BM48)  ≠  Subtotal 6 (G43)\",\"\")",null,null,null,null,null,null,null,null,null,{"$f":"_xlfn.FORMULATEXT('Category Sets A-D'!BM48)","v":"=SUM(BM35:BM47)"},"{=IFERROR(HYPERLINK(\"#'C089'!\"&ADDRESS(ROW(INDEX(CurrentListing_C089,MATCH(P43,CurrentListing_C089,0),1)),20),X43),HYPERLINK(\"#'C089'!\"&\"$V$12\",X43))}",null,false,true,1]
["B/6",{"$f":"'Category Sets A-D'!BU48","v":0},"MC",null,1,{"$f":"IF(OR(B111=\"MC\",C111=\"MC\"),\"V12\",\"BU48\")","v":"V12"},"C089",{"$f":"IF(OR(B111=\"MC\",C111=\"MC\"),\"V12\",\"G44\")","v":"V12"},"C089",{"$f":"IF(E111=1,\"Calculated total of Educational Environment D2 in Category Set B (BU48)  ≠  Subtotal 6 (G44)\",\"\")","v":"Calculated total of Educational Environment D2 in Category Set B (BU48)  ≠  Subtotal 6 (G44)"},null,null,null,null,null,null,null,null,null,"=IF(E111=1,\"Calculated total of Educational Environment D2 in Category Set B (BU48)  ≠  Subtotal 6 (G44)\",\"\")",null,null,null,null,null,null,null,null,null,{"$f":"_xlfn.FORMULATEXT('Category Sets A-D'!BU48)","v":"=SUM(BU35:BU47)"},"{=IFERROR(HYPERLINK(\"#'C089'!\"&ADDRESS(ROW(INDEX(CurrentListing_C089,MATCH(P44,CurrentListing_C089,0),1)),20),X44),HYPERLINK(\"#'C089'!\"&\"$V$12\",X44))}",null,false,true,1]
["C/6",{"$f":"'Category Sets A-D'!I52","v":0},{"$f":"G36","v":"MC"},null,1,{"$f":"IF(OR(B112=\"MC\",C112=\"MC\"),\"V12\",\"I52\")","v":"V12"},"C089",{"$f":"IF(OR(B112=\"MC\",C112=\"MC\"),\"V12\",\"G36\")","v":"V12"},"C089",{"$f":"IF(E112=1,\"Calculated total of Educational Environment A1 in Category Set C (I52)  ≠  Subtotal 6 (G36)\",\"\")","v":"Calculated total of Educational Environment A1 in Category Set C (I52)  ≠  Subtotal 6 (G36)"},null,null,null,null,null,null,null,null,null,"=IF(E112=1,\"Calculated total of Educational Environment A1 in Category Set C (I52)  ≠  Subtotal 6 (G36)\",\"\")",null,null,null,null,null,null,null,null,null,{"$f":"_xlfn.FORMULATEXT('Category Sets A-D'!I52)","v":"=SUM(G52:H52)"},{"$f":"_xlfn.FORMULATEXT(G36)","v":"{=IFERROR(HYPERLINK(\"#'C089'!\"&ADDRESS(ROW(INDEX(CurrentListing_C089,MATCH(P36,CurrentListing_C089,0),1)),20),X36),HYPERLINK(\"#'C089'!\"&\"$V$12\",X36))}"},null,false,true,1]
["C/6",{"$f":"'Category Sets A-D'!I53","v":0},"MC",null,1,{"$f":"IF(OR(B113=\"MC\",C113=\"MC\"),\"V12\",\"I53\")","v":"V12"},"C089",{"$f":"IF(OR(B113=\"MC\",C113=\"MC\"),\"V12\",\"G37\")","v":"V12"},"C089",{"$f":"IF(E113=1,\"Calculated total of Educational Environment A2 in Category Set C (I53)  ≠  Subtotal 6 (G37)\",\"\")","v":"Calculated total of Educational Environment A2 in Category Set C (I53)  ≠  Subtotal 6 (G37)"},null,null,null,null,null,null,null,null,null,"=IF(E113=1,\"Calculated total of Educational Environment A2 in Category Set C (I53)  ≠  Subtotal 6 (G37)\",\"\")",null,null,null,null,null,null,null,null,null,{"$f":"_xlfn.FORMULATEXT('Category Sets A-D'!I53)","v":"=SUM(G53:H53)"},"{=IFERROR(HYPERLINK(\"#'C089'!\"&ADDRESS(ROW(INDEX(CurrentListing_C089,MATCH(P37,CurrentListing_C089,0),1)),20),X37),HYPERLINK(\"#'C089'!\"&\"$V$12\",X37))}",null,false,true,1]
["C/6",{"$f":"'Category Sets A-D'!I54","v":0},"MC",null,1,{"$f":"IF(OR(B114=\"MC\",C114=\"MC\"),\"V12\",\"I54\")","v":"V12"},"C089",{"$f":"IF(OR(B114=\"MC\",C114=\"MC\"),\"V12\",\"G38\")","v":"V12"},"C089",{"$f":"IF(E114=1,\"Calculated total of Educational Environment B1 in Category Set C (I54)  ≠  Subtotal 6 (G38)\",\"\")","v":"Calculated total of Educational Environment B1 in Category Set C (I54)  ≠  Subtotal 6 (G38)"},null,null,null,null,null,null,null,null,null,"=IF(E114=1,\"Calculated total of Educational Environment B1 in Category Set C (I54)  ≠  Subtotal 6 (G38)\",\"\")",null,null,null,null,null,null,null,null,null,{"$f":"_xlfn.FORMULATEXT('Category Sets A-D'!I54)","v":"=SUM(G54:H54)"},"{=IFERROR(HYPERLINK(\"#'C089'!\"&ADDRESS(ROW(INDEX(CurrentListing_C089,MATCH(P38,CurrentListing_C089,0),1)),20),X38),HYPERLINK(\"#'C089'!\"&\"$V$12\",X38))}",null,false,true,1]
["C/6",{"$f":"'Category Sets A-D'!I55","v":0},"MC",null,1,{"$f":"IF(OR(B115=\"MC\",C115=\"MC\"),\"V12\",\"I55\")","v":"V12"},"C089",{"$f":"IF(OR(B115=\"MC\",C115=\"MC\"),\"V12\",\"G39\")","v":"V12"},"C089",{"$f":"IF(E115=1,\"Calculated total of Educational Environment B2 in Category Set C (I55)  ≠  Subtotal 6 (G39)\",\"\")","v":"Calculated total of Educational Environment B2 in Category Set C (I55)  ≠  Subtotal 6 (G39)"},null,null,null,null,null,null,null,null,null,"=IF(E115=1,\"Calculated total of Educational Environment B2 in Category Set C (I55)  ≠  Subtotal 6 (G39)\",\"\")",null,null,null,null,null,null,null,null,null,{"$f":"_xlfn.FORMULATEXT('Category Sets A-D'!I55)","v":"=SUM(G55:H55)"},"{=IFERROR(HYPERLINK(\"#'C089'!\"&ADDRESS(ROW(INDEX(CurrentListing_C089,MATCH(P39,CurrentListing_C089,0),1)),20),X39),HYPERLINK(\"#'C089'!\"&\"$V$12\",X39))}",null,false,true,1]
["C/6",{"$f":"'Category Sets A-D'!I56","v":0},"MC",null,1,{"$f":"IF(OR(B116=\"MC\",C116=\"MC\"),\"V12\",\"I56\")","v":"V12"},"C089",{"$f":"IF(OR(B116=\"MC\",C116=\"MC\"),\"V12\",\"G40\")","v":"V12"},"C089",{"$f":"IF(E116=1,\"Calculated total of Educational Environment C1 in Category Set C (I56)  ≠  Subtotal 6 (G40)\",\"\")","v":"Calculated total of Educational Environment C1 in Category Set C (I56)  ≠  Subtotal 6 (G40)"},null,null,null,null,null,null,null,null,null,"=IF(E116=1,\"Calculated total of Educational Environment C1 in Category Set C (I56)  ≠  Subtotal 6 (G40)\",\"\")",null,null,null,null,null,null,null,null,null,{"$f":"_xlfn.FORMULATEXT('Category Sets A-D'!I56)","v":"=SUM(G56:H56)"},"{=IFERROR(HYPERLINK(\"#'C089'!\"&ADDRESS(ROW(INDEX(CurrentListing_C089,MATCH(P40,CurrentListing_C089,0),1)),20),X40),HYPERLINK(\"#'C089'!\"&\"$V$12\",X40))}",null,false,true,1]
["C/6",{"$f":"'Category Sets A-D'!I57","v":0},"MC",null,1,{"$f":"IF(OR(B117=\"MC\",C117=\"MC\"),\"V12\",\"I57\")","v":"V12"},"C089",{"$f":"IF(OR(B117=\"MC\",C117=\"MC\"),\"V12\",\"G41\")","v":"V12"},"C089",{"$f":"IF(E117=1,\"Calculated total of Educational Environment C2 in Category Set C (I57)  ≠  Subtotal 6 (G41)\",\"\")","v":"Calculated total of Educational Environment C2 in Category Set C (I57)  ≠  Subtotal 6 (G41)"},null,null,null,null,null,null,null,null,null,"=IF(E117=1,\"Calculated total of Educational Environment C2 in Category Set C (I57)  ≠  Subtotal 6 (G41)\",\"\")",null,null,null,null,null,null,null,null,null,{"$f":"_xlfn.FORMULATEXT('Category Sets A-D'!I57)","v":"=SUM(G57:H57)"},"{=IFERROR(HYPERLINK(\"#'C089'!\"&ADDRESS(ROW(INDEX(CurrentListing_C089,MATCH(P41,CurrentListing_C089,0),1)),20),X41),HYPERLINK(\"#'C089'!\"&\"$V$12\",X41))}",null,false,true,1]
["C/6",{"$f":"'Category Sets A-D'!I58","v":0},"MC",null,1,{"$f":"IF(OR(B118=\"MC\",C118=\"MC\"),\"V12\",\"I58\")","v":"V12"},"C089",{"$f":"IF(OR(B118=\"MC\",C118=\"MC\"),\"V12\",\"G42\")","v":"V12"},{"$f":"IF(OR(B118=\"MC\",C118=\"MC\"),\"C089\",\"Subtotals\")","v":"C089"},{"$f":"IF(E118=1,\"Calculated total of Educational Environment C3 in Category Set C (I58)  ≠  Subtotal 6 (G42)\",\"\")","v":"Calculated total of Educational Environment C3 in Category Set C (I58)  ≠  Subtotal 6 (G42)"},null,null,null,null,null,null,null,null,null,{"$f":"_xlfn.FORMULATEXT(J118)","v":"=IF(E118=1,\"Calculated total of Educational Environment C3 in Category Set C (I58)  ≠  Subtotal 6 (G42)\",\"\")"},null,null,null,null,null,null,null,null,null,{"$f":"_xlfn.FORMULATEXT('Category Sets A-D'!I58)","v":"=SUM(G58:H58)"},"{=IFERROR(HYPERLINK(\"#'C089'!\"&ADDRESS(ROW(INDEX(CurrentListing_C089,MATCH(P42,CurrentListing_C089,0),1)),20),X42),HYPERLINK(\"#'C089'!\"&\"$V$12\",X42))}",null,{"$f":"ISNUMBER(SEARCH($AF$53,AD118))","v":false},{"$f":"ISNUMBER(SEARCH($AF$53,AE118))","v":true},{"$f":"IF(OR(AG118=TRUE,AH118=TRUE),1,0)","v":1}]
["C/6",{"$f":"'Category Sets A-D'!I59","v":0},"MC",null,1,{"$f":"IF(OR(B119=\"MC\",C119=\"MC\"),\"V12\",\"I59\")","v":"V12"},"C089",{"$f":"IF(OR(B119=\"MC\",C119=\"MC\"),\"V12\",\"G43\")","v":"V12"},"C089",{"$f":"IF(E119=1,\"Calculated total of Educational Environment D1 in Category Set C (I59)  ≠  Subtotal 6 (G43)\",\"\")","v":"Calculated total of Educational Environment D1 in Category Set C (I59)  ≠  Subtotal 6 (G43)"},null,null,null,null,null,null,null,null,null,"=IF(E119=1,\"Calculated total of Educational Environment D1 in Category Set C (I59)  ≠  Subtotal 6 (G43)\",\"\")",null,null,null,null,null,null,null,null,null,{"$f":"_xlfn.FORMULATEXT('Category Sets A-D'!I59)","v":"=SUM(G59:H59)"},"{=IFERROR(HYPERLINK(\"#'C089'!\"&ADDRESS(ROW(INDEX(CurrentListing_C089,MATCH(P43,CurrentListing_C089,0),1)),20),X43),HYPERLINK(\"#'C089'!\"&\"$V$12\",X43))}",null,false,true,1]
["C/6",{"$f":"'Category Sets A-D'!I60","v":0},"MC",null,1,{"$f":"IF(OR(B120=\"MC\",C120=\"MC\"),\"V12\",\"I60\")","v":"V12"},"C089",{"$f":"IF(OR(B120=\"MC\",C120=\"MC\"),\"V12\",\"G44\")","v":"V12"},"C089",{"$f":"IF(E120=1,\"Calculated total of Educational Environment D2 in Category Set C (I60)  ≠  Subtotal 6 (G44)\",\"\")","v":"Calculated total of Educational Environment D2 in Category Set C (I60)  ≠  Subtotal 6 (G44)"},null,null,null,null,null,null,null,null,null,"=IF(E120=1,\"Calculated total of Educational Environment D2 in Category Set C (I60)  ≠  Subtotal 6 (G44)\",\"\")",null,null,null,null,null,null,null,null,null,{"$f":"_xlfn.FORMULATEXT('Category Sets A-D'!I60)","v":"=SUM(G60:H60)"},"{=IFERROR(HYPERLINK(\"#'C089'!\"&ADDRESS(ROW(INDEX(CurrentListing_C089,MATCH(P44,CurrentListing_C089,0),1)),20),X44),HYPERLINK(\"#'C089'!\"&\"$V$12\",X44))}",null,false,true,1]
["D/6",{"$f":"'Category Sets A-D'!U52","v":0},{"$f":"G36","v":"MC"},null,1,{"$f":"IF(OR(B121=\"MC\",C121=\"MC\"),\"V12\",\"U52\")","v":"V12"},"C089",{"$f":"IF(OR(B121=\"MC\",C121=\"MC\"),\"V12\",\"G36\")","v":"V12"},"C089",{"$f":"IF(E121=1,\"Calculated total of Educational Environment A1 in Category Set D (U52)  ≠  Subtotal 6 (G36)\",\"\")","v":"Calculated total of Educational Environment A1 in Category Set D (U52)  ≠  Subtotal 6 (G36)"},null,null,null,null,null,null,null,null,null,"=IF(E121=1,\"Calculated total of Educational Environment A1 in Category Set D (U52)  ≠  Subtotal 6 (G36)\",\"\")",null,null,null,null,null,null,null,null,null,{"$f":"_xlfn.FORMULATEXT('Category Sets A-D'!U52)","v":"=SUM(S52:T52)"},{"$f":"_xlfn.FORMULATEXT(G36)","v":"{=IFERROR(HYPERLINK(\"#'C089'!\"&ADDRESS(ROW(INDEX(CurrentListing_C089,MATCH(P36,CurrentListing_C089,0),1)),20),X36),HYPERLINK(\"#'C089'!\"&\"$V$12\",X36))}"},null,false,true,1]
["D/6",{"$f":"'Category Sets A-D'!U53","v":0},"MC",null,1,{"$f":"IF(OR(B122=\"MC\",C122=\"MC\"),\"V12\",\"U53\")","v":"V12"},"C089",{"$f":"IF(OR(B122=\"MC\",C122=\"MC\"),\"V12\",\"G37\")","v":"V12"},"C089",{"$f":"IF(E122=1,\"Calculated total of Educational Environment A2 in Category Set D (U53)  ≠  Subtotal 6 (G37)\",\"\")","v":"Calculated total of Educational Environment A2 in Category Set D (U53)  ≠  Subtotal 6 (G37)"},null,null,null,null,null,null,null,null,null,"=IF(E122=1,\"Calculated total of Educational Environment A2 in Category Set D (U53)  ≠  Subtotal 6 (G37)\",\"\")",null,null,null,null,null,null,null,null,null,{"$f":"_xlfn.FORMULATEXT('Category Sets A-D'!U53)","v":"=SUM(S53:T53)"},"{=IFERROR(HYPERLINK(\"#'C089'!\"&ADDRESS(ROW(INDEX(CurrentListing_C089,MATCH(P37,CurrentListing_C089,0),1)),20),X37),HYPERLINK(\"#'C089'!\"&\"$V$12\",X37))}",null,false,true,1]
["D/6",{"$f":"'Category Sets A-D'!U54","v":0},"MC",null,1,{"$f":"IF(OR(B123=\"MC\",C123=\"MC\"),\"V12\",\"U54\")","v":"V12"},"C089",{"$f":"IF(OR(B123=\"MC\",C123=\"MC\"),\"V12\",\"G38\")","v":"V12"},"C089",{"$f":"IF(E123=1,\"Calculated total of Educational Environment B1 in Category Set D (U54)  ≠  Subtotal 6 (G38)\",\"\")","v":"Calculated total of Educational Environment B1 in Category Set D (U54)  ≠  Subtotal 6 (G38)"},null,null,null,null,null,null,null,null,null,"=IF(E123=1,\"Calculated total of Educational Environment B1 in Category Set D (U54)  ≠  Subtotal 6 (G38)\",\"\")",null,null,null,null,null,null,null,null,null,{"$f":"_xlfn.FORMULATEXT('Category Sets A-D'!U54)","v":"=SUM(S54:T54)"},"{=IFERROR(HYPERLINK(\"#'C089'!\"&ADDRESS(ROW(INDEX(CurrentListing_C089,MATCH(P38,CurrentListing_C089,0),1)),20),X38),HYPERLINK(\"#'C089'!\"&\"$V$12\",X38))}",null,false,true,1]
["D/6",{"$f":"'Category Sets A-D'!U55","v":0},"MC",null,1,{"$f":"IF(OR(B124=\"MC\",C124=\"MC\"),\"V12\",\"U55\")","v":"V12"},"C089",{"$f":"IF(OR(B124=\"MC\",C124=\"MC\"),\"V12\",\"G39\")","v":"V12"},"C089",{"$f":"IF(E124=1,\"Calculated total of Educational Environment B2 in Category Set D (U55)  ≠  Subtotal 6 (G39)\",\"\")","v":"Calculated total of Educational Environment B2 in Category Set D (U55)  ≠  Subtotal 6 (G39)"},null,null,null,null,null,null,null,null,null,"=IF(E124=1,\"Calculated total of Educational Environment B2 in Category Set D (U55)  ≠  Subtotal 6 (G39)\",\"\")",null,null,null,null,null,null,null,null,null,{"$f":"_xlfn.FORMULATEXT('Category Sets A-D'!U55)","v":"=SUM(S55:T55)"},"{=IFERROR(HYPERLINK(\"#'C089'!\"&ADDRESS(ROW(INDEX(CurrentListing_C089,MATCH(P39,CurrentListing_C089,0),1)),20),X39),HYPERLINK(\"#'C089'!\"&\"$V$12\",X39))}",null,false,true,1]
["D/6",{"$f":"'Category Sets A-D'!U56","v":0},"MC",null,1,{"$f":"IF(OR(B125=\"MC\",C125=\"MC\"),\"V12\",\"U56\")","v":"V12"},"C089",{"$f":"IF(OR(B125=\"MC\",C125=\"MC\"),\"V12\",\"G40\")","v":"V12"},"C089",{"$f":"IF(E125=1,\"Calculated total of Educational Environment C1 in Category Set D (U56)  ≠  Subtotal 6 (G40)\",\"\")","v":"Calculated total of Educational Environment C1 in Category Set D (U56)  ≠  Subtotal 6 (G40)"},null,null,null,null,null,null,null,null,null,"=IF(E125=1,\"Calculated total of Educational Environment C1 in Category Set D (U56)  ≠  Subtotal 6 (G40)\",\"\")",null,null,null,null,null,null,null,null,null,{"$f":"_xlfn.FORMULATEXT('Category Sets A-D'!U56)","v":"=SUM(S56:T56)"},"{=IFERROR(HYPERLINK(\"#'C089'!\"&ADDRESS(ROW(INDEX(CurrentListing_C089,MATCH(P40,CurrentListing_C089,0),1)),20),X40),HYPERLINK(\"#'C089'!\"&\"$V$12\",X40))}",null,false,true,1]
["D/6",{"$f":"'Category Sets A-D'!U57","v":0},"MC",null,1,{"$f":"IF(OR(B126=\"MC\",C126=\"MC\"),\"V12\",\"U57\")","v":"V12"},"C089",{"$f":"IF(OR(B126=\"MC\",C126=\"MC\"),\"V12\",\"G41\")","v":"V12"},"C089",{"$f":"IF(E126=1,\"Calculated total of Educational Environment C2 in Category Set D (U57)  ≠  Subtotal 6 (G41)\",\"\")","v":"Calculated total of Educational Environment C2 in Category Set D (U57)  ≠  Subtotal 6 (G41)"},null,null,null,null,null,null,null,null,null,"=IF(E126=1,\"Calculated total of Educational Environment C2 in Category Set D (U57)  ≠  Subtotal 6 (G41)\",\"\")",null,null,null,null,null,null,null,null,null,{"$f":"_xlfn.FORMULATEXT('Category Sets A-D'!U57)","v":"=SUM(S57:T57)"},"{=IFERROR(HYPERLINK(\"#'C089'!\"&ADDRESS(ROW(INDEX(CurrentListing_C089,MATCH(P41,CurrentListing_C089,0),1)),20),X41),HYPERLINK(\"#'C089'!\"&\"$V$12\",X41))}",null,false,true,1]
["D/6",{"$f":"'Category Sets A-D'!U58","v":0},"MC",null,1,{"$f":"IF(OR(B127=\"MC\",C127=\"MC\"),\"V12\",\"U58\")","v":"V12"},"C089",{"$f":"IF(OR(B127=\"MC\",C127=\"MC\"),\"V12\",\"G42\")","v":"V12"},"C089",{"$f":"IF(E127=1,\"Calculated total of Educational Environment C3 in Category Set D (U58)  ≠  Subtotal 6 (G42)\",\"\")","v":"Calculated total of Educational Environment C3 in Category Set D (U58)  ≠  Subtotal 6 (G42)"},null,null,null,null,null,null,null,null,null,"=IF(E127=1,\"Calculated total of Educational Environment C3 in Category Set D (U58)  ≠  Subtotal 6 (G42)\",\"\")",null,null,null,null,null,null,null,null,null,{"$f":"_xlfn.FORMULATEXT('Category Sets A-D'!U58)","v":"=SUM(S58:T58)"},"{=IFERROR(HYPERLINK(\"#'C089'!\"&ADDRESS(ROW(INDEX(CurrentListing_C089,MATCH(P42,CurrentListing_C089,0),1)),20),X42),HYPERLINK(\"#'C089'!\"&\"$V$12\",X42))}",null,false,true,1]
["D/6",{"$f":"'Category Sets A-D'!U59","v":0},"MC",null,1,{"$f":"IF(OR(B128=\"MC\",C128=\"MC\"),\"V12\",\"U59\")","v":"V12"},"C089",{"$f":"IF(OR(B128=\"MC\",C128=\"MC\"),\"V12\",\"G43\")","v":"V12"},"C089",{"$f":"IF(E128=1,\"Calculated total of Educational Environment D1 in Category Set D (U59)  ≠  Subtotal 6 (G43)\",\"\")","v":"Calculated total of Educational Environment D1 in Category Set D (U59)  ≠  Subtotal 6 (G43)"},null,null,null,null,null,null,null,null,null,"=IF(E128=1,\"Calculated total of Educational Environment D1 in Category Set D (U59)  ≠  Subtotal 6 (G43)\",\"\")",null,null,null,null,null,null,null,null,null,{"$f":"_xlfn.FORMULATEXT('Category Sets A-D'!U59)","v":"=SUM(S59:T59)"},"{=IFERROR(HYPERLINK(\"#'C089'!\"&ADDRESS(ROW(INDEX(CurrentListing_C089,MATCH(P43,CurrentListing_C089,0),1)),20),X43),HYPERLINK(\"#'C089'!\"&\"$V$12\",X43))}",null,false,true,1]
["D/6",{"$f":"'Category Sets A-D'!U60","v":0},"MC",null,1,{"$f":"IF(OR(B129=\"MC\",C129=\"MC\"),\"V12\",\"U60\")","v":"V12"},"C089",{"$f":"IF(OR(B129=\"MC\",C129=\"MC\"),\"V12\",\"G44\")","v":"V12"},"C089",{"$f":"IF(E129=1,\"Calculated total of Educational Environment D2 in Category Set D (U60)  ≠  Subtotal 6 (G44)\",\"\")","v":"Calculated total of Educational Environment D2 in Category Set D (U60)  ≠  Subtotal 6 (G44)"},null,null,null,null,null,null,null,null,null,"=IF(E129=1,\"Calculated total of Educational Environment D2 in Category Set D (U60)  ≠  Subtotal 6 (G44)\",\"\")",null,null,null,null,null,null,null,null,null,{"$f":"_xlfn.FORMULATEXT('Category Sets A-D'!U60)","v":"=SUM(S60:T60)"},"{=IFERROR(HYPERLINK(\"#'C089'!\"&ADDRESS(ROW(INDEX(CurrentListing_C089,MATCH(P44,CurrentListing_C089,0),1)),20),X44),HYPERLINK(\"#'C089'!\"&\"$V$12\",X44))}",null,false,true,1]
["A",{"$f":"'Category Sets A-D'!AL29","v":0},{"$f":"'Category Sets A-D'!$Q$10","v":"MC"},null,1,{"$f":"IF(OR(B130=\"MC\",C130=\"MC\"),\"V12\",\"AL29\")","v":"V12"},"C089",{"$f":"IF(OR(B130=\"MC\",C130=\"MC\"),\"V12\",\"Q10\")","v":"V12"},"Category Sets A-D",{"$f":"IF(E130=1,\"Calculated grand total of Category Set A (AL29) ≠ The total education unit (Q10)\",\"\")","v":"Calculated grand total of Category Set A (AL29) ≠ The total education unit (Q10)"},null,null,null,null,null,null,null,null,null,"=IF(E130=1,\"Calculated grand total of Category Set A (AL29) ≠ The total education unit (Q10)\",\"\")",null,null,null,null,null,null,null,null,null,{"$f":"_xlfn.FORMULATEXT('Category Sets A-D'!AL29)","v":"=SUM(AL16:AL28)"},{"$f":"_xlfn.FORMULATEXT('Category Sets A-D'!$Q$10)","v":"{=IFERROR(HYPERLINK(\"#'C089'!\"&ADDRESS(ROW(INDEX(CurrentListing_C089,MATCH(BZ7,CurrentListing_C089,0),1)),20),CB7),HYPERLINK(\"#'C089'!\"&\"$V$12\",CB7))}"},null,false,true,1]
["B",{"$f":"'Category Sets A-D'!BV48","v":0},{"$f":"'Category Sets A-D'!$Q$10","v":"MC"},null,1,{"$f":"IF(OR(B131=\"MC\",C131=\"MC\"),\"V12\",\"BV48\")","v":"V12"},"C089",{"$f":"IF(OR(B131=\"MC\",C131=\"MC\"),\"V12\",\"Q10\")","v":"V12"},"Category Sets A-D",{"$f":"IF(E131=1,\"Calculated grand total of Category Set B (BV48) ≠ The total education unit (Q10)\",\"\")","v":"Calculated grand total of Category Set B (BV48) ≠ The total education unit (Q10)"},null,null,null,null,null,null,null,null,null,"=IF(E131=1,\"Calculated grand total of Category Set B (BV48) ≠ The total education unit (Q10)\",\"\")",null,null,null,null,null,null,null,null,null,{"$f":"_xlfn.FORMULATEXT('Category Sets A-D'!BV48)","v":"=SUM(I48,Q48,Y48,AG48,AO48,AW48,BE48,BM48,BU48)"},{"$f":"_xlfn.FORMULATEXT('Category Sets A-D'!$Q$10)","v":"{=IFERROR(HYPERLINK(\"#'C089'!\"&ADDRESS(ROW(INDEX(CurrentListing_C089,MATCH(BZ7,CurrentListing_C089,0),1)),20),CB7),HYPERLINK(\"#'C089'!\"&\"$V$12\",CB7))}"},null,false,true,1]
["C",{"$f":"'Category Sets A-D'!I61","v":0},{"$f":"'Category Sets A-D'!$Q$10","v":"MC"},null,1,{"$f":"IF(OR(B132=\"MC\",C132=\"MC\"),\"V12\",\"I61\")","v":"V12"},"C089",{"$f":"IF(OR(B132=\"MC\",C132=\"MC\"),\"V12\",\"Q10\")","v":"V12"},"Category Sets A-D",{"$f":"IF(E132=1,\"Calculated total of Category Set C (I61) ≠ The total education unit (Q10)\",\"\")","v":"Calculated total of Category Set C (I61) ≠ The total education unit (Q10)"},null,null,null,null,null,null,null,null,null,"=IF(E132=1,\"Calculated total of Category Set C (I61) ≠ The total education unit (Q10)\",\"\")",null,null,null,null,null,null,null,null,null,{"$f":"_xlfn.FORMULATEXT('Category Sets A-D'!I61)","v":"=SUM(G61:H61)"},{"$f":"_xlfn.FORMULATEXT('Category Sets A-D'!$Q$10)","v":"{=IFERROR(HYPERLINK(\"#'C089'!\"&ADDRESS(ROW(INDEX(CurrentListing_C089,MATCH(BZ7,CurrentListing_C089,0),1)),20),CB7),HYPERLINK(\"#'C089'!\"&\"$V$12\",CB7))}"},null,false,true,1]
["D",{"$f":"'Category Sets A-D'!U61","v":0},{"$f":"'Category Sets A-D'!$Q$10","v":"MC"},null,1,{"$f":"IF(OR(B133=\"MC\",C133=\"MC\"),\"V12\",\"U61\")","v":"V12"},"C089",{"$f":"IF(OR(B133=\"MC\",C133=\"MC\"),\"V12\",\"Q10\")","v":"V12"},"Category Sets A-D",{"$f":"IF(E133=1,\"Calculated total of Category Set D (U61) ≠ The total education unit (Q10)\",\"\")","v":"Calculated total of Category Set D (U61) ≠ The total education unit (Q10)"},null,null,null,null,null,null,null,null,null,"=IF(E133=1,\"Calculated total of Category Set D (U61) ≠ The total education unit (Q10)\",\"\")",null,null,null,null,null,null,null,null,null,{"$f":"_xlfn.FORMULATEXT('Category Sets A-D'!U61)","v":"=SUM(S61:T61)"},{"$f":"_xlfn.FORMULATEXT('Category Sets A-D'!$Q$10)","v":"{=IFERROR(HYPERLINK(\"#'C089'!\"&ADDRESS(ROW(INDEX(CurrentListing_C089,MATCH(BZ7,CurrentListing_C089,0),1)),20),CB7),HYPERLINK(\"#'C089'!\"&\"$V$12\",CB7))}"},null,false,true,1]
[1,{"$f":"G25","v":""},{"$f":"$L$11","v":"MC"},null,0,{"$f":"IF(OR(B134=\"MC\",C134=\"MC\"),\"V12\",\"G25\")","v":"V12"},{"$f":"IF(OR(B134=\"MC\",C134=\"MC\"),\"C089\",\"Subtotals\")","v":"C089"},{"$f":"IF(OR(B134=\"MC\",C134=\"MC\"),\"V12\",\"L11\")","v":"V12"},{"$f":"IF(OR(B134=\"MC\",C134=\"MC\"),\"C089\",\"Subtotals\")","v":"C089"},{"$f":"IF(E134=1,\"Calculated total of Subtotal 1 (G25) ≠ The total education unit (L11)\",\"\")","v":""},null,null,null,null,null,null,null,null,null,"=IF(E134=1,\"Calculated total of Subtotal 1 (G25) ≠ The total education unit (L11)\",\"\")",null,null,null,null,null,null,null,null,null,{"$f":"_xlfn.FORMULATEXT(G25)","v":"=IF(AA25=0, \"\", AA25)"},{"$f":"_xlfn.FORMULATEXT($L$11)","v":"{=IFERROR(HYPERLINK(\"#'C089'!\"&ADDRESS(ROW(INDEX(CurrentListing_C089,MATCH(P11,CurrentListing_C089,0),1)),20),T9),HYPERLINK(\"#'C089'!\"&\"$V$12\",T9))}"},null,false,true,1]
[2,{"$f":"G18","v":""},{"$f":"$L$11","v":"MC"},null,0,{"$f":"IF(OR(B135=\"MC\",C135=\"MC\"),\"V12\",\"G18\")","v":"V12"},"C089","V12","C089",{"$f":"IF(E135=1,\"Calculated total of Subtotal 2 (G18)  ≠ The total education unit (L11)\",\"\")","v":""},null,null,null,null,null,null,null,null,null,"=IF(E135=1,\"Calculated total of Subtotal 2 (G18)  ≠ The total education unit (L11)\",\"\")",null,null,null,null,null,null,null,null,null,{"$f":"_xlfn.FORMULATEXT(G18)","v":"=IF(AA18=0, \"\", AA18)"},{"$f":"_xlfn.FORMULATEXT($L$11)","v":"{=IFERROR(HYPERLINK(\"#'C089'!\"&ADDRESS(ROW(INDEX(CurrentListing_C089,MATCH(P11,CurrentListing_C089,0),1)),20),T9),HYPERLINK(\"#'C089'!\"&\"$V$12\",T9))}"},null,false,true,1]
[3,{"$f":"B28","v":""},"MC",null,0,{"$f":"IF(OR(B136=\"MC\",C136=\"MC\"),\"V12\",\"B28\")","v":"V12"},"C089","V12","C089",{"$f":"IF(E136=1,\"Calculated total of Subtotal 3 (B28) ≠ The total education unit (L11)\",\"\")","v":""},null,null,null,null,null,null,null,null,null,"=IF(E136=1,\"Calculated total of Subtotal 3 (B28) ≠ The total education unit (L11)\",\"\")",null,null,null,null,null,null,null,null,null,{"$f":"_xlfn.FORMULATEXT(B28)","v":"=IF(S28=0, \"\", S28 )"},"{=IFERROR(HYPERLINK(\"#'C089'!\"&ADDRESS(ROW(INDEX(CurrentListing_C089,MATCH(P11,CurrentListing_C089,0),1)),20),T9),HYPERLINK(\"#'C089'!\"&\"$V$12\",T9))}",null,false,true,1]
[4,{"$f":"K22","v":""},"MC",null,0,{"$f":"IF(OR(B137=\"MC\",C137=\"MC\"),\"V12\",\"K22\")","v":"V12"},"C089","V12","C089",{"$f":"IF(E137=1,\"Calculated total of Subtotal 4 (K22) ≠ The total education unit (L11)\",\"\")","v":""},null,null,null,null,null,null,null,null,null,"=IF(E137=1,\"Calculated total of Subtotal 4 (K22) ≠ The total education unit (L11)\",\"\")",null,null,null,null,null,null,null,null,null,{"$f":"_xlfn.FORMULATEXT(K22)","v":"=IF(AI22=0, \"\", AI22)"},"{=IFERROR(HYPERLINK(\"#'C089'!\"&ADDRESS(ROW(INDEX(CurrentListing_C089,MATCH(P11,CurrentListing_C089,0),1)),20),T9),HYPERLINK(\"#'C089'!\"&\"$V$12\",T9))}",null,false,true,1]
[5,{"$f":"G32","v":""},"MC",null,0,{"$f":"IF(OR(B138=\"MC\",C138=\"MC\"),\"V12\",\"G32\")","v":"V12"},"C089","V12","C089",{"$f":"IF(E138=1,\"Calculated total of Subtotal 5 (G32) ≠ The total education unit (L11)\",\"\")","v":""},null,null,null,null,null,null,null,null,null,"=IF(E138=1,\"Calculated total of Subtotal 5 (G32) ≠ The total education unit (L11)\",\"\")",null,null,null,null,null,null,null,null,null,{"$f":"_xlfn.FORMULATEXT(G32)","v":"=IF(AA32=0, \"\", AA32)"},"{=IFERROR(HYPERLINK(\"#'C089'!\"&ADDRESS(ROW(INDEX(CurrentListing_C089,MATCH(P11,CurrentListing_C089,0),1)),20),T9),HYPERLINK(\"#'C089'!\"&\"$V$12\",T9))}",null,false,true,1]
[6,{"$f":"G45","v":""},"MC",null,0,{"$f":"IF(OR(B139=\"MC\",C139=\"MC\"),\"V12\",\"G45\")","v":"V12"},"C089","V12","C089",{"$f":"IF(E139=1,\"Calculated total of Subtotal 6 (G45) ≠ The total education unit (L11)\",\"\")","v":""},null,null,null,null,null,null,null,null,null,"=IF(E139=1,\"Calculated total of Subtotal 6 (G45) ≠ The total education unit (L11)\",\"\")",null,null,null,null,null,null,null,null,null,{"$f":"_xlfn.FORMULATEXT(G45)","v":"=IF(SUM(G36:G44)=0, \"\", SUM(G36:G44))"},"{=IFERROR(HYPERLINK(\"#'C089'!\"&ADDRESS(ROW(INDEX(CurrentListing_C089,MATCH(P11,CurrentListing_C089,0),1)),20),T9),HYPERLINK(\"#'C089'!\"&\"$V$12\",T9))}",null,false,true,1]
["A/B",{"$f":"'Category Sets A-D'!AL16","v":0},{"$f":"'Category Sets A-D'!BV35","v":0},null,0,{"$f":"IF(OR(B140=\"MC\",C140=\"MC\"),\"$V$12\",\"AL16\")","v":"AL16"},{"$f":"IF(OR(B140=\"MC\",C140=\"MC\"),\"C089\",\"Category Sets A-D\")","v":"Category Sets A-D"},{"$f":"IF(OR(B140=\"MC\",C140=\"MC\"),\"$V$12\",\"BV35\")","v":"BV35"},{"$f":"IF(OR(B140=\"MC\",C140=\"MC\"),\"C089\",\"Category Sets A-D\")","v":"Category Sets A-D"},{"$f":"IF(E140=1,\"Calculated grand total of Intellectual Disability in Category Set A (AL16) ≠ Calculated grand total of Intellectual Disability in Category Set B (BV35)\",\"\")","v":""},null,null,null,null,null,null,null,null,null,"=IF(E140=1,\"Calculated grand total of Intellectual Disability in Category Set A (AL16) ≠ Calculated grand total of Intellectual Disability in Category Set B (BV35)\",\"\")",null,null,null,null,null,null,null,null,null,{"$f":"_xlfn.FORMULATEXT('Category Sets A-D'!AL16)","v":"=SUM(E16,I16,M16,Q16,U16,Y16,AC16,AG16,AK16)"},{"$f":"_xlfn.FORMULATEXT('Category Sets A-D'!BV35)","v":"=SUM(I35,Q35,Y35,AG35,AO35,AW35,BE35,BM35,BU35)"},null,false,false,0]
["A/B",{"$f":"'Category Sets A-D'!AL17","v":0},{"$f":"'Category Sets A-D'!BV36","v":0},null,0,{"$f":"IF(OR(B141=\"MC\",C141=\"MC\"),\"$V$12\",\"AL17\")","v":"AL17"},{"$f":"IF(OR(B141=\"MC\",C141=\"MC\"),\"C089\",\"Category Sets A-D\")","v":"Category Sets A-D"},{"$f":"IF(OR(B141=\"MC\",C141=\"MC\"),\"$V$12\",\"BV36\")","v":"BV36"},"Category Sets A-D",{"$f":"IF(E141=1,\"Calculated grand total of Hearing Impairment in Category Set A (AL17) ≠ Calculated grand total of Hearing Impairment in Category Set B (BV36)\",\"\")","v":""},null,null,null,null,null,null,null,null,null,"=IF(E141=1,\"Calculated grand total of Hearing Impairment in Category Set A (AL17) ≠ Calculated grand total of Hearing Impairment in Category Set B (BV36)\",\"\")",null,null,null,null,null,null,null,null,null,{"$f":"_xlfn.FORMULATEXT('Category Sets A-D'!AL17)","v":"=SUM(E17,I17,M17,Q17,U17,Y17,AC17,AG17,AK17)"},{"$f":"_xlfn.FORMULATEXT('Category Sets A-D'!BV36)","v":"=SUM(I36,Q36,Y36,AG36,AO36,AW36,BE36,BM36,BU36)"},null,false,false,0]
["A/B",{"$f":"'Category Sets A-D'!AL18","v":0},{"$f":"'Category Sets A-D'!BV37","v":0},null,0,{"$f":"IF(OR(B142=\"MC\",C142=\"MC\"),\"$V$12\",\"AL18\")","v":"AL18"},"Category Sets A-D",{"$f":"IF(OR(B142=\"MC\",C142=\"MC\"),\"$V$12\",\"BV37\")","v":"BV37"},"Category Sets A-D",{"$f":"IF(E142=1,\"Calculated grand total of Speech or Language Impairment in Category Set A (AL18) ≠ Calculated grand total of Speech or Language Impairment in Category Set B (BV37)\",\"\")","v":""},null,null,null,null,null,null,null,null,null,"=IF(E142=1,\"Calculated grand total of Speech or Language Impairment in Category Set A (AL18) ≠ Calculated grand total of Speech or Language Impairment in Category Set B (BV37)\",\"\")",null,null,null,null,null,null,null,null,null,{"$f":"_xlfn.FORMULATEXT('Category Sets A-D'!AL18)","v":"=SUM(E18,I18,M18,Q18,U18,Y18,AC18,AG18,AK18)"},{"$f":"_xlfn.FORMULATEXT('Category Sets A-D'!BV37)","v":"=SUM(I37,Q37,Y37,AG37,AO37,AW37,BE37,BM37,BU37)"},null,false,false,0]
["A/B",{"$f":"'Category Sets A-D'!AL19","v":0},{"$f":"'Category Sets A-D'!BV38","v":0},null,0,{"$f":"IF(OR(B143=\"MC\",C143=\"MC\"),\"$V$12\",\"AL19\")","v":"AL19"},"Category Sets A-D",{"$f":"IF(OR(B143=\"MC\",C143=\"MC\"),\"$V$12\",\"BV38\")","v":"BV38"},"Category Sets A-D",{"$f":"IF(E143=1,\"Calculated grand total of Visual Impairment in Category Set A (AL19) ≠ Calculated grand total of Visual Impairment in Category Set B (BV38)\",\"\")","v":""},null,null,null,null,null,null,null,null,null,"=IF(E143=1,\"Calculated grand total of Visual Impairment in Category Set A (AL19) ≠ Calculated grand total of Visual Impairment in Category Set B (BV38)\",\"\")",null,null,null,null,null,null,null,null,null,{"$f":"_xlfn.FORMULATEXT('Category Sets A-D'!AL19)","v":"=SUM(E19,I19,M19,Q19,U19,Y19,AC19,AG19,AK19)"},{"$f":"_xlfn.FORMULATEXT('Category Sets A-D'!BV38)","v":"=SUM(I38,Q38,Y38,AG38,AO38,AW38,BE38,BM38,BU38)"},null,false,false,0]
["A/B",{"$f":"'Category Sets A-D'!AL20","v":0},{"$f":"'Category Sets A-D'!BV39","v":0},null,0,{"$f":"IF(OR(B144=\"MC\",C144=\"MC\"),\"$V$12\",\"AL20\")","v":"AL20"},"Category Sets A-D",{"$f":"IF(OR(B144=\"MC\",C144=\"MC\"),\"$V$12\",\"BV39\")","v":"BV39"},"Category Sets A-D",{"$f":"IF(E144=1,\"Calculated grand total of Emotional Disturbance in Category Set A (AL20) ≠ Calculated grand total of Emotional Disturbance in Category Set B (BV39)\",\"\")","v":""},null,null,null,null,null,null,null,null,null,"=IF(E144=1,\"Calculated grand total of Emotional Disturbance in Category Set A (AL20) ≠ Calculated grand total of Emotional Disturbance in Category Set B (BV39)\",\"\")",null,null,null,null,null,null,null,null,null,{"$f":"_xlfn.FORMULATEXT('Category Sets A-D'!AL20)","v":"=SUM(E20,I20,M20,Q20,U20,Y20,AC20,AG20,AK20)"},{"$f":"_xlfn.FORMULATEXT('Category Sets A-D'!BV39)","v":"=SUM(I39,Q39,Y39,AG39,AO39,AW39,BE39,BM39,BU39)"},null,false,false,0]
["A/B",{"$f":"'Category Sets A-D'!AL21","v":0},{"$f":"'Category Sets A-D'!BV40","v":0},null,0,{"$f":"IF(OR(B145=\"MC\",C145=\"MC\"),\"$V$12\",\"AL21\")","v":"AL21"},"Category Sets A-D",{"$f":"IF(OR(B145=\"MC\",C145=\"MC\"),\"$V$12\",\"BV40\")","v":"BV40"},"Category Sets A-D",{"$f":"IF(E145=1,\"Calculated grand total of Orthopedic Impairment in Category Set A (AL21) ≠ Calculated grand total of Orthopedic Impairment in Category Set B (BV40)\",\"\")","v":""},null,null,null,null,null,null,null,null,null,"=IF(E145=1,\"Calculated grand total of Orthopedic Impairment in Category Set A (AL21) ≠ Calculated grand total of Orthopedic Impairment in Category Set B (BV40)\",\"\")",null,null,null,null,null,null,null,null,null,{"$f":"_xlfn.FORMULATEXT('Category Sets A-D'!AL21)","v":"=SUM(E21,I21,M21,Q21,U21,Y21,AC21,AG21,AK21)"},{"$f":"_xlfn.FORMULATEXT('Category Sets A-D'!BV40)","v":"=SUM(I40,Q40,Y40,AG40,AO40,AW40,BE40,BM40,BU40)"},null,false,false,0]
["A/B",{"$f":"'Category Sets A-D'!AL22","v":0},{"$f":"'Category Sets A-D'!BV41","v":0},null,0,{"$f":"IF(OR(B146=\"MC\",C146=\"MC\"),\"$V$12\",\"AL22\")","v":"AL22"},"Category Sets A-D",{"$f":"IF(OR(B146=\"MC\",C146=\"MC\"),\"$V$12\",\"BV41\")","v":"BV41"},"Category Sets A-D",{"$f":"IF(E146=1,\"Calculated grand total of Other Health Impairment in Category Set A (AL22) ≠ Calculated grand total of Other Health Impairment in Category Set B (BV41)\",\"\")","v":""},null,null,null,null,null,null,null,null,null,"=IF(E146=1,\"Calculated grand total of Other Health Impairment in Category Set A (AL22) ≠ Calculated grand total of Other Health Impairment in Category Set B (BV41)\",\"\")",null,null,null,null,null,null,null,null,null,{"$f":"_xlfn.FORMULATEXT('Category Sets A-D'!AL22)","v":"=SUM(E22,I22,M22,Q22,U22,Y22,AC22,AG22,AK22)"},{"$f":"_xlfn.FORMULATEXT('Category Sets A-D'!BV41)","v":"=SUM(I41,Q41,Y41,AG41,AO41,AW41,BE41,BM41,BU41)"},null,false,false,0]
["A/B",{"$f":"'Category Sets A-D'!AL23","v":0},{"$f":"'Category Sets A-D'!BV42","v":0},null,0,{"$f":"IF(OR(B147=\"MC\",C147=\"MC\"),\"$V$12\",\"AL23\")","v":"AL23"},"Category Sets A-D",{"$f":"IF(OR(B147=\"MC\",C147=\"MC\"),\"$V$12\",\"BV42\")","v":"BV42"},"Category Sets A-D",{"$f":"IF(E147=1,\"Calculated grand total of Specific Learning Disability in Category Set A (AL23) ≠ Calculated grand total of Specific Learning Disability in Category Set B (BV42)\",\"\")","v":""},null,null,null,null,null,null,null,null,null,"=IF(E147=1,\"Calculated grand total of Specific Learning Disability in Category Set A (AL23) ≠ Calculated grand total of Specific Learning Disability in Category Set B (BV42)\",\"\")",null,null,null,null,null,null,null,null,null,{"$f":"_xlfn.FORMULATEXT('Category Sets A-D'!AL23)","v":"=SUM(E23,I23,M23,Q23,U23,Y23,AC23,AG23,AK23)"},{"$f":"_xlfn.FORMULATEXT('Category Sets A-D'!BV42)","v":"=SUM(I42,Q42,Y42,AG42,AO42,AW42,BE42,BM42,BU42)"},null,false,false,0]
["A/B",{"$f":"'Category Sets A-D'!AL24","v":0},{"$f":"'Category Sets A-D'!BV43","v":0},null,0,{"$f":"IF(OR(B148=\"MC\",C148=\"MC\"),\"$V$12\",\"AL24\")","v":"AL24"},"Category Sets A-D",{"$f":"IF(OR(B148=\"MC\",C148=\"MC\"),\"$V$12\",\"BV43\")","v":"BV43"},"Category Sets A-D",{"$f":"IF(E148=1,\"Calculated grand total of Deaf-Blindness in Category Set A (AL24) ≠ Calculated grand total of Deaf-Blindness in Category Set B (BV43)\",\"\")","v":""},null,null,null,null,null,null,null,null,null,"=IF(E148=1,\"Calculated grand total of Deaf-Blindness in Category Set A (AL24) ≠ Calculated grand total of Deaf-Blindness in Category Set B (BV43)\",\"\")",null,null,null,null,null,null,null,null,null,{"$f":"_xlfn.FORMULATEXT('Category Sets A-D'!AL24)","v":"=SUM(E24,I24,M24,Q24,U24,Y24,AC24,AG24,AK24)"},{"$f":"_xlfn.FORMULATEXT('Category Sets A-D'!BV43)","v":"=SUM(I43,Q43,Y43,AG43,AO43,AW43,BE43,BM43,BU43)"},null,false,false,0]
["A/B",{"$f":"'Category Sets A-D'!AL25","v":0},{"$f":"'Category Sets A-D'!BV44","v":0},null,{"$f":"IF(B149=\"\",0,IF(OR(B149=\"No Data\",B149<>C149),1,0))","v":0},{"$f":"IF(OR(B149=\"MC\",C149=\"MC\"),\"$V$12\",\"AL25\")","v":"AL25"},"Category Sets A-D",{"$f":"IF(OR(B149=\"MC\",C149=\"MC\"),\"$V$12\",\"BV44\")","v":"BV44"},"Category Sets A-D",{"$f":"IF(E149=1,\"Calculated grand total of Multiple Disabilities in Category Set A (AL25) ≠ Calculated grand total of Multiple Disabilitie in Category Set B (BV44)\",\"\")","v":""},null,null,null,null,null,null,null,null,null,"=IF(E149=1,\"Calculated grand total of Multiple Disabilities in Category Set A (AL25) ≠ Calculated grand total of Multiple Disabilitie in Category Set B (BV44)\",\"\")",null,null,null,null,null,null,null,null,null,{"$f":"_xlfn.FORMULATEXT('Category Sets A-D'!AL25)","v":"=SUM(E25,I25,M25,Q25,U25,Y25,AC25,AG25,AK25)"},{"$f":"_xlfn.FORMULATEXT('Category Sets A-D'!BV44)","v":"=SUM(I44,Q44,Y44,AG44,AO44,AW44,BE44,BM44,BU44)"},null,false,false,0]
["A/B",{"$f":"'Category Sets A-D'!AL26","v":0},{"$f":"'Category Sets A-D'!BV45","v":0},null,0,{"$f":"IF(OR(B150=\"MC\",C150=\"MC\"),\"$V$12\",\"AL26\")","v":"AL26"},"Category Sets A-D",{"$f":"IF(OR(B150=\"MC\",C150=\"MC\"),\"$V$12\",\"BV45\")","v":"BV45"},"Category Sets A-D",{"$f":"IF(E150=1,\"Calculated grand total of Autism in Category Set A (AL26) ≠ Calculated grand total of Autism in Category Set B (BV45)\",\"\")","v":""},null,null,null,null,null,null,null,null,null,"=IF(E150=1,\"Calculated grand total of Autism in Category Set A (AL26) ≠ Calculated grand total of Autism in Category Set B (BV45)\",\"\")",null,null,null,null,null,null,null,null,null,{"$f":"_xlfn.FORMULATEXT('Category Sets A-D'!AL26)","v":"=SUM(E26,I26,M26,Q26,U26,Y26,AC26,AG26,AK26)"},{"$f":"_xlfn.FORMULATEXT('Category Sets A-D'!BV45)","v":"=SUM(I45,Q45,Y45,AG45,AO45,AW45,BE45,BM45,BU45)"},null,false,false,0]
["A/B",{"$f":"'Category Sets A-D'!AL27","v":0},{"$f":"'Category Sets A-D'!BV46","v":0},null,0,{"$f":"IF(OR(B151=\"MC\",C151=\"MC\"),\"$V$12\",\"AL27\")","v":"AL27"},"Category Sets A-D",{"$f":"IF(OR(B151=\"MC\",C151=\"MC\"),\"$V$12\",\"BV46\")","v":"BV46"},"Category Sets A-D",{"$f":"IF(E151=1,\"Calculated grand total of Traumatic Brain Injury in Category Set A (AL27) ≠ Calculated grand total of Traumatic Brain Injury in Category Set B (BV46)\",\"\")","v":""},null,null,null,null,null,null,null,null,null,"=IF(E151=1,\"Calculated grand total of Traumatic Brain Injury in Category Set A (AL27) ≠ Calculated grand total of Traumatic Brain Injury in Category Set B (BV46)\",\"\")",null,null,null,null,null,null,null,null,null,{"$f":"_xlfn.FORMULATEXT('Category Sets A-D'!AL27)","v":"=SUM(E27,I27,M27,Q27,U27,Y27,AC27,AG27,AK27)"},{"$f":"_xlfn.FORMULATEXT('Category Sets A-D'!BV46)","v":"=SUM(I46,Q46,Y46,AG46,AO46,AW46,BE46,BM46,BU46)"},null,false,false,0]
["A/B",{"$f":"'Category Sets A-D'!AL28","v":0},{"$f":"'Category Sets A-D'!BV47","v":0},null,0,{"$f":"IF(OR(B152=\"MC\",C152=\"MC\"),\"$V$12\",\"AL28\")","v":"AL28"},"Category Sets A-D",{"$f":"IF(OR(B152=\"MC\",C152=\"MC\"),\"$V$12\",\"BV47\")","v":"BV47"},"Category Sets A-D",{"$f":"IF(E152=1,\"Calculated grand total of Developmental Delay in Category Set A (AL28) ≠ Calculated grand total of Developmental Delay in Category Set B (BV47)\",\"\")","v":""},null,null,null,null,null,null,null,null,null,"=IF(E152=1,\"Calculated grand total of Developmental Delay in Category Set A (AL28) ≠ Calculated grand total of Developmental Delay in Category Set B (BV47)\",\"\")",null,null,null,null,null,null,null,null,null,{"$f":"_xlfn.FORMULATEXT('Category Sets A-D'!AL28)","v":"=SUM(E28,I28,M28,Q28,U28,Y28,AC28,AG28,AK28)"},{"$f":"_xlfn.FORMULATEXT('Category Sets A-D'!BV47)","v":"=SUM(I47,Q47,Y47,AG47,AO47,AW47,BE47,BM47,BU47)"},null,false,false,0]
["A/C",{"$f":"'Category Sets A-D'!E29","v":0},{"$f":"'Category Sets A-D'!I52","v":0},null,0,{"$f":"IF(OR(B153=\"MC\",C153=\"MC\"),\"$V$12\",\"E29\")","v":"E29"},"Category Sets A-D",{"$f":"IF(OR(B153=\"MC\",C153=\"MC\"),\"$V$12\",\"I52\")","v":"I52"},"Category Sets A-D",{"$f":"IF(E153=1,\"Calculated total of Education Environment A1 in Category Set A (E29) ≠ Calculated total of Education Environment A1 in Category Set C (I52)\",\"\")","v":""},null,null,null,null,null,null,null,null,null,"=IF(E153=1,\"Calculated total of Education Environment A1 in Category Set A (E29) ≠ Calculated total of Education Environment A1 in Category Set C (I52)\",\"\")",null,null,null,null,null,null,null,null,null,{"$f":"_xlfn.FORMULATEXT('Category Sets A-D'!E29)","v":"=SUM(E16:E28)"},{"$f":"_xlfn.FORMULATEXT('Category Sets A-D'!I52)","v":"=SUM(G52:H52)"},null,false,false,0]
["A/C",{"$f":"'Category Sets A-D'!I29","v":0},{"$f":"'Category Sets A-D'!I53","v":0},null,0,{"$f":"IF(OR(B154=\"MC\",C154=\"MC\"),\"$V$12\",\"I29\")","v":"I29"},"Category Sets A-D",{"$f":"IF(OR(B154=\"MC\",C154=\"MC\"),\"$V$12\",\"I53\")","v":"I53"},"Category Sets A-D",{"$f":"IF(E154=1,\"Calculated total of Education Environment A2 in Category Set A (I29) ≠ Calculated total of Education Environment A2 in Category Set C (I53)\",\"\")","v":""},null,null,null,null,null,null,null,null,null,"=IF(E154=1,\"Calculated total of Education Environment A2 in Category Set A (I29) ≠ Calculated total of Education Environment A2 in Category Set C (I53)\",\"\")",null,null,null,null,null,null,null,null,null,{"$f":"_xlfn.FORMULATEXT('Category Sets A-D'!I29)","v":"=SUM(I16:I28)"},{"$f":"_xlfn.FORMULATEXT('Category Sets A-D'!I53)","v":"=SUM(G53:H53)"},null,false,false,0]
["A/C",{"$f":"'Category Sets A-D'!M29","v":0},{"$f":"'Category Sets A-D'!I54","v":0},null,0,{"$f":"IF(OR(B155=\"MC\",C155=\"MC\"),\"$V$12\",\"M29\")","v":"M29"},"Category Sets A-D",{"$f":"IF(OR(B155=\"MC\",C155=\"MC\"),\"$V$12\",\"I54\")","v":"I54"},"Category Sets A-D",{"$f":"IF(E155=1,\"Calculated total of Education Environment B1 in Category Set A (M29) ≠ Calculated total of Education Environment B1 in Category Set C (I54)\",\"\")","v":""},null,null,null,null,null,null,null,null,null,"=IF(E155=1,\"Calculated total of Education Environment B1 in Category Set A (M29) ≠ Calculated total of Education Environment B1 in Category Set C (I54)\",\"\")",null,null,null,null,null,null,null,null,null,{"$f":"_xlfn.FORMULATEXT('Category Sets A-D'!M29)","v":"=SUM(M16:M28)"},{"$f":"_xlfn.FORMULATEXT('Category Sets A-D'!I54)","v":"=SUM(G54:H54)"},null,false,false,0]
["A/C",{"$f":"'Category Sets A-D'!Q29","v":0},{"$f":"'Category Sets A-D'!I55","v":0},null,0,{"$f":"IF(OR(B156=\"MC\",C156=\"MC\"),\"$V$12\",\"Q29\")","v":"Q29"},"Category Sets A-D",{"$f":"IF(OR(B156=\"MC\",C156=\"MC\"),\"$V$12\",\"I55\")","v":"I55"},"Category Sets A-D",{"$f":"IF(E156=1,\"Calculated total of Education Environment B2 in Category Set A (Q29) ≠ Calculated total of Education Environment B2 in Category Set C (I55)\",\"\")","v":""},null,null,null,null,null,null,null,null,null,"=IF(E156=1,\"Calculated total of Education Environment B2 in Category Set A (Q29) ≠ Calculated total of Education Environment B2 in Category Set C (I55)\",\"\")",null,null,null,null,null,null,null,null,null,{"$f":"_xlfn.FORMULATEXT('Category Sets A-D'!Q29)","v":"=SUM(Q16:Q28)"},{"$f":"_xlfn.FORMULATEXT('Category Sets A-D'!I55)","v":"=SUM(G55:H55)"},null,false,false,0]
["A/C",{"$f":"'Category Sets A-D'!U29","v":0},{"$f":"'Category Sets A-D'!I56","v":0},null,0,{"$f":"IF(OR(B157=\"MC\",C157=\"MC\"),\"$V$12\",\"U29\")","v":"U29"},"Category Sets A-D",{"$f":"IF(OR(B157=\"MC\",C157=\"MC\"),\"$V$12\",\"I56\")","v":"I56"},"Category Sets A-D",{"$f":"IF(E157=1,\"Calculated total of Education Environment C1 in Category Set A (U29) ≠ Calculated total of Education Environment C1 in Category Set C (I56)\",\"\")","v":""},null,null,null,null,null,null,null,null,null,"=IF(E157=1,\"Calculated total of Education Environment C1 in Category Set A (U29) ≠ Calculated total of Education Environment C1 in Category Set C (I56)\",\"\")",null,null,null,null,null,null,null,null,null,{"$f":"_xlfn.FORMULATEXT('Category Sets A-D'!U29)","v":"=SUM(U16:U28)"},{"$f":"_xlfn.FORMULATEXT('Category Sets A-D'!I56)","v":"=SUM(G56:H56)"},null,false,false,0]
["A/C",{"$f":"'Category Sets A-D'!Y29","v":0},{"$f":"'Category Sets A-D'!I57","v":0},null,0,{"$f":"IF(OR(B158=\"MC\",C158=\"MC\"),\"$V$12\",\"Y29\")","v":"Y29"},"Category Sets A-D",{"$f":"IF(OR(B158=\"MC\",C158=\"MC\"),\"$V$12\",\"I57\")","v":"I57"},"Category Sets A-D",{"$f":"IF(E158=1,\"Calculated total of Education Environment C2 in Category Set A (Y29) ≠ Calculated total of Education Environment C2 in Category Set C (I57)\",\"\")","v":""},null,null,null,null,null,null,null,null,null,"=IF(E158=1,\"Calculated total of Education Environment C2 in Category Set A (Y29) ≠ Calculated total of Education Environment C2 in Category Set C (I57)\",\"\")",null,null,null,null,null,null,null,null,null,{"$f":"_xlfn.FORMULATEXT('Category Sets A-D'!Y29)","v":"=SUM(Y16:Y28)"},{"$f":"_xlfn.FORMULATEXT('Category Sets A-D'!I57)","v":"=SUM(G57:H57)"},null,false,false,0]
["A/C",{"$f":"'Category Sets A-D'!AC29","v":0},{"$f":"'Category Sets A-D'!I58","v":0},null,0,{"$f":"IF(OR(B159=\"MC\",C159=\"MC\"),\"$V$12\",\"AC29\")","v":"AC29"},"Category Sets A-D",{"$f":"IF(OR(B159=\"MC\",C159=\"MC\"),\"$V$12\",\"I58\")","v":"I58"},"Category Sets A-D",{"$f":"IF(E159=1,\"Calculated total of Education Environment C3 in Category Set A (AC29) ≠ Calculated total of Education Environment C3 in Category Set C (I58)\",\"\")","v":""},null,null,null,null,null,null,null,null,null,"=IF(E159=1,\"Calculated total of Education Environment C3 in Category Set A (AC29) ≠ Calculated total of Education Environment C3 in Category Set C (I58)\",\"\")",null,null,null,null,null,null,null,null,null,{"$f":"_xlfn.FORMULATEXT('Category Sets A-D'!AC29)","v":"=SUM(AC16:AC28)"},{"$f":"_xlfn.FORMULATEXT('Category Sets A-D'!I58)","v":"=SUM(G58:H58)"},null,false,false,0]
["A/C",{"$f":"'Category Sets A-D'!AG29","v":0},{"$f":"'Category Sets A-D'!I59","v":0},null,0,{"$f":"IF(OR(B160=\"MC\",C160=\"MC\"),\"$V$12\",\"AG29\")","v":"AG29"},"Category Sets A-D",{"$f":"IF(OR(B160=\"MC\",C160=\"MC\"),\"$V$12\",\"I59\")","v":"I59"},"Category Sets A-D",{"$f":"IF(E160=1,\"Calculated total of Education Environment D1 in Category Set A (AG29) ≠ Calculated total of Education Environment D1 in Category Set C (I59)\",\"\")","v":""},null,null,null,null,null,null,null,null,null,"=IF(E160=1,\"Calculated total of Education Environment D1 in Category Set A (AG29) ≠ Calculated total of Education Environment D1 in Category Set C (I59)\",\"\")",null,null,null,null,null,null,null,null,null,{"$f":"_xlfn.FORMULATEXT('Category Sets A-D'!AG29)","v":"=SUM(AG16:AG28)"},{"$f":"_xlfn.FORMULATEXT('Category Sets A-D'!I59)","v":"=SUM(G59:H59)"},null,false,false,0]
["A/C",{"$f":"'Category Sets A-D'!AK29","v":0},{"$f":"'Category Sets A-D'!I60","v":0},null,0,{"$f":"IF(OR(B161=\"MC\",C161=\"MC\"),\"$V$12\",\"AK29\")","v":"AK29"},"Category Sets A-D",{"$f":"IF(OR(B161=\"MC\",C161=\"MC\"),\"$V$12\",\"I60\")","v":"I60"},"Category Sets A-D",{"$f":"IF(E161=1,\"Calculated total of Education Environment D2 in Category Set A (AK29) ≠ Calculated total of Education Environment D2 in Category Set C (I60)\",\"\")","v":""},null,null,null,null,null,null,null,null,null,"=IF(E161=1,\"Calculated total of Education Environment D2 in Category Set A (AK29) ≠ Calculated total of Education Environment D2 in Category Set C (I60)\",\"\")",null,null,null,null,null,null,null,null,null,{"$f":"_xlfn.FORMULATEXT('Category Sets A-D'!AK29)","v":"=SUM(AK16:AK28)"},{"$f":"_xlfn.FORMULATEXT('Category Sets A-D'!I60)","v":"=SUM(G60:H60)"},null,false,false,0]
["A/D",{"$f":"'Category Sets A-D'!E29","v":0},{"$f":"'Category Sets A-D'!U52","v":0},null,0,{"$f":"IF(OR(B162=\"MC\",C162=\"MC\"),\"$V$12\",\"E29\")","v":"E29"},"Category Sets A-D",{"$f":"IF(OR(B162=\"MC\",C162=\"MC\"),\"$V$12\",\"U52\")","v":"U52"},"Category Sets A-D",{"$f":"IF(E162=1,\"Calculated total of Education Environment A1 in Category Set A (E29) ≠ Calculated total of Education Environment A1 in Category Set D (U52)\",\"\")","v":""},null,null,null,null,null,null,null,null,null,"=IF(E162=1,\"Calculated total of Education Environment A1 in Category Set A (E29) ≠ Calculated total of Education Environment A1 in Category Set D (U52)\",\"\")",null,null,null,null,null,null,null,null,null,{"$f":"_xlfn.FORMULATEXT('Category Sets A-D'!E29)","v":"=SUM(E16:E28)"},{"$f":"_xlfn.FORMULATEXT('Category Sets A-D'!U52)","v":"=SUM(S52:T52)"},null,false,false,0]
["A/D",{"$f":"'Category Sets A-D'!I29","v":0},{"$f":"'Category Sets A-D'!U53","v":0},null,0,{"$f":"IF(OR(B163=\"MC\",C163=\"MC\"),\"$V$12\",\"I29\")","v":"I29"},"Category Sets A-D",{"$f":"IF(OR(B163=\"MC\",C163=\"MC\"),\"$V$12\",\"U53\")","v":"U53"},"Category Sets A-D",{"$f":"IF(E163=1,\"Calculated total of Education Environment A2 in Category Set A (I29) ≠ Calculated total of Education Environment A2 in Category Set D (U53)\",\"\")","v":""},null,null,null,null,null,null,null,null,null,"=IF(E163=1,\"Calculated total of Education Environment A2 in Category Set A (I29) ≠ Calculated total of Education Environment A2 in Category Set D (U53)\",\"\")",null,null,null,null,null,null,null,null,null,{"$f":"_xlfn.FORMULATEXT('Category Sets A-D'!I29)","v":"=SUM(I16:I28)"},{"$f":"_xlfn.FORMULATEXT('Category Sets A-D'!U53)","v":"=SUM(S53:T53)"},null,false,false,0]
["A/D",{"$f":"'Category Sets A-D'!M29","v":0},{"$f":"'Category Sets A-D'!U54","v":0},null,0,{"$f":"IF(OR(B164=\"MC\",C164=\"MC\"),\"$V$12\",\"M29\")","v":"M29"},"Category Sets A-D",{"$f":"IF(OR(B164=\"MC\",C164=\"MC\"),\"$V$12\",\"U54\")","v":"U54"},"Category Sets A-D",{"$f":"IF(E164=1,\"Calculated total of Education Environment B1  in Category Set A (M29) ≠ Calculated total of Education Environment B1 in Category Set D (U54)\",\"\")","v":""},null,null,null,null,null,null,null,null,null,"=IF(E164=1,\"Calculated total of Education Environment B1  in Category Set A (M29) ≠ Calculated total of Education Environment B1 in Category Set D (U54)\",\"\")",null,null,null,null,null,null,null,null,null,{"$f":"_xlfn.FORMULATEXT('Category Sets A-D'!M29)","v":"=SUM(M16:M28)"},{"$f":"_xlfn.FORMULATEXT('Category Sets A-D'!U54)","v":"=SUM(S54:T54)"},null,false,false,0]
["A/D",{"$f":"'Category Sets A-D'!Q29","v":0},{"$f":"'Category Sets A-D'!U55","v":0},null,0,{"$f":"IF(OR(B165=\"MC\",C165=\"MC\"),\"$V$12\",\"Q29\")","v":"Q29"},"Category Sets A-D",{"$f":"IF(OR(B165=\"MC\",C165=\"MC\"),\"$V$12\",\"U55\")","v":"U55"},"Category Sets A-D",{"$f":"IF(E165=1,\"Calculated total of Education Environment B2  in Category Set A (Q29) ≠ Calculated total of Education Environment B2 in Category Set D (U55)\",\"\")","v":""},null,null,null,null,null,null,null,null,null,"=IF(E165=1,\"Calculated total of Education Environment B2  in Category Set A (Q29) ≠ Calculated total of Education Environment B2 in Category Set D (U55)\",\"\")",null,null,null,null,null,null,null,null,null,{"$f":"_xlfn.FORMULATEXT('Category Sets A-D'!Q29)","v":"=SUM(Q16:Q28)"},{"$f":"_xlfn.FORMULATEXT('Category Sets A-D'!U55)","v":"=SUM(S55:T55)"},null,false,false,0]
["A/D",{"$f":"'Category Sets A-D'!U29","v":0},{"$f":"'Category Sets A-D'!U56","v":0},null,0,{"$f":"IF(OR(B166=\"MC\",C166=\"MC\"),\"$V$12\",\"U29\")","v":"U29"},"Category Sets A-D",{"$f":"IF(OR(B166=\"MC\",C166=\"MC\"),\"$V$12\",\"U56\")","v":"U56"},"Category Sets A-D",{"$f":"IF(E166=1,\"Calculated total of Education Environment C1  in Category Set A (U29) ≠ Calculated total of Education Environment C1 in Category Set D (U56)\",\"\")","v":""},null,null,null,null,null,null,null,null,null,"=IF(E166=1,\"Calculated total of Education Environment C1  in Category Set A (U29) ≠ Calculated total of Education Environment C1 in Category Set D (U56)\",\"\")",null,null,null,null,null,null,null,null,null,{"$f":"_xlfn.FORMULATEXT('Category Sets A-D'!U29)","v":"=SUM(U16:U28)"},{"$f":"_xlfn.FORMULATEXT('Category Sets A-D'!U56)","v":"=SUM(S56:T56)"},null,false,false,0]
["A/D",{"$f":"'Category Sets A-D'!Y29","v":0},{"$f":"'Category Sets A-D'!U57","v":0},null,0,{"$f":"IF(OR(B167=\"MC\",C167=\"MC\"),\"$V$12\",\"Y29\")","v":"Y29"},"Category Sets A-D",{"$f":"IF(OR(B167=\"MC\",C167=\"MC\"),\"$V$12\",\"U57\")","v":"U57"},"Category Sets A-D",{"$f":"IF(E167=1,\"Calculated total of Education Environment C2  in Category Set A (Y29) ≠ Calculated total of Education Environment C2 in Category Set D (U57)\",\"\")","v":""},null,null,null,null,null,null,null,null,null,"=IF(E167=1,\"Calculated total of Education Environment C2  in Category Set A (Y29) ≠ Calculated total of Education Environment C2 in Category Set D (U57)\",\"\")",null,null,null,null,null,null,null,null,null,{"$f":"_xlfn.FORMULATEXT('Category Sets A-D'!Y29)","v":"=SUM(Y16:Y28)"},{"$f":"_xlfn.FORMULATEXT('Category Sets A-D'!U57)","v":"=SUM(S57:T57)"},null,false,false,0]
["A/D",{"$f":"'Category Sets A-D'!AC29","v":0},{"$f":"'Category Sets A-D'!U58","v":0},null,0,{"$f":"IF(OR(B168=\"MC\",C168=\"MC\"),\"$V$12\",\"AC29\")","v":"AC29"},"Category Sets A-D",{"$f":"IF(OR(B168=\"MC\",C168=\"MC\"),\"$V$12\",\"U58\")","v":"U58"},"Category Sets A-D",{"$f":"IF(E168=1,\"Calculated total of Education Environment C3  in Category Set A (AC29) ≠ Calculated total of Education Environment C3 in Category Set D (U58)\",\"\")","v":""},null,null,null,null,null,null,null,null,null,"=IF(E168=1,\"Calculated total of Education Environment C3  in Category Set A (AC29) ≠ Calculated total of Education Environment C3 in Category Set D (U58)\",\"\")",null,null,null,null,null,null,null,null,null,{"$f":"_xlfn.FORMULATEXT('Category Sets A-D'!AC29)","v":"=SUM(AC16:AC28)"},{"$f":"_xlfn.FORMULATEXT('Category Sets A-D'!U58)","v":"=SUM(S58:T58)"},null,false,false,0]
["A/D",{"$f":"'Category Sets A-D'!AG29","v":0},{"$f":"'Category Sets A-D'!U59","v":0},null,0,{"$f":"IF(OR(B169=\"MC\",C169=\"MC\"),\"$V$12\",\"AG29\")","v":"AG29"},"Category Sets A-D",{"$f":"IF(OR(B169=\"MC\",C169=\"MC\"),\"$V$12\",\"U59\")","v":"U59"},"Category Sets A-D",{"$f":"IF(E169=1,\"Calculated total of Education Environment D1  in Category Set A (AG29) ≠ Calculated total of Education Environment D1 in Category Set D (U59)\",\"\")","v":""},null,null,null,null,null,null,null,null,null,"=IF(E169=1,\"Calculated total of Education Environment D1  in Category Set A (AG29) ≠ Calculated total of Education Environment D1 in Category Set D (U59)\",\"\")",null,null,null,null,null,null,null,null,null,{"$f":"_xlfn.FORMULATEXT('Category Sets A-D'!AG29)","v":"=SUM(AG16:AG28)"},{"$f":"_xlfn.FORMULATEXT('Category Sets A-D'!U59)","v":"=SUM(S59:T59)"},null,false,false,0]
["A/D",{"$f":"'Category Sets A-D'!AK29","v":0},{"$f":"'Category Sets A-D'!U60","v":0},null,0,{"$f":"IF(OR(B170=\"MC\",C170=\"MC\"),\"$V$12\",\"AK29\")","v":"AK29"},"Category Sets A-D",{"$f":"IF(OR(B170=\"MC\",C170=\"MC\"),\"$V$12\",\"U60\")","v":"U60"},"Category Sets A-D",{"$f":"IF(E170=1,\"Calculated total of Education Environment D2  in Category Set A (AK29) ≠ Calculated total of Education Environment D2 in Category Set D (U60)\",\"\")","v":""},null,null,null,null,null,null,null,null,null,"=IF(E170=1,\"Calculated total of Education Environment D2  in Category Set A (AK29) ≠ Calculated total of Education Environment D2 in Category Set D (U60)\",\"\")",null,null,null,null,null,null,null,null,null,{"$f":"_xlfn.FORMULATEXT('Category Sets A-D'!AK29)","v":"=SUM(AK16:AK28)"},{"$f":"_xlfn.FORMULATEXT('Category Sets A-D'!U60)","v":"=SUM(S60:T60)"},null,false,false,0]
["A/B",{"$f":"'Category Sets A-D'!E29","v":0},{"$f":"'Category Sets A-D'!I48","v":0},null,0,{"$f":"IF(OR(B171=\"MC\",C171=\"MC\"),\"$V$12\",\"E29\")","v":"E29"},"Category Sets A-D",{"$f":"IF(OR(B171=\"MC\",C171=\"MC\"),\"$V$12\",\"I48\")","v":"I48"},"Category Sets A-D",{"$f":"IF(E171=1,\"Calculated total of Education Environment A1 in Category Set A (E29) ≠ Calculated total of Education Environment A1 in Category Set B (I48)\",\"\")","v":""},null,null,null,null,null,null,null,null,null,"=IF(E171=1,\"Calculated total of Education Environment A1 in Category Set A (E29) ≠ Calculated total of Education Environment A1 in Category Set B (I48)\",\"\")",null,null,null,null,null,null,null,null,null,{"$f":"_xlfn.FORMULATEXT('Category Sets A-D'!E29)","v":"=SUM(E16:E28)"},{"$f":"_xlfn.FORMULATEXT('Category Sets A-D'!I48)","v":"=SUM(I35:I47)"},null,false,false,0]
["A/B",{"$f":"'Category Sets A-D'!I29","v":0},{"$f":"'Category Sets A-D'!Q48","v":0},null,0,{"$f":"IF(OR(B172=\"MC\",C172=\"MC\"),\"$V$12\",\"I29\")","v":"I29"},"Category Sets A-D",{"$f":"IF(OR(B172=\"MC\",C172=\"MC\"),\"$V$12\",\"Q48\")","v":"Q48"},"Category Sets A-D",{"$f":"IF(E172=1,\"Calculated total of Education Environment A2 in Category Set A (I29) ≠ Calculated total of Education Environment A2 in Category Set B (Q48)\",\"\")","v":""},null,null,null,null,null,null,null,null,null,"=IF(E172=1,\"Calculated total of Education Environment A2 in Category Set A (I29) ≠ Calculated total of Education Environment A2 in Category Set B (Q48)\",\"\")",null,null,null,null,null,null,null,null,null,{"$f":"_xlfn.FORMULATEXT('Category Sets A-D'!I29)","v":"=SUM(I16:I28)"},{"$f":"_xlfn.FORMULATEXT('Category Sets A-D'!Q48)","v":"=SUM(Q35:Q47)"},null,false,false,0]
["A/B",{"$f":"'Category Sets A-D'!M29","v":0},{"$f":"'Category Sets A-D'!Y48","v":0},null,0,{"$f":"IF(OR(B173=\"MC\",C173=\"MC\"),\"$V$12\",\"M29\")","v":"M29"},"Category Sets A-D",{"$f":"IF(OR(B173=\"MC\",C173=\"MC\"),\"$V$12\",\"Y48\")","v":"Y48"},"Category Sets A-D",{"$f":"IF(E173=1,\"Calculated total of Education Environment B1  in Category Set A (M29) ≠ Calculated total of Education Environment B1 in Category Set B (Y48)\",\"\")","v":""},null,null,null,null,null,null,null,null,null,"=IF(E173=1,\"Calculated total of Education Environment B1  in Category Set A (M29) ≠ Calculated total of Education Environment B1 in Category Set B (Y48)\",\"\")",null,null,null,null,null,null,null,null,null,{"$f":"_xlfn.FORMULATEXT('Category Sets A-D'!M29)","v":"=SUM(M16:M28)"},{"$f":"_xlfn.FORMULATEXT('Category Sets A-D'!Y48)","v":"=SUM(Y35:Y47)"},null,false,false,0]
["A/B",{"$f":"'Category Sets A-D'!Q29","v":0},{"$f":"'Category Sets A-D'!AG48","v":0},null,0,{"$f":"IF(OR(B174=\"MC\",C174=\"MC\"),\"$V$12\",\"Q29\")","v":"Q29"},"Category Sets A-D",{"$f":"IF(OR(B174=\"MC\",C174=\"MC\"),\"$V$12\",\"AG48\")","v":"AG48"},"Category Sets A-D",{"$f":"IF(E174=1,\"Calculated total of Education Environment B2  in Category Set A (Q29) ≠ Calculated total of Education Environment B2 in Category Set B (AG48)\",\"\")","v":""},null,null,null,null,null,null,null,null,null,"=IF(E174=1,\"Calculated total of Education Environment B2  in Category Set A (Q29) ≠ Calculated total of Education Environment B2 in Category Set B (AG48)\",\"\")",null,null,null,null,null,null,null,null,null,{"$f":"_xlfn.FORMULATEXT('Category Sets A-D'!Q29)","v":"=SUM(Q16:Q28)"},{"$f":"_xlfn.FORMULATEXT('Category Sets A-D'!AG48)","v":"=SUM(AG35:AG47)"},null,false,false,0]
["A/B",{"$f":"'Category Sets A-D'!U29","v":0},{"$f":"'Category Sets A-D'!AO48","v":0},null,0,{"$f":"IF(OR(B175=\"MC\",C175=\"MC\"),\"$V$12\",\"U29\")","v":"U29"},"Category Sets A-D",{"$f":"IF(OR(B175=\"MC\",C175=\"MC\"),\"$V$12\",\"AO48\")","v":"AO48"},"Category Sets A-D",{"$f":"IF(E175=1,\"Calculated total of Education Environment C1  in Category Set A (U29) ≠ Calculated total of Education Environment C1 in Category Set B (AO48)\",\"\")","v":""},null,null,null,null,null,null,null,null,null,"=IF(E175=1,\"Calculated total of Education Environment C1  in Category Set A (U29) ≠ Calculated total of Education Environment C1 in Category Set B (AO48)\",\"\")",null,null,null,null,null,null,null,null,null,{"$f":"_xlfn.FORMULATEXT('Category Sets A-D'!U29)","v":"=SUM(U16:U28)"},{"$f":"_xlfn.FORMULATEXT('Category Sets A-D'!AO48)","v":"=SUM(AO35:AO47)"},null,false,false,0]
["A/B",{"$f":"'Category Sets A-D'!Y29","v":0},{"$f":"'Category Sets A-D'!AW48","v":0},null,0,{"$f":"IF(OR(B176=\"MC\",C176=\"MC\"),\"$V$12\",\"Y29\")","v":"Y29"},"Category Sets A-D",{"$f":"IF(OR(B176=\"MC\",C176=\"MC\"),\"$V$12\",\"AW48\")","v":"AW48"},"Category Sets A-D",{"$f":"IF(E176=1,\"Calculated total of Education Environment C2  in Category Set A (Y29) ≠ Calculated total of Education Environment C2 in Category Set B (AW48)\",\"\")","v":""},null,null,null,null,null,null,null,null,null,"=IF(E176=1,\"Calculated total of Education Environment C2  in Category Set A (Y29) ≠ Calculated total of Education Environment C2 in Category Set B (AW48)\",\"\")",null,null,null,null,null,null,null,null,null,{"$f":"_xlfn.FORMULATEXT('Category Sets A-D'!Y29)","v":"=SUM(Y16:Y28)"},{"$f":"_xlfn.FORMULATEXT('Category Sets A-D'!AW48)","v":"=SUM(AW35:AW47)"},null,false,false,0]
["A/B",{"$f":"'Category Sets A-D'!AC29","v":0},{"$f":"'Category Sets A-D'!BE48","v":0},null,0,{"$f":"IF(OR(B177=\"MC\",C177=\"MC\"),\"$V$12\",\"AC29\")","v":"AC29"},"Category Sets A-D",{"$f":"IF(OR(B177=\"MC\",C177=\"MC\"),\"$V$12\",\"BE48\")","v":"BE48"},"Category Sets A-D",{"$f":"IF(E177=1,\"Calculated total of Education Environment C3  in Category Set A (AC29) ≠ Calculated total of Education Environment C3 in Category Set B (BE48)\",\"\")","v":""},null,null,null,null,null,null,null,null,null,"=IF(E177=1,\"Calculated total of Education Environment C3  in Category Set A (AC29) ≠ Calculated total of Education Environment C3 in Category Set B (BE48)\",\"\")",null,null,null,null,null,null,null,null,null,{"$f":"_xlfn.FORMULATEXT('Category Sets A-D'!AC29)","v":"=SUM(AC16:AC28)"},{"$f":"_xlfn.FORMULATEXT('Category Sets A-D'!BE48)","v":"=SUM(BE35:BE47)"},null,false,false,0]
["A/B",{"$f":"'Category Sets A-D'!AG29","v":0},{"$f":"'Category Sets A-D'!BM48","v":0},null,0,{"$f":"IF(OR(B178=\"MC\",C178=\"MC\"),\"$V$12\",\"AG29\")","v":"AG29"},"Category Sets A-D",{"$f":"IF(OR(B178=\"MC\",C178=\"MC\"),\"$V$12\",\"BM48\")","v":"BM48"},"Category Sets A-D",{"$f":"IF(E178=1,\"Calculated total of Education Environment D1  in Category Set A (AG29) ≠ Calculated total of Education Environment D1 in Category Set B (BM48)\",\"\")","v":""},null,null,null,null,null,null,null,null,null,"=IF(E178=1,\"Calculated total of Education Environment D1  in Category Set A (AG29) ≠ Calculated total of Education Environment D1 in Category Set B (BM48)\",\"\")",null,null,null,null,null,null,null,null,null,{"$f":"_xlfn.FORMULATEXT('Category Sets A-D'!AG29)","v":"=SUM(AG16:AG28)"},{"$f":"_xlfn.FORMULATEXT('Category Sets A-D'!BM48)","v":"=SUM(BM35:BM47)"},null,false,false,0]
["A/B",{"$f":"'Category Sets A-D'!AK29","v":0},{"$f":"'Category Sets A-D'!BU48","v":0},null,0,{"$f":"IF(OR(B179=\"MC\",C179=\"MC\"),\"$V$12\",\"AK29\")","v":"AK29"},"Category Sets A-D",{"$f":"IF(OR(B179=\"MC\",C179=\"MC\"),\"$V$12\",\"BU48\")","v":"BU48"},"Category Sets A-D",{"$f":"IF(E179=1,\"Calculated total of Education Environment D2  in Category Set A (AK29) ≠ Calculated total of Education Environment D2 in Category Set B (BU48)\",\"\")","v":""},null,null,null,null,null,null,null,null,null,"=IF(E179=1,\"Calculated total of Education Environment D2  in Category Set A (AK29) ≠ Calculated total of Education Environment D2 in Category Set B (BU48)\",\"\")",null,null,null,null,null,null,null,null,null,{"$f":"_xlfn.FORMULATEXT('Category Sets A-D'!AK29)","v":"=SUM(AK16:AK28)"},{"$f":"_xlfn.FORMULATEXT('Category Sets A-D'!BU48)","v":"=SUM(BU35:BU47)"},null,false,false,0]
[null,null,null,null,null,null,null,null,null,null,null,null,null,null,null,null,null,null,null,null,null,null,null,null,null,null,null,null,null,null,null,null,null,null,null,{"$f":"SUM(AI53:AI179)","v":87}]

{"sheet":"Category Sets A-D","index":4,"n_rows":72,"n_cols":225,"rows_kept":72,"cut":false,"hidden":false,"merged":[[0,0,0,16],[30,73,33,73],[59,13,59,17],[60,10,60,17],[32,65,32,72],[49,18,49,20],[32,33,32,40],[32,41,32,48],[32,57,32,64],[32,49,32,56],[32,17,32,24],[32,25,32,32],[49,10,50,17],[53,10,54,12],[53,13,53,17],[54,13,54,17],[51,10,52,12],[52,13,52,17],[32,9,32,16],[63,0,63,73],[55,10,57,12],[55,13,55,17],[56,13,56,17],[57,13,57,17],[61,0,61,7],[58,10,59,12],[58,13,58,17],[55,1,55,5],[49,0,50,5],[51,0,52,0],[53,0,54,0],[57,1,57,5],[12,33,12,36],[13,29,13,32],[30,33,30,56],[30,1,30,16],[31,9,31,16],[13,33,13,36],[30,17,30,32],[31,1,31,8],[31,41,31,48],[12,21,12,24],[51,1,51,5],[49,6,49,8],[51,13,51,17],[11,0,14,0],[11,9,11,16],[12,1,12,4],[11,17,11,28],[13,25,13,28],[12,25,12,28],[13,13,13,16],[13,1,13,4],[11,1,11,8],[12,9,12,12],[12,13,12,16],[13,5,13,8],[13,9,13,12],[52,1,52,5],[53,1,53,5],[54,1,54,5],[60,0,60,5],[58,1,58,5],[59,1,59,5],[58,0,59,0],[55,0,57,0],[56,1,56,5],[2,9,3,15],[2,16,3,16],[4,9,4,15],[5,9,5,15],[9,9,9,15],[6,9,6,15],[7,9,7,15],[30,57,30,72],[31,65,31,72],[31,33,31,40],[11,37,14,37],[30,0,33,0],[31,57,31,64],[31,49,31,56],[31,17,31,24],[31,25,31,32],[13,21,13,24],[13,17,13,20],[12,17,12,20],[32,1,32,8],[11,29,11,36],[12,29,12,32],[12,5,12,8]]}
[{"$f":"\"IDEA Child Count and Educational Environment Ages 3–5 for School Year \"&'FS089'!E13","v":"IDEA Child Count and Educational Environment Ages 3–5 for School Year "}]
[null,null,null,null,null,null,null,null,null,null,null,null,null,null,null,null,null,null,null,null,null,null,null,null,null,null,null,null,null,null,null,null,null,null,null,null,null,null,null,null,null,null,null,null,null,null,null,null,null,null,null,null,null,null,null,null,null,null,null,null,null,null,null,null,null,null,null,null,null,null,null,null,null,null,null,null,null,null,null,"3MDREC10YSVCSN","4MDREC10YSVCSN","5MDREC10YSVCSN"]
[null,null,null,null,null,null,null,null,null,"Category Set",null,null,null,null,null,null,"Calculated Category Set\nTotal"]
[]
[null,null,null,null,null,null,null,null,null,"A - Age, Disability Category, and Educational Environment",null,null,null,null,null,null,{"$f":"IF(E29+I29+M29+Q29+U29+Y29+AC29+AG29+AK29=0, \"\", E29+I29+M29+Q29+U29+Y29+AC29+AG29+AK29)","v":""}]
[null,null,null,null,null,null,null,null,null,"B - Racial Ethnic, Disability Category, and Educational Environment",null,null,null,null,null,null,{"$f":"IF(I48+Q48+Y48+AG48+AO48+AW48+BE48+BM48+BU48=0, \"\", I48+Q48+Y48+AG48+AO48+AW48+BE48+BM48+BU48)","v":""}]
[null,null,null,null,null,null,null,null,null,"C - Sex and Educational Environment",null,null,null,null,null,null,{"$f":"IF(I61=0, \"\", I61)","v":""},null,null,null,null,null,null,null,null,null,null,null,null,null,null,null,null,null,null,null,null,null,null,null,null,null,null,null,null,null,null,null,null,null,null,null,null,null,null,null,null,null,null,null,null,null,null,null,null,null,null,null,null,null,null,null,null,null,null,null,null,"Y","Total of the Education Units",{"$f":"IFERROR(IF(INDEX(Ttl_C089,MATCH(BZ7,CurrentListing_C089,0))=\"\",\"No Data\",INDEX(Ttl_C089,MATCH(BZ7,CurrentListing_C089,0))),\"MC\")","v":"MC"}]
[null,null,null,null,null,null,null,null,null,"D - English Learner Status and Educational Environment",null,null,null,null,null,null,{"$f":"IF(U61=0, \"\", U61)","v":""}]
[]
[null,null,null,null,null,null,null,null,null,"Total of the Education Unit",null,null,null,null,null,null,{"$f":"IFERROR(HYPERLINK(\"#'C089'!\"&ADDRESS(ROW(INDEX(CurrentListing_C089,MATCH(BZ7,CurrentListing_C089,0),1)),20),CB7),HYPERLINK(\"#'C089'!\"&\"$V$12\",CB7))","v":"MC"}]
[]
["Student Count\nby Age, Disability Category, and Educational Environment \n(Category Set A)","Children attending a Regular Early Childhood Program \nat least 10 hrs. per week,…\n(A) ",null,null,null,null,null,null,null,"Children attending a Regular Early Childhood Program \nless than 10 hrs. per week,…\n(B) ",null,null,null,null,null,null,null,"Children attending a Special Education Program \n(NOT in any Regular Early Childhood Program),…\n(C) ",null,null,null,null,null,null,null,null,null,null,null,"Children attending neither a Regular Early Childhood Program\nnor a Special Education Program\n(not included in (A), (B), or (C))\n(D) ",null,null,null,null,null,null,null,"Calculated\nGrand Total",null,null,null,null,null,null,null,null,null,null,null,null,null,null,null,null,null,null,null,null,null,null,null,null,null,null,null,null,null,null,null,null,null,null,null,null,null,null,null,null,"Student count\nby Age, Disability Category, and Educational Environment \n(Category Set A)","Children attending a Regular Early Childhood Program \nat least 10 hrs per week,…\n(A) ",null,null,null,null,null,null,null,"Children attending a Regular Early Childhood Program \nless than 10 hrs per week,…\n(B) ",null,null,null,null,null,null,null,"Children attending a Special Education Program \n(NOT in any regular early childhood program),…\n(C) ",null,null,null,null,null,null,null,null,null,null,null,"Children attending neither a Regular Early Childhood Program\nnor a Special Education Program\n(not included in (A), (B) or (C))\n(D) ",null,null,null,null,null,null,null,null,"Student count\nby Age, Disability Category, and Educational Environment \n(Category Set A)","Children attending a Regular Early Childhood Program \nat least 10 hrs per week,…\n(A) ",null,null,null,null,null,null,null,"Children attending a Regular Early Childhood Program \nless than 10 hrs per week,…\n(B) ",null,null,null,null,null,null,null,"Children attending a Special Education Program \n(NOT in any regular early childhood program),…\n(C) ",null,null,null,null,null,null,null,null,null,null,null,"Children attending neither a Regular Early Childhood Program\nnor a Special Education Program\n(not included in (A), (B) or (C))\n(D) "]
[null,"... and receiving the majority of hours of \nspecial education and related services in the \nRegular Early Childhood Program\n(A1)",null,null,null,"… and receiving the majority of hours of \nspecial education and related services in some \nOther Location\n(A2)",null,null,null,"… and receiving the majority of hours of \nspecial education and related services in the \nRegular Early Childhood Program\n(B1)",null,null,null,"… and receiving the majority of hours of special education and related services in some\nOther Location\n(B2)",null,null,null,"… specifically, \na Separate Special Education Class\n(C1)",null,null,null,"… specifically, \na Separate School\n(C2)",null,null,null,"… specifically, \na Residential Facility\n(C3)",null,null,null,"… and receiving the majority of hours of \nspecial education and related services \nat Home\n(D1)",null,null,null,"… and receiving the majority of hours of special education and related services \nat the Service Provider Location or some \nOther Location not in any other category\n(D2)",null,null,null,null,null,null,null,null,null,null,null,null,null,null,null,null,null,null,null,null,null,null,null,null,null,null,null,null,null,null,null,null,null,null,null,null,null,null,null,null,null,null,null,null,null,"... and receiving the majority of hours of \nspecial education and related services in the Regular Early Childhood Program\n(A1)",null,null,null,"… and receiving the majority of hours of special education and related services in some \nOther Location\n(A2)",null,null,null,"… and receiving the majority of hours of special education and related services in the \nRegular Early Childhood Program\n(B1)",null,null,null,"… and receiving the majority of hours of special education and related services in some\nOther Location\n(B2)",null,null,null,"… specifically, \na Separate Special Education Class\n(C1)",null,null,null,"… specifically, \na Separate School\n(C2)",null,null,null,"… specifically, \na Residential Facility\n(C3)",null,null,null,"… and receiving the majority of hours of \nspecial education and related services \nat Home\n(D1)",null,null,null,"… and receiving the majority of hours of special education and related services \nat the Service Provider Location or some \nOther Location not in any other category\n(D2)",null,null,null,null,null,"... and receiving the majority of hours of \nspecial education and related services in the Regular Early Childhood Program\n(A1)",null,null,null,"… and receiving the majority of hours of special education and related services in some \nOther Location\n(A2)",null,null,null,"… and receiving the majority of hours of special education and related services in the \nRegular Early Childhood Program\n(B1)",null,null,null,"… and receiving the majority of hours of special education and related services in some\nOther Location\n(B2)",null,null,null,"… specifically, \na Separate Special Education Class\n(C1)",null,null,null,"… specifically, \na Separate School\n(C2)",null,null,null,"… specifically, \na Residential Facility\n(C3)",null,null,null,"… and receiving the majority of hours of \nspecial education and related services \nat Home\n(D1)",null,null,null,"… and receiving the majority of hours of special education and related services \nat the Service Provider Location or some \nOther Location not in any other category\n(D2)"]
[null,"Age",null,null,null,"Age",null,null,null,"Age",null,null,null,"Age",null,null,null,"Age",null,null,null,"Age",null,null,null,"Age",null,null,null,"Age",null,null,null,"Age",null,null,null,null,null,null,null,null,null,null,null,null,null,null,null,null,null,null,null,null,null,null,null,null,null,null,null,null,null,null,null,null,null,null,null,null,null,null,null,null,null,null,null,null,null,"Age",null,null,null,"Age",null,null,null,"Age",null,null,null,"Age",null,null,null,"Age",null,null,null,"Age",null,null,null,"Age",null,null,null,"Age",null,null,null,"Age",null,null,null,null,null,"Age",null,null,null,"Age",null,null,null,"Age",null,null,null,"Age",null,null,null,"Age",null,null,null,"Age",null,null,null,"Age",null,null,null,"Age",null,null,null,"Age"]
[null,3,4,5,"Calculated \nTotal",3,4,5,"Calculated \nTotal",3,4,5,"Calculated \nTotal",3,4,5,"Calculated \nTotal",3,4,5,"Calculated \nTotal",3,4,5,"Calculated \nTotal",3,4,5,"Calculated \nTotal",3,4,5,"Calculated \nTotal",3,4,5,"Calculated \nTotal",null,null,null,null,null,null,null,null,null,null,null,null,null,null,null,null,null,null,null,null,null,null,null,null,null,null,null,null,null,null,null,null,null,null,null,null,null,null,null,null,null,null,3,4,5,"Calculated Total",3,4,5,"Calculated Total",3,4,5,"Calculated Total",3,4,5,"Calculated Total",3,4,5,"Calculated Total",3,4,5,"Calculated Total",3,4,5,"Calculated Total",3,4,5,"Calculated Total",3,4,5,"Calculated Total",null,null,3,4,5,"Calculated Total",3,4,5,"Calculated Total",3,4,5,"Calculated Total",3,4,5,"Calculated Total",3,4,5,"Calculated Total",3,4,5,"Calculated Total",3,4,5,"Calculated Total",3,4,5,"Calculated Total",3,4,5,"Calculated Total"]
["Intellectual Disability",{"$f":"IFERROR(HYPERLINK(\"#'C089'!\"&ADDRESS(ROW(INDEX(CurrentListing_C089,MATCH(DN16,CurrentListing_C089,0),1)),20),CB16),HYPERLINK(\"#'C089'!\"&\"$V$12\",CB16))","v":"MC"},{"$f":"IFERROR(HYPERLINK(\"#'C089'!\"&ADDRESS(ROW(INDEX(CurrentListing_C089,MATCH(DO16,CurrentListing_C089,0),1)),20),CC16),HYPERLINK(\"#'C089'!\"&\"$V$12\",CC16))","v":"MC"},{"$f":"IFERROR(HYPERLINK(\"#'C089'!\"&ADDRESS(ROW(INDEX(CurrentListing_C089,MATCH(DP16,CurrentListing_C089,0),1)),20),CD16),HYPERLINK(\"#'C089'!\"&\"$V$12\",CD16))","v":"MC"},{"$f":"SUM(B16:D16)","v":0},{"$f":"IFERROR(HYPERLINK(\"#'C089'!\"&ADDRESS(ROW(INDEX(CurrentListing_C089,MATCH(DR16,CurrentListing_C089,0),1)),20),CF16),HYPERLINK(\"#'C089'!\"&\"$V$12\",CF16))","v":"MC"},{"$f":"IFERROR(HYPERLINK(\"#'C089'!\"&ADDRESS(ROW(INDEX(CurrentListing_C089,MATCH(DS16,CurrentListing_C089,0),1)),20),CG16),HYPERLINK(\"#'C089'!\"&\"$V$12\",CG16))","v":"MC"},{"$f":"IFERROR(HYPERLINK(\"#'C089'!\"&ADDRESS(ROW(INDEX(CurrentListing_C089,MATCH(DT16,CurrentListing_C089,0),1)),20),CH16),HYPERLINK(\"#'C089'!\"&\"$V$12\",CH16))","v":"MC"},{"$f":"SUM(F16:H16)","v":0},{"$f":"IFERROR(HYPERLINK(\"#'C089'!\"&ADDRESS(ROW(INDEX(CurrentListing_C089,MATCH(DV16,CurrentListing_C089,0),1)),20),CJ16),HYPERLINK(\"#'C089'!\"&\"$V$12\",CJ16))","v":"MC"},{"$f":"IFERROR(HYPERLINK(\"#'C089'!\"&ADDRESS(ROW(INDEX(CurrentListing_C089,MATCH(DW16,CurrentListing_C089,0),1)),20),CK16),HYPERLINK(\"#'C089'!\"&\"$V$12\",CK16))","v":"MC"},{"$f":"IFERROR(HYPERLINK(\"#'C089'!\"&ADDRESS(ROW(INDEX(CurrentListing_C089,MATCH(DX16,CurrentListing_C089,0),1)),20),CL16),HYPERLINK(\"#'C089'!\"&\"$V$12\",CL16))","v":"MC"},{"$f":"SUM(J16:L16)","v":0},{"$f":"IFERROR(HYPERLINK(\"#'C089'!\"&ADDRESS(ROW(INDEX(CurrentListing_C089,MATCH(DZ16,CurrentListing_C089,0),1)),20),CN16),HYPERLINK(\"#'C089'!\"&\"$V$12\",CN16))","v":"MC"},{"$f":"IFERROR(HYPERLINK(\"#'C089'!\"&ADDRESS(ROW(INDEX(CurrentListing_C089,MATCH(EA16,CurrentListing_C089,0),1)),20),CO16),HYPERLINK(\"#'C089'!\"&\"$V$12\",CO16))","v":"MC"},{"$f":"IFERROR(HYPERLINK(\"#'C089'!\"&ADDRESS(ROW(INDEX(CurrentListing_C089,MATCH(EB16,CurrentListing_C089,0),1)),20),CP16),HYPERLINK(\"#'C089'!\"&\"$V$12\",CP16))","v":"MC"},{"$f":"SUM(N16:P16)","v":0},{"$f":"IFERROR(HYPERLINK(\"#'C089'!\"&ADDRESS(ROW(INDEX(CurrentListing_C089,MATCH(ED16,CurrentListing_C089,0),1)),20),CR16),HYPERLINK(\"#'C089'!\"&\"$V$12\",CR16))","v":"MC"},{"$f":"IFERROR(HYPERLINK(\"#'C089'!\"&ADDRESS(ROW(INDEX(CurrentListing_C089,MATCH(EE16,CurrentListing_C089,0),1)),20),CS16),HYPERLINK(\"#'C089'!\"&\"$V$12\",CS16))","v":"MC"},{"$f":"IFERROR(HYPERLINK(\"#'C089'!\"&ADDRESS(ROW(INDEX(CurrentListing_C089,MATCH(EF16,CurrentListing_C089,0),1)),20),CT16),HYPERLINK(\"#'C089'!\"&\"$V$12\",CT16))","v":"MC"},{"$f":"SUM(R16:T16)","v":0},{"$f":"IFERROR(HYPERLINK(\"#'C089'!\"&ADDRESS(ROW(INDEX(CurrentListing_C089,MATCH(EH16,CurrentListing_C089,0),1)),20),CV16),HYPERLINK(\"#'C089'!\"&\"$V$12\",CV16))","v":"MC"},{"$f":"IFERROR(HYPERLINK(\"#'C089'!\"&ADDRESS(ROW(INDEX(CurrentListing_C089,MATCH(EI16,CurrentListing_C089,0),1)),20),CW16),HYPERLINK(\"#'C089'!\"&\"$V$12\",CW16))","v":"MC"},{"$f":"IFERROR(HYPERLINK(\"#'C089'!\"&ADDRESS(ROW(INDEX(CurrentListing_C089,MATCH(EJ16,CurrentListing_C089,0),1)),20),CX16),HYPERLINK(\"#'C089'!\"&\"$V$12\",CX16))","v":"MC"},{"$f":"SUM(V16:X16)","v":0},{"$f":"IFERROR(HYPERLINK(\"#'C089'!\"&ADDRESS(ROW(INDEX(CurrentListing_C089,MATCH(EL16,CurrentListing_C089,0),1)),20),CZ16),HYPERLINK(\"#'C089'!\"&\"$V$12\",CZ16))","v":"MC"},{"$f":"IFERROR(HYPERLINK(\"#'C089'!\"&ADDRESS(ROW(INDEX(CurrentListing_C089,MATCH(EM16,CurrentListing_C089,0),1)),20),DA16),HYPERLINK(\"#'C089'!\"&\"$V$12\",DA16))","v":"MC"},{"$f":"IFERROR(HYPERLINK(\"#'C089'!\"&ADDRESS(ROW(INDEX(CurrentListing_C089,MATCH(EN16,CurrentListing_C089,0),1)),20),DB16),HYPERLINK(\"#'C089'!\"&\"$V$12\",DB16))","v":"MC"},{"$f":"SUM(Z16:AB16)","v":0},{"$f":"IFERROR(HYPERLINK(\"#'C089'!\"&ADDRESS(ROW(INDEX(CurrentListing_C089,MATCH(EP16,CurrentListing_C089,0),1)),20),DD16),HYPERLINK(\"#'C089'!\"&\"$V$12\",DD16))","v":"MC"},{"$f":"IFERROR(HYPERLINK(\"#'C089'!\"&ADDRESS(ROW(INDEX(CurrentListing_C089,MATCH(EQ16,CurrentListing_C089,0),1)),20),DE16),HYPERLINK(\"#'C089'!\"&\"$V$12\",DE16))","v":"MC"},{"$f":"IFERROR(HYPERLINK(\"#'C089'!\"&ADDRESS(ROW(INDEX(CurrentListing_C089,MATCH(ER16,CurrentListing_C089,0),1)),20),DF16),HYPERLINK(\"#'C089'!\"&\"$V$12\",DF16))","v":"MC"},{"$f":"SUM(AD16:AF16)","v":0},{"$f":"IFERROR(HYPERLINK(\"#'C089'!\"&ADDRESS(ROW(INDEX(CurrentListing_C089,MATCH(ET16,CurrentListing_C089,0),1)),20),DH16),HYPERLINK(\"#'C089'!\"&\"$V$12\",DH16))","v":"MC"},{"$f":"IFERROR(HYPERLINK(\"#'C089'!\"&ADDRESS(ROW(INDEX(CurrentListing_C089,MATCH(EU16,CurrentListing_C089,0),1)),20),DI16),HYPERLINK(\"#'C089'!\"&\"$V$12\",DI16))","v":"MC"},{"$f":"IFERROR(HYPERLINK(\"#'C089'!\"&ADDRESS(ROW(INDEX(CurrentListing_C089,MATCH(EV16,CurrentListing_C089,0),1)),20),DJ16),HYPERLINK(\"#'C089'!\"&\"$V$12\",DJ16))","v":"MC"},{"$f":"SUM(AH16:AJ16)","v":0},{"$f":"SUM(E16,I16,M16,Q16,U16,Y16,AC16,AG16,AK16)","v":0},null,null,null,null,null,null,null,null,null,null,null,null,null,null,null,null,null,null,null,null,null,null,null,null,null,null,null,null,null,null,null,null,null,null,null,null,null,null,null,null,"Intellectual Disability",{"$f":"IFERROR(IF(INDEX(Ttl_C089,MATCH(DN16,CurrentListing_C089,0))=\"\",\"No Data\",INDEX(Ttl_C089,MATCH(DN16,CurrentListing_C089,0))),\"MC\")","v":"MC"},{"$f":"IFERROR(IF(INDEX(Ttl_C089,MATCH(DO16,CurrentListing_C089,0))=\"\",\"No Data\",INDEX(Ttl_C089,MATCH(DO16,CurrentListing_C089,0))),\"MC\")","v":"MC"},{"$f":"IFERROR(IF(INDEX(Ttl_C089,MATCH(DP16,CurrentListing_C089,0))=\"\",\"No Data\",INDEX(Ttl_C089,MATCH(DP16,CurrentListing_C089,0))),\"MC\")","v":"MC"},null,{"$f":"IFERROR(IF(INDEX(Ttl_C089,MATCH(DR16,CurrentListing_C089,0))=\"\",\"No Data\",INDEX(Ttl_C089,MATCH(DR16,CurrentListing_C089,0))),\"MC\")","v":"MC"},{"$f":"IFERROR(IF(INDEX(Ttl_C089,MATCH(DS16,CurrentListing_C089,0))=\"\",\"No Data\",INDEX(Ttl_C089,MATCH(DS16,CurrentListing_C089,0))),\"MC\")","v":"MC"},{"$f":"IFERROR(IF(INDEX(Ttl_C089,MATCH(DT16,CurrentListing_C089,0))=\"\",\"No Data\",INDEX(Ttl_C089,MATCH(DT16,CurrentListing_C089,0))),\"MC\")","v":"MC"},null,{"$f":"IFERROR(IF(INDEX(Ttl_C089,MATCH(DV16,CurrentListing_C089,0))=\"\",\"No Data\",INDEX(Ttl_C089,MATCH(DV16,CurrentListing_C089,0))),\"MC\")","v":"MC"},{"$f":"IFERROR(IF(INDEX(Ttl_C089,MATCH(DW16,CurrentListing_C089,0))=\"\",\"No Data\",INDEX(Ttl_C089,MATCH(DW16,CurrentListing_C089,0))),\"MC\")","v":"MC"},{"$f":"IFERROR(IF(INDEX(Ttl_C089,MATCH(DX16,CurrentListing_C089,0))=\"\",\"No Data\",INDEX(Ttl_C089,MATCH(DX16,CurrentListing_C089,0))),\"MC\")","v":"MC"},null,{"$f":"IFERROR(IF(INDEX(Ttl_C089,MATCH(DZ16,CurrentListing_C089,0))=\"\",\"No Data\",INDEX(Ttl_C089,MATCH(DZ16,CurrentListing_C089,0))),\"MC\")","v":"MC"},{"$f":"IFERROR(IF(INDEX(Ttl_C089,MATCH(EA16,CurrentListing_C089,0))=\"\",\"No Data\",INDEX(Ttl_C089,MATCH(EA16,CurrentListing_C089,0))),\"MC\")","v":"MC"},{"$f":"IFERROR(IF(INDEX(Ttl_C089,MATCH(EB16,CurrentListing_C089,0))=\"\",\"No Data\",INDEX(Ttl_C089,MATCH(EB16,CurrentListing_C089,0))),\"MC\")","v":"MC"},null,{"$f":"IFERROR(IF(INDEX(Ttl_C089,MATCH(ED16,CurrentListing_C089,0))=\"\",\"No Data\",INDEX(Ttl_C089,MATCH(ED16,CurrentListing_C089,0))),\"MC\")","v":"MC"},{"$f":"IFERROR(IF(INDEX(Ttl_C089,MATCH(EE16,CurrentListing_C089,0))=\"\",\"No Data\",INDEX(Ttl_C089,MATCH(EE16,CurrentListing_C089,0))),\"MC\")","v":"MC"},{"$f":"IFERROR(IF(INDEX(Ttl_C089,MATCH(EF16,CurrentListing_C089,0))=\"\",\"No Data\",INDEX(Ttl_C089,MATCH(EF16,CurrentListing_C089,0))),\"MC\")","v":"MC"},null,{"$f":"IFERROR(IF(INDEX(Ttl_C089,MATCH(EH16,CurrentListing_C089,0))=\"\",\"No Data\",INDEX(Ttl_C089,MATCH(EH16,CurrentListing_C089,0))),\"MC\")","v":"MC"},{"$f":"IFERROR(IF(INDEX(Ttl_C089,MATCH(EI16,CurrentListing_C089,0))=\"\",\"No Data\",INDEX(Ttl_C089,MATCH(EI16,CurrentListing_C089,0))),\"MC\")","v":"MC"},{"$f":"IFERROR(IF(INDEX(Ttl_C089,MATCH(EJ16,CurrentListing_C089,0))=\"\",\"No Data\",INDEX(Ttl_C089,MATCH(EJ16,CurrentListing_C089,0))),\"MC\")","v":"MC"},null,{"$f":"IFERROR(IF(INDEX(Ttl_C089,MATCH(EL16,CurrentListing_C089,0))=\"\",\"No Data\",INDEX(Ttl_C089,MATCH(EL16,CurrentListing_C089,0))),\"MC\")","v":"MC"},{"$f":"IFERROR(IF(INDEX(Ttl_C089,MATCH(EM16,CurrentListing_C089,0))=\"\",\"No Data\",INDEX(Ttl_C089,MATCH(EM16,CurrentListing_C089,0))),\"MC\")","v":"MC"},{"$f":"IFERROR(IF(INDEX(Ttl_C089,MATCH(EN16,CurrentListing_C089,0))=\"\",\"No Data\",INDEX(Ttl_C089,MATCH(EN16,CurrentListing_C089,0))),\"MC\")","v":"MC"},null,{"$f":"IFERROR(IF(INDEX(Ttl_C089,MATCH(EP16,CurrentListing_C089,0))=\"\",\"No Data\",INDEX(Ttl_C089,MATCH(EP16,CurrentListing_C089,0))),\"MC\")","v":"MC"},{"$f":"IFERROR(IF(INDEX(Ttl_C089,MATCH(EQ16,CurrentListing_C089,0))=\"\",\"No Data\",INDEX(Ttl_C089,MATCH(EQ16,CurrentListing_C089,0))),\"MC\")","v":"MC"},{"$f":"IFERROR(IF(INDEX(Ttl_C089,MATCH(ER16,CurrentListing_C089,0))=\"\",\"No Data\",INDEX(Ttl_C089,MATCH(ER16,CurrentListing_C089,0))),\"MC\")","v":"MC"},null,{"$f":"IFERROR(IF(INDEX(Ttl_C089,MATCH(ET16,CurrentListing_C089,0))=\"\",\"No Data\",INDEX(Ttl_C089,MATCH(ET16,CurrentListing_C089,0))),\"MC\")","v":"MC"},{"$f":"IFERROR(IF(INDEX(Ttl_C089,MATCH(EU16,CurrentListing_C089,0))=\"\",\"No Data\",INDEX(Ttl_C089,MATCH(EU16,CurrentListing_C089,0))),\"MC\")","v":"MC"},{"$f":"IFERROR(IF(INDEX(Ttl_C089,MATCH(EV16,CurrentListing_C089,0))=\"\",\"No Data\",INDEX(Ttl_C089,MATCH(EV16,CurrentListing_C089,0))),\"MC\")","v":"MC"},null,null,"Intellectual Disability","3IDREC10YSVCSN","4IDREC10YSVCSN","AGE05NOTKIDREC10YSVCSN",null,"3IDREC10YOTHLOCN","4IDREC10YOTHLOCN","AGE05NOTKIDREC10YOTHLOCN",null,"3IDREC09YSVCSN","4IDREC09YSVCSN","AGE05NOTKIDREC09YSVCSN",null,"3IDREC09YOTHLOCN","4IDREC09YOTHLOCN","AGE05NOTKIDREC09YOTHLOCN",null,"3IDSCN","4IDSCN","AGE05NOTKIDSCN",null,"3IDSSN","4IDSSN","AGE05NOTKIDSSN",null,"3IDRFN","4IDRFN","AGE05NOTKIDRFN",null,"3IDHN","4IDHN","AGE05NOTKIDHN",null,"3IDSPLN","4IDSPLN","AGE05NOTKIDSPLN"]
["Hearing Impairment",{"$f":"IFERROR(HYPERLINK(\"#'C089'!\"&ADDRESS(ROW(INDEX(CurrentListing_C089,MATCH(DN17,CurrentListing_C089,0),1)),20),CB17),HYPERLINK(\"#'C089'!\"&\"$V$12\",CB17))","v":"MC"},{"$f":"IFERROR(HYPERLINK(\"#'C089'!\"&ADDRESS(ROW(INDEX(CurrentListing_C089,MATCH(DO17,CurrentListing_C089,0),1)),20),CC17),HYPERLINK(\"#'C089'!\"&\"$V$12\",CC17))","v":"MC"},{"$f":"IFERROR(HYPERLINK(\"#'C089'!\"&ADDRESS(ROW(INDEX(CurrentListing_C089,MATCH(DP17,CurrentListing_C089,0),1)),20),CD17),HYPERLINK(\"#'C089'!\"&\"$V$12\",CD17))","v":"MC"},{"$f":"SUM(B17:D17)","v":0},{"$f":"IFERROR(HYPERLINK(\"#'C089'!\"&ADDRESS(ROW(INDEX(CurrentListing_C089,MATCH(DR17,CurrentListing_C089,0),1)),20),CF17),HYPERLINK(\"#'C089'!\"&\"$V$12\",CF17))","v":"MC"},{"$f":"IFERROR(HYPERLINK(\"#'C089'!\"&ADDRESS(ROW(INDEX(CurrentListing_C089,MATCH(DS17,CurrentListing_C089,0),1)),20),CG17),HYPERLINK(\"#'C089'!\"&\"$V$12\",CG17))","v":"MC"},{"$f":"IFERROR(HYPERLINK(\"#'C089'!\"&ADDRESS(ROW(INDEX(CurrentListing_C089,MATCH(DT17,CurrentListing_C089,0),1)),20),CH17),HYPERLINK(\"#'C089'!\"&\"$V$12\",CH17))","v":"MC"},{"$f":"SUM(F17:H17)","v":0},{"$f":"IFERROR(HYPERLINK(\"#'C089'!\"&ADDRESS(ROW(INDEX(CurrentListing_C089,MATCH(DV17,CurrentListing_C089,0),1)),20),CJ17),HYPERLINK(\"#'C089'!\"&\"$V$12\",CJ17))","v":"MC"},{"$f":"IFERROR(HYPERLINK(\"#'C089'!\"&ADDRESS(ROW(INDEX(CurrentListing_C089,MATCH(DW17,CurrentListing_C089,0),1)),20),CK17),HYPERLINK(\"#'C089'!\"&\"$V$12\",CK17))","v":"MC"},{"$f":"IFERROR(HYPERLINK(\"#'C089'!\"&ADDRESS(ROW(INDEX(CurrentListing_C089,MATCH(DX17,CurrentListing_C089,0),1)),20),CL17),HYPERLINK(\"#'C089'!\"&\"$V$12\",CL17))","v":"MC"},{"$f":"SUM(J17:L17)","v":0},{"$f":"IFERROR(HYPERLINK(\"#'C089'!\"&ADDRESS(ROW(INDEX(CurrentListing_C089,MATCH(DZ17,CurrentListing_C089,0),1)),20),CN17),HYPERLINK(\"#'C089'!\"&\"$V$12\",CN17))","v":"MC"},{"$f":"IFERROR(HYPERLINK(\"#'C089'!\"&ADDRESS(ROW(INDEX(CurrentListing_C089,MATCH(EA17,CurrentListing_C089,0),1)),20),CO17),HYPERLINK(\"#'C089'!\"&\"$V$12\",CO17))","v":"MC"},{"$f":"IFERROR(HYPERLINK(\"#'C089'!\"&ADDRESS(ROW(INDEX(CurrentListing_C089,MATCH(EB17,CurrentListing_C089,0),1)),20),CP17),HYPERLINK(\"#'C089'!\"&\"$V$12\",CP17))","v":"MC"},{"$f":"SUM(N17:P17)","v":0},{"$f":"IFERROR(HYPERLINK(\"#'C089'!\"&ADDRESS(ROW(INDEX(CurrentListing_C089,MATCH(ED17,CurrentListing_C089,0),1)),20),CR17),HYPERLINK(\"#'C089'!\"&\"$V$12\",CR17))","v":"MC"},{"$f":"IFERROR(HYPERLINK(\"#'C089'!\"&ADDRESS(ROW(INDEX(CurrentListing_C089,MATCH(EE17,CurrentListing_C089,0),1)),20),CS17),HYPERLINK(\"#'C089'!\"&\"$V$12\",CS17))","v":"MC"},{"$f":"IFERROR(HYPERLINK(\"#'C089'!\"&ADDRESS(ROW(INDEX(CurrentListing_C089,MATCH(EF17,CurrentListing_C089,0),1)),20),CT17),HYPERLINK(\"#'C089'!\"&\"$V$12\",CT17))","v":"MC"},{"$f":"SUM(R17:T17)","v":0},{"$f":"IFERROR(HYPERLINK(\"#'C089'!\"&ADDRESS(ROW(INDEX(CurrentListing_C089,MATCH(EH17,CurrentListing_C089,0),1)),20),CV17),HYPERLINK(\"#'C089'!\"&\"$V$12\",CV17))","v":"MC"},{"$f":"IFERROR(HYPERLINK(\"#'C089'!\"&ADDRESS(ROW(INDEX(CurrentListing_C089,MATCH(EI17,CurrentListing_C089,0),1)),20),CW17),HYPERLINK(\"#'C089'!\"&\"$V$12\",CW17))","v":"MC"},{"$f":"IFERROR(HYPERLINK(\"#'C089'!\"&ADDRESS(ROW(INDEX(CurrentListing_C089,MATCH(EJ17,CurrentListing_C089,0),1)),20),CX17),HYPERLINK(\"#'C089'!\"&\"$V$12\",CX17))","v":"MC"},{"$f":"SUM(V17:X17)","v":0},{"$f":"IFERROR(HYPERLINK(\"#'C089'!\"&ADDRESS(ROW(INDEX(CurrentListing_C089,MATCH(EL17,CurrentListing_C089,0),1)),20),CZ17),HYPERLINK(\"#'C089'!\"&\"$V$12\",CZ17))","v":"MC"},{"$f":"IFERROR(HYPERLINK(\"#'C089'!\"&ADDRESS(ROW(INDEX(CurrentListing_C089,MATCH(EM17,CurrentListing_C089,0),1)),20),DA17),HYPERLINK(\"#'C089'!\"&\"$V$12\",DA17))","v":"MC"},{"$f":"IFERROR(HYPERLINK(\"#'C089'!\"&ADDRESS(ROW(INDEX(CurrentListing_C089,MATCH(EN17,CurrentListing_C089,0),1)),20),DB17),HYPERLINK(\"#'C089'!\"&\"$V$12\",DB17))","v":"MC"},{"$f":"SUM(Z17:AB17)","v":0},{"$f":"IFERROR(HYPERLINK(\"#'C089'!\"&ADDRESS(ROW(INDEX(CurrentListing_C089,MATCH(EP17,CurrentListing_C089,0),1)),20),DD17),HYPERLINK(\"#'C089'!\"&\"$V$12\",DD17))","v":"MC"},{"$f":"IFERROR(HYPERLINK(\"#'C089'!\"&ADDRESS(ROW(INDEX(CurrentListing_C089,MATCH(EQ17,CurrentListing_C089,0),1)),20),DE17),HYPERLINK(\"#'C089'!\"&\"$V$12\",DE17))","v":"MC"},{"$f":"IFERROR(HYPERLINK(\"#'C089'!\"&ADDRESS(ROW(INDEX(CurrentListing_C089,MATCH(ER17,CurrentListing_C089,0),1)),20),DF17),HYPERLINK(\"#'C089'!\"&\"$V$12\",DF17))","v":"MC"},{"$f":"SUM(AD17:AF17)","v":0},{"$f":"IFERROR(HYPERLINK(\"#'C089'!\"&ADDRESS(ROW(INDEX(CurrentListing_C089,MATCH(ET17,CurrentListing_C089,0),1)),20),DH17),HYPERLINK(\"#'C089'!\"&\"$V$12\",DH17))","v":"MC"},{"$f":"IFERROR(HYPERLINK(\"#'C089'!\"&ADDRESS(ROW(INDEX(CurrentListing_C089,MATCH(EU17,CurrentListing_C089,0),1)),20),DI17),HYPERLINK(\"#'C089'!\"&\"$V$12\",DI17))","v":"MC"},{"$f":"IFERROR(HYPERLINK(\"#'C089'!\"&ADDRESS(ROW(INDEX(CurrentListing_C089,MATCH(EV17,CurrentListing_C089,0),1)),20),DJ17),HYPERLINK(\"#'C089'!\"&\"$V$12\",DJ17))","v":"MC"},{"$f":"SUM(AH17:AJ17)","v":0},{"$f":"SUM(E17,I17,M17,Q17,U17,Y17,AC17,AG17,AK17)","v":0},null,null,null,null,null,null,null,null,null,null,null,null,null,null,null,null,null,null,null,null,null,null,null,null,null,null,null,null,null,null,null,null,null,null,null,null,null,null,null,null,"Hearing Impairment","MC","MC","MC",null,"MC","MC","MC",null,"MC","MC","MC",null,"MC","MC","MC",null,"MC","MC","MC",null,"MC","MC","MC",null,"MC","MC","MC",null,"MC","MC","MC",null,"MC","MC","MC",null,null,"Hearing Impairment","3HIREC10YSVCSN","4HIREC10YSVCSN","AGE05NOTKHIREC10YSVCSN",null,"3HIREC10YOTHLOCN","4HIREC10YOTHLOCN","AGE05NOTKHIREC10YOTHLOCN",null,"3HIREC09YSVCSN","4HIREC09YSVCSN","AGE05NOTKHIREC09YSVCSN",null,"3HIREC09YOTHLOCN","4HIREC09YOTHLOCN","AGE05NOTKHIREC09YOTHLOCN",null,"3HISCN","4HISCN","AGE05NOTKHISCN",null,"3HISSN","4HISSN","AGE05NOTKHISSN",null,"3HIRFN","4HIRFN","AGE05NOTKHIRFN",null,"3HIHN","4HIHN","AGE05NOTKHIHN",null,"3HISPLN","4HISPLN","AGE05NOTKHISPLN"]
["Speech or Language Impairment",{"$f":"IFERROR(HYPERLINK(\"#'C089'!\"&ADDRESS(ROW(INDEX(CurrentListing_C089,MATCH(DN18,CurrentListing_C089,0),1)),20),CB18),HYPERLINK(\"#'C089'!\"&\"$V$12\",CB18))","v":"MC"},{"$f":"IFERROR(HYPERLINK(\"#'C089'!\"&ADDRESS(ROW(INDEX(CurrentListing_C089,MATCH(DO18,CurrentListing_C089,0),1)),20),CC18),HYPERLINK(\"#'C089'!\"&\"$V$12\",CC18))","v":"MC"},{"$f":"IFERROR(HYPERLINK(\"#'C089'!\"&ADDRESS(ROW(INDEX(CurrentListing_C089,MATCH(DP18,CurrentListing_C089,0),1)),20),CD18),HYPERLINK(\"#'C089'!\"&\"$V$12\",CD18))","v":"MC"},0,{"$f":"IFERROR(HYPERLINK(\"#'C089'!\"&ADDRESS(ROW(INDEX(CurrentListing_C089,MATCH(DR18,CurrentListing_C089,0),1)),20),CF18),HYPERLINK(\"#'C089'!\"&\"$V$12\",CF18))","v":"MC"},{"$f":"IFERROR(HYPERLINK(\"#'C089'!\"&ADDRESS(ROW(INDEX(CurrentListing_C089,MATCH(DS18,CurrentListing_C089,0),1)),20),CG18),HYPERLINK(\"#'C089'!\"&\"$V$12\",CG18))","v":"MC"},{"$f":"IFERROR(HYPERLINK(\"#'C089'!\"&ADDRESS(ROW(INDEX(CurrentListing_C089,MATCH(DT18,CurrentListing_C089,0),1)),20),CH18),HYPERLINK(\"#'C089'!\"&\"$V$12\",CH18))","v":"MC"},0,{"$f":"IFERROR(HYPERLINK(\"#'C089'!\"&ADDRESS(ROW(INDEX(CurrentListing_C089,MATCH(DV18,CurrentListing_C089,0),1)),20),CJ18),HYPERLINK(\"#'C089'!\"&\"$V$12\",CJ18))","v":"MC"},{"$f":"IFERROR(HYPERLINK(\"#'C089'!\"&ADDRESS(ROW(INDEX(CurrentListing_C089,MATCH(DW18,CurrentListing_C089,0),1)),20),CK18),HYPERLINK(\"#'C089'!\"&\"$V$12\",CK18))","v":"MC"},{"$f":"IFERROR(HYPERLINK(\"#'C089'!\"&ADDRESS(ROW(INDEX(CurrentListing_C089,MATCH(DX18,CurrentListing_C089,0),1)),20),CL18),HYPERLINK(\"#'C089'!\"&\"$V$12\",CL18))","v":"MC"},0,{"$f":"IFERROR(HYPERLINK(\"#'C089'!\"&ADDRESS(ROW(INDEX(CurrentListing_C089,MATCH(DZ18,CurrentListing_C089,0),1)),20),CN18),HYPERLINK(\"#'C089'!\"&\"$V$12\",CN18))","v":"MC"},{"$f":"IFERROR(HYPERLINK(\"#'C089'!\"&ADDRESS(ROW(INDEX(CurrentListing_C089,MATCH(EA18,CurrentListing_C089,0),1)),20),CO18),HYPERLINK(\"#'C089'!\"&\"$V$12\",CO18))","v":"MC"},{"$f":"IFERROR(HYPERLINK(\"#'C089'!\"&ADDRESS(ROW(INDEX(CurrentListing_C089,MATCH(EB18,CurrentListing_C089,0),1)),20),CP18),HYPERLINK(\"#'C089'!\"&\"$V$12\",CP18))","v":"MC"},0,{"$f":"IFERROR(HYPERLINK(\"#'C089'!\"&ADDRESS(ROW(INDEX(CurrentListing_C089,MATCH(ED18,CurrentListing_C089,0),1)),20),CR18),HYPERLINK(\"#'C089'!\"&\"$V$12\",CR18))","v":"MC"},{"$f":"IFERROR(HYPERLINK(\"#'C089'!\"&ADDRESS(ROW(INDEX(CurrentListing_C089,MATCH(EE18,CurrentListing_C089,0),1)),20),CS18),HYPERLINK(\"#'C089'!\"&\"$V$12\",CS18))","v":"MC"},{"$f":"IFERROR(HYPERLINK(\"#'C089'!\"&ADDRESS(ROW(INDEX(CurrentListing_C089,MATCH(EF18,CurrentListing_C089,0),1)),20),CT18),HYPERLINK(\"#'C089'!\"&\"$V$12\",CT18))","v":"MC"},0,{"$f":"IFERROR(HYPERLINK(\"#'C089'!\"&ADDRESS(ROW(INDEX(CurrentListing_C089,MATCH(EH18,CurrentListing_C089,0),1)),20),CV18),HYPERLINK(\"#'C089'!\"&\"$V$12\",CV18))","v":"MC"},{"$f":"IFERROR(HYPERLINK(\"#'C089'!\"&ADDRESS(ROW(INDEX(CurrentListing_C089,MATCH(EI18,CurrentListing_C089,0),1)),20),CW18),HYPERLINK(\"#'C089'!\"&\"$V$12\",CW18))","v":"MC"},{"$f":"IFERROR(HYPERLINK(\"#'C089'!\"&ADDRESS(ROW(INDEX(CurrentListing_C089,MATCH(EJ18,CurrentListing_C089,0),1)),20),CX18),HYPERLINK(\"#'C089'!\"&\"$V$12\",CX18))","v":"MC"},0,{"$f":"IFERROR(HYPERLINK(\"#'C089'!\"&ADDRESS(ROW(INDEX(CurrentListing_C089,MATCH(EL18,CurrentListing_C089,0),1)),20),CZ18),HYPERLINK(\"#'C089'!\"&\"$V$12\",CZ18))","v":"MC"},{"$f":"IFERROR(HYPERLINK(\"#'C089'!\"&ADDRESS(ROW(INDEX(CurrentListing_C089,MATCH(EM18,CurrentListing_C089,0),1)),20),DA18),HYPERLINK(\"#'C089'!\"&\"$V$12\",DA18))","v":"MC"},{"$f":"IFERROR(HYPERLINK(\"#'C089'!\"&ADDRESS(ROW(INDEX(CurrentListing_C089,MATCH(EN18,CurrentListing_C089,0),1)),20),DB18),HYPERLINK(\"#'C089'!\"&\"$V$12\",DB18))","v":"MC"},0,{"$f":"IFERROR(HYPERLINK(\"#'C089'!\"&ADDRESS(ROW(INDEX(CurrentListing_C089,MATCH(EP18,CurrentListing_C089,0),1)),20),DD18),HYPERLINK(\"#'C089'!\"&\"$V$12\",DD18))","v":"MC"},{"$f":"IFERROR(HYPERLINK(\"#'C089'!\"&ADDRESS(ROW(INDEX(CurrentListing_C089,MATCH(EQ18,CurrentListing_C089,0),1)),20),DE18),HYPERLINK(\"#'C089'!\"&\"$V$12\",DE18))","v":"MC"},{"$f":"IFERROR(HYPERLINK(\"#'C089'!\"&ADDRESS(ROW(INDEX(CurrentListing_C089,MATCH(ER18,CurrentListing_C089,0),1)),20),DF18),HYPERLINK(\"#'C089'!\"&\"$V$12\",DF18))","v":"MC"},0,{"$f":"IFERROR(HYPERLINK(\"#'C089'!\"&ADDRESS(ROW(INDEX(CurrentListing_C089,MATCH(ET18,CurrentListing_C089,0),1)),20),DH18),HYPERLINK(\"#'C089'!\"&\"$V$12\",DH18))","v":"MC"},{"$f":"IFERROR(HYPERLINK(\"#'C089'!\"&ADDRESS(ROW(INDEX(CurrentListing_C089,MATCH(EU18,CurrentListing_C089,0),1)),20),DI18),HYPERLINK(\"#'C089'!\"&\"$V$12\",DI18))","v":"MC"},{"$f":"IFERROR(HYPERLINK(\"#'C089'!\"&ADDRESS(ROW(INDEX(CurrentListing_C089,MATCH(EV18,CurrentListing_C089,0),1)),20),DJ18),HYPERLINK(\"#'C089'!\"&\"$V$12\",DJ18))","v":"MC"},0,0,null,null,null,null,null,null,null,null,null,null,null,null,null,null,null,null,null,null,null,null,null,null,null,null,null,null,null,null,null,null,null,null,null,null,null,null,null,null,null,null,"Speech or Language Impairment","MC","MC","MC",null,"MC","MC","MC",null,"MC","MC","MC",null,"MC","MC","MC",null,"MC","MC","MC",null,"MC","MC","MC",null,"MC","MC","MC",null,"MC","MC","MC",null,"MC","MC","MC",null,null,"Speech or Language Impairment","3SLIREC10YSVCSN","4SLIREC10YSVCSN","AGE05NOTKSLIREC10YSVCSN",null,"3SLIREC10YOTHLOCN","4SLIREC10YOTHLOCN","AGE05NOTKSLIREC10YOTHLOCN",null,"3SLIREC09YSVCSN","4SLIREC09YSVCSN","AGE05NOTKSLIREC09YSVCSN",null,"3SLIREC09YOTHLOCN","4SLIREC09YOTHLOCN","AGE05NOTKSLIREC09YOTHLOCN",null,"3SLISCN","4SLISCN","AGE05NOTKSLISCN",null,"3SLISSN","4SLISSN","AGE05NOTKSLISSN",null,"3SLIRFN","4SLIRFN","AGE05NOTKSLIRFN",null,"3SLIHN","4SLIHN","AGE05NOTKSLIHN",null,"3SLISPLN","4SLISPLN","AGE05NOTKSLISPLN"]
["Visual Impairment",{"$f":"IFERROR(HYPERLINK(\"#'C089'!\"&ADDRESS(ROW(INDEX(CurrentListing_C089,MATCH(DN19,CurrentListing_C089,0),1)),20),CB19),HYPERLINK(\"#'C089'!\"&\"$V$12\",CB19))","v":"MC"},{"$f":"IFERROR(HYPERLINK(\"#'C089'!\"&ADDRESS(ROW(INDEX(CurrentListing_C089,MATCH(DO19,CurrentListing_C089,0),1)),20),CC19),HYPERLINK(\"#'C089'!\"&\"$V$12\",CC19))","v":"MC"},{"$f":"IFERROR(HYPERLINK(\"#'C089'!\"&ADDRESS(ROW(INDEX(CurrentListing_C089,MATCH(DP19,CurrentListing_C089,0),1)),20),CD19),HYPERLINK(\"#'C089'!\"&\"$V$12\",CD19))","v":"MC"},0,{"$f":"IFERROR(HYPERLINK(\"#'C089'!\"&ADDRESS(ROW(INDEX(CurrentListing_C089,MATCH(DR19,CurrentListing_C089,0),1)),20),CF19),HYPERLINK(\"#'C089'!\"&\"$V$12\",CF19))","v":"MC"},{"$f":"IFERROR(HYPERLINK(\"#'C089'!\"&ADDRESS(ROW(INDEX(CurrentListing_C089,MATCH(DS19,CurrentListing_C089,0),1)),20),CG19),HYPERLINK(\"#'C089'!\"&\"$V$12\",CG19))","v":"MC"},{"$f":"IFERROR(HYPERLINK(\"#'C089'!\"&ADDRESS(ROW(INDEX(CurrentListing_C089,MATCH(DT19,CurrentListing_C089,0),1)),20),CH19),HYPERLINK(\"#'C089'!\"&\"$V$12\",CH19))","v":"MC"},0,{"$f":"IFERROR(HYPERLINK(\"#'C089'!\"&ADDRESS(ROW(INDEX(CurrentListing_C089,MATCH(DV19,CurrentListing_C089,0),1)),20),CJ19),HYPERLINK(\"#'C089'!\"&\"$V$12\",CJ19))","v":"MC"},{"$f":"IFERROR(HYPERLINK(\"#'C089'!\"&ADDRESS(ROW(INDEX(CurrentListing_C089,MATCH(DW19,CurrentListing_C089,0),1)),20),CK19),HYPERLINK(\"#'C089'!\"&\"$V$12\",CK19))","v":"MC"},{"$f":"IFERROR(HYPERLINK(\"#'C089'!\"&ADDRESS(ROW(INDEX(CurrentListing_C089,MATCH(DX19,CurrentListing_C089,0),1)),20),CL19),HYPERLINK(\"#'C089'!\"&\"$V$12\",CL19))","v":"MC"},0,{"$f":"IFERROR(HYPERLINK(\"#'C089'!\"&ADDRESS(ROW(INDEX(CurrentListing_C089,MATCH(DZ19,CurrentListing_C089,0),1)),20),CN19),HYPERLINK(\"#'C089'!\"&\"$V$12\",CN19))","v":"MC"},{"$f":"IFERROR(HYPERLINK(\"#'C089'!\"&ADDRESS(ROW(INDEX(CurrentListing_C089,MATCH(EA19,CurrentListing_C089,0),1)),20),CO19),HYPERLINK(\"#'C089'!\"&\"$V$12\",CO19))","v":"MC"},{"$f":"IFERROR(HYPERLINK(\"#'C089'!\"&ADDRESS(ROW(INDEX(CurrentListing_C089,MATCH(EB19,CurrentListing_C089,0),1)),20),CP19),HYPERLINK(\"#'C089'!\"&\"$V$12\",CP19))","v":"MC"},0,{"$f":"IFERROR(HYPERLINK(\"#'C089'!\"&ADDRESS(ROW(INDEX(CurrentListing_C089,MATCH(ED19,CurrentListing_C089,0),1)),20),CR19),HYPERLINK(\"#'C089'!\"&\"$V$12\",CR19))","v":"MC"},{"$f":"IFERROR(HYPERLINK(\"#'C089'!\"&ADDRESS(ROW(INDEX(CurrentListing_C089,MATCH(EE19,CurrentListing_C089,0),1)),20),CS19),HYPERLINK(\"#'C089'!\"&\"$V$12\",CS19))","v":"MC"},{"$f":"IFERROR(HYPERLINK(\"#'C089'!\"&ADDRESS(ROW(INDEX(CurrentListing_C089,MATCH(EF19,CurrentListing_C089,0),1)),20),CT19),HYPERLINK(\"#'C089'!\"&\"$V$12\",CT19))","v":"MC"},0,{"$f":"IFERROR(HYPERLINK(\"#'C089'!\"&ADDRESS(ROW(INDEX(CurrentListing_C089,MATCH(EH19,CurrentListing_C089,0),1)),20),CV19),HYPERLINK(\"#'C089'!\"&\"$V$12\",CV19))","v":"MC"},{"$f":"IFERROR(HYPERLINK(\"#'C089'!\"&ADDRESS(ROW(INDEX(CurrentListing_C089,MATCH(EI19,CurrentListing_C089,0),1)),20),CW19),HYPERLINK(\"#'C089'!\"&\"$V$12\",CW19))","v":"MC"},{"$f":"IFERROR(HYPERLINK(\"#'C089'!\"&ADDRESS(ROW(INDEX(CurrentListing_C089,MATCH(EJ19,CurrentListing_C089,0),1)),20),CX19),HYPERLINK(\"#'C089'!\"&\"$V$12\",CX19))","v":"MC"},0,{"$f":"IFERROR(HYPERLINK(\"#'C089'!\"&ADDRESS(ROW(INDEX(CurrentListing_C089,MATCH(EL19,CurrentListing_C089,0),1)),20),CZ19),HYPERLINK(\"#'C089'!\"&\"$V$12\",CZ19))","v":"MC"},{"$f":"IFERROR(HYPERLINK(\"#'C089'!\"&ADDRESS(ROW(INDEX(CurrentListing_C089,MATCH(EM19,CurrentListing_C089,0),1)),20),DA19),HYPERLINK(\"#'C089'!\"&\"$V$12\",DA19))","v":"MC"},{"$f":"IFERROR(HYPERLINK(\"#'C089'!\"&ADDRESS(ROW(INDEX(CurrentListing_C089,MATCH(EN19,CurrentListing_C089,0),1)),20),DB19),HYPERLINK(\"#'C089'!\"&\"$V$12\",DB19))","v":"MC"},0,{"$f":"IFERROR(HYPERLINK(\"#'C089'!\"&ADDRESS(ROW(INDEX(CurrentListing_C089,MATCH(EP19,CurrentListing_C089,0),1)),20),DD19),HYPERLINK(\"#'C089'!\"&\"$V$12\",DD19))","v":"MC"},{"$f":"IFERROR(HYPERLINK(\"#'C089'!\"&ADDRESS(ROW(INDEX(CurrentListing_C089,MATCH(EQ19,CurrentListing_C089,0),1)),20),DE19),HYPERLINK(\"#'C089'!\"&\"$V$12\",DE19))","v":"MC"},{"$f":"IFERROR(HYPERLINK(\"#'C089'!\"&ADDRESS(ROW(INDEX(CurrentListing_C089,MATCH(ER19,CurrentListing_C089,0),1)),20),DF19),HYPERLINK(\"#'C089'!\"&\"$V$12\",DF19))","v":"MC"},0,{"$f":"IFERROR(HYPERLINK(\"#'C089'!\"&ADDRESS(ROW(INDEX(CurrentListing_C089,MATCH(ET19,CurrentListing_C089,0),1)),20),DH19),HYPERLINK(\"#'C089'!\"&\"$V$12\",DH19))","v":"MC"},{"$f":"IFERROR(HYPERLINK(\"#'C089'!\"&ADDRESS(ROW(INDEX(CurrentListing_C089,MATCH(EU19,CurrentListing_C089,0),1)),20),DI19),HYPERLINK(\"#'C089'!\"&\"$V$12\",DI19))","v":"MC"},{"$f":"IFERROR(HYPERLINK(\"#'C089'!\"&ADDRESS(ROW(INDEX(CurrentListing_C089,MATCH(EV19,CurrentListing_C089,0),1)),20),DJ19),HYPERLINK(\"#'C089'!\"&\"$V$12\",DJ19))","v":"MC"},0,0,null,null,null,null,null,null,null,null,null,null,null,null,null,null,null,null,null,null,null,null,null,null,null,null,null,null,null,null,null,null,null,null,null,null,null,null,null,null,null,null,"Visual Impairment","MC","MC","MC",null,"MC","MC","MC",null,"MC","MC","MC",null,"MC","MC","MC",null,"MC","MC","MC",null,"MC","MC","MC",null,"MC","MC","MC",null,"MC","MC","MC",null,"MC","MC","MC",null,null,"Visual Impairment","3VIREC10YSVCSN","4VIREC10YSVCSN","AGE05NOTKVIREC10YSVCSN",null,"3VIREC10YOTHLOCN","4VIREC10YOTHLOCN","AGE05NOTKVIREC10YOTHLOCN",null,"3VIREC09YSVCSN","4VIREC09YSVCSN","AGE05NOTKVIREC09YSVCSN",null,"3VIREC09YOTHLOCN","4VIREC09YOTHLOCN","AGE05NOTKVIREC09YOTHLOCN",null,"3VISCN","4VISCN","AGE05NOTKVISCN",null,"3VISSN","4VISSN","AGE05NOTKVISSN",null,"3VIRFN","4VIRFN","AGE05NOTKVIRFN",null,"3VIHN","4VIHN","AGE05NOTKVIHN",null,"3VISPLN","4VISPLN","AGE05NOTKVISPLN"]
["Emotional Disturbance",{"$f":"IFERROR(HYPERLINK(\"#'C089'!\"&ADDRESS(ROW(INDEX(CurrentListing_C089,MATCH(DN20,CurrentListing_C089,0),1)),20),CB20),HYPERLINK(\"#'C089'!\"&\"$V$12\",CB20))","v":"MC"},{"$f":"IFERROR(HYPERLINK(\"#'C089'!\"&ADDRESS(ROW(INDEX(CurrentListing_C089,MATCH(DO20,CurrentListing_C089,0),1)),20),CC20),HYPERLINK(\"#'C089'!\"&\"$V$12\",CC20))","v":"MC"},{"$f":"IFERROR(HYPERLINK(\"#'C089'!\"&ADDRESS(ROW(INDEX(CurrentListing_C089,MATCH(DP20,CurrentListing_C089,0),1)),20),CD20),HYPERLINK(\"#'C089'!\"&\"$V$12\",CD20))","v":"MC"},0,{"$f":"IFERROR(HYPERLINK(\"#'C089'!\"&ADDRESS(ROW(INDEX(CurrentListing_C089,MATCH(DR20,CurrentListing_C089,0),1)),20),CF20),HYPERLINK(\"#'C089'!\"&\"$V$12\",CF20))","v":"MC"},{"$f":"IFERROR(HYPERLINK(\"#'C089'!\"&ADDRESS(ROW(INDEX(CurrentListing_C089,MATCH(DS20,CurrentListing_C089,0),1)),20),CG20),HYPERLINK(\"#'C089'!\"&\"$V$12\",CG20))","v":"MC"},{"$f":"IFERROR(HYPERLINK(\"#'C089'!\"&ADDRESS(ROW(INDEX(CurrentListing_C089,MATCH(DT20,CurrentListing_C089,0),1)),20),CH20),HYPERLINK(\"#'C089'!\"&\"$V$12\",CH20))","v":"MC"},0,{"$f":"IFERROR(HYPERLINK(\"#'C089'!\"&ADDRESS(ROW(INDEX(CurrentListing_C089,MATCH(DV20,CurrentListing_C089,0),1)),20),CJ20),HYPERLINK(\"#'C089'!\"&\"$V$12\",CJ20))","v":"MC"},{"$f":"IFERROR(HYPERLINK(\"#'C089'!\"&ADDRESS(ROW(INDEX(CurrentListing_C089,MATCH(DW20,CurrentListing_C089,0),1)),20),CK20),HYPERLINK(\"#'C089'!\"&\"$V$12\",CK20))","v":"MC"},{"$f":"IFERROR(HYPERLINK(\"#'C089'!\"&ADDRESS(ROW(INDEX(CurrentListing_C089,MATCH(DX20,CurrentListing_C089,0),1)),20),CL20),HYPERLINK(\"#'C089'!\"&\"$V$12\",CL20))","v":"MC"},0,{"$f":"IFERROR(HYPERLINK(\"#'C089'!\"&ADDRESS(ROW(INDEX(CurrentListing_C089,MATCH(DZ20,CurrentListing_C089,0),1)),20),CN20),HYPERLINK(\"#'C089'!\"&\"$V$12\",CN20))","v":"MC"},{"$f":"IFERROR(HYPERLINK(\"#'C089'!\"&ADDRESS(ROW(INDEX(CurrentListing_C089,MATCH(EA20,CurrentListing_C089,0),1)),20),CO20),HYPERLINK(\"#'C089'!\"&\"$V$12\",CO20))","v":"MC"},{"$f":"IFERROR(HYPERLINK(\"#'C089'!\"&ADDRESS(ROW(INDEX(CurrentListing_C089,MATCH(EB20,CurrentListing_C089,0),1)),20),CP20),HYPERLINK(\"#'C089'!\"&\"$V$12\",CP20))","v":"MC"},0,{"$f":"IFERROR(HYPERLINK(\"#'C089'!\"&ADDRESS(ROW(INDEX(CurrentListing_C089,MATCH(ED20,CurrentListing_C089,0),1)),20),CR20),HYPERLINK(\"#'C089'!\"&\"$V$12\",CR20))","v":"MC"},{"$f":"IFERROR(HYPERLINK(\"#'C089'!\"&ADDRESS(ROW(INDEX(CurrentListing_C089,MATCH(EE20,CurrentListing_C089,0),1)),20),CS20),HYPERLINK(\"#'C089'!\"&\"$V$12\",CS20))","v":"MC"},{"$f":"IFERROR(HYPERLINK(\"#'C089'!\"&ADDRESS(ROW(INDEX(CurrentListing_C089,MATCH(EF20,CurrentListing_C089,0),1)),20),CT20),HYPERLINK(\"#'C089'!\"&\"$V$12\",CT20))","v":"MC"},0,{"$f":"IFERROR(HYPERLINK(\"#'C089'!\"&ADDRESS(ROW(INDEX(CurrentListing_C089,MATCH(EH20,CurrentListing_C089,0),1)),20),CV20),HYPERLINK(\"#'C089'!\"&\"$V$12\",CV20))","v":"MC"},{"$f":"IFERROR(HYPERLINK(\"#'C089'!\"&ADDRESS(ROW(INDEX(CurrentListing_C089,MATCH(EI20,CurrentListing_C089,0),1)),20),CW20),HYPERLINK(\"#'C089'!\"&\"$V$12\",CW20))","v":"MC"},{"$f":"IFERROR(HYPERLINK(\"#'C089'!\"&ADDRESS(ROW(INDEX(CurrentListing_C089,MATCH(EJ20,CurrentListing_C089,0),1)),20),CX20),HYPERLINK(\"#'C089'!\"&\"$V$12\",CX20))","v":"MC"},0,{"$f":"IFERROR(HYPERLINK(\"#'C089'!\"&ADDRESS(ROW(INDEX(CurrentListing_C089,MATCH(EL20,CurrentListing_C089,0),1)),20),CZ20),HYPERLINK(\"#'C089'!\"&\"$V$12\",CZ20))","v":"MC"},{"$f":"IFERROR(HYPERLINK(\"#'C089'!\"&ADDRESS(ROW(INDEX(CurrentListing_C089,MATCH(EM20,CurrentListing_C089,0),1)),20),DA20),HYPERLINK(\"#'C089'!\"&\"$V$12\",DA20))","v":"MC"},{"$f":"IFERROR(HYPERLINK(\"#'C089'!\"&ADDRESS(ROW(INDEX(CurrentListing_C089,MATCH(EN20,CurrentListing_C089,0),1)),20),DB20),HYPERLINK(\"#'C089'!\"&\"$V$12\",DB20))","v":"MC"},0,{"$f":"IFERROR(HYPERLINK(\"#'C089'!\"&ADDRESS(ROW(INDEX(CurrentListing_C089,MATCH(EP20,CurrentListing_C089,0),1)),20),DD20),HYPERLINK(\"#'C089'!\"&\"$V$12\",DD20))","v":"MC"},{"$f":"IFERROR(HYPERLINK(\"#'C089'!\"&ADDRESS(ROW(INDEX(CurrentListing_C089,MATCH(EQ20,CurrentListing_C089,0),1)),20),DE20),HYPERLINK(\"#'C089'!\"&\"$V$12\",DE20))","v":"MC"},{"$f":"IFERROR(HYPERLINK(\"#'C089'!\"&ADDRESS(ROW(INDEX(CurrentListing_C089,MATCH(ER20,CurrentListing_C089,0),1)),20),DF20),HYPERLINK(\"#'C089'!\"&\"$V$12\",DF20))","v":"MC"},0,{"$f":"IFERROR(HYPERLINK(\"#'C089'!\"&ADDRESS(ROW(INDEX(CurrentListing_C089,MATCH(ET20,CurrentListing_C089,0),1)),20),DH20),HYPERLINK(\"#'C089'!\"&\"$V$12\",DH20))","v":"MC"},{"$f":"IFERROR(HYPERLINK(\"#'C089'!\"&ADDRESS(ROW(INDEX(CurrentListing_C089,MATCH(EU20,CurrentListing_C089,0),1)),20),DI20),HYPERLINK(\"#'C089'!\"&\"$V$12\",DI20))","v":"MC"},{"$f":"IFERROR(HYPERLINK(\"#'C089'!\"&ADDRESS(ROW(INDEX(CurrentListing_C089,MATCH(EV20,CurrentListing_C089,0),1)),20),DJ20),HYPERLINK(\"#'C089'!\"&\"$V$12\",DJ20))","v":"MC"},0,0,null,null,null,null,null,null,null,null,null,null,null,null,null,null,null,null,null,null,null,null,null,null,null,null,null,null,null,null,null,null,null,null,null,null,null,null,null,null,null,null,"Emotional Disturbance","MC","MC","MC",null,"MC","MC","MC",null,"MC","MC","MC",null,"MC","MC","MC",null,"MC","MC","MC",null,"MC","MC","MC",null,"MC","MC","MC",null,"MC","MC","MC",null,"MC","MC","MC",null,null,"Emotional Disturbance","3EMNREC10YSVCSN","4EMNREC10YSVCSN","AGE05NOTKEMNREC10YSVCSN",null,"3EMNREC10YOTHLOCN","4EMNREC10YOTHLOCN","AGE05NOTKEMNREC10YOTHLOCN",null,"3EMNREC09YSVCSN","4EMNREC09YSVCSN","AGE05NOTKEMNREC09YSVCSN",null,"3EMNREC09YOTHLOCN","4EMNREC09YOTHLOCN","AGE05NOTKEMNREC09YOTHLOCN",null,"3EMNSCN","4EMNSCN","AGE05NOTKEMNSCN",null,"3EMNSSN","4EMNSSN","AGE05NOTKEMNSSN",null,"3EMNRFN","4EMNRFN","AGE05NOTKEMNRFN",null,"3EMNHN","4EMNHN","AGE05NOTKEMNHN",null,"3EMNSPLN","4EMNSPLN","AGE05NOTKEMNSPLN"]
["Orthopedic Impairment",{"$f":"IFERROR(HYPERLINK(\"#'C089'!\"&ADDRESS(ROW(INDEX(CurrentListing_C089,MATCH(DN21,CurrentListing_C089,0),1)),20),CB21),HYPERLINK(\"#'C089'!\"&\"$V$12\",CB21))","v":"MC"},{"$f":"IFERROR(HYPERLINK(\"#'C089'!\"&ADDRESS(ROW(INDEX(CurrentListing_C089,MATCH(DO21,CurrentListing_C089,0),1)),20),CC21),HYPERLINK(\"#'C089'!\"&\"$V$12\",CC21))","v":"MC"},{"$f":"IFERROR(HYPERLINK(\"#'C089'!\"&ADDRESS(ROW(INDEX(CurrentListing_C089,MATCH(DP21,CurrentListing_C089,0),1)),20),CD21),HYPERLINK(\"#'C089'!\"&\"$V$12\",CD21))","v":"MC"},0,{"$f":"IFERROR(HYPERLINK(\"#'C089'!\"&ADDRESS(ROW(INDEX(CurrentListing_C089,MATCH(DR21,CurrentListing_C089,0),1)),20),CF21),HYPERLINK(\"#'C089'!\"&\"$V$12\",CF21))","v":"MC"},{"$f":"IFERROR(HYPERLINK(\"#'C089'!\"&ADDRESS(ROW(INDEX(CurrentListing_C089,MATCH(DS21,CurrentListing_C089,0),1)),20),CG21),HYPERLINK(\"#'C089'!\"&\"$V$12\",CG21))","v":"MC"},{"$f":"IFERROR(HYPERLINK(\"#'C089'!\"&ADDRESS(ROW(INDEX(CurrentListing_C089,MATCH(DT21,CurrentListing_C089,0),1)),20),CH21),HYPERLINK(\"#'C089'!\"&\"$V$12\",CH21))","v":"MC"},0,{"$f":"IFERROR(HYPERLINK(\"#'C089'!\"&ADDRESS(ROW(INDEX(CurrentListing_C089,MATCH(DV21,CurrentListing_C089,0),1)),20),CJ21),HYPERLINK(\"#'C089'!\"&\"$V$12\",CJ21))","v":"MC"},{"$f":"IFERROR(HYPERLINK(\"#'C089'!\"&ADDRESS(ROW(INDEX(CurrentListing_C089,MATCH(DW21,CurrentListing_C089,0),1)),20),CK21),HYPERLINK(\"#'C089'!\"&\"$V$12\",CK21))","v":"MC"},{"$f":"IFERROR(HYPERLINK(\"#'C089'!\"&ADDRESS(ROW(INDEX(CurrentListing_C089,MATCH(DX21,CurrentListing_C089,0),1)),20),CL21),HYPERLINK(\"#'C089'!\"&\"$V$12\",CL21))","v":"MC"},0,{"$f":"IFERROR(HYPERLINK(\"#'C089'!\"&ADDRESS(ROW(INDEX(CurrentListing_C089,MATCH(DZ21,CurrentListing_C089,0),1)),20),CN21),HYPERLINK(\"#'C089'!\"&\"$V$12\",CN21))","v":"MC"},{"$f":"IFERROR(HYPERLINK(\"#'C089'!\"&ADDRESS(ROW(INDEX(CurrentListing_C089,MATCH(EA21,CurrentListing_C089,0),1)),20),CO21),HYPERLINK(\"#'C089'!\"&\"$V$12\",CO21))","v":"MC"},{"$f":"IFERROR(HYPERLINK(\"#'C089'!\"&ADDRESS(ROW(INDEX(CurrentListing_C089,MATCH(EB21,CurrentListing_C089,0),1)),20),CP21),HYPERLINK(\"#'C089'!\"&\"$V$12\",CP21))","v":"MC"},0,{"$f":"IFERROR(HYPERLINK(\"#'C089'!\"&ADDRESS(ROW(INDEX(CurrentListing_C089,MATCH(ED21,CurrentListing_C089,0),1)),20),CR21),HYPERLINK(\"#'C089'!\"&\"$V$12\",CR21))","v":"MC"},{"$f":"IFERROR(HYPERLINK(\"#'C089'!\"&ADDRESS(ROW(INDEX(CurrentListing_C089,MATCH(EE21,CurrentListing_C089,0),1)),20),CS21),HYPERLINK(\"#'C089'!\"&\"$V$12\",CS21))","v":"MC"},{"$f":"IFERROR(HYPERLINK(\"#'C089'!\"&ADDRESS(ROW(INDEX(CurrentListing_C089,MATCH(EF21,CurrentListing_C089,0),1)),20),CT21),HYPERLINK(\"#'C089'!\"&\"$V$12\",CT21))","v":"MC"},0,{"$f":"IFERROR(HYPERLINK(\"#'C089'!\"&ADDRESS(ROW(INDEX(CurrentListing_C089,MATCH(EH21,CurrentListing_C089,0),1)),20),CV21),HYPERLINK(\"#'C089'!\"&\"$V$12\",CV21))","v":"MC"},{"$f":"IFERROR(HYPERLINK(\"#'C089'!\"&ADDRESS(ROW(INDEX(CurrentListing_C089,MATCH(EI21,CurrentListing_C089,0),1)),20),CW21),HYPERLINK(\"#'C089'!\"&\"$V$12\",CW21))","v":"MC"},{"$f":"IFERROR(HYPERLINK(\"#'C089'!\"&ADDRESS(ROW(INDEX(CurrentListing_C089,MATCH(EJ21,CurrentListing_C089,0),1)),20),CX21),HYPERLINK(\"#'C089'!\"&\"$V$12\",CX21))","v":"MC"},0,{"$f":"IFERROR(HYPERLINK(\"#'C089'!\"&ADDRESS(ROW(INDEX(CurrentListing_C089,MATCH(EL21,CurrentListing_C089,0),1)),20),CZ21),HYPERLINK(\"#'C089'!\"&\"$V$12\",CZ21))","v":"MC"},{"$f":"IFERROR(HYPERLINK(\"#'C089'!\"&ADDRESS(ROW(INDEX(CurrentListing_C089,MATCH(EM21,CurrentListing_C089,0),1)),20),DA21),HYPERLINK(\"#'C089'!\"&\"$V$12\",DA21))","v":"MC"},{"$f":"IFERROR(HYPERLINK(\"#'C089'!\"&ADDRESS(ROW(INDEX(CurrentListing_C089,MATCH(EN21,CurrentListing_C089,0),1)),20),DB21),HYPERLINK(\"#'C089'!\"&\"$V$12\",DB21))","v":"MC"},0,{"$f":"IFERROR(HYPERLINK(\"#'C089'!\"&ADDRESS(ROW(INDEX(CurrentListing_C089,MATCH(EP21,CurrentListing_C089,0),1)),20),DD21),HYPERLINK(\"#'C089'!\"&\"$V$12\",DD21))","v":"MC"},{"$f":"IFERROR(HYPERLINK(\"#'C089'!\"&ADDRESS(ROW(INDEX(CurrentListing_C089,MATCH(EQ21,CurrentListing_C089,0),1)),20),DE21),HYPERLINK(\"#'C089'!\"&\"$V$12\",DE21))","v":"MC"},{"$f":"IFERROR(HYPERLINK(\"#'C089'!\"&ADDRESS(ROW(INDEX(CurrentListing_C089,MATCH(ER21,CurrentListing_C089,0),1)),20),DF21),HYPERLINK(\"#'C089'!\"&\"$V$12\",DF21))","v":"MC"},0,{"$f":"IFERROR(HYPERLINK(\"#'C089'!\"&ADDRESS(ROW(INDEX(CurrentListing_C089,MATCH(ET21,CurrentListing_C089,0),1)),20),DH21),HYPERLINK(\"#'C089'!\"&\"$V$12\",DH21))","v":"MC"},{"$f":"IFERROR(HYPERLINK(\"#'C089'!\"&ADDRESS(ROW(INDEX(CurrentListing_C089,MATCH(EU21,CurrentListing_C089,0),1)),20),DI21),HYPERLINK(\"#'C089'!\"&\"$V$12\",DI21))","v":"MC"},{"$f":"IFERROR(HYPERLINK(\"#'C089'!\"&ADDRESS(ROW(INDEX(CurrentListing_C089,MATCH(EV21,CurrentListing_C089,0),1)),20),DJ21),HYPERLINK(\"#'C089'!\"&\"$V$12\",DJ21))","v":"MC"},0,0,null,null,null,null,null,null,null,null,null,null,null,null,null,null,null,null,null,null,null,null,null,null,null,null,null,null,null,null,null,null,null,null,null,null,null,null,null,null,null,null,"Orthopedic Impairment","MC","MC","MC",null,"MC","MC","MC",null,"MC","MC","MC",null,"MC","MC","MC",null,"MC","MC","MC",null,"MC","MC","MC",null,"MC","MC","MC",null,"MC","MC","MC",null,"MC","MC","MC",null,null,"Orthopedic Impairment","3OIREC10YSVCSN","4OIREC10YSVCSN","AGE05NOTKOIREC10YSVCSN",null,"3OIREC10YOTHLOCN","4OIREC10YOTHLOCN","AGE05NOTKOIREC10YOTHLOCN",null,"3OIREC09YSVCSN","4OIREC09YSVCSN","AGE05NOTKOIREC09YSVCSN",null,"3OIREC09YOTHLOCN","4OIREC09YOTHLOCN","AGE05NOTKOIREC09YOTHLOCN",null,"3OISCN","4OISCN","AGE05NOTKOISCN",null,"3OISSN","4OISSN","AGE05NOTKOISSN",null,"3OIRFN","4OIRFN","AGE05NOTKOIRFN",null,"3OIHN","4OIHN","AGE05NOTKOIHN",null,"3OISPLN","4OISPLN","AGE05NOTKOISPLN"]
["Other Health Impairment",{"$f":"IFERROR(HYPERLINK(\"#'C089'!\"&ADDRESS(ROW(INDEX(CurrentListing_C089,MATCH(DN22,CurrentListing_C089,0),1)),20),CB22),HYPERLINK(\"#'C089'!\"&\"$V$12\",CB22))","v":"MC"},{"$f":"IFERROR(HYPERLINK(\"#'C089'!\"&ADDRESS(ROW(INDEX(CurrentListing_C089,MATCH(DO22,CurrentListing_C089,0),1)),20),CC22),HYPERLINK(\"#'C089'!\"&\"$V$12\",CC22))","v":"MC"},{"$f":"IFERROR(HYPERLINK(\"#'C089'!\"&ADDRESS(ROW(INDEX(CurrentListing_C089,MATCH(DP22,CurrentListing_C089,0),1)),20),CD22),HYPERLINK(\"#'C089'!\"&\"$V$12\",CD22))","v":"MC"},0,{"$f":"IFERROR(HYPERLINK(\"#'C089'!\"&ADDRESS(ROW(INDEX(CurrentListing_C089,MATCH(DR22,CurrentListing_C089,0),1)),20),CF22),HYPERLINK(\"#'C089'!\"&\"$V$12\",CF22))","v":"MC"},{"$f":"IFERROR(HYPERLINK(\"#'C089'!\"&ADDRESS(ROW(INDEX(CurrentListing_C089,MATCH(DS22,CurrentListing_C089,0),1)),20),CG22),HYPERLINK(\"#'C089'!\"&\"$V$12\",CG22))","v":"MC"},{"$f":"IFERROR(HYPERLINK(\"#'C089'!\"&ADDRESS(ROW(INDEX(CurrentListing_C089,MATCH(DT22,CurrentListing_C089,0),1)),20),CH22),HYPERLINK(\"#'C089'!\"&\"$V$12\",CH22))","v":"MC"},0,{"$f":"IFERROR(HYPERLINK(\"#'C089'!\"&ADDRESS(ROW(INDEX(CurrentListing_C089,MATCH(DV22,CurrentListing_C089,0),1)),20),CJ22),HYPERLINK(\"#'C089'!\"&\"$V$12\",CJ22))","v":"MC"},{"$f":"IFERROR(HYPERLINK(\"#'C089'!\"&ADDRESS(ROW(INDEX(CurrentListing_C089,MATCH(DW22,CurrentListing_C089,0),1)),20),CK22),HYPERLINK(\"#'C089'!\"&\"$V$12\",CK22))","v":"MC"},{"$f":"IFERROR(HYPERLINK(\"#'C089'!\"&ADDRESS(ROW(INDEX(CurrentListing_C089,MATCH(DX22,CurrentListing_C089,0),1)),20),CL22),HYPERLINK(\"#'C089'!\"&\"$V$12\",CL22))","v":"MC"},0,{"$f":"IFERROR(HYPERLINK(\"#'C089'!\"&ADDRESS(ROW(INDEX(CurrentListing_C089,MATCH(DZ22,CurrentListing_C089,0),1)),20),CN22),HYPERLINK(\"#'C089'!\"&\"$V$12\",CN22))","v":"MC"},{"$f":"IFERROR(HYPERLINK(\"#'C089'!\"&ADDRESS(ROW(INDEX(CurrentListing_C089,MATCH(EA22,CurrentListing_C089,0),1)),20),CO22),HYPERLINK(\"#'C089'!\"&\"$V$12\",CO22))","v":"MC"},{"$f":"IFERROR(HYPERLINK(\"#'C089'!\"&ADDRESS(ROW(INDEX(CurrentListing_C089,MATCH(EB22,CurrentListing_C089,0),1)),20),CP22),HYPERLINK(\"#'C089'!\"&\"$V$12\",CP22))","v":"MC"},0,{"$f":"IFERROR(HYPERLINK(\"#'C089'!\"&ADDRESS(ROW(INDEX(CurrentListing_C089,MATCH(ED22,CurrentListing_C089,0),1)),20),CR22),HYPERLINK(\"#'C089'!\"&\"$V$12\",CR22))","v":"MC"},{"$f":"IFERROR(HYPERLINK(\"#'C089'!\"&ADDRESS(ROW(INDEX(CurrentListing_C089,MATCH(EE22,CurrentListing_C089,0),1)),20),CS22),HYPERLINK(\"#'C089'!\"&\"$V$12\",CS22))","v":"MC"},{"$f":"IFERROR(HYPERLINK(\"#'C089'!\"&ADDRESS(ROW(INDEX(CurrentListing_C089,MATCH(EF22,CurrentListing_C089,0),1)),20),CT22),HYPERLINK(\"#'C089'!\"&\"$V$12\",CT22))","v":"MC"},0,{"$f":"IFERROR(HYPERLINK(\"#'C089'!\"&ADDRESS(ROW(INDEX(CurrentListing_C089,MATCH(EH22,CurrentListing_C089,0),1)),20),CV22),HYPERLINK(\"#'C089'!\"&\"$V$12\",CV22))","v":"MC"},{"$f":"IFERROR(HYPERLINK(\"#'C089'!\"&ADDRESS(ROW(INDEX(CurrentListing_C089,MATCH(EI22,CurrentListing_C089,0),1)),20),CW22),HYPERLINK(\"#'C089'!\"&\"$V$12\",CW22))","v":"MC"},{"$f":"IFERROR(HYPERLINK(\"#'C089'!\"&ADDRESS(ROW(INDEX(CurrentListing_C089,MATCH(EJ22,CurrentListing_C089,0),1)),20),CX22),HYPERLINK(\"#'C089'!\"&\"$V$12\",CX22))","v":"MC"},0,{"$f":"IFERROR(HYPERLINK(\"#'C089'!\"&ADDRESS(ROW(INDEX(CurrentListing_C089,MATCH(EL22,CurrentListing_C089,0),1)),20),CZ22),HYPERLINK(\"#'C089'!\"&\"$V$12\",CZ22))","v":"MC"},{"$f":"IFERROR(HYPERLINK(\"#'C089'!\"&ADDRESS(ROW(INDEX(CurrentListing_C089,MATCH(EM22,CurrentListing_C089,0),1)),20),DA22),HYPERLINK(\"#'C089'!\"&\"$V$12\",DA22))","v":"MC"},{"$f":"IFERROR(HYPERLINK(\"#'C089'!\"&ADDRESS(ROW(INDEX(CurrentListing_C089,MATCH(EN22,CurrentListing_C089,0),1)),20),DB22),HYPERLINK(\"#'C089'!\"&\"$V$12\",DB22))","v":"MC"},0,{"$f":"IFERROR(HYPERLINK(\"#'C089'!\"&ADDRESS(ROW(INDEX(CurrentListing_C089,MATCH(EP22,CurrentListing_C089,0),1)),20),DD22),HYPERLINK(\"#'C089'!\"&\"$V$12\",DD22))","v":"MC"},{"$f":"IFERROR(HYPERLINK(\"#'C089'!\"&ADDRESS(ROW(INDEX(CurrentListing_C089,MATCH(EQ22,CurrentListing_C089,0),1)),20),DE22),HYPERLINK(\"#'C089'!\"&\"$V$12\",DE22))","v":"MC"},{"$f":"IFERROR(HYPERLINK(\"#'C089'!\"&ADDRESS(ROW(INDEX(CurrentListing_C089,MATCH(ER22,CurrentListing_C089,0),1)),20),DF22),HYPERLINK(\"#'C089'!\"&\"$V$12\",DF22))","v":"MC"},0,{"$f":"IFERROR(HYPERLINK(\"#'C089'!\"&ADDRESS(ROW(INDEX(CurrentListing_C089,MATCH(ET22,CurrentListing_C089,0),1)),20),DH22),HYPERLINK(\"#'C089'!\"&\"$V$12\",DH22))","v":"MC"},{"$f":"IFERROR(HYPERLINK(\"#'C089'!\"&ADDRESS(ROW(INDEX(CurrentListing_C089,MATCH(EU22,CurrentListing_C089,0),1)),20),DI22),HYPERLINK(\"#'C089'!\"&\"$V$12\",DI22))","v":"MC"},{"$f":"IFERROR(HYPERLINK(\"#'C089'!\"&ADDRESS(ROW(INDEX(CurrentListing_C089,MATCH(EV22,CurrentListing_C089,0),1)),20),DJ22),HYPERLINK(\"#'C089'!\"&\"$V$12\",DJ22))","v":"MC"},0,0,null,null,null,null,null,null,null,null,null,null,null,null,null,null,null,null,null,null,null,null,null,null,null,null,null,null,null,null,null,null,null,null,null,null,null,null,null,null,null,null,"Other Health Impairment","MC","MC","MC",null,"MC","MC","MC",null,"MC","MC","MC",null,"MC","MC","MC",null,"MC","MC","MC",null,"MC","MC","MC",null,"MC","MC","MC",null,"MC","MC","MC",null,"MC","MC","MC",null,null,"Other Health Impairment","3OHIREC10YSVCSN","4OHIREC10YSVCSN","AGE05NOTKOHIREC10YSVCSN",null,"3OHIREC10YOTHLOCN","4OHIREC10YOTHLOCN","AGE05NOTKOHIREC10YOTHLOCN",null,"3OHIREC09YSVCSN","4OHIREC09YSVCSN","AGE05NOTKOHIREC09YSVCSN",null,"3OHIREC09YOTHLOCN","4OHIREC09YOTHLOCN","AGE05NOTKOHIREC09YOTHLOCN",null,"3OHISCN","4OHISCN","AGE05NOTKOHISCN",null,"3OHISSN","4OHISSN","AGE05NOTKOHISSN",null,"3OHIRFN","4OHIRFN","AGE05NOTKOHIRFN",null,"3OHIHN","4OHIHN","AGE05NOTKOHIHN",null,"3OHISPLN","4OHISPLN","AGE05NOTKOHISPLN"]
["Specific Learning Disability",{"$f":"IFERROR(HYPERLINK(\"#'C089'!\"&ADDRESS(ROW(INDEX(CurrentListing_C089,MATCH(DN23,CurrentListing_C089,0),1)),20),CB23),HYPERLINK(\"#'C089'!\"&\"$V$12\",CB23))","v":"MC"},{"$f":"IFERROR(HYPERLINK(\"#'C089'!\"&ADDRESS(ROW(INDEX(CurrentListing_C089,MATCH(DO23,CurrentListing_C089,0),1)),20),CC23),HYPERLINK(\"#'C089'!\"&\"$V$12\",CC23))","v":"MC"},{"$f":"IFERROR(HYPERLINK(\"#'C089'!\"&ADDRESS(ROW(INDEX(CurrentListing_C089,MATCH(DP23,CurrentListing_C089,0),1)),20),CD23),HYPERLINK(\"#'C089'!\"&\"$V$12\",CD23))","v":"MC"},0,{"$f":"IFERROR(HYPERLINK(\"#'C089'!\"&ADDRESS(ROW(INDEX(CurrentListing_C089,MATCH(DR23,CurrentListing_C089,0),1)),20),CF23),HYPERLINK(\"#'C089'!\"&\"$V$12\",CF23))","v":"MC"},{"$f":"IFERROR(HYPERLINK(\"#'C089'!\"&ADDRESS(ROW(INDEX(CurrentListing_C089,MATCH(DS23,CurrentListing_C089,0),1)),20),CG23),HYPERLINK(\"#'C089'!\"&\"$V$12\",CG23))","v":"MC"},{"$f":"IFERROR(HYPERLINK(\"#'C089'!\"&ADDRESS(ROW(INDEX(CurrentListing_C089,MATCH(DT23,CurrentListing_C089,0),1)),20),CH23),HYPERLINK(\"#'C089'!\"&\"$V$12\",CH23))","v":"MC"},0,{"$f":"IFERROR(HYPERLINK(\"#'C089'!\"&ADDRESS(ROW(INDEX(CurrentListing_C089,MATCH(DV23,CurrentListing_C089,0),1)),20),CJ23),HYPERLINK(\"#'C089'!\"&\"$V$12\",CJ23))","v":"MC"},{"$f":"IFERROR(HYPERLINK(\"#'C089'!\"&ADDRESS(ROW(INDEX(CurrentListing_C089,MATCH(DW23,CurrentListing_C089,0),1)),20),CK23),HYPERLINK(\"#'C089'!\"&\"$V$12\",CK23))","v":"MC"},{"$f":"IFERROR(HYPERLINK(\"#'C089'!\"&ADDRESS(ROW(INDEX(CurrentListing_C089,MATCH(DX23,CurrentListing_C089,0),1)),20),CL23),HYPERLINK(\"#'C089'!\"&\"$V$12\",CL23))","v":"MC"},0,{"$f":"IFERROR(HYPERLINK(\"#'C089'!\"&ADDRESS(ROW(INDEX(CurrentListing_C089,MATCH(DZ23,CurrentListing_C089,0),1)),20),CN23),HYPERLINK(\"#'C089'!\"&\"$V$12\",CN23))","v":"MC"},{"$f":"IFERROR(HYPERLINK(\"#'C089'!\"&ADDRESS(ROW(INDEX(CurrentListing_C089,MATCH(EA23,CurrentListing_C089,0),1)),20),CO23),HYPERLINK(\"#'C089'!\"&\"$V$12\",CO23))","v":"MC"},{"$f":"IFERROR(HYPERLINK(\"#'C089'!\"&ADDRESS(ROW(INDEX(CurrentListing_C089,MATCH(EB23,CurrentListing_C089,0),1)),20),CP23),HYPERLINK(\"#'C089'!\"&\"$V$12\",CP23))","v":"MC"},0,{"$f":"IFERROR(HYPERLINK(\"#'C089'!\"&ADDRESS(ROW(INDEX(CurrentListing_C089,MATCH(ED23,CurrentListing_C089,0),1)),20),CR23),HYPERLINK(\"#'C089'!\"&\"$V$12\",CR23))","v":"MC"},{"$f":"IFERROR(HYPERLINK(\"#'C089'!\"&ADDRESS(ROW(INDEX(CurrentListing_C089,MATCH(EE23,CurrentListing_C089,0),1)),20),CS23),HYPERLINK(\"#'C089'!\"&\"$V$12\",CS23))","v":"MC"},{"$f":"IFERROR(HYPERLINK(\"#'C089'!\"&ADDRESS(ROW(INDEX(CurrentListing_C089,MATCH(EF23,CurrentListing_C089,0),1)),20),CT23),HYPERLINK(\"#'C089'!\"&\"$V$12\",CT23))","v":"MC"},0,{"$f":"IFERROR(HYPERLINK(\"#'C089'!\"&ADDRESS(ROW(INDEX(CurrentListing_C089,MATCH(EH23,CurrentListing_C089,0),1)),20),CV23),HYPERLINK(\"#'C089'!\"&\"$V$12\",CV23))","v":"MC"},{"$f":"IFERROR(HYPERLINK(\"#'C089'!\"&ADDRESS(ROW(INDEX(CurrentListing_C089,MATCH(EI23,CurrentListing_C089,0),1)),20),CW23),HYPERLINK(\"#'C089'!\"&\"$V$12\",CW23))","v":"MC"},{"$f":"IFERROR(HYPERLINK(\"#'C089'!\"&ADDRESS(ROW(INDEX(CurrentListing_C089,MATCH(EJ23,CurrentListing_C089,0),1)),20),CX23),HYPERLINK(\"#'C089'!\"&\"$V$12\",CX23))","v":"MC"},0,{"$f":"IFERROR(HYPERLINK(\"#'C089'!\"&ADDRESS(ROW(INDEX(CurrentListing_C089,MATCH(EL23,CurrentListing_C089,0),1)),20),CZ23),HYPERLINK(\"#'C089'!\"&\"$V$12\",CZ23))","v":"MC"},{"$f":"IFERROR(HYPERLINK(\"#'C089'!\"&ADDRESS(ROW(INDEX(CurrentListing_C089,MATCH(EM23,CurrentListing_C089,0),1)),20),DA23),HYPERLINK(\"#'C089'!\"&\"$V$12\",DA23))","v":"MC"},{"$f":"IFERROR(HYPERLINK(\"#'C089'!\"&ADDRESS(ROW(INDEX(CurrentListing_C089,MATCH(EN23,CurrentListing_C089,0),1)),20),DB23),HYPERLINK(\"#'C089'!\"&\"$V$12\",DB23))","v":"MC"},0,{"$f":"IFERROR(HYPERLINK(\"#'C089'!\"&ADDRESS(ROW(INDEX(CurrentListing_C089,MATCH(EP23,CurrentListing_C089,0),1)),20),DD23),HYPERLINK(\"#'C089'!\"&\"$V$12\",DD23))","v":"MC"},{"$f":"IFERROR(HYPERLINK(\"#'C089'!\"&ADDRESS(ROW(INDEX(CurrentListing_C089,MATCH(EQ23,CurrentListing_C089,0),1)),20),DE23),HYPERLINK(\"#'C089'!\"&\"$V$12\",DE23))","v":"MC"},{"$f":"IFERROR(HYPERLINK(\"#'C089'!\"&ADDRESS(ROW(INDEX(CurrentListing_C089,MATCH(ER23,CurrentListing_C089,0),1)),20),DF23),HYPERLINK(\"#'C089'!\"&\"$V$12\",DF23))","v":"MC"},0,{"$f":"IFERROR(HYPERLINK(\"#'C089'!\"&ADDRESS(ROW(INDEX(CurrentListing_C089,MATCH(ET23,CurrentListing_C089,0),1)),20),DH23),HYPERLINK(\"#'C089'!\"&\"$V$12\",DH23))","v":"MC"},{"$f":"IFERROR(HYPERLINK(\"#'C089'!\"&ADDRESS(ROW(INDEX(CurrentListing_C089,MATCH(EU23,CurrentListing_C089,0),1)),20),DI23),HYPERLINK(\"#'C089'!\"&\"$V$12\",DI23))","v":"MC"},{"$f":"IFERROR(HYPERLINK(\"#'C089'!\"&ADDRESS(ROW(INDEX(CurrentListing_C089,MATCH(EV23,CurrentListing_C089,0),1)),20),DJ23),HYPERLINK(\"#'C089'!\"&\"$V$12\",DJ23))","v":"MC"},0,0,null,null,null,null,null,null,null,null,null,null,null,null,null,null,null,null,null,null,null,null,null,null,null,null,null,null,null,null,null,null,null,null,null,null,null,null,null,null,null,null,"Specific Learning Disability","MC","MC","MC",null,"MC","MC","MC",null,"MC","MC","MC",null,"MC","MC","MC",null,"MC","MC","MC",null,"MC","MC","MC",null,"MC","MC","MC",null,"MC","MC","MC",null,"MC","MC","MC",null,null,"Specific Learning Disability","3SLDREC10YSVCSN","4SLDREC10YSVCSN","AGE05NOTKSLDREC10YSVCSN",null,"3SLDREC10YOTHLOCN","4SLDREC10YOTHLOCN","AGE05NOTKSLDREC10YOTHLOCN",null,"3SLDREC09YSVCSN","4SLDREC09YSVCSN","AGE05NOTKSLDREC09YSVCSN",null,"3SLDREC09YOTHLOCN","4SLDREC09YOTHLOCN","AGE05NOTKSLDREC09YOTHLOCN",null,"3SLDSCN","4SLDSCN","AGE05NOTKSLDSCN",null,"3SLDSSN","4SLDSSN","AGE05NOTKSLDSSN",null,"3SLDRFN","4SLDRFN","AGE05NOTKSLDRFN",null,"3SLDHN","4SLDHN","AGE05NOTKSLDHN",null,"3SLDSPLN","4SLDSPLN","AGE05NOTKSLDSPLN"]
["Deaf-Blindness",{"$f":"IFERROR(HYPERLINK(\"#'C089'!\"&ADDRESS(ROW(INDEX(CurrentListing_C089,MATCH(DN24,CurrentListing_C089,0),1)),20),CB24),HYPERLINK(\"#'C089'!\"&\"$V$12\",CB24))","v":"MC"},{"$f":"IFERROR(HYPERLINK(\"#'C089'!\"&ADDRESS(ROW(INDEX(CurrentListing_C089,MATCH(DO24,CurrentListing_C089,0),1)),20),CC24),HYPERLINK(\"#'C089'!\"&\"$V$12\",CC24))","v":"MC"},{"$f":"IFERROR(HYPERLINK(\"#'C089'!\"&ADDRESS(ROW(INDEX(CurrentListing_C089,MATCH(DP24,CurrentListing_C089,0),1)),20),CD24),HYPERLINK(\"#'C089'!\"&\"$V$12\",CD24))","v":"MC"},0,{"$f":"IFERROR(HYPERLINK(\"#'C089'!\"&ADDRESS(ROW(INDEX(CurrentListing_C089,MATCH(DR24,CurrentListing_C089,0),1)),20),CF24),HYPERLINK(\"#'C089'!\"&\"$V$12\",CF24))","v":"MC"},{"$f":"IFERROR(HYPERLINK(\"#'C089'!\"&ADDRESS(ROW(INDEX(CurrentListing_C089,MATCH(DS24,CurrentListing_C089,0),1)),20),CG24),HYPERLINK(\"#'C089'!\"&\"$V$12\",CG24))","v":"MC"},{"$f":"IFERROR(HYPERLINK(\"#'C089'!\"&ADDRESS(ROW(INDEX(CurrentListing_C089,MATCH(DT24,CurrentListing_C089,0),1)),20),CH24),HYPERLINK(\"#'C089'!\"&\"$V$12\",CH24))","v":"MC"},0,{"$f":"IFERROR(HYPERLINK(\"#'C089'!\"&ADDRESS(ROW(INDEX(CurrentListing_C089,MATCH(DV24,CurrentListing_C089,0),1)),20),CJ24),HYPERLINK(\"#'C089'!\"&\"$V$12\",CJ24))","v":"MC"},{"$f":"IFERROR(HYPERLINK(\"#'C089'!\"&ADDRESS(ROW(INDEX(CurrentListing_C089,MATCH(DW24,CurrentListing_C089,0),1)),20),CK24),HYPERLINK(\"#'C089'!\"&\"$V$12\",CK24))","v":"MC"},{"$f":"IFERROR(HYPERLINK(\"#'C089'!\"&ADDRESS(ROW(INDEX(CurrentListing_C089,MATCH(DX24,CurrentListing_C089,0),1)),20),CL24),HYPERLINK(\"#'C089'!\"&\"$V$12\",CL24))","v":"MC"},0,{"$f":"IFERROR(HYPERLINK(\"#'C089'!\"&ADDRESS(ROW(INDEX(CurrentListing_C089,MATCH(DZ24,CurrentListing_C089,0),1)),20),CN24),HYPERLINK(\"#'C089'!\"&\"$V$12\",CN24))","v":"MC"},{"$f":"IFERROR(HYPERLINK(\"#'C089'!\"&ADDRESS(ROW(INDEX(CurrentListing_C089,MATCH(EA24,CurrentListing_C089,0),1)),20),CO24),HYPERLINK(\"#'C089'!\"&\"$V$12\",CO24))","v":"MC"},{"$f":"IFERROR(HYPERLINK(\"#'C089'!\"&ADDRESS(ROW(INDEX(CurrentListing_C089,MATCH(EB24,CurrentListing_C089,0),1)),20),CP24),HYPERLINK(\"#'C089'!\"&\"$V$12\",CP24))","v":"MC"},0,{"$f":"IFERROR(HYPERLINK(\"#'C089'!\"&ADDRESS(ROW(INDEX(CurrentListing_C089,MATCH(ED24,CurrentListing_C089,0),1)),20),CR24),HYPERLINK(\"#'C089'!\"&\"$V$12\",CR24))","v":"MC"},{"$f":"IFERROR(HYPERLINK(\"#'C089'!\"&ADDRESS(ROW(INDEX(CurrentListing_C089,MATCH(EE24,CurrentListing_C089,0),1)),20),CS24),HYPERLINK(\"#'C089'!\"&\"$V$12\",CS24))","v":"MC"},{"$f":"IFERROR(HYPERLINK(\"#'C089'!\"&ADDRESS(ROW(INDEX(CurrentListing_C089,MATCH(EF24,CurrentListing_C089,0),1)),20),CT24),HYPERLINK(\"#'C089'!\"&\"$V$12\",CT24))","v":"MC"},0,{"$f":"IFERROR(HYPERLINK(\"#'C089'!\"&ADDRESS(ROW(INDEX(CurrentListing_C089,MATCH(EH24,CurrentListing_C089,0),1)),20),CV24),HYPERLINK(\"#'C089'!\"&\"$V$12\",CV24))","v":"MC"},{"$f":"IFERROR(HYPERLINK(\"#'C089'!\"&ADDRESS(ROW(INDEX(CurrentListing_C089,MATCH(EI24,CurrentListing_C089,0),1)),20),CW24),HYPERLINK(\"#'C089'!\"&\"$V$12\",CW24))","v":"MC"},{"$f":"IFERROR(HYPERLINK(\"#'C089'!\"&ADDRESS(ROW(INDEX(CurrentListing_C089,MATCH(EJ24,CurrentListing_C089,0),1)),20),CX24),HYPERLINK(\"#'C089'!\"&\"$V$12\",CX24))","v":"MC"},0,{"$f":"IFERROR(HYPERLINK(\"#'C089'!\"&ADDRESS(ROW(INDEX(CurrentListing_C089,MATCH(EL24,CurrentListing_C089,0),1)),20),CZ24),HYPERLINK(\"#'C089'!\"&\"$V$12\",CZ24))","v":"MC"},{"$f":"IFERROR(HYPERLINK(\"#'C089'!\"&ADDRESS(ROW(INDEX(CurrentListing_C089,MATCH(EM24,CurrentListing_C089,0),1)),20),DA24),HYPERLINK(\"#'C089'!\"&\"$V$12\",DA24))","v":"MC"},{"$f":"IFERROR(HYPERLINK(\"#'C089'!\"&ADDRESS(ROW(INDEX(CurrentListing_C089,MATCH(EN24,CurrentListing_C089,0),1)),20),DB24),HYPERLINK(\"#'C089'!\"&\"$V$12\",DB24))","v":"MC"},0,{"$f":"IFERROR(HYPERLINK(\"#'C089'!\"&ADDRESS(ROW(INDEX(CurrentListing_C089,MATCH(EP24,CurrentListing_C089,0),1)),20),DD24),HYPERLINK(\"#'C089'!\"&\"$V$12\",DD24))","v":"MC"},{"$f":"IFERROR(HYPERLINK(\"#'C089'!\"&ADDRESS(ROW(INDEX(CurrentListing_C089,MATCH(EQ24,CurrentListing_C089,0),1)),20),DE24),HYPERLINK(\"#'C089'!\"&\"$V$12\",DE24))","v":"MC"},{"$f":"IFERROR(HYPERLINK(\"#'C089'!\"&ADDRESS(ROW(INDEX(CurrentListing_C089,MATCH(ER24,CurrentListing_C089,0),1)),20),DF24),HYPERLINK(\"#'C089'!\"&\"$V$12\",DF24))","v":"MC"},0,{"$f":"IFERROR(HYPERLINK(\"#'C089'!\"&ADDRESS(ROW(INDEX(CurrentListing_C089,MATCH(ET24,CurrentListing_C089,0),1)),20),DH24),HYPERLINK(\"#'C089'!\"&\"$V$12\",DH24))","v":"MC"},{"$f":"IFERROR(HYPERLINK(\"#'C089'!\"&ADDRESS(ROW(INDEX(CurrentListing_C089,MATCH(EU24,CurrentListing_C089,0),1)),20),DI24),HYPERLINK(\"#'C089'!\"&\"$V$12\",DI24))","v":"MC"},{"$f":"IFERROR(HYPERLINK(\"#'C089'!\"&ADDRESS(ROW(INDEX(CurrentListing_C089,MATCH(EV24,CurrentListing_C089,0),1)),20),DJ24),HYPERLINK(\"#'C089'!\"&\"$V$12\",DJ24))","v":"MC"},0,0,null,null,null,null,null,null,null,null,null,null,null,null,null,null,null,null,null,null,null,null,null,null,null,null,null,null,null,null,null,null,null,null,null,null,null,null,null,null,null,null,"Deaf-Blindness","MC","MC","MC",null,"MC","MC","MC",null,"MC","MC","MC",null,"MC","MC","MC",null,"MC","MC","MC",null,"MC","MC","MC",null,"MC","MC","MC",null,"MC","MC","MC",null,"MC","MC","MC",null,null,"Deaf-Blindness","3DBREC10YSVCSN","4DBREC10YSVCSN","AGE05NOTKDBREC10YSVCSN",null,"3DBREC10YOTHLOCN","4DBREC10YOTHLOCN","AGE05NOTKDBREC10YOTHLOCN",null,"3DBREC09YSVCSN","4DBREC09YSVCSN","AGE05NOTKDBREC09YSVCSN",null,"3DBREC09YOTHLOCN","4DBREC09YOTHLOCN","AGE05NOTKDBREC09YOTHLOCN",null,"3DBSCN","4DBSCN","AGE05NOTKDBSCN",null,"3DBSSN","4DBSSN","AGE05NOTKDBSSN",null,"3DBRFN","4DBRFN","AGE05NOTKDBRFN",null,"3DBHN","4DBHN","AGE05NOTKDBHN",null,"3DBSPLN","4DBSPLN","AGE05NOTKDBSPLN"]
["Multiple Disabilities",{"$f":"IFERROR(HYPERLINK(\"#'C089'!\"&ADDRESS(ROW(INDEX(CurrentListing_C089,MATCH(DN25,CurrentListing_C089,0),1)),20),CB25),HYPERLINK(\"#'C089'!\"&\"$V$12\",CB25))","v":"MC"},{"$f":"IFERROR(HYPERLINK(\"#'C089'!\"&ADDRESS(ROW(INDEX(CurrentListing_C089,MATCH(DO25,CurrentListing_C089,0),1)),20),CC25),HYPERLINK(\"#'C089'!\"&\"$V$12\",CC25))","v":"MC"},{"$f":"IFERROR(HYPERLINK(\"#'C089'!\"&ADDRESS(ROW(INDEX(CurrentListing_C089,MATCH(DP25,CurrentListing_C089,0),1)),20),CD25),HYPERLINK(\"#'C089'!\"&\"$V$12\",CD25))","v":"MC"},0,{"$f":"IFERROR(HYPERLINK(\"#'C089'!\"&ADDRESS(ROW(INDEX(CurrentListing_C089,MATCH(DR25,CurrentListing_C089,0),1)),20),CF25),HYPERLINK(\"#'C089'!\"&\"$V$12\",CF25))","v":"MC"},{"$f":"IFERROR(HYPERLINK(\"#'C089'!\"&ADDRESS(ROW(INDEX(CurrentListing_C089,MATCH(DS25,CurrentListing_C089,0),1)),20),CG25),HYPERLINK(\"#'C089'!\"&\"$V$12\",CG25))","v":"MC"},{"$f":"IFERROR(HYPERLINK(\"#'C089'!\"&ADDRESS(ROW(INDEX(CurrentListing_C089,MATCH(DT25,CurrentListing_C089,0),1)),20),CH25),HYPERLINK(\"#'C089'!\"&\"$V$12\",CH25))","v":"MC"},0,{"$f":"IFERROR(HYPERLINK(\"#'C089'!\"&ADDRESS(ROW(INDEX(CurrentListing_C089,MATCH(DV25,CurrentListing_C089,0),1)),20),CJ25),HYPERLINK(\"#'C089'!\"&\"$V$12\",CJ25))","v":"MC"},{"$f":"IFERROR(HYPERLINK(\"#'C089'!\"&ADDRESS(ROW(INDEX(CurrentListing_C089,MATCH(DW25,CurrentListing_C089,0),1)),20),CK25),HYPERLINK(\"#'C089'!\"&\"$V$12\",CK25))","v":"MC"},{"$f":"IFERROR(HYPERLINK(\"#'C089'!\"&ADDRESS(ROW(INDEX(CurrentListing_C089,MATCH(DX25,CurrentListing_C089,0),1)),20),CL25),HYPERLINK(\"#'C089'!\"&\"$V$12\",CL25))","v":"MC"},0,{"$f":"IFERROR(HYPERLINK(\"#'C089'!\"&ADDRESS(ROW(INDEX(CurrentListing_C089,MATCH(DZ25,CurrentListing_C089,0),1)),20),CN25),HYPERLINK(\"#'C089'!\"&\"$V$12\",CN25))","v":"MC"},{"$f":"IFERROR(HYPERLINK(\"#'C089'!\"&ADDRESS(ROW(INDEX(CurrentListing_C089,MATCH(EA25,CurrentListing_C089,0),1)),20),CO25),HYPERLINK(\"#'C089'!\"&\"$V$12\",CO25))","v":"MC"},{"$f":"IFERROR(HYPERLINK(\"#'C089'!\"&ADDRESS(ROW(INDEX(CurrentListing_C089,MATCH(EB25,CurrentListing_C089,0),1)),20),CP25),HYPERLINK(\"#'C089'!\"&\"$V$12\",CP25))","v":"MC"},0,{"$f":"IFERROR(HYPERLINK(\"#'C089'!\"&ADDRESS(ROW(INDEX(CurrentListing_C089,MATCH(ED25,CurrentListing_C089,0),1)),20),CR25),HYPERLINK(\"#'C089'!\"&\"$V$12\",CR25))","v":"MC"},{"$f":"IFERROR(HYPERLINK(\"#'C089'!\"&ADDRESS(ROW(INDEX(CurrentListing_C089,MATCH(EE25,CurrentListing_C089,0),1)),20),CS25),HYPERLINK(\"#'C089'!\"&\"$V$12\",CS25))","v":"MC"},{"$f":"IFERROR(HYPERLINK(\"#'C089'!\"&ADDRESS(ROW(INDEX(CurrentListing_C089,MATCH(EF25,CurrentListing_C089,0),1)),20),CT25),HYPERLINK(\"#'C089'!\"&\"$V$12\",CT25))","v":"MC"},0,{"$f":"IFERROR(HYPERLINK(\"#'C089'!\"&ADDRESS(ROW(INDEX(CurrentListing_C089,MATCH(EH25,CurrentListing_C089,0),1)),20),CV25),HYPERLINK(\"#'C089'!\"&\"$V$12\",CV25))","v":"MC"},{"$f":"IFERROR(HYPERLINK(\"#'C089'!\"&ADDRESS(ROW(INDEX(CurrentListing_C089,MATCH(EI25,CurrentListing_C089,0),1)),20),CW25),HYPERLINK(\"#'C089'!\"&\"$V$12\",CW25))","v":"MC"},{"$f":"IFERROR(HYPERLINK(\"#'C089'!\"&ADDRESS(ROW(INDEX(CurrentListing_C089,MATCH(EJ25,CurrentListing_C089,0),1)),20),CX25),HYPERLINK(\"#'C089'!\"&\"$V$12\",CX25))","v":"MC"},0,{"$f":"IFERROR(HYPERLINK(\"#'C089'!\"&ADDRESS(ROW(INDEX(CurrentListing_C089,MATCH(EL25,CurrentListing_C089,0),1)),20),CZ25),HYPERLINK(\"#'C089'!\"&\"$V$12\",CZ25))","v":"MC"},{"$f":"IFERROR(HYPERLINK(\"#'C089'!\"&ADDRESS(ROW(INDEX(CurrentListing_C089,MATCH(EM25,CurrentListing_C089,0),1)),20),DA25),HYPERLINK(\"#'C089'!\"&\"$V$12\",DA25))","v":"MC"},{"$f":"IFERROR(HYPERLINK(\"#'C089'!\"&ADDRESS(ROW(INDEX(CurrentListing_C089,MATCH(EN25,CurrentListing_C089,0),1)),20),DB25),HYPERLINK(\"#'C089'!\"&\"$V$12\",DB25))","v":"MC"},0,{"$f":"IFERROR(HYPERLINK(\"#'C089'!\"&ADDRESS(ROW(INDEX(CurrentListing_C089,MATCH(EP25,CurrentListing_C089,0),1)),20),DD25),HYPERLINK(\"#'C089'!\"&\"$V$12\",DD25))","v":"MC"},{"$f":"IFERROR(HYPERLINK(\"#'C089'!\"&ADDRESS(ROW(INDEX(CurrentListing_C089,MATCH(EQ25,CurrentListing_C089,0),1)),20),DE25),HYPERLINK(\"#'C089'!\"&\"$V$12\",DE25))","v":"MC"},{"$f":"IFERROR(HYPERLINK(\"#'C089'!\"&ADDRESS(ROW(INDEX(CurrentListing_C089,MATCH(ER25,CurrentListing_C089,0),1)),20),DF25),HYPERLINK(\"#'C089'!\"&\"$V$12\",DF25))","v":"MC"},0,{"$f":"IFERROR(HYPERLINK(\"#'C089'!\"&ADDRESS(ROW(INDEX(CurrentListing_C089,MATCH(ET25,CurrentListing_C089,0),1)),20),DH25),HYPERLINK(\"#'C089'!\"&\"$V$12\",DH25))","v":"MC"},{"$f":"IFERROR(HYPERLINK(\"#'C089'!\"&ADDRESS(ROW(INDEX(CurrentListing_C089,MATCH(EU25,CurrentListing_C089,0),1)),20),DI25),HYPERLINK(\"#'C089'!\"&\"$V$12\",DI25))","v":"MC"},{"$f":"IFERROR(HYPERLINK(\"#'C089'!\"&ADDRESS(ROW(INDEX(CurrentListing_C089,MATCH(EV25,CurrentListing_C089,0),1)),20),DJ25),HYPERLINK(\"#'C089'!\"&\"$V$12\",DJ25))","v":"MC"},0,0,null,null,null,null,null,null,null,null,null,null,null,null,null,null,null,null,null,null,null,null,null,null,null,null,null,null,null,null,null,null,null,null,null,null,null,null,null,null,null,null,"Multiple Disabilities","MC","MC","MC",null,"MC","MC","MC",null,"MC","MC","MC",null,"MC","MC","MC",null,"MC","MC","MC",null,"MC","MC","MC",null,"MC","MC","MC",null,"MC","MC","MC",null,"MC","MC","MC",null,null,"Multiple Disabilities","3MDREC10YSVCSN","4MDREC10YSVCSN","AGE05NOTKMDREC10YSVCSN",null,"3MDREC10YOTHLOCN","4MDREC10YOTHLOCN","AGE05NOTKMDREC10YOTHLOCN",null,"3MDREC09YSVCSN","4MDREC09YSVCSN","AGE05NOTKMDREC09YSVCSN",null,"3MDREC09YOTHLOCN","4MDREC09YOTHLOCN","AGE05NOTKMDREC09YOTHLOCN",null,"3MDSCN","4MDSCN","AGE05NOTKMDSCN",null,"3MDSSN","4MDSSN","AGE05NOTKMDSSN",null,"3MDRFN","4MDRFN","AGE05NOTKMDRFN",null,"3MDHN","4MDHN","AGE05NOTKMDHN",null,"3MDSPLN","4MDSPLN","AGE05NOTKMDSPLN"]
["Autism",{"$f":"IFERROR(HYPERLINK(\"#'C089'!\"&ADDRESS(ROW(INDEX(CurrentListing_C089,MATCH(DN26,CurrentListing_C089,0),1)),20),CB26),HYPERLINK(\"#'C089'!\"&\"$V$12\",CB26))","v":"MC"},{"$f":"IFERROR(HYPERLINK(\"#'C089'!\"&ADDRESS(ROW(INDEX(CurrentListing_C089,MATCH(DO26,CurrentListing_C089,0),1)),20),CC26),HYPERLINK(\"#'C089'!\"&\"$V$12\",CC26))","v":"MC"},{"$f":"IFERROR(HYPERLINK(\"#'C089'!\"&ADDRESS(ROW(INDEX(CurrentListing_C089,MATCH(DP26,CurrentListing_C089,0),1)),20),CD26),HYPERLINK(\"#'C089'!\"&\"$V$12\",CD26))","v":"MC"},0,{"$f":"IFERROR(HYPERLINK(\"#'C089'!\"&ADDRESS(ROW(INDEX(CurrentListing_C089,MATCH(DR26,CurrentListing_C089,0),1)),20),CF26),HYPERLINK(\"#'C089'!\"&\"$V$12\",CF26))","v":"MC"},{"$f":"IFERROR(HYPERLINK(\"#'C089'!\"&ADDRESS(ROW(INDEX(CurrentListing_C089,MATCH(DS26,CurrentListing_C089,0),1)),20),CG26),HYPERLINK(\"#'C089'!\"&\"$V$12\",CG26))","v":"MC"},{"$f":"IFERROR(HYPERLINK(\"#'C089'!\"&ADDRESS(ROW(INDEX(CurrentListing_C089,MATCH(DT26,CurrentListing_C089,0),1)),20),CH26),HYPERLINK(\"#'C089'!\"&\"$V$12\",CH26))","v":"MC"},0,{"$f":"IFERROR(HYPERLINK(\"#'C089'!\"&ADDRESS(ROW(INDEX(CurrentListing_C089,MATCH(DV26,CurrentListing_C089,0),1)),20),CJ26),HYPERLINK(\"#'C089'!\"&\"$V$12\",CJ26))","v":"MC"},{"$f":"IFERROR(HYPERLINK(\"#'C089'!\"&ADDRESS(ROW(INDEX(CurrentListing_C089,MATCH(DW26,CurrentListing_C089,0),1)),20),CK26),HYPERLINK(\"#'C089'!\"&\"$V$12\",CK26))","v":"MC"},{"$f":"IFERROR(HYPERLINK(\"#'C089'!\"&ADDRESS(ROW(INDEX(CurrentListing_C089,MATCH(DX26,CurrentListing_C089,0),1)),20),CL26),HYPERLINK(\"#'C089'!\"&\"$V$12\",CL26))","v":"MC"},0,{"$f":"IFERROR(HYPERLINK(\"#'C089'!\"&ADDRESS(ROW(INDEX(CurrentListing_C089,MATCH(DZ26,CurrentListing_C089,0),1)),20),CN26),HYPERLINK(\"#'C089'!\"&\"$V$12\",CN26))","v":"MC"},{"$f":"IFERROR(HYPERLINK(\"#'C089'!\"&ADDRESS(ROW(INDEX(CurrentListing_C089,MATCH(EA26,CurrentListing_C089,0),1)),20),CO26),HYPERLINK(\"#'C089'!\"&\"$V$12\",CO26))","v":"MC"},{"$f":"IFERROR(HYPERLINK(\"#'C089'!\"&ADDRESS(ROW(INDEX(CurrentListing_C089,MATCH(EB26,CurrentListing_C089,0),1)),20),CP26),HYPERLINK(\"#'C089'!\"&\"$V$12\",CP26))","v":"MC"},0,{"$f":"IFERROR(HYPERLINK(\"#'C089'!\"&ADDRESS(ROW(INDEX(CurrentListing_C089,MATCH(ED26,CurrentListing_C089,0),1)),20),CR26),HYPERLINK(\"#'C089'!\"&\"$V$12\",CR26))","v":"MC"},{"$f":"IFERROR(HYPERLINK(\"#'C089'!\"&ADDRESS(ROW(INDEX(CurrentListing_C089,MATCH(EE26,CurrentListing_C089,0),1)),20),CS26),HYPERLINK(\"#'C089'!\"&\"$V$12\",CS26))","v":"MC"},{"$f":"IFERROR(HYPERLINK(\"#'C089'!\"&ADDRESS(ROW(INDEX(CurrentListing_C089,MATCH(EF26,CurrentListing_C089,0),1)),20),CT26),HYPERLINK(\"#'C089'!\"&\"$V$12\",CT26))","v":"MC"},0,{"$f":"IFERROR(HYPERLINK(\"#'C089'!\"&ADDRESS(ROW(INDEX(CurrentListing_C089,MATCH(EH26,CurrentListing_C089,0),1)),20),CV26),HYPERLINK(\"#'C089'!\"&\"$V$12\",CV26))","v":"MC"},{"$f":"IFERROR(HYPERLINK(\"#'C089'!\"&ADDRESS(ROW(INDEX(CurrentListing_C089,MATCH(EI26,CurrentListing_C089,0),1)),20),CW26),HYPERLINK(\"#'C089'!\"&\"$V$12\",CW26))","v":"MC"},{"$f":"IFERROR(HYPERLINK(\"#'C089'!\"&ADDRESS(ROW(INDEX(CurrentListing_C089,MATCH(EJ26,CurrentListing_C089,0),1)),20),CX26),HYPERLINK(\"#'C089'!\"&\"$V$12\",CX26))","v":"MC"},0,{"$f":"IFERROR(HYPERLINK(\"#'C089'!\"&ADDRESS(ROW(INDEX(CurrentListing_C089,MATCH(EL26,CurrentListing_C089,0),1)),20),CZ26),HYPERLINK(\"#'C089'!\"&\"$V$12\",CZ26))","v":"MC"},{"$f":"IFERROR(HYPERLINK(\"#'C089'!\"&ADDRESS(ROW(INDEX(CurrentListing_C089,MATCH(EM26,CurrentListing_C089,0),1)),20),DA26),HYPERLINK(\"#'C089'!\"&\"$V$12\",DA26))","v":"MC"},{"$f":"IFERROR(HYPERLINK(\"#'C089'!\"&ADDRESS(ROW(INDEX(CurrentListing_C089,MATCH(EN26,CurrentListing_C089,0),1)),20),DB26),HYPERLINK(\"#'C089'!\"&\"$V$12\",DB26))","v":"MC"},0,{"$f":"IFERROR(HYPERLINK(\"#'C089'!\"&ADDRESS(ROW(INDEX(CurrentListing_C089,MATCH(EP26,CurrentListing_C089,0),1)),20),DD26),HYPERLINK(\"#'C089'!\"&\"$V$12\",DD26))","v":"MC"},{"$f":"IFERROR(HYPERLINK(\"#'C089'!\"&ADDRESS(ROW(INDEX(CurrentListing_C089,MATCH(EQ26,CurrentListing_C089,0),1)),20),DE26),HYPERLINK(\"#'C089'!\"&\"$V$12\",DE26))","v":"MC"},{"$f":"IFERROR(HYPERLINK(\"#'C089'!\"&ADDRESS(ROW(INDEX(CurrentListing_C089,MATCH(ER26,CurrentListing_C089,0),1)),20),DF26),HYPERLINK(\"#'C089'!\"&\"$V$12\",DF26))","v":"MC"},0,{"$f":"IFERROR(HYPERLINK(\"#'C089'!\"&ADDRESS(ROW(INDEX(CurrentListing_C089,MATCH(ET26,CurrentListing_C089,0),1)),20),DH26),HYPERLINK(\"#'C089'!\"&\"$V$12\",DH26))","v":"MC"},{"$f":"IFERROR(HYPERLINK(\"#'C089'!\"&ADDRESS(ROW(INDEX(CurrentListing_C089,MATCH(EU26,CurrentListing_C089,0),1)),20),DI26),HYPERLINK(\"#'C089'!\"&\"$V$12\",DI26))","v":"MC"},{"$f":"IFERROR(HYPERLINK(\"#'C089'!\"&ADDRESS(ROW(INDEX(CurrentListing_C089,MATCH(EV26,CurrentListing_C089,0),1)),20),DJ26),HYPERLINK(\"#'C089'!\"&\"$V$12\",DJ26))","v":"MC"},0,0,null,null,null,null,null,null,null,null,null,null,null,null,null,null,null,null,null,null,null,null,null,null,null,null,null,null,null,null,null,null,null,null,null,null,null,null,null,null,null,null,"Autism","MC","MC","MC",null,"MC","MC","MC",null,"MC","MC","MC",null,"MC","MC","MC",null,"MC","MC","MC",null,"MC","MC","MC",null,"MC","MC","MC",null,"MC","MC","MC",null,"MC","MC","MC",null,null,"Autism","3AUTREC10YSVCSN","4AUTREC10YSVCSN","AGE05NOTKAUTREC10YSVCSN",null,"3AUTREC10YOTHLOCN","4AUTREC10YOTHLOCN","AGE05NOTKAUTREC10YOTHLOCN",null,"3AUTREC09YSVCSN","4AUTREC09YSVCSN","AGE05NOTKAUTREC09YSVCSN",null,"3AUTREC09YOTHLOCN","4AUTREC09YOTHLOCN","AGE05NOTKAUTREC09YOTHLOCN",null,"3AUTSCN","4AUTSCN","AGE05NOTKAUTSCN",null,"3AUTSSN","4AUTSSN","AGE05NOTKAUTSSN",null,"3AUTRFN","4AUTRFN","AGE05NOTKAUTRFN",null,"3AUTHN","4AUTHN","AGE05NOTKAUTHN",null,"3AUTSPLN","4AUTSPLN","AGE05NOTKAUTSPLN"]
["Traumatic Brain Injury",{"$f":"IFERROR(HYPERLINK(\"#'C089'!\"&ADDRESS(ROW(INDEX(CurrentListing_C089,MATCH(DN27,CurrentListing_C089,0),1)),20),CB27),HYPERLINK(\"#'C089'!\"&\"$V$12\",CB27))","v":"MC"},{"$f":"IFERROR(HYPERLINK(\"#'C089'!\"&ADDRESS(ROW(INDEX(CurrentListing_C089,MATCH(DO27,CurrentListing_C089,0),1)),20),CC27),HYPERLINK(\"#'C089'!\"&\"$V$12\",CC27))","v":"MC"},{"$f":"IFERROR(HYPERLINK(\"#'C089'!\"&ADDRESS(ROW(INDEX(CurrentListing_C089,MATCH(DP27,CurrentListing_C089,0),1)),20),CD27),HYPERLINK(\"#'C089'!\"&\"$V$12\",CD27))","v":"MC"},0,{"$f":"IFERROR(HYPERLINK(\"#'C089'!\"&ADDRESS(ROW(INDEX(CurrentListing_C089,MATCH(DR27,CurrentListing_C089,0),1)),20),CF27),HYPERLINK(\"#'C089'!\"&\"$V$12\",CF27))","v":"MC"},{"$f":"IFERROR(HYPERLINK(\"#'C089'!\"&ADDRESS(ROW(INDEX(CurrentListing_C089,MATCH(DS27,CurrentListing_C089,0),1)),20),CG27),HYPERLINK(\"#'C089'!\"&\"$V$12\",CG27))","v":"MC"},{"$f":"IFERROR(HYPERLINK(\"#'C089'!\"&ADDRESS(ROW(INDEX(CurrentListing_C089,MATCH(DT27,CurrentListing_C089,0),1)),20),CH27),HYPERLINK(\"#'C089'!\"&\"$V$12\",CH27))","v":"MC"},0,{"$f":"IFERROR(HYPERLINK(\"#'C089'!\"&ADDRESS(ROW(INDEX(CurrentListing_C089,MATCH(DV27,CurrentListing_C089,0),1)),20),CJ27),HYPERLINK(\"#'C089'!\"&\"$V$12\",CJ27))","v":"MC"},{"$f":"IFERROR(HYPERLINK(\"#'C089'!\"&ADDRESS(ROW(INDEX(CurrentListing_C089,MATCH(DW27,CurrentListing_C089,0),1)),20),CK27),HYPERLINK(\"#'C089'!\"&\"$V$12\",CK27))","v":"MC"},{"$f":"IFERROR(HYPERLINK(\"#'C089'!\"&ADDRESS(ROW(INDEX(CurrentListing_C089,MATCH(DX27,CurrentListing_C089,0),1)),20),CL27),HYPERLINK(\"#'C089'!\"&\"$V$12\",CL27))","v":"MC"},0,{"$f":"IFERROR(HYPERLINK(\"#'C089'!\"&ADDRESS(ROW(INDEX(CurrentListing_C089,MATCH(DZ27,CurrentListing_C089,0),1)),20),CN27),HYPERLINK(\"#'C089'!\"&\"$V$12\",CN27))","v":"MC"},{"$f":"IFERROR(HYPERLINK(\"#'C089'!\"&ADDRESS(ROW(INDEX(CurrentListing_C089,MATCH(EA27,CurrentListing_C089,0),1)),20),CO27),HYPERLINK(\"#'C089'!\"&\"$V$12\",CO27))","v":"MC"},{"$f":"IFERROR(HYPERLINK(\"#'C089'!\"&ADDRESS(ROW(INDEX(CurrentListing_C089,MATCH(EB27,CurrentListing_C089,0),1)),20),CP27),HYPERLINK(\"#'C089'!\"&\"$V$12\",CP27))","v":"MC"},0,{"$f":"IFERROR(HYPERLINK(\"#'C089'!\"&ADDRESS(ROW(INDEX(CurrentListing_C089,MATCH(ED27,CurrentListing_C089,0),1)),20),CR27),HYPERLINK(\"#'C089'!\"&\"$V$12\",CR27))","v":"MC"},{"$f":"IFERROR(HYPERLINK(\"#'C089'!\"&ADDRESS(ROW(INDEX(CurrentListing_C089,MATCH(EE27,CurrentListing_C089,0),1)),20),CS27),HYPERLINK(\"#'C089'!\"&\"$V$12\",CS27))","v":"MC"},{"$f":"IFERROR(HYPERLINK(\"#'C089'!\"&ADDRESS(ROW(INDEX(CurrentListing_C089,MATCH(EF27,CurrentListing_C089,0),1)),20),CT27),HYPERLINK(\"#'C089'!\"&\"$V$12\",CT27))","v":"MC"},0,{"$f":"IFERROR(HYPERLINK(\"#'C089'!\"&ADDRESS(ROW(INDEX(CurrentListing_C089,MATCH(EH27,CurrentListing_C089,0),1)),20),CV27),HYPERLINK(\"#'C089'!\"&\"$V$12\",CV27))","v":"MC"},{"$f":"IFERROR(HYPERLINK(\"#'C089'!\"&ADDRESS(ROW(INDEX(CurrentListing_C089,MATCH(EI27,CurrentListing_C089,0),1)),20),CW27),HYPERLINK(\"#'C089'!\"&\"$V$12\",CW27))","v":"MC"},{"$f":"IFERROR(HYPERLINK(\"#'C089'!\"&ADDRESS(ROW(INDEX(CurrentListing_C089,MATCH(EJ27,CurrentListing_C089,0),1)),20),CX27),HYPERLINK(\"#'C089'!\"&\"$V$12\",CX27))","v":"MC"},0,{"$f":"IFERROR(HYPERLINK(\"#'C089'!\"&ADDRESS(ROW(INDEX(CurrentListing_C089,MATCH(EL27,CurrentListing_C089,0),1)),20),CZ27),HYPERLINK(\"#'C089'!\"&\"$V$12\",CZ27))","v":"MC"},{"$f":"IFERROR(HYPERLINK(\"#'C089'!\"&ADDRESS(ROW(INDEX(CurrentListing_C089,MATCH(EM27,CurrentListing_C089,0),1)),20),DA27),HYPERLINK(\"#'C089'!\"&\"$V$12\",DA27))","v":"MC"},{"$f":"IFERROR(HYPERLINK(\"#'C089'!\"&ADDRESS(ROW(INDEX(CurrentListing_C089,MATCH(EN27,CurrentListing_C089,0),1)),20),DB27),HYPERLINK(\"#'C089'!\"&\"$V$12\",DB27))","v":"MC"},0,{"$f":"IFERROR(HYPERLINK(\"#'C089'!\"&ADDRESS(ROW(INDEX(CurrentListing_C089,MATCH(EP27,CurrentListing_C089,0),1)),20),DD27),HYPERLINK(\"#'C089'!\"&\"$V$12\",DD27))","v":"MC"},{"$f":"IFERROR(HYPERLINK(\"#'C089'!\"&ADDRESS(ROW(INDEX(CurrentListing_C089,MATCH(EQ27,CurrentListing_C089,0),1)),20),DE27),HYPERLINK(\"#'C089'!\"&\"$V$12\",DE27))","v":"MC"},{"$f":"IFERROR(HYPERLINK(\"#'C089'!\"&ADDRESS(ROW(INDEX(CurrentListing_C089,MATCH(ER27,CurrentListing_C089,0),1)),20),DF27),HYPERLINK(\"#'C089'!\"&\"$V$12\",DF27))","v":"MC"},0,{"$f":"IFERROR(HYPERLINK(\"#'C089'!\"&ADDRESS(ROW(INDEX(CurrentListing_C089,MATCH(ET27,CurrentListing_C089,0),1)),20),DH27),HYPERLINK(\"#'C089'!\"&\"$V$12\",DH27))","v":"MC"},{"$f":"IFERROR(HYPERLINK(\"#'C089'!\"&ADDRESS(ROW(INDEX(CurrentListing_C089,MATCH(EU27,CurrentListing_C089,0),1)),20),DI27),HYPERLINK(\"#'C089'!\"&\"$V$12\",DI27))","v":"MC"},{"$f":"IFERROR(HYPERLINK(\"#'C089'!\"&ADDRESS(ROW(INDEX(CurrentListing_C089,MATCH(EV27,CurrentListing_C089,0),1)),20),DJ27),HYPERLINK(\"#'C089'!\"&\"$V$12\",DJ27))","v":"MC"},0,0,null,null,null,null,null,null,null,null,null,null,null,null,null,null,null,null,null,null,null,null,null,null,null,null,null,null,null,null,null,null,null,null,null,null,null,null,null,null,null,null,"Traumatic Brain Injury","MC","MC","MC",null,"MC","MC","MC",null,"MC","MC","MC",null,"MC","MC","MC",null,"MC","MC","MC",null,"MC","MC","MC",null,"MC","MC","MC",null,"MC","MC","MC",null,"MC","MC","MC",null,null,"Traumatic Brain Injury","3TBIREC10YSVCSN","4TBIREC10YSVCSN","AGE05NOTKTBIREC10YSVCSN",null,"3TBIREC10YOTHLOCN","4TBIREC10YOTHLOCN","AGE05NOTKTBIREC10YOTHLOCN",null,"3TBIREC09YSVCSN","4TBIREC09YSVCSN","AGE05NOTKTBIREC09YSVCSN",null,"3TBIREC09YOTHLOCN","4TBIREC09YOTHLOCN","AGE05NOTKTBIREC09YOTHLOCN",null,"3TBISCN","4TBISCN","AGE05NOTKTBISCN",null,"3TBISSN","4TBISSN","AGE05NOTKTBISSN",null,"3TBIRFN","4TBIRFN","AGE05NOTKTBIRFN",null,"3TBIHN","4TBIHN","AGE05NOTKTBIHN",null,"3TBISPLN","4TBISPLN","AGE05NOTKTBISPLN"]
["Developmental Delay1",{"$f":"IFERROR(HYPERLINK(\"#'C089'!\"&ADDRESS(ROW(INDEX(CurrentListing_C089,MATCH(DN28,CurrentListing_C089,0),1)),20),CB28),HYPERLINK(\"#'C089'!\"&\"$V$12\",CB28))","v":"MC"},{"$f":"IFERROR(HYPERLINK(\"#'C089'!\"&ADDRESS(ROW(INDEX(CurrentListing_C089,MATCH(DO28,CurrentListing_C089,0),1)),20),CC28),HYPERLINK(\"#'C089'!\"&\"$V$12\",CC28))","v":"MC"},{"$f":"IFERROR(HYPERLINK(\"#'C089'!\"&ADDRESS(ROW(INDEX(CurrentListing_C089,MATCH(DP28,CurrentListing_C089,0),1)),20),CD28),HYPERLINK(\"#'C089'!\"&\"$V$12\",CD28))","v":"MC"},0,{"$f":"IFERROR(HYPERLINK(\"#'C089'!\"&ADDRESS(ROW(INDEX(CurrentListing_C089,MATCH(DR28,CurrentListing_C089,0),1)),20),CF28),HYPERLINK(\"#'C089'!\"&\"$V$12\",CF28))","v":"MC"},{"$f":"IFERROR(HYPERLINK(\"#'C089'!\"&ADDRESS(ROW(INDEX(CurrentListing_C089,MATCH(DS28,CurrentListing_C089,0),1)),20),CG28),HYPERLINK(\"#'C089'!\"&\"$V$12\",CG28))","v":"MC"},{"$f":"IFERROR(HYPERLINK(\"#'C089'!\"&ADDRESS(ROW(INDEX(CurrentListing_C089,MATCH(DT28,CurrentListing_C089,0),1)),20),CH28),HYPERLINK(\"#'C089'!\"&\"$V$12\",CH28))","v":"MC"},0,{"$f":"IFERROR(HYPERLINK(\"#'C089'!\"&ADDRESS(ROW(INDEX(CurrentListing_C089,MATCH(DV28,CurrentListing_C089,0),1)),20),CJ28),HYPERLINK(\"#'C089'!\"&\"$V$12\",CJ28))","v":"MC"},{"$f":"IFERROR(HYPERLINK(\"#'C089'!\"&ADDRESS(ROW(INDEX(CurrentListing_C089,MATCH(DW28,CurrentListing_C089,0),1)),20),CK28),HYPERLINK(\"#'C089'!\"&\"$V$12\",CK28))","v":"MC"},{"$f":"IFERROR(HYPERLINK(\"#'C089'!\"&ADDRESS(ROW(INDEX(CurrentListing_C089,MATCH(DX28,CurrentListing_C089,0),1)),20),CL28),HYPERLINK(\"#'C089'!\"&\"$V$12\",CL28))","v":"MC"},0,{"$f":"IFERROR(HYPERLINK(\"#'C089'!\"&ADDRESS(ROW(INDEX(CurrentListing_C089,MATCH(DZ28,CurrentListing_C089,0),1)),20),CN28),HYPERLINK(\"#'C089'!\"&\"$V$12\",CN28))","v":"MC"},{"$f":"IFERROR(HYPERLINK(\"#'C089'!\"&ADDRESS(ROW(INDEX(CurrentListing_C089,MATCH(EA28,CurrentListing_C089,0),1)),20),CO28),HYPERLINK(\"#'C089'!\"&\"$V$12\",CO28))","v":"MC"},{"$f":"IFERROR(HYPERLINK(\"#'C089'!\"&ADDRESS(ROW(INDEX(CurrentListing_C089,MATCH(EB28,CurrentListing_C089,0),1)),20),CP28),HYPERLINK(\"#'C089'!\"&\"$V$12\",CP28))","v":"MC"},0,{"$f":"IFERROR(HYPERLINK(\"#'C089'!\"&ADDRESS(ROW(INDEX(CurrentListing_C089,MATCH(ED28,CurrentListing_C089,0),1)),20),CR28),HYPERLINK(\"#'C089'!\"&\"$V$12\",CR28))","v":"MC"},{"$f":"IFERROR(HYPERLINK(\"#'C089'!\"&ADDRESS(ROW(INDEX(CurrentListing_C089,MATCH(EE28,CurrentListing_C089,0),1)),20),CS28),HYPERLINK(\"#'C089'!\"&\"$V$12\",CS28))","v":"MC"},{"$f":"IFERROR(HYPERLINK(\"#'C089'!\"&ADDRESS(ROW(INDEX(CurrentListing_C089,MATCH(EF28,CurrentListing_C089,0),1)),20),CT28),HYPERLINK(\"#'C089'!\"&\"$V$12\",CT28))","v":"MC"},0,{"$f":"IFERROR(HYPERLINK(\"#'C089'!\"&ADDRESS(ROW(INDEX(CurrentListing_C089,MATCH(EH28,CurrentListing_C089,0),1)),20),CV28),HYPERLINK(\"#'C089'!\"&\"$V$12\",CV28))","v":"MC"},{"$f":"IFERROR(HYPERLINK(\"#'C089'!\"&ADDRESS(ROW(INDEX(CurrentListing_C089,MATCH(EI28,CurrentListing_C089,0),1)),20),CW28),HYPERLINK(\"#'C089'!\"&\"$V$12\",CW28))","v":"MC"},{"$f":"IFERROR(HYPERLINK(\"#'C089'!\"&ADDRESS(ROW(INDEX(CurrentListing_C089,MATCH(EJ28,CurrentListing_C089,0),1)),20),CX28),HYPERLINK(\"#'C089'!\"&\"$V$12\",CX28))","v":"MC"},0,{"$f":"IFERROR(HYPERLINK(\"#'C089'!\"&ADDRESS(ROW(INDEX(CurrentListing_C089,MATCH(EL28,CurrentListing_C089,0),1)),20),CZ28),HYPERLINK(\"#'C089'!\"&\"$V$12\",CZ28))","v":"MC"},{"$f":"IFERROR(HYPERLINK(\"#'C089'!\"&ADDRESS(ROW(INDEX(CurrentListing_C089,MATCH(EM28,CurrentListing_C089,0),1)),20),DA28),HYPERLINK(\"#'C089'!\"&\"$V$12\",DA28))","v":"MC"},{"$f":"IFERROR(HYPERLINK(\"#'C089'!\"&ADDRESS(ROW(INDEX(CurrentListing_C089,MATCH(EN28,CurrentListing_C089,0),1)),20),DB28),HYPERLINK(\"#'C089'!\"&\"$V$12\",DB28))","v":"MC"},0,{"$f":"IFERROR(HYPERLINK(\"#'C089'!\"&ADDRESS(ROW(INDEX(CurrentListing_C089,MATCH(EP28,CurrentListing_C089,0),1)),20),DD28),HYPERLINK(\"#'C089'!\"&\"$V$12\",DD28))","v":"MC"},{"$f":"IFERROR(HYPERLINK(\"#'C089'!\"&ADDRESS(ROW(INDEX(CurrentListing_C089,MATCH(EQ28,CurrentListing_C089,0),1)),20),DE28),HYPERLINK(\"#'C089'!\"&\"$V$12\",DE28))","v":"MC"},{"$f":"IFERROR(HYPERLINK(\"#'C089'!\"&ADDRESS(ROW(INDEX(CurrentListing_C089,MATCH(ER28,CurrentListing_C089,0),1)),20),DF28),HYPERLINK(\"#'C089'!\"&\"$V$12\",DF28))","v":"MC"},0,{"$f":"IFERROR(HYPERLINK(\"#'C089'!\"&ADDRESS(ROW(INDEX(CurrentListing_C089,MATCH(ET28,CurrentListing_C089,0),1)),20),DH28),HYPERLINK(\"#'C089'!\"&\"$V$12\",DH28))","v":"MC"},{"$f":"IFERROR(HYPERLINK(\"#'C089'!\"&ADDRESS(ROW(INDEX(CurrentListing_C089,MATCH(EU28,CurrentListing_C089,0),1)),20),DI28),HYPERLINK(\"#'C089'!\"&\"$V$12\",DI28))","v":"MC"},{"$f":"IFERROR(HYPERLINK(\"#'C089'!\"&ADDRESS(ROW(INDEX(CurrentListing_C089,MATCH(EV28,CurrentListing_C089,0),1)),20),DJ28),HYPERLINK(\"#'C089'!\"&\"$V$12\",DJ28))","v":"MC"},0,0,null,null,null,null,null,null,null,null,null,null,null,null,null,null,null,null,null,null,null,null,null,null,null,null,null,null,null,null,null,null,null,null,null,null,null,null,null,null,null,null,"Developmental Delay1","MC","MC","MC",null,"MC","MC","MC",null,"MC","MC","MC",null,"MC","MC","MC",null,"MC","MC","MC",null,"MC","MC","MC",null,"MC","MC","MC",null,"MC","MC","MC",null,"MC","MC","MC",null,null,"Developmental Delay1","3DDREC10YSVCSN","4DDREC10YSVCSN","AGE05NOTKDDREC10YSVCSN",null,"3DDREC10YOTHLOCN","4DDREC10YOTHLOCN","AGE05NOTKDDREC10YOTHLOCN",null,"3DDREC09YSVCSN","4DDREC09YSVCSN","AGE05NOTKDDREC09YSVCSN",null,"3DDREC09YOTHLOCN","4DDREC09YOTHLOCN","AGE05NOTKDDREC09YOTHLOCN",null,"3DDSCN","4DDSCN","AGE05NOTKDDSCN",null,"3DDSSN","4DDSSN","AGE05NOTKDDSSN",null,"3DDRFN","4DDRFN","AGE05NOTKDDRFN",null,"3DDHN","4DDHN","AGE05NOTKDDHN",null,"3DDSPLN","4DDSPLN","AGE05NOTKDDSPLN"]
["Calculated Total",{"$f":"SUM(B16:B28)","v":0},{"$f":"SUM(C16:C28)","v":0},0,0,0,0,0,0,0,0,0,0,0,0,0,0,0,0,0,0,0,0,0,0,0,0,0,0,0,0,0,0,0,0,0,0,0,null,null,null,null,null,null,null,null,null,null,null,null,null,null,null,null,null,null,null,null,null,null,null,null,null,null,null,null,null,null,null,null,null,null,null,null,null,null,null,null,"Total",{"$f":"IFERROR(IF(INDEX(Ttl_C089,MATCH(DN29,CurrentListing_C089,0))=\"\",\"No Data\",INDEX(Ttl_C089,MATCH(DN29,CurrentListing_C089,0))),\"MC\")","v":"MC"},null,null,"MC",null,null,null,{"$f":"IFERROR(IF(INDEX(Ttl_C089,MATCH(DU29,CurrentListing_C089,0))=\"\",\"No Data\",INDEX(Ttl_C089,MATCH(DU29,CurrentListing_C089,0))),\"MC\")","v":"MC"},null,null,null,{"$f":"IFERROR(IF(INDEX(Ttl_C089,MATCH(DY29,CurrentListing_C089,0))=\"\",\"No Data\",INDEX(Ttl_C089,MATCH(DY29,CurrentListing_C089,0))),\"MC\")","v":"MC"},null,null,null,{"$f":"IFERROR(IF(INDEX(Ttl_C089,MATCH(EC29,CurrentListing_C089,0))=\"\",\"No Data\",INDEX(Ttl_C089,MATCH(EC29,CurrentListing_C089,0))),\"MC\")","v":"MC"},null,null,null,{"$f":"IFERROR(IF(INDEX(Ttl_C089,MATCH(EG29,CurrentListing_C089,0))=\"\",\"No Data\",INDEX(Ttl_C089,MATCH(EG29,CurrentListing_C089,0))),\"MC\")","v":"MC"},null,null,null,{"$f":"IFERROR(IF(INDEX(Ttl_C089,MATCH(EK29,CurrentListing_C089,0))=\"\",\"No Data\",INDEX(Ttl_C089,MATCH(EK29,CurrentListing_C089,0))),\"MC\")","v":"MC"},null,null,null,{"$f":"IFERROR(IF(INDEX(Ttl_C089,MATCH(EO29,CurrentListing_C089,0))=\"\",\"No Data\",INDEX(Ttl_C089,MATCH(EO29,CurrentListing_C089,0))),\"MC\")","v":"MC"},null,null,null,{"$f":"IFERROR(IF(INDEX(Ttl_C089,MATCH(ES29,CurrentListing_C089,0))=\"\",\"No Data\",INDEX(Ttl_C089,MATCH(ES29,CurrentListing_C089,0))),\"MC\")","v":"MC"},null,null,null,{"$f":"IFERROR(IF(INDEX(Ttl_C089,MATCH(EW29,CurrentListing_C089,0))=\"\",\"No Data\",INDEX(Ttl_C089,MATCH(EW29,CurrentListing_C089,0))),\"MC\")","v":"MC"},null,"Calculated Total",null,null,null,"REC10YSVCSY",null,null,null,"REC10YOTHLOCY",null,null,null,"REC09YSVCSY",null,null,null,"REC09YOTHLOCY",null,null,null,"SCY",null,null,null,"SSY",null,null,null,"RFY",null,null,null,"HY",null,null,null,"SPLY"]
[]
["Student Count \nby Racial Ethnic, Disability Category, and \nEducational Environment\n(Category Set B)","Children attending a Regular Early Childhood Program \nat least 10 hrs. per week,…\n(A) ",null,null,null,null,null,null,null,null,null,null,null,null,null,null,null,"Children attending a Regular Early Childhood Program \nless than 10 hrs. per week,…\n(B) ",null,null,null,null,null,null,null,null,null,null,null,null,null,null,null,"Children attending a Special Education Program \n(NOT in any Regular Early Childhood Program),…\n(C)  ",null,null,null,null,null,null,null,null,null,null,null,null,null,null,null,null,null,null,null,null,null,null,null,"Children attending neither a Regular Early Childhood Program\nnor a Special Education Program\n(Not included in (A), (B), or (C))\n(D) ",null,null,null,null,null,null,null,null,null,null,null,null,null,null,null,"Calculated\nGrand Total",null,null,null,null,"Student count \nby Racial Ethnic, Disability Category and \nEducational Environment\n(Category Set B)","Children attending a Regular Early Childhood Program \nat least 10 hrs per week,…\n(A) ",null,null,null,null,null,null,null,null,null,null,null,null,null,null,null,"Children attending a Regular Early Childhood Program \nless than 10 hrs per week,…\n(B) ",null,null,null,null,null,null,null,null,null,null,null,null,null,null,null,"Children attending a Special Education Program \n(NOT in any regular early childhood program),…\n(C)  ",null,null,null,null,null,null,null,null,null,null,null,null,null,null,null,null,null,null,null,null,null,null,null,"Children attending neither a Regular Early Childhood Program\nnor a Special Education Program\n(Not included in (A), (B) or (C))\n(D) ",null,null,null,null,null,null,null,null,null,null,null,null,null,null,null,null,"Student count \nby Racial Ethnic, Disability Category and \nEducational Environment\n(Category Set B)","Children attending a Regular Early Childhood Program \nat least 10 hrs per week,…\n(A) ",null,null,null,null,null,null,null,null,null,null,null,null,null,null,null,"Children attending a Regular Early Childhood Program \nless than 10 hrs per week,…\n(B) ",null,null,null,null,null,null,null,null,null,null,null,null,null,null,null,"Children attending a Special Education Program \n(NOT in any regular early childhood program),…\n(C)  ",null,null,null,null,null,null,null,null,null,null,null,null,null,null,null,null,null,null,null,null,null,null,null,"Children attending neither a Regular Early Childhood Program\nnor a Special Education Program\n(Not included in (A), (B) or (C))\n(D) "]
[null,"... and receiving the majority of hours of special education and related services in the \nRegular Early Childhood Program\n(A1)",null,null,null,null,null,null,null,"… and receiving the majority of hours of special education and related services in some \nOther Location\n(A2)",null,null,null,null,null,null,null,"… and receiving the majority of hours of special education and related services in the \nRegular Early Childhood Program\n(B1)",null,null,null,null,null,null,null,"… and receiving the majority of hours of special education and related services in some\nOther Location\n(B2)",null,null,null,null,null,null,null,"… specifically, \na Separate Special Education Class\n(C1)",null,null,null,null,null,null,null,"… specifically, \na Separate School\n(C2)",null,null,null,null,null,null,null,"… specifically, \na Residential Facility\n(C3)",null,null,null,null,null,null,null,"… and receiving the majority of hours of \nspecial education and related services \nat Home\n(D1)",null,null,null,null,null,null,null,"… and receiving the majority of hours of special education and related services \nat the Service Provider Location or some \nOther Location not in any other category\n(D2)",null,null,null,null,null,null,null,null,null,null,null,null,null,"... and receiving the majority of hours of special education and related services in the \nRegular Early Childhood Program\n(A1)",null,null,null,null,null,null,null,"… and receiving the majority of hours of special education and related services in some \nOther Location\n(A2)",null,null,null,null,null,null,null,"… and receiving the majority of hours of special education and related services in the \nRegular Early Childhood Program\n(B1)",null,null,null,null,null,null,null,"… and receiving the majority of hours of special education and related services in some\nOther Location\n(B2)",null,null,null,null,null,null,null,"… specifically, \na Separate Special Education Class\n(C1)",null,null,null,null,null,null,null,"… specifically, \na Separate School\n(C2)",null,null,null,null,null,null,null,"… specifically, \na Residential Facility\n(C3)",null,null,null,null,null,null,null,"… and receiving the majority of hours of \nspecial education and related services \nat Home\n(D1)",null,null,null,null,null,null,null,"… and receiving the majority of hours of special education and related services \nat the Service Provider Location or some \nOther Location not in any other category\n(D2)",null,null,null,null,null,null,null,null,null,"... and receiving the majority of hours of special education and related services in the \nRegular Early Childhood Program\n(A1)",null,null,null,null,null,null,null,"… and receiving the majority of hours of special education and related services in some \nOther Location\n(A2)",null,null,null,null,null,null,null,"… and receiving the majority of hours of special education and related services in the \nRegular Early Childhood Program\n(B1)",null,null,null,null,null,null,null,"… and receiving the majority of hours of special education and related services in some\nOther Location\n(B2)",null,null,null,null,null,null,null,"… specifically, \na Separate Special Education Class\n(C1)",null,null,null,null,null,null,null,"… specifically, \na Separate School\n(C2)",null,null,null,null,null,null,null,"… specifically, \na Residential Facility\n(C3)",null,null,null,null,null,null,null,"… and receiving the majority of hours of \nspecial education and related services \nat Home\n(D1)",null,null,null,null,null,null,null,"… and receiving the majority of hours of special education and related services \nat the Service Provider Location or some \nOther Location not in any other category\n(D2)"]
[null,"Racial Ethnic",null,null,null,null,null,null,null,"Racial Ethnic",null,null,null,null,null,null,null,"Racial Ethnic",null,null,null,null,null,null,null,"Racial Ethnic",null,null,null,null,null,null,null,"Racial Ethnic",null,null,null,null,null,null,null,"Racial Ethnic",null,null,null,null,null,null,null,"Racial Ethnic",null,null,null,null,null,null,null,"Racial Ethnic",null,null,null,null,null,null,null,"Racial Ethnic",null,null,null,null,null,null,null,null,null,null,null,null,null,"Racial Ethnic",null,null,null,null,null,null,null,"Racial Ethnic",null,null,null,null,null,null,null,"Racial Ethnic",null,null,null,null,null,null,null,"Racial Ethnic",null,null,null,null,null,null,null,"Racial Ethnic",null,null,null,null,null,null,null,"Racial Ethnic",null,null,null,null,null,null,null,"Racial Ethnic",null,null,null,null,null,null,null,"Racial Ethnic",null,null,null,null,null,null,null,"Racial Ethnic",null,null,null,null,null,null,null,null,null,"Racial Ethnic",null,null,null,null,null,null,null,"Racial Ethnic",null,null,null,null,null,null,null,"Racial Ethnic",null,null,null,null,null,null,null,"Racial Ethnic",null,null,null,null,null,null,null,"Racial Ethnic",null,null,null,null,null,null,null,"Racial Ethnic",null,null,null,null,null,null,null,"Racial Ethnic",null,null,null,null,null,null,null,"Racial Ethnic",null,null,null,null,null,null,null,"Racial Ethnic"]
[null,"Hispanic/\nLatino","American Indian or Alaska Native","Asian","Black or African American","Native Hawaiian or Other Pacific Islander","White","Two or more races","Calculated \nTotal","Hispanic/\nLatino","American Indian or Alaska Native","Asian","Black or African American","Native Hawaiian or Other Pacific Islander","White","Two or more races","Calculated \nTotal","Hispanic/\nLatino","American Indian or Alaska Native","Asian","Black or African American","Native Hawaiian or Other Pacific Islander","White","Two or more races","Calculated \nTotal","Hispanic/\nLatino","American Indian or Alaska Native","Asian","Black or African American","Native Hawaiian or Other Pacific Islander","White","Two or more races","Calculated \nTotal","Hispanic/\nLatino","American Indian or Alaska Native","Asian","Black or African American","Native Hawaiian or Other Pacific Islander","White","Two or more races","Calculated \nTotal","Hispanic/\nLatino","American Indian or Alaska Native","Asian","Black or African American","Native Hawaiian or Other Pacific Islander","White","Two or more races","Calculated \nTotal","Hispanic/\nLatino","American Indian or Alaska Native","Asian","Black or African American","Native Hawaiian or Other Pacific Islander","White","Two or more races","Calculated \nTotal","Hispanic/\nLatino","American Indian or Alaska Native","Asian","Black or African American","Native Hawaiian or Other Pacific Islander","White","Two or more races","Calculated \nTotal","Hispanic/\nLatino","American Indian or Alaska Native","Asian","Black or African American","Native Hawaiian or Other Pacific Islander","White","Two or more races","Calculated \nTotal",null,null,null,null,null,null,"Hispanic/\nLatino","American Indian or Alaskan Native","Asian","Black or African American","Native Hawaiian or Other Pacific Islander","White","Two or more races","Total","Hispanic/\nLatino","American Indian or Alaskan Native","Asian","Black or African American","Native Hawaiian or Other Pacific Islander","White","Two or more races","Total","Hispanic/\nLatino","American Indian or Alaskan Native","Asian","Black or African American","Native Hawaiian or Other Pacific Islander","White","Two or more races","Total","Hispanic/\nLatino","American Indian or Alaskan Native","Asian","Black or African American","Native Hawaiian or Other Pacific Islander","White","Two or more races","Total","Hispanic/\nLatino","American Indian or Alaskan Native","Asian","Black or African American","Native Hawaiian or Other Pacific Islander","White","Two or more races","Total","Hispanic/\nLatino","American Indian or Alaskan Native","Asian","Black or African American","Native Hawaiian or Other Pacific Islander","White","Two or more races","Total","Hispanic/\nLatino","American Indian or Alaskan Native","Asian","Black or African American","Native Hawaiian or Other Pacific Islander","White","Two or more races","Total","Hispanic/\nLatino","American Indian or Alaskan Native","Asian","Black or African American","Native Hawaiian or Other Pacific Islander","White","Two or more races","Total","Hispanic/\nLatino","American Indian or Alaskan Native","Asian","Black or African American","Native Hawaiian or Other Pacific Islander","White","Two or more races","Total",null,null,"Hispanic/\nLatino","American Indian or Alaskan Native","Asian","Black or African American","Native Hawaiian or Other Pacific Islander","White","Two or more races","Total","Hispanic/\nLatino","American Indian or Alaskan Native","Asian","Black or African American","Native Hawaiian or Other Pacific Islander","White","Two or more races","Total","Hispanic/\nLatino","American Indian or Alaskan Native","Asian","Black or African American","Native Hawaiian or Other Pacific Islander","White","Two or more races","Total","Hispanic/\nLatino","American Indian or Alaskan Native","Asian","Black or African American","Native Hawaiian or Other Pacific Islander","White","Two or more races","Total","Hispanic/\nLatino","American Indian or Alaskan Native","Asian","Black or African American","Native Hawaiian or Other Pacific Islander","White","Two or more races","Total","Hispanic/\nLatino","American Indian or Alaskan Native","Asian","Black or African American","Native Hawaiian or Other Pacific Islander","White","Two or more races","Total","Hispanic/\nLatino","American Indian or Alaskan Native","Asian","Black or African American","Native Hawaiian or Other Pacific Islander","White","Two or more races","Total","Hispanic/\nLatino","American Indian or Alaskan Native","Asian","Black or African American","Native Hawaiian or Other Pacific Islander","White","Two or more races","Total","Hispanic/\nLatino","American Indian or Alaskan Native","Asian","Black or African American","Native Hawaiian or Other Pacific Islander","White","Two or more races","Total"]
["Intellectual Disability",{"$f":"IFERROR(HYPERLINK(\"#'C089'!\"&ADDRESS(ROW(INDEX(CurrentListing_C089,MATCH(EX35,CurrentListing_C089,0),1)),20),CB35),HYPERLINK(\"#'C089'!\"&\"$V$12\",CB35))","v":"MC"},{"$f":"IFERROR(HYPERLINK(\"#'C089'!\"&ADDRESS(ROW(INDEX(CurrentListing_C089,MATCH(EY35,CurrentListing_C089,0),1)),20),CC35),HYPERLINK(\"#'C089'!\"&\"$V$12\",CC35))","v":"MC"},{"$f":"IFERROR(HYPERLINK(\"#'C089'!\"&ADDRESS(ROW(INDEX(CurrentListing_C089,MATCH(EZ35,CurrentListing_C089,0),1)),20),CD35),HYPERLINK(\"#'C089'!\"&\"$V$12\",CD35))","v":"MC"},{"$f":"IFERROR(HYPERLINK(\"#'C089'!\"&ADDRESS(ROW(INDEX(CurrentListing_C089,MATCH(FA35,CurrentListing_C089,0),1)),20),CE35),HYPERLINK(\"#'C089'!\"&\"$V$12\",CE35))","v":"MC"},{"$f":"IFERROR(HYPERLINK(\"#'C089'!\"&ADDRESS(ROW(INDEX(CurrentListing_C089,MATCH(FB35,CurrentListing_C089,0),1)),20),CF35),HYPERLINK(\"#'C089'!\"&\"$V$12\",CF35))","v":"MC"},{"$f":"IFERROR(HYPERLINK(\"#'C089'!\"&ADDRESS(ROW(INDEX(CurrentListing_C089,MATCH(FC35,CurrentListing_C089,0),1)),20),CG35),HYPERLINK(\"#'C089'!\"&\"$V$12\",CG35))","v":"MC"},{"$f":"IFERROR(HYPERLINK(\"#'C089'!\"&ADDRESS(ROW(INDEX(CurrentListing_C089,MATCH(FD35,CurrentListing_C089,0),1)),20),CH35),HYPERLINK(\"#'C089'!\"&\"$V$12\",CH35))","v":"MC"},{"$f":"SUM(B35:H35)","v":0},{"$f":"IFERROR(HYPERLINK(\"#'C089'!\"&ADDRESS(ROW(INDEX(CurrentListing_C089,MATCH(FF35,CurrentListing_C089,0),1)),20),CJ35),HYPERLINK(\"#'C089'!\"&\"$V$12\",CJ35))","v":"MC"},{"$f":"IFERROR(HYPERLINK(\"#'C089'!\"&ADDRESS(ROW(INDEX(CurrentListing_C089,MATCH(FG35,CurrentListing_C089,0),1)),20),CK35),HYPERLINK(\"#'C089'!\"&\"$V$12\",CK35))","v":"MC"},{"$f":"IFERROR(HYPERLINK(\"#'C089'!\"&ADDRESS(ROW(INDEX(CurrentListing_C089,MATCH(FH35,CurrentListing_C089,0),1)),20),CL35),HYPERLINK(\"#'C089'!\"&\"$V$12\",CL35))","v":"MC"},{"$f":"IFERROR(HYPERLINK(\"#'C089'!\"&ADDRESS(ROW(INDEX(CurrentListing_C089,MATCH(FI35,CurrentListing_C089,0),1)),20),CM35),HYPERLINK(\"#'C089'!\"&\"$V$12\",CM35))","v":"MC"},{"$f":"IFERROR(HYPERLINK(\"#'C089'!\"&ADDRESS(ROW(INDEX(CurrentListing_C089,MATCH(FJ35,CurrentListing_C089,0),1)),20),CN35),HYPERLINK(\"#'C089'!\"&\"$V$12\",CN35))","v":"MC"},{"$f":"IFERROR(HYPERLINK(\"#'C089'!\"&ADDRESS(ROW(INDEX(CurrentListing_C089,MATCH(FK35,CurrentListing_C089,0),1)),20),CO35),HYPERLINK(\"#'C089'!\"&\"$V$12\",CO35))","v":"MC"},{"$f":"IFERROR(HYPERLINK(\"#'C089'!\"&ADDRESS(ROW(INDEX(CurrentListing_C089,MATCH(FL35,CurrentListing_C089,0),1)),20),CP35),HYPERLINK(\"#'C089'!\"&\"$V$12\",CP35))","v":"MC"},{"$f":"SUM(J35:P35)","v":0},{"$f":"IFERROR(HYPERLINK(\"#'C089'!\"&ADDRESS(ROW(INDEX(CurrentListing_C089,MATCH(FN35,CurrentListing_C089,0),1)),20),CR35),HYPERLINK(\"#'C089'!\"&\"$V$12\",CR35))","v":"MC"},{"$f":"IFERROR(HYPERLINK(\"#'C089'!\"&ADDRESS(ROW(INDEX(CurrentListing_C089,MATCH(FO35,CurrentListing_C089,0),1)),20),CS35),HYPERLINK(\"#'C089'!\"&\"$V$12\",CS35))","v":"MC"},{"$f":"IFERROR(HYPERLINK(\"#'C089'!\"&ADDRESS(ROW(INDEX(CurrentListing_C089,MATCH(FP35,CurrentListing_C089,0),1)),20),CT35),HYPERLINK(\"#'C089'!\"&\"$V$12\",CT35))","v":"MC"},{"$f":"IFERROR(HYPERLINK(\"#'C089'!\"&ADDRESS(ROW(INDEX(CurrentListing_C089,MATCH(FQ35,CurrentListing_C089,0),1)),20),CU35),HYPERLINK(\"#'C089'!\"&\"$V$12\",CU35))","v":"MC"},{"$f":"IFERROR(HYPERLINK(\"#'C089'!\"&ADDRESS(ROW(INDEX(CurrentListing_C089,MATCH(FR35,CurrentListing_C089,0),1)),20),CV35),HYPERLINK(\"#'C089'!\"&\"$V$12\",CV35))","v":"MC"},{"$f":"IFERROR(HYPERLINK(\"#'C089'!\"&ADDRESS(ROW(INDEX(CurrentListing_C089,MATCH(FS35,CurrentListing_C089,0),1)),20),CW35),HYPERLINK(\"#'C089'!\"&\"$V$12\",CW35))","v":"MC"},{"$f":"IFERROR(HYPERLINK(\"#'C089'!\"&ADDRESS(ROW(INDEX(CurrentListing_C089,MATCH(FT35,CurrentListing_C089,0),1)),20),CX35),HYPERLINK(\"#'C089'!\"&\"$V$12\",CX35))","v":"MC"},{"$f":"SUM(R35:X35)","v":0},{"$f":"IFERROR(HYPERLINK(\"#'C089'!\"&ADDRESS(ROW(INDEX(CurrentListing_C089,MATCH(FV35,CurrentListing_C089,0),1)),20),CZ35),HYPERLINK(\"#'C089'!\"&\"$V$12\",CZ35))","v":"MC"},{"$f":"IFERROR(HYPERLINK(\"#'C089'!\"&ADDRESS(ROW(INDEX(CurrentListing_C089,MATCH(FW35,CurrentListing_C089,0),1)),20),DA35),HYPERLINK(\"#'C089'!\"&\"$V$12\",DA35))","v":"MC"},{"$f":"IFERROR(HYPERLINK(\"#'C089'!\"&ADDRESS(ROW(INDEX(CurrentListing_C089,MATCH(FX35,CurrentListing_C089,0),1)),20),DB35),HYPERLINK(\"#'C089'!\"&\"$V$12\",DB35))","v":"MC"},{"$f":"IFERROR(HYPERLINK(\"#'C089'!\"&ADDRESS(ROW(INDEX(CurrentListing_C089,MATCH(FY35,CurrentListing_C089,0),1)),20),DC35),HYPERLINK(\"#'C089'!\"&\"$V$12\",DC35))","v":"MC"},{"$f":"IFERROR(HYPERLINK(\"#'C089'!\"&ADDRESS(ROW(INDEX(CurrentListing_C089,MATCH(FZ35,CurrentListing_C089,0),1)),20),DD35),HYPERLINK(\"#'C089'!\"&\"$V$12\",DD35))","v":"MC"},{"$f":"IFERROR(HYPERLINK(\"#'C089'!\"&ADDRESS(ROW(INDEX(CurrentListing_C089,MATCH(GA35,CurrentListing_C089,0),1)),20),DE35),HYPERLINK(\"#'C089'!\"&\"$V$12\",DE35))","v":"MC"},{"$f":"IFERROR(HYPERLINK(\"#'C089'!\"&ADDRESS(ROW(INDEX(CurrentListing_C089,MATCH(GB35,CurrentListing_C089,0),1)),20),DF35),HYPERLINK(\"#'C089'!\"&\"$V$12\",DF35))","v":"MC"},{"$f":"SUM(Z35:AF35)","v":0},{"$f":"IFERROR(HYPERLINK(\"#'C089'!\"&ADDRESS(ROW(INDEX(CurrentListing_C089,MATCH(GD35,CurrentListing_C089,0),1)),20),DH35),HYPERLINK(\"#'C089'!\"&\"$V$12\",DH35))","v":"MC"},{"$f":"IFERROR(HYPERLINK(\"#'C089'!\"&ADDRESS(ROW(INDEX(CurrentListing_C089,MATCH(GE35,CurrentListing_C089,0),1)),20),DI35),HYPERLINK(\"#'C089'!\"&\"$V$12\",DI35))","v":"MC"},{"$f":"IFERROR(HYPERLINK(\"#'C089'!\"&ADDRESS(ROW(INDEX(CurrentListing_C089,MATCH(GF35,CurrentListing_C089,0),1)),20),DJ35),HYPERLINK(\"#'C089'!\"&\"$V$12\",DJ35))","v":"MC"},{"$f":"IFERROR(HYPERLINK(\"#'C089'!\"&ADDRESS(ROW(INDEX(CurrentListing_C089,MATCH(GG35,CurrentListing_C089,0),1)),20),DK35),HYPERLINK(\"#'C089'!\"&\"$V$12\",DK35))","v":"MC"},{"$f":"IFERROR(HYPERLINK(\"#'C089'!\"&ADDRESS(ROW(INDEX(CurrentListing_C089,MATCH(GH35,CurrentListing_C089,0),1)),20),DL35),HYPERLINK(\"#'C089'!\"&\"$V$12\",DL35))","v":"MC"},{"$f":"IFERROR(HYPERLINK(\"#'C089'!\"&ADDRESS(ROW(INDEX(CurrentListing_C089,MATCH(GI35,CurrentListing_C089,0),1)),20),DM35),HYPERLINK(\"#'C089'!\"&\"$V$12\",DM35))","v":"MC"},{"$f":"IFERROR(HYPERLINK(\"#'C089'!\"&ADDRESS(ROW(INDEX(CurrentListing_C089,MATCH(GJ35,CurrentListing_C089,0),1)),20),DN35),HYPERLINK(\"#'C089'!\"&\"$V$12\",DN35))","v":"MC"},{"$f":"SUM(AH35:AN35)","v":0},{"$f":"IFERROR(HYPERLINK(\"#'C089'!\"&ADDRESS(ROW(INDEX(CurrentListing_C089,MATCH(GL35,CurrentListing_C089,0),1)),20),DP35),HYPERLINK(\"#'C089'!\"&\"$V$12\",DP35))","v":"MC"},{"$f":"IFERROR(HYPERLINK(\"#'C089'!\"&ADDRESS(ROW(INDEX(CurrentListing_C089,MATCH(GM35,CurrentListing_C089,0),1)),20),DQ35),HYPERLINK(\"#'C089'!\"&\"$V$12\",DQ35))","v":"MC"},{"$f":"IFERROR(HYPERLINK(\"#'C089'!\"&ADDRESS(ROW(INDEX(CurrentListing_C089,MATCH(GN35,CurrentListing_C089,0),1)),20),DR35),HYPERLINK(\"#'C089'!\"&\"$V$12\",DR35))","v":"MC"},{"$f":"IFERROR(HYPERLINK(\"#'C089'!\"&ADDRESS(ROW(INDEX(CurrentListing_C089,MATCH(GO35,CurrentListing_C089,0),1)),20),DS35),HYPERLINK(\"#'C089'!\"&\"$V$12\",DS35))","v":"MC"},{"$f":"IFERROR(HYPERLINK(\"#'C089'!\"&ADDRESS(ROW(INDEX(CurrentListing_C089,MATCH(GP35,CurrentListing_C089,0),1)),20),DT35),HYPERLINK(\"#'C089'!\"&\"$V$12\",DT35))","v":"MC"},{"$f":"IFERROR(HYPERLINK(\"#'C089'!\"&ADDRESS(ROW(INDEX(CurrentListing_C089,MATCH(GQ35,CurrentListing_C089,0),1)),20),DU35),HYPERLINK(\"#'C089'!\"&\"$V$12\",DU35))","v":"MC"},{"$f":"IFERROR(HYPERLINK(\"#'C089'!\"&ADDRESS(ROW(INDEX(CurrentListing_C089,MATCH(GR35,CurrentListing_C089,0),1)),20),DV35),HYPERLINK(\"#'C089'!\"&\"$V$12\",DV35))","v":"MC"},{"$f":"SUM(AP35:AV35)","v":0},{"$f":"IFERROR(HYPERLINK(\"#'C089'!\"&ADDRESS(ROW(INDEX(CurrentListing_C089,MATCH(GT35,CurrentListing_C089,0),1)),20),DX35),HYPERLINK(\"#'C089'!\"&\"$V$12\",DX35))","v":"MC"},{"$f":"IFERROR(HYPERLINK(\"#'C089'!\"&ADDRESS(ROW(INDEX(CurrentListing_C089,MATCH(GU35,CurrentListing_C089,0),1)),20),DY35),HYPERLINK(\"#'C089'!\"&\"$V$12\",DY35))","v":"MC"},{"$f":"IFERROR(HYPERLINK(\"#'C089'!\"&ADDRESS(ROW(INDEX(CurrentListing_C089,MATCH(GV35,CurrentListing_C089,0),1)),20),DZ35),HYPERLINK(\"#'C089'!\"&\"$V$12\",DZ35))","v":"MC"},{"$f":"IFERROR(HYPERLINK(\"#'C089'!\"&ADDRESS(ROW(INDEX(CurrentListing_C089,MATCH(GW35,CurrentListing_C089,0),1)),20),EA35),HYPERLINK(\"#'C089'!\"&\"$V$12\",EA35))","v":"MC"},{"$f":"IFERROR(HYPERLINK(\"#'C089'!\"&ADDRESS(ROW(INDEX(CurrentListing_C089,MATCH(GX35,CurrentListing_C089,0),1)),20),EB35),HYPERLINK(\"#'C089'!\"&\"$V$12\",EB35))","v":"MC"},{"$f":"IFERROR(HYPERLINK(\"#'C089'!\"&ADDRESS(ROW(INDEX(CurrentListing_C089,MATCH(GY35,CurrentListing_C089,0),1)),20),EC35),HYPERLINK(\"#'C089'!\"&\"$V$12\",EC35))","v":"MC"},{"$f":"IFERROR(HYPERLINK(\"#'C089'!\"&ADDRESS(ROW(INDEX(CurrentListing_C089,MATCH(GZ35,CurrentListing_C089,0),1)),20),ED35),HYPERLINK(\"#'C089'!\"&\"$V$12\",ED35))","v":"MC"},{"$f":"SUM(AX35:BD35)","v":0},{"$f":"IFERROR(HYPERLINK(\"#'C089'!\"&ADDRESS(ROW(INDEX(CurrentListing_C089,MATCH(HB35,CurrentListing_C089,0),1)),20),EF35),HYPERLINK(\"#'C089'!\"&\"$V$12\",EF35))","v":"MC"},{"$f":"IFERROR(HYPERLINK(\"#'C089'!\"&ADDRESS(ROW(INDEX(CurrentListing_C089,MATCH(HC35,CurrentListing_C089,0),1)),20),EG35),HYPERLINK(\"#'C089'!\"&\"$V$12\",EG35))","v":"MC"},{"$f":"IFERROR(HYPERLINK(\"#'C089'!\"&ADDRESS(ROW(INDEX(CurrentListing_C089,MATCH(HD35,CurrentListing_C089,0),1)),20),EH35),HYPERLINK(\"#'C089'!\"&\"$V$12\",EH35))","v":"MC"},{"$f":"IFERROR(HYPERLINK(\"#'C089'!\"&ADDRESS(ROW(INDEX(CurrentListing_C089,MATCH(HE35,CurrentListing_C089,0),1)),20),EI35),HYPERLINK(\"#'C089'!\"&\"$V$12\",EI35))","v":"MC"},{"$f":"IFERROR(HYPERLINK(\"#'C089'!\"&ADDRESS(ROW(INDEX(CurrentListing_C089,MATCH(HF35,CurrentListing_C089,0),1)),20),EJ35),HYPERLINK(\"#'C089'!\"&\"$V$12\",EJ35))","v":"MC"},{"$f":"IFERROR(HYPERLINK(\"#'C089'!\"&ADDRESS(ROW(INDEX(CurrentListing_C089,MATCH(HG35,CurrentListing_C089,0),1)),20),EK35),HYPERLINK(\"#'C089'!\"&\"$V$12\",EK35))","v":"MC"},{"$f":"IFERROR(HYPERLINK(\"#'C089'!\"&ADDRESS(ROW(INDEX(CurrentListing_C089,MATCH(HH35,CurrentListing_C089,0),1)),20),EL35),HYPERLINK(\"#'C089'!\"&\"$V$12\",EL35))","v":"MC"},{"$f":"SUM(BF35:BL35)","v":0},{"$f":"IFERROR(HYPERLINK(\"#'C089'!\"&ADDRESS(ROW(INDEX(CurrentListing_C089,MATCH(HJ35,CurrentListing_C089,0),1)),20),EN35),HYPERLINK(\"#'C089'!\"&\"$V$12\",EN35))","v":"MC"},{"$f":"IFERROR(HYPERLINK(\"#'C089'!\"&ADDRESS(ROW(INDEX(CurrentListing_C089,MATCH(HK35,CurrentListing_C089,0),1)),20),EO35),HYPERLINK(\"#'C089'!\"&\"$V$12\",EO35))","v":"MC"},{"$f":"IFERROR(HYPERLINK(\"#'C089'!\"&ADDRESS(ROW(INDEX(CurrentListing_C089,MATCH(HL35,CurrentListing_C089,0),1)),20),EP35),HYPERLINK(\"#'C089'!\"&\"$V$12\",EP35))","v":"MC"},{"$f":"IFERROR(HYPERLINK(\"#'C089'!\"&ADDRESS(ROW(INDEX(CurrentListing_C089,MATCH(HM35,CurrentListing_C089,0),1)),20),EQ35),HYPERLINK(\"#'C089'!\"&\"$V$12\",EQ35))","v":"MC"},{"$f":"IFERROR(HYPERLINK(\"#'C089'!\"&ADDRESS(ROW(INDEX(CurrentListing_C089,MATCH(HN35,CurrentListing_C089,0),1)),20),ER35),HYPERLINK(\"#'C089'!\"&\"$V$12\",ER35))","v":"MC"},{"$f":"IFERROR(HYPERLINK(\"#'C089'!\"&ADDRESS(ROW(INDEX(CurrentListing_C089,MATCH(HO35,CurrentListing_C089,0),1)),20),ES35),HYPERLINK(\"#'C089'!\"&\"$V$12\",ES35))","v":"MC"},{"$f":"IFERROR(HYPERLINK(\"#'C089'!\"&ADDRESS(ROW(INDEX(CurrentListing_C089,MATCH(HP35,CurrentListing_C089,0),1)),20),ET35),HYPERLINK(\"#'C089'!\"&\"$V$12\",ET35))","v":"MC"},{"$f":"SUM(BN35:BT35)","v":0},{"$f":"SUM(I35,Q35,Y35,AG35,AO35,AW35,BE35,BM35,BU35)","v":0},null,null,null,null,"Intellectual Disability",{"$f":"IFERROR(IF(INDEX(Ttl_C089,MATCH(EX35,CurrentListing_C089,0))=\"\",\"No Data\",INDEX(Ttl_C089,MATCH(EX35,CurrentListing_C089,0))),\"MC\")","v":"MC"},{"$f":"IFERROR(IF(INDEX(Ttl_C089,MATCH(EY35,CurrentListing_C089,0))=\"\",\"No Data\",INDEX(Ttl_C089,MATCH(EY35,CurrentListing_C089,0))),\"MC\")","v":"MC"},{"$f":"IFERROR(IF(INDEX(Ttl_C089,MATCH(EZ35,CurrentListing_C089,0))=\"\",\"No Data\",INDEX(Ttl_C089,MATCH(EZ35,CurrentListing_C089,0))),\"MC\")","v":"MC"},{"$f":"IFERROR(IF(INDEX(Ttl_C089,MATCH(FA35,CurrentListing_C089,0))=\"\",\"No Data\",INDEX(Ttl_C089,MATCH(FA35,CurrentListing_C089,0))),\"MC\")","v":"MC"},{"$f":"IFERROR(IF(INDEX(Ttl_C089,MATCH(FB35,CurrentListing_C089,0))=\"\",\"No Data\",INDEX(Ttl_C089,MATCH(FB35,CurrentListing_C089,0))),\"MC\")","v":"MC"},{"$f":"IFERROR(IF(INDEX(Ttl_C089,MATCH(FC35,CurrentListing_C089,0))=\"\",\"No Data\",INDEX(Ttl_C089,MATCH(FC35,CurrentListing_C089,0))),\"MC\")","v":"MC"},{"$f":"IFERROR(IF(INDEX(Ttl_C089,MATCH(FD35,CurrentListing_C089,0))=\"\",\"No Data\",INDEX(Ttl_C089,MATCH(FD35,CurrentListing_C089,0))),\"MC\")","v":"MC"},null,{"$f":"IFERROR(IF(INDEX(Ttl_C089,MATCH(FF35,CurrentListing_C089,0))=\"\",\"No Data\",INDEX(Ttl_C089,MATCH(FF35,CurrentListing_C089,0))),\"MC\")","v":"MC"},{"$f":"IFERROR(IF(INDEX(Ttl_C089,MATCH(FG35,CurrentListing_C089,0))=\"\",\"No Data\",INDEX(Ttl_C089,MATCH(FG35,CurrentListing_C089,0))),\"MC\")","v":"MC"},{"$f":"IFERROR(IF(INDEX(Ttl_C089,MATCH(FH35,CurrentListing_C089,0))=\"\",\"No Data\",INDEX(Ttl_C089,MATCH(FH35,CurrentListing_C089,0))),\"MC\")","v":"MC"},{"$f":"IFERROR(IF(INDEX(Ttl_C089,MATCH(FI35,CurrentListing_C089,0))=\"\",\"No Data\",INDEX(Ttl_C089,MATCH(FI35,CurrentListing_C089,0))),\"MC\")","v":"MC"},{"$f":"IFERROR(IF(INDEX(Ttl_C089,MATCH(FJ35,CurrentListing_C089,0))=\"\",\"No Data\",INDEX(Ttl_C089,MATCH(FJ35,CurrentListing_C089,0))),\"MC\")","v":"MC"},{"$f":"IFERROR(IF(INDEX(Ttl_C089,MATCH(FK35,CurrentListing_C089,0))=\"\",\"No Data\",INDEX(Ttl_C089,MATCH(FK35,CurrentListing_C089,0))),\"MC\")","v":"MC"},{"$f":"IFERROR(IF(INDEX(Ttl_C089,MATCH(FL35,CurrentListing_C089,0))=\"\",\"No Data\",INDEX(Ttl_C089,MATCH(FL35,CurrentListing_C089,0))),\"MC\")","v":"MC"},null,{"$f":"IFERROR(IF(INDEX(Ttl_C089,MATCH(FN35,CurrentListing_C089,0))=\"\",\"No Data\",INDEX(Ttl_C089,MATCH(FN35,CurrentListing_C089,0))),\"MC\")","v":"MC"},{"$f":"IFERROR(IF(INDEX(Ttl_C089,MATCH(FO35,CurrentListing_C089,0))=\"\",\"No Data\",INDEX(Ttl_C089,MATCH(FO35,CurrentListing_C089,0))),\"MC\")","v":"MC"},{"$f":"IFERROR(IF(INDEX(Ttl_C089,MATCH(FP35,CurrentListing_C089,0))=\"\",\"No Data\",INDEX(Ttl_C089,MATCH(FP35,CurrentListing_C089,0))),\"MC\")","v":"MC"},{"$f":"IFERROR(IF(INDEX(Ttl_C089,MATCH(FQ35,CurrentListing_C089,0))=\"\",\"No Data\",INDEX(Ttl_C089,MATCH(FQ35,CurrentListing_C089,0))),\"MC\")","v":"MC"},{"$f":"IFERROR(IF(INDEX(Ttl_C089,MATCH(FR35,CurrentListing_C089,0))=\"\",\"No Data\",INDEX(Ttl_C089,MATCH(FR35,CurrentListing_C089,0))),\"MC\")","v":"MC"},{"$f":"IFERROR(IF(INDEX(Ttl_C089,MATCH(FS35,CurrentListing_C089,0))=\"\",\"No Data\",INDEX(Ttl_C089,MATCH(FS35,CurrentListing_C089,0))),\"MC\")","v":"MC"},{"$f":"IFERROR(IF(INDEX(Ttl_C089,MATCH(FT35,CurrentListing_C089,0))=\"\",\"No Data\",INDEX(Ttl_C089,MATCH(FT35,CurrentListing_C089,0))),\"MC\")","v":"MC"},null,{"$f":"IFERROR(IF(INDEX(Ttl_C089,MATCH(FV35,CurrentListing_C089,0))=\"\",\"No Data\",INDEX(Ttl_C089,MATCH(FV35,CurrentListing_C089,0))),\"MC\")","v":"MC"},{"$f":"IFERROR(IF(INDEX(Ttl_C089,MATCH(FW35,CurrentListing_C089,0))=\"\",\"No Data\",INDEX(Ttl_C089,MATCH(FW35,CurrentListing_C089,0))),\"MC\")","v":"MC"},{"$f":"IFERROR(IF(INDEX(Ttl_C089,MATCH(FX35,CurrentListing_C089,0))=\"\",\"No Data\",INDEX(Ttl_C089,MATCH(FX35,CurrentListing_C089,0))),\"MC\")","v":"MC"},{"$f":"IFERROR(IF(INDEX(Ttl_C089,MATCH(FY35,CurrentListing_C089,0))=\"\",\"No Data\",INDEX(Ttl_C089,MATCH(FY35,CurrentListing_C089,0))),\"MC\")","v":"MC"},{"$f":"IFERROR(IF(INDEX(Ttl_C089,MATCH(FZ35,CurrentListing_C089,0))=\"\",\"No Data\",INDEX(Ttl_C089,MATCH(FZ35,CurrentListing_C089,0))),\"MC\")","v":"MC"},{"$f":"IFERROR(IF(INDEX(Ttl_C089,MATCH(GA35,CurrentListing_C089,0))=\"\",\"No Data\",INDEX(Ttl_C089,MATCH(GA35,CurrentListing_C089,0))),\"MC\")","v":"MC"},{"$f":"IFERROR(IF(INDEX(Ttl_C089,MATCH(GB35,CurrentListing_C089,0))=\"\",\"No Data\",INDEX(Ttl_C089,MATCH(GB35,CurrentListing_C089,0))),\"MC\")","v":"MC"},null,{"$f":"IFERROR(IF(INDEX(Ttl_C089,MATCH(GD35,CurrentListing_C089,0))=\"\",\"No Data\",INDEX(Ttl_C089,MATCH(GD35,CurrentListing_C089,0))),\"MC\")","v":"MC"},{"$f":"IFERROR(IF(INDEX(Ttl_C089,MATCH(GE35,CurrentListing_C089,0))=\"\",\"No Data\",INDEX(Ttl_C089,MATCH(GE35,CurrentListing_C089,0))),\"MC\")","v":"MC"},{"$f":"IFERROR(IF(INDEX(Ttl_C089,MATCH(GF35,CurrentListing_C089,0))=\"\",\"No Data\",INDEX(Ttl_C089,MATCH(GF35,CurrentListing_C089,0))),\"MC\")","v":"MC"},{"$f":"IFERROR(IF(INDEX(Ttl_C089,MATCH(GG35,CurrentListing_C089,0))=\"\",\"No Data\",INDEX(Ttl_C089,MATCH(GG35,CurrentListing_C089,0))),\"MC\")","v":"MC"},{"$f":"IFERROR(IF(INDEX(Ttl_C089,MATCH(GH35,CurrentListing_C089,0))=\"\",\"No Data\",INDEX(Ttl_C089,MATCH(GH35,CurrentListing_C089,0))),\"MC\")","v":"MC"},{"$f":"IFERROR(IF(INDEX(Ttl_C089,MATCH(GI35,CurrentListing_C089,0))=\"\",\"No Data\",INDEX(Ttl_C089,MATCH(GI35,CurrentListing_C089,0))),\"MC\")","v":"MC"},{"$f":"IFERROR(IF(INDEX(Ttl_C089,MATCH(GJ35,CurrentListing_C089,0))=\"\",\"No Data\",INDEX(Ttl_C089,MATCH(GJ35,CurrentListing_C089,0))),\"MC\")","v":"MC"},null,{"$f":"IFERROR(IF(INDEX(Ttl_C089,MATCH(GL35,CurrentListing_C089,0))=\"\",\"No Data\",INDEX(Ttl_C089,MATCH(GL35,CurrentListing_C089,0))),\"MC\")","v":"MC"},{"$f":"IFERROR(IF(INDEX(Ttl_C089,MATCH(GM35,CurrentListing_C089,0))=\"\",\"No Data\",INDEX(Ttl_C089,MATCH(GM35,CurrentListing_C089,0))),\"MC\")","v":"MC"},{"$f":"IFERROR(IF(INDEX(Ttl_C089,MATCH(GN35,CurrentListing_C089,0))=\"\",\"No Data\",INDEX(Ttl_C089,MATCH(GN35,CurrentListing_C089,0))),\"MC\")","v":"MC"},{"$f":"IFERROR(IF(INDEX(Ttl_C089,MATCH(GO35,CurrentListing_C089,0))=\"\",\"No Data\",INDEX(Ttl_C089,MATCH(GO35,CurrentListing_C089,0))),\"MC\")","v":"MC"},{"$f":"IFERROR(IF(INDEX(Ttl_C089,MATCH(GP35,CurrentListing_C089,0))=\"\",\"No Data\",INDEX(Ttl_C089,MATCH(GP35,CurrentListing_C089,0))),\"MC\")","v":"MC"},{"$f":"IFERROR(IF(INDEX(Ttl_C089,MATCH(GQ35,CurrentListing_C089,0))=\"\",\"No Data\",INDEX(Ttl_C089,MATCH(GQ35,CurrentListing_C089,0))),\"MC\")","v":"MC"},{"$f":"IFERROR(IF(INDEX(Ttl_C089,MATCH(GR35,CurrentListing_C089,0))=\"\",\"No Data\",INDEX(Ttl_C089,MATCH(GR35,CurrentListing_C089,0))),\"MC\")","v":"MC"},null,{"$f":"IFERROR(IF(INDEX(Ttl_C089,MATCH(GT35,CurrentListing_C089,0))=\"\",\"No Data\",INDEX(Ttl_C089,MATCH(GT35,CurrentListing_C089,0))),\"MC\")","v":"MC"},{"$f":"IFERROR(IF(INDEX(Ttl_C089,MATCH(GU35,CurrentListing_C089,0))=\"\",\"No Data\",INDEX(Ttl_C089,MATCH(GU35,CurrentListing_C089,0))),\"MC\")","v":"MC"},{"$f":"IFERROR(IF(INDEX(Ttl_C089,MATCH(GV35,CurrentListing_C089,0))=\"\",\"No Data\",INDEX(Ttl_C089,MATCH(GV35,CurrentListing_C089,0))),\"MC\")","v":"MC"},{"$f":"IFERROR(IF(INDEX(Ttl_C089,MATCH(GW35,CurrentListing_C089,0))=\"\",\"No Data\",INDEX(Ttl_C089,MATCH(GW35,CurrentListing_C089,0))),\"MC\")","v":"MC"},{"$f":"IFERROR(IF(INDEX(Ttl_C089,MATCH(GX35,CurrentListing_C089,0))=\"\",\"No Data\",INDEX(Ttl_C089,MATCH(GX35,CurrentListing_C089,0))),\"MC\")","v":"MC"},{"$f":"IFERROR(IF(INDEX(Ttl_C089,MATCH(GY35,CurrentListing_C089,0))=\"\",\"No Data\",INDEX(Ttl_C089,MATCH(GY35,CurrentListing_C089,0))),\"MC\")","v":"MC"},{"$f":"IFERROR(IF(INDEX(Ttl_C089,MATCH(GZ35,CurrentListing_C089,0))=\"\",\"No Data\",INDEX(Ttl_C089,MATCH(GZ35,CurrentListing_C089,0))),\"MC\")","v":"MC"},null,{"$f":"IFERROR(IF(INDEX(Ttl_C089,MATCH(HB35,CurrentListing_C089,0))=\"\",\"No Data\",INDEX(Ttl_C089,MATCH(HB35,CurrentListing_C089,0))),\"MC\")","v":"MC"},{"$f":"IFERROR(IF(INDEX(Ttl_C089,MATCH(HC35,CurrentListing_C089,0))=\"\",\"No Data\",INDEX(Ttl_C089,MATCH(HC35,CurrentListing_C089,0))),\"MC\")","v":"MC"},{"$f":"IFERROR(IF(INDEX(Ttl_C089,MATCH(HD35,CurrentListing_C089,0))=\"\",\"No Data\",INDEX(Ttl_C089,MATCH(HD35,CurrentListing_C089,0))),\"MC\")","v":"MC"},{"$f":"IFERROR(IF(INDEX(Ttl_C089,MATCH(HE35,CurrentListing_C089,0))=\"\",\"No Data\",INDEX(Ttl_C089,MATCH(HE35,CurrentListing_C089,0))),\"MC\")","v":"MC"},{"$f":"IFERROR(IF(INDEX(Ttl_C089,MATCH(HF35,CurrentListing_C089,0))=\"\",\"No Data\",INDEX(Ttl_C089,MATCH(HF35,CurrentListing_C089,0))),\"MC\")","v":"MC"},{"$f":"IFERROR(IF(INDEX(Ttl_C089,MATCH(HG35,CurrentListing_C089,0))=\"\",\"No Data\",INDEX(Ttl_C089,MATCH(HG35,CurrentListing_C089,0))),\"MC\")","v":"MC"},{"$f":"IFERROR(IF(INDEX(Ttl_C089,MATCH(HH35,CurrentListing_C089,0))=\"\",\"No Data\",INDEX(Ttl_C089,MATCH(HH35,CurrentListing_C089,0))),\"MC\")","v":"MC"},null,{"$f":"IFERROR(IF(INDEX(Ttl_C089,MATCH(HJ35,CurrentListing_C089,0))=\"\",\"No Data\",INDEX(Ttl_C089,MATCH(HJ35,CurrentListing_C089,0))),\"MC\")","v":"MC"},{"$f":"IFERROR(IF(INDEX(Ttl_C089,MATCH(HK35,CurrentListing_C089,0))=\"\",\"No Data\",INDEX(Ttl_C089,MATCH(HK35,CurrentListing_C089,0))),\"MC\")","v":"MC"},{"$f":"IFERROR(IF(INDEX(Ttl_C089,MATCH(HL35,CurrentListing_C089,0))=\"\",\"No Data\",INDEX(Ttl_C089,MATCH(HL35,CurrentListing_C089,0))),\"MC\")","v":"MC"},{"$f":"IFERROR(IF(INDEX(Ttl_C089,MATCH(HM35,CurrentListing_C089,0))=\"\",\"No Data\",INDEX(Ttl_C089,MATCH(HM35,CurrentListing_C089,0))),\"MC\")","v":"MC"},{"$f":"IFERROR(IF(INDEX(Ttl_C089,MATCH(HN35,CurrentListing_C089,0))=\"\",\"No Data\",INDEX(Ttl_C089,MATCH(HN35,CurrentListing_C089,0))),\"MC\")","v":"MC"},{"$f":"IFERROR(IF(INDEX(Ttl_C089,MATCH(HO35,CurrentListing_C089,0))=\"\",\"No Data\",INDEX(Ttl_C089,MATCH(HO35,CurrentListing_C089,0))),\"MC\")","v":"MC"},{"$f":"IFERROR(IF(INDEX(Ttl_C089,MATCH(HP35,CurrentListing_C089,0))=\"\",\"No Data\",INDEX(Ttl_C089,MATCH(HP35,CurrentListing_C089,0))),\"MC\")","v":"MC"},null,null,"Intellectual Disability","HI7IDREC10YSVCSN","AM7IDREC10YSVCSN","AS7IDREC10YSVCSN","BL7IDREC10YSVCSN","PI7IDREC10YSVCSN","WH7IDREC10YSVCSN","MU7IDREC10YSVCSN",null,"HI7IDREC10YOTHLOCN","AM7IDREC10YOTHLOCN","AS7IDREC10YOTHLOCN","BL7IDREC10YOTHLOCN","PI7IDREC10YOTHLOCN","WH7IDREC10YOTHLOCN","MU7IDREC10YOTHLOCN",null,"HI7IDREC09YSVCSN","AM7IDREC09YSVCSN","AS7IDREC09YSVCSN","BL7IDREC09YSVCSN","PI7IDREC09YSVCSN","WH7IDREC09YSVCSN","MU7IDREC09YSVCSN",null,"HI7IDREC09YOTHLOCN","AM7IDREC09YOTHLOCN","AS7IDREC09YOTHLOCN","BL7IDREC09YOTHLOCN","PI7IDREC09YOTHLOCN","WH7IDREC09YOTHLOCN","MU7IDREC09YOTHLOCN",null,"HI7IDSCN","AM7IDSCN","AS7IDSCN","BL7IDSCN","PI7IDSCN","WH7IDSCN","MU7IDSCN",null,"HI7IDSSN","AM7IDSSN","AS7IDSSN","BL7IDSSN","PI7IDSSN","WH7IDSSN","MU7IDSSN",null,"HI7IDRFN","AM7IDRFN","AS7IDRFN","BL7IDRFN","PI7IDRFN","WH7IDRFN","MU7IDRFN",null,"HI7IDHN","AM7IDHN","AS7IDHN","BL7IDHN","PI7IDHN","WH7IDHN","MU7IDHN",null,"HI7IDSPLN","AM7IDSPLN","AS7IDSPLN","BL7IDSPLN","PI7IDSPLN","WH7IDSPLN","MU7IDSPLN"]
["Hearing Impairment",{"$f":"IFERROR(HYPERLINK(\"#'C089'!\"&ADDRESS(ROW(INDEX(CurrentListing_C089,MATCH(EX36,CurrentListing_C089,0),1)),20),CB36),HYPERLINK(\"#'C089'!\"&\"$V$12\",CB36))","v":"MC"},{"$f":"IFERROR(HYPERLINK(\"#'C089'!\"&ADDRESS(ROW(INDEX(CurrentListing_C089,MATCH(EY36,CurrentListing_C089,0),1)),20),CC36),HYPERLINK(\"#'C089'!\"&\"$V$12\",CC36))","v":"MC"},{"$f":"IFERROR(HYPERLINK(\"#'C089'!\"&ADDRESS(ROW(INDEX(CurrentListing_C089,MATCH(EZ36,CurrentListing_C089,0),1)),20),CD36),HYPERLINK(\"#'C089'!\"&\"$V$12\",CD36))","v":"MC"},{"$f":"IFERROR(HYPERLINK(\"#'C089'!\"&ADDRESS(ROW(INDEX(CurrentListing_C089,MATCH(FA36,CurrentListing_C089,0),1)),20),CE36),HYPERLINK(\"#'C089'!\"&\"$V$12\",CE36))","v":"MC"},{"$f":"IFERROR(HYPERLINK(\"#'C089'!\"&ADDRESS(ROW(INDEX(CurrentListing_C089,MATCH(FB36,CurrentListing_C089,0),1)),20),CF36),HYPERLINK(\"#'C089'!\"&\"$V$12\",CF36))","v":"MC"},{"$f":"IFERROR(HYPERLINK(\"#'C089'!\"&ADDRESS(ROW(INDEX(CurrentListing_C089,MATCH(FC36,CurrentListing_C089,0),1)),20),CG36),HYPERLINK(\"#'C089'!\"&\"$V$12\",CG36))","v":"MC"},{"$f":"IFERROR(HYPERLINK(\"#'C089'!\"&ADDRESS(ROW(INDEX(CurrentListing_C089,MATCH(FD36,CurrentListing_C089,0),1)),20),CH36),HYPERLINK(\"#'C089'!\"&\"$V$12\",CH36))","v":"MC"},{"$f":"SUM(B36:H36)","v":0},{"$f":"IFERROR(HYPERLINK(\"#'C089'!\"&ADDRESS(ROW(INDEX(CurrentListing_C089,MATCH(FF36,CurrentListing_C089,0),1)),20),CJ36),HYPERLINK(\"#'C089'!\"&\"$V$12\",CJ36))","v":"MC"},{"$f":"IFERROR(HYPERLINK(\"#'C089'!\"&ADDRESS(ROW(INDEX(CurrentListing_C089,MATCH(FG36,CurrentListing_C089,0),1)),20),CK36),HYPERLINK(\"#'C089'!\"&\"$V$12\",CK36))","v":"MC"},{"$f":"IFERROR(HYPERLINK(\"#'C089'!\"&ADDRESS(ROW(INDEX(CurrentListing_C089,MATCH(FH36,CurrentListing_C089,0),1)),20),CL36),HYPERLINK(\"#'C089'!\"&\"$V$12\",CL36))","v":"MC"},{"$f":"IFERROR(HYPERLINK(\"#'C089'!\"&ADDRESS(ROW(INDEX(CurrentListing_C089,MATCH(FI36,CurrentListing_C089,0),1)),20),CM36),HYPERLINK(\"#'C089'!\"&\"$V$12\",CM36))","v":"MC"},{"$f":"IFERROR(HYPERLINK(\"#'C089'!\"&ADDRESS(ROW(INDEX(CurrentListing_C089,MATCH(FJ36,CurrentListing_C089,0),1)),20),CN36),HYPERLINK(\"#'C089'!\"&\"$V$12\",CN36))","v":"MC"},{"$f":"IFERROR(HYPERLINK(\"#'C089'!\"&ADDRESS(ROW(INDEX(CurrentListing_C089,MATCH(FK36,CurrentListing_C089,0),1)),20),CO36),HYPERLINK(\"#'C089'!\"&\"$V$12\",CO36))","v":"MC"},{"$f":"IFERROR(HYPERLINK(\"#'C089'!\"&ADDRESS(ROW(INDEX(CurrentListing_C089,MATCH(FL36,CurrentListing_C089,0),1)),20),CP36),HYPERLINK(\"#'C089'!\"&\"$V$12\",CP36))","v":"MC"},{"$f":"SUM(J36:P36)","v":0},{"$f":"IFERROR(HYPERLINK(\"#'C089'!\"&ADDRESS(ROW(INDEX(CurrentListing_C089,MATCH(FN36,CurrentListing_C089,0),1)),20),CR36),HYPERLINK(\"#'C089'!\"&\"$V$12\",CR36))","v":"MC"},{"$f":"IFERROR(HYPERLINK(\"#'C089'!\"&ADDRESS(ROW(INDEX(CurrentListing_C089,MATCH(FO36,CurrentListing_C089,0),1)),20),CS36),HYPERLINK(\"#'C089'!\"&\"$V$12\",CS36))","v":"MC"},{"$f":"IFERROR(HYPERLINK(\"#'C089'!\"&ADDRESS(ROW(INDEX(CurrentListing_C089,MATCH(FP36,CurrentListing_C089,0),1)),20),CT36),HYPERLINK(\"#'C089'!\"&\"$V$12\",CT36))","v":"MC"},{"$f":"IFERROR(HYPERLINK(\"#'C089'!\"&ADDRESS(ROW(INDEX(CurrentListing_C089,MATCH(FQ36,CurrentListing_C089,0),1)),20),CU36),HYPERLINK(\"#'C089'!\"&\"$V$12\",CU36))","v":"MC"},{"$f":"IFERROR(HYPERLINK(\"#'C089'!\"&ADDRESS(ROW(INDEX(CurrentListing_C089,MATCH(FR36,CurrentListing_C089,0),1)),20),CV36),HYPERLINK(\"#'C089'!\"&\"$V$12\",CV36))","v":"MC"},{"$f":"IFERROR(HYPERLINK(\"#'C089'!\"&ADDRESS(ROW(INDEX(CurrentListing_C089,MATCH(FS36,CurrentListing_C089,0),1)),20),CW36),HYPERLINK(\"#'C089'!\"&\"$V$12\",CW36))","v":"MC"},{"$f":"IFERROR(HYPERLINK(\"#'C089'!\"&ADDRESS(ROW(INDEX(CurrentListing_C089,MATCH(FT36,CurrentListing_C089,0),1)),20),CX36),HYPERLINK(\"#'C089'!\"&\"$V$12\",CX36))","v":"MC"},{"$f":"SUM(R36:X36)","v":0},{"$f":"IFERROR(HYPERLINK(\"#'C089'!\"&ADDRESS(ROW(INDEX(CurrentListing_C089,MATCH(FV36,CurrentListing_C089,0),1)),20),CZ36),HYPERLINK(\"#'C089'!\"&\"$V$12\",CZ36))","v":"MC"},{"$f":"IFERROR(HYPERLINK(\"#'C089'!\"&ADDRESS(ROW(INDEX(CurrentListing_C089,MATCH(FW36,CurrentListing_C089,0),1)),20),DA36),HYPERLINK(\"#'C089'!\"&\"$V$12\",DA36))","v":"MC"},{"$f":"IFERROR(HYPERLINK(\"#'C089'!\"&ADDRESS(ROW(INDEX(CurrentListing_C089,MATCH(FX36,CurrentListing_C089,0),1)),20),DB36),HYPERLINK(\"#'C089'!\"&\"$V$12\",DB36))","v":"MC"},{"$f":"IFERROR(HYPERLINK(\"#'C089'!\"&ADDRESS(ROW(INDEX(CurrentListing_C089,MATCH(FY36,CurrentListing_C089,0),1)),20),DC36),HYPERLINK(\"#'C089'!\"&\"$V$12\",DC36))","v":"MC"},{"$f":"IFERROR(HYPERLINK(\"#'C089'!\"&ADDRESS(ROW(INDEX(CurrentListing_C089,MATCH(FZ36,CurrentListing_C089,0),1)),20),DD36),HYPERLINK(\"#'C089'!\"&\"$V$12\",DD36))","v":"MC"},{"$f":"IFERROR(HYPERLINK(\"#'C089'!\"&ADDRESS(ROW(INDEX(CurrentListing_C089,MATCH(GA36,CurrentListing_C089,0),1)),20),DE36),HYPERLINK(\"#'C089'!\"&\"$V$12\",DE36))","v":"MC"},{"$f":"IFERROR(HYPERLINK(\"#'C089'!\"&ADDRESS(ROW(INDEX(CurrentListing_C089,MATCH(GB36,CurrentListing_C089,0),1)),20),DF36),HYPERLINK(\"#'C089'!\"&\"$V$12\",DF36))","v":"MC"},{"$f":"SUM(Z36:AF36)","v":0},{"$f":"IFERROR(HYPERLINK(\"#'C089'!\"&ADDRESS(ROW(INDEX(CurrentListing_C089,MATCH(GD36,CurrentListing_C089,0),1)),20),DH36),HYPERLINK(\"#'C089'!\"&\"$V$12\",DH36))","v":"MC"},{"$f":"IFERROR(HYPERLINK(\"#'C089'!\"&ADDRESS(ROW(INDEX(CurrentListing_C089,MATCH(GE36,CurrentListing_C089,0),1)),20),DI36),HYPERLINK(\"#'C089'!\"&\"$V$12\",DI36))","v":"MC"},{"$f":"IFERROR(HYPERLINK(\"#'C089'!\"&ADDRESS(ROW(INDEX(CurrentListing_C089,MATCH(GF36,CurrentListing_C089,0),1)),20),DJ36),HYPERLINK(\"#'C089'!\"&\"$V$12\",DJ36))","v":"MC"},{"$f":"IFERROR(HYPERLINK(\"#'C089'!\"&ADDRESS(ROW(INDEX(CurrentListing_C089,MATCH(GG36,CurrentListing_C089,0),1)),20),DK36),HYPERLINK(\"#'C089'!\"&\"$V$12\",DK36))","v":"MC"},{"$f":"IFERROR(HYPERLINK(\"#'C089'!\"&ADDRESS(ROW(INDEX(CurrentListing_C089,MATCH(GH36,CurrentListing_C089,0),1)),20),DL36),HYPERLINK(\"#'C089'!\"&\"$V$12\",DL36))","v":"MC"},{"$f":"IFERROR(HYPERLINK(\"#'C089'!\"&ADDRESS(ROW(INDEX(CurrentListing_C089,MATCH(GI36,CurrentListing_C089,0),1)),20),DM36),HYPERLINK(\"#'C089'!\"&\"$V$12\",DM36))","v":"MC"},{"$f":"IFERROR(HYPERLINK(\"#'C089'!\"&ADDRESS(ROW(INDEX(CurrentListing_C089,MATCH(GJ36,CurrentListing_C089,0),1)),20),DN36),HYPERLINK(\"#'C089'!\"&\"$V$12\",DN36))","v":"MC"},{"$f":"SUM(AH36:AN36)","v":0},{"$f":"IFERROR(HYPERLINK(\"#'C089'!\"&ADDRESS(ROW(INDEX(CurrentListing_C089,MATCH(GL36,CurrentListing_C089,0),1)),20),DP36),HYPERLINK(\"#'C089'!\"&\"$V$12\",DP36))","v":"MC"},{"$f":"IFERROR(HYPERLINK(\"#'C089'!\"&ADDRESS(ROW(INDEX(CurrentListing_C089,MATCH(GM36,CurrentListing_C089,0),1)),20),DQ36),HYPERLINK(\"#'C089'!\"&\"$V$12\",DQ36))","v":"MC"},{"$f":"IFERROR(HYPERLINK(\"#'C089'!\"&ADDRESS(ROW(INDEX(CurrentListing_C089,MATCH(GN36,CurrentListing_C089,0),1)),20),DR36),HYPERLINK(\"#'C089'!\"&\"$V$12\",DR36))","v":"MC"},{"$f":"IFERROR(HYPERLINK(\"#'C089'!\"&ADDRESS(ROW(INDEX(CurrentListing_C089,MATCH(GO36,CurrentListing_C089,0),1)),20),DS36),HYPERLINK(\"#'C089'!\"&\"$V$12\",DS36))","v":"MC"},{"$f":"IFERROR(HYPERLINK(\"#'C089'!\"&ADDRESS(ROW(INDEX(CurrentListing_C089,MATCH(GP36,CurrentListing_C089,0),1)),20),DT36),HYPERLINK(\"#'C089'!\"&\"$V$12\",DT36))","v":"MC"},{"$f":"IFERROR(HYPERLINK(\"#'C089'!\"&ADDRESS(ROW(INDEX(CurrentListing_C089,MATCH(GQ36,CurrentListing_C089,0),1)),20),DU36),HYPERLINK(\"#'C089'!\"&\"$V$12\",DU36))","v":"MC"},{"$f":"IFERROR(HYPERLINK(\"#'C089'!\"&ADDRESS(ROW(INDEX(CurrentListing_C089,MATCH(GR36,CurrentListing_C089,0),1)),20),DV36),HYPERLINK(\"#'C089'!\"&\"$V$12\",DV36))","v":"MC"},{"$f":"SUM(AP36:AV36)","v":0},{"$f":"IFERROR(HYPERLINK(\"#'C089'!\"&ADDRESS(ROW(INDEX(CurrentListing_C089,MATCH(GT36,CurrentListing_C089,0),1)),20),DX36),HYPERLINK(\"#'C089'!\"&\"$V$12\",DX36))","v":"MC"},{"$f":"IFERROR(HYPERLINK(\"#'C089'!\"&ADDRESS(ROW(INDEX(CurrentListing_C089,MATCH(GU36,CurrentListing_C089,0),1)),20),DY36),HYPERLINK(\"#'C089'!\"&\"$V$12\",DY36))","v":"MC"},{"$f":"IFERROR(HYPERLINK(\"#'C089'!\"&ADDRESS(ROW(INDEX(CurrentListing_C089,MATCH(GV36,CurrentListing_C089,0),1)),20),DZ36),HYPERLINK(\"#'C089'!\"&\"$V$12\",DZ36))","v":"MC"},{"$f":"IFERROR(HYPERLINK(\"#'C089'!\"&ADDRESS(ROW(INDEX(CurrentListing_C089,MATCH(GW36,CurrentListing_C089,0),1)),20),EA36),HYPERLINK(\"#'C089'!\"&\"$V$12\",EA36))","v":"MC"},{"$f":"IFERROR(HYPERLINK(\"#'C089'!\"&ADDRESS(ROW(INDEX(CurrentListing_C089,MATCH(GX36,CurrentListing_C089,0),1)),20),EB36),HYPERLINK(\"#'C089'!\"&\"$V$12\",EB36))","v":"MC"},{"$f":"IFERROR(HYPERLINK(\"#'C089'!\"&ADDRESS(ROW(INDEX(CurrentListing_C089,MATCH(GY36,CurrentListing_C089,0),1)),20),EC36),HYPERLINK(\"#'C089'!\"&\"$V$12\",EC36))","v":"MC"},{"$f":"IFERROR(HYPERLINK(\"#'C089'!\"&ADDRESS(ROW(INDEX(CurrentListing_C089,MATCH(GZ36,CurrentListing_C089,0),1)),20),ED36),HYPERLINK(\"#'C089'!\"&\"$V$12\",ED36))","v":"MC"},{"$f":"SUM(AX36:BD36)","v":0},{"$f":"IFERROR(HYPERLINK(\"#'C089'!\"&ADDRESS(ROW(INDEX(CurrentListing_C089,MATCH(HB36,CurrentListing_C089,0),1)),20),EF36),HYPERLINK(\"#'C089'!\"&\"$V$12\",EF36))","v":"MC"},{"$f":"IFERROR(HYPERLINK(\"#'C089'!\"&ADDRESS(ROW(INDEX(CurrentListing_C089,MATCH(HC36,CurrentListing_C089,0),1)),20),EG36),HYPERLINK(\"#'C089'!\"&\"$V$12\",EG36))","v":"MC"},{"$f":"IFERROR(HYPERLINK(\"#'C089'!\"&ADDRESS(ROW(INDEX(CurrentListing_C089,MATCH(HD36,CurrentListing_C089,0),1)),20),EH36),HYPERLINK(\"#'C089'!\"&\"$V$12\",EH36))","v":"MC"},{"$f":"IFERROR(HYPERLINK(\"#'C089'!\"&ADDRESS(ROW(INDEX(CurrentListing_C089,MATCH(HE36,CurrentListing_C089,0),1)),20),EI36),HYPERLINK(\"#'C089'!\"&\"$V$12\",EI36))","v":"MC"},{"$f":"IFERROR(HYPERLINK(\"#'C089'!\"&ADDRESS(ROW(INDEX(CurrentListing_C089,MATCH(HF36,CurrentListing_C089,0),1)),20),EJ36),HYPERLINK(\"#'C089'!\"&\"$V$12\",EJ36))","v":"MC"},{"$f":"IFERROR(HYPERLINK(\"#'C089'!\"&ADDRESS(ROW(INDEX(CurrentListing_C089,MATCH(HG36,CurrentListing_C089,0),1)),20),EK36),HYPERLINK(\"#'C089'!\"&\"$V$12\",EK36))","v":"MC"},{"$f":"IFERROR(HYPERLINK(\"#'C089'!\"&ADDRESS(ROW(INDEX(CurrentListing_C089,MATCH(HH36,CurrentListing_C089,0),1)),20),EL36),HYPERLINK(\"#'C089'!\"&\"$V$12\",EL36))","v":"MC"},{"$f":"SUM(BF36:BL36)","v":0},{"$f":"IFERROR(HYPERLINK(\"#'C089'!\"&ADDRESS(ROW(INDEX(CurrentListing_C089,MATCH(HJ36,CurrentListing_C089,0),1)),20),EN36),HYPERLINK(\"#'C089'!\"&\"$V$12\",EN36))","v":"MC"},{"$f":"IFERROR(HYPERLINK(\"#'C089'!\"&ADDRESS(ROW(INDEX(CurrentListing_C089,MATCH(HK36,CurrentListing_C089,0),1)),20),EO36),HYPERLINK(\"#'C089'!\"&\"$V$12\",EO36))","v":"MC"},{"$f":"IFERROR(HYPERLINK(\"#'C089'!\"&ADDRESS(ROW(INDEX(CurrentListing_C089,MATCH(HL36,CurrentListing_C089,0),1)),20),EP36),HYPERLINK(\"#'C089'!\"&\"$V$12\",EP36))","v":"MC"},{"$f":"IFERROR(HYPERLINK(\"#'C089'!\"&ADDRESS(ROW(INDEX(CurrentListing_C089,MATCH(HM36,CurrentListing_C089,0),1)),20),EQ36),HYPERLINK(\"#'C089'!\"&\"$V$12\",EQ36))","v":"MC"},{"$f":"IFERROR(HYPERLINK(\"#'C089'!\"&ADDRESS(ROW(INDEX(CurrentListing_C089,MATCH(HN36,CurrentListing_C089,0),1)),20),ER36),HYPERLINK(\"#'C089'!\"&\"$V$12\",ER36))","v":"MC"},{"$f":"IFERROR(HYPERLINK(\"#'C089'!\"&ADDRESS(ROW(INDEX(CurrentListing_C089,MATCH(HO36,CurrentListing_C089,0),1)),20),ES36),HYPERLINK(\"#'C089'!\"&\"$V$12\",ES36))","v":"MC"},{"$f":"IFERROR(HYPERLINK(\"#'C089'!\"&ADDRESS(ROW(INDEX(CurrentListing_C089,MATCH(HP36,CurrentListing_C089,0),1)),20),ET36),HYPERLINK(\"#'C089'!\"&\"$V$12\",ET36))","v":"MC"},{"$f":"SUM(BN36:BT36)","v":0},{"$f":"SUM(I36,Q36,Y36,AG36,AO36,AW36,BE36,BM36,BU36)","v":0},null,null,null,null,"Hearing Impairment","MC","MC","MC","MC","MC","MC","MC",null,"MC","MC","MC","MC","MC","MC","MC",null,"MC","MC","MC","MC","MC","MC","MC",null,"MC","MC","MC","MC","MC","MC","MC",null,"MC","MC","MC","MC","MC","MC","MC",null,"MC","MC","MC","MC","MC","MC","MC",null,"MC","MC","MC","MC","MC","MC","MC",null,"MC","MC","MC","MC","MC","MC","MC",null,"MC","MC","MC","MC","MC","MC","MC",null,null,"Hearing Impairment","HI7HIREC10YSVCSN","AM7HIREC10YSVCSN","AS7HIREC10YSVCSN","BL7HIREC10YSVCSN","PI7HIREC10YSVCSN","WH7HIREC10YSVCSN","MU7HIREC10YSVCSN",null,"HI7HIREC10YOTHLOCN","AM7HIREC10YOTHLOCN","AS7HIREC10YOTHLOCN","BL7HIREC10YOTHLOCN","PI7HIREC10YOTHLOCN","WH7HIREC10YOTHLOCN","MU7HIREC10YOTHLOCN",null,"HI7HIREC09YSVCSN","AM7HIREC09YSVCSN","AS7HIREC09YSVCSN","BL7HIREC09YSVCSN","PI7HIREC09YSVCSN","WH7HIREC09YSVCSN","MU7HIREC09YSVCSN",null,"HI7HIREC09YOTHLOCN","AM7HIREC09YOTHLOCN","AS7HIREC09YOTHLOCN","BL7HIREC09YOTHLOCN","PI7HIREC09YOTHLOCN","WH7HIREC09YOTHLOCN","MU7HIREC09YOTHLOCN",null,"HI7HISCN","AM7HISCN","AS7HISCN","BL7HISCN","PI7HISCN","WH7HISCN","MU7HISCN",null,"HI7HISSN","AM7HISSN","AS7HISSN","BL7HISSN","PI7HISSN","WH7HISSN","MU7HISSN",null,"HI7HIRFN","AM7HIRFN","AS7HIRFN","BL7HIRFN","PI7HIRFN","WH7HIRFN","MU7HIRFN",null,"HI7HIHN","AM7HIHN","AS7HIHN","BL7HIHN","PI7HIHN","WH7HIHN","MU7HIHN",null,"HI7HISPLN","AM7HISPLN","AS7HISPLN","BL7HISPLN","PI7HISPLN","WH7HISPLN","MU7HISPLN"]
["Speech or Language Impairment",{"$f":"IFERROR(HYPERLINK(\"#'C089'!\"&ADDRESS(ROW(INDEX(CurrentListing_C089,MATCH(EX37,CurrentListing_C089,0),1)),20),CB37),HYPERLINK(\"#'C089'!\"&\"$V$12\",CB37))","v":"MC"},{"$f":"IFERROR(HYPERLINK(\"#'C089'!\"&ADDRESS(ROW(INDEX(CurrentListing_C089,MATCH(EY37,CurrentListing_C089,0),1)),20),CC37),HYPERLINK(\"#'C089'!\"&\"$V$12\",CC37))","v":"MC"},{"$f":"IFERROR(HYPERLINK(\"#'C089'!\"&ADDRESS(ROW(INDEX(CurrentListing_C089,MATCH(EZ37,CurrentListing_C089,0),1)),20),CD37),HYPERLINK(\"#'C089'!\"&\"$V$12\",CD37))","v":"MC"},{"$f":"IFERROR(HYPERLINK(\"#'C089'!\"&ADDRESS(ROW(INDEX(CurrentListing_C089,MATCH(FA37,CurrentListing_C089,0),1)),20),CE37),HYPERLINK(\"#'C089'!\"&\"$V$12\",CE37))","v":"MC"},{"$f":"IFERROR(HYPERLINK(\"#'C089'!\"&ADDRESS(ROW(INDEX(CurrentListing_C089,MATCH(FB37,CurrentListing_C089,0),1)),20),CF37),HYPERLINK(\"#'C089'!\"&\"$V$12\",CF37))","v":"MC"},{"$f":"IFERROR(HYPERLINK(\"#'C089'!\"&ADDRESS(ROW(INDEX(CurrentListing_C089,MATCH(FC37,CurrentListing_C089,0),1)),20),CG37),HYPERLINK(\"#'C089'!\"&\"$V$12\",CG37))","v":"MC"},{"$f":"IFERROR(HYPERLINK(\"#'C089'!\"&ADDRESS(ROW(INDEX(CurrentListing_C089,MATCH(FD37,CurrentListing_C089,0),1)),20),CH37),HYPERLINK(\"#'C089'!\"&\"$V$12\",CH37))","v":"MC"},0,{"$f":"IFERROR(HYPERLINK(\"#'C089'!\"&ADDRESS(ROW(INDEX(CurrentListing_C089,MATCH(FF37,CurrentListing_C089,0),1)),20),CJ37),HYPERLINK(\"#'C089'!\"&\"$V$12\",CJ37))","v":"MC"},{"$f":"IFERROR(HYPERLINK(\"#'C089'!\"&ADDRESS(ROW(INDEX(CurrentListing_C089,MATCH(FG37,CurrentListing_C089,0),1)),20),CK37),HYPERLINK(\"#'C089'!\"&\"$V$12\",CK37))","v":"MC"},{"$f":"IFERROR(HYPERLINK(\"#'C089'!\"&ADDRESS(ROW(INDEX(CurrentListing_C089,MATCH(FH37,CurrentListing_C089,0),1)),20),CL37),HYPERLINK(\"#'C089'!\"&\"$V$12\",CL37))","v":"MC"},{"$f":"IFERROR(HYPERLINK(\"#'C089'!\"&ADDRESS(ROW(INDEX(CurrentListing_C089,MATCH(FI37,CurrentListing_C089,0),1)),20),CM37),HYPERLINK(\"#'C089'!\"&\"$V$12\",CM37))","v":"MC"},{"$f":"IFERROR(HYPERLINK(\"#'C089'!\"&ADDRESS(ROW(INDEX(CurrentListing_C089,MATCH(FJ37,CurrentListing_C089,0),1)),20),CN37),HYPERLINK(\"#'C089'!\"&\"$V$12\",CN37))","v":"MC"},{"$f":"IFERROR(HYPERLINK(\"#'C089'!\"&ADDRESS(ROW(INDEX(CurrentListing_C089,MATCH(FK37,CurrentListing_C089,0),1)),20),CO37),HYPERLINK(\"#'C089'!\"&\"$V$12\",CO37))","v":"MC"},{"$f":"IFERROR(HYPERLINK(\"#'C089'!\"&ADDRESS(ROW(INDEX(CurrentListing_C089,MATCH(FL37,CurrentListing_C089,0),1)),20),CP37),HYPERLINK(\"#'C089'!\"&\"$V$12\",CP37))","v":"MC"},0,{"$f":"IFERROR(HYPERLINK(\"#'C089'!\"&ADDRESS(ROW(INDEX(CurrentListing_C089,MATCH(FN37,CurrentListing_C089,0),1)),20),CR37),HYPERLINK(\"#'C089'!\"&\"$V$12\",CR37))","v":"MC"},{"$f":"IFERROR(HYPERLINK(\"#'C089'!\"&ADDRESS(ROW(INDEX(CurrentListing_C089,MATCH(FO37,CurrentListing_C089,0),1)),20),CS37),HYPERLINK(\"#'C089'!\"&\"$V$12\",CS37))","v":"MC"},{"$f":"IFERROR(HYPERLINK(\"#'C089'!\"&ADDRESS(ROW(INDEX(CurrentListing_C089,MATCH(FP37,CurrentListing_C089,0),1)),20),CT37),HYPERLINK(\"#'C089'!\"&\"$V$12\",CT37))","v":"MC"},{"$f":"IFERROR(HYPERLINK(\"#'C089'!\"&ADDRESS(ROW(INDEX(CurrentListing_C089,MATCH(FQ37,CurrentListing_C089,0),1)),20),CU37),HYPERLINK(\"#'C089'!\"&\"$V$12\",CU37))","v":"MC"},{"$f":"IFERROR(HYPERLINK(\"#'C089'!\"&ADDRESS(ROW(INDEX(CurrentListing_C089,MATCH(FR37,CurrentListing_C089,0),1)),20),CV37),HYPERLINK(\"#'C089'!\"&\"$V$12\",CV37))","v":"MC"},{"$f":"IFERROR(HYPERLINK(\"#'C089'!\"&ADDRESS(ROW(INDEX(CurrentListing_C089,MATCH(FS37,CurrentListing_C089,0),1)),20),CW37),HYPERLINK(\"#'C089'!\"&\"$V$12\",CW37))","v":"MC"},{"$f":"IFERROR(HYPERLINK(\"#'C089'!\"&ADDRESS(ROW(INDEX(CurrentListing_C089,MATCH(FT37,CurrentListing_C089,0),1)),20),CX37),HYPERLINK(\"#'C089'!\"&\"$V$12\",CX37))","v":"MC"},0,{"$f":"IFERROR(HYPERLINK(\"#'C089'!\"&ADDRESS(ROW(INDEX(CurrentListing_C089,MATCH(FV37,CurrentListing_C089,0),1)),20),CZ37),HYPERLINK(\"#'C089'!\"&\"$V$12\",CZ37))","v":"MC"},{"$f":"IFERROR(HYPERLINK(\"#'C089'!\"&ADDRESS(ROW(INDEX(CurrentListing_C089,MATCH(FW37,CurrentListing_C089,0),1)),20),DA37),HYPERLINK(\"#'C089'!\"&\"$V$12\",DA37))","v":"MC"},{"$f":"IFERROR(HYPERLINK(\"#'C089'!\"&ADDRESS(ROW(INDEX(CurrentListing_C089,MATCH(FX37,CurrentListing_C089,0),1)),20),DB37),HYPERLINK(\"#'C089'!\"&\"$V$12\",DB37))","v":"MC"},{"$f":"IFERROR(HYPERLINK(\"#'C089'!\"&ADDRESS(ROW(INDEX(CurrentListing_C089,MATCH(FY37,CurrentListing_C089,0),1)),20),DC37),HYPERLINK(\"#'C089'!\"&\"$V$12\",DC37))","v":"MC"},{"$f":"IFERROR(HYPERLINK(\"#'C089'!\"&ADDRESS(ROW(INDEX(CurrentListing_C089,MATCH(FZ37,CurrentListing_C089,0),1)),20),DD37),HYPERLINK(\"#'C089'!\"&\"$V$12\",DD37))","v":"MC"},{"$f":"IFERROR(HYPERLINK(\"#'C089'!\"&ADDRESS(ROW(INDEX(CurrentListing_C089,MATCH(GA37,CurrentListing_C089,0),1)),20),DE37),HYPERLINK(\"#'C089'!\"&\"$V$12\",DE37))","v":"MC"},{"$f":"IFERROR(HYPERLINK(\"#'C089'!\"&ADDRESS(ROW(INDEX(CurrentListing_C089,MATCH(GB37,CurrentListing_C089,0),1)),20),DF37),HYPERLINK(\"#'C089'!\"&\"$V$12\",DF37))","v":"MC"},0,{"$f":"IFERROR(HYPERLINK(\"#'C089'!\"&ADDRESS(ROW(INDEX(CurrentListing_C089,MATCH(GD37,CurrentListing_C089,0),1)),20),DH37),HYPERLINK(\"#'C089'!\"&\"$V$12\",DH37))","v":"MC"},{"$f":"IFERROR(HYPERLINK(\"#'C089'!\"&ADDRESS(ROW(INDEX(CurrentListing_C089,MATCH(GE37,CurrentListing_C089,0),1)),20),DI37),HYPERLINK(\"#'C089'!\"&\"$V$12\",DI37))","v":"MC"},{"$f":"IFERROR(HYPERLINK(\"#'C089'!\"&ADDRESS(ROW(INDEX(CurrentListing_C089,MATCH(GF37,CurrentListing_C089,0),1)),20),DJ37),HYPERLINK(\"#'C089'!\"&\"$V$12\",DJ37))","v":"MC"},{"$f":"IFERROR(HYPERLINK(\"#'C089'!\"&ADDRESS(ROW(INDEX(CurrentListing_C089,MATCH(GG37,CurrentListing_C089,0),1)),20),DK37),HYPERLINK(\"#'C089'!\"&\"$V$12\",DK37))","v":"MC"},{"$f":"IFERROR(HYPERLINK(\"#'C089'!\"&ADDRESS(ROW(INDEX(CurrentListing_C089,MATCH(GH37,CurrentListing_C089,0),1)),20),DL37),HYPERLINK(\"#'C089'!\"&\"$V$12\",DL37))","v":"MC"},{"$f":"IFERROR(HYPERLINK(\"#'C089'!\"&ADDRESS(ROW(INDEX(CurrentListing_C089,MATCH(GI37,CurrentListing_C089,0),1)),20),DM37),HYPERLINK(\"#'C089'!\"&\"$V$12\",DM37))","v":"MC"},{"$f":"IFERROR(HYPERLINK(\"#'C089'!\"&ADDRESS(ROW(INDEX(CurrentListing_C089,MATCH(GJ37,CurrentListing_C089,0),1)),20),DN37),HYPERLINK(\"#'C089'!\"&\"$V$12\",DN37))","v":"MC"},0,{"$f":"IFERROR(HYPERLINK(\"#'C089'!\"&ADDRESS(ROW(INDEX(CurrentListing_C089,MATCH(GL37,CurrentListing_C089,0),1)),20),DP37),HYPERLINK(\"#'C089'!\"&\"$V$12\",DP37))","v":"MC"},{"$f":"IFERROR(HYPERLINK(\"#'C089'!\"&ADDRESS(ROW(INDEX(CurrentListing_C089,MATCH(GM37,CurrentListing_C089,0),1)),20),DQ37),HYPERLINK(\"#'C089'!\"&\"$V$12\",DQ37))","v":"MC"},{"$f":"IFERROR(HYPERLINK(\"#'C089'!\"&ADDRESS(ROW(INDEX(CurrentListing_C089,MATCH(GN37,CurrentListing_C089,0),1)),20),DR37),HYPERLINK(\"#'C089'!\"&\"$V$12\",DR37))","v":"MC"},{"$f":"IFERROR(HYPERLINK(\"#'C089'!\"&ADDRESS(ROW(INDEX(CurrentListing_C089,MATCH(GO37,CurrentListing_C089,0),1)),20),DS37),HYPERLINK(\"#'C089'!\"&\"$V$12\",DS37))","v":"MC"},{"$f":"IFERROR(HYPERLINK(\"#'C089'!\"&ADDRESS(ROW(INDEX(CurrentListing_C089,MATCH(GP37,CurrentListing_C089,0),1)),20),DT37),HYPERLINK(\"#'C089'!\"&\"$V$12\",DT37))","v":"MC"},{"$f":"IFERROR(HYPERLINK(\"#'C089'!\"&ADDRESS(ROW(INDEX(CurrentListing_C089,MATCH(GQ37,CurrentListing_C089,0),1)),20),DU37),HYPERLINK(\"#'C089'!\"&\"$V$12\",DU37))","v":"MC"},{"$f":"IFERROR(HYPERLINK(\"#'C089'!\"&ADDRESS(ROW(INDEX(CurrentListing_C089,MATCH(GR37,CurrentListing_C089,0),1)),20),DV37),HYPERLINK(\"#'C089'!\"&\"$V$12\",DV37))","v":"MC"},0,{"$f":"IFERROR(HYPERLINK(\"#'C089'!\"&ADDRESS(ROW(INDEX(CurrentListing_C089,MATCH(GT37,CurrentListing_C089,0),1)),20),DX37),HYPERLINK(\"#'C089'!\"&\"$V$12\",DX37))","v":"MC"},{"$f":"IFERROR(HYPERLINK(\"#'C089'!\"&ADDRESS(ROW(INDEX(CurrentListing_C089,MATCH(GU37,CurrentListing_C089,0),1)),20),DY37),HYPERLINK(\"#'C089'!\"&\"$V$12\",DY37))","v":"MC"},{"$f":"IFERROR(HYPERLINK(\"#'C089'!\"&ADDRESS(ROW(INDEX(CurrentListing_C089,MATCH(GV37,CurrentListing_C089,0),1)),20),DZ37),HYPERLINK(\"#'C089'!\"&\"$V$12\",DZ37))","v":"MC"},{"$f":"IFERROR(HYPERLINK(\"#'C089'!\"&ADDRESS(ROW(INDEX(CurrentListing_C089,MATCH(GW37,CurrentListing_C089,0),1)),20),EA37),HYPERLINK(\"#'C089'!\"&\"$V$12\",EA37))","v":"MC"},{"$f":"IFERROR(HYPERLINK(\"#'C089'!\"&ADDRESS(ROW(INDEX(CurrentListing_C089,MATCH(GX37,CurrentListing_C089,0),1)),20),EB37),HYPERLINK(\"#'C089'!\"&\"$V$12\",EB37))","v":"MC"},{"$f":"IFERROR(HYPERLINK(\"#'C089'!\"&ADDRESS(ROW(INDEX(CurrentListing_C089,MATCH(GY37,CurrentListing_C089,0),1)),20),EC37),HYPERLINK(\"#'C089'!\"&\"$V$12\",EC37))","v":"MC"},{"$f":"IFERROR(HYPERLINK(\"#'C089'!\"&ADDRESS(ROW(INDEX(CurrentListing_C089,MATCH(GZ37,CurrentListing_C089,0),1)),20),ED37),HYPERLINK(\"#'C089'!\"&\"$V$12\",ED37))","v":"MC"},0,{"$f":"IFERROR(HYPERLINK(\"#'C089'!\"&ADDRESS(ROW(INDEX(CurrentListing_C089,MATCH(HB37,CurrentListing_C089,0),1)),20),EF37),HYPERLINK(\"#'C089'!\"&\"$V$12\",EF37))","v":"MC"},{"$f":"IFERROR(HYPERLINK(\"#'C089'!\"&ADDRESS(ROW(INDEX(CurrentListing_C089,MATCH(HC37,CurrentListing_C089,0),1)),20),EG37),HYPERLINK(\"#'C089'!\"&\"$V$12\",EG37))","v":"MC"},{"$f":"IFERROR(HYPERLINK(\"#'C089'!\"&ADDRESS(ROW(INDEX(CurrentListing_C089,MATCH(HD37,CurrentListing_C089,0),1)),20),EH37),HYPERLINK(\"#'C089'!\"&\"$V$12\",EH37))","v":"MC"},{"$f":"IFERROR(HYPERLINK(\"#'C089'!\"&ADDRESS(ROW(INDEX(CurrentListing_C089,MATCH(HE37,CurrentListing_C089,0),1)),20),EI37),HYPERLINK(\"#'C089'!\"&\"$V$12\",EI37))","v":"MC"},{"$f":"IFERROR(HYPERLINK(\"#'C089'!\"&ADDRESS(ROW(INDEX(CurrentListing_C089,MATCH(HF37,CurrentListing_C089,0),1)),20),EJ37),HYPERLINK(\"#'C089'!\"&\"$V$12\",EJ37))","v":"MC"},{"$f":"IFERROR(HYPERLINK(\"#'C089'!\"&ADDRESS(ROW(INDEX(CurrentListing_C089,MATCH(HG37,CurrentListing_C089,0),1)),20),EK37),HYPERLINK(\"#'C089'!\"&\"$V$12\",EK37))","v":"MC"},{"$f":"IFERROR(HYPERLINK(\"#'C089'!\"&ADDRESS(ROW(INDEX(CurrentListing_C089,MATCH(HH37,CurrentListing_C089,0),1)),20),EL37),HYPERLINK(\"#'C089'!\"&\"$V$12\",EL37))","v":"MC"},0,{"$f":"IFERROR(HYPERLINK(\"#'C089'!\"&ADDRESS(ROW(INDEX(CurrentListing_C089,MATCH(HJ37,CurrentListing_C089,0),1)),20),EN37),HYPERLINK(\"#'C089'!\"&\"$V$12\",EN37))","v":"MC"},{"$f":"IFERROR(HYPERLINK(\"#'C089'!\"&ADDRESS(ROW(INDEX(CurrentListing_C089,MATCH(HK37,CurrentListing_C089,0),1)),20),EO37),HYPERLINK(\"#'C089'!\"&\"$V$12\",EO37))","v":"MC"},{"$f":"IFERROR(HYPERLINK(\"#'C089'!\"&ADDRESS(ROW(INDEX(CurrentListing_C089,MATCH(HL37,CurrentListing_C089,0),1)),20),EP37),HYPERLINK(\"#'C089'!\"&\"$V$12\",EP37))","v":"MC"},{"$f":"IFERROR(HYPERLINK(\"#'C089'!\"&ADDRESS(ROW(INDEX(CurrentListing_C089,MATCH(HM37,CurrentListing_C089,0),1)),20),EQ37),HYPERLINK(\"#'C089'!\"&\"$V$12\",EQ37))","v":"MC"},{"$f":"IFERROR(HYPERLINK(\"#'C089'!\"&ADDRESS(ROW(INDEX(CurrentListing_C089,MATCH(HN37,CurrentListing_C089,0),1)),20),ER37),HYPERLINK(\"#'C089'!\"&\"$V$12\",ER37))","v":"MC"},{"$f":"IFERROR(HYPERLINK(\"#'C089'!\"&ADDRESS(ROW(INDEX(CurrentListing_C089,MATCH(HO37,CurrentListing_C089,0),1)),20),ES37),HYPERLINK(\"#'C089'!\"&\"$V$12\",ES37))","v":"MC"},{"$f":"IFERROR(HYPERLINK(\"#'C089'!\"&ADDRESS(ROW(INDEX(CurrentListing_C089,MATCH(HP37,CurrentListing_C089,0),1)),20),ET37),HYPERLINK(\"#'C089'!\"&\"$V$12\",ET37))","v":"MC"},0,0,null,null,null,null,"Speech or Language Impairment","MC","MC","MC","MC","MC","MC","MC",null,"MC","MC","MC","MC","MC","MC","MC",null,"MC","MC","MC","MC","MC","MC","MC",null,"MC","MC","MC","MC","MC","MC","MC",null,"MC","MC","MC","MC","MC","MC","MC",null,"MC","MC","MC","MC","MC","MC","MC",null,"MC","MC","MC","MC","MC","MC","MC",null,"MC","MC","MC","MC","MC","MC","MC",null,"MC","MC","MC","MC","MC","MC","MC",null,null,"Speech or Language Impairment","HI7SLIREC10YSVCSN","AM7SLIREC10YSVCSN","AS7SLIREC10YSVCSN","BL7SLIREC10YSVCSN","PI7SLIREC10YSVCSN","WH7SLIREC10YSVCSN","MU7SLIREC10YSVCSN",null,"HI7SLIREC10YOTHLOCN","AM7SLIREC10YOTHLOCN","AS7SLIREC10YOTHLOCN","BL7SLIREC10YOTHLOCN","PI7SLIREC10YOTHLOCN","WH7SLIREC10YOTHLOCN","MU7SLIREC10YOTHLOCN",null,"HI7SLIREC09YSVCSN","AM7SLIREC09YSVCSN","AS7SLIREC09YSVCSN","BL7SLIREC09YSVCSN","PI7SLIREC09YSVCSN","WH7SLIREC09YSVCSN","MU7SLIREC09YSVCSN",null,"HI7SLIREC09YOTHLOCN","AM7SLIREC09YOTHLOCN","AS7SLIREC09YOTHLOCN","BL7SLIREC09YOTHLOCN","PI7SLIREC09YOTHLOCN","WH7SLIREC09YOTHLOCN","MU7SLIREC09YOTHLOCN",null,"HI7SLISCN","AM7SLISCN","AS7SLISCN","BL7SLISCN","PI7SLISCN","WH7SLISCN","MU7SLISCN",null,"HI7SLISSN","AM7SLISSN","AS7SLISSN","BL7SLISSN","PI7SLISSN","WH7SLISSN","MU7SLISSN",null,"HI7SLIRFN","AM7SLIRFN","AS7SLIRFN","BL7SLIRFN","PI7SLIRFN","WH7SLIRFN","MU7SLIRFN",null,"HI7SLIHN","AM7SLIHN","AS7SLIHN","BL7SLIHN","PI7SLIHN","WH7SLIHN","MU7SLIHN",null,"HI7SLISPLN","AM7SLISPLN","AS7SLISPLN","BL7SLISPLN","PI7SLISPLN","WH7SLISPLN","MU7SLISPLN"]
["Visual Impairment",{"$f":"IFERROR(HYPERLINK(\"#'C089'!\"&ADDRESS(ROW(INDEX(CurrentListing_C089,MATCH(EX38,CurrentListing_C089,0),1)),20),CB38),HYPERLINK(\"#'C089'!\"&\"$V$12\",CB38))","v":"MC"},{"$f":"IFERROR(HYPERLINK(\"#'C089'!\"&ADDRESS(ROW(INDEX(CurrentListing_C089,MATCH(EY38,CurrentListing_C089,0),1)),20),CC38),HYPERLINK(\"#'C089'!\"&\"$V$12\",CC38))","v":"MC"},{"$f":"IFERROR(HYPERLINK(\"#'C089'!\"&ADDRESS(ROW(INDEX(CurrentListing_C089,MATCH(EZ38,CurrentListing_C089,0),1)),20),CD38),HYPERLINK(\"#'C089'!\"&\"$V$12\",CD38))","v":"MC"},{"$f":"IFERROR(HYPERLINK(\"#'C089'!\"&ADDRESS(ROW(INDEX(CurrentListing_C089,MATCH(FA38,CurrentListing_C089,0),1)),20),CE38),HYPERLINK(\"#'C089'!\"&\"$V$12\",CE38))","v":"MC"},{"$f":"IFERROR(HYPERLINK(\"#'C089'!\"&ADDRESS(ROW(INDEX(CurrentListing_C089,MATCH(FB38,CurrentListing_C089,0),1)),20),CF38),HYPERLINK(\"#'C089'!\"&\"$V$12\",CF38))","v":"MC"},{"$f":"IFERROR(HYPERLINK(\"#'C089'!\"&ADDRESS(ROW(INDEX(CurrentListing_C089,MATCH(FC38,CurrentListing_C089,0),1)),20),CG38),HYPERLINK(\"#'C089'!\"&\"$V$12\",CG38))","v":"MC"},{"$f":"IFERROR(HYPERLINK(\"#'C089'!\"&ADDRESS(ROW(INDEX(CurrentListing_C089,MATCH(FD38,CurrentListing_C089,0),1)),20),CH38),HYPERLINK(\"#'C089'!\"&\"$V$12\",CH38))","v":"MC"},0,{"$f":"IFERROR(HYPERLINK(\"#'C089'!\"&ADDRESS(ROW(INDEX(CurrentListing_C089,MATCH(FF38,CurrentListing_C089,0),1)),20),CJ38),HYPERLINK(\"#'C089'!\"&\"$V$12\",CJ38))","v":"MC"},{"$f":"IFERROR(HYPERLINK(\"#'C089'!\"&ADDRESS(ROW(INDEX(CurrentListing_C089,MATCH(FG38,CurrentListing_C089,0),1)),20),CK38),HYPERLINK(\"#'C089'!\"&\"$V$12\",CK38))","v":"MC"},{"$f":"IFERROR(HYPERLINK(\"#'C089'!\"&ADDRESS(ROW(INDEX(CurrentListing_C089,MATCH(FH38,CurrentListing_C089,0),1)),20),CL38),HYPERLINK(\"#'C089'!\"&\"$V$12\",CL38))","v":"MC"},{"$f":"IFERROR(HYPERLINK(\"#'C089'!\"&ADDRESS(ROW(INDEX(CurrentListing_C089,MATCH(FI38,CurrentListing_C089,0),1)),20),CM38),HYPERLINK(\"#'C089'!\"&\"$V$12\",CM38))","v":"MC"},{"$f":"IFERROR(HYPERLINK(\"#'C089'!\"&ADDRESS(ROW(INDEX(CurrentListing_C089,MATCH(FJ38,CurrentListing_C089,0),1)),20),CN38),HYPERLINK(\"#'C089'!\"&\"$V$12\",CN38))","v":"MC"},{"$f":"IFERROR(HYPERLINK(\"#'C089'!\"&ADDRESS(ROW(INDEX(CurrentListing_C089,MATCH(FK38,CurrentListing_C089,0),1)),20),CO38),HYPERLINK(\"#'C089'!\"&\"$V$12\",CO38))","v":"MC"},{"$f":"IFERROR(HYPERLINK(\"#'C089'!\"&ADDRESS(ROW(INDEX(CurrentListing_C089,MATCH(FL38,CurrentListing_C089,0),1)),20),CP38),HYPERLINK(\"#'C089'!\"&\"$V$12\",CP38))","v":"MC"},0,{"$f":"IFERROR(HYPERLINK(\"#'C089'!\"&ADDRESS(ROW(INDEX(CurrentListing_C089,MATCH(FN38,CurrentListing_C089,0),1)),20),CR38),HYPERLINK(\"#'C089'!\"&\"$V$12\",CR38))","v":"MC"},{"$f":"IFERROR(HYPERLINK(\"#'C089'!\"&ADDRESS(ROW(INDEX(CurrentListing_C089,MATCH(FO38,CurrentListing_C089,0),1)),20),CS38),HYPERLINK(\"#'C089'!\"&\"$V$12\",CS38))","v":"MC"},{"$f":"IFERROR(HYPERLINK(\"#'C089'!\"&ADDRESS(ROW(INDEX(CurrentListing_C089,MATCH(FP38,CurrentListing_C089,0),1)),20),CT38),HYPERLINK(\"#'C089'!\"&\"$V$12\",CT38))","v":"MC"},{"$f":"IFERROR(HYPERLINK(\"#'C089'!\"&ADDRESS(ROW(INDEX(CurrentListing_C089,MATCH(FQ38,CurrentListing_C089,0),1)),20),CU38),HYPERLINK(\"#'C089'!\"&\"$V$12\",CU38))","v":"MC"},{"$f":"IFERROR(HYPERLINK(\"#'C089'!\"&ADDRESS(ROW(INDEX(CurrentListing_C089,MATCH(FR38,CurrentListing_C089,0),1)),20),CV38),HYPERLINK(\"#'C089'!\"&\"$V$12\",CV38))","v":"MC"},{"$f":"IFERROR(HYPERLINK(\"#'C089'!\"&ADDRESS(ROW(INDEX(CurrentListing_C089,MATCH(FS38,CurrentListing_C089,0),1)),20),CW38),HYPERLINK(\"#'C089'!\"&\"$V$12\",CW38))","v":"MC"},{"$f":"IFERROR(HYPERLINK(\"#'C089'!\"&ADDRESS(ROW(INDEX(CurrentListing_C089,MATCH(FT38,CurrentListing_C089,0),1)),20),CX38),HYPERLINK(\"#'C089'!\"&\"$V$12\",CX38))","v":"MC"},0,{"$f":"IFERROR(HYPERLINK(\"#'C089'!\"&ADDRESS(ROW(INDEX(CurrentListing_C089,MATCH(FV38,CurrentListing_C089,0),1)),20),CZ38),HYPERLINK(\"#'C089'!\"&\"$V$12\",CZ38))","v":"MC"},{"$f":"IFERROR(HYPERLINK(\"#'C089'!\"&ADDRESS(ROW(INDEX(CurrentListing_C089,MATCH(FW38,CurrentListing_C089,0),1)),20),DA38),HYPERLINK(\"#'C089'!\"&\"$V$12\",DA38))","v":"MC"},{"$f":"IFERROR(HYPERLINK(\"#'C089'!\"&ADDRESS(ROW(INDEX(CurrentListing_C089,MATCH(FX38,CurrentListing_C089,0),1)),20),DB38),HYPERLINK(\"#'C089'!\"&\"$V$12\",DB38))","v":"MC"},{"$f":"IFERROR(HYPERLINK(\"#'C089'!\"&ADDRESS(ROW(INDEX(CurrentListing_C089,MATCH(FY38,CurrentListing_C089,0),1)),20),DC38),HYPERLINK(\"#'C089'!\"&\"$V$12\",DC38))","v":"MC"},{"$f":"IFERROR(HYPERLINK(\"#'C089'!\"&ADDRESS(ROW(INDEX(CurrentListing_C089,MATCH(FZ38,CurrentListing_C089,0),1)),20),DD38),HYPERLINK(\"#'C089'!\"&\"$V$12\",DD38))","v":"MC"},{"$f":"IFERROR(HYPERLINK(\"#'C089'!\"&ADDRESS(ROW(INDEX(CurrentListing_C089,MATCH(GA38,CurrentListing_C089,0),1)),20),DE38),HYPERLINK(\"#'C089'!\"&\"$V$12\",DE38))","v":"MC"},{"$f":"IFERROR(HYPERLINK(\"#'C089'!\"&ADDRESS(ROW(INDEX(CurrentListing_C089,MATCH(GB38,CurrentListing_C089,0),1)),20),DF38),HYPERLINK(\"#'C089'!\"&\"$V$12\",DF38))","v":"MC"},0,{"$f":"IFERROR(HYPERLINK(\"#'C089'!\"&ADDRESS(ROW(INDEX(CurrentListing_C089,MATCH(GD38,CurrentListing_C089,0),1)),20),DH38),HYPERLINK(\"#'C089'!\"&\"$V$12\",DH38))","v":"MC"},{"$f":"IFERROR(HYPERLINK(\"#'C089'!\"&ADDRESS(ROW(INDEX(CurrentListing_C089,MATCH(GE38,CurrentListing_C089,0),1)),20),DI38),HYPERLINK(\"#'C089'!\"&\"$V$12\",DI38))","v":"MC"},{"$f":"IFERROR(HYPERLINK(\"#'C089'!\"&ADDRESS(ROW(INDEX(CurrentListing_C089,MATCH(GF38,CurrentListing_C089,0),1)),20),DJ38),HYPERLINK(\"#'C089'!\"&\"$V$12\",DJ38))","v":"MC"},{"$f":"IFERROR(HYPERLINK(\"#'C089'!\"&ADDRESS(ROW(INDEX(CurrentListing_C089,MATCH(GG38,CurrentListing_C089,0),1)),20),DK38),HYPERLINK(\"#'C089'!\"&\"$V$12\",DK38))","v":"MC"},{"$f":"IFERROR(HYPERLINK(\"#'C089'!\"&ADDRESS(ROW(INDEX(CurrentListing_C089,MATCH(GH38,CurrentListing_C089,0),1)),20),DL38),HYPERLINK(\"#'C089'!\"&\"$V$12\",DL38))","v":"MC"},{"$f":"IFERROR(HYPERLINK(\"#'C089'!\"&ADDRESS(ROW(INDEX(CurrentListing_C089,MATCH(GI38,CurrentListing_C089,0),1)),20),DM38),HYPERLINK(\"#'C089'!\"&\"$V$12\",DM38))","v":"MC"},{"$f":"IFERROR(HYPERLINK(\"#'C089'!\"&ADDRESS(ROW(INDEX(CurrentListing_C089,MATCH(GJ38,CurrentListing_C089,0),1)),20),DN38),HYPERLINK(\"#'C089'!\"&\"$V$12\",DN38))","v":"MC"},0,{"$f":"IFERROR(HYPERLINK(\"#'C089'!\"&ADDRESS(ROW(INDEX(CurrentListing_C089,MATCH(GL38,CurrentListing_C089,0),1)),20),DP38),HYPERLINK(\"#'C089'!\"&\"$V$12\",DP38))","v":"MC"},{"$f":"IFERROR(HYPERLINK(\"#'C089'!\"&ADDRESS(ROW(INDEX(CurrentListing_C089,MATCH(GM38,CurrentListing_C089,0),1)),20),DQ38),HYPERLINK(\"#'C089'!\"&\"$V$12\",DQ38))","v":"MC"},{"$f":"IFERROR(HYPERLINK(\"#'C089'!\"&ADDRESS(ROW(INDEX(CurrentListing_C089,MATCH(GN38,CurrentListing_C089,0),1)),20),DR38),HYPERLINK(\"#'C089'!\"&\"$V$12\",DR38))","v":"MC"},{"$f":"IFERROR(HYPERLINK(\"#'C089'!\"&ADDRESS(ROW(INDEX(CurrentListing_C089,MATCH(GO38,CurrentListing_C089,0),1)),20),DS38),HYPERLINK(\"#'C089'!\"&\"$V$12\",DS38))","v":"MC"},{"$f":"IFERROR(HYPERLINK(\"#'C089'!\"&ADDRESS(ROW(INDEX(CurrentListing_C089,MATCH(GP38,CurrentListing_C089,0),1)),20),DT38),HYPERLINK(\"#'C089'!\"&\"$V$12\",DT38))","v":"MC"},{"$f":"IFERROR(HYPERLINK(\"#'C089'!\"&ADDRESS(ROW(INDEX(CurrentListing_C089,MATCH(GQ38,CurrentListing_C089,0),1)),20),DU38),HYPERLINK(\"#'C089'!\"&\"$V$12\",DU38))","v":"MC"},{"$f":"IFERROR(HYPERLINK(\"#'C089'!\"&ADDRESS(ROW(INDEX(CurrentListing_C089,MATCH(GR38,CurrentListing_C089,0),1)),20),DV38),HYPERLINK(\"#'C089'!\"&\"$V$12\",DV38))","v":"MC"},0,{"$f":"IFERROR(HYPERLINK(\"#'C089'!\"&ADDRESS(ROW(INDEX(CurrentListing_C089,MATCH(GT38,CurrentListing_C089,0),1)),20),DX38),HYPERLINK(\"#'C089'!\"&\"$V$12\",DX38))","v":"MC"},{"$f":"IFERROR(HYPERLINK(\"#'C089'!\"&ADDRESS(ROW(INDEX(CurrentListing_C089,MATCH(GU38,CurrentListing_C089,0),1)),20),DY38),HYPERLINK(\"#'C089'!\"&\"$V$12\",DY38))","v":"MC"},{"$f":"IFERROR(HYPERLINK(\"#'C089'!\"&ADDRESS(ROW(INDEX(CurrentListing_C089,MATCH(GV38,CurrentListing_C089,0),1)),20),DZ38),HYPERLINK(\"#'C089'!\"&\"$V$12\",DZ38))","v":"MC"},{"$f":"IFERROR(HYPERLINK(\"#'C089'!\"&ADDRESS(ROW(INDEX(CurrentListing_C089,MATCH(GW38,CurrentListing_C089,0),1)),20),EA38),HYPERLINK(\"#'C089'!\"&\"$V$12\",EA38))","v":"MC"},{"$f":"IFERROR(HYPERLINK(\"#'C089'!\"&ADDRESS(ROW(INDEX(CurrentListing_C089,MATCH(GX38,CurrentListing_C089,0),1)),20),EB38),HYPERLINK(\"#'C089'!\"&\"$V$12\",EB38))","v":"MC"},{"$f":"IFERROR(HYPERLINK(\"#'C089'!\"&ADDRESS(ROW(INDEX(CurrentListing_C089,MATCH(GY38,CurrentListing_C089,0),1)),20),EC38),HYPERLINK(\"#'C089'!\"&\"$V$12\",EC38))","v":"MC"},{"$f":"IFERROR(HYPERLINK(\"#'C089'!\"&ADDRESS(ROW(INDEX(CurrentListing_C089,MATCH(GZ38,CurrentListing_C089,0),1)),20),ED38),HYPERLINK(\"#'C089'!\"&\"$V$12\",ED38))","v":"MC"},0,{"$f":"IFERROR(HYPERLINK(\"#'C089'!\"&ADDRESS(ROW(INDEX(CurrentListing_C089,MATCH(HB38,CurrentListing_C089,0),1)),20),EF38),HYPERLINK(\"#'C089'!\"&\"$V$12\",EF38))","v":"MC"},{"$f":"IFERROR(HYPERLINK(\"#'C089'!\"&ADDRESS(ROW(INDEX(CurrentListing_C089,MATCH(HC38,CurrentListing_C089,0),1)),20),EG38),HYPERLINK(\"#'C089'!\"&\"$V$12\",EG38))","v":"MC"},{"$f":"IFERROR(HYPERLINK(\"#'C089'!\"&ADDRESS(ROW(INDEX(CurrentListing_C089,MATCH(HD38,CurrentListing_C089,0),1)),20),EH38),HYPERLINK(\"#'C089'!\"&\"$V$12\",EH38))","v":"MC"},{"$f":"IFERROR(HYPERLINK(\"#'C089'!\"&ADDRESS(ROW(INDEX(CurrentListing_C089,MATCH(HE38,CurrentListing_C089,0),1)),20),EI38),HYPERLINK(\"#'C089'!\"&\"$V$12\",EI38))","v":"MC"},{"$f":"IFERROR(HYPERLINK(\"#'C089'!\"&ADDRESS(ROW(INDEX(CurrentListing_C089,MATCH(HF38,CurrentListing_C089,0),1)),20),EJ38),HYPERLINK(\"#'C089'!\"&\"$V$12\",EJ38))","v":"MC"},{"$f":"IFERROR(HYPERLINK(\"#'C089'!\"&ADDRESS(ROW(INDEX(CurrentListing_C089,MATCH(HG38,CurrentListing_C089,0),1)),20),EK38),HYPERLINK(\"#'C089'!\"&\"$V$12\",EK38))","v":"MC"},{"$f":"IFERROR(HYPERLINK(\"#'C089'!\"&ADDRESS(ROW(INDEX(CurrentListing_C089,MATCH(HH38,CurrentListing_C089,0),1)),20),EL38),HYPERLINK(\"#'C089'!\"&\"$V$12\",EL38))","v":"MC"},0,{"$f":"IFERROR(HYPERLINK(\"#'C089'!\"&ADDRESS(ROW(INDEX(CurrentListing_C089,MATCH(HJ38,CurrentListing_C089,0),1)),20),EN38),HYPERLINK(\"#'C089'!\"&\"$V$12\",EN38))","v":"MC"},{"$f":"IFERROR(HYPERLINK(\"#'C089'!\"&ADDRESS(ROW(INDEX(CurrentListing_C089,MATCH(HK38,CurrentListing_C089,0),1)),20),EO38),HYPERLINK(\"#'C089'!\"&\"$V$12\",EO38))","v":"MC"},{"$f":"IFERROR(HYPERLINK(\"#'C089'!\"&ADDRESS(ROW(INDEX(CurrentListing_C089,MATCH(HL38,CurrentListing_C089,0),1)),20),EP38),HYPERLINK(\"#'C089'!\"&\"$V$12\",EP38))","v":"MC"},{"$f":"IFERROR(HYPERLINK(\"#'C089'!\"&ADDRESS(ROW(INDEX(CurrentListing_C089,MATCH(HM38,CurrentListing_C089,0),1)),20),EQ38),HYPERLINK(\"#'C089'!\"&\"$V$12\",EQ38))","v":"MC"},{"$f":"IFERROR(HYPERLINK(\"#'C089'!\"&ADDRESS(ROW(INDEX(CurrentListing_C089,MATCH(HN38,CurrentListing_C089,0),1)),20),ER38),HYPERLINK(\"#'C089'!\"&\"$V$12\",ER38))","v":"MC"},{"$f":"IFERROR(HYPERLINK(\"#'C089'!\"&ADDRESS(ROW(INDEX(CurrentListing_C089,MATCH(HO38,CurrentListing_C089,0),1)),20),ES38),HYPERLINK(\"#'C089'!\"&\"$V$12\",ES38))","v":"MC"},{"$f":"IFERROR(HYPERLINK(\"#'C089'!\"&ADDRESS(ROW(INDEX(CurrentListing_C089,MATCH(HP38,CurrentListing_C089,0),1)),20),ET38),HYPERLINK(\"#'C089'!\"&\"$V$12\",ET38))","v":"MC"},0,0,null,null,null,null,"Visual Impairment","MC","MC","MC","MC","MC","MC","MC",null,"MC","MC","MC","MC","MC","MC","MC",null,"MC","MC","MC","MC","MC","MC","MC",null,"MC","MC","MC","MC","MC","MC","MC",null,"MC","MC","MC","MC","MC","MC","MC",null,"MC","MC","MC","MC","MC","MC","MC",null,"MC","MC","MC","MC","MC","MC","MC",null,"MC","MC","MC","MC","MC","MC","MC",null,"MC","MC","MC","MC","MC","MC","MC",null,null,"Visual Impairment","HI7VIREC10YSVCSN","AM7VIREC10YSVCSN","AS7VIREC10YSVCSN","BL7VIREC10YSVCSN","PI7VIREC10YSVCSN","WH7VIREC10YSVCSN","MU7VIREC10YSVCSN",null,"HI7VIREC10YOTHLOCN","AM7VIREC10YOTHLOCN","AS7VIREC10YOTHLOCN","BL7VIREC10YOTHLOCN","PI7VIREC10YOTHLOCN","WH7VIREC10YOTHLOCN","MU7VIREC10YOTHLOCN",null,"HI7VIREC09YSVCSN","AM7VIREC09YSVCSN","AS7VIREC09YSVCSN","BL7VIREC09YSVCSN","PI7VIREC09YSVCSN","WH7VIREC09YSVCSN","MU7VIREC09YSVCSN",null,"HI7VIREC09YOTHLOCN","AM7VIREC09YOTHLOCN","AS7VIREC09YOTHLOCN","BL7VIREC09YOTHLOCN","PI7VIREC09YOTHLOCN","WH7VIREC09YOTHLOCN","MU7VIREC09YOTHLOCN",null,"HI7VISCN","AM7VISCN","AS7VISCN","BL7VISCN","PI7VISCN","WH7VISCN","MU7VISCN",null,"HI7VISSN","AM7VISSN","AS7VISSN","BL7VISSN","PI7VISSN","WH7VISSN","MU7VISSN",null,"HI7VIRFN","AM7VIRFN","AS7VIRFN","BL7VIRFN","PI7VIRFN","WH7VIRFN","MU7VIRFN",null,"HI7VIHN","AM7VIHN","AS7VIHN","BL7VIHN","PI7VIHN","WH7VIHN","MU7VIHN",null,"HI7VISPLN","AM7VISPLN","AS7VISPLN","BL7VISPLN","PI7VISPLN","WH7VISPLN","MU7VISPLN"]
["Emotional Disturbance",{"$f":"IFERROR(HYPERLINK(\"#'C089'!\"&ADDRESS(ROW(INDEX(CurrentListing_C089,MATCH(EX39,CurrentListing_C089,0),1)),20),CB39),HYPERLINK(\"#'C089'!\"&\"$V$12\",CB39))","v":"MC"},{"$f":"IFERROR(HYPERLINK(\"#'C089'!\"&ADDRESS(ROW(INDEX(CurrentListing_C089,MATCH(EY39,CurrentListing_C089,0),1)),20),CC39),HYPERLINK(\"#'C089'!\"&\"$V$12\",CC39))","v":"MC"},{"$f":"IFERROR(HYPERLINK(\"#'C089'!\"&ADDRESS(ROW(INDEX(CurrentListing_C089,MATCH(EZ39,CurrentListing_C089,0),1)),20),CD39),HYPERLINK(\"#'C089'!\"&\"$V$12\",CD39))","v":"MC"},{"$f":"IFERROR(HYPERLINK(\"#'C089'!\"&ADDRESS(ROW(INDEX(CurrentListing_C089,MATCH(FA39,CurrentListing_C089,0),1)),20),CE39),HYPERLINK(\"#'C089'!\"&\"$V$12\",CE39))","v":"MC"},{"$f":"IFERROR(HYPERLINK(\"#'C089'!\"&ADDRESS(ROW(INDEX(CurrentListing_C089,MATCH(FB39,CurrentListing_C089,0),1)),20),CF39),HYPERLINK(\"#'C089'!\"&\"$V$12\",CF39))","v":"MC"},{"$f":"IFERROR(HYPERLINK(\"#'C089'!\"&ADDRESS(ROW(INDEX(CurrentListing_C089,MATCH(FC39,CurrentListing_C089,0),1)),20),CG39),HYPERLINK(\"#'C089'!\"&\"$V$12\",CG39))","v":"MC"},{"$f":"IFERROR(HYPERLINK(\"#'C089'!\"&ADDRESS(ROW(INDEX(CurrentListing_C089,MATCH(FD39,CurrentListing_C089,0),1)),20),CH39),HYPERLINK(\"#'C089'!\"&\"$V$12\",CH39))","v":"MC"},0,{"$f":"IFERROR(HYPERLINK(\"#'C089'!\"&ADDRESS(ROW(INDEX(CurrentListing_C089,MATCH(FF39,CurrentListing_C089,0),1)),20),CJ39),HYPERLINK(\"#'C089'!\"&\"$V$12\",CJ39))","v":"MC"},{"$f":"IFERROR(HYPERLINK(\"#'C089'!\"&ADDRESS(ROW(INDEX(CurrentListing_C089,MATCH(FG39,CurrentListing_C089,0),1)),20),CK39),HYPERLINK(\"#'C089'!\"&\"$V$12\",CK39))","v":"MC"},{"$f":"IFERROR(HYPERLINK(\"#'C089'!\"&ADDRESS(ROW(INDEX(CurrentListing_C089,MATCH(FH39,CurrentListing_C089,0),1)),20),CL39),HYPERLINK(\"#'C089'!\"&\"$V$12\",CL39))","v":"MC"},{"$f":"IFERROR(HYPERLINK(\"#'C089'!\"&ADDRESS(ROW(INDEX(CurrentListing_C089,MATCH(FI39,CurrentListing_C089,0),1)),20),CM39),HYPERLINK(\"#'C089'!\"&\"$V$12\",CM39))","v":"MC"},{"$f":"IFERROR(HYPERLINK(\"#'C089'!\"&ADDRESS(ROW(INDEX(CurrentListing_C089,MATCH(FJ39,CurrentListing_C089,0),1)),20),CN39),HYPERLINK(\"#'C089'!\"&\"$V$12\",CN39))","v":"MC"},{"$f":"IFERROR(HYPERLINK(\"#'C089'!\"&ADDRESS(ROW(INDEX(CurrentListing_C089,MATCH(FK39,CurrentListing_C089,0),1)),20),CO39),HYPERLINK(\"#'C089'!\"&\"$V$12\",CO39))","v":"MC"},{"$f":"IFERROR(HYPERLINK(\"#'C089'!\"&ADDRESS(ROW(INDEX(CurrentListing_C089,MATCH(FL39,CurrentListing_C089,0),1)),20),CP39),HYPERLINK(\"#'C089'!\"&\"$V$12\",CP39))","v":"MC"},0,{"$f":"IFERROR(HYPERLINK(\"#'C089'!\"&ADDRESS(ROW(INDEX(CurrentListing_C089,MATCH(FN39,CurrentListing_C089,0),1)),20),CR39),HYPERLINK(\"#'C089'!\"&\"$V$12\",CR39))","v":"MC"},{"$f":"IFERROR(HYPERLINK(\"#'C089'!\"&ADDRESS(ROW(INDEX(CurrentListing_C089,MATCH(FO39,CurrentListing_C089,0),1)),20),CS39),HYPERLINK(\"#'C089'!\"&\"$V$12\",CS39))","v":"MC"},{"$f":"IFERROR(HYPERLINK(\"#'C089'!\"&ADDRESS(ROW(INDEX(CurrentListing_C089,MATCH(FP39,CurrentListing_C089,0),1)),20),CT39),HYPERLINK(\"#'C089'!\"&\"$V$12\",CT39))","v":"MC"},{"$f":"IFERROR(HYPERLINK(\"#'C089'!\"&ADDRESS(ROW(INDEX(CurrentListing_C089,MATCH(FQ39,CurrentListing_C089,0),1)),20),CU39),HYPERLINK(\"#'C089'!\"&\"$V$12\",CU39))","v":"MC"},{"$f":"IFERROR(HYPERLINK(\"#'C089'!\"&ADDRESS(ROW(INDEX(CurrentListing_C089,MATCH(FR39,CurrentListing_C089,0),1)),20),CV39),HYPERLINK(\"#'C089'!\"&\"$V$12\",CV39))","v":"MC"},{"$f":"IFERROR(HYPERLINK(\"#'C089'!\"&ADDRESS(ROW(INDEX(CurrentListing_C089,MATCH(FS39,CurrentListing_C089,0),1)),20),CW39),HYPERLINK(\"#'C089'!\"&\"$V$12\",CW39))","v":"MC"},{"$f":"IFERROR(HYPERLINK(\"#'C089'!\"&ADDRESS(ROW(INDEX(CurrentListing_C089,MATCH(FT39,CurrentListing_C089,0),1)),20),CX39),HYPERLINK(\"#'C089'!\"&\"$V$12\",CX39))","v":"MC"},0,{"$f":"IFERROR(HYPERLINK(\"#'C089'!\"&ADDRESS(ROW(INDEX(CurrentListing_C089,MATCH(FV39,CurrentListing_C089,0),1)),20),CZ39),HYPERLINK(\"#'C089'!\"&\"$V$12\",CZ39))","v":"MC"},{"$f":"IFERROR(HYPERLINK(\"#'C089'!\"&ADDRESS(ROW(INDEX(CurrentListing_C089,MATCH(FW39,CurrentListing_C089,0),1)),20),DA39),HYPERLINK(\"#'C089'!\"&\"$V$12\",DA39))","v":"MC"},{"$f":"IFERROR(HYPERLINK(\"#'C089'!\"&ADDRESS(ROW(INDEX(CurrentListing_C089,MATCH(FX39,CurrentListing_C089,0),1)),20),DB39),HYPERLINK(\"#'C089'!\"&\"$V$12\",DB39))","v":"MC"},{"$f":"IFERROR(HYPERLINK(\"#'C089'!\"&ADDRESS(ROW(INDEX(CurrentListing_C089,MATCH(FY39,CurrentListing_C089,0),1)),20),DC39),HYPERLINK(\"#'C089'!\"&\"$V$12\",DC39))","v":"MC"},{"$f":"IFERROR(HYPERLINK(\"#'C089'!\"&ADDRESS(ROW(INDEX(CurrentListing_C089,MATCH(FZ39,CurrentListing_C089,0),1)),20),DD39),HYPERLINK(\"#'C089'!\"&\"$V$12\",DD39))","v":"MC"},{"$f":"IFERROR(HYPERLINK(\"#'C089'!\"&ADDRESS(ROW(INDEX(CurrentListing_C089,MATCH(GA39,CurrentListing_C089,0),1)),20),DE39),HYPERLINK(\"#'C089'!\"&\"$V$12\",DE39))","v":"MC"},{"$f":"IFERROR(HYPERLINK(\"#'C089'!\"&ADDRESS(ROW(INDEX(CurrentListing_C089,MATCH(GB39,CurrentListing_C089,0),1)),20),DF39),HYPERLINK(\"#'C089'!\"&\"$V$12\",DF39))","v":"MC"},0,{"$f":"IFERROR(HYPERLINK(\"#'C089'!\"&ADDRESS(ROW(INDEX(CurrentListing_C089,MATCH(GD39,CurrentListing_C089,0),1)),20),DH39),HYPERLINK(\"#'C089'!\"&\"$V$12\",DH39))","v":"MC"},{"$f":"IFERROR(HYPERLINK(\"#'C089'!\"&ADDRESS(ROW(INDEX(CurrentListing_C089,MATCH(GE39,CurrentListing_C089,0),1)),20),DI39),HYPERLINK(\"#'C089'!\"&\"$V$12\",DI39))","v":"MC"},{"$f":"IFERROR(HYPERLINK(\"#'C089'!\"&ADDRESS(ROW(INDEX(CurrentListing_C089,MATCH(GF39,CurrentListing_C089,0),1)),20),DJ39),HYPERLINK(\"#'C089'!\"&\"$V$12\",DJ39))","v":"MC"},{"$f":"IFERROR(HYPERLINK(\"#'C089'!\"&ADDRESS(ROW(INDEX(CurrentListing_C089,MATCH(GG39,CurrentListing_C089,0),1)),20),DK39),HYPERLINK(\"#'C089'!\"&\"$V$12\",DK39))","v":"MC"},{"$f":"IFERROR(HYPERLINK(\"#'C089'!\"&ADDRESS(ROW(INDEX(CurrentListing_C089,MATCH(GH39,CurrentListing_C089,0),1)),20),DL39),HYPERLINK(\"#'C089'!\"&\"$V$12\",DL39))","v":"MC"},{"$f":"IFERROR(HYPERLINK(\"#'C089'!\"&ADDRESS(ROW(INDEX(CurrentListing_C089,MATCH(GI39,CurrentListing_C089,0),1)),20),DM39),HYPERLINK(\"#'C089'!\"&\"$V$12\",DM39))","v":"MC"},{"$f":"IFERROR(HYPERLINK(\"#'C089'!\"&ADDRESS(ROW(INDEX(CurrentListing_C089,MATCH(GJ39,CurrentListing_C089,0),1)),20),DN39),HYPERLINK(\"#'C089'!\"&\"$V$12\",DN39))","v":"MC"},0,{"$f":"IFERROR(HYPERLINK(\"#'C089'!\"&ADDRESS(ROW(INDEX(CurrentListing_C089,MATCH(GL39,CurrentListing_C089,0),1)),20),DP39),HYPERLINK(\"#'C089'!\"&\"$V$12\",DP39))","v":"MC"},{"$f":"IFERROR(HYPERLINK(\"#'C089'!\"&ADDRESS(ROW(INDEX(CurrentListing_C089,MATCH(GM39,CurrentListing_C089,0),1)),20),DQ39),HYPERLINK(\"#'C089'!\"&\"$V$12\",DQ39))","v":"MC"},{"$f":"IFERROR(HYPERLINK(\"#'C089'!\"&ADDRESS(ROW(INDEX(CurrentListing_C089,MATCH(GN39,CurrentListing_C089,0),1)),20),DR39),HYPERLINK(\"#'C089'!\"&\"$V$12\",DR39))","v":"MC"},{"$f":"IFERROR(HYPERLINK(\"#'C089'!\"&ADDRESS(ROW(INDEX(CurrentListing_C089,MATCH(GO39,CurrentListing_C089,0),1)),20),DS39),HYPERLINK(\"#'C089'!\"&\"$V$12\",DS39))","v":"MC"},{"$f":"IFERROR(HYPERLINK(\"#'C089'!\"&ADDRESS(ROW(INDEX(CurrentListing_C089,MATCH(GP39,CurrentListing_C089,0),1)),20),DT39),HYPERLINK(\"#'C089'!\"&\"$V$12\",DT39))","v":"MC"},{"$f":"IFERROR(HYPERLINK(\"#'C089'!\"&ADDRESS(ROW(INDEX(CurrentListing_C089,MATCH(GQ39,CurrentListing_C089,0),1)),20),DU39),HYPERLINK(\"#'C089'!\"&\"$V$12\",DU39))","v":"MC"},{"$f":"IFERROR(HYPERLINK(\"#'C089'!\"&ADDRESS(ROW(INDEX(CurrentListing_C089,MATCH(GR39,CurrentListing_C089,0),1)),20),DV39),HYPERLINK(\"#'C089'!\"&\"$V$12\",DV39))","v":"MC"},0,{"$f":"IFERROR(HYPERLINK(\"#'C089'!\"&ADDRESS(ROW(INDEX(CurrentListing_C089,MATCH(GT39,CurrentListing_C089,0),1)),20),DX39),HYPERLINK(\"#'C089'!\"&\"$V$12\",DX39))","v":"MC"},{"$f":"IFERROR(HYPERLINK(\"#'C089'!\"&ADDRESS(ROW(INDEX(CurrentListing_C089,MATCH(GU39,CurrentListing_C089,0),1)),20),DY39),HYPERLINK(\"#'C089'!\"&\"$V$12\",DY39))","v":"MC"},{"$f":"IFERROR(HYPERLINK(\"#'C089'!\"&ADDRESS(ROW(INDEX(CurrentListing_C089,MATCH(GV39,CurrentListing_C089,0),1)),20),DZ39),HYPERLINK(\"#'C089'!\"&\"$V$12\",DZ39))","v":"MC"},{"$f":"IFERROR(HYPERLINK(\"#'C089'!\"&ADDRESS(ROW(INDEX(CurrentListing_C089,MATCH(GW39,CurrentListing_C089,0),1)),20),EA39),HYPERLINK(\"#'C089'!\"&\"$V$12\",EA39))","v":"MC"},{"$f":"IFERROR(HYPERLINK(\"#'C089'!\"&ADDRESS(ROW(INDEX(CurrentListing_C089,MATCH(GX39,CurrentListing_C089,0),1)),20),EB39),HYPERLINK(\"#'C089'!\"&\"$V$12\",EB39))","v":"MC"},{"$f":"IFERROR(HYPERLINK(\"#'C089'!\"&ADDRESS(ROW(INDEX(CurrentListing_C089,MATCH(GY39,CurrentListing_C089,0),1)),20),EC39),HYPERLINK(\"#'C089'!\"&\"$V$12\",EC39))","v":"MC"},{"$f":"IFERROR(HYPERLINK(\"#'C089'!\"&ADDRESS(ROW(INDEX(CurrentListing_C089,MATCH(GZ39,CurrentListing_C089,0),1)),20),ED39),HYPERLINK(\"#'C089'!\"&\"$V$12\",ED39))","v":"MC"},0,{"$f":"IFERROR(HYPERLINK(\"#'C089'!\"&ADDRESS(ROW(INDEX(CurrentListing_C089,MATCH(HB39,CurrentListing_C089,0),1)),20),EF39),HYPERLINK(\"#'C089'!\"&\"$V$12\",EF39))","v":"MC"},{"$f":"IFERROR(HYPERLINK(\"#'C089'!\"&ADDRESS(ROW(INDEX(CurrentListing_C089,MATCH(HC39,CurrentListing_C089,0),1)),20),EG39),HYPERLINK(\"#'C089'!\"&\"$V$12\",EG39))","v":"MC"},{"$f":"IFERROR(HYPERLINK(\"#'C089'!\"&ADDRESS(ROW(INDEX(CurrentListing_C089,MATCH(HD39,CurrentListing_C089,0),1)),20),EH39),HYPERLINK(\"#'C089'!\"&\"$V$12\",EH39))","v":"MC"},{"$f":"IFERROR(HYPERLINK(\"#'C089'!\"&ADDRESS(ROW(INDEX(CurrentListing_C089,MATCH(HE39,CurrentListing_C089,0),1)),20),EI39),HYPERLINK(\"#'C089'!\"&\"$V$12\",EI39))","v":"MC"},{"$f":"IFERROR(HYPERLINK(\"#'C089'!\"&ADDRESS(ROW(INDEX(CurrentListing_C089,MATCH(HF39,CurrentListing_C089,0),1)),20),EJ39),HYPERLINK(\"#'C089'!\"&\"$V$12\",EJ39))","v":"MC"},{"$f":"IFERROR(HYPERLINK(\"#'C089'!\"&ADDRESS(ROW(INDEX(CurrentListing_C089,MATCH(HG39,CurrentListing_C089,0),1)),20),EK39),HYPERLINK(\"#'C089'!\"&\"$V$12\",EK39))","v":"MC"},{"$f":"IFERROR(HYPERLINK(\"#'C089'!\"&ADDRESS(ROW(INDEX(CurrentListing_C089,MATCH(HH39,CurrentListing_C089,0),1)),20),EL39),HYPERLINK(\"#'C089'!\"&\"$V$12\",EL39))","v":"MC"},0,{"$f":"IFERROR(HYPERLINK(\"#'C089'!\"&ADDRESS(ROW(INDEX(CurrentListing_C089,MATCH(HJ39,CurrentListing_C089,0),1)),20),EN39),HYPERLINK(\"#'C089'!\"&\"$V$12\",EN39))","v":"MC"},{"$f":"IFERROR(HYPERLINK(\"#'C089'!\"&ADDRESS(ROW(INDEX(CurrentListing_C089,MATCH(HK39,CurrentListing_C089,0),1)),20),EO39),HYPERLINK(\"#'C089'!\"&\"$V$12\",EO39))","v":"MC"},{"$f":"IFERROR(HYPERLINK(\"#'C089'!\"&ADDRESS(ROW(INDEX(CurrentListing_C089,MATCH(HL39,CurrentListing_C089,0),1)),20),EP39),HYPERLINK(\"#'C089'!\"&\"$V$12\",EP39))","v":"MC"},{"$f":"IFERROR(HYPERLINK(\"#'C089'!\"&ADDRESS(ROW(INDEX(CurrentListing_C089,MATCH(HM39,CurrentListing_C089,0),1)),20),EQ39),HYPERLINK(\"#'C089'!\"&\"$V$12\",EQ39))","v":"MC"},{"$f":"IFERROR(HYPERLINK(\"#'C089'!\"&ADDRESS(ROW(INDEX(CurrentListing_C089,MATCH(HN39,CurrentListing_C089,0),1)),20),ER39),HYPERLINK(\"#'C089'!\"&\"$V$12\",ER39))","v":"MC"},{"$f":"IFERROR(HYPERLINK(\"#'C089'!\"&ADDRESS(ROW(INDEX(CurrentListing_C089,MATCH(HO39,CurrentListing_C089,0),1)),20),ES39),HYPERLINK(\"#'C089'!\"&\"$V$12\",ES39))","v":"MC"},{"$f":"IFERROR(HYPERLINK(\"#'C089'!\"&ADDRESS(ROW(INDEX(CurrentListing_C089,MATCH(HP39,CurrentListing_C089,0),1)),20),ET39),HYPERLINK(\"#'C089'!\"&\"$V$12\",ET39))","v":"MC"},0,0,null,null,null,null,"Emotional Disturbance","MC","MC","MC","MC","MC","MC","MC",null,"MC","MC","MC","MC","MC","MC","MC",null,"MC","MC","MC","MC","MC","MC","MC",null,"MC","MC","MC","MC","MC","MC","MC",null,"MC","MC","MC","MC","MC","MC","MC",null,"MC","MC","MC","MC","MC","MC","MC",null,"MC","MC","MC","MC","MC","MC","MC",null,"MC","MC","MC","MC","MC","MC","MC",null,"MC","MC","MC","MC","MC","MC","MC",null,null,"Emotional Disturbance","HI7EMNREC10YSVCSN","AM7EMNREC10YSVCSN","AS7EMNREC10YSVCSN","BL7EMNREC10YSVCSN","PI7EMNREC10YSVCSN","WH7EMNREC10YSVCSN","MU7EMNREC10YSVCSN",null,"HI7EMNREC10YOTHLOCN","AM7EMNREC10YOTHLOCN","AS7EMNREC10YOTHLOCN","BL7EMNREC10YOTHLOCN","PI7EMNREC10YOTHLOCN","WH7EMNREC10YOTHLOCN","MU7EMNREC10YOTHLOCN",null,"HI7EMNREC09YSVCSN","AM7EMNREC09YSVCSN","AS7EMNREC09YSVCSN","BL7EMNREC09YSVCSN","PI7EMNREC09YSVCSN","WH7EMNREC09YSVCSN","MU7EMNREC09YSVCSN",null,"HI7EMNREC09YOTHLOCN","AM7EMNREC09YOTHLOCN","AS7EMNREC09YOTHLOCN","BL7EMNREC09YOTHLOCN","PI7EMNREC09YOTHLOCN","WH7EMNREC09YOTHLOCN","MU7EMNREC09YOTHLOCN",null,"HI7EMNSCN","AM7EMNSCN","AS7EMNSCN","BL7EMNSCN","PI7EMNSCN","WH7EMNSCN","MU7EMNSCN",null,"HI7EMNSSN","AM7EMNSSN","AS7EMNSSN","BL7EMNSSN","PI7EMNSSN","WH7EMNSSN","MU7EMNSSN",null,"HI7EMNRFN","AM7EMNRFN","AS7EMNRFN","BL7EMNRFN","PI7EMNRFN","WH7EMNRFN","MU7EMNRFN",null,"HI7EMNHN","AM7EMNHN","AS7EMNHN","BL7EMNHN","PI7EMNHN","WH7EMNHN","MU7EMNHN",null,"HI7EMNSPLN","AM7EMNSPLN","AS7EMNSPLN","BL7EMNSPLN","PI7EMNSPLN","WH7EMNSPLN","MU7EMNSPLN"]
["Orthopedic Impairment",{"$f":"IFERROR(HYPERLINK(\"#'C089'!\"&ADDRESS(ROW(INDEX(CurrentListing_C089,MATCH(EX40,CurrentListing_C089,0),1)),20),CB40),HYPERLINK(\"#'C089'!\"&\"$V$12\",CB40))","v":"MC"},{"$f":"IFERROR(HYPERLINK(\"#'C089'!\"&ADDRESS(ROW(INDEX(CurrentListing_C089,MATCH(EY40,CurrentListing_C089,0),1)),20),CC40),HYPERLINK(\"#'C089'!\"&\"$V$12\",CC40))","v":"MC"},{"$f":"IFERROR(HYPERLINK(\"#'C089'!\"&ADDRESS(ROW(INDEX(CurrentListing_C089,MATCH(EZ40,CurrentListing_C089,0),1)),20),CD40),HYPERLINK(\"#'C089'!\"&\"$V$12\",CD40))","v":"MC"},{"$f":"IFERROR(HYPERLINK(\"#'C089'!\"&ADDRESS(ROW(INDEX(CurrentListing_C089,MATCH(FA40,CurrentListing_C089,0),1)),20),CE40),HYPERLINK(\"#'C089'!\"&\"$V$12\",CE40))","v":"MC"},{"$f":"IFERROR(HYPERLINK(\"#'C089'!\"&ADDRESS(ROW(INDEX(CurrentListing_C089,MATCH(FB40,CurrentListing_C089,0),1)),20),CF40),HYPERLINK(\"#'C089'!\"&\"$V$12\",CF40))","v":"MC"},{"$f":"IFERROR(HYPERLINK(\"#'C089'!\"&ADDRESS(ROW(INDEX(CurrentListing_C089,MATCH(FC40,CurrentListing_C089,0),1)),20),CG40),HYPERLINK(\"#'C089'!\"&\"$V$12\",CG40))","v":"MC"},{"$f":"IFERROR(HYPERLINK(\"#'C089'!\"&ADDRESS(ROW(INDEX(CurrentListing_C089,MATCH(FD40,CurrentListing_C089,0),1)),20),CH40),HYPERLINK(\"#'C089'!\"&\"$V$12\",CH40))","v":"MC"},0,{"$f":"IFERROR(HYPERLINK(\"#'C089'!\"&ADDRESS(ROW(INDEX(CurrentListing_C089,MATCH(FF40,CurrentListing_C089,0),1)),20),CJ40),HYPERLINK(\"#'C089'!\"&\"$V$12\",CJ40))","v":"MC"},{"$f":"IFERROR(HYPERLINK(\"#'C089'!\"&ADDRESS(ROW(INDEX(CurrentListing_C089,MATCH(FG40,CurrentListing_C089,0),1)),20),CK40),HYPERLINK(\"#'C089'!\"&\"$V$12\",CK40))","v":"MC"},{"$f":"IFERROR(HYPERLINK(\"#'C089'!\"&ADDRESS(ROW(INDEX(CurrentListing_C089,MATCH(FH40,CurrentListing_C089,0),1)),20),CL40),HYPERLINK(\"#'C089'!\"&\"$V$12\",CL40))","v":"MC"},{"$f":"IFERROR(HYPERLINK(\"#'C089'!\"&ADDRESS(ROW(INDEX(CurrentListing_C089,MATCH(FI40,CurrentListing_C089,0),1)),20),CM40),HYPERLINK(\"#'C089'!\"&\"$V$12\",CM40))","v":"MC"},{"$f":"IFERROR(HYPERLINK(\"#'C089'!\"&ADDRESS(ROW(INDEX(CurrentListing_C089,MATCH(FJ40,CurrentListing_C089,0),1)),20),CN40),HYPERLINK(\"#'C089'!\"&\"$V$12\",CN40))","v":"MC"},{"$f":"IFERROR(HYPERLINK(\"#'C089'!\"&ADDRESS(ROW(INDEX(CurrentListing_C089,MATCH(FK40,CurrentListing_C089,0),1)),20),CO40),HYPERLINK(\"#'C089'!\"&\"$V$12\",CO40))","v":"MC"},{"$f":"IFERROR(HYPERLINK(\"#'C089'!\"&ADDRESS(ROW(INDEX(CurrentListing_C089,MATCH(FL40,CurrentListing_C089,0),1)),20),CP40),HYPERLINK(\"#'C089'!\"&\"$V$12\",CP40))","v":"MC"},0,{"$f":"IFERROR(HYPERLINK(\"#'C089'!\"&ADDRESS(ROW(INDEX(CurrentListing_C089,MATCH(FN40,CurrentListing_C089,0),1)),20),CR40),HYPERLINK(\"#'C089'!\"&\"$V$12\",CR40))","v":"MC"},{"$f":"IFERROR(HYPERLINK(\"#'C089'!\"&ADDRESS(ROW(INDEX(CurrentListing_C089,MATCH(FO40,CurrentListing_C089,0),1)),20),CS40),HYPERLINK(\"#'C089'!\"&\"$V$12\",CS40))","v":"MC"},{"$f":"IFERROR(HYPERLINK(\"#'C089'!\"&ADDRESS(ROW(INDEX(CurrentListing_C089,MATCH(FP40,CurrentListing_C089,0),1)),20),CT40),HYPERLINK(\"#'C089'!\"&\"$V$12\",CT40))","v":"MC"},{"$f":"IFERROR(HYPERLINK(\"#'C089'!\"&ADDRESS(ROW(INDEX(CurrentListing_C089,MATCH(FQ40,CurrentListing_C089,0),1)),20),CU40),HYPERLINK(\"#'C089'!\"&\"$V$12\",CU40))","v":"MC"},{"$f":"IFERROR(HYPERLINK(\"#'C089'!\"&ADDRESS(ROW(INDEX(CurrentListing_C089,MATCH(FR40,CurrentListing_C089,0),1)),20),CV40),HYPERLINK(\"#'C089'!\"&\"$V$12\",CV40))","v":"MC"},{"$f":"IFERROR(HYPERLINK(\"#'C089'!\"&ADDRESS(ROW(INDEX(CurrentListing_C089,MATCH(FS40,CurrentListing_C089,0),1)),20),CW40),HYPERLINK(\"#'C089'!\"&\"$V$12\",CW40))","v":"MC"},{"$f":"IFERROR(HYPERLINK(\"#'C089'!\"&ADDRESS(ROW(INDEX(CurrentListing_C089,MATCH(FT40,CurrentListing_C089,0),1)),20),CX40),HYPERLINK(\"#'C089'!\"&\"$V$12\",CX40))","v":"MC"},0,{"$f":"IFERROR(HYPERLINK(\"#'C089'!\"&ADDRESS(ROW(INDEX(CurrentListing_C089,MATCH(FV40,CurrentListing_C089,0),1)),20),CZ40),HYPERLINK(\"#'C089'!\"&\"$V$12\",CZ40))","v":"MC"},{"$f":"IFERROR(HYPERLINK(\"#'C089'!\"&ADDRESS(ROW(INDEX(CurrentListing_C089,MATCH(FW40,CurrentListing_C089,0),1)),20),DA40),HYPERLINK(\"#'C089'!\"&\"$V$12\",DA40))","v":"MC"},{"$f":"IFERROR(HYPERLINK(\"#'C089'!\"&ADDRESS(ROW(INDEX(CurrentListing_C089,MATCH(FX40,CurrentListing_C089,0),1)),20),DB40),HYPERLINK(\"#'C089'!\"&\"$V$12\",DB40))","v":"MC"},{"$f":"IFERROR(HYPERLINK(\"#'C089'!\"&ADDRESS(ROW(INDEX(CurrentListing_C089,MATCH(FY40,CurrentListing_C089,0),1)),20),DC40),HYPERLINK(\"#'C089'!\"&\"$V$12\",DC40))","v":"MC"},{"$f":"IFERROR(HYPERLINK(\"#'C089'!\"&ADDRESS(ROW(INDEX(CurrentListing_C089,MATCH(FZ40,CurrentListing_C089,0),1)),20),DD40),HYPERLINK(\"#'C089'!\"&\"$V$12\",DD40))","v":"MC"},{"$f":"IFERROR(HYPERLINK(\"#'C089'!\"&ADDRESS(ROW(INDEX(CurrentListing_C089,MATCH(GA40,CurrentListing_C089,0),1)),20),DE40),HYPERLINK(\"#'C089'!\"&\"$V$12\",DE40))","v":"MC"},{"$f":"IFERROR(HYPERLINK(\"#'C089'!\"&ADDRESS(ROW(INDEX(CurrentListing_C089,MATCH(GB40,CurrentListing_C089,0),1)),20),DF40),HYPERLINK(\"#'C089'!\"&\"$V$12\",DF40))","v":"MC"},0,{"$f":"IFERROR(HYPERLINK(\"#'C089'!\"&ADDRESS(ROW(INDEX(CurrentListing_C089,MATCH(GD40,CurrentListing_C089,0),1)),20),DH40),HYPERLINK(\"#'C089'!\"&\"$V$12\",DH40))","v":"MC"},{"$f":"IFERROR(HYPERLINK(\"#'C089'!\"&ADDRESS(ROW(INDEX(CurrentListing_C089,MATCH(GE40,CurrentListing_C089,0),1)),20),DI40),HYPERLINK(\"#'C089'!\"&\"$V$12\",DI40))","v":"MC"},{"$f":"IFERROR(HYPERLINK(\"#'C089'!\"&ADDRESS(ROW(INDEX(CurrentListing_C089,MATCH(GF40,CurrentListing_C089,0),1)),20),DJ40),HYPERLINK(\"#'C089'!\"&\"$V$12\",DJ40))","v":"MC"},{"$f":"IFERROR(HYPERLINK(\"#'C089'!\"&ADDRESS(ROW(INDEX(CurrentListing_C089,MATCH(GG40,CurrentListing_C089,0),1)),20),DK40),HYPERLINK(\"#'C089'!\"&\"$V$12\",DK40))","v":"MC"},{"$f":"IFERROR(HYPERLINK(\"#'C089'!\"&ADDRESS(ROW(INDEX(CurrentListing_C089,MATCH(GH40,CurrentListing_C089,0),1)),20),DL40),HYPERLINK(\"#'C089'!\"&\"$V$12\",DL40))","v":"MC"},{"$f":"IFERROR(HYPERLINK(\"#'C089'!\"&ADDRESS(ROW(INDEX(CurrentListing_C089,MATCH(GI40,CurrentListing_C089,0),1)),20),DM40),HYPERLINK(\"#'C089'!\"&\"$V$12\",DM40))","v":"MC"},{"$f":"IFERROR(HYPERLINK(\"#'C089'!\"&ADDRESS(ROW(INDEX(CurrentListing_C089,MATCH(GJ40,CurrentListing_C089,0),1)),20),DN40),HYPERLINK(\"#'C089'!\"&\"$V$12\",DN40))","v":"MC"},0,{"$f":"IFERROR(HYPERLINK(\"#'C089'!\"&ADDRESS(ROW(INDEX(CurrentListing_C089,MATCH(GL40,CurrentListing_C089,0),1)),20),DP40),HYPERLINK(\"#'C089'!\"&\"$V$12\",DP40))","v":"MC"},{"$f":"IFERROR(HYPERLINK(\"#'C089'!\"&ADDRESS(ROW(INDEX(CurrentListing_C089,MATCH(GM40,CurrentListing_C089,0),1)),20),DQ40),HYPERLINK(\"#'C089'!\"&\"$V$12\",DQ40))","v":"MC"},{"$f":"IFERROR(HYPERLINK(\"#'C089'!\"&ADDRESS(ROW(INDEX(CurrentListing_C089,MATCH(GN40,CurrentListing_C089,0),1)),20),DR40),HYPERLINK(\"#'C089'!\"&\"$V$12\",DR40))","v":"MC"},{"$f":"IFERROR(HYPERLINK(\"#'C089'!\"&ADDRESS(ROW(INDEX(CurrentListing_C089,MATCH(GO40,CurrentListing_C089,0),1)),20),DS40),HYPERLINK(\"#'C089'!\"&\"$V$12\",DS40))","v":"MC"},{"$f":"IFERROR(HYPERLINK(\"#'C089'!\"&ADDRESS(ROW(INDEX(CurrentListing_C089,MATCH(GP40,CurrentListing_C089,0),1)),20),DT40),HYPERLINK(\"#'C089'!\"&\"$V$12\",DT40))","v":"MC"},{"$f":"IFERROR(HYPERLINK(\"#'C089'!\"&ADDRESS(ROW(INDEX(CurrentListing_C089,MATCH(GQ40,CurrentListing_C089,0),1)),20),DU40),HYPERLINK(\"#'C089'!\"&\"$V$12\",DU40))","v":"MC"},{"$f":"IFERROR(HYPERLINK(\"#'C089'!\"&ADDRESS(ROW(INDEX(CurrentListing_C089,MATCH(GR40,CurrentListing_C089,0),1)),20),DV40),HYPERLINK(\"#'C089'!\"&\"$V$12\",DV40))","v":"MC"},0,{"$f":"IFERROR(HYPERLINK(\"#'C089'!\"&ADDRESS(ROW(INDEX(CurrentListing_C089,MATCH(GT40,CurrentListing_C089,0),1)),20),DX40),HYPERLINK(\"#'C089'!\"&\"$V$12\",DX40))","v":"MC"},{"$f":"IFERROR(HYPERLINK(\"#'C089'!\"&ADDRESS(ROW(INDEX(CurrentListing_C089,MATCH(GU40,CurrentListing_C089,0),1)),20),DY40),HYPERLINK(\"#'C089'!\"&\"$V$12\",DY40))","v":"MC"},{"$f":"IFERROR(HYPERLINK(\"#'C089'!\"&ADDRESS(ROW(INDEX(CurrentListing_C089,MATCH(GV40,CurrentListing_C089,0),1)),20),DZ40),HYPERLINK(\"#'C089'!\"&\"$V$12\",DZ40))","v":"MC"},{"$f":"IFERROR(HYPERLINK(\"#'C089'!\"&ADDRESS(ROW(INDEX(CurrentListing_C089,MATCH(GW40,CurrentListing_C089,0),1)),20),EA40),HYPERLINK(\"#'C089'!\"&\"$V$12\",EA40))","v":"MC"},{"$f":"IFERROR(HYPERLINK(\"#'C089'!\"&ADDRESS(ROW(INDEX(CurrentListing_C089,MATCH(GX40,CurrentListing_C089,0),1)),20),EB40),HYPERLINK(\"#'C089'!\"&\"$V$12\",EB40))","v":"MC"},{"$f":"IFERROR(HYPERLINK(\"#'C089'!\"&ADDRESS(ROW(INDEX(CurrentListing_C089,MATCH(GY40,CurrentListing_C089,0),1)),20),EC40),HYPERLINK(\"#'C089'!\"&\"$V$12\",EC40))","v":"MC"},{"$f":"IFERROR(HYPERLINK(\"#'C089'!\"&ADDRESS(ROW(INDEX(CurrentListing_C089,MATCH(GZ40,CurrentListing_C089,0),1)),20),ED40),HYPERLINK(\"#'C089'!\"&\"$V$12\",ED40))","v":"MC"},0,{"$f":"IFERROR(HYPERLINK(\"#'C089'!\"&ADDRESS(ROW(INDEX(CurrentListing_C089,MATCH(HB40,CurrentListing_C089,0),1)),20),EF40),HYPERLINK(\"#'C089'!\"&\"$V$12\",EF40))","v":"MC"},{"$f":"IFERROR(HYPERLINK(\"#'C089'!\"&ADDRESS(ROW(INDEX(CurrentListing_C089,MATCH(HC40,CurrentListing_C089,0),1)),20),EG40),HYPERLINK(\"#'C089'!\"&\"$V$12\",EG40))","v":"MC"},{"$f":"IFERROR(HYPERLINK(\"#'C089'!\"&ADDRESS(ROW(INDEX(CurrentListing_C089,MATCH(HD40,CurrentListing_C089,0),1)),20),EH40),HYPERLINK(\"#'C089'!\"&\"$V$12\",EH40))","v":"MC"},{"$f":"IFERROR(HYPERLINK(\"#'C089'!\"&ADDRESS(ROW(INDEX(CurrentListing_C089,MATCH(HE40,CurrentListing_C089,0),1)),20),EI40),HYPERLINK(\"#'C089'!\"&\"$V$12\",EI40))","v":"MC"},{"$f":"IFERROR(HYPERLINK(\"#'C089'!\"&ADDRESS(ROW(INDEX(CurrentListing_C089,MATCH(HF40,CurrentListing_C089,0),1)),20),EJ40),HYPERLINK(\"#'C089'!\"&\"$V$12\",EJ40))","v":"MC"},{"$f":"IFERROR(HYPERLINK(\"#'C089'!\"&ADDRESS(ROW(INDEX(CurrentListing_C089,MATCH(HG40,CurrentListing_C089,0),1)),20),EK40),HYPERLINK(\"#'C089'!\"&\"$V$12\",EK40))","v":"MC"},{"$f":"IFERROR(HYPERLINK(\"#'C089'!\"&ADDRESS(ROW(INDEX(CurrentListing_C089,MATCH(HH40,CurrentListing_C089,0),1)),20),EL40),HYPERLINK(\"#'C089'!\"&\"$V$12\",EL40))","v":"MC"},0,{"$f":"IFERROR(HYPERLINK(\"#'C089'!\"&ADDRESS(ROW(INDEX(CurrentListing_C089,MATCH(HJ40,CurrentListing_C089,0),1)),20),EN40),HYPERLINK(\"#'C089'!\"&\"$V$12\",EN40))","v":"MC"},{"$f":"IFERROR(HYPERLINK(\"#'C089'!\"&ADDRESS(ROW(INDEX(CurrentListing_C089,MATCH(HK40,CurrentListing_C089,0),1)),20),EO40),HYPERLINK(\"#'C089'!\"&\"$V$12\",EO40))","v":"MC"},{"$f":"IFERROR(HYPERLINK(\"#'C089'!\"&ADDRESS(ROW(INDEX(CurrentListing_C089,MATCH(HL40,CurrentListing_C089,0),1)),20),EP40),HYPERLINK(\"#'C089'!\"&\"$V$12\",EP40))","v":"MC"},{"$f":"IFERROR(HYPERLINK(\"#'C089'!\"&ADDRESS(ROW(INDEX(CurrentListing_C089,MATCH(HM40,CurrentListing_C089,0),1)),20),EQ40),HYPERLINK(\"#'C089'!\"&\"$V$12\",EQ40))","v":"MC"},{"$f":"IFERROR(HYPERLINK(\"#'C089'!\"&ADDRESS(ROW(INDEX(CurrentListing_C089,MATCH(HN40,CurrentListing_C089,0),1)),20),ER40),HYPERLINK(\"#'C089'!\"&\"$V$12\",ER40))","v":"MC"},{"$f":"IFERROR(HYPERLINK(\"#'C089'!\"&ADDRESS(ROW(INDEX(CurrentListing_C089,MATCH(HO40,CurrentListing_C089,0),1)),20),ES40),HYPERLINK(\"#'C089'!\"&\"$V$12\",ES40))","v":"MC"},{"$f":"IFERROR(HYPERLINK(\"#'C089'!\"&ADDRESS(ROW(INDEX(CurrentListing_C089,MATCH(HP40,CurrentListing_C089,0),1)),20),ET40),HYPERLINK(\"#'C089'!\"&\"$V$12\",ET40))","v":"MC"},0,0,null,null,null,null,"Orthopedic Impairment","MC","MC","MC","MC","MC","MC","MC",null,"MC","MC","MC","MC","MC","MC","MC",null,"MC","MC","MC","MC","MC","MC","MC",null,"MC","MC","MC","MC","MC","MC","MC",null,"MC","MC","MC","MC","MC","MC","MC",null,"MC","MC","MC","MC","MC","MC","MC",null,"MC","MC","MC","MC","MC","MC","MC",null,"MC","MC","MC","MC","MC","MC","MC",null,"MC","MC","MC","MC","MC","MC","MC",null,null,"Orthopedic Impairment","HI7OIREC10YSVCSN","AM7OIREC10YSVCSN","AS7OIREC10YSVCSN","BL7OIREC10YSVCSN","PI7OIREC10YSVCSN","WH7OIREC10YSVCSN","MU7OIREC10YSVCSN",null,"HI7OIREC10YOTHLOCN","AM7OIREC10YOTHLOCN","AS7OIREC10YOTHLOCN","BL7OIREC10YOTHLOCN","PI7OIREC10YOTHLOCN","WH7OIREC10YOTHLOCN","MU7OIREC10YOTHLOCN",null,"HI7OIREC09YSVCSN","AM7OIREC09YSVCSN","AS7OIREC09YSVCSN","BL7OIREC09YSVCSN","PI7OIREC09YSVCSN","WH7OIREC09YSVCSN","MU7OIREC09YSVCSN",null,"HI7OIREC09YOTHLOCN","AM7OIREC09YOTHLOCN","AS7OIREC09YOTHLOCN","BL7OIREC09YOTHLOCN","PI7OIREC09YOTHLOCN","WH7OIREC09YOTHLOCN","MU7OIREC09YOTHLOCN",null,"HI7OISCN","AM7OISCN","AS7OISCN","BL7OISCN","PI7OISCN","WH7OISCN","MU7OISCN",null,"HI7OISSN","AM7OISSN","AS7OISSN","BL7OISSN","PI7OISSN","WH7OISSN","MU7OISSN",null,"HI7OIRFN","AM7OIRFN","AS7OIRFN","BL7OIRFN","PI7OIRFN","WH7OIRFN","MU7OIRFN",null,"HI7OIHN","AM7OIHN","AS7OIHN","BL7OIHN","PI7OIHN","WH7OIHN","MU7OIHN",null,"HI7OISPLN","AM7OISPLN","AS7OISPLN","BL7OISPLN","PI7OISPLN","WH7OISPLN","MU7OISPLN"]
["Other Health Impairment",{"$f":"IFERROR(HYPERLINK(\"#'C089'!\"&ADDRESS(ROW(INDEX(CurrentListing_C089,MATCH(EX41,CurrentListing_C089,0),1)),20),CB41),HYPERLINK(\"#'C089'!\"&\"$V$12\",CB41))","v":"MC"},{"$f":"IFERROR(HYPERLINK(\"#'C089'!\"&ADDRESS(ROW(INDEX(CurrentListing_C089,MATCH(EY41,CurrentListing_C089,0),1)),20),CC41),HYPERLINK(\"#'C089'!\"&\"$V$12\",CC41))","v":"MC"},{"$f":"IFERROR(HYPERLINK(\"#'C089'!\"&ADDRESS(ROW(INDEX(CurrentListing_C089,MATCH(EZ41,CurrentListing_C089,0),1)),20),CD41),HYPERLINK(\"#'C089'!\"&\"$V$12\",CD41))","v":"MC"},{"$f":"IFERROR(HYPERLINK(\"#'C089'!\"&ADDRESS(ROW(INDEX(CurrentListing_C089,MATCH(FA41,CurrentListing_C089,0),1)),20),CE41),HYPERLINK(\"#'C089'!\"&\"$V$12\",CE41))","v":"MC"},{"$f":"IFERROR(HYPERLINK(\"#'C089'!\"&ADDRESS(ROW(INDEX(CurrentListing_C089,MATCH(FB41,CurrentListing_C089,0),1)),20),CF41),HYPERLINK(\"#'C089'!\"&\"$V$12\",CF41))","v":"MC"},{"$f":"IFERROR(HYPERLINK(\"#'C089'!\"&ADDRESS(ROW(INDEX(CurrentListing_C089,MATCH(FC41,CurrentListing_C089,0),1)),20),CG41),HYPERLINK(\"#'C089'!\"&\"$V$12\",CG41))","v":"MC"},{"$f":"IFERROR(HYPERLINK(\"#'C089'!\"&ADDRESS(ROW(INDEX(CurrentListing_C089,MATCH(FD41,CurrentListing_C089,0),1)),20),CH41),HYPERLINK(\"#'C089'!\"&\"$V$12\",CH41))","v":"MC"},0,{"$f":"IFERROR(HYPERLINK(\"#'C089'!\"&ADDRESS(ROW(INDEX(CurrentListing_C089,MATCH(FF41,CurrentListing_C089,0),1)),20),CJ41),HYPERLINK(\"#'C089'!\"&\"$V$12\",CJ41))","v":"MC"},{"$f":"IFERROR(HYPERLINK(\"#'C089'!\"&ADDRESS(ROW(INDEX(CurrentListing_C089,MATCH(FG41,CurrentListing_C089,0),1)),20),CK41),HYPERLINK(\"#'C089'!\"&\"$V$12\",CK41))","v":"MC"},{"$f":"IFERROR(HYPERLINK(\"#'C089'!\"&ADDRESS(ROW(INDEX(CurrentListing_C089,MATCH(FH41,CurrentListing_C089,0),1)),20),CL41),HYPERLINK(\"#'C089'!\"&\"$V$12\",CL41))","v":"MC"},{"$f":"IFERROR(HYPERLINK(\"#'C089'!\"&ADDRESS(ROW(INDEX(CurrentListing_C089,MATCH(FI41,CurrentListing_C089,0),1)),20),CM41),HYPERLINK(\"#'C089'!\"&\"$V$12\",CM41))","v":"MC"},{"$f":"IFERROR(HYPERLINK(\"#'C089'!\"&ADDRESS(ROW(INDEX(CurrentListing_C089,MATCH(FJ41,CurrentListing_C089,0),1)),20),CN41),HYPERLINK(\"#'C089'!\"&\"$V$12\",CN41))","v":"MC"},{"$f":"IFERROR(HYPERLINK(\"#'C089'!\"&ADDRESS(ROW(INDEX(CurrentListing_C089,MATCH(FK41,CurrentListing_C089,0),1)),20),CO41),HYPERLINK(\"#'C089'!\"&\"$V$12\",CO41))","v":"MC"},{"$f":"IFERROR(HYPERLINK(\"#'C089'!\"&ADDRESS(ROW(INDEX(CurrentListing_C089,MATCH(FL41,CurrentListing_C089,0),1)),20),CP41),HYPERLINK(\"#'C089'!\"&\"$V$12\",CP41))","v":"MC"},0,{"$f":"IFERROR(HYPERLINK(\"#'C089'!\"&ADDRESS(ROW(INDEX(CurrentListing_C089,MATCH(FN41,CurrentListing_C089,0),1)),20),CR41),HYPERLINK(\"#'C089'!\"&\"$V$12\",CR41))","v":"MC"},{"$f":"IFERROR(HYPERLINK(\"#'C089'!\"&ADDRESS(ROW(INDEX(CurrentListing_C089,MATCH(FO41,CurrentListing_C089,0),1)),20),CS41),HYPERLINK(\"#'C089'!\"&\"$V$12\",CS41))","v":"MC"},{"$f":"IFERROR(HYPERLINK(\"#'C089'!\"&ADDRESS(ROW(INDEX(CurrentListing_C089,MATCH(FP41,CurrentListing_C089,0),1)),20),CT41),HYPERLINK(\"#'C089'!\"&\"$V$12\",CT41))","v":"MC"},{"$f":"IFERROR(HYPERLINK(\"#'C089'!\"&ADDRESS(ROW(INDEX(CurrentListing_C089,MATCH(FQ41,CurrentListing_C089,0),1)),20),CU41),HYPERLINK(\"#'C089'!\"&\"$V$12\",CU41))","v":"MC"},{"$f":"IFERROR(HYPERLINK(\"#'C089'!\"&ADDRESS(ROW(INDEX(CurrentListing_C089,MATCH(FR41,CurrentListing_C089,0),1)),20),CV41),HYPERLINK(\"#'C089'!\"&\"$V$12\",CV41))","v":"MC"},{"$f":"IFERROR(HYPERLINK(\"#'C089'!\"&ADDRESS(ROW(INDEX(CurrentListing_C089,MATCH(FS41,CurrentListing_C089,0),1)),20),CW41),HYPERLINK(\"#'C089'!\"&\"$V$12\",CW41))","v":"MC"},{"$f":"IFERROR(HYPERLINK(\"#'C089'!\"&ADDRESS(ROW(INDEX(CurrentListing_C089,MATCH(FT41,CurrentListing_C089,0),1)),20),CX41),HYPERLINK(\"#'C089'!\"&\"$V$12\",CX41))","v":"MC"},0,{"$f":"IFERROR(HYPERLINK(\"#'C089'!\"&ADDRESS(ROW(INDEX(CurrentListing_C089,MATCH(FV41,CurrentListing_C089,0),1)),20),CZ41),HYPERLINK(\"#'C089'!\"&\"$V$12\",CZ41))","v":"MC"},{"$f":"IFERROR(HYPERLINK(\"#'C089'!\"&ADDRESS(ROW(INDEX(CurrentListing_C089,MATCH(FW41,CurrentListing_C089,0),1)),20),DA41),HYPERLINK(\"#'C089'!\"&\"$V$12\",DA41))","v":"MC"},{"$f":"IFERROR(HYPERLINK(\"#'C089'!\"&ADDRESS(ROW(INDEX(CurrentListing_C089,MATCH(FX41,CurrentListing_C089,0),1)),20),DB41),HYPERLINK(\"#'C089'!\"&\"$V$12\",DB41))","v":"MC"},{"$f":"IFERROR(HYPERLINK(\"#'C089'!\"&ADDRESS(ROW(INDEX(CurrentListing_C089,MATCH(FY41,CurrentListing_C089,0),1)),20),DC41),HYPERLINK(\"#'C089'!\"&\"$V$12\",DC41))","v":"MC"},{"$f":"IFERROR(HYPERLINK(\"#'C089'!\"&ADDRESS(ROW(INDEX(CurrentListing_C089,MATCH(FZ41,CurrentListing_C089,0),1)),20),DD41),HYPERLINK(\"#'C089'!\"&\"$V$12\",DD41))","v":"MC"},{"$f":"IFERROR(HYPERLINK(\"#'C089'!\"&ADDRESS(ROW(INDEX(CurrentListing_C089,MATCH(GA41,CurrentListing_C089,0),1)),20),DE41),HYPERLINK(\"#'C089'!\"&\"$V$12\",DE41))","v":"MC"},{"$f":"IFERROR(HYPERLINK(\"#'C089'!\"&ADDRESS(ROW(INDEX(CurrentListing_C089,MATCH(GB41,CurrentListing_C089,0),1)),20),DF41),HYPERLINK(\"#'C089'!\"&\"$V$12\",DF41))","v":"MC"},0,{"$f":"IFERROR(HYPERLINK(\"#'C089'!\"&ADDRESS(ROW(INDEX(CurrentListing_C089,MATCH(GD41,CurrentListing_C089,0),1)),20),DH41),HYPERLINK(\"#'C089'!\"&\"$V$12\",DH41))","v":"MC"},{"$f":"IFERROR(HYPERLINK(\"#'C089'!\"&ADDRESS(ROW(INDEX(CurrentListing_C089,MATCH(GE41,CurrentListing_C089,0),1)),20),DI41),HYPERLINK(\"#'C089'!\"&\"$V$12\",DI41))","v":"MC"},{"$f":"IFERROR(HYPERLINK(\"#'C089'!\"&ADDRESS(ROW(INDEX(CurrentListing_C089,MATCH(GF41,CurrentListing_C089,0),1)),20),DJ41),HYPERLINK(\"#'C089'!\"&\"$V$12\",DJ41))","v":"MC"},{"$f":"IFERROR(HYPERLINK(\"#'C089'!\"&ADDRESS(ROW(INDEX(CurrentListing_C089,MATCH(GG41,CurrentListing_C089,0),1)),20),DK41),HYPERLINK(\"#'C089'!\"&\"$V$12\",DK41))","v":"MC"},{"$f":"IFERROR(HYPERLINK(\"#'C089'!\"&ADDRESS(ROW(INDEX(CurrentListing_C089,MATCH(GH41,CurrentListing_C089,0),1)),20),DL41),HYPERLINK(\"#'C089'!\"&\"$V$12\",DL41))","v":"MC"},{"$f":"IFERROR(HYPERLINK(\"#'C089'!\"&ADDRESS(ROW(INDEX(CurrentListing_C089,MATCH(GI41,CurrentListing_C089,0),1)),20),DM41),HYPERLINK(\"#'C089'!\"&\"$V$12\",DM41))","v":"MC"},{"$f":"IFERROR(HYPERLINK(\"#'C089'!\"&ADDRESS(ROW(INDEX(CurrentListing_C089,MATCH(GJ41,CurrentListing_C089,0),1)),20),DN41),HYPERLINK(\"#'C089'!\"&\"$V$12\",DN41))","v":"MC"},0,{"$f":"IFERROR(HYPERLINK(\"#'C089'!\"&ADDRESS(ROW(INDEX(CurrentListing_C089,MATCH(GL41,CurrentListing_C089,0),1)),20),DP41),HYPERLINK(\"#'C089'!\"&\"$V$12\",DP41))","v":"MC"},{"$f":"IFERROR(HYPERLINK(\"#'C089'!\"&ADDRESS(ROW(INDEX(CurrentListing_C089,MATCH(GM41,CurrentListing_C089,0),1)),20),DQ41),HYPERLINK(\"#'C089'!\"&\"$V$12\",DQ41))","v":"MC"},{"$f":"IFERROR(HYPERLINK(\"#'C089'!\"&ADDRESS(ROW(INDEX(CurrentListing_C089,MATCH(GN41,CurrentListing_C089,0),1)),20),DR41),HYPERLINK(\"#'C089'!\"&\"$V$12\",DR41))","v":"MC"},{"$f":"IFERROR(HYPERLINK(\"#'C089'!\"&ADDRESS(ROW(INDEX(CurrentListing_C089,MATCH(GO41,CurrentListing_C089,0),1)),20),DS41),HYPERLINK(\"#'C089'!\"&\"$V$12\",DS41))","v":"MC"},{"$f":"IFERROR(HYPERLINK(\"#'C089'!\"&ADDRESS(ROW(INDEX(CurrentListing_C089,MATCH(GP41,CurrentListing_C089,0),1)),20),DT41),HYPERLINK(\"#'C089'!\"&\"$V$12\",DT41))","v":"MC"},{"$f":"IFERROR(HYPERLINK(\"#'C089'!\"&ADDRESS(ROW(INDEX(CurrentListing_C089,MATCH(GQ41,CurrentListing_C089,0),1)),20),DU41),HYPERLINK(\"#'C089'!\"&\"$V$12\",DU41))","v":"MC"},{"$f":"IFERROR(HYPERLINK(\"#'C089'!\"&ADDRESS(ROW(INDEX(CurrentListing_C089,MATCH(GR41,CurrentListing_C089,0),1)),20),DV41),HYPERLINK(\"#'C089'!\"&\"$V$12\",DV41))","v":"MC"},0,{"$f":"IFERROR(HYPERLINK(\"#'C089'!\"&ADDRESS(ROW(INDEX(CurrentListing_C089,MATCH(GT41,CurrentListing_C089,0),1)),20),DX41),HYPERLINK(\"#'C089'!\"&\"$V$12\",DX41))","v":"MC"},{"$f":"IFERROR(HYPERLINK(\"#'C089'!\"&ADDRESS(ROW(INDEX(CurrentListing_C089,MATCH(GU41,CurrentListing_C089,0),1)),20),DY41),HYPERLINK(\"#'C089'!\"&\"$V$12\",DY41))","v":"MC"},{"$f":"IFERROR(HYPERLINK(\"#'C089'!\"&ADDRESS(ROW(INDEX(CurrentListing_C089,MATCH(GV41,CurrentListing_C089,0),1)),20),DZ41),HYPERLINK(\"#'C089'!\"&\"$V$12\",DZ41))","v":"MC"},{"$f":"IFERROR(HYPERLINK(\"#'C089'!\"&ADDRESS(ROW(INDEX(CurrentListing_C089,MATCH(GW41,CurrentListing_C089,0),1)),20),EA41),HYPERLINK(\"#'C089'!\"&\"$V$12\",EA41))","v":"MC"},{"$f":"IFERROR(HYPERLINK(\"#'C089'!\"&ADDRESS(ROW(INDEX(CurrentListing_C089,MATCH(GX41,CurrentListing_C089,0),1)),20),EB41),HYPERLINK(\"#'C089'!\"&\"$V$12\",EB41))","v":"MC"},{"$f":"IFERROR(HYPERLINK(\"#'C089'!\"&ADDRESS(ROW(INDEX(CurrentListing_C089,MATCH(GY41,CurrentListing_C089,0),1)),20),EC41),HYPERLINK(\"#'C089'!\"&\"$V$12\",EC41))","v":"MC"},{"$f":"IFERROR(HYPERLINK(\"#'C089'!\"&ADDRESS(ROW(INDEX(CurrentListing_C089,MATCH(GZ41,CurrentListing_C089,0),1)),20),ED41),HYPERLINK(\"#'C089'!\"&\"$V$12\",ED41))","v":"MC"},0,{"$f":"IFERROR(HYPERLINK(\"#'C089'!\"&ADDRESS(ROW(INDEX(CurrentListing_C089,MATCH(HB41,CurrentListing_C089,0),1)),20),EF41),HYPERLINK(\"#'C089'!\"&\"$V$12\",EF41))","v":"MC"},{"$f":"IFERROR(HYPERLINK(\"#'C089'!\"&ADDRESS(ROW(INDEX(CurrentListing_C089,MATCH(HC41,CurrentListing_C089,0),1)),20),EG41),HYPERLINK(\"#'C089'!\"&\"$V$12\",EG41))","v":"MC"},{"$f":"IFERROR(HYPERLINK(\"#'C089'!\"&ADDRESS(ROW(INDEX(CurrentListing_C089,MATCH(HD41,CurrentListing_C089,0),1)),20),EH41),HYPERLINK(\"#'C089'!\"&\"$V$12\",EH41))","v":"MC"},{"$f":"IFERROR(HYPERLINK(\"#'C089'!\"&ADDRESS(ROW(INDEX(CurrentListing_C089,MATCH(HE41,CurrentListing_C089,0),1)),20),EI41),HYPERLINK(\"#'C089'!\"&\"$V$12\",EI41))","v":"MC"},{"$f":"IFERROR(HYPERLINK(\"#'C089'!\"&ADDRESS(ROW(INDEX(CurrentListing_C089,MATCH(HF41,CurrentListing_C089,0),1)),20),EJ41),HYPERLINK(\"#'C089'!\"&\"$V$12\",EJ41))","v":"MC"},{"$f":"IFERROR(HYPERLINK(\"#'C089'!\"&ADDRESS(ROW(INDEX(CurrentListing_C089,MATCH(HG41,CurrentListing_C089,0),1)),20),EK41),HYPERLINK(\"#'C089'!\"&\"$V$12\",EK41))","v":"MC"},{"$f":"IFERROR(HYPERLINK(\"#'C089'!\"&ADDRESS(ROW(INDEX(CurrentListing_C089,MATCH(HH41,CurrentListing_C089,0),1)),20),EL41),HYPERLINK(\"#'C089'!\"&\"$V$12\",EL41))","v":"MC"},0,{"$f":"IFERROR(HYPERLINK(\"#'C089'!\"&ADDRESS(ROW(INDEX(CurrentListing_C089,MATCH(HJ41,CurrentListing_C089,0),1)),20),EN41),HYPERLINK(\"#'C089'!\"&\"$V$12\",EN41))","v":"MC"},{"$f":"IFERROR(HYPERLINK(\"#'C089'!\"&ADDRESS(ROW(INDEX(CurrentListing_C089,MATCH(HK41,CurrentListing_C089,0),1)),20),EO41),HYPERLINK(\"#'C089'!\"&\"$V$12\",EO41))","v":"MC"},{"$f":"IFERROR(HYPERLINK(\"#'C089'!\"&ADDRESS(ROW(INDEX(CurrentListing_C089,MATCH(HL41,CurrentListing_C089,0),1)),20),EP41),HYPERLINK(\"#'C089'!\"&\"$V$12\",EP41))","v":"MC"},{"$f":"IFERROR(HYPERLINK(\"#'C089'!\"&ADDRESS(ROW(INDEX(CurrentListing_C089,MATCH(HM41,CurrentListing_C089,0),1)),20),EQ41),HYPERLINK(\"#'C089'!\"&\"$V$12\",EQ41))","v":"MC"},{"$f":"IFERROR(HYPERLINK(\"#'C089'!\"&ADDRESS(ROW(INDEX(CurrentListing_C089,MATCH(HN41,CurrentListing_C089,0),1)),20),ER41),HYPERLINK(\"#'C089'!\"&\"$V$12\",ER41))","v":"MC"},{"$f":"IFERROR(HYPERLINK(\"#'C089'!\"&ADDRESS(ROW(INDEX(CurrentListing_C089,MATCH(HO41,CurrentListing_C089,0),1)),20),ES41),HYPERLINK(\"#'C089'!\"&\"$V$12\",ES41))","v":"MC"},{"$f":"IFERROR(HYPERLINK(\"#'C089'!\"&ADDRESS(ROW(INDEX(CurrentListing_C089,MATCH(HP41,CurrentListing_C089,0),1)),20),ET41),HYPERLINK(\"#'C089'!\"&\"$V$12\",ET41))","v":"MC"},0,0,null,null,null,null,"Other Health Impairment","MC","MC","MC","MC","MC","MC","MC",null,"MC","MC","MC","MC","MC","MC","MC",null,"MC","MC","MC","MC","MC","MC","MC",null,"MC","MC","MC","MC","MC","MC","MC",null,"MC","MC","MC","MC","MC","MC","MC",null,"MC","MC","MC","MC","MC","MC","MC",null,"MC","MC","MC","MC","MC","MC","MC",null,"MC","MC","MC","MC","MC","MC","MC",null,"MC","MC","MC","MC","MC","MC","MC",null,null,"Other Health Impairment","HI7OHIREC10YSVCSN","AM7OHIREC10YSVCSN","AS7OHIREC10YSVCSN","BL7OHIREC10YSVCSN","PI7OHIREC10YSVCSN","WH7OHIREC10YSVCSN","MU7OHIREC10YSVCSN",null,"HI7OHIREC10YOTHLOCN","AM7OHIREC10YOTHLOCN","AS7OHIREC10YOTHLOCN","BL7OHIREC10YOTHLOCN","PI7OHIREC10YOTHLOCN","WH7OHIREC10YOTHLOCN","MU7OHIREC10YOTHLOCN",null,"HI7OHIREC09YSVCSN","AM7OHIREC09YSVCSN","AS7OHIREC09YSVCSN","BL7OHIREC09YSVCSN","PI7OHIREC09YSVCSN","WH7OHIREC09YSVCSN","MU7OHIREC09YSVCSN",null,"HI7OHIREC09YOTHLOCN","AM7OHIREC09YOTHLOCN","AS7OHIREC09YOTHLOCN","BL7OHIREC09YOTHLOCN","PI7OHIREC09YOTHLOCN","WH7OHIREC09YOTHLOCN","MU7OHIREC09YOTHLOCN",null,"HI7OHISCN","AM7OHISCN","AS7OHISCN","BL7OHISCN","PI7OHISCN","WH7OHISCN","MU7OHISCN",null,"HI7OHISSN","AM7OHISSN","AS7OHISSN","BL7OHISSN","PI7OHISSN","WH7OHISSN","MU7OHISSN",null,"HI7OHIRFN","AM7OHIRFN","AS7OHIRFN","BL7OHIRFN","PI7OHIRFN","WH7OHIRFN","MU7OHIRFN",null,"HI7OHIHN","AM7OHIHN","AS7OHIHN","BL7OHIHN","PI7OHIHN","WH7OHIHN","MU7OHIHN",null,"HI7OHISPLN","AM7OHISPLN","AS7OHISPLN","BL7OHISPLN","PI7OHISPLN","WH7OHISPLN","MU7OHISPLN"]
["Specific Learning Disability",{"$f":"IFERROR(HYPERLINK(\"#'C089'!\"&ADDRESS(ROW(INDEX(CurrentListing_C089,MATCH(EX42,CurrentListing_C089,0),1)),20),CB42),HYPERLINK(\"#'C089'!\"&\"$V$12\",CB42))","v":"MC"},{"$f":"IFERROR(HYPERLINK(\"#'C089'!\"&ADDRESS(ROW(INDEX(CurrentListing_C089,MATCH(EY42,CurrentListing_C089,0),1)),20),CC42),HYPERLINK(\"#'C089'!\"&\"$V$12\",CC42))","v":"MC"},{"$f":"IFERROR(HYPERLINK(\"#'C089'!\"&ADDRESS(ROW(INDEX(CurrentListing_C089,MATCH(EZ42,CurrentListing_C089,0),1)),20),CD42),HYPERLINK(\"#'C089'!\"&\"$V$12\",CD42))","v":"MC"},{"$f":"IFERROR(HYPERLINK(\"#'C089'!\"&ADDRESS(ROW(INDEX(CurrentListing_C089,MATCH(FA42,CurrentListing_C089,0),1)),20),CE42),HYPERLINK(\"#'C089'!\"&\"$V$12\",CE42))","v":"MC"},{"$f":"IFERROR(HYPERLINK(\"#'C089'!\"&ADDRESS(ROW(INDEX(CurrentListing_C089,MATCH(FB42,CurrentListing_C089,0),1)),20),CF42),HYPERLINK(\"#'C089'!\"&\"$V$12\",CF42))","v":"MC"},{"$f":"IFERROR(HYPERLINK(\"#'C089'!\"&ADDRESS(ROW(INDEX(CurrentListing_C089,MATCH(FC42,CurrentListing_C089,0),1)),20),CG42),HYPERLINK(\"#'C089'!\"&\"$V$12\",CG42))","v":"MC"},{"$f":"IFERROR(HYPERLINK(\"#'C089'!\"&ADDRESS(ROW(INDEX(CurrentListing_C089,MATCH(FD42,CurrentListing_C089,0),1)),20),CH42),HYPERLINK(\"#'C089'!\"&\"$V$12\",CH42))","v":"MC"},0,{"$f":"IFERROR(HYPERLINK(\"#'C089'!\"&ADDRESS(ROW(INDEX(CurrentListing_C089,MATCH(FF42,CurrentListing_C089,0),1)),20),CJ42),HYPERLINK(\"#'C089'!\"&\"$V$12\",CJ42))","v":"MC"},{"$f":"IFERROR(HYPERLINK(\"#'C089'!\"&ADDRESS(ROW(INDEX(CurrentListing_C089,MATCH(FG42,CurrentListing_C089,0),1)),20),CK42),HYPERLINK(\"#'C089'!\"&\"$V$12\",CK42))","v":"MC"},{"$f":"IFERROR(HYPERLINK(\"#'C089'!\"&ADDRESS(ROW(INDEX(CurrentListing_C089,MATCH(FH42,CurrentListing_C089,0),1)),20),CL42),HYPERLINK(\"#'C089'!\"&\"$V$12\",CL42))","v":"MC"},{"$f":"IFERROR(HYPERLINK(\"#'C089'!\"&ADDRESS(ROW(INDEX(CurrentListing_C089,MATCH(FI42,CurrentListing_C089,0),1)),20),CM42),HYPERLINK(\"#'C089'!\"&\"$V$12\",CM42))","v":"MC"},{"$f":"IFERROR(HYPERLINK(\"#'C089'!\"&ADDRESS(ROW(INDEX(CurrentListing_C089,MATCH(FJ42,CurrentListing_C089,0),1)),20),CN42),HYPERLINK(\"#'C089'!\"&\"$V$12\",CN42))","v":"MC"},{"$f":"IFERROR(HYPERLINK(\"#'C089'!\"&ADDRESS(ROW(INDEX(CurrentListing_C089,MATCH(FK42,CurrentListing_C089,0),1)),20),CO42),HYPERLINK(\"#'C089'!\"&\"$V$12\",CO42))","v":"MC"},{"$f":"IFERROR(HYPERLINK(\"#'C089'!\"&ADDRESS(ROW(INDEX(CurrentListing_C089,MATCH(FL42,CurrentListing_C089,0),1)),20),CP42),HYPERLINK(\"#'C089'!\"&\"$V$12\",CP42))","v":"MC"},0,{"$f":"IFERROR(HYPERLINK(\"#'C089'!\"&ADDRESS(ROW(INDEX(CurrentListing_C089,MATCH(FN42,CurrentListing_C089,0),1)),20),CR42),HYPERLINK(\"#'C089'!\"&\"$V$12\",CR42))","v":"MC"},{"$f":"IFERROR(HYPERLINK(\"#'C089'!\"&ADDRESS(ROW(INDEX(CurrentListing_C089,MATCH(FO42,CurrentListing_C089,0),1)),20),CS42),HYPERLINK(\"#'C089'!\"&\"$V$12\",CS42))","v":"MC"},{"$f":"IFERROR(HYPERLINK(\"#'C089'!\"&ADDRESS(ROW(INDEX(CurrentListing_C089,MATCH(FP42,CurrentListing_C089,0),1)),20),CT42),HYPERLINK(\"#'C089'!\"&\"$V$12\",CT42))","v":"MC"},{"$f":"IFERROR(HYPERLINK(\"#'C089'!\"&ADDRESS(ROW(INDEX(CurrentListing_C089,MATCH(FQ42,CurrentListing_C089,0),1)),20),CU42),HYPERLINK(\"#'C089'!\"&\"$V$12\",CU42))","v":"MC"},{"$f":"IFERROR(HYPERLINK(\"#'C089'!\"&ADDRESS(ROW(INDEX(CurrentListing_C089,MATCH(FR42,CurrentListing_C089,0),1)),20),CV42),HYPERLINK(\"#'C089'!\"&\"$V$12\",CV42))","v":"MC"},{"$f":"IFERROR(HYPERLINK(\"#'C089'!\"&ADDRESS(ROW(INDEX(CurrentListing_C089,MATCH(FS42,CurrentListing_C089,0),1)),20),CW42),HYPERLINK(\"#'C089'!\"&\"$V$12\",CW42))","v":"MC"},{"$f":"IFERROR(HYPERLINK(\"#'C089'!\"&ADDRESS(ROW(INDEX(CurrentListing_C089,MATCH(FT42,CurrentListing_C089,0),1)),20),CX42),HYPERLINK(\"#'C089'!\"&\"$V$12\",CX42))","v":"MC"},0,{"$f":"IFERROR(HYPERLINK(\"#'C089'!\"&ADDRESS(ROW(INDEX(CurrentListing_C089,MATCH(FV42,CurrentListing_C089,0),1)),20),CZ42),HYPERLINK(\"#'C089'!\"&\"$V$12\",CZ42))","v":"MC"},{"$f":"IFERROR(HYPERLINK(\"#'C089'!\"&ADDRESS(ROW(INDEX(CurrentListing_C089,MATCH(FW42,CurrentListing_C089,0),1)),20),DA42),HYPERLINK(\"#'C089'!\"&\"$V$12\",DA42))","v":"MC"},{"$f":"IFERROR(HYPERLINK(\"#'C089'!\"&ADDRESS(ROW(INDEX(CurrentListing_C089,MATCH(FX42,CurrentListing_C089,0),1)),20),DB42),HYPERLINK(\"#'C089'!\"&\"$V$12\",DB42))","v":"MC"},{"$f":"IFERROR(HYPERLINK(\"#'C089'!\"&ADDRESS(ROW(INDEX(CurrentListing_C089,MATCH(FY42,CurrentListing_C089,0),1)),20),DC42),HYPERLINK(\"#'C089'!\"&\"$V$12\",DC42))","v":"MC"},{"$f":"IFERROR(HYPERLINK(\"#'C089'!\"&ADDRESS(ROW(INDEX(CurrentListing_C089,MATCH(FZ42,CurrentListing_C089,0),1)),20),DD42),HYPERLINK(\"#'C089'!\"&\"$V$12\",DD42))","v":"MC"},{"$f":"IFERROR(HYPERLINK(\"#'C089'!\"&ADDRESS(ROW(INDEX(CurrentListing_C089,MATCH(GA42,CurrentListing_C089,0),1)),20),DE42),HYPERLINK(\"#'C089'!\"&\"$V$12\",DE42))","v":"MC"},{"$f":"IFERROR(HYPERLINK(\"#'C089'!\"&ADDRESS(ROW(INDEX(CurrentListing_C089,MATCH(GB42,CurrentListing_C089,0),1)),20),DF42),HYPERLINK(\"#'C089'!\"&\"$V$12\",DF42))","v":"MC"},0,{"$f":"IFERROR(HYPERLINK(\"#'C089'!\"&ADDRESS(ROW(INDEX(CurrentListing_C089,MATCH(GD42,CurrentListing_C089,0),1)),20),DH42),HYPERLINK(\"#'C089'!\"&\"$V$12\",DH42))","v":"MC"},{"$f":"IFERROR(HYPERLINK(\"#'C089'!\"&ADDRESS(ROW(INDEX(CurrentListing_C089,MATCH(GE42,CurrentListing_C089,0),1)),20),DI42),HYPERLINK(\"#'C089'!\"&\"$V$12\",DI42))","v":"MC"},{"$f":"IFERROR(HYPERLINK(\"#'C089'!\"&ADDRESS(ROW(INDEX(CurrentListing_C089,MATCH(GF42,CurrentListing_C089,0),1)),20),DJ42),HYPERLINK(\"#'C089'!\"&\"$V$12\",DJ42))","v":"MC"},{"$f":"IFERROR(HYPERLINK(\"#'C089'!\"&ADDRESS(ROW(INDEX(CurrentListing_C089,MATCH(GG42,CurrentListing_C089,0),1)),20),DK42),HYPERLINK(\"#'C089'!\"&\"$V$12\",DK42))","v":"MC"},{"$f":"IFERROR(HYPERLINK(\"#'C089'!\"&ADDRESS(ROW(INDEX(CurrentListing_C089,MATCH(GH42,CurrentListing_C089,0),1)),20),DL42),HYPERLINK(\"#'C089'!\"&\"$V$12\",DL42))","v":"MC"},{"$f":"IFERROR(HYPERLINK(\"#'C089'!\"&ADDRESS(ROW(INDEX(CurrentListing_C089,MATCH(GI42,CurrentListing_C089,0),1)),20),DM42),HYPERLINK(\"#'C089'!\"&\"$V$12\",DM42))","v":"MC"},{"$f":"IFERROR(HYPERLINK(\"#'C089'!\"&ADDRESS(ROW(INDEX(CurrentListing_C089,MATCH(GJ42,CurrentListing_C089,0),1)),20),DN42),HYPERLINK(\"#'C089'!\"&\"$V$12\",DN42))","v":"MC"},0,{"$f":"IFERROR(HYPERLINK(\"#'C089'!\"&ADDRESS(ROW(INDEX(CurrentListing_C089,MATCH(GL42,CurrentListing_C089,0),1)),20),DP42),HYPERLINK(\"#'C089'!\"&\"$V$12\",DP42))","v":"MC"},{"$f":"IFERROR(HYPERLINK(\"#'C089'!\"&ADDRESS(ROW(INDEX(CurrentListing_C089,MATCH(GM42,CurrentListing_C089,0),1)),20),DQ42),HYPERLINK(\"#'C089'!\"&\"$V$12\",DQ42))","v":"MC"},{"$f":"IFERROR(HYPERLINK(\"#'C089'!\"&ADDRESS(ROW(INDEX(CurrentListing_C089,MATCH(GN42,CurrentListing_C089,0),1)),20),DR42),HYPERLINK(\"#'C089'!\"&\"$V$12\",DR42))","v":"MC"},{"$f":"IFERROR(HYPERLINK(\"#'C089'!\"&ADDRESS(ROW(INDEX(CurrentListing_C089,MATCH(GO42,CurrentListing_C089,0),1)),20),DS42),HYPERLINK(\"#'C089'!\"&\"$V$12\",DS42))","v":"MC"},{"$f":"IFERROR(HYPERLINK(\"#'C089'!\"&ADDRESS(ROW(INDEX(CurrentListing_C089,MATCH(GP42,CurrentListing_C089,0),1)),20),DT42),HYPERLINK(\"#'C089'!\"&\"$V$12\",DT42))","v":"MC"},{"$f":"IFERROR(HYPERLINK(\"#'C089'!\"&ADDRESS(ROW(INDEX(CurrentListing_C089,MATCH(GQ42,CurrentListing_C089,0),1)),20),DU42),HYPERLINK(\"#'C089'!\"&\"$V$12\",DU42))","v":"MC"},{"$f":"IFERROR(HYPERLINK(\"#'C089'!\"&ADDRESS(ROW(INDEX(CurrentListing_C089,MATCH(GR42,CurrentListing_C089,0),1)),20),DV42),HYPERLINK(\"#'C089'!\"&\"$V$12\",DV42))","v":"MC"},0,{"$f":"IFERROR(HYPERLINK(\"#'C089'!\"&ADDRESS(ROW(INDEX(CurrentListing_C089,MATCH(GT42,CurrentListing_C089,0),1)),20),DX42),HYPERLINK(\"#'C089'!\"&\"$V$12\",DX42))","v":"MC"},{"$f":"IFERROR(HYPERLINK(\"#'C089'!\"&ADDRESS(ROW(INDEX(CurrentListing_C089,MATCH(GU42,CurrentListing_C089,0),1)),20),DY42),HYPERLINK(\"#'C089'!\"&\"$V$12\",DY42))","v":"MC"},{"$f":"IFERROR(HYPERLINK(\"#'C089'!\"&ADDRESS(ROW(INDEX(CurrentListing_C089,MATCH(GV42,CurrentListing_C089,0),1)),20),DZ42),HYPERLINK(\"#'C089'!\"&\"$V$12\",DZ42))","v":"MC"},{"$f":"IFERROR(HYPERLINK(\"#'C089'!\"&ADDRESS(ROW(INDEX(CurrentListing_C089,MATCH(GW42,CurrentListing_C089,0),1)),20),EA42),HYPERLINK(\"#'C089'!\"&\"$V$12\",EA42))","v":"MC"},{"$f":"IFERROR(HYPERLINK(\"#'C089'!\"&ADDRESS(ROW(INDEX(CurrentListing_C089,MATCH(GX42,CurrentListing_C089,0),1)),20),EB42),HYPERLINK(\"#'C089'!\"&\"$V$12\",EB42))","v":"MC"},{"$f":"IFERROR(HYPERLINK(\"#'C089'!\"&ADDRESS(ROW(INDEX(CurrentListing_C089,MATCH(GY42,CurrentListing_C089,0),1)),20),EC42),HYPERLINK(\"#'C089'!\"&\"$V$12\",EC42))","v":"MC"},{"$f":"IFERROR(HYPERLINK(\"#'C089'!\"&ADDRESS(ROW(INDEX(CurrentListing_C089,MATCH(GZ42,CurrentListing_C089,0),1)),20),ED42),HYPERLINK(\"#'C089'!\"&\"$V$12\",ED42))","v":"MC"},0,{"$f":"IFERROR(HYPERLINK(\"#'C089'!\"&ADDRESS(ROW(INDEX(CurrentListing_C089,MATCH(HB42,CurrentListing_C089,0),1)),20),EF42),HYPERLINK(\"#'C089'!\"&\"$V$12\",EF42))","v":"MC"},{"$f":"IFERROR(HYPERLINK(\"#'C089'!\"&ADDRESS(ROW(INDEX(CurrentListing_C089,MATCH(HC42,CurrentListing_C089,0),1)),20),EG42),HYPERLINK(\"#'C089'!\"&\"$V$12\",EG42))","v":"MC"},{"$f":"IFERROR(HYPERLINK(\"#'C089'!\"&ADDRESS(ROW(INDEX(CurrentListing_C089,MATCH(HD42,CurrentListing_C089,0),1)),20),EH42),HYPERLINK(\"#'C089'!\"&\"$V$12\",EH42))","v":"MC"},{"$f":"IFERROR(HYPERLINK(\"#'C089'!\"&ADDRESS(ROW(INDEX(CurrentListing_C089,MATCH(HE42,CurrentListing_C089,0),1)),20),EI42),HYPERLINK(\"#'C089'!\"&\"$V$12\",EI42))","v":"MC"},{"$f":"IFERROR(HYPERLINK(\"#'C089'!\"&ADDRESS(ROW(INDEX(CurrentListing_C089,MATCH(HF42,CurrentListing_C089,0),1)),20),EJ42),HYPERLINK(\"#'C089'!\"&\"$V$12\",EJ42))","v":"MC"},{"$f":"IFERROR(HYPERLINK(\"#'C089'!\"&ADDRESS(ROW(INDEX(CurrentListing_C089,MATCH(HG42,CurrentListing_C089,0),1)),20),EK42),HYPERLINK(\"#'C089'!\"&\"$V$12\",EK42))","v":"MC"},{"$f":"IFERROR(HYPERLINK(\"#'C089'!\"&ADDRESS(ROW(INDEX(CurrentListing_C089,MATCH(HH42,CurrentListing_C089,0),1)),20),EL42),HYPERLINK(\"#'C089'!\"&\"$V$12\",EL42))","v":"MC"},0,{"$f":"IFERROR(HYPERLINK(\"#'C089'!\"&ADDRESS(ROW(INDEX(CurrentListing_C089,MATCH(HJ42,CurrentListing_C089,0),1)),20),EN42),HYPERLINK(\"#'C089'!\"&\"$V$12\",EN42))","v":"MC"},{"$f":"IFERROR(HYPERLINK(\"#'C089'!\"&ADDRESS(ROW(INDEX(CurrentListing_C089,MATCH(HK42,CurrentListing_C089,0),1)),20),EO42),HYPERLINK(\"#'C089'!\"&\"$V$12\",EO42))","v":"MC"},{"$f":"IFERROR(HYPERLINK(\"#'C089'!\"&ADDRESS(ROW(INDEX(CurrentListing_C089,MATCH(HL42,CurrentListing_C089,0),1)),20),EP42),HYPERLINK(\"#'C089'!\"&\"$V$12\",EP42))","v":"MC"},{"$f":"IFERROR(HYPERLINK(\"#'C089'!\"&ADDRESS(ROW(INDEX(CurrentListing_C089,MATCH(HM42,CurrentListing_C089,0),1)),20),EQ42),HYPERLINK(\"#'C089'!\"&\"$V$12\",EQ42))","v":"MC"},{"$f":"IFERROR(HYPERLINK(\"#'C089'!\"&ADDRESS(ROW(INDEX(CurrentListing_C089,MATCH(HN42,CurrentListing_C089,0),1)),20),ER42),HYPERLINK(\"#'C089'!\"&\"$V$12\",ER42))","v":"MC"},{"$f":"IFERROR(HYPERLINK(\"#'C089'!\"&ADDRESS(ROW(INDEX(CurrentListing_C089,MATCH(HO42,CurrentListing_C089,0),1)),20),ES42),HYPERLINK(\"#'C089'!\"&\"$V$12\",ES42))","v":"MC"},{"$f":"IFERROR(HYPERLINK(\"#'C089'!\"&ADDRESS(ROW(INDEX(CurrentListing_C089,MATCH(HP42,CurrentListing_C089,0),1)),20),ET42),HYPERLINK(\"#'C089'!\"&\"$V$12\",ET42))","v":"MC"},0,0,null,null,null,null,"Specific Learning Disability","MC","MC","MC","MC","MC","MC","MC",null,"MC","MC","MC","MC","MC","MC","MC",null,"MC","MC","MC","MC","MC","MC","MC",null,"MC","MC","MC","MC","MC","MC","MC",null,"MC","MC","MC","MC","MC","MC","MC",null,"MC","MC","MC","MC","MC","MC","MC",null,"MC","MC","MC","MC","MC","MC","MC",null,"MC","MC","MC","MC","MC","MC","MC",null,"MC","MC","MC","MC","MC","MC","MC",null,null,"Specific Learning Disability","HI7SLDREC10YSVCSN","AM7SLDREC10YSVCSN","AS7SLDREC10YSVCSN","BL7SLDREC10YSVCSN","PI7SLDREC10YSVCSN","WH7SLDREC10YSVCSN","MU7SLDREC10YSVCSN",null,"HI7SLDREC10YOTHLOCN","AM7SLDREC10YOTHLOCN","AS7SLDREC10YOTHLOCN","BL7SLDREC10YOTHLOCN","PI7SLDREC10YOTHLOCN","WH7SLDREC10YOTHLOCN","MU7SLDREC10YOTHLOCN",null,"HI7SLDREC09YSVCSN","AM7SLDREC09YSVCSN","AS7SLDREC09YSVCSN","BL7SLDREC09YSVCSN","PI7SLDREC09YSVCSN","WH7SLDREC09YSVCSN","MU7SLDREC09YSVCSN",null,"HI7SLDREC09YOTHLOCN","AM7SLDREC09YOTHLOCN","AS7SLDREC09YOTHLOCN","BL7SLDREC09YOTHLOCN","PI7SLDREC09YOTHLOCN","WH7SLDREC09YOTHLOCN","MU7SLDREC09YOTHLOCN",null,"HI7SLDSCN","AM7SLDSCN","AS7SLDSCN","BL7SLDSCN","PI7SLDSCN","WH7SLDSCN","MU7SLDSCN",null,"HI7SLDSSN","AM7SLDSSN","AS7SLDSSN","BL7SLDSSN","PI7SLDSSN","WH7SLDSSN","MU7SLDSSN",null,"HI7SLDRFN","AM7SLDRFN","AS7SLDRFN","BL7SLDRFN","PI7SLDRFN","WH7SLDRFN","MU7SLDRFN",null,"HI7SLDHN","AM7SLDHN","AS7SLDHN","BL7SLDHN","PI7SLDHN","WH7SLDHN","MU7SLDHN",null,"HI7SLDSPLN","AM7SLDSPLN","AS7SLDSPLN","BL7SLDSPLN","PI7SLDSPLN","WH7SLDSPLN","MU7SLDSPLN"]
["Deaf-Blindness",{"$f":"IFERROR(HYPERLINK(\"#'C089'!\"&ADDRESS(ROW(INDEX(CurrentListing_C089,MATCH(EX43,CurrentListing_C089,0),1)),20),CB43),HYPERLINK(\"#'C089'!\"&\"$V$12\",CB43))","v":"MC"},{"$f":"IFERROR(HYPERLINK(\"#'C089'!\"&ADDRESS(ROW(INDEX(CurrentListing_C089,MATCH(EY43,CurrentListing_C089,0),1)),20),CC43),HYPERLINK(\"#'C089'!\"&\"$V$12\",CC43))","v":"MC"},{"$f":"IFERROR(HYPERLINK(\"#'C089'!\"&ADDRESS(ROW(INDEX(CurrentListing_C089,MATCH(EZ43,CurrentListing_C089,0),1)),20),CD43),HYPERLINK(\"#'C089'!\"&\"$V$12\",CD43))","v":"MC"},{"$f":"IFERROR(HYPERLINK(\"#'C089'!\"&ADDRESS(ROW(INDEX(CurrentListing_C089,MATCH(FA43,CurrentListing_C089,0),1)),20),CE43),HYPERLINK(\"#'C089'!\"&\"$V$12\",CE43))","v":"MC"},{"$f":"IFERROR(HYPERLINK(\"#'C089'!\"&ADDRESS(ROW(INDEX(CurrentListing_C089,MATCH(FB43,CurrentListing_C089,0),1)),20),CF43),HYPERLINK(\"#'C089'!\"&\"$V$12\",CF43))","v":"MC"},{"$f":"IFERROR(HYPERLINK(\"#'C089'!\"&ADDRESS(ROW(INDEX(CurrentListing_C089,MATCH(FC43,CurrentListing_C089,0),1)),20),CG43),HYPERLINK(\"#'C089'!\"&\"$V$12\",CG43))","v":"MC"},{"$f":"IFERROR(HYPERLINK(\"#'C089'!\"&ADDRESS(ROW(INDEX(CurrentListing_C089,MATCH(FD43,CurrentListing_C089,0),1)),20),CH43),HYPERLINK(\"#'C089'!\"&\"$V$12\",CH43))","v":"MC"},0,{"$f":"IFERROR(HYPERLINK(\"#'C089'!\"&ADDRESS(ROW(INDEX(CurrentListing_C089,MATCH(FF43,CurrentListing_C089,0),1)),20),CJ43),HYPERLINK(\"#'C089'!\"&\"$V$12\",CJ43))","v":"MC"},{"$f":"IFERROR(HYPERLINK(\"#'C089'!\"&ADDRESS(ROW(INDEX(CurrentListing_C089,MATCH(FG43,CurrentListing_C089,0),1)),20),CK43),HYPERLINK(\"#'C089'!\"&\"$V$12\",CK43))","v":"MC"},{"$f":"IFERROR(HYPERLINK(\"#'C089'!\"&ADDRESS(ROW(INDEX(CurrentListing_C089,MATCH(FH43,CurrentListing_C089,0),1)),20),CL43),HYPERLINK(\"#'C089'!\"&\"$V$12\",CL43))","v":"MC"},{"$f":"IFERROR(HYPERLINK(\"#'C089'!\"&ADDRESS(ROW(INDEX(CurrentListing_C089,MATCH(FI43,CurrentListing_C089,0),1)),20),CM43),HYPERLINK(\"#'C089'!\"&\"$V$12\",CM43))","v":"MC"},{"$f":"IFERROR(HYPERLINK(\"#'C089'!\"&ADDRESS(ROW(INDEX(CurrentListing_C089,MATCH(FJ43,CurrentListing_C089,0),1)),20),CN43),HYPERLINK(\"#'C089'!\"&\"$V$12\",CN43))","v":"MC"},{"$f":"IFERROR(HYPERLINK(\"#'C089'!\"&ADDRESS(ROW(INDEX(CurrentListing_C089,MATCH(FK43,CurrentListing_C089,0),1)),20),CO43),HYPERLINK(\"#'C089'!\"&\"$V$12\",CO43))","v":"MC"},{"$f":"IFERROR(HYPERLINK(\"#'C089'!\"&ADDRESS(ROW(INDEX(CurrentListing_C089,MATCH(FL43,CurrentListing_C089,0),1)),20),CP43),HYPERLINK(\"#'C089'!\"&\"$V$12\",CP43))","v":"MC"},0,{"$f":"IFERROR(HYPERLINK(\"#'C089'!\"&ADDRESS(ROW(INDEX(CurrentListing_C089,MATCH(FN43,CurrentListing_C089,0),1)),20),CR43),HYPERLINK(\"#'C089'!\"&\"$V$12\",CR43))","v":"MC"},{"$f":"IFERROR(HYPERLINK(\"#'C089'!\"&ADDRESS(ROW(INDEX(CurrentListing_C089,MATCH(FO43,CurrentListing_C089,0),1)),20),CS43),HYPERLINK(\"#'C089'!\"&\"$V$12\",CS43))","v":"MC"},{"$f":"IFERROR(HYPERLINK(\"#'C089'!\"&ADDRESS(ROW(INDEX(CurrentListing_C089,MATCH(FP43,CurrentListing_C089,0),1)),20),CT43),HYPERLINK(\"#'C089'!\"&\"$V$12\",CT43))","v":"MC"},{"$f":"IFERROR(HYPERLINK(\"#'C089'!\"&ADDRESS(ROW(INDEX(CurrentListing_C089,MATCH(FQ43,CurrentListing_C089,0),1)),20),CU43),HYPERLINK(\"#'C089'!\"&\"$V$12\",CU43))","v":"MC"},{"$f":"IFERROR(HYPERLINK(\"#'C089'!\"&ADDRESS(ROW(INDEX(CurrentListing_C089,MATCH(FR43,CurrentListing_C089,0),1)),20),CV43),HYPERLINK(\"#'C089'!\"&\"$V$12\",CV43))","v":"MC"},{"$f":"IFERROR(HYPERLINK(\"#'C089'!\"&ADDRESS(ROW(INDEX(CurrentListing_C089,MATCH(FS43,CurrentListing_C089,0),1)),20),CW43),HYPERLINK(\"#'C089'!\"&\"$V$12\",CW43))","v":"MC"},{"$f":"IFERROR(HYPERLINK(\"#'C089'!\"&ADDRESS(ROW(INDEX(CurrentListing_C089,MATCH(FT43,CurrentListing_C089,0),1)),20),CX43),HYPERLINK(\"#'C089'!\"&\"$V$12\",CX43))","v":"MC"},0,{"$f":"IFERROR(HYPERLINK(\"#'C089'!\"&ADDRESS(ROW(INDEX(CurrentListing_C089,MATCH(FV43,CurrentListing_C089,0),1)),20),CZ43),HYPERLINK(\"#'C089'!\"&\"$V$12\",CZ43))","v":"MC"},{"$f":"IFERROR(HYPERLINK(\"#'C089'!\"&ADDRESS(ROW(INDEX(CurrentListing_C089,MATCH(FW43,CurrentListing_C089,0),1)),20),DA43),HYPERLINK(\"#'C089'!\"&\"$V$12\",DA43))","v":"MC"},{"$f":"IFERROR(HYPERLINK(\"#'C089'!\"&ADDRESS(ROW(INDEX(CurrentListing_C089,MATCH(FX43,CurrentListing_C089,0),1)),20),DB43),HYPERLINK(\"#'C089'!\"&\"$V$12\",DB43))","v":"MC"},{"$f":"IFERROR(HYPERLINK(\"#'C089'!\"&ADDRESS(ROW(INDEX(CurrentListing_C089,MATCH(FY43,CurrentListing_C089,0),1)),20),DC43),HYPERLINK(\"#'C089'!\"&\"$V$12\",DC43))","v":"MC"},{"$f":"IFERROR(HYPERLINK(\"#'C089'!\"&ADDRESS(ROW(INDEX(CurrentListing_C089,MATCH(FZ43,CurrentListing_C089,0),1)),20),DD43),HYPERLINK(\"#'C089'!\"&\"$V$12\",DD43))","v":"MC"},{"$f":"IFERROR(HYPERLINK(\"#'C089'!\"&ADDRESS(ROW(INDEX(CurrentListing_C089,MATCH(GA43,CurrentListing_C089,0),1)),20),DE43),HYPERLINK(\"#'C089'!\"&\"$V$12\",DE43))","v":"MC"},{"$f":"IFERROR(HYPERLINK(\"#'C089'!\"&ADDRESS(ROW(INDEX(CurrentListing_C089,MATCH(GB43,CurrentListing_C089,0),1)),20),DF43),HYPERLINK(\"#'C089'!\"&\"$V$12\",DF43))","v":"MC"},0,{"$f":"IFERROR(HYPERLINK(\"#'C089'!\"&ADDRESS(ROW(INDEX(CurrentListing_C089,MATCH(GD43,CurrentListing_C089,0),1)),20),DH43),HYPERLINK(\"#'C089'!\"&\"$V$12\",DH43))","v":"MC"},{"$f":"IFERROR(HYPERLINK(\"#'C089'!\"&ADDRESS(ROW(INDEX(CurrentListing_C089,MATCH(GE43,CurrentListing_C089,0),1)),20),DI43),HYPERLINK(\"#'C089'!\"&\"$V$12\",DI43))","v":"MC"},{"$f":"IFERROR(HYPERLINK(\"#'C089'!\"&ADDRESS(ROW(INDEX(CurrentListing_C089,MATCH(GF43,CurrentListing_C089,0),1)),20),DJ43),HYPERLINK(\"#'C089'!\"&\"$V$12\",DJ43))","v":"MC"},{"$f":"IFERROR(HYPERLINK(\"#'C089'!\"&ADDRESS(ROW(INDEX(CurrentListing_C089,MATCH(GG43,CurrentListing_C089,0),1)),20),DK43),HYPERLINK(\"#'C089'!\"&\"$V$12\",DK43))","v":"MC"},{"$f":"IFERROR(HYPERLINK(\"#'C089'!\"&ADDRESS(ROW(INDEX(CurrentListing_C089,MATCH(GH43,CurrentListing_C089,0),1)),20),DL43),HYPERLINK(\"#'C089'!\"&\"$V$12\",DL43))","v":"MC"},{"$f":"IFERROR(HYPERLINK(\"#'C089'!\"&ADDRESS(ROW(INDEX(CurrentListing_C089,MATCH(GI43,CurrentListing_C089,0),1)),20),DM43),HYPERLINK(\"#'C089'!\"&\"$V$12\",DM43))","v":"MC"},{"$f":"IFERROR(HYPERLINK(\"#'C089'!\"&ADDRESS(ROW(INDEX(CurrentListing_C089,MATCH(GJ43,CurrentListing_C089,0),1)),20),DN43),HYPERLINK(\"#'C089'!\"&\"$V$12\",DN43))","v":"MC"},0,{"$f":"IFERROR(HYPERLINK(\"#'C089'!\"&ADDRESS(ROW(INDEX(CurrentListing_C089,MATCH(GL43,CurrentListing_C089,0),1)),20),DP43),HYPERLINK(\"#'C089'!\"&\"$V$12\",DP43))","v":"MC"},{"$f":"IFERROR(HYPERLINK(\"#'C089'!\"&ADDRESS(ROW(INDEX(CurrentListing_C089,MATCH(GM43,CurrentListing_C089,0),1)),20),DQ43),HYPERLINK(\"#'C089'!\"&\"$V$12\",DQ43))","v":"MC"},{"$f":"IFERROR(HYPERLINK(\"#'C089'!\"&ADDRESS(ROW(INDEX(CurrentListing_C089,MATCH(GN43,CurrentListing_C089,0),1)),20),DR43),HYPERLINK(\"#'C089'!\"&\"$V$12\",DR43))","v":"MC"},{"$f":"IFERROR(HYPERLINK(\"#'C089'!\"&ADDRESS(ROW(INDEX(CurrentListing_C089,MATCH(GO43,CurrentListing_C089,0),1)),20),DS43),HYPERLINK(\"#'C089'!\"&\"$V$12\",DS43))","v":"MC"},{"$f":"IFERROR(HYPERLINK(\"#'C089'!\"&ADDRESS(ROW(INDEX(CurrentListing_C089,MATCH(GP43,CurrentListing_C089,0),1)),20),DT43),HYPERLINK(\"#'C089'!\"&\"$V$12\",DT43))","v":"MC"},{"$f":"IFERROR(HYPERLINK(\"#'C089'!\"&ADDRESS(ROW(INDEX(CurrentListing_C089,MATCH(GQ43,CurrentListing_C089,0),1)),20),DU43),HYPERLINK(\"#'C089'!\"&\"$V$12\",DU43))","v":"MC"},{"$f":"IFERROR(HYPERLINK(\"#'C089'!\"&ADDRESS(ROW(INDEX(CurrentListing_C089,MATCH(GR43,CurrentListing_C089,0),1)),20),DV43),HYPERLINK(\"#'C089'!\"&\"$V$12\",DV43))","v":"MC"},0,{"$f":"IFERROR(HYPERLINK(\"#'C089'!\"&ADDRESS(ROW(INDEX(CurrentListing_C089,MATCH(GT43,CurrentListing_C089,0),1)),20),DX43),HYPERLINK(\"#'C089'!\"&\"$V$12\",DX43))","v":"MC"},{"$f":"IFERROR(HYPERLINK(\"#'C089'!\"&ADDRESS(ROW(INDEX(CurrentListing_C089,MATCH(GU43,CurrentListing_C089,0),1)),20),DY43),HYPERLINK(\"#'C089'!\"&\"$V$12\",DY43))","v":"MC"},{"$f":"IFERROR(HYPERLINK(\"#'C089'!\"&ADDRESS(ROW(INDEX(CurrentListing_C089,MATCH(GV43,CurrentListing_C089,0),1)),20),DZ43),HYPERLINK(\"#'C089'!\"&\"$V$12\",DZ43))","v":"MC"},{"$f":"IFERROR(HYPERLINK(\"#'C089'!\"&ADDRESS(ROW(INDEX(CurrentListing_C089,MATCH(GW43,CurrentListing_C089,0),1)),20),EA43),HYPERLINK(\"#'C089'!\"&\"$V$12\",EA43))","v":"MC"},{"$f":"IFERROR(HYPERLINK(\"#'C089'!\"&ADDRESS(ROW(INDEX(CurrentListing_C089,MATCH(GX43,CurrentListing_C089,0),1)),20),EB43),HYPERLINK(\"#'C089'!\"&\"$V$12\",EB43))","v":"MC"},{"$f":"IFERROR(HYPERLINK(\"#'C089'!\"&ADDRESS(ROW(INDEX(CurrentListing_C089,MATCH(GY43,CurrentListing_C089,0),1)),20),EC43),HYPERLINK(\"#'C089'!\"&\"$V$12\",EC43))","v":"MC"},{"$f":"IFERROR(HYPERLINK(\"#'C089'!\"&ADDRESS(ROW(INDEX(CurrentListing_C089,MATCH(GZ43,CurrentListing_C089,0),1)),20),ED43),HYPERLINK(\"#'C089'!\"&\"$V$12\",ED43))","v":"MC"},0,{"$f":"IFERROR(HYPERLINK(\"#'C089'!\"&ADDRESS(ROW(INDEX(CurrentListing_C089,MATCH(HB43,CurrentListing_C089,0),1)),20),EF43),HYPERLINK(\"#'C089'!\"&\"$V$12\",EF43))","v":"MC"},{"$f":"IFERROR(HYPERLINK(\"#'C089'!\"&ADDRESS(ROW(INDEX(CurrentListing_C089,MATCH(HC43,CurrentListing_C089,0),1)),20),EG43),HYPERLINK(\"#'C089'!\"&\"$V$12\",EG43))","v":"MC"},{"$f":"IFERROR(HYPERLINK(\"#'C089'!\"&ADDRESS(ROW(INDEX(CurrentListing_C089,MATCH(HD43,CurrentListing_C089,0),1)),20),EH43),HYPERLINK(\"#'C089'!\"&\"$V$12\",EH43))","v":"MC"},{"$f":"IFERROR(HYPERLINK(\"#'C089'!\"&ADDRESS(ROW(INDEX(CurrentListing_C089,MATCH(HE43,CurrentListing_C089,0),1)),20),EI43),HYPERLINK(\"#'C089'!\"&\"$V$12\",EI43))","v":"MC"},{"$f":"IFERROR(HYPERLINK(\"#'C089'!\"&ADDRESS(ROW(INDEX(CurrentListing_C089,MATCH(HF43,CurrentListing_C089,0),1)),20),EJ43),HYPERLINK(\"#'C089'!\"&\"$V$12\",EJ43))","v":"MC"},{"$f":"IFERROR(HYPERLINK(\"#'C089'!\"&ADDRESS(ROW(INDEX(CurrentListing_C089,MATCH(HG43,CurrentListing_C089,0),1)),20),EK43),HYPERLINK(\"#'C089'!\"&\"$V$12\",EK43))","v":"MC"},{"$f":"IFERROR(HYPERLINK(\"#'C089'!\"&ADDRESS(ROW(INDEX(CurrentListing_C089,MATCH(HH43,CurrentListing_C089,0),1)),20),EL43),HYPERLINK(\"#'C089'!\"&\"$V$12\",EL43))","v":"MC"},0,{"$f":"IFERROR(HYPERLINK(\"#'C089'!\"&ADDRESS(ROW(INDEX(CurrentListing_C089,MATCH(HJ43,CurrentListing_C089,0),1)),20),EN43),HYPERLINK(\"#'C089'!\"&\"$V$12\",EN43))","v":"MC"},{"$f":"IFERROR(HYPERLINK(\"#'C089'!\"&ADDRESS(ROW(INDEX(CurrentListing_C089,MATCH(HK43,CurrentListing_C089,0),1)),20),EO43),HYPERLINK(\"#'C089'!\"&\"$V$12\",EO43))","v":"MC"},{"$f":"IFERROR(HYPERLINK(\"#'C089'!\"&ADDRESS(ROW(INDEX(CurrentListing_C089,MATCH(HL43,CurrentListing_C089,0),1)),20),EP43),HYPERLINK(\"#'C089'!\"&\"$V$12\",EP43))","v":"MC"},{"$f":"IFERROR(HYPERLINK(\"#'C089'!\"&ADDRESS(ROW(INDEX(CurrentListing_C089,MATCH(HM43,CurrentListing_C089,0),1)),20),EQ43),HYPERLINK(\"#'C089'!\"&\"$V$12\",EQ43))","v":"MC"},{"$f":"IFERROR(HYPERLINK(\"#'C089'!\"&ADDRESS(ROW(INDEX(CurrentListing_C089,MATCH(HN43,CurrentListing_C089,0),1)),20),ER43),HYPERLINK(\"#'C089'!\"&\"$V$12\",ER43))","v":"MC"},{"$f":"IFERROR(HYPERLINK(\"#'C089'!\"&ADDRESS(ROW(INDEX(CurrentListing_C089,MATCH(HO43,CurrentListing_C089,0),1)),20),ES43),HYPERLINK(\"#'C089'!\"&\"$V$12\",ES43))","v":"MC"},{"$f":"IFERROR(HYPERLINK(\"#'C089'!\"&ADDRESS(ROW(INDEX(CurrentListing_C089,MATCH(HP43,CurrentListing_C089,0),1)),20),ET43),HYPERLINK(\"#'C089'!\"&\"$V$12\",ET43))","v":"MC"},0,0,null,null,null,null,"Deaf-Blindness","MC","MC","MC","MC","MC","MC","MC",null,"MC","MC","MC","MC","MC","MC","MC",null,"MC","MC","MC","MC","MC","MC","MC",null,"MC","MC","MC","MC","MC","MC","MC",null,"MC","MC","MC","MC","MC","MC","MC",null,"MC","MC","MC","MC","MC","MC","MC",null,"MC","MC","MC","MC","MC","MC","MC",null,"MC","MC","MC","MC","MC","MC","MC",null,"MC","MC","MC","MC","MC","MC","MC",null,null,"Deaf-Blindness","HI7DBREC10YSVCSN","AM7DBREC10YSVCSN","AS7DBREC10YSVCSN","BL7DBREC10YSVCSN","PI7DBREC10YSVCSN","WH7DBREC10YSVCSN","MU7DBREC10YSVCSN",null,"HI7DBREC10YOTHLOCN","AM7DBREC10YOTHLOCN","AS7DBREC10YOTHLOCN","BL7DBREC10YOTHLOCN","PI7DBREC10YOTHLOCN","WH7DBREC10YOTHLOCN","MU7DBREC10YOTHLOCN",null,"HI7DBREC09YSVCSN","AM7DBREC09YSVCSN","AS7DBREC09YSVCSN","BL7DBREC09YSVCSN","PI7DBREC09YSVCSN","WH7DBREC09YSVCSN","MU7DBREC09YSVCSN",null,"HI7DBREC09YOTHLOCN","AM7DBREC09YOTHLOCN","AS7DBREC09YOTHLOCN","BL7DBREC09YOTHLOCN","PI7DBREC09YOTHLOCN","WH7DBREC09YOTHLOCN","MU7DBREC09YOTHLOCN",null,"HI7DBSCN","AM7DBSCN","AS7DBSCN","BL7DBSCN","PI7DBSCN","WH7DBSCN","MU7DBSCN",null,"HI7DBSSN","AM7DBSSN","AS7DBSSN","BL7DBSSN","PI7DBSSN","WH7DBSSN","MU7DBSSN",null,"HI7DBRFN","AM7DBRFN","AS7DBRFN","BL7DBRFN","PI7DBRFN","WH7DBRFN","MU7DBRFN",null,"HI7DBHN","AM7DBHN","AS7DBHN","BL7DBHN","PI7DBHN","WH7DBHN","MU7DBHN",null,"HI7DBSPLN","AM7DBSPLN","AS7DBSPLN","BL7DBSPLN","PI7DBSPLN","WH7DBSPLN","MU7DBSPLN"]
["Multiple Disabilities",{"$f":"IFERROR(HYPERLINK(\"#'C089'!\"&ADDRESS(ROW(INDEX(CurrentListing_C089,MATCH(EX44,CurrentListing_C089,0),1)),20),CB44),HYPERLINK(\"#'C089'!\"&\"$V$12\",CB44))","v":"MC"},{"$f":"IFERROR(HYPERLINK(\"#'C089'!\"&ADDRESS(ROW(INDEX(CurrentListing_C089,MATCH(EY44,CurrentListing_C089,0),1)),20),CC44),HYPERLINK(\"#'C089'!\"&\"$V$12\",CC44))","v":"MC"},{"$f":"IFERROR(HYPERLINK(\"#'C089'!\"&ADDRESS(ROW(INDEX(CurrentListing_C089,MATCH(EZ44,CurrentListing_C089,0),1)),20),CD44),HYPERLINK(\"#'C089'!\"&\"$V$12\",CD44))","v":"MC"},{"$f":"IFERROR(HYPERLINK(\"#'C089'!\"&ADDRESS(ROW(INDEX(CurrentListing_C089,MATCH(FA44,CurrentListing_C089,0),1)),20),CE44),HYPERLINK(\"#'C089'!\"&\"$V$12\",CE44))","v":"MC"},{"$f":"IFERROR(HYPERLINK(\"#'C089'!\"&ADDRESS(ROW(INDEX(CurrentListing_C089,MATCH(FB44,CurrentListing_C089,0),1)),20),CF44),HYPERLINK(\"#'C089'!\"&\"$V$12\",CF44))","v":"MC"},{"$f":"IFERROR(HYPERLINK(\"#'C089'!\"&ADDRESS(ROW(INDEX(CurrentListing_C089,MATCH(FC44,CurrentListing_C089,0),1)),20),CG44),HYPERLINK(\"#'C089'!\"&\"$V$12\",CG44))","v":"MC"},{"$f":"IFERROR(HYPERLINK(\"#'C089'!\"&ADDRESS(ROW(INDEX(CurrentListing_C089,MATCH(FD44,CurrentListing_C089,0),1)),20),CH44),HYPERLINK(\"#'C089'!\"&\"$V$12\",CH44))","v":"MC"},0,{"$f":"IFERROR(HYPERLINK(\"#'C089'!\"&ADDRESS(ROW(INDEX(CurrentListing_C089,MATCH(FF44,CurrentListing_C089,0),1)),20),CJ44),HYPERLINK(\"#'C089'!\"&\"$V$12\",CJ44))","v":"MC"},{"$f":"IFERROR(HYPERLINK(\"#'C089'!\"&ADDRESS(ROW(INDEX(CurrentListing_C089,MATCH(FG44,CurrentListing_C089,0),1)),20),CK44),HYPERLINK(\"#'C089'!\"&\"$V$12\",CK44))","v":"MC"},{"$f":"IFERROR(HYPERLINK(\"#'C089'!\"&ADDRESS(ROW(INDEX(CurrentListing_C089,MATCH(FH44,CurrentListing_C089,0),1)),20),CL44),HYPERLINK(\"#'C089'!\"&\"$V$12\",CL44))","v":"MC"},{"$f":"IFERROR(HYPERLINK(\"#'C089'!\"&ADDRESS(ROW(INDEX(CurrentListing_C089,MATCH(FI44,CurrentListing_C089,0),1)),20),CM44),HYPERLINK(\"#'C089'!\"&\"$V$12\",CM44))","v":"MC"},{"$f":"IFERROR(HYPERLINK(\"#'C089'!\"&ADDRESS(ROW(INDEX(CurrentListing_C089,MATCH(FJ44,CurrentListing_C089,0),1)),20),CN44),HYPERLINK(\"#'C089'!\"&\"$V$12\",CN44))","v":"MC"},{"$f":"IFERROR(HYPERLINK(\"#'C089'!\"&ADDRESS(ROW(INDEX(CurrentListing_C089,MATCH(FK44,CurrentListing_C089,0),1)),20),CO44),HYPERLINK(\"#'C089'!\"&\"$V$12\",CO44))","v":"MC"},{"$f":"IFERROR(HYPERLINK(\"#'C089'!\"&ADDRESS(ROW(INDEX(CurrentListing_C089,MATCH(FL44,CurrentListing_C089,0),1)),20),CP44),HYPERLINK(\"#'C089'!\"&\"$V$12\",CP44))","v":"MC"},0,{"$f":"IFERROR(HYPERLINK(\"#'C089'!\"&ADDRESS(ROW(INDEX(CurrentListing_C089,MATCH(FN44,CurrentListing_C089,0),1)),20),CR44),HYPERLINK(\"#'C089'!\"&\"$V$12\",CR44))","v":"MC"},{"$f":"IFERROR(HYPERLINK(\"#'C089'!\"&ADDRESS(ROW(INDEX(CurrentListing_C089,MATCH(FO44,CurrentListing_C089,0),1)),20),CS44),HYPERLINK(\"#'C089'!\"&\"$V$12\",CS44))","v":"MC"},{"$f":"IFERROR(HYPERLINK(\"#'C089'!\"&ADDRESS(ROW(INDEX(CurrentListing_C089,MATCH(FP44,CurrentListing_C089,0),1)),20),CT44),HYPERLINK(\"#'C089'!\"&\"$V$12\",CT44))","v":"MC"},{"$f":"IFERROR(HYPERLINK(\"#'C089'!\"&ADDRESS(ROW(INDEX(CurrentListing_C089,MATCH(FQ44,CurrentListing_C089,0),1)),20),CU44),HYPERLINK(\"#'C089'!\"&\"$V$12\",CU44))","v":"MC"},{"$f":"IFERROR(HYPERLINK(\"#'C089'!\"&ADDRESS(ROW(INDEX(CurrentListing_C089,MATCH(FR44,CurrentListing_C089,0),1)),20),CV44),HYPERLINK(\"#'C089'!\"&\"$V$12\",CV44))","v":"MC"},{"$f":"IFERROR(HYPERLINK(\"#'C089'!\"&ADDRESS(ROW(INDEX(CurrentListing_C089,MATCH(FS44,CurrentListing_C089,0),1)),20),CW44),HYPERLINK(\"#'C089'!\"&\"$V$12\",CW44))","v":"MC"},{"$f":"IFERROR(HYPERLINK(\"#'C089'!\"&ADDRESS(ROW(INDEX(CurrentListing_C089,MATCH(FT44,CurrentListing_C089,0),1)),20),CX44),HYPERLINK(\"#'C089'!\"&\"$V$12\",CX44))","v":"MC"},0,{"$f":"IFERROR(HYPERLINK(\"#'C089'!\"&ADDRESS(ROW(INDEX(CurrentListing_C089,MATCH(FV44,CurrentListing_C089,0),1)),20),CZ44),HYPERLINK(\"#'C089'!\"&\"$V$12\",CZ44))","v":"MC"},{"$f":"IFERROR(HYPERLINK(\"#'C089'!\"&ADDRESS(ROW(INDEX(CurrentListing_C089,MATCH(FW44,CurrentListing_C089,0),1)),20),DA44),HYPERLINK(\"#'C089'!\"&\"$V$12\",DA44))","v":"MC"},{"$f":"IFERROR(HYPERLINK(\"#'C089'!\"&ADDRESS(ROW(INDEX(CurrentListing_C089,MATCH(FX44,CurrentListing_C089,0),1)),20),DB44),HYPERLINK(\"#'C089'!\"&\"$V$12\",DB44))","v":"MC"},{"$f":"IFERROR(HYPERLINK(\"#'C089'!\"&ADDRESS(ROW(INDEX(CurrentListing_C089,MATCH(FY44,CurrentListing_C089,0),1)),20),DC44),HYPERLINK(\"#'C089'!\"&\"$V$12\",DC44))","v":"MC"},{"$f":"IFERROR(HYPERLINK(\"#'C089'!\"&ADDRESS(ROW(INDEX(CurrentListing_C089,MATCH(FZ44,CurrentListing_C089,0),1)),20),DD44),HYPERLINK(\"#'C089'!\"&\"$V$12\",DD44))","v":"MC"},{"$f":"IFERROR(HYPERLINK(\"#'C089'!\"&ADDRESS(ROW(INDEX(CurrentListing_C089,MATCH(GA44,CurrentListing_C089,0),1)),20),DE44),HYPERLINK(\"#'C089'!\"&\"$V$12\",DE44))","v":"MC"},{"$f":"IFERROR(HYPERLINK(\"#'C089'!\"&ADDRESS(ROW(INDEX(CurrentListing_C089,MATCH(GB44,CurrentListing_C089,0),1)),20),DF44),HYPERLINK(\"#'C089'!\"&\"$V$12\",DF44))","v":"MC"},0,{"$f":"IFERROR(HYPERLINK(\"#'C089'!\"&ADDRESS(ROW(INDEX(CurrentListing_C089,MATCH(GD44,CurrentListing_C089,0),1)),20),DH44),HYPERLINK(\"#'C089'!\"&\"$V$12\",DH44))","v":"MC"},{"$f":"IFERROR(HYPERLINK(\"#'C089'!\"&ADDRESS(ROW(INDEX(CurrentListing_C089,MATCH(GE44,CurrentListing_C089,0),1)),20),DI44),HYPERLINK(\"#'C089'!\"&\"$V$12\",DI44))","v":"MC"},{"$f":"IFERROR(HYPERLINK(\"#'C089'!\"&ADDRESS(ROW(INDEX(CurrentListing_C089,MATCH(GF44,CurrentListing_C089,0),1)),20),DJ44),HYPERLINK(\"#'C089'!\"&\"$V$12\",DJ44))","v":"MC"},{"$f":"IFERROR(HYPERLINK(\"#'C089'!\"&ADDRESS(ROW(INDEX(CurrentListing_C089,MATCH(GG44,CurrentListing_C089,0),1)),20),DK44),HYPERLINK(\"#'C089'!\"&\"$V$12\",DK44))","v":"MC"},{"$f":"IFERROR(HYPERLINK(\"#'C089'!\"&ADDRESS(ROW(INDEX(CurrentListing_C089,MATCH(GH44,CurrentListing_C089,0),1)),20),DL44),HYPERLINK(\"#'C089'!\"&\"$V$12\",DL44))","v":"MC"},{"$f":"IFERROR(HYPERLINK(\"#'C089'!\"&ADDRESS(ROW(INDEX(CurrentListing_C089,MATCH(GI44,CurrentListing_C089,0),1)),20),DM44),HYPERLINK(\"#'C089'!\"&\"$V$12\",DM44))","v":"MC"},{"$f":"IFERROR(HYPERLINK(\"#'C089'!\"&ADDRESS(ROW(INDEX(CurrentListing_C089,MATCH(GJ44,CurrentListing_C089,0),1)),20),DN44),HYPERLINK(\"#'C089'!\"&\"$V$12\",DN44))","v":"MC"},0,{"$f":"IFERROR(HYPERLINK(\"#'C089'!\"&ADDRESS(ROW(INDEX(CurrentListing_C089,MATCH(GL44,CurrentListing_C089,0),1)),20),DP44),HYPERLINK(\"#'C089'!\"&\"$V$12\",DP44))","v":"MC"},{"$f":"IFERROR(HYPERLINK(\"#'C089'!\"&ADDRESS(ROW(INDEX(CurrentListing_C089,MATCH(GM44,CurrentListing_C089,0),1)),20),DQ44),HYPERLINK(\"#'C089'!\"&\"$V$12\",DQ44))","v":"MC"},{"$f":"IFERROR(HYPERLINK(\"#'C089'!\"&ADDRESS(ROW(INDEX(CurrentListing_C089,MATCH(GN44,CurrentListing_C089,0),1)),20),DR44),HYPERLINK(\"#'C089'!\"&\"$V$12\",DR44))","v":"MC"},{"$f":"IFERROR(HYPERLINK(\"#'C089'!\"&ADDRESS(ROW(INDEX(CurrentListing_C089,MATCH(GO44,CurrentListing_C089,0),1)),20),DS44),HYPERLINK(\"#'C089'!\"&\"$V$12\",DS44))","v":"MC"},{"$f":"IFERROR(HYPERLINK(\"#'C089'!\"&ADDRESS(ROW(INDEX(CurrentListing_C089,MATCH(GP44,CurrentListing_C089,0),1)),20),DT44),HYPERLINK(\"#'C089'!\"&\"$V$12\",DT44))","v":"MC"},{"$f":"IFERROR(HYPERLINK(\"#'C089'!\"&ADDRESS(ROW(INDEX(CurrentListing_C089,MATCH(GQ44,CurrentListing_C089,0),1)),20),DU44),HYPERLINK(\"#'C089'!\"&\"$V$12\",DU44))","v":"MC"},{"$f":"IFERROR(HYPERLINK(\"#'C089'!\"&ADDRESS(ROW(INDEX(CurrentListing_C089,MATCH(GR44,CurrentListing_C089,0),1)),20),DV44),HYPERLINK(\"#'C089'!\"&\"$V$12\",DV44))","v":"MC"},0,{"$f":"IFERROR(HYPERLINK(\"#'C089'!\"&ADDRESS(ROW(INDEX(CurrentListing_C089,MATCH(GT44,CurrentListing_C089,0),1)),20),DX44),HYPERLINK(\"#'C089'!\"&\"$V$12\",DX44))","v":"MC"},{"$f":"IFERROR(HYPERLINK(\"#'C089'!\"&ADDRESS(ROW(INDEX(CurrentListing_C089,MATCH(GU44,CurrentListing_C089,0),1)),20),DY44),HYPERLINK(\"#'C089'!\"&\"$V$12\",DY44))","v":"MC"},{"$f":"IFERROR(HYPERLINK(\"#'C089'!\"&ADDRESS(ROW(INDEX(CurrentListing_C089,MATCH(GV44,CurrentListing_C089,0),1)),20),DZ44),HYPERLINK(\"#'C089'!\"&\"$V$12\",DZ44))","v":"MC"},{"$f":"IFERROR(HYPERLINK(\"#'C089'!\"&ADDRESS(ROW(INDEX(CurrentListing_C089,MATCH(GW44,CurrentListing_C089,0),1)),20),EA44),HYPERLINK(\"#'C089'!\"&\"$V$12\",EA44))","v":"MC"},{"$f":"IFERROR(HYPERLINK(\"#'C089'!\"&ADDRESS(ROW(INDEX(CurrentListing_C089,MATCH(GX44,CurrentListing_C089,0),1)),20),EB44),HYPERLINK(\"#'C089'!\"&\"$V$12\",EB44))","v":"MC"},{"$f":"IFERROR(HYPERLINK(\"#'C089'!\"&ADDRESS(ROW(INDEX(CurrentListing_C089,MATCH(GY44,CurrentListing_C089,0),1)),20),EC44),HYPERLINK(\"#'C089'!\"&\"$V$12\",EC44))","v":"MC"},{"$f":"IFERROR(HYPERLINK(\"#'C089'!\"&ADDRESS(ROW(INDEX(CurrentListing_C089,MATCH(GZ44,CurrentListing_C089,0),1)),20),ED44),HYPERLINK(\"#'C089'!\"&\"$V$12\",ED44))","v":"MC"},0,{"$f":"IFERROR(HYPERLINK(\"#'C089'!\"&ADDRESS(ROW(INDEX(CurrentListing_C089,MATCH(HB44,CurrentListing_C089,0),1)),20),EF44),HYPERLINK(\"#'C089'!\"&\"$V$12\",EF44))","v":"MC"},{"$f":"IFERROR(HYPERLINK(\"#'C089'!\"&ADDRESS(ROW(INDEX(CurrentListing_C089,MATCH(HC44,CurrentListing_C089,0),1)),20),EG44),HYPERLINK(\"#'C089'!\"&\"$V$12\",EG44))","v":"MC"},{"$f":"IFERROR(HYPERLINK(\"#'C089'!\"&ADDRESS(ROW(INDEX(CurrentListing_C089,MATCH(HD44,CurrentListing_C089,0),1)),20),EH44),HYPERLINK(\"#'C089'!\"&\"$V$12\",EH44))","v":"MC"},{"$f":"IFERROR(HYPERLINK(\"#'C089'!\"&ADDRESS(ROW(INDEX(CurrentListing_C089,MATCH(HE44,CurrentListing_C089,0),1)),20),EI44),HYPERLINK(\"#'C089'!\"&\"$V$12\",EI44))","v":"MC"},{"$f":"IFERROR(HYPERLINK(\"#'C089'!\"&ADDRESS(ROW(INDEX(CurrentListing_C089,MATCH(HF44,CurrentListing_C089,0),1)),20),EJ44),HYPERLINK(\"#'C089'!\"&\"$V$12\",EJ44))","v":"MC"},{"$f":"IFERROR(HYPERLINK(\"#'C089'!\"&ADDRESS(ROW(INDEX(CurrentListing_C089,MATCH(HG44,CurrentListing_C089,0),1)),20),EK44),HYPERLINK(\"#'C089'!\"&\"$V$12\",EK44))","v":"MC"},{"$f":"IFERROR(HYPERLINK(\"#'C089'!\"&ADDRESS(ROW(INDEX(CurrentListing_C089,MATCH(HH44,CurrentListing_C089,0),1)),20),EL44),HYPERLINK(\"#'C089'!\"&\"$V$12\",EL44))","v":"MC"},0,{"$f":"IFERROR(HYPERLINK(\"#'C089'!\"&ADDRESS(ROW(INDEX(CurrentListing_C089,MATCH(HJ44,CurrentListing_C089,0),1)),20),EN44),HYPERLINK(\"#'C089'!\"&\"$V$12\",EN44))","v":"MC"},{"$f":"IFERROR(HYPERLINK(\"#'C089'!\"&ADDRESS(ROW(INDEX(CurrentListing_C089,MATCH(HK44,CurrentListing_C089,0),1)),20),EO44),HYPERLINK(\"#'C089'!\"&\"$V$12\",EO44))","v":"MC"},{"$f":"IFERROR(HYPERLINK(\"#'C089'!\"&ADDRESS(ROW(INDEX(CurrentListing_C089,MATCH(HL44,CurrentListing_C089,0),1)),20),EP44),HYPERLINK(\"#'C089'!\"&\"$V$12\",EP44))","v":"MC"},{"$f":"IFERROR(HYPERLINK(\"#'C089'!\"&ADDRESS(ROW(INDEX(CurrentListing_C089,MATCH(HM44,CurrentListing_C089,0),1)),20),EQ44),HYPERLINK(\"#'C089'!\"&\"$V$12\",EQ44))","v":"MC"},{"$f":"IFERROR(HYPERLINK(\"#'C089'!\"&ADDRESS(ROW(INDEX(CurrentListing_C089,MATCH(HN44,CurrentListing_C089,0),1)),20),ER44),HYPERLINK(\"#'C089'!\"&\"$V$12\",ER44))","v":"MC"},{"$f":"IFERROR(HYPERLINK(\"#'C089'!\"&ADDRESS(ROW(INDEX(CurrentListing_C089,MATCH(HO44,CurrentListing_C089,0),1)),20),ES44),HYPERLINK(\"#'C089'!\"&\"$V$12\",ES44))","v":"MC"},{"$f":"IFERROR(HYPERLINK(\"#'C089'!\"&ADDRESS(ROW(INDEX(CurrentListing_C089,MATCH(HP44,CurrentListing_C089,0),1)),20),ET44),HYPERLINK(\"#'C089'!\"&\"$V$12\",ET44))","v":"MC"},0,0,null,null,null,null,"Multiple Disabilities","MC","MC","MC","MC","MC","MC","MC",null,"MC","MC","MC","MC","MC","MC","MC",null,"MC","MC","MC","MC","MC","MC","MC",null,"MC","MC","MC","MC","MC","MC","MC",null,"MC","MC","MC","MC","MC","MC","MC",null,"MC","MC","MC","MC","MC","MC","MC",null,"MC","MC","MC","MC","MC","MC","MC",null,"MC","MC","MC","MC","MC","MC","MC",null,"MC","MC","MC","MC","MC","MC","MC",null,null,"Multiple Disabilities","HI7MDREC10YSVCSN","AM7MDREC10YSVCSN","AS7MDREC10YSVCSN","BL7MDREC10YSVCSN","PI7MDREC10YSVCSN","WH7MDREC10YSVCSN","MU7MDREC10YSVCSN",null,"HI7MDREC10YOTHLOCN","AM7MDREC10YOTHLOCN","AS7MDREC10YOTHLOCN","BL7MDREC10YOTHLOCN","PI7MDREC10YOTHLOCN","WH7MDREC10YOTHLOCN","MU7MDREC10YOTHLOCN",null,"HI7MDREC09YSVCSN","AM7MDREC09YSVCSN","AS7MDREC09YSVCSN","BL7MDREC09YSVCSN","PI7MDREC09YSVCSN","WH7MDREC09YSVCSN","MU7MDREC09YSVCSN",null,"HI7MDREC09YOTHLOCN","AM7MDREC09YOTHLOCN","AS7MDREC09YOTHLOCN","BL7MDREC09YOTHLOCN","PI7MDREC09YOTHLOCN","WH7MDREC09YOTHLOCN","MU7MDREC09YOTHLOCN",null,"HI7MDSCN","AM7MDSCN","AS7MDSCN","BL7MDSCN","PI7MDSCN","WH7MDSCN","MU7MDSCN",null,"HI7MDSSN","AM7MDSSN","AS7MDSSN","BL7MDSSN","PI7MDSSN","WH7MDSSN","MU7MDSSN",null,"HI7MDRFN","AM7MDRFN","AS7MDRFN","BL7MDRFN","PI7MDRFN","WH7MDRFN","MU7MDRFN",null,"HI7MDHN","AM7MDHN","AS7MDHN","BL7MDHN","PI7MDHN","WH7MDHN","MU7MDHN",null,"HI7MDSPLN","AM7MDSPLN","AS7MDSPLN","BL7MDSPLN","PI7MDSPLN","WH7MDSPLN","MU7MDSPLN"]
["Autism",{"$f":"IFERROR(HYPERLINK(\"#'C089'!\"&ADDRESS(ROW(INDEX(CurrentListing_C089,MATCH(EX45,CurrentListing_C089,0),1)),20),CB45),HYPERLINK(\"#'C089'!\"&\"$V$12\",CB45))","v":"MC"},{"$f":"IFERROR(HYPERLINK(\"#'C089'!\"&ADDRESS(ROW(INDEX(CurrentListing_C089,MATCH(EY45,CurrentListing_C089,0),1)),20),CC45),HYPERLINK(\"#'C089'!\"&\"$V$12\",CC45))","v":"MC"},{"$f":"IFERROR(HYPERLINK(\"#'C089'!\"&ADDRESS(ROW(INDEX(CurrentListing_C089,MATCH(EZ45,CurrentListing_C089,0),1)),20),CD45),HYPERLINK(\"#'C089'!\"&\"$V$12\",CD45))","v":"MC"},{"$f":"IFERROR(HYPERLINK(\"#'C089'!\"&ADDRESS(ROW(INDEX(CurrentListing_C089,MATCH(FA45,CurrentListing_C089,0),1)),20),CE45),HYPERLINK(\"#'C089'!\"&\"$V$12\",CE45))","v":"MC"},{"$f":"IFERROR(HYPERLINK(\"#'C089'!\"&ADDRESS(ROW(INDEX(CurrentListing_C089,MATCH(FB45,CurrentListing_C089,0),1)),20),CF45),HYPERLINK(\"#'C089'!\"&\"$V$12\",CF45))","v":"MC"},{"$f":"IFERROR(HYPERLINK(\"#'C089'!\"&ADDRESS(ROW(INDEX(CurrentListing_C089,MATCH(FC45,CurrentListing_C089,0),1)),20),CG45),HYPERLINK(\"#'C089'!\"&\"$V$12\",CG45))","v":"MC"},{"$f":"IFERROR(HYPERLINK(\"#'C089'!\"&ADDRESS(ROW(INDEX(CurrentListing_C089,MATCH(FD45,CurrentListing_C089,0),1)),20),CH45),HYPERLINK(\"#'C089'!\"&\"$V$12\",CH45))","v":"MC"},0,{"$f":"IFERROR(HYPERLINK(\"#'C089'!\"&ADDRESS(ROW(INDEX(CurrentListing_C089,MATCH(FF45,CurrentListing_C089,0),1)),20),CJ45),HYPERLINK(\"#'C089'!\"&\"$V$12\",CJ45))","v":"MC"},{"$f":"IFERROR(HYPERLINK(\"#'C089'!\"&ADDRESS(ROW(INDEX(CurrentListing_C089,MATCH(FG45,CurrentListing_C089,0),1)),20),CK45),HYPERLINK(\"#'C089'!\"&\"$V$12\",CK45))","v":"MC"},{"$f":"IFERROR(HYPERLINK(\"#'C089'!\"&ADDRESS(ROW(INDEX(CurrentListing_C089,MATCH(FH45,CurrentListing_C089,0),1)),20),CL45),HYPERLINK(\"#'C089'!\"&\"$V$12\",CL45))","v":"MC"},{"$f":"IFERROR(HYPERLINK(\"#'C089'!\"&ADDRESS(ROW(INDEX(CurrentListing_C089,MATCH(FI45,CurrentListing_C089,0),1)),20),CM45),HYPERLINK(\"#'C089'!\"&\"$V$12\",CM45))","v":"MC"},{"$f":"IFERROR(HYPERLINK(\"#'C089'!\"&ADDRESS(ROW(INDEX(CurrentListing_C089,MATCH(FJ45,CurrentListing_C089,0),1)),20),CN45),HYPERLINK(\"#'C089'!\"&\"$V$12\",CN45))","v":"MC"},{"$f":"IFERROR(HYPERLINK(\"#'C089'!\"&ADDRESS(ROW(INDEX(CurrentListing_C089,MATCH(FK45,CurrentListing_C089,0),1)),20),CO45),HYPERLINK(\"#'C089'!\"&\"$V$12\",CO45))","v":"MC"},{"$f":"IFERROR(HYPERLINK(\"#'C089'!\"&ADDRESS(ROW(INDEX(CurrentListing_C089,MATCH(FL45,CurrentListing_C089,0),1)),20),CP45),HYPERLINK(\"#'C089'!\"&\"$V$12\",CP45))","v":"MC"},0,{"$f":"IFERROR(HYPERLINK(\"#'C089'!\"&ADDRESS(ROW(INDEX(CurrentListing_C089,MATCH(FN45,CurrentListing_C089,0),1)),20),CR45),HYPERLINK(\"#'C089'!\"&\"$V$12\",CR45))","v":"MC"},{"$f":"IFERROR(HYPERLINK(\"#'C089'!\"&ADDRESS(ROW(INDEX(CurrentListing_C089,MATCH(FO45,CurrentListing_C089,0),1)),20),CS45),HYPERLINK(\"#'C089'!\"&\"$V$12\",CS45))","v":"MC"},{"$f":"IFERROR(HYPERLINK(\"#'C089'!\"&ADDRESS(ROW(INDEX(CurrentListing_C089,MATCH(FP45,CurrentListing_C089,0),1)),20),CT45),HYPERLINK(\"#'C089'!\"&\"$V$12\",CT45))","v":"MC"},{"$f":"IFERROR(HYPERLINK(\"#'C089'!\"&ADDRESS(ROW(INDEX(CurrentListing_C089,MATCH(FQ45,CurrentListing_C089,0),1)),20),CU45),HYPERLINK(\"#'C089'!\"&\"$V$12\",CU45))","v":"MC"},{"$f":"IFERROR(HYPERLINK(\"#'C089'!\"&ADDRESS(ROW(INDEX(CurrentListing_C089,MATCH(FR45,CurrentListing_C089,0),1)),20),CV45),HYPERLINK(\"#'C089'!\"&\"$V$12\",CV45))","v":"MC"},{"$f":"IFERROR(HYPERLINK(\"#'C089'!\"&ADDRESS(ROW(INDEX(CurrentListing_C089,MATCH(FS45,CurrentListing_C089,0),1)),20),CW45),HYPERLINK(\"#'C089'!\"&\"$V$12\",CW45))","v":"MC"},{"$f":"IFERROR(HYPERLINK(\"#'C089'!\"&ADDRESS(ROW(INDEX(CurrentListing_C089,MATCH(FT45,CurrentListing_C089,0),1)),20),CX45),HYPERLINK(\"#'C089'!\"&\"$V$12\",CX45))","v":"MC"},0,{"$f":"IFERROR(HYPERLINK(\"#'C089'!\"&ADDRESS(ROW(INDEX(CurrentListing_C089,MATCH(FV45,CurrentListing_C089,0),1)),20),CZ45),HYPERLINK(\"#'C089'!\"&\"$V$12\",CZ45))","v":"MC"},{"$f":"IFERROR(HYPERLINK(\"#'C089'!\"&ADDRESS(ROW(INDEX(CurrentListing_C089,MATCH(FW45,CurrentListing_C089,0),1)),20),DA45),HYPERLINK(\"#'C089'!\"&\"$V$12\",DA45))","v":"MC"},{"$f":"IFERROR(HYPERLINK(\"#'C089'!\"&ADDRESS(ROW(INDEX(CurrentListing_C089,MATCH(FX45,CurrentListing_C089,0),1)),20),DB45),HYPERLINK(\"#'C089'!\"&\"$V$12\",DB45))","v":"MC"},{"$f":"IFERROR(HYPERLINK(\"#'C089'!\"&ADDRESS(ROW(INDEX(CurrentListing_C089,MATCH(FY45,CurrentListing_C089,0),1)),20),DC45),HYPERLINK(\"#'C089'!\"&\"$V$12\",DC45))","v":"MC"},{"$f":"IFERROR(HYPERLINK(\"#'C089'!\"&ADDRESS(ROW(INDEX(CurrentListing_C089,MATCH(FZ45,CurrentListing_C089,0),1)),20),DD45),HYPERLINK(\"#'C089'!\"&\"$V$12\",DD45))","v":"MC"},{"$f":"IFERROR(HYPERLINK(\"#'C089'!\"&ADDRESS(ROW(INDEX(CurrentListing_C089,MATCH(GA45,CurrentListing_C089,0),1)),20),DE45),HYPERLINK(\"#'C089'!\"&\"$V$12\",DE45))","v":"MC"},{"$f":"IFERROR(HYPERLINK(\"#'C089'!\"&ADDRESS(ROW(INDEX(CurrentListing_C089,MATCH(GB45,CurrentListing_C089,0),1)),20),DF45),HYPERLINK(\"#'C089'!\"&\"$V$12\",DF45))","v":"MC"},0,{"$f":"IFERROR(HYPERLINK(\"#'C089'!\"&ADDRESS(ROW(INDEX(CurrentListing_C089,MATCH(GD45,CurrentListing_C089,0),1)),20),DH45),HYPERLINK(\"#'C089'!\"&\"$V$12\",DH45))","v":"MC"},{"$f":"IFERROR(HYPERLINK(\"#'C089'!\"&ADDRESS(ROW(INDEX(CurrentListing_C089,MATCH(GE45,CurrentListing_C089,0),1)),20),DI45),HYPERLINK(\"#'C089'!\"&\"$V$12\",DI45))","v":"MC"},{"$f":"IFERROR(HYPERLINK(\"#'C089'!\"&ADDRESS(ROW(INDEX(CurrentListing_C089,MATCH(GF45,CurrentListing_C089,0),1)),20),DJ45),HYPERLINK(\"#'C089'!\"&\"$V$12\",DJ45))","v":"MC"},{"$f":"IFERROR(HYPERLINK(\"#'C089'!\"&ADDRESS(ROW(INDEX(CurrentListing_C089,MATCH(GG45,CurrentListing_C089,0),1)),20),DK45),HYPERLINK(\"#'C089'!\"&\"$V$12\",DK45))","v":"MC"},{"$f":"IFERROR(HYPERLINK(\"#'C089'!\"&ADDRESS(ROW(INDEX(CurrentListing_C089,MATCH(GH45,CurrentListing_C089,0),1)),20),DL45),HYPERLINK(\"#'C089'!\"&\"$V$12\",DL45))","v":"MC"},{"$f":"IFERROR(HYPERLINK(\"#'C089'!\"&ADDRESS(ROW(INDEX(CurrentListing_C089,MATCH(GI45,CurrentListing_C089,0),1)),20),DM45),HYPERLINK(\"#'C089'!\"&\"$V$12\",DM45))","v":"MC"},{"$f":"IFERROR(HYPERLINK(\"#'C089'!\"&ADDRESS(ROW(INDEX(CurrentListing_C089,MATCH(GJ45,CurrentListing_C089,0),1)),20),DN45),HYPERLINK(\"#'C089'!\"&\"$V$12\",DN45))","v":"MC"},0,{"$f":"IFERROR(HYPERLINK(\"#'C089'!\"&ADDRESS(ROW(INDEX(CurrentListing_C089,MATCH(GL45,CurrentListing_C089,0),1)),20),DP45),HYPERLINK(\"#'C089'!\"&\"$V$12\",DP45))","v":"MC"},{"$f":"IFERROR(HYPERLINK(\"#'C089'!\"&ADDRESS(ROW(INDEX(CurrentListing_C089,MATCH(GM45,CurrentListing_C089,0),1)),20),DQ45),HYPERLINK(\"#'C089'!\"&\"$V$12\",DQ45))","v":"MC"},{"$f":"IFERROR(HYPERLINK(\"#'C089'!\"&ADDRESS(ROW(INDEX(CurrentListing_C089,MATCH(GN45,CurrentListing_C089,0),1)),20),DR45),HYPERLINK(\"#'C089'!\"&\"$V$12\",DR45))","v":"MC"},{"$f":"IFERROR(HYPERLINK(\"#'C089'!\"&ADDRESS(ROW(INDEX(CurrentListing_C089,MATCH(GO45,CurrentListing_C089,0),1)),20),DS45),HYPERLINK(\"#'C089'!\"&\"$V$12\",DS45))","v":"MC"},{"$f":"IFERROR(HYPERLINK(\"#'C089'!\"&ADDRESS(ROW(INDEX(CurrentListing_C089,MATCH(GP45,CurrentListing_C089,0),1)),20),DT45),HYPERLINK(\"#'C089'!\"&\"$V$12\",DT45))","v":"MC"},{"$f":"IFERROR(HYPERLINK(\"#'C089'!\"&ADDRESS(ROW(INDEX(CurrentListing_C089,MATCH(GQ45,CurrentListing_C089,0),1)),20),DU45),HYPERLINK(\"#'C089'!\"&\"$V$12\",DU45))","v":"MC"},{"$f":"IFERROR(HYPERLINK(\"#'C089'!\"&ADDRESS(ROW(INDEX(CurrentListing_C089,MATCH(GR45,CurrentListing_C089,0),1)),20),DV45),HYPERLINK(\"#'C089'!\"&\"$V$12\",DV45))","v":"MC"},0,{"$f":"IFERROR(HYPERLINK(\"#'C089'!\"&ADDRESS(ROW(INDEX(CurrentListing_C089,MATCH(GT45,CurrentListing_C089,0),1)),20),DX45),HYPERLINK(\"#'C089'!\"&\"$V$12\",DX45))","v":"MC"},{"$f":"IFERROR(HYPERLINK(\"#'C089'!\"&ADDRESS(ROW(INDEX(CurrentListing_C089,MATCH(GU45,CurrentListing_C089,0),1)),20),DY45),HYPERLINK(\"#'C089'!\"&\"$V$12\",DY45))","v":"MC"},{"$f":"IFERROR(HYPERLINK(\"#'C089'!\"&ADDRESS(ROW(INDEX(CurrentListing_C089,MATCH(GV45,CurrentListing_C089,0),1)),20),DZ45),HYPERLINK(\"#'C089'!\"&\"$V$12\",DZ45))","v":"MC"},{"$f":"IFERROR(HYPERLINK(\"#'C089'!\"&ADDRESS(ROW(INDEX(CurrentListing_C089,MATCH(GW45,CurrentListing_C089,0),1)),20),EA45),HYPERLINK(\"#'C089'!\"&\"$V$12\",EA45))","v":"MC"},{"$f":"IFERROR(HYPERLINK(\"#'C089'!\"&ADDRESS(ROW(INDEX(CurrentListing_C089,MATCH(GX45,CurrentListing_C089,0),1)),20),EB45),HYPERLINK(\"#'C089'!\"&\"$V$12\",EB45))","v":"MC"},{"$f":"IFERROR(HYPERLINK(\"#'C089'!\"&ADDRESS(ROW(INDEX(CurrentListing_C089,MATCH(GY45,CurrentListing_C089,0),1)),20),EC45),HYPERLINK(\"#'C089'!\"&\"$V$12\",EC45))","v":"MC"},{"$f":"IFERROR(HYPERLINK(\"#'C089'!\"&ADDRESS(ROW(INDEX(CurrentListing_C089,MATCH(GZ45,CurrentListing_C089,0),1)),20),ED45),HYPERLINK(\"#'C089'!\"&\"$V$12\",ED45))","v":"MC"},0,{"$f":"IFERROR(HYPERLINK(\"#'C089'!\"&ADDRESS(ROW(INDEX(CurrentListing_C089,MATCH(HB45,CurrentListing_C089,0),1)),20),EF45),HYPERLINK(\"#'C089'!\"&\"$V$12\",EF45))","v":"MC"},{"$f":"IFERROR(HYPERLINK(\"#'C089'!\"&ADDRESS(ROW(INDEX(CurrentListing_C089,MATCH(HC45,CurrentListing_C089,0),1)),20),EG45),HYPERLINK(\"#'C089'!\"&\"$V$12\",EG45))","v":"MC"},{"$f":"IFERROR(HYPERLINK(\"#'C089'!\"&ADDRESS(ROW(INDEX(CurrentListing_C089,MATCH(HD45,CurrentListing_C089,0),1)),20),EH45),HYPERLINK(\"#'C089'!\"&\"$V$12\",EH45))","v":"MC"},{"$f":"IFERROR(HYPERLINK(\"#'C089'!\"&ADDRESS(ROW(INDEX(CurrentListing_C089,MATCH(HE45,CurrentListing_C089,0),1)),20),EI45),HYPERLINK(\"#'C089'!\"&\"$V$12\",EI45))","v":"MC"},{"$f":"IFERROR(HYPERLINK(\"#'C089'!\"&ADDRESS(ROW(INDEX(CurrentListing_C089,MATCH(HF45,CurrentListing_C089,0),1)),20),EJ45),HYPERLINK(\"#'C089'!\"&\"$V$12\",EJ45))","v":"MC"},{"$f":"IFERROR(HYPERLINK(\"#'C089'!\"&ADDRESS(ROW(INDEX(CurrentListing_C089,MATCH(HG45,CurrentListing_C089,0),1)),20),EK45),HYPERLINK(\"#'C089'!\"&\"$V$12\",EK45))","v":"MC"},{"$f":"IFERROR(HYPERLINK(\"#'C089'!\"&ADDRESS(ROW(INDEX(CurrentListing_C089,MATCH(HH45,CurrentListing_C089,0),1)),20),EL45),HYPERLINK(\"#'C089'!\"&\"$V$12\",EL45))","v":"MC"},0,{"$f":"IFERROR(HYPERLINK(\"#'C089'!\"&ADDRESS(ROW(INDEX(CurrentListing_C089,MATCH(HJ45,CurrentListing_C089,0),1)),20),EN45),HYPERLINK(\"#'C089'!\"&\"$V$12\",EN45))","v":"MC"},{"$f":"IFERROR(HYPERLINK(\"#'C089'!\"&ADDRESS(ROW(INDEX(CurrentListing_C089,MATCH(HK45,CurrentListing_C089,0),1)),20),EO45),HYPERLINK(\"#'C089'!\"&\"$V$12\",EO45))","v":"MC"},{"$f":"IFERROR(HYPERLINK(\"#'C089'!\"&ADDRESS(ROW(INDEX(CurrentListing_C089,MATCH(HL45,CurrentListing_C089,0),1)),20),EP45),HYPERLINK(\"#'C089'!\"&\"$V$12\",EP45))","v":"MC"},{"$f":"IFERROR(HYPERLINK(\"#'C089'!\"&ADDRESS(ROW(INDEX(CurrentListing_C089,MATCH(HM45,CurrentListing_C089,0),1)),20),EQ45),HYPERLINK(\"#'C089'!\"&\"$V$12\",EQ45))","v":"MC"},{"$f":"IFERROR(HYPERLINK(\"#'C089'!\"&ADDRESS(ROW(INDEX(CurrentListing_C089,MATCH(HN45,CurrentListing_C089,0),1)),20),ER45),HYPERLINK(\"#'C089'!\"&\"$V$12\",ER45))","v":"MC"},{"$f":"IFERROR(HYPERLINK(\"#'C089'!\"&ADDRESS(ROW(INDEX(CurrentListing_C089,MATCH(HO45,CurrentListing_C089,0),1)),20),ES45),HYPERLINK(\"#'C089'!\"&\"$V$12\",ES45))","v":"MC"},{"$f":"IFERROR(HYPERLINK(\"#'C089'!\"&ADDRESS(ROW(INDEX(CurrentListing_C089,MATCH(HP45,CurrentListing_C089,0),1)),20),ET45),HYPERLINK(\"#'C089'!\"&\"$V$12\",ET45))","v":"MC"},0,0,null,null,null,null,"Autism","MC","MC","MC","MC","MC","MC","MC",null,"MC","MC","MC","MC","MC","MC","MC",null,"MC","MC","MC","MC","MC","MC","MC",null,"MC","MC","MC","MC","MC","MC","MC",null,"MC","MC","MC","MC","MC","MC","MC",null,"MC","MC","MC","MC","MC","MC","MC",null,"MC","MC","MC","MC","MC","MC","MC",null,"MC","MC","MC","MC","MC","MC","MC",null,"MC","MC","MC","MC","MC","MC","MC",null,null,"Autism","HI7AUTREC10YSVCSN","AM7AUTREC10YSVCSN","AS7AUTREC10YSVCSN","BL7AUTREC10YSVCSN","PI7AUTREC10YSVCSN","WH7AUTREC10YSVCSN","MU7AUTREC10YSVCSN",null,"HI7AUTREC10YOTHLOCN","AM7AUTREC10YOTHLOCN","AS7AUTREC10YOTHLOCN","BL7AUTREC10YOTHLOCN","PI7AUTREC10YOTHLOCN","WH7AUTREC10YOTHLOCN","MU7AUTREC10YOTHLOCN",null,"HI7AUTREC09YSVCSN","AM7AUTREC09YSVCSN","AS7AUTREC09YSVCSN","BL7AUTREC09YSVCSN","PI7AUTREC09YSVCSN","WH7AUTREC09YSVCSN","MU7AUTREC09YSVCSN",null,"HI7AUTREC09YOTHLOCN","AM7AUTREC09YOTHLOCN","AS7AUTREC09YOTHLOCN","BL7AUTREC09YOTHLOCN","PI7AUTREC09YOTHLOCN","WH7AUTREC09YOTHLOCN","MU7AUTREC09YOTHLOCN",null,"HI7AUTSCN","AM7AUTSCN","AS7AUTSCN","BL7AUTSCN","PI7AUTSCN","WH7AUTSCN","MU7AUTSCN",null,"HI7AUTSSN","AM7AUTSSN","AS7AUTSSN","BL7AUTSSN","PI7AUTSSN","WH7AUTSSN","MU7AUTSSN",null,"HI7AUTRFN","AM7AUTRFN","AS7AUTRFN","BL7AUTRFN","PI7AUTRFN","WH7AUTRFN","MU7AUTRFN",null,"HI7AUTHN","AM7AUTHN","AS7AUTHN","BL7AUTHN","PI7AUTHN","WH7AUTHN","MU7AUTHN",null,"HI7AUTSPLN","AM7AUTSPLN","AS7AUTSPLN","BL7AUTSPLN","PI7AUTSPLN","WH7AUTSPLN","MU7AUTSPLN"]
["Traumatic Brain Injury",{"$f":"IFERROR(HYPERLINK(\"#'C089'!\"&ADDRESS(ROW(INDEX(CurrentListing_C089,MATCH(EX46,CurrentListing_C089,0),1)),20),CB46),HYPERLINK(\"#'C089'!\"&\"$V$12\",CB46))","v":"MC"},{"$f":"IFERROR(HYPERLINK(\"#'C089'!\"&ADDRESS(ROW(INDEX(CurrentListing_C089,MATCH(EY46,CurrentListing_C089,0),1)),20),CC46),HYPERLINK(\"#'C089'!\"&\"$V$12\",CC46))","v":"MC"},{"$f":"IFERROR(HYPERLINK(\"#'C089'!\"&ADDRESS(ROW(INDEX(CurrentListing_C089,MATCH(EZ46,CurrentListing_C089,0),1)),20),CD46),HYPERLINK(\"#'C089'!\"&\"$V$12\",CD46))","v":"MC"},{"$f":"IFERROR(HYPERLINK(\"#'C089'!\"&ADDRESS(ROW(INDEX(CurrentListing_C089,MATCH(FA46,CurrentListing_C089,0),1)),20),CE46),HYPERLINK(\"#'C089'!\"&\"$V$12\",CE46))","v":"MC"},{"$f":"IFERROR(HYPERLINK(\"#'C089'!\"&ADDRESS(ROW(INDEX(CurrentListing_C089,MATCH(FB46,CurrentListing_C089,0),1)),20),CF46),HYPERLINK(\"#'C089'!\"&\"$V$12\",CF46))","v":"MC"},{"$f":"IFERROR(HYPERLINK(\"#'C089'!\"&ADDRESS(ROW(INDEX(CurrentListing_C089,MATCH(FC46,CurrentListing_C089,0),1)),20),CG46),HYPERLINK(\"#'C089'!\"&\"$V$12\",CG46))","v":"MC"},{"$f":"IFERROR(HYPERLINK(\"#'C089'!\"&ADDRESS(ROW(INDEX(CurrentListing_C089,MATCH(FD46,CurrentListing_C089,0),1)),20),CH46),HYPERLINK(\"#'C089'!\"&\"$V$12\",CH46))","v":"MC"},0,{"$f":"IFERROR(HYPERLINK(\"#'C089'!\"&ADDRESS(ROW(INDEX(CurrentListing_C089,MATCH(FF46,CurrentListing_C089,0),1)),20),CJ46),HYPERLINK(\"#'C089'!\"&\"$V$12\",CJ46))","v":"MC"},{"$f":"IFERROR(HYPERLINK(\"#'C089'!\"&ADDRESS(ROW(INDEX(CurrentListing_C089,MATCH(FG46,CurrentListing_C089,0),1)),20),CK46),HYPERLINK(\"#'C089'!\"&\"$V$12\",CK46))","v":"MC"},{"$f":"IFERROR(HYPERLINK(\"#'C089'!\"&ADDRESS(ROW(INDEX(CurrentListing_C089,MATCH(FH46,CurrentListing_C089,0),1)),20),CL46),HYPERLINK(\"#'C089'!\"&\"$V$12\",CL46))","v":"MC"},{"$f":"IFERROR(HYPERLINK(\"#'C089'!\"&ADDRESS(ROW(INDEX(CurrentListing_C089,MATCH(FI46,CurrentListing_C089,0),1)),20),CM46),HYPERLINK(\"#'C089'!\"&\"$V$12\",CM46))","v":"MC"},{"$f":"IFERROR(HYPERLINK(\"#'C089'!\"&ADDRESS(ROW(INDEX(CurrentListing_C089,MATCH(FJ46,CurrentListing_C089,0),1)),20),CN46),HYPERLINK(\"#'C089'!\"&\"$V$12\",CN46))","v":"MC"},{"$f":"IFERROR(HYPERLINK(\"#'C089'!\"&ADDRESS(ROW(INDEX(CurrentListing_C089,MATCH(FK46,CurrentListing_C089,0),1)),20),CO46),HYPERLINK(\"#'C089'!\"&\"$V$12\",CO46))","v":"MC"},{"$f":"IFERROR(HYPERLINK(\"#'C089'!\"&ADDRESS(ROW(INDEX(CurrentListing_C089,MATCH(FL46,CurrentListing_C089,0),1)),20),CP46),HYPERLINK(\"#'C089'!\"&\"$V$12\",CP46))","v":"MC"},0,{"$f":"IFERROR(HYPERLINK(\"#'C089'!\"&ADDRESS(ROW(INDEX(CurrentListing_C089,MATCH(FN46,CurrentListing_C089,0),1)),20),CR46),HYPERLINK(\"#'C089'!\"&\"$V$12\",CR46))","v":"MC"},{"$f":"IFERROR(HYPERLINK(\"#'C089'!\"&ADDRESS(ROW(INDEX(CurrentListing_C089,MATCH(FO46,CurrentListing_C089,0),1)),20),CS46),HYPERLINK(\"#'C089'!\"&\"$V$12\",CS46))","v":"MC"},{"$f":"IFERROR(HYPERLINK(\"#'C089'!\"&ADDRESS(ROW(INDEX(CurrentListing_C089,MATCH(FP46,CurrentListing_C089,0),1)),20),CT46),HYPERLINK(\"#'C089'!\"&\"$V$12\",CT46))","v":"MC"},{"$f":"IFERROR(HYPERLINK(\"#'C089'!\"&ADDRESS(ROW(INDEX(CurrentListing_C089,MATCH(FQ46,CurrentListing_C089,0),1)),20),CU46),HYPERLINK(\"#'C089'!\"&\"$V$12\",CU46))","v":"MC"},{"$f":"IFERROR(HYPERLINK(\"#'C089'!\"&ADDRESS(ROW(INDEX(CurrentListing_C089,MATCH(FR46,CurrentListing_C089,0),1)),20),CV46),HYPERLINK(\"#'C089'!\"&\"$V$12\",CV46))","v":"MC"},{"$f":"IFERROR(HYPERLINK(\"#'C089'!\"&ADDRESS(ROW(INDEX(CurrentListing_C089,MATCH(FS46,CurrentListing_C089,0),1)),20),CW46),HYPERLINK(\"#'C089'!\"&\"$V$12\",CW46))","v":"MC"},{"$f":"IFERROR(HYPERLINK(\"#'C089'!\"&ADDRESS(ROW(INDEX(CurrentListing_C089,MATCH(FT46,CurrentListing_C089,0),1)),20),CX46),HYPERLINK(\"#'C089'!\"&\"$V$12\",CX46))","v":"MC"},0,{"$f":"IFERROR(HYPERLINK(\"#'C089'!\"&ADDRESS(ROW(INDEX(CurrentListing_C089,MATCH(FV46,CurrentListing_C089,0),1)),20),CZ46),HYPERLINK(\"#'C089'!\"&\"$V$12\",CZ46))","v":"MC"},{"$f":"IFERROR(HYPERLINK(\"#'C089'!\"&ADDRESS(ROW(INDEX(CurrentListing_C089,MATCH(FW46,CurrentListing_C089,0),1)),20),DA46),HYPERLINK(\"#'C089'!\"&\"$V$12\",DA46))","v":"MC"},{"$f":"IFERROR(HYPERLINK(\"#'C089'!\"&ADDRESS(ROW(INDEX(CurrentListing_C089,MATCH(FX46,CurrentListing_C089,0),1)),20),DB46),HYPERLINK(\"#'C089'!\"&\"$V$12\",DB46))","v":"MC"},{"$f":"IFERROR(HYPERLINK(\"#'C089'!\"&ADDRESS(ROW(INDEX(CurrentListing_C089,MATCH(FY46,CurrentListing_C089,0),1)),20),DC46),HYPERLINK(\"#'C089'!\"&\"$V$12\",DC46))","v":"MC"},{"$f":"IFERROR(HYPERLINK(\"#'C089'!\"&ADDRESS(ROW(INDEX(CurrentListing_C089,MATCH(FZ46,CurrentListing_C089,0),1)),20),DD46),HYPERLINK(\"#'C089'!\"&\"$V$12\",DD46))","v":"MC"},{"$f":"IFERROR(HYPERLINK(\"#'C089'!\"&ADDRESS(ROW(INDEX(CurrentListing_C089,MATCH(GA46,CurrentListing_C089,0),1)),20),DE46),HYPERLINK(\"#'C089'!\"&\"$V$12\",DE46))","v":"MC"},{"$f":"IFERROR(HYPERLINK(\"#'C089'!\"&ADDRESS(ROW(INDEX(CurrentListing_C089,MATCH(GB46,CurrentListing_C089,0),1)),20),DF46),HYPERLINK(\"#'C089'!\"&\"$V$12\",DF46))","v":"MC"},0,{"$f":"IFERROR(HYPERLINK(\"#'C089'!\"&ADDRESS(ROW(INDEX(CurrentListing_C089,MATCH(GD46,CurrentListing_C089,0),1)),20),DH46),HYPERLINK(\"#'C089'!\"&\"$V$12\",DH46))","v":"MC"},{"$f":"IFERROR(HYPERLINK(\"#'C089'!\"&ADDRESS(ROW(INDEX(CurrentListing_C089,MATCH(GE46,CurrentListing_C089,0),1)),20),DI46),HYPERLINK(\"#'C089'!\"&\"$V$12\",DI46))","v":"MC"},{"$f":"IFERROR(HYPERLINK(\"#'C089'!\"&ADDRESS(ROW(INDEX(CurrentListing_C089,MATCH(GF46,CurrentListing_C089,0),1)),20),DJ46),HYPERLINK(\"#'C089'!\"&\"$V$12\",DJ46))","v":"MC"},{"$f":"IFERROR(HYPERLINK(\"#'C089'!\"&ADDRESS(ROW(INDEX(CurrentListing_C089,MATCH(GG46,CurrentListing_C089,0),1)),20),DK46),HYPERLINK(\"#'C089'!\"&\"$V$12\",DK46))","v":"MC"},{"$f":"IFERROR(HYPERLINK(\"#'C089'!\"&ADDRESS(ROW(INDEX(CurrentListing_C089,MATCH(GH46,CurrentListing_C089,0),1)),20),DL46),HYPERLINK(\"#'C089'!\"&\"$V$12\",DL46))","v":"MC"},{"$f":"IFERROR(HYPERLINK(\"#'C089'!\"&ADDRESS(ROW(INDEX(CurrentListing_C089,MATCH(GI46,CurrentListing_C089,0),1)),20),DM46),HYPERLINK(\"#'C089'!\"&\"$V$12\",DM46))","v":"MC"},{"$f":"IFERROR(HYPERLINK(\"#'C089'!\"&ADDRESS(ROW(INDEX(CurrentListing_C089,MATCH(GJ46,CurrentListing_C089,0),1)),20),DN46),HYPERLINK(\"#'C089'!\"&\"$V$12\",DN46))","v":"MC"},0,{"$f":"IFERROR(HYPERLINK(\"#'C089'!\"&ADDRESS(ROW(INDEX(CurrentListing_C089,MATCH(GL46,CurrentListing_C089,0),1)),20),DP46),HYPERLINK(\"#'C089'!\"&\"$V$12\",DP46))","v":"MC"},{"$f":"IFERROR(HYPERLINK(\"#'C089'!\"&ADDRESS(ROW(INDEX(CurrentListing_C089,MATCH(GM46,CurrentListing_C089,0),1)),20),DQ46),HYPERLINK(\"#'C089'!\"&\"$V$12\",DQ46))","v":"MC"},{"$f":"IFERROR(HYPERLINK(\"#'C089'!\"&ADDRESS(ROW(INDEX(CurrentListing_C089,MATCH(GN46,CurrentListing_C089,0),1)),20),DR46),HYPERLINK(\"#'C089'!\"&\"$V$12\",DR46))","v":"MC"},{"$f":"IFERROR(HYPERLINK(\"#'C089'!\"&ADDRESS(ROW(INDEX(CurrentListing_C089,MATCH(GO46,CurrentListing_C089,0),1)),20),DS46),HYPERLINK(\"#'C089'!\"&\"$V$12\",DS46))","v":"MC"},{"$f":"IFERROR(HYPERLINK(\"#'C089'!\"&ADDRESS(ROW(INDEX(CurrentListing_C089,MATCH(GP46,CurrentListing_C089,0),1)),20),DT46),HYPERLINK(\"#'C089'!\"&\"$V$12\",DT46))","v":"MC"},{"$f":"IFERROR(HYPERLINK(\"#'C089'!\"&ADDRESS(ROW(INDEX(CurrentListing_C089,MATCH(GQ46,CurrentListing_C089,0),1)),20),DU46),HYPERLINK(\"#'C089'!\"&\"$V$12\",DU46))","v":"MC"},{"$f":"IFERROR(HYPERLINK(\"#'C089'!\"&ADDRESS(ROW(INDEX(CurrentListing_C089,MATCH(GR46,CurrentListing_C089,0),1)),20),DV46),HYPERLINK(\"#'C089'!\"&\"$V$12\",DV46))","v":"MC"},0,{"$f":"IFERROR(HYPERLINK(\"#'C089'!\"&ADDRESS(ROW(INDEX(CurrentListing_C089,MATCH(GT46,CurrentListing_C089,0),1)),20),DX46),HYPERLINK(\"#'C089'!\"&\"$V$12\",DX46))","v":"MC"},{"$f":"IFERROR(HYPERLINK(\"#'C089'!\"&ADDRESS(ROW(INDEX(CurrentListing_C089,MATCH(GU46,CurrentListing_C089,0),1)),20),DY46),HYPERLINK(\"#'C089'!\"&\"$V$12\",DY46))","v":"MC"},{"$f":"IFERROR(HYPERLINK(\"#'C089'!\"&ADDRESS(ROW(INDEX(CurrentListing_C089,MATCH(GV46,CurrentListing_C089,0),1)),20),DZ46),HYPERLINK(\"#'C089'!\"&\"$V$12\",DZ46))","v":"MC"},{"$f":"IFERROR(HYPERLINK(\"#'C089'!\"&ADDRESS(ROW(INDEX(CurrentListing_C089,MATCH(GW46,CurrentListing_C089,0),1)),20),EA46),HYPERLINK(\"#'C089'!\"&\"$V$12\",EA46))","v":"MC"},{"$f":"IFERROR(HYPERLINK(\"#'C089'!\"&ADDRESS(ROW(INDEX(CurrentListing_C089,MATCH(GX46,CurrentListing_C089,0),1)),20),EB46),HYPERLINK(\"#'C089'!\"&\"$V$12\",EB46))","v":"MC"},{"$f":"IFERROR(HYPERLINK(\"#'C089'!\"&ADDRESS(ROW(INDEX(CurrentListing_C089,MATCH(GY46,CurrentListing_C089,0),1)),20),EC46),HYPERLINK(\"#'C089'!\"&\"$V$12\",EC46))","v":"MC"},{"$f":"IFERROR(HYPERLINK(\"#'C089'!\"&ADDRESS(ROW(INDEX(CurrentListing_C089,MATCH(GZ46,CurrentListing_C089,0),1)),20),ED46),HYPERLINK(\"#'C089'!\"&\"$V$12\",ED46))","v":"MC"},0,{"$f":"IFERROR(HYPERLINK(\"#'C089'!\"&ADDRESS(ROW(INDEX(CurrentListing_C089,MATCH(HB46,CurrentListing_C089,0),1)),20),EF46),HYPERLINK(\"#'C089'!\"&\"$V$12\",EF46))","v":"MC"},{"$f":"IFERROR(HYPERLINK(\"#'C089'!\"&ADDRESS(ROW(INDEX(CurrentListing_C089,MATCH(HC46,CurrentListing_C089,0),1)),20),EG46),HYPERLINK(\"#'C089'!\"&\"$V$12\",EG46))","v":"MC"},{"$f":"IFERROR(HYPERLINK(\"#'C089'!\"&ADDRESS(ROW(INDEX(CurrentListing_C089,MATCH(HD46,CurrentListing_C089,0),1)),20),EH46),HYPERLINK(\"#'C089'!\"&\"$V$12\",EH46))","v":"MC"},{"$f":"IFERROR(HYPERLINK(\"#'C089'!\"&ADDRESS(ROW(INDEX(CurrentListing_C089,MATCH(HE46,CurrentListing_C089,0),1)),20),EI46),HYPERLINK(\"#'C089'!\"&\"$V$12\",EI46))","v":"MC"},{"$f":"IFERROR(HYPERLINK(\"#'C089'!\"&ADDRESS(ROW(INDEX(CurrentListing_C089,MATCH(HF46,CurrentListing_C089,0),1)),20),EJ46),HYPERLINK(\"#'C089'!\"&\"$V$12\",EJ46))","v":"MC"},{"$f":"IFERROR(HYPERLINK(\"#'C089'!\"&ADDRESS(ROW(INDEX(CurrentListing_C089,MATCH(HG46,CurrentListing_C089,0),1)),20),EK46),HYPERLINK(\"#'C089'!\"&\"$V$12\",EK46))","v":"MC"},{"$f":"IFERROR(HYPERLINK(\"#'C089'!\"&ADDRESS(ROW(INDEX(CurrentListing_C089,MATCH(HH46,CurrentListing_C089,0),1)),20),EL46),HYPERLINK(\"#'C089'!\"&\"$V$12\",EL46))","v":"MC"},0,{"$f":"IFERROR(HYPERLINK(\"#'C089'!\"&ADDRESS(ROW(INDEX(CurrentListing_C089,MATCH(HJ46,CurrentListing_C089,0),1)),20),EN46),HYPERLINK(\"#'C089'!\"&\"$V$12\",EN46))","v":"MC"},{"$f":"IFERROR(HYPERLINK(\"#'C089'!\"&ADDRESS(ROW(INDEX(CurrentListing_C089,MATCH(HK46,CurrentListing_C089,0),1)),20),EO46),HYPERLINK(\"#'C089'!\"&\"$V$12\",EO46))","v":"MC"},{"$f":"IFERROR(HYPERLINK(\"#'C089'!\"&ADDRESS(ROW(INDEX(CurrentListing_C089,MATCH(HL46,CurrentListing_C089,0),1)),20),EP46),HYPERLINK(\"#'C089'!\"&\"$V$12\",EP46))","v":"MC"},{"$f":"IFERROR(HYPERLINK(\"#'C089'!\"&ADDRESS(ROW(INDEX(CurrentListing_C089,MATCH(HM46,CurrentListing_C089,0),1)),20),EQ46),HYPERLINK(\"#'C089'!\"&\"$V$12\",EQ46))","v":"MC"},{"$f":"IFERROR(HYPERLINK(\"#'C089'!\"&ADDRESS(ROW(INDEX(CurrentListing_C089,MATCH(HN46,CurrentListing_C089,0),1)),20),ER46),HYPERLINK(\"#'C089'!\"&\"$V$12\",ER46))","v":"MC"},{"$f":"IFERROR(HYPERLINK(\"#'C089'!\"&ADDRESS(ROW(INDEX(CurrentListing_C089,MATCH(HO46,CurrentListing_C089,0),1)),20),ES46),HYPERLINK(\"#'C089'!\"&\"$V$12\",ES46))","v":"MC"},{"$f":"IFERROR(HYPERLINK(\"#'C089'!\"&ADDRESS(ROW(INDEX(CurrentListing_C089,MATCH(HP46,CurrentListing_C089,0),1)),20),ET46),HYPERLINK(\"#'C089'!\"&\"$V$12\",ET46))","v":"MC"},0,0,null,null,null,null,"Traumatic Brain Injury","MC","MC","MC","MC","MC","MC","MC",null,"MC","MC","MC","MC","MC","MC","MC",null,"MC","MC","MC","MC","MC","MC","MC",null,"MC","MC","MC","MC","MC","MC","MC",null,"MC","MC","MC","MC","MC","MC","MC",null,"MC","MC","MC","MC","MC","MC","MC",null,"MC","MC","MC","MC","MC","MC","MC",null,"MC","MC","MC","MC","MC","MC","MC",null,"MC","MC","MC","MC","MC","MC","MC",null,null,"Traumatic Brain Injury","HI7TBIREC10YSVCSN","AM7TBIREC10YSVCSN","AS7TBIREC10YSVCSN","BL7TBIREC10YSVCSN","PI7TBIREC10YSVCSN","WH7TBIREC10YSVCSN","MU7TBIREC10YSVCSN",null,"HI7TBIREC10YOTHLOCN","AM7TBIREC10YOTHLOCN","AS7TBIREC10YOTHLOCN","BL7TBIREC10YOTHLOCN","PI7TBIREC10YOTHLOCN","WH7TBIREC10YOTHLOCN","MU7TBIREC10YOTHLOCN",null,"HI7TBIREC09YSVCSN","AM7TBIREC09YSVCSN","AS7TBIREC09YSVCSN","BL7TBIREC09YSVCSN","PI7TBIREC09YSVCSN","WH7TBIREC09YSVCSN","MU7TBIREC09YSVCSN",null,"HI7TBIREC09YOTHLOCN","AM7TBIREC09YOTHLOCN","AS7TBIREC09YOTHLOCN","BL7TBIREC09YOTHLOCN","PI7TBIREC09YOTHLOCN","WH7TBIREC09YOTHLOCN","MU7TBIREC09YOTHLOCN",null,"HI7TBISCN","AM7TBISCN","AS7TBISCN","BL7TBISCN","PI7TBISCN","WH7TBISCN","MU7TBISCN",null,"HI7TBISSN","AM7TBISSN","AS7TBISSN","BL7TBISSN","PI7TBISSN","WH7TBISSN","MU7TBISSN",null,"HI7TBIRFN","AM7TBIRFN","AS7TBIRFN","BL7TBIRFN","PI7TBIRFN","WH7TBIRFN","MU7TBIRFN",null,"HI7TBIHN","AM7TBIHN","AS7TBIHN","BL7TBIHN","PI7TBIHN","WH7TBIHN","MU7TBIHN",null,"HI7TBISPLN","AM7TBISPLN","AS7TBISPLN","BL7TBISPLN","PI7TBISPLN","WH7TBISPLN","MU7TBISPLN"]
["Developmental Delay1",{"$f":"IFERROR(HYPERLINK(\"#'C089'!\"&ADDRESS(ROW(INDEX(CurrentListing_C089,MATCH(EX47,CurrentListing_C089,0),1)),20),CB47),HYPERLINK(\"#'C089'!\"&\"$V$12\",CB47))","v":"MC"},{"$f":"IFERROR(HYPERLINK(\"#'C089'!\"&ADDRESS(ROW(INDEX(CurrentListing_C089,MATCH(EY47,CurrentListing_C089,0),1)),20),CC47),HYPERLINK(\"#'C089'!\"&\"$V$12\",CC47))","v":"MC"},{"$f":"IFERROR(HYPERLINK(\"#'C089'!\"&ADDRESS(ROW(INDEX(CurrentListing_C089,MATCH(EZ47,CurrentListing_C089,0),1)),20),CD47),HYPERLINK(\"#'C089'!\"&\"$V$12\",CD47))","v":"MC"},{"$f":"IFERROR(HYPERLINK(\"#'C089'!\"&ADDRESS(ROW(INDEX(CurrentListing_C089,MATCH(FA47,CurrentListing_C089,0),1)),20),CE47),HYPERLINK(\"#'C089'!\"&\"$V$12\",CE47))","v":"MC"},{"$f":"IFERROR(HYPERLINK(\"#'C089'!\"&ADDRESS(ROW(INDEX(CurrentListing_C089,MATCH(FB47,CurrentListing_C089,0),1)),20),CF47),HYPERLINK(\"#'C089'!\"&\"$V$12\",CF47))","v":"MC"},{"$f":"IFERROR(HYPERLINK(\"#'C089'!\"&ADDRESS(ROW(INDEX(CurrentListing_C089,MATCH(FC47,CurrentListing_C089,0),1)),20),CG47),HYPERLINK(\"#'C089'!\"&\"$V$12\",CG47))","v":"MC"},{"$f":"IFERROR(HYPERLINK(\"#'C089'!\"&ADDRESS(ROW(INDEX(CurrentListing_C089,MATCH(FD47,CurrentListing_C089,0),1)),20),CH47),HYPERLINK(\"#'C089'!\"&\"$V$12\",CH47))","v":"MC"},0,{"$f":"IFERROR(HYPERLINK(\"#'C089'!\"&ADDRESS(ROW(INDEX(CurrentListing_C089,MATCH(FF47,CurrentListing_C089,0),1)),20),CJ47),HYPERLINK(\"#'C089'!\"&\"$V$12\",CJ47))","v":"MC"},{"$f":"IFERROR(HYPERLINK(\"#'C089'!\"&ADDRESS(ROW(INDEX(CurrentListing_C089,MATCH(FG47,CurrentListing_C089,0),1)),20),CK47),HYPERLINK(\"#'C089'!\"&\"$V$12\",CK47))","v":"MC"},{"$f":"IFERROR(HYPERLINK(\"#'C089'!\"&ADDRESS(ROW(INDEX(CurrentListing_C089,MATCH(FH47,CurrentListing_C089,0),1)),20),CL47),HYPERLINK(\"#'C089'!\"&\"$V$12\",CL47))","v":"MC"},{"$f":"IFERROR(HYPERLINK(\"#'C089'!\"&ADDRESS(ROW(INDEX(CurrentListing_C089,MATCH(FI47,CurrentListing_C089,0),1)),20),CM47),HYPERLINK(\"#'C089'!\"&\"$V$12\",CM47))","v":"MC"},{"$f":"IFERROR(HYPERLINK(\"#'C089'!\"&ADDRESS(ROW(INDEX(CurrentListing_C089,MATCH(FJ47,CurrentListing_C089,0),1)),20),CN47),HYPERLINK(\"#'C089'!\"&\"$V$12\",CN47))","v":"MC"},{"$f":"IFERROR(HYPERLINK(\"#'C089'!\"&ADDRESS(ROW(INDEX(CurrentListing_C089,MATCH(FK47,CurrentListing_C089,0),1)),20),CO47),HYPERLINK(\"#'C089'!\"&\"$V$12\",CO47))","v":"MC"},{"$f":"IFERROR(HYPERLINK(\"#'C089'!\"&ADDRESS(ROW(INDEX(CurrentListing_C089,MATCH(FL47,CurrentListing_C089,0),1)),20),CP47),HYPERLINK(\"#'C089'!\"&\"$V$12\",CP47))","v":"MC"},0,{"$f":"IFERROR(HYPERLINK(\"#'C089'!\"&ADDRESS(ROW(INDEX(CurrentListing_C089,MATCH(FN47,CurrentListing_C089,0),1)),20),CR47),HYPERLINK(\"#'C089'!\"&\"$V$12\",CR47))","v":"MC"},{"$f":"IFERROR(HYPERLINK(\"#'C089'!\"&ADDRESS(ROW(INDEX(CurrentListing_C089,MATCH(FO47,CurrentListing_C089,0),1)),20),CS47),HYPERLINK(\"#'C089'!\"&\"$V$12\",CS47))","v":"MC"},{"$f":"IFERROR(HYPERLINK(\"#'C089'!\"&ADDRESS(ROW(INDEX(CurrentListing_C089,MATCH(FP47,CurrentListing_C089,0),1)),20),CT47),HYPERLINK(\"#'C089'!\"&\"$V$12\",CT47))","v":"MC"},{"$f":"IFERROR(HYPERLINK(\"#'C089'!\"&ADDRESS(ROW(INDEX(CurrentListing_C089,MATCH(FQ47,CurrentListing_C089,0),1)),20),CU47),HYPERLINK(\"#'C089'!\"&\"$V$12\",CU47))","v":"MC"},{"$f":"IFERROR(HYPERLINK(\"#'C089'!\"&ADDRESS(ROW(INDEX(CurrentListing_C089,MATCH(FR47,CurrentListing_C089,0),1)),20),CV47),HYPERLINK(\"#'C089'!\"&\"$V$12\",CV47))","v":"MC"},{"$f":"IFERROR(HYPERLINK(\"#'C089'!\"&ADDRESS(ROW(INDEX(CurrentListing_C089,MATCH(FS47,CurrentListing_C089,0),1)),20),CW47),HYPERLINK(\"#'C089'!\"&\"$V$12\",CW47))","v":"MC"},{"$f":"IFERROR(HYPERLINK(\"#'C089'!\"&ADDRESS(ROW(INDEX(CurrentListing_C089,MATCH(FT47,CurrentListing_C089,0),1)),20),CX47),HYPERLINK(\"#'C089'!\"&\"$V$12\",CX47))","v":"MC"},0,{"$f":"IFERROR(HYPERLINK(\"#'C089'!\"&ADDRESS(ROW(INDEX(CurrentListing_C089,MATCH(FV47,CurrentListing_C089,0),1)),20),CZ47),HYPERLINK(\"#'C089'!\"&\"$V$12\",CZ47))","v":"MC"},{"$f":"IFERROR(HYPERLINK(\"#'C089'!\"&ADDRESS(ROW(INDEX(CurrentListing_C089,MATCH(FW47,CurrentListing_C089,0),1)),20),DA47),HYPERLINK(\"#'C089'!\"&\"$V$12\",DA47))","v":"MC"},{"$f":"IFERROR(HYPERLINK(\"#'C089'!\"&ADDRESS(ROW(INDEX(CurrentListing_C089,MATCH(FX47,CurrentListing_C089,0),1)),20),DB47),HYPERLINK(\"#'C089'!\"&\"$V$12\",DB47))","v":"MC"},{"$f":"IFERROR(HYPERLINK(\"#'C089'!\"&ADDRESS(ROW(INDEX(CurrentListing_C089,MATCH(FY47,CurrentListing_C089,0),1)),20),DC47),HYPERLINK(\"#'C089'!\"&\"$V$12\",DC47))","v":"MC"},{"$f":"IFERROR(HYPERLINK(\"#'C089'!\"&ADDRESS(ROW(INDEX(CurrentListing_C089,MATCH(FZ47,CurrentListing_C089,0),1)),20),DD47),HYPERLINK(\"#'C089'!\"&\"$V$12\",DD47))","v":"MC"},{"$f":"IFERROR(HYPERLINK(\"#'C089'!\"&ADDRESS(ROW(INDEX(CurrentListing_C089,MATCH(GA47,CurrentListing_C089,0),1)),20),DE47),HYPERLINK(\"#'C089'!\"&\"$V$12\",DE47))","v":"MC"},{"$f":"IFERROR(HYPERLINK(\"#'C089'!\"&ADDRESS(ROW(INDEX(CurrentListing_C089,MATCH(GB47,CurrentListing_C089,0),1)),20),DF47),HYPERLINK(\"#'C089'!\"&\"$V$12\",DF47))","v":"MC"},0,{"$f":"IFERROR(HYPERLINK(\"#'C089'!\"&ADDRESS(ROW(INDEX(CurrentListing_C089,MATCH(GD47,CurrentListing_C089,0),1)),20),DH47),HYPERLINK(\"#'C089'!\"&\"$V$12\",DH47))","v":"MC"},{"$f":"IFERROR(HYPERLINK(\"#'C089'!\"&ADDRESS(ROW(INDEX(CurrentListing_C089,MATCH(GE47,CurrentListing_C089,0),1)),20),DI47),HYPERLINK(\"#'C089'!\"&\"$V$12\",DI47))","v":"MC"},{"$f":"IFERROR(HYPERLINK(\"#'C089'!\"&ADDRESS(ROW(INDEX(CurrentListing_C089,MATCH(GF47,CurrentListing_C089,0),1)),20),DJ47),HYPERLINK(\"#'C089'!\"&\"$V$12\",DJ47))","v":"MC"},{"$f":"IFERROR(HYPERLINK(\"#'C089'!\"&ADDRESS(ROW(INDEX(CurrentListing_C089,MATCH(GG47,CurrentListing_C089,0),1)),20),DK47),HYPERLINK(\"#'C089'!\"&\"$V$12\",DK47))","v":"MC"},{"$f":"IFERROR(HYPERLINK(\"#'C089'!\"&ADDRESS(ROW(INDEX(CurrentListing_C089,MATCH(GH47,CurrentListing_C089,0),1)),20),DL47),HYPERLINK(\"#'C089'!\"&\"$V$12\",DL47))","v":"MC"},{"$f":"IFERROR(HYPERLINK(\"#'C089'!\"&ADDRESS(ROW(INDEX(CurrentListing_C089,MATCH(GI47,CurrentListing_C089,0),1)),20),DM47),HYPERLINK(\"#'C089'!\"&\"$V$12\",DM47))","v":"MC"},{"$f":"IFERROR(HYPERLINK(\"#'C089'!\"&ADDRESS(ROW(INDEX(CurrentListing_C089,MATCH(GJ47,CurrentListing_C089,0),1)),20),DN47),HYPERLINK(\"#'C089'!\"&\"$V$12\",DN47))","v":"MC"},0,{"$f":"IFERROR(HYPERLINK(\"#'C089'!\"&ADDRESS(ROW(INDEX(CurrentListing_C089,MATCH(GL47,CurrentListing_C089,0),1)),20),DP47),HYPERLINK(\"#'C089'!\"&\"$V$12\",DP47))","v":"MC"},{"$f":"IFERROR(HYPERLINK(\"#'C089'!\"&ADDRESS(ROW(INDEX(CurrentListing_C089,MATCH(GM47,CurrentListing_C089,0),1)),20),DQ47),HYPERLINK(\"#'C089'!\"&\"$V$12\",DQ47))","v":"MC"},{"$f":"IFERROR(HYPERLINK(\"#'C089'!\"&ADDRESS(ROW(INDEX(CurrentListing_C089,MATCH(GN47,CurrentListing_C089,0),1)),20),DR47),HYPERLINK(\"#'C089'!\"&\"$V$12\",DR47))","v":"MC"},{"$f":"IFERROR(HYPERLINK(\"#'C089'!\"&ADDRESS(ROW(INDEX(CurrentListing_C089,MATCH(GO47,CurrentListing_C089,0),1)),20),DS47),HYPERLINK(\"#'C089'!\"&\"$V$12\",DS47))","v":"MC"},{"$f":"IFERROR(HYPERLINK(\"#'C089'!\"&ADDRESS(ROW(INDEX(CurrentListing_C089,MATCH(GP47,CurrentListing_C089,0),1)),20),DT47),HYPERLINK(\"#'C089'!\"&\"$V$12\",DT47))","v":"MC"},{"$f":"IFERROR(HYPERLINK(\"#'C089'!\"&ADDRESS(ROW(INDEX(CurrentListing_C089,MATCH(GQ47,CurrentListing_C089,0),1)),20),DU47),HYPERLINK(\"#'C089'!\"&\"$V$12\",DU47))","v":"MC"},{"$f":"IFERROR(HYPERLINK(\"#'C089'!\"&ADDRESS(ROW(INDEX(CurrentListing_C089,MATCH(GR47,CurrentListing_C089,0),1)),20),DV47),HYPERLINK(\"#'C089'!\"&\"$V$12\",DV47))","v":"MC"},0,{"$f":"IFERROR(HYPERLINK(\"#'C089'!\"&ADDRESS(ROW(INDEX(CurrentListing_C089,MATCH(GT47,CurrentListing_C089,0),1)),20),DX47),HYPERLINK(\"#'C089'!\"&\"$V$12\",DX47))","v":"MC"},{"$f":"IFERROR(HYPERLINK(\"#'C089'!\"&ADDRESS(ROW(INDEX(CurrentListing_C089,MATCH(GU47,CurrentListing_C089,0),1)),20),DY47),HYPERLINK(\"#'C089'!\"&\"$V$12\",DY47))","v":"MC"},{"$f":"IFERROR(HYPERLINK(\"#'C089'!\"&ADDRESS(ROW(INDEX(CurrentListing_C089,MATCH(GV47,CurrentListing_C089,0),1)),20),DZ47),HYPERLINK(\"#'C089'!\"&\"$V$12\",DZ47))","v":"MC"},{"$f":"IFERROR(HYPERLINK(\"#'C089'!\"&ADDRESS(ROW(INDEX(CurrentListing_C089,MATCH(GW47,CurrentListing_C089,0),1)),20),EA47),HYPERLINK(\"#'C089'!\"&\"$V$12\",EA47))","v":"MC"},{"$f":"IFERROR(HYPERLINK(\"#'C089'!\"&ADDRESS(ROW(INDEX(CurrentListing_C089,MATCH(GX47,CurrentListing_C089,0),1)),20),EB47),HYPERLINK(\"#'C089'!\"&\"$V$12\",EB47))","v":"MC"},{"$f":"IFERROR(HYPERLINK(\"#'C089'!\"&ADDRESS(ROW(INDEX(CurrentListing_C089,MATCH(GY47,CurrentListing_C089,0),1)),20),EC47),HYPERLINK(\"#'C089'!\"&\"$V$12\",EC47))","v":"MC"},{"$f":"IFERROR(HYPERLINK(\"#'C089'!\"&ADDRESS(ROW(INDEX(CurrentListing_C089,MATCH(GZ47,CurrentListing_C089,0),1)),20),ED47),HYPERLINK(\"#'C089'!\"&\"$V$12\",ED47))","v":"MC"},0,{"$f":"IFERROR(HYPERLINK(\"#'C089'!\"&ADDRESS(ROW(INDEX(CurrentListing_C089,MATCH(HB47,CurrentListing_C089,0),1)),20),EF47),HYPERLINK(\"#'C089'!\"&\"$V$12\",EF47))","v":"MC"},{"$f":"IFERROR(HYPERLINK(\"#'C089'!\"&ADDRESS(ROW(INDEX(CurrentListing_C089,MATCH(HC47,CurrentListing_C089,0),1)),20),EG47),HYPERLINK(\"#'C089'!\"&\"$V$12\",EG47))","v":"MC"},{"$f":"IFERROR(HYPERLINK(\"#'C089'!\"&ADDRESS(ROW(INDEX(CurrentListing_C089,MATCH(HD47,CurrentListing_C089,0),1)),20),EH47),HYPERLINK(\"#'C089'!\"&\"$V$12\",EH47))","v":"MC"},{"$f":"IFERROR(HYPERLINK(\"#'C089'!\"&ADDRESS(ROW(INDEX(CurrentListing_C089,MATCH(HE47,CurrentListing_C089,0),1)),20),EI47),HYPERLINK(\"#'C089'!\"&\"$V$12\",EI47))","v":"MC"},{"$f":"IFERROR(HYPERLINK(\"#'C089'!\"&ADDRESS(ROW(INDEX(CurrentListing_C089,MATCH(HF47,CurrentListing_C089,0),1)),20),EJ47),HYPERLINK(\"#'C089'!\"&\"$V$12\",EJ47))","v":"MC"},{"$f":"IFERROR(HYPERLINK(\"#'C089'!\"&ADDRESS(ROW(INDEX(CurrentListing_C089,MATCH(HG47,CurrentListing_C089,0),1)),20),EK47),HYPERLINK(\"#'C089'!\"&\"$V$12\",EK47))","v":"MC"},{"$f":"IFERROR(HYPERLINK(\"#'C089'!\"&ADDRESS(ROW(INDEX(CurrentListing_C089,MATCH(HH47,CurrentListing_C089,0),1)),20),EL47),HYPERLINK(\"#'C089'!\"&\"$V$12\",EL47))","v":"MC"},0,{"$f":"IFERROR(HYPERLINK(\"#'C089'!\"&ADDRESS(ROW(INDEX(CurrentListing_C089,MATCH(HJ47,CurrentListing_C089,0),1)),20),EN47),HYPERLINK(\"#'C089'!\"&\"$V$12\",EN47))","v":"MC"},{"$f":"IFERROR(HYPERLINK(\"#'C089'!\"&ADDRESS(ROW(INDEX(CurrentListing_C089,MATCH(HK47,CurrentListing_C089,0),1)),20),EO47),HYPERLINK(\"#'C089'!\"&\"$V$12\",EO47))","v":"MC"},{"$f":"IFERROR(HYPERLINK(\"#'C089'!\"&ADDRESS(ROW(INDEX(CurrentListing_C089,MATCH(HL47,CurrentListing_C089,0),1)),20),EP47),HYPERLINK(\"#'C089'!\"&\"$V$12\",EP47))","v":"MC"},{"$f":"IFERROR(HYPERLINK(\"#'C089'!\"&ADDRESS(ROW(INDEX(CurrentListing_C089,MATCH(HM47,CurrentListing_C089,0),1)),20),EQ47),HYPERLINK(\"#'C089'!\"&\"$V$12\",EQ47))","v":"MC"},{"$f":"IFERROR(HYPERLINK(\"#'C089'!\"&ADDRESS(ROW(INDEX(CurrentListing_C089,MATCH(HN47,CurrentListing_C089,0),1)),20),ER47),HYPERLINK(\"#'C089'!\"&\"$V$12\",ER47))","v":"MC"},{"$f":"IFERROR(HYPERLINK(\"#'C089'!\"&ADDRESS(ROW(INDEX(CurrentListing_C089,MATCH(HO47,CurrentListing_C089,0),1)),20),ES47),HYPERLINK(\"#'C089'!\"&\"$V$12\",ES47))","v":"MC"},{"$f":"IFERROR(HYPERLINK(\"#'C089'!\"&ADDRESS(ROW(INDEX(CurrentListing_C089,MATCH(HP47,CurrentListing_C089,0),1)),20),ET47),HYPERLINK(\"#'C089'!\"&\"$V$12\",ET47))","v":"MC"},0,0,null,null,null,null,"Developmental Delay1","MC","MC","MC","MC","MC","MC","MC",null,"MC","MC","MC","MC","MC","MC","MC",null,"MC","MC","MC","MC","MC","MC","MC",null,"MC","MC","MC","MC","MC","MC","MC",null,"MC","MC","MC","MC","MC","MC","MC",null,"MC","MC","MC","MC","MC","MC","MC",null,"MC","MC","MC","MC","MC","MC","MC",null,"MC","MC","MC","MC","MC","MC","MC",null,"MC","MC","MC","MC","MC","MC","MC",null,null,"Developmental Delay1","HI7DDREC10YSVCSN","AM7DDREC10YSVCSN","AS7DDREC10YSVCSN","BL7DDREC10YSVCSN","PI7DDREC10YSVCSN","WH7DDREC10YSVCSN","MU7DDREC10YSVCSN",null,"HI7DDREC10YOTHLOCN","AM7DDREC10YOTHLOCN","AS7DDREC10YOTHLOCN","BL7DDREC10YOTHLOCN","PI7DDREC10YOTHLOCN","WH7DDREC10YOTHLOCN","MU7DDREC10YOTHLOCN",null,"HI7DDREC09YSVCSN","AM7DDREC09YSVCSN","AS7DDREC09YSVCSN","BL7DDREC09YSVCSN","PI7DDREC09YSVCSN","WH7DDREC09YSVCSN","MU7DDREC09YSVCSN",null,"HI7DDREC09YOTHLOCN","AM7DDREC09YOTHLOCN","AS7DDREC09YOTHLOCN","BL7DDREC09YOTHLOCN","PI7DDREC09YOTHLOCN","WH7DDREC09YOTHLOCN","MU7DDREC09YOTHLOCN",null,"HI7DDSCN","AM7DDSCN","AS7DDSCN","BL7DDSCN","PI7DDSCN","WH7DDSCN","MU7DDSCN",null,"HI7DDSSN","AM7DDSSN","AS7DDSSN","BL7DDSSN","PI7DDSSN","WH7DDSSN","MU7DDSSN",null,"HI7DDRFN","AM7DDRFN","AS7DDRFN","BL7DDRFN","PI7DDRFN","WH7DDRFN","MU7DDRFN",null,"HI7DDHN","AM7DDHN","AS7DDHN","BL7DDHN","PI7DDHN","WH7DDHN","MU7DDHN",null,"HI7DDSPLN","AM7DDSPLN","AS7DDSPLN","BL7DDSPLN","PI7DDSPLN","WH7DDSPLN","MU7DDSPLN"]
["Calculated Total",{"$f":"SUM(B35:B47)","v":0},{"$f":"SUM(C35:C47)","v":0},0,0,0,0,0,{"$f":"SUM(I35:I47)","v":0},{"$f":"SUM(J35:J47)","v":0},{"$f":"SUM(K35:K47)","v":0},{"$f":"SUM(L35:L47)","v":0},{"$f":"SUM(M35:M47)","v":0},{"$f":"SUM(N35:N47)","v":0},{"$f":"SUM(O35:O47)","v":0},{"$f":"SUM(P35:P47)","v":0},{"$f":"SUM(Q35:Q47)","v":0},{"$f":"SUM(R35:R47)","v":0},{"$f":"SUM(S35:S47)","v":0},{"$f":"SUM(T35:T47)","v":0},{"$f":"SUM(U35:U47)","v":0},{"$f":"SUM(V35:V47)","v":0},{"$f":"SUM(W35:W47)","v":0},{"$f":"SUM(X35:X47)","v":0},{"$f":"SUM(Y35:Y47)","v":0},{"$f":"SUM(Z35:Z47)","v":0},{"$f":"SUM(AA35:AA47)","v":0},{"$f":"SUM(AB35:AB47)","v":0},{"$f":"SUM(AC35:AC47)","v":0},{"$f":"SUM(AD35:AD47)","v":0},{"$f":"SUM(AE35:AE47)","v":0},{"$f":"SUM(AF35:AF47)","v":0},{"$f":"SUM(AG35:AG47)","v":0},{"$f":"SUM(AH35:AH47)","v":0},{"$f":"SUM(AI35:AI47)","v":0},{"$f":"SUM(AJ35:AJ47)","v":0},{"$f":"SUM(AK35:AK47)","v":0},{"$f":"SUM(AL35:AL47)","v":0},{"$f":"SUM(AM35:AM47)","v":0},{"$f":"SUM(AN35:AN47)","v":0},{"$f":"SUM(AO35:AO47)","v":0},{"$f":"SUM(AP35:AP47)","v":0},{"$f":"SUM(AQ35:AQ47)","v":0},{"$f":"SUM(AR35:AR47)","v":0},{"$f":"SUM(AS35:AS47)","v":0},{"$f":"SUM(AT35:AT47)","v":0},{"$f":"SUM(AU35:AU47)","v":0},{"$f":"SUM(AV35:AV47)","v":0},{"$f":"SUM(AW35:AW47)","v":0},{"$f":"SUM(AX35:AX47)","v":0},{"$f":"SUM(AY35:AY47)","v":0},{"$f":"SUM(AZ35:AZ47)","v":0},{"$f":"SUM(BA35:BA47)","v":0},{"$f":"SUM(BB35:BB47)","v":0},{"$f":"SUM(BC35:BC47)","v":0},{"$f":"SUM(BD35:BD47)","v":0},{"$f":"SUM(BE35:BE47)","v":0},{"$f":"SUM(BF35:BF47)","v":0},{"$f":"SUM(BG35:BG47)","v":0},{"$f":"SUM(BH35:BH47)","v":0},{"$f":"SUM(BI35:BI47)","v":0},{"$f":"SUM(BJ35:BJ47)","v":0},{"$f":"SUM(BK35:BK47)","v":0},{"$f":"SUM(BL35:BL47)","v":0},{"$f":"SUM(BM35:BM47)","v":0},{"$f":"SUM(BN35:BN47)","v":0},{"$f":"SUM(BO35:BO47)","v":0},{"$f":"SUM(BP35:BP47)","v":0},{"$f":"SUM(BQ35:BQ47)","v":0},{"$f":"SUM(BR35:BR47)","v":0},{"$f":"SUM(BS35:BS47)","v":0},{"$f":"SUM(BT35:BT47)","v":0},{"$f":"SUM(BU35:BU47)","v":0},0,null,null,null,null,"Total",null,null,null,null,null,null,null,{"$f":"IFERROR(IF(INDEX(Ttl_C089,MATCH(FE48,CurrentListing_C089,0))=\"\",\"No Data\",INDEX(Ttl_C089,MATCH(FE48,CurrentListing_C089,0))),\"MC\")","v":"MC"},null,null,null,null,null,null,null,{"$f":"IFERROR(IF(INDEX(Ttl_C089,MATCH(FM48,CurrentListing_C089,0))=\"\",\"No Data\",INDEX(Ttl_C089,MATCH(FM48,CurrentListing_C089,0))),\"MC\")","v":"MC"},null,null,null,null,null,null,null,{"$f":"IFERROR(IF(INDEX(Ttl_C089,MATCH(FU48,CurrentListing_C089,0))=\"\",\"No Data\",INDEX(Ttl_C089,MATCH(FU48,CurrentListing_C089,0))),\"MC\")","v":"MC"},null,null,null,null,null,null,null,{"$f":"IFERROR(IF(INDEX(Ttl_C089,MATCH(GC48,CurrentListing_C089,0))=\"\",\"No Data\",INDEX(Ttl_C089,MATCH(GC48,CurrentListing_C089,0))),\"MC\")","v":"MC"},null,null,null,null,null,null,null,{"$f":"IFERROR(IF(INDEX(Ttl_C089,MATCH(GK48,CurrentListing_C089,0))=\"\",\"No Data\",INDEX(Ttl_C089,MATCH(GK48,CurrentListing_C089,0))),\"MC\")","v":"MC"},null,null,null,null,null,null,null,{"$f":"IFERROR(IF(INDEX(Ttl_C089,MATCH(GS48,CurrentListing_C089,0))=\"\",\"No Data\",INDEX(Ttl_C089,MATCH(GS48,CurrentListing_C089,0))),\"MC\")","v":"MC"},null,null,null,null,null,null,null,{"$f":"IFERROR(IF(INDEX(Ttl_C089,MATCH(HA48,CurrentListing_C089,0))=\"\",\"No Data\",INDEX(Ttl_C089,MATCH(HA48,CurrentListing_C089,0))),\"MC\")","v":"MC"},null,null,null,null,null,null,null,{"$f":"IFERROR(IF(INDEX(Ttl_C089,MATCH(HI48,CurrentListing_C089,0))=\"\",\"No Data\",INDEX(Ttl_C089,MATCH(HI48,CurrentListing_C089,0))),\"MC\")","v":"MC"},null,null,null,null,null,null,null,{"$f":"IFERROR(IF(INDEX(Ttl_C089,MATCH(HQ48,CurrentListing_C089,0))=\"\",\"No Data\",INDEX(Ttl_C089,MATCH(HQ48,CurrentListing_C089,0))),\"MC\")","v":"MC"},null,"Total",null,null,null,null,null,null,null,"REC10YSVCSY",null,null,null,null,null,null,null,"REC10YOTHLOCY",null,null,null,null,null,null,null,"REC09YSVCSY",null,null,null,null,null,null,null,"REC09YOTHLOCY",null,null,null,null,null,null,null,"SCY",null,null,null,null,null,null,null,"SSY",null,null,null,null,null,null,null,"RFY",null,null,null,null,null,null,null,"HY",null,null,null,null,null,null,null,"SPLY"]
[]
["Student Count \nby Sex and Educational Environment\n(Category Set C)",null,null,null,null,null,"Sex",null,null,null,"Student Count \nby English Learner Status and Educational Environment\n(Category Set D)",null,null,null,null,null,null,null,"English Learner Status ",null,null,null,null,null,null,null,null,null,null,null,null,null,null,null,null,null,null,null,null,null,null,null,null,null,null,null,null,null,null,null,null,null,null,null,null,null,null,null,null,null,null,null,null,null,null,null,null,null,null,null,null,null,null,null,null,null,null,null,"Student count \nby Sex and Educational Environment\n(Category Set C)",null,null,null,null,null,"Sex",null,null,null,null,null,null,"Student count \nby LEP Status and Educational Environment\n(Category Set D)",null,null,null,null,null,null,null,"LEP Status"]
[null,null,null,null,null,null,"Male","Female","Calculated \nTotal",null,null,null,null,null,null,null,null,null,"English Learner","Non-English Learner","Calculated \nTotal",null,null,null,null,null,null,null,null,null,null,null,null,null,null,null,null,null,null,null,null,null,null,null,null,null,null,null,null,null,null,null,null,null,null,null,null,null,null,null,null,null,null,null,null,null,null,null,null,null,null,null,null,null,null,null,null,null,null,null,null,null,null,null,"Male","Female","Total",null,null,null,null,null,null,null,null,null,null,null,null,"Yes","No","Total"]
["(A) Children attending a Regular Early Childhood Program at least 10 hrs. per week,…","(A1)... and receiving the majority of hours of special education and related services in the Regular Early Childhood Program",null,null,null,null,{"$f":"IFERROR(HYPERLINK(\"#'C089'!\"&ADDRESS(ROW(INDEX(CurrentListing_C089,MATCH(BX52,CurrentListing_C089,0),1)),20),CG52),HYPERLINK(\"#'C089'!\"&\"$V$12\",CG52))","v":"MC"},{"$f":"IFERROR(HYPERLINK(\"#'C089'!\"&ADDRESS(ROW(INDEX(CurrentListing_C089,MATCH(BY52,CurrentListing_C089,0),1)),20),CH52),HYPERLINK(\"#'C089'!\"&\"$V$12\",CH52))","v":"MC"},{"$f":"SUM(G52:H52)","v":0},null,"(A) Children attending a Regular Early Childhood Program at least 10 hrs. per week,…",null,null,"(A1)... and receiving the majority of hours of special education and related services in the Regular Early Childhood Program",null,null,null,null,{"$f":"IFERROR(HYPERLINK(\"#'C089'!\"&ADDRESS(ROW(INDEX(CurrentListing_C089,MATCH(CK52,CurrentListing_C089,0),1)),20),CV52),HYPERLINK(\"#'C089'!\"&\"$V$12\",CV52))","v":"MC"},{"$f":"IFERROR(HYPERLINK(\"#'C089'!\"&ADDRESS(ROW(INDEX(CurrentListing_C089,MATCH(CL52,CurrentListing_C089,0),1)),20),CW52),HYPERLINK(\"#'C089'!\"&\"$V$12\",CW52))","v":"MC"},{"$f":"SUM(S52:T52)","v":0},null,null,null,null,null,null,null,null,null,null,null,null,null,null,null,null,null,null,null,null,null,null,null,null,null,null,null,null,null,null,null,null,null,null,null,null,null,null,null,null,null,null,null,null,null,null,null,null,null,null,null,null,null,null,"MREC10YSVCSN","FREC10YSVCSN","REC10YSVCSY","(A) Children attending a Regular Early Childhood Program at least 10 hrs.CA52 per week,…","(A1)... and receiving the majority of hours of special education and related services in the Regular Early Childhood Program",null,null,null,null,{"$f":"IFERROR(IF(INDEX(Ttl_C089,MATCH(BX52,CurrentListing_C089,0))=\"\",\"No Data\",INDEX(Ttl_C089,MATCH(BX52,CurrentListing_C089,0))),\"MC\")","v":"MC"},{"$f":"IFERROR(IF(INDEX(Ttl_C089,MATCH(BY52,CurrentListing_C089,0))=\"\",\"No Data\",INDEX(Ttl_C089,MATCH(BY52,CurrentListing_C089,0))),\"MC\")","v":"MC"},{"$f":"IFERROR(IF(INDEX(Ttl_C089,MATCH(BZ52,CurrentListing_C089,0))=\"\",\"No Data\",INDEX(Ttl_C089,MATCH(BZ52,CurrentListing_C089,0))),\"MC\")","v":"MC"},null,"LEPREC10YSVCSN","NLEPREC10YSVCSN","REC10YSVCSY","(A) Children attending a Regular Early Childhood Program at least 10 hrs per week,…",null,null,"(A1)... and receiving the majority of hours of special education and related services in the Regular Early Childhood Program",null,null,null,null,{"$f":"IFERROR(IF(INDEX(Ttl_C089,MATCH(CK52,CurrentListing_C089,0))=\"\",\"No Data\",INDEX(Ttl_C089,MATCH(CK52,CurrentListing_C089,0))),\"MC\")","v":"MC"},{"$f":"IFERROR(IF(INDEX(Ttl_C089,MATCH(CL52,CurrentListing_C089,0))=\"\",\"No Data\",INDEX(Ttl_C089,MATCH(CL52,CurrentListing_C089,0))),\"MC\")","v":"MC"},{"$f":"IFERROR(IF(INDEX(Ttl_C089,MATCH(CM52,CurrentListing_C089,0))=\"\",\"No Data\",INDEX(Ttl_C089,MATCH(CM52,CurrentListing_C089,0))),\"MC\")","v":"MC"}]
[null,"(A2)… and receiving the majority of hours of special education and related services in some Other Location ",null,null,null,null,{"$f":"IFERROR(HYPERLINK(\"#'C089'!\"&ADDRESS(ROW(INDEX(CurrentListing_C089,MATCH(BX53,CurrentListing_C089,0),1)),20),CG53),HYPERLINK(\"#'C089'!\"&\"$V$12\",CG53))","v":"MC"},{"$f":"IFERROR(HYPERLINK(\"#'C089'!\"&ADDRESS(ROW(INDEX(CurrentListing_C089,MATCH(BY53,CurrentListing_C089,0),1)),20),CH53),HYPERLINK(\"#'C089'!\"&\"$V$12\",CH53))","v":"MC"},{"$f":"SUM(G53:H53)","v":0},null,null,null,null,"(A2)… and receiving the majority of hours of special education and related services in some Other Location ",null,null,null,null,{"$f":"IFERROR(HYPERLINK(\"#'C089'!\"&ADDRESS(ROW(INDEX(CurrentListing_C089,MATCH(CK53,CurrentListing_C089,0),1)),20),CV53),HYPERLINK(\"#'C089'!\"&\"$V$12\",CV53))","v":"MC"},{"$f":"IFERROR(HYPERLINK(\"#'C089'!\"&ADDRESS(ROW(INDEX(CurrentListing_C089,MATCH(CL53,CurrentListing_C089,0),1)),20),CW53),HYPERLINK(\"#'C089'!\"&\"$V$12\",CW53))","v":"MC"},{"$f":"SUM(S53:T53)","v":0},null,null,null,null,null,null,null,null,null,null,null,null,null,null,null,null,null,null,null,null,null,null,null,null,null,null,null,null,null,null,null,null,null,null,null,null,null,null,null,null,null,null,null,null,null,null,null,null,null,null,null,null,null,null,"MREC10YOTHLOCN","FREC10YOTHLOCN","REC10YOTHLOCY",null,"(A2)… and receiving the majority of hours of special education and related services in some Other Location ",null,null,null,null,"MC","MC","MC",null,"LEPREC10YOTHLOCN","NLEPREC10YOTHLOCN","REC10YOTHLOCY",null,null,null,"(A2)… and receiving the majority of hours of special education and related services in some Other Location ",null,null,null,null,"MC","MC","MC"]
["(B) Children attending a Regular Early Childhood Program less than 10 hrs. per week,…","(B1)… and receiving the majority of hours of special education and related services in the Regular Early Childhood Program",null,null,null,null,{"$f":"IFERROR(HYPERLINK(\"#'C089'!\"&ADDRESS(ROW(INDEX(CurrentListing_C089,MATCH(BX54,CurrentListing_C089,0),1)),20),CG54),HYPERLINK(\"#'C089'!\"&\"$V$12\",CG54))","v":"MC"},{"$f":"IFERROR(HYPERLINK(\"#'C089'!\"&ADDRESS(ROW(INDEX(CurrentListing_C089,MATCH(BY54,CurrentListing_C089,0),1)),20),CH54),HYPERLINK(\"#'C089'!\"&\"$V$12\",CH54))","v":"MC"},0,null,"(B) Children attending a Regular Early Childhood Program less than 10 hrs. per week,…",null,null,"(B1)… and receiving the majority of hours of special education and related services in the Regular Early Childhood Program",null,null,null,null,{"$f":"IFERROR(HYPERLINK(\"#'C089'!\"&ADDRESS(ROW(INDEX(CurrentListing_C089,MATCH(CK54,CurrentListing_C089,0),1)),20),CV54),HYPERLINK(\"#'C089'!\"&\"$V$12\",CV54))","v":"MC"},{"$f":"IFERROR(HYPERLINK(\"#'C089'!\"&ADDRESS(ROW(INDEX(CurrentListing_C089,MATCH(CL54,CurrentListing_C089,0),1)),20),CW54),HYPERLINK(\"#'C089'!\"&\"$V$12\",CW54))","v":"MC"},0,null,null,null,null,null,null,null,null,null,null,null,null,null,null,null,null,null,null,null,null,null,null,null,null,null,null,null,null,null,null,null,null,null,null,null,null,null,null,null,null,null,null,null,null,null,null,null,null,null,null,null,null,null,null,"MREC09YSVCSN","FREC09YSVCSN","REC09YSVCSY","(B) Children attending a Regular Early Childhood Program less than 10 hrs per week,…","(B1)… and receiving the majority of hours of special education and related services in the Regular Early Childhood Program",null,null,null,null,"MC","MC","MC",null,"LEPREC09YSVCSN","NLEPREC09YSVCSN","REC09YSVCSY","(B) Children attending a Regular Early Childhood Program less than 10 hrs per week,…",null,null,"(B1)… and receiving the majority of hours of special education and related services in the Regular Early Childhood Program",null,null,null,null,"MC","MC","MC"]
[null,"(B2)… and receiving the majority of hours of special education and related services in some Other Location",null,null,null,null,{"$f":"IFERROR(HYPERLINK(\"#'C089'!\"&ADDRESS(ROW(INDEX(CurrentListing_C089,MATCH(BX55,CurrentListing_C089,0),1)),20),CG55),HYPERLINK(\"#'C089'!\"&\"$V$12\",CG55))","v":"MC"},{"$f":"IFERROR(HYPERLINK(\"#'C089'!\"&ADDRESS(ROW(INDEX(CurrentListing_C089,MATCH(BY55,CurrentListing_C089,0),1)),20),CH55),HYPERLINK(\"#'C089'!\"&\"$V$12\",CH55))","v":"MC"},0,null,null,null,null,"(B2)… and receiving the majority of hours of special education and related services in some Other Location",null,null,null,null,{"$f":"IFERROR(HYPERLINK(\"#'C089'!\"&ADDRESS(ROW(INDEX(CurrentListing_C089,MATCH(CK55,CurrentListing_C089,0),1)),20),CV55),HYPERLINK(\"#'C089'!\"&\"$V$12\",CV55))","v":"MC"},{"$f":"IFERROR(HYPERLINK(\"#'C089'!\"&ADDRESS(ROW(INDEX(CurrentListing_C089,MATCH(CL55,CurrentListing_C089,0),1)),20),CW55),HYPERLINK(\"#'C089'!\"&\"$V$12\",CW55))","v":"MC"},0,null,null,null,null,null,null,null,null,null,null,null,null,null,null,null,null,null,null,null,null,null,null,null,null,null,null,null,null,null,null,null,null,null,null,null,null,null,null,null,null,null,null,null,null,null,null,null,null,null,null,null,null,null,null,"MREC09YOTHLOCN","FREC09YOTHLOCN","REC09YOTHLOCY",null,"(B2)… and receiving the majority of hours of special education and related services in some Other Location",null,null,null,null,"MC","MC","MC",null,"LEPREC09YOTHLOCN","NLEPREC09YOTHLOCN","REC09YOTHLOCY",null,null,null,"(B2)… and receiving the majority of hours of special education and related services in some Other Location",null,null,null,null,"MC","MC","MC"]
["(C) Children attending a Special \nEducation Program (NOT in any\nRegular Early Childhood Program),...\n","(C1)… specifically, a Separate Special \nEducation Class",null,null,null,null,{"$f":"IFERROR(HYPERLINK(\"#'C089'!\"&ADDRESS(ROW(INDEX(CurrentListing_C089,MATCH(BX56,CurrentListing_C089,0),1)),20),CG56),HYPERLINK(\"#'C089'!\"&\"$V$12\",CG56))","v":"MC"},{"$f":"IFERROR(HYPERLINK(\"#'C089'!\"&ADDRESS(ROW(INDEX(CurrentListing_C089,MATCH(BY56,CurrentListing_C089,0),1)),20),CH56),HYPERLINK(\"#'C089'!\"&\"$V$12\",CH56))","v":"MC"},0,null,"(C) Children attending a Special \nEducation Program (NOT in any\nregular early childhood program),...\n",null,null,"(C1)… specifically, a Separate Special \nEducation Class",null,null,null,null,{"$f":"IFERROR(HYPERLINK(\"#'C089'!\"&ADDRESS(ROW(INDEX(CurrentListing_C089,MATCH(CK56,CurrentListing_C089,0),1)),20),CV56),HYPERLINK(\"#'C089'!\"&\"$V$12\",CV56))","v":"MC"},{"$f":"IFERROR(HYPERLINK(\"#'C089'!\"&ADDRESS(ROW(INDEX(CurrentListing_C089,MATCH(CL56,CurrentListing_C089,0),1)),20),CW56),HYPERLINK(\"#'C089'!\"&\"$V$12\",CW56))","v":"MC"},0,null,null,null,null,null,null,null,null,null,null,null,null,null,null,null,null,null,null,null,null,null,null,null,null,null,null,null,null,null,null,null,null,null,null,null,null,null,null,null,null,null,null,null,null,null,null,null,null,null,null,null,null,null,null,"MSCN","FSCN","SCY","(C) Children attending a Special \nEducation Program (NOT in any\nregular early childhood program),...\n","(C1)… specifically, a Separate Special \nEducation Class",null,null,null,null,"MC","MC","MC",null,"LEPSCN","NLEPSCN","SCY","(C) Children attending a Special \nEducation Program (NOT in any\nregular early childhood program),...\n",null,null,"(C1)… specifically, a Separate Special \nEducation Class",null,null,null,null,"MC","MC","MC"]
[null,"(C2)… specifically, a Separate School",null,null,null,null,{"$f":"IFERROR(HYPERLINK(\"#'C089'!\"&ADDRESS(ROW(INDEX(CurrentListing_C089,MATCH(BX57,CurrentListing_C089,0),1)),20),CG57),HYPERLINK(\"#'C089'!\"&\"$V$12\",CG57))","v":"MC"},{"$f":"IFERROR(HYPERLINK(\"#'C089'!\"&ADDRESS(ROW(INDEX(CurrentListing_C089,MATCH(BY57,CurrentListing_C089,0),1)),20),CH57),HYPERLINK(\"#'C089'!\"&\"$V$12\",CH57))","v":"MC"},0,null,null,null,null,"(C2)… specifically, a Separate School",null,null,null,null,{"$f":"IFERROR(HYPERLINK(\"#'C089'!\"&ADDRESS(ROW(INDEX(CurrentListing_C089,MATCH(CK57,CurrentListing_C089,0),1)),20),CV57),HYPERLINK(\"#'C089'!\"&\"$V$12\",CV57))","v":"MC"},{"$f":"IFERROR(HYPERLINK(\"#'C089'!\"&ADDRESS(ROW(INDEX(CurrentListing_C089,MATCH(CL57,CurrentListing_C089,0),1)),20),CW57),HYPERLINK(\"#'C089'!\"&\"$V$12\",CW57))","v":"MC"},0,null,null,null,null,null,null,null,null,null,null,null,null,null,null,null,null,null,null,null,null,null,null,null,null,null,null,null,null,null,null,null,null,null,null,null,null,null,null,null,null,null,null,null,null,null,null,null,null,null,null,null,null,null,null,"MSSN","FSSN","SSY",null,"(C2)… specifically, a Separate School",null,null,null,null,"MC","MC","MC",null,"LEPSSN","NLEPSSN","SSY",null,null,null,"(C2)… specifically, a Separate School",null,null,null,null,"MC","MC","MC"]
[null,"(C3)… specifically, a Residential Facility",null,null,null,null,{"$f":"IFERROR(HYPERLINK(\"#'C089'!\"&ADDRESS(ROW(INDEX(CurrentListing_C089,MATCH(BX58,CurrentListing_C089,0),1)),20),CG58),HYPERLINK(\"#'C089'!\"&\"$V$12\",CG58))","v":"MC"},{"$f":"IFERROR(HYPERLINK(\"#'C089'!\"&ADDRESS(ROW(INDEX(CurrentListing_C089,MATCH(BY58,CurrentListing_C089,0),1)),20),CH58),HYPERLINK(\"#'C089'!\"&\"$V$12\",CH58))","v":"MC"},0,null,null,null,null,"(C3)… specifically, a Residential Facility",null,null,null,null,{"$f":"IFERROR(HYPERLINK(\"#'C089'!\"&ADDRESS(ROW(INDEX(CurrentListing_C089,MATCH(CK58,CurrentListing_C089,0),1)),20),CV58),HYPERLINK(\"#'C089'!\"&\"$V$12\",CV58))","v":"MC"},{"$f":"IFERROR(HYPERLINK(\"#'C089'!\"&ADDRESS(ROW(INDEX(CurrentListing_C089,MATCH(CL58,CurrentListing_C089,0),1)),20),CW58),HYPERLINK(\"#'C089'!\"&\"$V$12\",CW58))","v":"MC"},0,null,null,null,null,null,null,null,null,null,null,null,null,null,null,null,null,null,null,null,null,null,null,null,null,null,null,null,null,null,null,null,null,null,null,null,null,null,null,null,null,null,null,null,null,null,null,null,null,null,null,null,null,null,null,"MRFN","FRFN","RFY",null,"(C3)… specifically, a Residential Facility",null,null,null,null,"MC","MC","MC",null,"LEPRFN","NLEPRFN","RFY",null,null,null,"(C3)… specifically, a Residential Facility",null,null,null,null,"MC","MC","MC"]
["(D) Children attending neither a\nRegular Early Childhood Program\nnor a Special Education Program\n(not included in (A), (B), or (C))","(D1)… and receiving the majority of hours of \nspecial education and related services at\nHome",null,null,null,null,{"$f":"IFERROR(HYPERLINK(\"#'C089'!\"&ADDRESS(ROW(INDEX(CurrentListing_C089,MATCH(BX59,CurrentListing_C089,0),1)),20),CG59),HYPERLINK(\"#'C089'!\"&\"$V$12\",CG59))","v":"MC"},{"$f":"IFERROR(HYPERLINK(\"#'C089'!\"&ADDRESS(ROW(INDEX(CurrentListing_C089,MATCH(BY59,CurrentListing_C089,0),1)),20),CH59),HYPERLINK(\"#'C089'!\"&\"$V$12\",CH59))","v":"MC"},0,null,"(D) Children attending neither a\nRegular Early Childhood Program\nnor a Special Education Program\n(not included in (A), (B), or (C))",null,null,"(D1)… and receiving the majority of hours of \nspecial education and related services at\nHome",null,null,null,null,{"$f":"IFERROR(HYPERLINK(\"#'C089'!\"&ADDRESS(ROW(INDEX(CurrentListing_C089,MATCH(CK59,CurrentListing_C089,0),1)),20),CV59),HYPERLINK(\"#'C089'!\"&\"$V$12\",CV59))","v":"MC"},{"$f":"IFERROR(HYPERLINK(\"#'C089'!\"&ADDRESS(ROW(INDEX(CurrentListing_C089,MATCH(CL59,CurrentListing_C089,0),1)),20),CW59),HYPERLINK(\"#'C089'!\"&\"$V$12\",CW59))","v":"MC"},0,null,null,null,null,null,null,null,null,null,null,null,null,null,null,null,null,null,null,null,null,null,null,null,null,null,null,null,null,null,null,null,null,null,null,null,null,null,null,null,null,null,null,null,null,null,null,null,null,null,null,null,null,null,null,"MHN","FHN","HY","(D) Children attending neither a\nRegular Early Childhood Program\nnor a Special Education Program\n(not included in (A), (B) or (C))","(D1)… and receiving the majority of hours of \nspecial education and related services at\nHome",null,null,null,null,"MC","MC","MC",null,"LEPHN","NLEPHN","HY","(D) Children attending neither a\nRegular Early Childhood Program\nnor a Special Education Program\n(not included in (A), (B) or (C))",null,null,"(D1)… and receiving the majority of hours of \nspecial education and related services at\nHome",null,null,null,null,"MC","MC","MC"]
[null,"(D2)… and receiving the majority of hours of special education and related services at the Service Provider Location or some Other Location not in any other category",null,null,null,null,{"$f":"IFERROR(HYPERLINK(\"#'C089'!\"&ADDRESS(ROW(INDEX(CurrentListing_C089,MATCH(BX60,CurrentListing_C089,0),1)),20),CG60),HYPERLINK(\"#'C089'!\"&\"$V$12\",CG60))","v":"MC"},{"$f":"IFERROR(HYPERLINK(\"#'C089'!\"&ADDRESS(ROW(INDEX(CurrentListing_C089,MATCH(BY60,CurrentListing_C089,0),1)),20),CH60),HYPERLINK(\"#'C089'!\"&\"$V$12\",CH60))","v":"MC"},0,null,null,null,null,"(D2)… and receiving the majority of hours of special education and related services at the Service Provider Location or some Other Location not in any other category",null,null,null,null,{"$f":"IFERROR(HYPERLINK(\"#'C089'!\"&ADDRESS(ROW(INDEX(CurrentListing_C089,MATCH(CK60,CurrentListing_C089,0),1)),20),CV60),HYPERLINK(\"#'C089'!\"&\"$V$12\",CV60))","v":"MC"},{"$f":"IFERROR(HYPERLINK(\"#'C089'!\"&ADDRESS(ROW(INDEX(CurrentListing_C089,MATCH(CL60,CurrentListing_C089,0),1)),20),CW60),HYPERLINK(\"#'C089'!\"&\"$V$12\",CW60))","v":"MC"},0,null,null,null,null,null,null,null,null,null,null,null,null,null,null,null,null,null,null,null,null,null,null,null,null,null,null,null,null,null,null,null,null,null,null,null,null,null,null,null,null,null,null,null,null,null,null,null,null,null,null,null,null,null,null,"MSPLN","FSPLN","SPLY",null,"(D2)… and receiving the majority of hours of special education and related services at the Service Provider Location or some Other Location not in any other category",null,null,null,null,"MC","MC","MC",null,"LEPSPLN","NLEPSPLN","SPLY",null,null,null,"(D2)… and receiving the majority of hours of special education and related services at the Service Provider Location or some Other Location not in any other category",null,null,null,null,"MC","MC","MC"]
["Calculated Total",null,null,null,null,null,{"$f":"SUM(G52:G60)","v":0},{"$f":"SUM(H52:H60)","v":0},0,null,"Calculated Total",null,null,null,null,null,null,null,{"$f":"SUM(S52:S60)","v":0},0,{"$f":"SUM(S61:T61)","v":0},null,null,null,null,null,null,null,null,null,null,null,null,null,null,null,null,null,null,null,null,null,null,null,null,null,null,null,null,null,null,null,null,null,null,null,null,null,null,null,null,null,null,null,null,null,null,null,null,null,null,null,null,null,null,"MY","FY","Y","Total ",null,null,null,null,null,"MC","MC","MC",null,"LEPY","NLEPY","Y","Total ",null,null,null,null,null,null,null,"MC","MC","MC"]
["1The definition of developmental delay is state-determined and applies to children with disabilities (IDEA) aged 3 through 9, or a subset of that age range. See 34 C.F.R. Part 300.111(b)."]
["NOTE: \"MC\" = Missing Category",null,null,null,null,null,null,null,null,null,null,null,null,null,null,null,null,null,null,null,null,null,null,null,null,null,null,null,null,null,null,null,null,null,null,null,null,null,null,null,null,null,null,null,null,null,null,null,null,null,null,null,null,null,null,null,null,null,null,null,null,null,null,null,null,null,null,null,null,null,null,null,null,null,null,null,null,null,null,null,null,null,null,null,null,null,null,null,null,"NLEPHN"]
["End of worksheet",null,null,null,null,null,null,null,null,null,null,null,null,null,null,null,null,null,null,null,null,null,null,null,null,null,null,null,null,null,null,null,null,null,null,null,null,null,null,null,null,null,null,null,null,null,null,null,null,null,null,null,null,null,null,null,null,null,null,null,null,null,null,null,null,null,null,null,null,null,null,null,null,null,null,null,null,null,null,null,null,null,null,null,null,null,null,null,null,"NLEPREC09YOTHLOCN"]
[null,null,null,null,null,null,null,null,null,null,null,null,null,null,null,null,null,null,null,null,null,null,null,null,null,null,null,null,null,null,null,null,null,null,null,null,null,null,null,null,null,null,null,null,null,null,null,null,null,null,null,null,null,null,null,null,null,null,null,null,null,null,null,null,null,null,null,null,null,null,null,null,null,null,null,null,null,null,null,null,null,null,null,null,null,null,null,null,null,"NLEPREC09YSVCSN"]
[null,null,null,null,null,null,null,null,null,null,null,null,null,null,null,null,null,null,null,null,null,null,null,null,null,null,null,null,null,null,null,null,null,null,null,null,null,null,null,null,null,null,null,null,null,null,null,null,null,null,null,null,null,null,null,null,null,null,null,null,null,null,null,null,null,null,null,null,null,null,null,null,null,null,null,null,null,null,null,null,null,null,null,null,null,null,null,null,null,"NLEPREC10YOTHLOCN"]
[null,null,null,null,null,null,null,null,null,null,null,null,null,null,null,null,null,null,null,null,null,null,null,null,null,null,null,null,null,null,null,null,null,null,null,null,null,null,null,null,null,null,null,null,null,null,null,null,null,null,null,null,null,null,null,null,null,null,null,null,null,null,null,null,null,null,null,null,null,null,null,null,null,null,null,null,null,null,null,null,null,null,null,null,null,null,null,null,null,"NLEPREC10YSVCSN"]
[null,null,null,null,null,null,null,null,null,null,null,null,null,null,null,null,null,null,null,null,null,null,null,null,null,null,null,null,null,null,null,null,null,null,null,null,null,null,null,null,null,null,null,null,null,null,null,null,null,null,null,null,null,null,null,null,null,null,null,null,null,null,null,null,null,null,null,null,null,null,null,null,null,null,null,null,null,null,null,null,null,null,null,null,null,null,null,null,null,"NLEPSCN"]
[null,null,null,null,null,null,null,null,null,null,null,null,null,null,null,null,null,null,null,null,null,null,null,null,null,null,null,null,null,null,null,null,null,null,null,null,null,null,null,null,null,null,null,null,null,null,null,null,null,null,null,null,null,null,null,null,null,null,null,null,null,null,null,null,null,null,null,null,null,null,null,null,null,null,null,null,null,null,null,null,null,null,null,null,null,null,null,null,null,"NLEPSPLN"]
[null,null,null,null,null,null,null,null,null,null,null,null,null,null,null,null,null,null,null,null,null,null,null,null,null,null,null,null,null,null,null,null,null,null,null,null,null,null,null,null,null,null,null,null,null,null,null,null,null,null,null,null,null,null,null,null,null,null,null,null,null,null,null,null,null,null,null,null,null,null,null,null,null,null,null,null,null,null,null,null,null,null,null,null,null,null,null,null,null,"NLEPSSN"]
[null,null,null,null,null,null,null,null,null,null,null,null,null,null,null,null,null,null,null,null,null,null,null,null,null,null,null,null,null,null,null,null,null,null,null,null,null,null,null,null,null,null,null,null,null,null,null,null,null,null,null,null,null,null,null,null,null,null,null,null,null,null,null,null,null,null,null,null,null,null,null,null,null,null,null,null,null,null,null,null,null,null,null,null,null,null,null,null,null,"NLEPRFN"]
[null,null,null,null,null,null,null,null,null,null,null,null,null,null,null,null,null,null,null,null,null,null,null,null,null,null,null,null,null,null,null,null,null,null,null,null,null,null,null,null,null,null,null,null,null,null,null,null,null,null,null,null,null,null,null,null,null,null,null,null,null,null,null,null,null,null,null,null,null,null,null,null,null,null,null,null,null,null,null,null,null,null,null,null,null,null,null,null,null,"NLEPY"]

{"sheet":"Additional Summaries","index":5,"n_rows":231,"n_cols":27,"rows_kept":231,"cut":false,"hidden":false,"merged":[[30,8,30,16],[31,15,33,15],[30,0,33,0],[30,1,30,5],[31,1,33,1],[31,2,33,2],[31,8,33,8],[31,9,33,9],[31,10,33,10],[31,11,33,11],[31,12,33,12],[31,14,33,14],[31,13,33,13],[31,3,33,3],[31,4,33,4],[30,7,33,7],[29,1,29,17],[10,16,12,16],[10,14,12,14],[10,2,12,2],[10,9,12,9],[10,3,12,3],[28,0,28,5],[10,8,12,8],[10,1,12,1],[10,4,12,4],[11,5,12,5],[0,17,28,17],[0,0,0,16],[10,12,12,12],[10,15,12,15],[10,13,12,13],[9,1,9,5],[9,8,9,16],[9,0,12,0],[9,7,12,7],[7,12,7,15],[4,12,4,15],[2,12,3,15],[2,16,3,16],[10,10,12,10],[10,11,12,11]]}
[{"$f":"\"IDEA Child Count and Educational Environment Ages 3–5 for School Year \"&'FS089'!E13","v":"IDEA Child Count and Educational Environment Ages 3–5 for School Year "},null,null,null,null,null,null,null,null,null,null,null,null,null,null,null,null,"End of worksheet"]
[null,null,"Hispanic/\nLatino","American Indian or Alaskan Native","Asian","Black or African American","Native Hawaiian or Other Pacific Islander","White","Two or more races"]
[null,null,null,null,null,null,null,null,null,null,null,null,"Additional Summaries ",null,null,null,"Total "]
[]
[null,null,null,null,null,null,null,null,null,null,null,null,"Age and Disability Category ",null,null,null,{"$f":"IF(E27=0, \"\", E27)","v":""}]
[null,null,null,null,null,null,null,null,null,null,null,null,"Racial Ethnic and Disability Category ",null,null,null,{"$f":"IF(P27=0, \"\", P27)","v":""}]
[]
[null,null,null,null,null,null,null,null,null,null,null,null,"Total of the Education Unit",null,null,null,{"$f":"IFERROR(HYPERLINK(\"#'C089'!\"&ADDRESS(ROW(INDEX(CurrentListing_C089,MATCH(U8,CurrentListing_C089,0),1)),20),W8),HYPERLINK(\"#'C089'!\"&\"$V$12\",W8))","v":"MC"},null,null,null,"Y","Total of the Education Units",{"$f":"IFERROR(IF(INDEX(Ttl_C089,MATCH(U8,CurrentListing_C089,0))=\"\",\"No Data\",INDEX(Ttl_C089,MATCH(U8,CurrentListing_C089,0))),\"MC\")","v":"MC"}]
[]
["Student Count by \nAge \nand \nDisability Category  ","Age",null,null,null,null,null,"Student Count by \nRacial Ethnic \nand \nDisability Category","Racial Ethnic"]
[null,3,4,5,"Total",null,null,null,"Hispanic/\nLatino","American Indian or Alaska Native","Asian","Black or African American","Native Hawaiian or Other Pacific Islander","White","Two or more races","Total","Percentage"]
[null,null,null,null,null,"Percentage"]
[]
["Intellectual Disability",{"$f":"B63","v":0},{"$f":"C63","v":0},0,{"$f":"IFERROR(HYPERLINK(\"#'C089'!\"&ADDRESS(ROW(INDEX(CurrentListing_C089,MATCH(F35,CurrentListing_C089,0),1)),20),E35),HYPERLINK(\"#'C089'!\"&\"$V$12\",E35))","v":"MC"},{"$f":"IF(E14=\"MC\", \"\", E14/$E$27)","v":""},null,"Intellectual Disability",{"$f":"K63","v":0},{"$f":"L63","v":0},0,0,0,0,0,{"$f":"IFERROR(HYPERLINK(\"#'C089'!\"&ADDRESS(ROW(INDEX(CurrentListing_C089,MATCH(Q35,CurrentListing_C089,0),1)),20),P35),HYPERLINK(\"#'C089'!\"&\"$V$12\",P35))","v":"MC"},{"$f":"IF(P14=\"MC\", \"\",P14/$E$27)","v":""}]
["Hearing Impairment",{"$f":"B77","v":0},{"$f":"C77","v":0},0,{"$f":"IFERROR(HYPERLINK(\"#'C089'!\"&ADDRESS(ROW(INDEX(CurrentListing_C089,MATCH(F36,CurrentListing_C089,0),1)),20),E36),HYPERLINK(\"#'C089'!\"&\"$V$12\",E36))","v":"MC"},{"$f":"IF(E15=\"MC\", \"\", E15/$E$27)","v":""},null,"Hearing Impairment",{"$f":"K77","v":0},{"$f":"L77","v":0},0,0,0,0,0,{"$f":"IFERROR(HYPERLINK(\"#'C089'!\"&ADDRESS(ROW(INDEX(CurrentListing_C089,MATCH(Q36,CurrentListing_C089,0),1)),20),P36),HYPERLINK(\"#'C089'!\"&\"$V$12\",P36))","v":"MC"},{"$f":"IF(P15=\"MC\", \"\",P15/$E$27)","v":""}]
["Speech or Language Impairment",{"$f":"B91","v":0},{"$f":"C91","v":0},0,{"$f":"IFERROR(HYPERLINK(\"#'C089'!\"&ADDRESS(ROW(INDEX(CurrentListing_C089,MATCH(F37,CurrentListing_C089,0),1)),20),E37),HYPERLINK(\"#'C089'!\"&\"$V$12\",E37))","v":"MC"},"",null,"Speech or Language Impairment",{"$f":"K91","v":0},{"$f":"L91","v":0},0,0,0,0,0,{"$f":"IFERROR(HYPERLINK(\"#'C089'!\"&ADDRESS(ROW(INDEX(CurrentListing_C089,MATCH(Q37,CurrentListing_C089,0),1)),20),P37),HYPERLINK(\"#'C089'!\"&\"$V$12\",P37))","v":"MC"},""]
["Visual Impairment",{"$f":"B105","v":0},{"$f":"C105","v":0},0,{"$f":"IFERROR(HYPERLINK(\"#'C089'!\"&ADDRESS(ROW(INDEX(CurrentListing_C089,MATCH(F38,CurrentListing_C089,0),1)),20),E38),HYPERLINK(\"#'C089'!\"&\"$V$12\",E38))","v":"MC"},"",null,"Visual Impairment",{"$f":"K105","v":0},{"$f":"L105","v":0},0,0,0,0,0,{"$f":"IFERROR(HYPERLINK(\"#'C089'!\"&ADDRESS(ROW(INDEX(CurrentListing_C089,MATCH(Q38,CurrentListing_C089,0),1)),20),P38),HYPERLINK(\"#'C089'!\"&\"$V$12\",P38))","v":"MC"},""]
["Emotional Disturbance",{"$f":"B119","v":0},{"$f":"C119","v":0},0,{"$f":"IFERROR(HYPERLINK(\"#'C089'!\"&ADDRESS(ROW(INDEX(CurrentListing_C089,MATCH(F39,CurrentListing_C089,0),1)),20),E39),HYPERLINK(\"#'C089'!\"&\"$V$12\",E39))","v":"MC"},"",null,"Emotional Disturbance",{"$f":"K119","v":0},{"$f":"L119","v":0},0,0,0,0,0,{"$f":"IFERROR(HYPERLINK(\"#'C089'!\"&ADDRESS(ROW(INDEX(CurrentListing_C089,MATCH(Q39,CurrentListing_C089,0),1)),20),P39),HYPERLINK(\"#'C089'!\"&\"$V$12\",P39))","v":"MC"},""]
["Orthopedic Impairment",{"$f":"B133","v":0},{"$f":"C133","v":0},0,{"$f":"IFERROR(HYPERLINK(\"#'C089'!\"&ADDRESS(ROW(INDEX(CurrentListing_C089,MATCH(F40,CurrentListing_C089,0),1)),20),E40),HYPERLINK(\"#'C089'!\"&\"$V$12\",E40))","v":"MC"},"",null,"Orthopedic Impairment",{"$f":"K133","v":0},{"$f":"L133","v":0},0,0,0,0,0,{"$f":"IFERROR(HYPERLINK(\"#'C089'!\"&ADDRESS(ROW(INDEX(CurrentListing_C089,MATCH(Q40,CurrentListing_C089,0),1)),20),P40),HYPERLINK(\"#'C089'!\"&\"$V$12\",P40))","v":"MC"},""]
["Other Health Impairment",{"$f":"B147","v":0},{"$f":"C147","v":0},0,{"$f":"IFERROR(HYPERLINK(\"#'C089'!\"&ADDRESS(ROW(INDEX(CurrentListing_C089,MATCH(F41,CurrentListing_C089,0),1)),20),E41),HYPERLINK(\"#'C089'!\"&\"$V$12\",E41))","v":"MC"},"",null,"Other Health Impairment",{"$f":"K147","v":0},{"$f":"L147","v":0},0,0,0,0,0,{"$f":"IFERROR(HYPERLINK(\"#'C089'!\"&ADDRESS(ROW(INDEX(CurrentListing_C089,MATCH(Q41,CurrentListing_C089,0),1)),20),P41),HYPERLINK(\"#'C089'!\"&\"$V$12\",P41))","v":"MC"},""]
["Specific Learning Disability",{"$f":"B161","v":0},{"$f":"C161","v":0},0,{"$f":"IFERROR(HYPERLINK(\"#'C089'!\"&ADDRESS(ROW(INDEX(CurrentListing_C089,MATCH(F42,CurrentListing_C089,0),1)),20),E42),HYPERLINK(\"#'C089'!\"&\"$V$12\",E42))","v":"MC"},"",null,"Specific Learning Disability",{"$f":"K161","v":0},{"$f":"L161","v":0},0,0,0,0,0,{"$f":"IFERROR(HYPERLINK(\"#'C089'!\"&ADDRESS(ROW(INDEX(CurrentListing_C089,MATCH(Q42,CurrentListing_C089,0),1)),20),P42),HYPERLINK(\"#'C089'!\"&\"$V$12\",P42))","v":"MC"},""]
["Deaf-Blindness",{"$f":"B175","v":0},{"$f":"C175","v":0},0,{"$f":"IFERROR(HYPERLINK(\"#'C089'!\"&ADDRESS(ROW(INDEX(CurrentListing_C089,MATCH(F43,CurrentListing_C089,0),1)),20),E43),HYPERLINK(\"#'C089'!\"&\"$V$12\",E43))","v":"MC"},"",null,"Deaf-Blindness",{"$f":"K175","v":0},{"$f":"L175","v":0},0,0,0,0,0,{"$f":"IFERROR(HYPERLINK(\"#'C089'!\"&ADDRESS(ROW(INDEX(CurrentListing_C089,MATCH(Q43,CurrentListing_C089,0),1)),20),P43),HYPERLINK(\"#'C089'!\"&\"$V$12\",P43))","v":"MC"},""]
["Multiple Disabilities",{"$f":"B189","v":0},{"$f":"C189","v":0},0,{"$f":"IFERROR(HYPERLINK(\"#'C089'!\"&ADDRESS(ROW(INDEX(CurrentListing_C089,MATCH(F44,CurrentListing_C089,0),1)),20),E44),HYPERLINK(\"#'C089'!\"&\"$V$12\",E44))","v":"MC"},"",null,"Multiple Disabilities",{"$f":"K189","v":0},{"$f":"L189","v":0},0,0,0,0,0,{"$f":"IFERROR(HYPERLINK(\"#'C089'!\"&ADDRESS(ROW(INDEX(CurrentListing_C089,MATCH(Q44,CurrentListing_C089,0),1)),20),P44),HYPERLINK(\"#'C089'!\"&\"$V$12\",P44))","v":"MC"},""]
["Autism",{"$f":"B203","v":0},{"$f":"C203","v":0},0,{"$f":"IFERROR(HYPERLINK(\"#'C089'!\"&ADDRESS(ROW(INDEX(CurrentListing_C089,MATCH(F45,CurrentListing_C089,0),1)),20),E45),HYPERLINK(\"#'C089'!\"&\"$V$12\",E45))","v":"MC"},"",null,"Autism",{"$f":"K203","v":0},{"$f":"L203","v":0},0,0,0,0,0,{"$f":"IFERROR(HYPERLINK(\"#'C089'!\"&ADDRESS(ROW(INDEX(CurrentListing_C089,MATCH(Q45,CurrentListing_C089,0),1)),20),P45),HYPERLINK(\"#'C089'!\"&\"$V$12\",P45))","v":"MC"},""]
["Traumatic Brain Injury",{"$f":"B217","v":0},{"$f":"C217","v":0},0,{"$f":"IFERROR(HYPERLINK(\"#'C089'!\"&ADDRESS(ROW(INDEX(CurrentListing_C089,MATCH(F46,CurrentListing_C089,0),1)),20),E46),HYPERLINK(\"#'C089'!\"&\"$V$12\",E46))","v":"MC"},"",null,"Traumatic Brain Injury",{"$f":"K217","v":0},{"$f":"L217","v":0},0,0,0,0,0,{"$f":"IFERROR(HYPERLINK(\"#'C089'!\"&ADDRESS(ROW(INDEX(CurrentListing_C089,MATCH(Q46,CurrentListing_C089,0),1)),20),P46),HYPERLINK(\"#'C089'!\"&\"$V$12\",P46))","v":"MC"},""]
["Developmental Delay1",{"$f":"B231","v":0},{"$f":"C231","v":0},0,{"$f":"IFERROR(HYPERLINK(\"#'C089'!\"&ADDRESS(ROW(INDEX(CurrentListing_C089,MATCH(F47,CurrentListing_C089,0),1)),20),E47),HYPERLINK(\"#'C089'!\"&\"$V$12\",E47))","v":"MC"},"",null,"Developmental Delay1",{"$f":"K231","v":0},{"$f":"L231","v":0},0,0,0,0,0,{"$f":"IFERROR(HYPERLINK(\"#'C089'!\"&ADDRESS(ROW(INDEX(CurrentListing_C089,MATCH(Q47,CurrentListing_C089,0),1)),20),P47),HYPERLINK(\"#'C089'!\"&\"$V$12\",P47))","v":"MC"},""]
["Total",{"$f":"IFERROR(HYPERLINK(\"#'C089'!\"&ADDRESS(ROW(INDEX(CurrentListing_C089,MATCH(B49,CurrentListing_C089,0),1)),20),B48),HYPERLINK(\"#'C089'!\"&\"$V$12\",B48))","v":"MC"},{"$f":"IFERROR(HYPERLINK(\"#'C089'!\"&ADDRESS(ROW(INDEX(CurrentListing_C089,MATCH(C49,CurrentListing_C089,0),1)),20),C48),HYPERLINK(\"#'C089'!\"&\"$V$12\",C48))","v":"MC"},{"$f":"IFERROR(HYPERLINK(\"#'C089'!\"&ADDRESS(ROW(INDEX(CurrentListing_C089,MATCH(D49,CurrentListing_C089,0),1)),20),D48),HYPERLINK(\"#'C089'!\"&\"$V$12\",D48))","v":"MC"},{"$f":"SUM(B14:D26)","v":0},{"$f":"IF(E27=0, \"\", E27/$E$27)","v":""},null,"Total",{"$f":"IFERROR(HYPERLINK(\"#'C089'!\"&ADDRESS(ROW(INDEX(CurrentListing_C089,MATCH(I49,CurrentListing_C089,0),1)),20),I48),HYPERLINK(\"#'C089'!\"&\"$V$12\",I48))","v":"MC"},{"$f":"IFERROR(HYPERLINK(\"#'C089'!\"&ADDRESS(ROW(INDEX(CurrentListing_C089,MATCH(J49,CurrentListing_C089,0),1)),20),J48),HYPERLINK(\"#'C089'!\"&\"$V$12\",J48))","v":"MC"},{"$f":"IFERROR(HYPERLINK(\"#'C089'!\"&ADDRESS(ROW(INDEX(CurrentListing_C089,MATCH(K49,CurrentListing_C089,0),1)),20),K48),HYPERLINK(\"#'C089'!\"&\"$V$12\",K48))","v":"MC"},{"$f":"IFERROR(HYPERLINK(\"#'C089'!\"&ADDRESS(ROW(INDEX(CurrentListing_C089,MATCH(L49,CurrentListing_C089,0),1)),20),L48),HYPERLINK(\"#'C089'!\"&\"$V$12\",L48))","v":"MC"},{"$f":"IFERROR(HYPERLINK(\"#'C089'!\"&ADDRESS(ROW(INDEX(CurrentListing_C089,MATCH(M49,CurrentListing_C089,0),1)),20),M48),HYPERLINK(\"#'C089'!\"&\"$V$12\",M48))","v":"MC"},{"$f":"IFERROR(HYPERLINK(\"#'C089'!\"&ADDRESS(ROW(INDEX(CurrentListing_C089,MATCH(N49,CurrentListing_C089,0),1)),20),N48),HYPERLINK(\"#'C089'!\"&\"$V$12\",N48))","v":"MC"},{"$f":"IFERROR(HYPERLINK(\"#'C089'!\"&ADDRESS(ROW(INDEX(CurrentListing_C089,MATCH(O49,CurrentListing_C089,0),1)),20),O48),HYPERLINK(\"#'C089'!\"&\"$V$12\",O48))","v":"MC"},{"$f":"SUM(I14:O26)","v":0},{"$f":"IF(P27=0, \"\", P27/$E$27)","v":""}]
[]
["1The definition of developmental delay is state-determined and applies to children with disabilities (IDEA) aged 3 through 9, or a subset of that age range. See 34 C.F.R. Part 300.111(b)."]
["NOTE: \"MC\" = Missing Category","End of worksheet"]
["Student Count by Age \nand \nDisability Category  ","Age",null,null,null,null,null,"Student Count by Racial Ethnic \nand \nDisability Category ","Racial Ethnic"]
[null,3,4,5,"Total",null,null,null,"Hispanic/\nLatino","American Indian or Alaskan Native","Asian","Black or African American","Native Hawaiian or Other Pacific Islander","White","Two or more races","Total"]
[]
[]
["Intellectual Disability",{"$f":"IFERROR(IF(#REF!<>0,#REF!/#REF!,0),\"\")","v":""},{"$f":"IFERROR(IF(#REF!<>0,#REF!/#REF!,0),\"\")","v":""},{"$f":"IFERROR(IF(#REF!<>0,#REF!/#REF!,0),\"\")","v":""},{"$f":"IFERROR(IF(INDEX(Ttl_C089,MATCH(F35,CurrentListing_C089,0))=\"\",\"No Data\",INDEX(Ttl_C089,MATCH(F35,CurrentListing_C089,0))),\"MC\")","v":"MC"},"IDY",null,"Intellectual Disability",{"$f":"IFERROR(IF(#REF!<>0,#REF!/#REF!,0),\"\")","v":""},{"$f":"IFERROR(IF(#REF!<>0,#REF!/#REF!,0),\"\")","v":""},{"$f":"IFERROR(IF(#REF!<>0,#REF!/#REF!,0),\"\")","v":""},null,null,null,null,{"$f":"IFERROR(IF(INDEX(Ttl_C089,MATCH(Q35,CurrentListing_C089,0))=\"\",\"No Data\",INDEX(Ttl_C089,MATCH(Q35,CurrentListing_C089,0))),\"MC\")","v":"MC"},"IDY"]
["Hearing Impairment",{"$f":"IFERROR(IF(#REF!<>0,#REF!/#REF!,0),\"\")","v":""},{"$f":"IFERROR(IF(#REF!<>0,#REF!/#REF!,0),\"\")","v":""},{"$f":"IFERROR(IF(#REF!<>0,#REF!/#REF!,0),\"\")","v":""},"MC","HIY",null,"Hearing Impairment",{"$f":"IFERROR(IF(#REF!<>0,#REF!/#REF!,0),\"\")","v":""},{"$f":"IFERROR(IF(#REF!<>0,#REF!/#REF!,0),\"\")","v":""},{"$f":"IFERROR(IF(#REF!<>0,#REF!/#REF!,0),\"\")","v":""},null,null,null,null,"MC","HIY"]
["Speech or Language Impairment",null,null,null,"MC","SLIY",null,"Speech or Language Impairment",{"$f":"IFERROR(IF(#REF!<>0,#REF!/#REF!,0),\"\")","v":""},{"$f":"IFERROR(IF(#REF!<>0,#REF!/#REF!,0),\"\")","v":""},{"$f":"IFERROR(IF(#REF!<>0,#REF!/#REF!,0),\"\")","v":""},null,null,null,null,"MC","SLIY"]
["Visual Impairment",{"$f":"IFERROR(IF(#REF!<>0,#REF!/#REF!,0),\"\")","v":""},{"$f":"IFERROR(IF(#REF!<>0,#REF!/#REF!,0),\"\")","v":""},{"$f":"IFERROR(IF(#REF!<>0,#REF!/#REF!,0),\"\")","v":""},"MC","VIY",null,"Visual Impairment",null,null,null,null,null,null,null,"MC","VIY"]
["Emotional Disturbance",{"$f":"IFERROR(IF(#REF!<>0,#REF!/#REF!,0),\"\")","v":""},{"$f":"IFERROR(IF(#REF!<>0,#REF!/#REF!,0),\"\")","v":""},{"$f":"IFERROR(IF(#REF!<>0,#REF!/#REF!,0),\"\")","v":""},"MC","EMNY",null,"Emotional Disturbance",{"$f":"IFERROR(IF(#REF!<>0,#REF!/#REF!,0),\"\")","v":""},{"$f":"IFERROR(IF(#REF!<>0,#REF!/#REF!,0),\"\")","v":""},{"$f":"IFERROR(IF(#REF!<>0,#REF!/#REF!,0),\"\")","v":""},null,null,null,null,"MC","EMNY"]
["Orthopedic Impairment",{"$f":"IFERROR(IF(#REF!<>0,#REF!/#REF!,0),\"\")","v":""},{"$f":"IFERROR(IF(#REF!<>0,#REF!/#REF!,0),\"\")","v":""},{"$f":"IFERROR(IF(#REF!<>0,#REF!/#REF!,0),\"\")","v":""},"MC","OIY",null,"Orthopedic Impairment",{"$f":"IFERROR(IF(#REF!<>0,#REF!/#REF!,0),\"\")","v":""},{"$f":"IFERROR(IF(#REF!<>0,#REF!/#REF!,0),\"\")","v":""},{"$f":"IFERROR(IF(#REF!<>0,#REF!/#REF!,0),\"\")","v":""},null,null,null,null,"MC","OIY"]
["Other Health Impairment",null,null,null,"MC","OHIY",null,"Other Health Impairment",{"$f":"IFERROR(IF(#REF!<>0,#REF!/#REF!,0),\"\")","v":""},{"$f":"IFERROR(IF(#REF!<>0,#REF!/#REF!,0),\"\")","v":""},{"$f":"IFERROR(IF(#REF!<>0,#REF!/#REF!,0),\"\")","v":""},null,null,null,null,"MC","OHIY"]
["Specific Learning Disability",null,null,null,"MC","SLDY",null,"Specific Learning Disability",null,null,null,null,null,null,null,"MC","SLDY"]
["Deaf-Blindness",null,null,null,"MC","DBY",null,"Deaf-Blindness",null,null,null,null,null,null,null,"MC","DBY"]
["Multiple Disabilities",null,null,null,"MC","MDY",null,"Multiple Disabilities",null,null,null,null,null,null,null,"MC","MDY"]
["Autism",null,null,null,"MC","AUTY",null,"Autism",null,null,null,null,null,null,null,"MC","AUTY"]
["Traumatic Brain Injury",null,null,null,"MC","TBIY",null,"Traumatic Brain Injury",null,null,null,null,null,null,null,"MC","TBIY"]
["Developmental Delay1",null,null,null,"MC","DDY",null,"Developmental Delay1",null,null,null,null,null,null,null,"MC","DDY"]
["Total",{"$f":"IFERROR(IF(INDEX(Ttl_C089,MATCH(B49,CurrentListing_C089,0))=\"\",\"No Data\",INDEX(Ttl_C089,MATCH(B49,CurrentListing_C089,0))),\"MC\")","v":"MC"},{"$f":"IFERROR(IF(INDEX(Ttl_C089,MATCH(C49,CurrentListing_C089,0))=\"\",\"No Data\",INDEX(Ttl_C089,MATCH(C49,CurrentListing_C089,0))),\"MC\")","v":"MC"},{"$f":"IFERROR(IF(INDEX(Ttl_C089,MATCH(D49,CurrentListing_C089,0))=\"\",\"No Data\",INDEX(Ttl_C089,MATCH(D49,CurrentListing_C089,0))),\"MC\")","v":"MC"},"MC","Y",null,"Total",{"$f":"IFERROR(IF(INDEX(Ttl_C089,MATCH(I49,CurrentListing_C089,0))=\"\",\"No Data\",INDEX(Ttl_C089,MATCH(I49,CurrentListing_C089,0))),\"MC\")","v":"MC"},"MC","MC","MC","MC","MC","MC","MC","Y"]
[null,"3Y","4Y","AGE05NOTKY",null,null,null,null,"HI7Y","AM7Y","AS7Y","BL7Y","PI7Y","WH7Y","MU7Y"]
[]
["Intellectual Disability (ID)",null,null,null,null,null,null,null,null,"Intellectual Disability (ID)"]
[null,"Age 3","Age 4","Age 5","Row Total","Age 3","Age 4","Age 5",null,null,"Hispanic/\nLatino","American Indian or Alaskan Native","Asian","Black or African American","Native Hawaiian or Other Pacific Islander","White","Two or more races",null,"Row Total",null,"Hispanic/\nLatino","American Indian or Alaskan Native","Asian","Black or African American","Native Hawaiian or Other Pacific Islander","White","Two or more races"]
["Ed. Environment",null,null,null,null,null,null,null,null,"Ed. Env."]
["Home",{"$f":"IFERROR(IF(INDEX(Ttl_C089,MATCH(F54,CurrentListing_C089,0))=\"\",\"No Data\",INDEX(Ttl_C089,MATCH(F54,CurrentListing_C089,0))),\"MC\")","v":"MC"},{"$f":"IFERROR(IF(INDEX(Ttl_C089,MATCH(G54,CurrentListing_C089,0))=\"\",\"No Data\",INDEX(Ttl_C089,MATCH(G54,CurrentListing_C089,0))),\"MC\")","v":"MC"},{"$f":"IFERROR(IF(INDEX(Ttl_C089,MATCH(H54,CurrentListing_C089,0))=\"\",\"No Data\",INDEX(Ttl_C089,MATCH(H54,CurrentListing_C089,0))),\"MC\")","v":"MC"},{"$f":"SUM(B54:D54)","v":0},"3IDHN","4IDHN","AGE05NOTKIDHN",null,"Home",{"$f":"IFERROR(IF(INDEX(Ttl_C089,MATCH(U54,CurrentListing_C089,0))=\"\",\"No Data\",INDEX(Ttl_C089,MATCH(U54,CurrentListing_C089,0))),\"MC\")","v":"MC"},{"$f":"IFERROR(IF(INDEX(Ttl_C089,MATCH(V54,CurrentListing_C089,0))=\"\",\"No Data\",INDEX(Ttl_C089,MATCH(V54,CurrentListing_C089,0))),\"MC\")","v":"MC"},{"$f":"IFERROR(IF(INDEX(Ttl_C089,MATCH(W54,CurrentListing_C089,0))=\"\",\"No Data\",INDEX(Ttl_C089,MATCH(W54,CurrentListing_C089,0))),\"MC\")","v":"MC"},{"$f":"IFERROR(IF(INDEX(Ttl_C089,MATCH(X54,CurrentListing_C089,0))=\"\",\"No Data\",INDEX(Ttl_C089,MATCH(X54,CurrentListing_C089,0))),\"MC\")","v":"MC"},{"$f":"IFERROR(IF(INDEX(Ttl_C089,MATCH(Y54,CurrentListing_C089,0))=\"\",\"No Data\",INDEX(Ttl_C089,MATCH(Y54,CurrentListing_C089,0))),\"MC\")","v":"MC"},{"$f":"IFERROR(IF(INDEX(Ttl_C089,MATCH(Z54,CurrentListing_C089,0))=\"\",\"No Data\",INDEX(Ttl_C089,MATCH(Z54,CurrentListing_C089,0))),\"MC\")","v":"MC"},{"$f":"IFERROR(IF(INDEX(Ttl_C089,MATCH(AA54,CurrentListing_C089,0))=\"\",\"No Data\",INDEX(Ttl_C089,MATCH(AA54,CurrentListing_C089,0))),\"MC\")","v":"MC"},null,{"$f":"SUM(K54:Q54)","v":0},"AM7Y","HI7IDHN","AM7IDHN","AS7IDHN","BL7IDHN","PI7IDHN","WH7IDHN","MU7IDHN"]
[">10% Other Loc.","MC","MC","MC",{"$f":"SUM(B55:D55)","v":0},"3IDREC10YOTHLOCN","4IDREC10YOTHLOCN","AGE05NOTKIDREC10YOTHLOCN",null,">10% Other Loc.","MC","MC","MC","MC","MC","MC","MC",null,{"$f":"SUM(K55:Q55)","v":0},"AS7Y","HI7IDREC10YOTHLOCN","AM7IDREC10YOTHLOCN","AS7IDREC10YOTHLOCN","BL7IDREC10YOTHLOCN","PI7IDREC10YOTHLOCN","WH7IDREC10YOTHLOCN","MU7IDREC10YOTHLOCN"]
["Separate Class","MC","MC","MC",0,"3IDSCN","4IDSCN","AGE05NOTKIDSCN",null,"Separate Class","MC","MC","MC","MC","MC","MC","MC",null,0,"BL7Y","HI7IDSCN","AM7IDSCN","AS7IDSCN","BL7IDSCN","PI7IDSCN","WH7IDSCN","MU7IDSCN"]
[">10% RegClass","MC","MC","MC",0,"3IDREC10YSVCSN","4IDREC10YSVCSN","AGE05NOTKIDREC10YSVCSN",null,">10% RegClass","MC","MC","MC","MC","MC","MC","MC",null,0,"HI7Y","HI7IDREC10YSVCSN","AM7IDREC10YSVCSN","AS7IDREC10YSVCSN","BL7IDREC10YSVCSN","PI7IDREC10YSVCSN","WH7IDREC10YSVCSN","MU7IDREC10YSVCSN"]
["<10% RegClass","MC","MC","MC",0,"3IDREC09YSVCSN","4IDREC09YSVCSN","AGE05NOTKIDREC09YSVCSN",null,"<10% RegClass","MC","MC","MC","MC","MC","MC","MC",null,0,"MU7Y","HI7IDREC09YSVCSN","AM7IDREC09YSVCSN","AS7IDREC09YSVCSN","BL7IDREC09YSVCSN","PI7IDREC09YSVCSN","WH7IDREC09YSVCSN","MU7IDREC09YSVCSN"]
["<10% Other Loc.","MC","MC","MC",0,"3IDREC09YOTHLOCN","4IDREC09YOTHLOCN","AGE05NOTKIDREC09YOTHLOCN",null,"<10% Other Loc.","MC","MC","MC","MC","MC","MC","MC",null,0,"PI7Y","HI7IDREC09YOTHLOCN","AM7IDREC09YOTHLOCN","AS7IDREC09YOTHLOCN","BL7IDREC09YOTHLOCN","PI7IDREC09YOTHLOCN","WH7IDREC09YOTHLOCN","MU7IDREC09YOTHLOCN"]
["Resid Facil","MC","MC","MC",0,"3IDRFN","4IDRFN","AGE05NOTKIDRFN",null,"Resid Facil","MC","MC","MC","MC","MC","MC","MC",null,0,"WH7Y","HI7IDRFN","AM7IDRFN","AS7IDRFN","BL7IDRFN","PI7IDRFN","WH7IDRFN","MU7IDRFN"]
["Service Prov Loc","MC","MC","MC",0,"3IDSPLN","4IDSPLN","AGE05NOTKIDSPLN",null,"Service Prov Loc","MC","MC","MC","MC","MC","MC","MC",null,0,null,"HI7IDSPLN","AM7IDSPLN","AS7IDSPLN","BL7IDSPLN","PI7IDSPLN","WH7IDSPLN","MU7IDSPLN"]
["Separate school","MC","MC","MC",0,"3IDSSN","4IDSSN","AGE05NOTKIDSSN",null,"Separate school","MC","MC","MC","MC","MC","MC","MC",null,0,null,"HI7IDSSN","AM7IDSSN","AS7IDSSN","BL7IDSSN","PI7IDSSN","WH7IDSSN","MU7IDSSN"]
["Total",{"$f":"SUM(B54:B62)","v":0},{"$f":"SUM(C54:C62)","v":0},0,0,null,null,null,null,"Total",{"$f":"SUM(K54:K62)","v":0},{"$f":"SUM(L54:L62)","v":0},{"$f":"SUM(M54:M62)","v":0},{"$f":"SUM(N54:N62)","v":0},{"$f":"SUM(O54:O62)","v":0},{"$f":"SUM(P54:P62)","v":0},{"$f":"SUM(Q54:Q62)","v":0},null,0]
[]
["Hearing Impairment (HI)",null,null,null,null,null,null,null,null,"Hearing Impairment (HI)"]
[null,"Age 3","Age 4","Age 5",null,"Age 3","Age 4","Age 5",null,null,"Hispanic/\nLatino","American Indian or Alaskan Native","Asian","Black or African American","Native Hawaiian or Other Pacific Islander","White","Two or more races",null,"Row Total",null,"Hispanic/\nLatino","American Indian or Alaskan Native","Asian","Black or African American","Native Hawaiian or Other Pacific Islander","White","Two or more races"]
["Ed. Environment",null,null,null,null,null,null,null,null,"Ed. Env."]
["Home",{"$f":"IFERROR(IF(INDEX(Ttl_C089,MATCH(F68,CurrentListing_C089,0))=\"\",\"No Data\",INDEX(Ttl_C089,MATCH(F68,CurrentListing_C089,0))),\"MC\")","v":"MC"},{"$f":"IFERROR(IF(INDEX(Ttl_C089,MATCH(G68,CurrentListing_C089,0))=\"\",\"No Data\",INDEX(Ttl_C089,MATCH(G68,CurrentListing_C089,0))),\"MC\")","v":"MC"},{"$f":"IFERROR(IF(INDEX(Ttl_C089,MATCH(H68,CurrentListing_C089,0))=\"\",\"No Data\",INDEX(Ttl_C089,MATCH(H68,CurrentListing_C089,0))),\"MC\")","v":"MC"},null,"3HIHN","4HIHN","AGE05NOTKHIHN",null,"Home",{"$f":"IFERROR(IF(INDEX(Ttl_C089,MATCH(U68,CurrentListing_C089,0))=\"\",\"No Data\",INDEX(Ttl_C089,MATCH(U68,CurrentListing_C089,0))),\"MC\")","v":"MC"},{"$f":"IFERROR(IF(INDEX(Ttl_C089,MATCH(V68,CurrentListing_C089,0))=\"\",\"No Data\",INDEX(Ttl_C089,MATCH(V68,CurrentListing_C089,0))),\"MC\")","v":"MC"},{"$f":"IFERROR(IF(INDEX(Ttl_C089,MATCH(W68,CurrentListing_C089,0))=\"\",\"No Data\",INDEX(Ttl_C089,MATCH(W68,CurrentListing_C089,0))),\"MC\")","v":"MC"},{"$f":"IFERROR(IF(INDEX(Ttl_C089,MATCH(X68,CurrentListing_C089,0))=\"\",\"No Data\",INDEX(Ttl_C089,MATCH(X68,CurrentListing_C089,0))),\"MC\")","v":"MC"},{"$f":"IFERROR(IF(INDEX(Ttl_C089,MATCH(Y68,CurrentListing_C089,0))=\"\",\"No Data\",INDEX(Ttl_C089,MATCH(Y68,CurrentListing_C089,0))),\"MC\")","v":"MC"},{"$f":"IFERROR(IF(INDEX(Ttl_C089,MATCH(Z68,CurrentListing_C089,0))=\"\",\"No Data\",INDEX(Ttl_C089,MATCH(Z68,CurrentListing_C089,0))),\"MC\")","v":"MC"},{"$f":"IFERROR(IF(INDEX(Ttl_C089,MATCH(AA68,CurrentListing_C089,0))=\"\",\"No Data\",INDEX(Ttl_C089,MATCH(AA68,CurrentListing_C089,0))),\"MC\")","v":"MC"},null,{"$f":"SUM(K68:Q68)","v":0},"AM7Y","HI7HIHN","AM7HIHN","AS7HIHN","BL7HIHN","PI7HIHN","WH7HIHN","MU7HIHN"]
[">10% Other Loc.","MC","MC","MC",null,"3HIREC10YOTHLOCN","4HIREC10YOTHLOCN","AGE05NOTKHIREC10YOTHLOCN",null,">10% Other Loc.","MC","MC","MC","MC","MC","MC","MC",null,{"$f":"SUM(K69:Q69)","v":0},"AS7Y","HI7HIREC10YOTHLOCN","AM7HIREC10YOTHLOCN","AS7HIREC10YOTHLOCN","BL7HIREC10YOTHLOCN","PI7HIREC10YOTHLOCN","WH7HIREC10YOTHLOCN","MU7HIREC10YOTHLOCN"]
["Separate Class","MC","MC","MC",null,"3HISCN","4HISCN","AGE05NOTKHISCN",null,"Separate Class","MC","MC","MC","MC","MC","MC","MC",null,0,"BL7Y","HI7HISCN","AM7HISCN","AS7HISCN","BL7HISCN","PI7HISCN","WH7HISCN","MU7HISCN"]
[">10% RegClass","MC","MC","MC",null,"3HIREC10YSVCSN","4HIREC10YSVCSN","AGE05NOTKHIREC10YSVCSN",null,">10% RegClass","MC","MC","MC","MC","MC","MC","MC",null,0,"HI7Y","HI7HIREC10YSVCSN","AM7HIREC10YSVCSN","AS7HIREC10YSVCSN","BL7HIREC10YSVCSN","PI7HIREC10YSVCSN","WH7HIREC10YSVCSN","MU7HIREC10YSVCSN"]
["<10% RegClass","MC","MC","MC",null,"3HIREC09YSVCSN","4HIREC09YSVCSN","AGE05NOTKHIREC09YSVCSN",null,"<10% RegClass","MC","MC","MC","MC","MC","MC","MC",null,0,"MU7Y","HI7HIREC09YSVCSN","AM7HIREC09YSVCSN","AS7HIREC09YSVCSN","BL7HIREC09YSVCSN","PI7HIREC09YSVCSN","WH7HIREC09YSVCSN","MU7HIREC09YSVCSN"]
["<10% Other Loc.","MC","MC","MC",null,"3HIREC09YOTHLOCN","4HIREC09YOTHLOCN","AGE05NOTKHIREC09YOTHLOCN",null,"<10% Other Loc.","MC","MC","MC","MC","MC","MC","MC",null,0,"PI7Y","HI7HIREC09YOTHLOCN","AM7HIREC09YOTHLOCN","AS7HIREC09YOTHLOCN","BL7HIREC09YOTHLOCN","PI7HIREC09YOTHLOCN","WH7HIREC09YOTHLOCN","MU7HIREC09YOTHLOCN"]
["Resid Facil","MC","MC","MC",null,"3HIRFN","4HIRFN","AGE05NOTKHIRFN",null,"Resid Facil","MC","MC","MC","MC","MC","MC","MC",null,0,"WH7Y","HI7HIRFN","AM7HIRFN","AS7HIRFN","BL7HIRFN","PI7HIRFN","WH7HIRFN","MU7HIRFN"]
["Service Prov Loc","MC","MC","MC",null,"3HISPLN","4HISPLN","AGE05NOTKHISPLN",null,"Service Prov Loc","MC","MC","MC","MC","MC","MC","MC",null,0,null,"HI7HISPLN","AM7HISPLN","AS7HISPLN","BL7HISPLN","PI7HISPLN","WH7HISPLN","MU7HISPLN"]
["Separate school","MC","MC","MC",null,"3HISSN","4HISSN","AGE05NOTKHISSN",null,"Separate school","MC","MC","MC","MC","MC","MC","MC",null,0,null,"HI7HISSN","AM7HISSN","AS7HISSN","BL7HISSN","PI7HISSN","WH7HISSN","MU7HISSN"]
["Total",{"$f":"SUM(B68:B76)","v":0},{"$f":"SUM(C68:C76)","v":0},{"$f":"SUM(D68:D76)","v":0},null,null,null,null,null,"Total",{"$f":"SUM(K68:K76)","v":0},{"$f":"SUM(L68:L76)","v":0},{"$f":"SUM(M68:M76)","v":0},{"$f":"SUM(N68:N76)","v":0},{"$f":"SUM(O68:O76)","v":0},{"$f":"SUM(P68:P76)","v":0},{"$f":"SUM(Q68:Q76)","v":0},null,0]
[]
["Speech or Language Impairment (SLI)",null,null,null,null,null,null,null,null,"Speech or Language Impairment (SLI)"]
[null,"Age 3","Age 4","Age 5",null,"Age 3","Age 4","Age 5",null,null,"Hispanic/\nLatino","American Indian or Alaskan Native","Asian","Black or African American","Native Hawaiian or Other Pacific Islander","White","Two or more races",null,"Row Total",null,"Hispanic/\nLatino","American Indian or Alaskan Native","Asian","Black or African American","Native Hawaiian or Other Pacific Islander","White","Two or more races"]
["Ed. Environment",null,null,null,null,null,null,null,null,"Ed. Env."]
["Home",{"$f":"IFERROR(IF(INDEX(Ttl_C089,MATCH(F82,CurrentListing_C089,0))=\"\",\"No Data\",INDEX(Ttl_C089,MATCH(F82,CurrentListing_C089,0))),\"MC\")","v":"MC"},{"$f":"IFERROR(IF(INDEX(Ttl_C089,MATCH(G82,CurrentListing_C089,0))=\"\",\"No Data\",INDEX(Ttl_C089,MATCH(G82,CurrentListing_C089,0))),\"MC\")","v":"MC"},{"$f":"IFERROR(IF(INDEX(Ttl_C089,MATCH(H82,CurrentListing_C089,0))=\"\",\"No Data\",INDEX(Ttl_C089,MATCH(H82,CurrentListing_C089,0))),\"MC\")","v":"MC"},null,"3SLIHN","4SLIHN","AGE05NOTKSLIHN",null,"Home",{"$f":"IFERROR(IF(INDEX(Ttl_C089,MATCH(U82,CurrentListing_C089,0))=\"\",\"No Data\",INDEX(Ttl_C089,MATCH(U82,CurrentListing_C089,0))),\"MC\")","v":"MC"},{"$f":"IFERROR(IF(INDEX(Ttl_C089,MATCH(V82,CurrentListing_C089,0))=\"\",\"No Data\",INDEX(Ttl_C089,MATCH(V82,CurrentListing_C089,0))),\"MC\")","v":"MC"},{"$f":"IFERROR(IF(INDEX(Ttl_C089,MATCH(W82,CurrentListing_C089,0))=\"\",\"No Data\",INDEX(Ttl_C089,MATCH(W82,CurrentListing_C089,0))),\"MC\")","v":"MC"},{"$f":"IFERROR(IF(INDEX(Ttl_C089,MATCH(X82,CurrentListing_C089,0))=\"\",\"No Data\",INDEX(Ttl_C089,MATCH(X82,CurrentListing_C089,0))),\"MC\")","v":"MC"},{"$f":"IFERROR(IF(INDEX(Ttl_C089,MATCH(Y82,CurrentListing_C089,0))=\"\",\"No Data\",INDEX(Ttl_C089,MATCH(Y82,CurrentListing_C089,0))),\"MC\")","v":"MC"},{"$f":"IFERROR(IF(INDEX(Ttl_C089,MATCH(Z82,CurrentListing_C089,0))=\"\",\"No Data\",INDEX(Ttl_C089,MATCH(Z82,CurrentListing_C089,0))),\"MC\")","v":"MC"},{"$f":"IFERROR(IF(INDEX(Ttl_C089,MATCH(AA82,CurrentListing_C089,0))=\"\",\"No Data\",INDEX(Ttl_C089,MATCH(AA82,CurrentListing_C089,0))),\"MC\")","v":"MC"},null,{"$f":"SUM(K82:Q82)","v":0},"AM7Y","HI7SLIHN","AM7SLIHN","AS7SLIHN","BL7SLIHN","PI7SLIHN","WH7SLIHN","MU7SLIHN"]
[">10% Other Loc.","MC","MC","MC",null,"3SLIREC10YOTHLOCN","4SLIREC10YOTHLOCN","AGE05NOTKSLIREC10YOTHLOCN",null,">10% Other Loc.","MC","MC","MC","MC","MC","MC","MC",null,{"$f":"SUM(K83:Q83)","v":0},"AS7Y","HI7SLIREC10YOTHLOCN","AM7SLIREC10YOTHLOCN","AS7SLIREC10YOTHLOCN","BL7SLIREC10YOTHLOCN","PI7SLIREC10YOTHLOCN","WH7SLIREC10YOTHLOCN","MU7SLIREC10YOTHLOCN"]
["Separate Class","MC","MC","MC",null,"3SLISCN","4SLISCN","AGE05NOTKSLISCN",null,"Separate Class","MC","MC","MC","MC","MC","MC","MC",null,0,"BL7Y","HI7SLISCN","AM7SLISCN","AS7SLISCN","BL7SLISCN","PI7SLISCN","WH7SLISCN","MU7SLISCN"]
[">10% RegClass","MC","MC","MC",null,"3SLIREC10YSVCSN","4SLIREC10YSVCSN","AGE05NOTKSLIREC10YSVCSN",null,">10% RegClass","MC","MC","MC","MC","MC","MC","MC",null,0,"HI7Y","HI7SLIREC10YSVCSN","AM7SLIREC10YSVCSN","AS7SLIREC10YSVCSN","BL7SLIREC10YSVCSN","PI7SLIREC10YSVCSN","WH7SLIREC10YSVCSN","MU7SLIREC10YSVCSN"]
["<10% RegClass","MC","MC","MC",null,"3SLIREC09YSVCSN","4SLIREC09YSVCSN","AGE05NOTKSLIREC09YSVCSN",null,"<10% RegClass","MC","MC","MC","MC","MC","MC","MC",null,0,"MU7Y","HI7SLIREC09YSVCSN","AM7SLIREC09YSVCSN","AS7SLIREC09YSVCSN","BL7SLIREC09YSVCSN","PI7SLIREC09YSVCSN","WH7SLIREC09YSVCSN","MU7SLIREC09YSVCSN"]
["<10% Other Loc.","MC","MC","MC",null,"3SLIREC09YOTHLOCN","4SLIREC09YOTHLOCN","AGE05NOTKSLIREC09YOTHLOCN",null,"<10% Other Loc.","MC","MC","MC","MC","MC","MC","MC",null,0,"PI7Y","HI7SLIREC09YOTHLOCN","AM7SLIREC09YOTHLOCN","AS7SLIREC09YOTHLOCN","BL7SLIREC09YOTHLOCN","PI7SLIREC09YOTHLOCN","WH7SLIREC09YOTHLOCN","MU7SLIREC09YOTHLOCN"]
["Resid Facil","MC","MC","MC",null,"3SLIRFN","4SLIRFN","AGE05NOTKSLIRFN",null,"Resid Facil","MC","MC","MC","MC","MC","MC","MC",null,0,"WH7Y","HI7SLIRFN","AM7SLIRFN","AS7SLIRFN","BL7SLIRFN","PI7SLIRFN","WH7SLIRFN","MU7SLIRFN"]
["Service Prov Loc","MC","MC","MC",null,"3SLISPLN","4SLISPLN","AGE05NOTKSLISPLN",null,"Service Prov Loc","MC","MC","MC","MC","MC","MC","MC",null,0,null,"HI7SLISPLN","AM7SLISPLN","AS7SLISPLN","BL7SLISPLN","PI7SLISPLN","WH7SLISPLN","MU7SLISPLN"]
["Separate school","MC","MC","MC",null,"3SLISSN","4SLISSN","AGE05NOTKSLISSN",null,"Separate school","MC","MC","MC","MC","MC","MC","MC",null,0,null,"HI7SLISSN","AM7SLISSN","AS7SLISSN","BL7SLISSN","PI7SLISSN","WH7SLISSN","MU7SLISSN"]
["Total",{"$f":"SUM(B82:B90)","v":0},{"$f":"SUM(C82:C90)","v":0},{"$f":"SUM(D82:D90)","v":0},null,null,null,null,null,"Total",{"$f":"SUM(K82:K90)","v":0},{"$f":"SUM(L82:L90)","v":0},{"$f":"SUM(M82:M90)","v":0},{"$f":"SUM(N82:N90)","v":0},{"$f":"SUM(O82:O90)","v":0},{"$f":"SUM(P82:P90)","v":0},{"$f":"SUM(Q82:Q90)","v":0},null,0]
[]
["Visual Impairment (VI)",null,null,null,null,null,null,null,null,"Visual Impairment (VI)"]
[null,"Age 3","Age 4","Age 5",null,"Age 3","Age 4","Age 5",null,null,"Hispanic/\nLatino","American Indian or Alaskan Native","Asian","Black or African American","Native Hawaiian or Other Pacific Islander","White","Two or more races",null,"Row Total",null,"Hispanic/\nLatino","American Indian or Alaskan Native","Asian","Black or African American","Native Hawaiian or Other Pacific Islander","White","Two or more races"]
["Ed. Environment",null,null,null,null,null,null,null,null,"Ed. Env."]
["Home",{"$f":"IFERROR(IF(INDEX(Ttl_C089,MATCH(F96,CurrentListing_C089,0))=\"\",\"No Data\",INDEX(Ttl_C089,MATCH(F96,CurrentListing_C089,0))),\"MC\")","v":"MC"},{"$f":"IFERROR(IF(INDEX(Ttl_C089,MATCH(G96,CurrentListing_C089,0))=\"\",\"No Data\",INDEX(Ttl_C089,MATCH(G96,CurrentListing_C089,0))),\"MC\")","v":"MC"},{"$f":"IFERROR(IF(INDEX(Ttl_C089,MATCH(H96,CurrentListing_C089,0))=\"\",\"No Data\",INDEX(Ttl_C089,MATCH(H96,CurrentListing_C089,0))),\"MC\")","v":"MC"},null,"3VIHN","4VIHN","AGE05NOTKVIHN",null,"Home",{"$f":"IFERROR(IF(INDEX(Ttl_C089,MATCH(U96,CurrentListing_C089,0))=\"\",\"No Data\",INDEX(Ttl_C089,MATCH(U96,CurrentListing_C089,0))),\"MC\")","v":"MC"},{"$f":"IFERROR(IF(INDEX(Ttl_C089,MATCH(V96,CurrentListing_C089,0))=\"\",\"No Data\",INDEX(Ttl_C089,MATCH(V96,CurrentListing_C089,0))),\"MC\")","v":"MC"},{"$f":"IFERROR(IF(INDEX(Ttl_C089,MATCH(W96,CurrentListing_C089,0))=\"\",\"No Data\",INDEX(Ttl_C089,MATCH(W96,CurrentListing_C089,0))),\"MC\")","v":"MC"},{"$f":"IFERROR(IF(INDEX(Ttl_C089,MATCH(X96,CurrentListing_C089,0))=\"\",\"No Data\",INDEX(Ttl_C089,MATCH(X96,CurrentListing_C089,0))),\"MC\")","v":"MC"},{"$f":"IFERROR(IF(INDEX(Ttl_C089,MATCH(Y96,CurrentListing_C089,0))=\"\",\"No Data\",INDEX(Ttl_C089,MATCH(Y96,CurrentListing_C089,0))),\"MC\")","v":"MC"},{"$f":"IFERROR(IF(INDEX(Ttl_C089,MATCH(Z96,CurrentListing_C089,0))=\"\",\"No Data\",INDEX(Ttl_C089,MATCH(Z96,CurrentListing_C089,0))),\"MC\")","v":"MC"},{"$f":"IFERROR(IF(INDEX(Ttl_C089,MATCH(AA96,CurrentListing_C089,0))=\"\",\"No Data\",INDEX(Ttl_C089,MATCH(AA96,CurrentListing_C089,0))),\"MC\")","v":"MC"},null,{"$f":"SUM(K96:Q96)","v":0},"AM7Y","HI7VIHN","AM7VIHN","AS7VIHN","BL7VIHN","PI7VIHN","WH7VIHN","MU7VIHN"]
[">10% Other Loc.","MC","MC","MC",null,"3VIREC10YOTHLOCN","4VIREC10YOTHLOCN","AGE05NOTKVIREC10YOTHLOCN",null,">10% Other Loc.","MC","MC","MC","MC","MC","MC","MC",null,{"$f":"SUM(K97:Q97)","v":0},"AS7Y","HI7VIREC10YOTHLOCN","AM7VIREC10YOTHLOCN","AS7VIREC10YOTHLOCN","BL7VIREC10YOTHLOCN","PI7VIREC10YOTHLOCN","WH7VIREC10YOTHLOCN","MU7VIREC10YOTHLOCN"]
["Separate Class","MC","MC","MC",null,"3VISCN","4VISCN","AGE05NOTKVISCN",null,"Separate Class","MC","MC","MC","MC","MC","MC","MC",null,0,"BL7Y","HI7VISCN","AM7VISCN","AS7VISCN","BL7VISCN","PI7VISCN","WH7VISCN","MU7VISCN"]
[">10% RegClass","MC","MC","MC",null,"3VIREC10YSVCSN","4VIREC10YSVCSN","AGE05NOTKVIREC10YSVCSN",null,">10% RegClass","MC","MC","MC","MC","MC","MC","MC",null,0,"HI7Y","HI7VIREC10YSVCSN","AM7VIREC10YSVCSN","AS7VIREC10YSVCSN","BL7VIREC10YSVCSN","PI7VIREC10YSVCSN","WH7VIREC10YSVCSN","MU7VIREC10YSVCSN"]
["<10% RegClass","MC","MC","MC",null,"3VIREC09YSVCSN","4VIREC09YSVCSN","AGE05NOTKVIREC09YSVCSN",null,"<10% RegClass","MC","MC","MC","MC","MC","MC","MC",null,0,"MU7Y","HI7VIREC09YSVCSN","AM7VIREC09YSVCSN","AS7VIREC09YSVCSN","BL7VIREC09YSVCSN","PI7VIREC09YSVCSN","WH7VIREC09YSVCSN","MU7VIREC09YSVCSN"]
["<10% Other Loc.","MC","MC","MC",null,"3VIREC09YOTHLOCN","4VIREC09YOTHLOCN","AGE05NOTKVIREC09YOTHLOCN",null,"<10% Other Loc.","MC","MC","MC","MC","MC","MC","MC",null,0,"PI7Y","HI7VIREC09YOTHLOCN","AM7VIREC09YOTHLOCN","AS7VIREC09YOTHLOCN","BL7VIREC09YOTHLOCN","PI7VIREC09YOTHLOCN","WH7VIREC09YOTHLOCN","MU7VIREC09YOTHLOCN"]
["Resid Facil","MC","MC","MC",null,"3VIRFN","4VIRFN","AGE05NOTKVIRFN",null,"Resid Facil","MC","MC","MC","MC","MC","MC","MC",null,0,"WH7Y","HI7VIRFN","AM7VIRFN","AS7VIRFN","BL7VIRFN","PI7VIRFN","WH7VIRFN","MU7VIRFN"]
["Service Prov Loc","MC","MC","MC",null,"3VISPLN","4VISPLN","AGE05NOTKVISPLN",null,"Service Prov Loc","MC","MC","MC","MC","MC","MC","MC",null,0,null,"HI7VISPLN","AM7VISPLN","AS7VISPLN","BL7VISPLN","PI7VISPLN","WH7VISPLN","MU7VISPLN"]
["Separate school","MC","MC","MC",null,"3VISSN","4VISSN","AGE05NOTKVISSN",null,"Separate school","MC","MC","MC","MC","MC","MC","MC",null,0,null,"HI7VISSN","AM7VISSN","AS7VISSN","BL7VISSN","PI7VISSN","WH7VISSN","MU7VISSN"]
["Total",{"$f":"SUM(B96:B104)","v":0},{"$f":"SUM(C96:C104)","v":0},{"$f":"SUM(D96:D104)","v":0},null,null,null,null,null,"Total",{"$f":"SUM(K96:K104)","v":0},{"$f":"SUM(L96:L104)","v":0},{"$f":"SUM(M96:M104)","v":0},{"$f":"SUM(N96:N104)","v":0},{"$f":"SUM(O96:O104)","v":0},{"$f":"SUM(P96:P104)","v":0},{"$f":"SUM(Q96:Q104)","v":0},null,0]
[]
["Emotional Disturbance (EMN)",null,null,null,null,null,null,null,null,"Emotional Disturbance (EMN)"]
[null,"Age 3","Age 4","Age 5",null,"Age 3","Age 4","Age 5",null,null,"Hispanic/\nLatino","American Indian or Alaskan Native","Asian","Black or African American","Native Hawaiian or Other Pacific Islander","White","Two or more races",null,"Row Total",null,"Hispanic/\nLatino","American Indian or Alaskan Native","Asian","Black or African American","Native Hawaiian or Other Pacific Islander","White","Two or more races"]
["Ed. Environment",null,null,null,null,null,null,null,null,"Ed. Env."]
["Home",{"$f":"IFERROR(IF(INDEX(Ttl_C089,MATCH(F110,CurrentListing_C089,0))=\"\",\"No Data\",INDEX(Ttl_C089,MATCH(F110,CurrentListing_C089,0))),\"MC\")","v":"MC"},{"$f":"IFERROR(IF(INDEX(Ttl_C089,MATCH(G110,CurrentListing_C089,0))=\"\",\"No Data\",INDEX(Ttl_C089,MATCH(G110,CurrentListing_C089,0))),\"MC\")","v":"MC"},{"$f":"IFERROR(IF(INDEX(Ttl_C089,MATCH(H110,CurrentListing_C089,0))=\"\",\"No Data\",INDEX(Ttl_C089,MATCH(H110,CurrentListing_C089,0))),\"MC\")","v":"MC"},null,"3EMNHN","4EMNHN","AGE05NOTKEMNHN",null,"Home",{"$f":"IFERROR(IF(INDEX(Ttl_C089,MATCH(U110,CurrentListing_C089,0))=\"\",\"No Data\",INDEX(Ttl_C089,MATCH(U110,CurrentListing_C089,0))),\"MC\")","v":"MC"},{"$f":"IFERROR(IF(INDEX(Ttl_C089,MATCH(V110,CurrentListing_C089,0))=\"\",\"No Data\",INDEX(Ttl_C089,MATCH(V110,CurrentListing_C089,0))),\"MC\")","v":"MC"},{"$f":"IFERROR(IF(INDEX(Ttl_C089,MATCH(W110,CurrentListing_C089,0))=\"\",\"No Data\",INDEX(Ttl_C089,MATCH(W110,CurrentListing_C089,0))),\"MC\")","v":"MC"},{"$f":"IFERROR(IF(INDEX(Ttl_C089,MATCH(X110,CurrentListing_C089,0))=\"\",\"No Data\",INDEX(Ttl_C089,MATCH(X110,CurrentListing_C089,0))),\"MC\")","v":"MC"},{"$f":"IFERROR(IF(INDEX(Ttl_C089,MATCH(Y110,CurrentListing_C089,0))=\"\",\"No Data\",INDEX(Ttl_C089,MATCH(Y110,CurrentListing_C089,0))),\"MC\")","v":"MC"},{"$f":"IFERROR(IF(INDEX(Ttl_C089,MATCH(Z110,CurrentListing_C089,0))=\"\",\"No Data\",INDEX(Ttl_C089,MATCH(Z110,CurrentListing_C089,0))),\"MC\")","v":"MC"},{"$f":"IFERROR(IF(INDEX(Ttl_C089,MATCH(AA110,CurrentListing_C089,0))=\"\",\"No Data\",INDEX(Ttl_C089,MATCH(AA110,CurrentListing_C089,0))),\"MC\")","v":"MC"},null,{"$f":"SUM(K110:Q110)","v":0},"AM7Y","HI7EMNHN","AM7EMNHN","AS7EMNHN","BL7EMNHN","PI7EMNHN","WH7EMNHN","MU7EMNHN"]
[">10% Other Loc.","MC","MC","MC",null,"3EMNREC10YOTHLOCN","4EMNREC10YOTHLOCN","AGE05NOTKEMNREC10YOTHLOCN",null,">10% Other Loc.","MC","MC","MC","MC","MC","MC","MC",null,{"$f":"SUM(K111:Q111)","v":0},"AS7Y","HI7EMNREC10YOTHLOCN","AM7EMNREC10YOTHLOCN","AS7EMNREC10YOTHLOCN","BL7EMNREC10YOTHLOCN","PI7EMNREC10YOTHLOCN","WH7EMNREC10YOTHLOCN","MU7EMNREC10YOTHLOCN"]
["Separate Class","MC","MC","MC",null,"3EMNSCN","4EMNSCN","AGE05NOTKEMNSCN",null,"Separate Class","MC","MC","MC","MC","MC","MC","MC",null,0,"BL7Y","HI7EMNSCN","AM7EMNSCN","AS7EMNSCN","BL7EMNSCN","PI7EMNSCN","WH7EMNSCN","MU7EMNSCN"]
[">10% RegClass","MC","MC","MC",null,"3EMNREC10YSVCSN","4EMNREC10YSVCSN","AGE05NOTKEMNREC10YSVCSN",null,">10% RegClass","MC","MC","MC","MC","MC","MC","MC",null,0,"HI7Y","HI7EMNREC10YSVCSN","AM7EMNREC10YSVCSN","AS7EMNREC10YSVCSN","BL7EMNREC10YSVCSN","PI7EMNREC10YSVCSN","WH7EMNREC10YSVCSN","MU7EMNREC10YSVCSN"]
["<10% RegClass","MC","MC","MC",null,"3EMNREC09YSVCSN","4EMNREC09YSVCSN","AGE05NOTKEMNREC09YSVCSN",null,"<10% RegClass","MC","MC","MC","MC","MC","MC","MC",null,0,"MU7Y","HI7EMNREC09YSVCSN","AM7EMNREC09YSVCSN","AS7EMNREC09YSVCSN","BL7EMNREC09YSVCSN","PI7EMNREC09YSVCSN","WH7EMNREC09YSVCSN","MU7EMNREC09YSVCSN"]
["<10% Other Loc.","MC","MC","MC",null,"3EMNREC09YOTHLOCN","4EMNREC09YOTHLOCN","AGE05NOTKEMNREC09YOTHLOCN",null,"<10% Other Loc.","MC","MC","MC","MC","MC","MC","MC",null,0,"PI7Y","HI7EMNREC09YOTHLOCN","AM7EMNREC09YOTHLOCN","AS7EMNREC09YOTHLOCN","BL7EMNREC09YOTHLOCN","PI7EMNREC09YOTHLOCN","WH7EMNREC09YOTHLOCN","MU7EMNREC09YOTHLOCN"]
["Resid Facil","MC","MC","MC",null,"3EMNRFN","4EMNRFN","AGE05NOTKEMNRFN",null,"Resid Facil","MC","MC","MC","MC","MC","MC","MC",null,0,"WH7Y","HI7EMNRFN","AM7EMNRFN","AS7EMNRFN","BL7EMNRFN","PI7EMNRFN","WH7EMNRFN","MU7EMNRFN"]
["Service Prov Loc","MC","MC","MC",null,"3EMNSPLN","4EMNSPLN","AGE05NOTKEMNSPLN",null,"Service Prov Loc","MC","MC","MC","MC","MC","MC","MC",null,0,null,"HI7EMNSPLN","AM7EMNSPLN","AS7EMNSPLN","BL7EMNSPLN","PI7EMNSPLN","WH7EMNSPLN","MU7EMNSPLN"]
["Separate school","MC","MC","MC",null,"3EMNSSN","4EMNSSN","AGE05NOTKEMNSSN",null,"Separate school","MC","MC","MC","MC","MC","MC","MC",null,0,null,"HI7EMNSSN","AM7EMNSSN","AS7EMNSSN","BL7EMNSSN","PI7EMNSSN","WH7EMNSSN","MU7EMNSSN"]
["Total",{"$f":"SUM(B110:B118)","v":0},{"$f":"SUM(C110:C118)","v":0},{"$f":"SUM(D110:D118)","v":0},null,null,null,null,null,"Total",{"$f":"SUM(K110:K118)","v":0},{"$f":"SUM(L110:L118)","v":0},{"$f":"SUM(M110:M118)","v":0},{"$f":"SUM(N110:N118)","v":0},{"$f":"SUM(O110:O118)","v":0},{"$f":"SUM(P110:P118)","v":0},{"$f":"SUM(Q110:Q118)","v":0},null,0]
[]
["Orthopedic Impairment (OI)",null,null,null,null,null,null,null,null,"Orthopedic Impairment (OI)"]
[null,"Age 3","Age 4","Age 5",null,"Age 3","Age 4","Age 5",null,null,"Hispanic/\nLatino","American Indian or Alaskan Native","Asian","Black or African American","Native Hawaiian or Other Pacific Islander","White","Two or more races",null,"Row Total",null,"Hispanic/\nLatino","American Indian or Alaskan Native","Asian","Black or African American","Native Hawaiian or Other Pacific Islander","White","Two or more races"]
["Ed. Environment",null,null,null,null,null,null,null,null,"Ed. Env."]
["Home",{"$f":"IFERROR(IF(INDEX(Ttl_C089,MATCH(F124,CurrentListing_C089,0))=\"\",\"No Data\",INDEX(Ttl_C089,MATCH(F124,CurrentListing_C089,0))),\"MC\")","v":"MC"},{"$f":"IFERROR(IF(INDEX(Ttl_C089,MATCH(G124,CurrentListing_C089,0))=\"\",\"No Data\",INDEX(Ttl_C089,MATCH(G124,CurrentListing_C089,0))),\"MC\")","v":"MC"},{"$f":"IFERROR(IF(INDEX(Ttl_C089,MATCH(H124,CurrentListing_C089,0))=\"\",\"No Data\",INDEX(Ttl_C089,MATCH(H124,CurrentListing_C089,0))),\"MC\")","v":"MC"},null,"3OIHN","4OIHN","AGE05NOTKOIHN",null,"Home",{"$f":"IFERROR(IF(INDEX(Ttl_C089,MATCH(U124,CurrentListing_C089,0))=\"\",\"No Data\",INDEX(Ttl_C089,MATCH(U124,CurrentListing_C089,0))),\"MC\")","v":"MC"},{"$f":"IFERROR(IF(INDEX(Ttl_C089,MATCH(V124,CurrentListing_C089,0))=\"\",\"No Data\",INDEX(Ttl_C089,MATCH(V124,CurrentListing_C089,0))),\"MC\")","v":"MC"},{"$f":"IFERROR(IF(INDEX(Ttl_C089,MATCH(W124,CurrentListing_C089,0))=\"\",\"No Data\",INDEX(Ttl_C089,MATCH(W124,CurrentListing_C089,0))),\"MC\")","v":"MC"},{"$f":"IFERROR(IF(INDEX(Ttl_C089,MATCH(X124,CurrentListing_C089,0))=\"\",\"No Data\",INDEX(Ttl_C089,MATCH(X124,CurrentListing_C089,0))),\"MC\")","v":"MC"},{"$f":"IFERROR(IF(INDEX(Ttl_C089,MATCH(Y124,CurrentListing_C089,0))=\"\",\"No Data\",INDEX(Ttl_C089,MATCH(Y124,CurrentListing_C089,0))),\"MC\")","v":"MC"},{"$f":"IFERROR(IF(INDEX(Ttl_C089,MATCH(Z124,CurrentListing_C089,0))=\"\",\"No Data\",INDEX(Ttl_C089,MATCH(Z124,CurrentListing_C089,0))),\"MC\")","v":"MC"},{"$f":"IFERROR(IF(INDEX(Ttl_C089,MATCH(AA124,CurrentListing_C089,0))=\"\",\"No Data\",INDEX(Ttl_C089,MATCH(AA124,CurrentListing_C089,0))),\"MC\")","v":"MC"},null,{"$f":"SUM(K124:Q124)","v":0},"AM7Y","HI7OIHN","AM7OIHN","AS7OIHN","BL7OIHN","PI7OIHN","WH7OIHN","MU7OIHN"]
[">10% Other Loc.","MC","MC","MC",null,"3OIREC10YOTHLOCN","4OIREC10YOTHLOCN","AGE05NOTKOIREC10YOTHLOCN",null,">10% Other Loc.","MC","MC","MC","MC","MC","MC","MC",null,{"$f":"SUM(K125:Q125)","v":0},"AS7Y","HI7OIREC10YOTHLOCN","AM7OIREC10YOTHLOCN","AS7OIREC10YOTHLOCN","BL7OIREC10YOTHLOCN","PI7OIREC10YOTHLOCN","WH7OIREC10YOTHLOCN","MU7OIREC10YOTHLOCN"]
["Separate Class","MC","MC","MC",null,"3OISCN","4OISCN","AGE05NOTKOISCN",null,"Separate Class","MC","MC","MC","MC","MC","MC","MC",null,0,"BL7Y","HI7OISCN","AM7OISCN","AS7OISCN","BL7OISCN","PI7OISCN","WH7OISCN","MU7OISCN"]
[">10% RegClass","MC","MC","MC",null,"3OIREC10YSVCSN","4OIREC10YSVCSN","AGE05NOTKOIREC10YSVCSN",null,">10% RegClass","MC","MC","MC","MC","MC","MC","MC",null,0,"HI7Y","HI7OIREC10YSVCSN","AM7OIREC10YSVCSN","AS7OIREC10YSVCSN","BL7OIREC10YSVCSN","PI7OIREC10YSVCSN","WH7OIREC10YSVCSN","MU7OIREC10YSVCSN"]
["<10% RegClass","MC","MC","MC",null,"3OIREC09YSVCSN","4OIREC09YSVCSN","AGE05NOTKOIREC09YSVCSN",null,"<10% RegClass","MC","MC","MC","MC","MC","MC","MC",null,0,"MU7Y","HI7OIREC09YSVCSN","AM7OIREC09YSVCSN","AS7OIREC09YSVCSN","BL7OIREC09YSVCSN","PI7OIREC09YSVCSN","WH7OIREC09YSVCSN","MU7OIREC09YSVCSN"]
["<10% Other Loc.","MC","MC","MC",null,"3OIREC09YOTHLOCN","4OIREC09YOTHLOCN","AGE05NOTKOIREC09YOTHLOCN",null,"<10% Other Loc.","MC","MC","MC","MC","MC","MC","MC",null,0,"PI7Y","HI7OIREC09YOTHLOCN","AM7OIREC09YOTHLOCN","AS7OIREC09YOTHLOCN","BL7OIREC09YOTHLOCN","PI7OIREC09YOTHLOCN","WH7OIREC09YOTHLOCN","MU7OIREC09YOTHLOCN"]
["Resid Facil","MC","MC","MC",null,"3OIRFN","4OIRFN","AGE05NOTKOIRFN",null,"Resid Facil","MC","MC","MC","MC","MC","MC","MC",null,0,"WH7Y","HI7OIRFN","AM7OIRFN","AS7OIRFN","BL7OIRFN","PI7OIRFN","WH7OIRFN","MU7OIRFN"]
["Service Prov Loc","MC","MC","MC",null,"3OISPLN","4OISPLN","AGE05NOTKOISPLN",null,"Service Prov Loc","MC","MC","MC","MC","MC","MC","MC",null,0,null,"HI7OISPLN","AM7OISPLN","AS7OISPLN","BL7OISPLN","PI7OISPLN","WH7OISPLN","MU7OISPLN"]
["Separate school","MC","MC","MC",null,"3OISSN","4OISSN","AGE05NOTKOISSN",null,"Separate school","MC","MC","MC","MC","MC","MC","MC",null,0,null,"HI7OISSN","AM7OISSN","AS7OISSN","BL7OISSN","PI7OISSN","WH7OISSN","MU7OISSN"]
["Total",{"$f":"SUM(B124:B132)","v":0},{"$f":"SUM(C124:C132)","v":0},{"$f":"SUM(D124:D132)","v":0},null,null,null,null,null,"Total",{"$f":"SUM(K124:K132)","v":0},{"$f":"SUM(L124:L132)","v":0},{"$f":"SUM(M124:M132)","v":0},{"$f":"SUM(N124:N132)","v":0},{"$f":"SUM(O124:O132)","v":0},{"$f":"SUM(P124:P132)","v":0},{"$f":"SUM(Q124:Q132)","v":0},null,0]
[]
["Other Health Impairment (OHI)",null,null,null,null,null,null,null,null,"Other Health Impairment (OHI)"]
[null,"Age 3","Age 4","Age 5",null,"Age 3","Age 4","Age 5",null,null,"Hispanic/\nLatino","American Indian or Alaskan Native","Asian","Black or African American","Native Hawaiian or Other Pacific Islander","White","Two or more races",null,"Row Total",null,"Hispanic/\nLatino","American Indian or Alaskan Native","Asian","Black or African American","Native Hawaiian or Other Pacific Islander","White","Two or more races"]
["Ed. Environment",null,null,null,null,null,null,null,null,"Ed. Env."]
["Home",{"$f":"IFERROR(IF(INDEX(Ttl_C089,MATCH(F138,CurrentListing_C089,0))=\"\",\"No Data\",INDEX(Ttl_C089,MATCH(F138,CurrentListing_C089,0))),\"MC\")","v":"MC"},{"$f":"IFERROR(IF(INDEX(Ttl_C089,MATCH(G138,CurrentListing_C089,0))=\"\",\"No Data\",INDEX(Ttl_C089,MATCH(G138,CurrentListing_C089,0))),\"MC\")","v":"MC"},{"$f":"IFERROR(IF(INDEX(Ttl_C089,MATCH(H138,CurrentListing_C089,0))=\"\",\"No Data\",INDEX(Ttl_C089,MATCH(H138,CurrentListing_C089,0))),\"MC\")","v":"MC"},null,"3OHIHN","4OHIHN","AGE05NOTKOHIHN",null,"Home",{"$f":"IFERROR(IF(INDEX(Ttl_C089,MATCH(U138,CurrentListing_C089,0))=\"\",\"No Data\",INDEX(Ttl_C089,MATCH(U138,CurrentListing_C089,0))),\"MC\")","v":"MC"},{"$f":"IFERROR(IF(INDEX(Ttl_C089,MATCH(V138,CurrentListing_C089,0))=\"\",\"No Data\",INDEX(Ttl_C089,MATCH(V138,CurrentListing_C089,0))),\"MC\")","v":"MC"},{"$f":"IFERROR(IF(INDEX(Ttl_C089,MATCH(W138,CurrentListing_C089,0))=\"\",\"No Data\",INDEX(Ttl_C089,MATCH(W138,CurrentListing_C089,0))),\"MC\")","v":"MC"},{"$f":"IFERROR(IF(INDEX(Ttl_C089,MATCH(X138,CurrentListing_C089,0))=\"\",\"No Data\",INDEX(Ttl_C089,MATCH(X138,CurrentListing_C089,0))),\"MC\")","v":"MC"},{"$f":"IFERROR(IF(INDEX(Ttl_C089,MATCH(Y138,CurrentListing_C089,0))=\"\",\"No Data\",INDEX(Ttl_C089,MATCH(Y138,CurrentListing_C089,0))),\"MC\")","v":"MC"},{"$f":"IFERROR(IF(INDEX(Ttl_C089,MATCH(Z138,CurrentListing_C089,0))=\"\",\"No Data\",INDEX(Ttl_C089,MATCH(Z138,CurrentListing_C089,0))),\"MC\")","v":"MC"},{"$f":"IFERROR(IF(INDEX(Ttl_C089,MATCH(AA138,CurrentListing_C089,0))=\"\",\"No Data\",INDEX(Ttl_C089,MATCH(AA138,CurrentListing_C089,0))),\"MC\")","v":"MC"},null,{"$f":"SUM(K138:Q138)","v":0},"AM7Y","HI7OHIHN","AM7OHIHN","AS7OHIHN","BL7OHIHN","PI7OHIHN","WH7OHIHN","MU7OHIHN"]
[">10% Other Loc.","MC","MC","MC",null,"3OHIREC10YOTHLOCN","4OHIREC10YOTHLOCN","AGE05NOTKOHIREC10YOTHLOCN",null,">10% Other Loc.","MC","MC","MC","MC","MC","MC","MC",null,{"$f":"SUM(K139:Q139)","v":0},"AS7Y","HI7OHIREC10YOTHLOCN","AM7OHIREC10YOTHLOCN","AS7OHIREC10YOTHLOCN","BL7OHIREC10YOTHLOCN","PI7OHIREC10YOTHLOCN","WH7OHIREC10YOTHLOCN","MU7OHIREC10YOTHLOCN"]
["Separate Class","MC","MC","MC",null,"3OHISCN","4OHISCN","AGE05NOTKOHISCN",null,"Separate Class","MC","MC","MC","MC","MC","MC","MC",null,0,"BL7Y","HI7OHISCN","AM7OHISCN","AS7OHISCN","BL7OHISCN","PI7OHISCN","WH7OHISCN","MU7OHISCN"]
[">10% RegClass","MC","MC","MC",null,"3OHIREC10YSVCSN","4OHIREC10YSVCSN","AGE05NOTKOHIREC10YSVCSN",null,">10% RegClass","MC","MC","MC","MC","MC","MC","MC",null,0,"HI7Y","HI7OHIREC10YSVCSN","AM7OHIREC10YSVCSN","AS7OHIREC10YSVCSN","BL7OHIREC10YSVCSN","PI7OHIREC10YSVCSN","WH7OHIREC10YSVCSN","MU7OHIREC10YSVCSN"]
["<10% RegClass","MC","MC","MC",null,"3OHIREC09YSVCSN","4OHIREC09YSVCSN","AGE05NOTKOHIREC09YSVCSN",null,"<10% RegClass","MC","MC","MC","MC","MC","MC","MC",null,0,"MU7Y","HI7OHIREC09YSVCSN","AM7OHIREC09YSVCSN","AS7OHIREC09YSVCSN","BL7OHIREC09YSVCSN","PI7OHIREC09YSVCSN","WH7OHIREC09YSVCSN","MU7OHIREC09YSVCSN"]
["<10% Other Loc.","MC","MC","MC",null,"3OHIREC09YOTHLOCN","4OHIREC09YOTHLOCN","AGE05NOTKOHIREC09YOTHLOCN",null,"<10% Other Loc.","MC","MC","MC","MC","MC","MC","MC",null,0,"PI7Y","HI7OHIREC09YOTHLOCN","AM7OHIREC09YOTHLOCN","AS7OHIREC09YOTHLOCN","BL7OHIREC09YOTHLOCN","PI7OHIREC09YOTHLOCN","WH7OHIREC09YOTHLOCN","MU7OHIREC09YOTHLOCN"]
["Resid Facil","MC","MC","MC",null,"3OHIRFN","4OHIRFN","AGE05NOTKOHIRFN",null,"Resid Facil","MC","MC","MC","MC","MC","MC","MC",null,0,"WH7Y","HI7OHIRFN","AM7OHIRFN","AS7OHIRFN","BL7OHIRFN","PI7OHIRFN","WH7OHIRFN","MU7OHIRFN"]
["Service Prov Loc","MC","MC","MC",null,"3OHISPLN","4OHISPLN","AGE05NOTKOHISPLN",null,"Service Prov Loc","MC","MC","MC","MC","MC","MC","MC",null,0,null,"HI7OHISPLN","AM7OHISPLN","AS7OHISPLN","BL7OHISPLN","PI7OHISPLN","WH7OHISPLN","MU7OHISPLN"]
["Separate school","MC","MC","MC",null,"3OHISSN","4OHISSN","AGE05NOTKOHISSN",null,"Separate school","MC","MC","MC","MC","MC","MC","MC",null,0,null,"HI7OHISSN","AM7OHISSN","AS7OHISSN","BL7OHISSN","PI7OHISSN","WH7OHISSN","MU7OHISSN"]
["Total",{"$f":"SUM(B138:B146)","v":0},{"$f":"SUM(C138:C146)","v":0},{"$f":"SUM(D138:D146)","v":0},null,null,null,null,null,"Total",{"$f":"SUM(K138:K146)","v":0},{"$f":"SUM(L138:L146)","v":0},{"$f":"SUM(M138:M146)","v":0},{"$f":"SUM(N138:N146)","v":0},{"$f":"SUM(O138:O146)","v":0},{"$f":"SUM(P138:P146)","v":0},{"$f":"SUM(Q138:Q146)","v":0},null,0]
[]
["Specific Learning Disability (SLD)",null,null,null,null,null,null,null,null,"Specific Learning Disability (SLD)"]
[null,"Age 3","Age 4","Age 5",null,"Age 3","Age 4","Age 5",null,null,"Hispanic/\nLatino","American Indian or Alaskan Native","Asian","Black or African American","Native Hawaiian or Other Pacific Islander","White","Two or more races",null,"Row Total",null,"Hispanic/\nLatino","American Indian or Alaskan Native","Asian","Black or African American","Native Hawaiian or Other Pacific Islander","White","Two or more races"]
["Ed. Environment",null,null,null,null,null,null,null,null,"Ed. Env."]
["Home",{"$f":"IFERROR(IF(INDEX(Ttl_C089,MATCH(F152,CurrentListing_C089,0))=\"\",\"No Data\",INDEX(Ttl_C089,MATCH(F152,CurrentListing_C089,0))),\"MC\")","v":"MC"},{"$f":"IFERROR(IF(INDEX(Ttl_C089,MATCH(G152,CurrentListing_C089,0))=\"\",\"No Data\",INDEX(Ttl_C089,MATCH(G152,CurrentListing_C089,0))),\"MC\")","v":"MC"},{"$f":"IFERROR(IF(INDEX(Ttl_C089,MATCH(H152,CurrentListing_C089,0))=\"\",\"No Data\",INDEX(Ttl_C089,MATCH(H152,CurrentListing_C089,0))),\"MC\")","v":"MC"},null,"3SLDHN","4SLDHN","AGE05NOTKSLDHN",null,"Home",{"$f":"IFERROR(IF(INDEX(Ttl_C089,MATCH(U152,CurrentListing_C089,0))=\"\",\"No Data\",INDEX(Ttl_C089,MATCH(U152,CurrentListing_C089,0))),\"MC\")","v":"MC"},{"$f":"IFERROR(IF(INDEX(Ttl_C089,MATCH(V152,CurrentListing_C089,0))=\"\",\"No Data\",INDEX(Ttl_C089,MATCH(V152,CurrentListing_C089,0))),\"MC\")","v":"MC"},{"$f":"IFERROR(IF(INDEX(Ttl_C089,MATCH(W152,CurrentListing_C089,0))=\"\",\"No Data\",INDEX(Ttl_C089,MATCH(W152,CurrentListing_C089,0))),\"MC\")","v":"MC"},{"$f":"IFERROR(IF(INDEX(Ttl_C089,MATCH(X152,CurrentListing_C089,0))=\"\",\"No Data\",INDEX(Ttl_C089,MATCH(X152,CurrentListing_C089,0))),\"MC\")","v":"MC"},{"$f":"IFERROR(IF(INDEX(Ttl_C089,MATCH(Y152,CurrentListing_C089,0))=\"\",\"No Data\",INDEX(Ttl_C089,MATCH(Y152,CurrentListing_C089,0))),\"MC\")","v":"MC"},{"$f":"IFERROR(IF(INDEX(Ttl_C089,MATCH(Z152,CurrentListing_C089,0))=\"\",\"No Data\",INDEX(Ttl_C089,MATCH(Z152,CurrentListing_C089,0))),\"MC\")","v":"MC"},{"$f":"IFERROR(IF(INDEX(Ttl_C089,MATCH(AA152,CurrentListing_C089,0))=\"\",\"No Data\",INDEX(Ttl_C089,MATCH(AA152,CurrentListing_C089,0))),\"MC\")","v":"MC"},null,{"$f":"SUM(K152:Q152)","v":0},"AM7Y","HI7SLDHN","AM7SLDHN","AS7SLDHN","BL7SLDHN","PI7SLDHN","WH7SLDHN","MU7SLDHN"]
[">10% Other Loc.","MC","MC","MC",null,"3SLDREC10YOTHLOCN","4SLDREC10YOTHLOCN","AGE05NOTKSLDREC10YOTHLOCN",null,">10% Other Loc.","MC","MC","MC","MC","MC","MC","MC",null,{"$f":"SUM(K153:Q153)","v":0},"AS7Y","HI7SLDREC10YOTHLOCN","AM7SLDREC10YOTHLOCN","AS7SLDREC10YOTHLOCN","BL7SLDREC10YOTHLOCN","PI7SLDREC10YOTHLOCN","WH7SLDREC10YOTHLOCN","MU7SLDREC10YOTHLOCN"]
["Separate Class","MC","MC","MC",null,"3SLDSCN","4SLDSCN","AGE05NOTKSLDSCN",null,"Separate Class","MC","MC","MC","MC","MC","MC","MC",null,0,"BL7Y","HI7SLDSCN","AM7SLDSCN","AS7SLDSCN","BL7SLDSCN","PI7SLDSCN","WH7SLDSCN","MU7SLDSCN"]
[">10% RegClass","MC","MC","MC",null,"3SLDREC10YSVCSN","4SLDREC10YSVCSN","AGE05NOTKSLDREC10YSVCSN",null,">10% RegClass","MC","MC","MC","MC","MC","MC","MC",null,0,"HI7Y","HI7SLDREC10YSVCSN","AM7SLDREC10YSVCSN","AS7SLDREC10YSVCSN","BL7SLDREC10YSVCSN","PI7SLDREC10YSVCSN","WH7SLDREC10YSVCSN","MU7SLDREC10YSVCSN"]
["<10% RegClass","MC","MC","MC",null,"3SLDREC09YSVCSN","4SLDREC09YSVCSN","AGE05NOTKSLDREC09YSVCSN",null,"<10% RegClass","MC","MC","MC","MC","MC","MC","MC",null,0,"MU7Y","HI7SLDREC09YSVCSN","AM7SLDREC09YSVCSN","AS7SLDREC09YSVCSN","BL7SLDREC09YSVCSN","PI7SLDREC09YSVCSN","WH7SLDREC09YSVCSN","MU7SLDREC09YSVCSN"]
["<10% Other Loc.","MC","MC","MC",null,"3SLDREC09YOTHLOCN","4SLDREC09YOTHLOCN","AGE05NOTKSLDREC09YOTHLOCN",null,"<10% Other Loc.","MC","MC","MC","MC","MC","MC","MC",null,0,"PI7Y","HI7SLDREC09YOTHLOCN","AM7SLDREC09YOTHLOCN","AS7SLDREC09YOTHLOCN","BL7SLDREC09YOTHLOCN","PI7SLDREC09YOTHLOCN","WH7SLDREC09YOTHLOCN","MU7SLDREC09YOTHLOCN"]
["Resid Facil","MC","MC","MC",null,"3SLDRFN","4SLDRFN","AGE05NOTKSLDRFN",null,"Resid Facil","MC","MC","MC","MC","MC","MC","MC",null,0,"WH7Y","HI7SLDRFN","AM7SLDRFN","AS7SLDRFN","BL7SLDRFN","PI7SLDRFN","WH7SLDRFN","MU7SLDRFN"]
["Service Prov Loc","MC","MC","MC",null,"3SLDSPLN","4SLDSPLN","AGE05NOTKSLDSPLN",null,"Service Prov Loc","MC","MC","MC","MC","MC","MC","MC",null,0,null,"HI7SLDSPLN","AM7SLDSPLN","AS7SLDSPLN","BL7SLDSPLN","PI7SLDSPLN","WH7SLDSPLN","MU7SLDSPLN"]
["Separate school","MC","MC","MC",null,"3SLDSSN","4SLDSSN","AGE05NOTKSLDSSN",null,"Separate school","MC","MC","MC","MC","MC","MC","MC",null,0,null,"HI7SLDSSN","AM7SLDSSN","AS7SLDSSN","BL7SLDSSN","PI7SLDSSN","WH7SLDSSN","MU7SLDSSN"]
["Total",{"$f":"SUM(B152:B160)","v":0},{"$f":"SUM(C152:C160)","v":0},{"$f":"SUM(D152:D160)","v":0},null,null,null,null,null,"Total",{"$f":"SUM(K152:K160)","v":0},{"$f":"SUM(L152:L160)","v":0},{"$f":"SUM(M152:M160)","v":0},{"$f":"SUM(N152:N160)","v":0},{"$f":"SUM(O152:O160)","v":0},{"$f":"SUM(P152:P160)","v":0},{"$f":"SUM(Q152:Q160)","v":0},null,0]
[]
["Deaf-Blindness (DB)",null,null,null,null,null,null,null,null,"Deaf-Blindness (DB)"]
[null,"Age 3","Age 4","Age 5",null,"Age 3","Age 4","Age 5",null,null,"Hispanic/\nLatino","American Indian or Alaskan Native","Asian","Black or African American","Native Hawaiian or Other Pacific Islander","White","Two or more races",null,"Row Total",null,"Hispanic/\nLatino","American Indian or Alaskan Native","Asian","Black or African American","Native Hawaiian or Other Pacific Islander","White","Two or more races"]
["Ed. Environment",null,null,null,null,null,null,null,null,"Ed. Env."]
["Home",{"$f":"IFERROR(IF(INDEX(Ttl_C089,MATCH(F166,CurrentListing_C089,0))=\"\",\"No Data\",INDEX(Ttl_C089,MATCH(F166,CurrentListing_C089,0))),\"MC\")","v":"MC"},{"$f":"IFERROR(IF(INDEX(Ttl_C089,MATCH(G166,CurrentListing_C089,0))=\"\",\"No Data\",INDEX(Ttl_C089,MATCH(G166,CurrentListing_C089,0))),\"MC\")","v":"MC"},{"$f":"IFERROR(IF(INDEX(Ttl_C089,MATCH(H166,CurrentListing_C089,0))=\"\",\"No Data\",INDEX(Ttl_C089,MATCH(H166,CurrentListing_C089,0))),\"MC\")","v":"MC"},null,"3DBHN","4DBHN","AGE05NOTKDBHN",null,"Home",{"$f":"IFERROR(IF(INDEX(Ttl_C089,MATCH(U166,CurrentListing_C089,0))=\"\",\"No Data\",INDEX(Ttl_C089,MATCH(U166,CurrentListing_C089,0))),\"MC\")","v":"MC"},{"$f":"IFERROR(IF(INDEX(Ttl_C089,MATCH(V166,CurrentListing_C089,0))=\"\",\"No Data\",INDEX(Ttl_C089,MATCH(V166,CurrentListing_C089,0))),\"MC\")","v":"MC"},{"$f":"IFERROR(IF(INDEX(Ttl_C089,MATCH(W166,CurrentListing_C089,0))=\"\",\"No Data\",INDEX(Ttl_C089,MATCH(W166,CurrentListing_C089,0))),\"MC\")","v":"MC"},{"$f":"IFERROR(IF(INDEX(Ttl_C089,MATCH(X166,CurrentListing_C089,0))=\"\",\"No Data\",INDEX(Ttl_C089,MATCH(X166,CurrentListing_C089,0))),\"MC\")","v":"MC"},{"$f":"IFERROR(IF(INDEX(Ttl_C089,MATCH(Y166,CurrentListing_C089,0))=\"\",\"No Data\",INDEX(Ttl_C089,MATCH(Y166,CurrentListing_C089,0))),\"MC\")","v":"MC"},{"$f":"IFERROR(IF(INDEX(Ttl_C089,MATCH(Z166,CurrentListing_C089,0))=\"\",\"No Data\",INDEX(Ttl_C089,MATCH(Z166,CurrentListing_C089,0))),\"MC\")","v":"MC"},{"$f":"IFERROR(IF(INDEX(Ttl_C089,MATCH(AA166,CurrentListing_C089,0))=\"\",\"No Data\",INDEX(Ttl_C089,MATCH(AA166,CurrentListing_C089,0))),\"MC\")","v":"MC"},null,{"$f":"SUM(K166:Q166)","v":0},"AM7Y","HI7DBHN","AM7DBHN","AS7DBHN","BL7DBHN","PI7DBHN","WH7DBHN","MU7DBHN"]
[">10% Other Loc.","MC","MC","MC",null,"3DBREC10YOTHLOCN","4DBREC10YOTHLOCN","AGE05NOTKDBREC10YOTHLOCN",null,">10% Other Loc.","MC","MC","MC","MC","MC","MC","MC",null,{"$f":"SUM(K167:Q167)","v":0},"AS7Y","HI7DBREC10YOTHLOCN","AM7DBREC10YOTHLOCN","AS7DBREC10YOTHLOCN","BL7DBREC10YOTHLOCN","PI7DBREC10YOTHLOCN","WH7DBREC10YOTHLOCN","MU7DBREC10YOTHLOCN"]
["Separate Class","MC","MC","MC",null,"3DBSCN","4DBSCN","AGE05NOTKDBSCN",null,"Separate Class","MC","MC","MC","MC","MC","MC","MC",null,0,"BL7Y","HI7DBSCN","AM7DBSCN","AS7DBSCN","BL7DBSCN","PI7DBSCN","WH7DBSCN","MU7DBSCN"]
[">10% RegClass","MC","MC","MC",null,"3DBREC10YSVCSN","4DBREC10YSVCSN","AGE05NOTKDBREC10YSVCSN",null,">10% RegClass","MC","MC","MC","MC","MC","MC","MC",null,0,"HI7Y","HI7DBREC10YSVCSN","AM7DBREC10YSVCSN","AS7DBREC10YSVCSN","BL7DBREC10YSVCSN","PI7DBREC10YSVCSN","WH7DBREC10YSVCSN","MU7DBREC10YSVCSN"]
["<10% RegClass","MC","MC","MC",null,"3DBREC09YSVCSN","4DBREC09YSVCSN","AGE05NOTKDBREC09YSVCSN",null,"<10% RegClass","MC","MC","MC","MC","MC","MC","MC",null,0,"MU7Y","HI7DBREC09YSVCSN","AM7DBREC09YSVCSN","AS7DBREC09YSVCSN","BL7DBREC09YSVCSN","PI7DBREC09YSVCSN","WH7DBREC09YSVCSN","MU7DBREC09YSVCSN"]
["<10% Other Loc.","MC","MC","MC",null,"3DBREC09YOTHLOCN","4DBREC09YOTHLOCN","AGE05NOTKDBREC09YOTHLOCN",null,"<10% Other Loc.","MC","MC","MC","MC","MC","MC","MC",null,0,"PI7Y","HI7DBREC09YOTHLOCN","AM7DBREC09YOTHLOCN","AS7DBREC09YOTHLOCN","BL7DBREC09YOTHLOCN","PI7DBREC09YOTHLOCN","WH7DBREC09YOTHLOCN","MU7DBREC09YOTHLOCN"]
["Resid Facil","MC","MC","MC",null,"3DBRFN","4DBRFN","AGE05NOTKDBRFN",null,"Resid Facil","MC","MC","MC","MC","MC","MC","MC",null,0,"WH7Y","HI7DBRFN","AM7DBRFN","AS7DBRFN","BL7DBRFN","PI7DBRFN","WH7DBRFN","MU7DBRFN"]
["Service Prov Loc","MC","MC","MC",null,"3DBSPLN","4DBSPLN","AGE05NOTKDBSPLN",null,"Service Prov Loc","MC","MC","MC","MC","MC","MC","MC",null,0,null,"HI7DBSPLN","AM7DBSPLN","AS7DBSPLN","BL7DBSPLN","PI7DBSPLN","WH7DBSPLN","MU7DBSPLN"]
["Separate school","MC","MC","MC",null,"3DBSSN","4DBSSN","AGE05NOTKDBSSN",null,"Separate school","MC","MC","MC","MC","MC","MC","MC",null,0,null,"HI7DBSSN","AM7DBSSN","AS7DBSSN","BL7DBSSN","PI7DBSSN","WH7DBSSN","MU7DBSSN"]
["Total",{"$f":"SUM(B166:B174)","v":0},{"$f":"SUM(C166:C174)","v":0},{"$f":"SUM(D166:D174)","v":0},null,null,null,null,null,"Total",{"$f":"SUM(K166:K174)","v":0},{"$f":"SUM(L166:L174)","v":0},{"$f":"SUM(M166:M174)","v":0},{"$f":"SUM(N166:N174)","v":0},{"$f":"SUM(O166:O174)","v":0},{"$f":"SUM(P166:P174)","v":0},{"$f":"SUM(Q166:Q174)","v":0},null,0]
[]
["Multiple Disabilities (MD)",null,null,null,null,null,null,null,null,"Multiple Disabilities (MD)"]
[null,"Age 3","Age 4","Age 5",null,"Age 3","Age 4","Age 5",null,null,"Hispanic/\nLatino","American Indian or Alaskan Native","Asian","Black or African American","Native Hawaiian or Other Pacific Islander","White","Two or more races",null,"Row Total",null,"Hispanic/\nLatino","American Indian or Alaskan Native","Asian","Black or African American","Native Hawaiian or Other Pacific Islander","White","Two or more races"]
["Ed. Environment",null,null,null,null,null,null,null,null,"Ed. Env."]
["Home",{"$f":"IFERROR(IF(INDEX(Ttl_C089,MATCH(F180,CurrentListing_C089,0))=\"\",\"No Data\",INDEX(Ttl_C089,MATCH(F180,CurrentListing_C089,0))),\"MC\")","v":"MC"},{"$f":"IFERROR(IF(INDEX(Ttl_C089,MATCH(G180,CurrentListing_C089,0))=\"\",\"No Data\",INDEX(Ttl_C089,MATCH(G180,CurrentListing_C089,0))),\"MC\")","v":"MC"},{"$f":"IFERROR(IF(INDEX(Ttl_C089,MATCH(H180,CurrentListing_C089,0))=\"\",\"No Data\",INDEX(Ttl_C089,MATCH(H180,CurrentListing_C089,0))),\"MC\")","v":"MC"},null,"3MDHN","4MDHN","AGE05NOTKMDHN",null,"Home",{"$f":"IFERROR(IF(INDEX(Ttl_C089,MATCH(U180,CurrentListing_C089,0))=\"\",\"No Data\",INDEX(Ttl_C089,MATCH(U180,CurrentListing_C089,0))),\"MC\")","v":"MC"},{"$f":"IFERROR(IF(INDEX(Ttl_C089,MATCH(V180,CurrentListing_C089,0))=\"\",\"No Data\",INDEX(Ttl_C089,MATCH(V180,CurrentListing_C089,0))),\"MC\")","v":"MC"},{"$f":"IFERROR(IF(INDEX(Ttl_C089,MATCH(W180,CurrentListing_C089,0))=\"\",\"No Data\",INDEX(Ttl_C089,MATCH(W180,CurrentListing_C089,0))),\"MC\")","v":"MC"},{"$f":"IFERROR(IF(INDEX(Ttl_C089,MATCH(X180,CurrentListing_C089,0))=\"\",\"No Data\",INDEX(Ttl_C089,MATCH(X180,CurrentListing_C089,0))),\"MC\")","v":"MC"},{"$f":"IFERROR(IF(INDEX(Ttl_C089,MATCH(Y180,CurrentListing_C089,0))=\"\",\"No Data\",INDEX(Ttl_C089,MATCH(Y180,CurrentListing_C089,0))),\"MC\")","v":"MC"},{"$f":"IFERROR(IF(INDEX(Ttl_C089,MATCH(Z180,CurrentListing_C089,0))=\"\",\"No Data\",INDEX(Ttl_C089,MATCH(Z180,CurrentListing_C089,0))),\"MC\")","v":"MC"},{"$f":"IFERROR(IF(INDEX(Ttl_C089,MATCH(AA180,CurrentListing_C089,0))=\"\",\"No Data\",INDEX(Ttl_C089,MATCH(AA180,CurrentListing_C089,0))),\"MC\")","v":"MC"},null,{"$f":"SUM(K180:Q180)","v":0},"AM7Y","HI7MDHN","AM7MDHN","AS7MDHN","BL7MDHN","PI7MDHN","WH7MDHN","MU7MDHN"]
[">10% Other Loc.","MC","MC","MC",null,"3MDREC10YOTHLOCN","4MDREC10YOTHLOCN","AGE05NOTKMDREC10YOTHLOCN",null,">10% Other Loc.","MC","MC","MC","MC","MC","MC","MC",null,{"$f":"SUM(K181:Q181)","v":0},"AS7Y","HI7MDREC10YOTHLOCN","AM7MDREC10YOTHLOCN","AS7MDREC10YOTHLOCN","BL7MDREC10YOTHLOCN","PI7MDREC10YOTHLOCN","WH7MDREC10YOTHLOCN","MU7MDREC10YOTHLOCN"]
["Separate Class","MC","MC","MC",null,"3MDSCN","4MDSCN","AGE05NOTKMDSCN",null,"Separate Class","MC","MC","MC","MC","MC","MC","MC",null,0,"BL7Y","HI7MDSCN","AM7MDSCN","AS7MDSCN","BL7MDSCN","PI7MDSCN","WH7MDSCN","MU7MDSCN"]
[">10% RegClass","MC","MC","MC",null,"3MDREC10YSVCSN","4MDREC10YSVCSN","AGE05NOTKMDREC10YSVCSN",null,">10% RegClass","MC","MC","MC","MC","MC","MC","MC",null,0,"HI7Y","HI7MDREC10YSVCSN","AM7MDREC10YSVCSN","AS7MDREC10YSVCSN","BL7MDREC10YSVCSN","PI7MDREC10YSVCSN","WH7MDREC10YSVCSN","MU7MDREC10YSVCSN"]
["<10% RegClass","MC","MC","MC",null,"3MDREC09YSVCSN","4MDREC09YSVCSN","AGE05NOTKMDREC09YSVCSN",null,"<10% RegClass","MC","MC","MC","MC","MC","MC","MC",null,0,"MU7Y","HI7MDREC09YSVCSN","AM7MDREC09YSVCSN","AS7MDREC09YSVCSN","BL7MDREC09YSVCSN","PI7MDREC09YSVCSN","WH7MDREC09YSVCSN","MU7MDREC09YSVCSN"]
["<10% Other Loc.","MC","MC","MC",null,"3MDREC09YOTHLOCN","4MDREC09YOTHLOCN","AGE05NOTKMDREC09YOTHLOCN",null,"<10% Other Loc.","MC","MC","MC","MC","MC","MC","MC",null,0,"PI7Y","HI7MDREC09YOTHLOCN","AM7MDREC09YOTHLOCN","AS7MDREC09YOTHLOCN","BL7MDREC09YOTHLOCN","PI7MDREC09YOTHLOCN","WH7MDREC09YOTHLOCN","MU7MDREC09YOTHLOCN"]
["Resid Facil","MC","MC","MC",null,"3MDRFN","4MDRFN","AGE05NOTKMDRFN",null,"Resid Facil","MC","MC","MC","MC","MC","MC","MC",null,0,"WH7Y","HI7MDRFN","AM7MDRFN","AS7MDRFN","BL7MDRFN","PI7MDRFN","WH7MDRFN","MU7MDRFN"]
["Service Prov Loc","MC","MC","MC",null,"3MDSPLN","4MDSPLN","AGE05NOTKMDSPLN",null,"Service Prov Loc","MC","MC","MC","MC","MC","MC","MC",null,0,null,"HI7MDSPLN","AM7MDSPLN","AS7MDSPLN","BL7MDSPLN","PI7MDSPLN","WH7MDSPLN","MU7MDSPLN"]
["Separate school","MC","MC","MC",null,"3MDSSN","4MDSSN","AGE05NOTKMDSSN",null,"Separate school","MC","MC","MC","MC","MC","MC","MC",null,0,null,"HI7MDSSN","AM7MDSSN","AS7MDSSN","BL7MDSSN","PI7MDSSN","WH7MDSSN","MU7MDSSN"]
["Total",{"$f":"SUM(B180:B188)","v":0},{"$f":"SUM(C180:C188)","v":0},{"$f":"SUM(D180:D188)","v":0},null,null,null,null,null,"Total",{"$f":"SUM(K180:K188)","v":0},{"$f":"SUM(L180:L188)","v":0},{"$f":"SUM(M180:M188)","v":0},{"$f":"SUM(N180:N188)","v":0},{"$f":"SUM(O180:O188)","v":0},{"$f":"SUM(P180:P188)","v":0},{"$f":"SUM(Q180:Q188)","v":0},null,0]
[]
["Autism (AUT)",null,null,null,null,null,null,null,null,"Autism (AUT)"]
[null,"Age 3","Age 4","Age 5",null,"Age 3","Age 4","Age 5",null,null,"Hispanic/\nLatino","American Indian or Alaskan Native","Asian","Black or African American","Native Hawaiian or Other Pacific Islander","White","Two or more races",null,"Row Total",null,"Hispanic/\nLatino","American Indian or Alaskan Native","Asian","Black or African American","Native Hawaiian or Other Pacific Islander","White","Two or more races"]
["Ed. Environment",null,null,null,null,null,null,null,null,"Ed. Env."]
["Home",{"$f":"IFERROR(IF(INDEX(Ttl_C089,MATCH(F194,CurrentListing_C089,0))=\"\",\"No Data\",INDEX(Ttl_C089,MATCH(F194,CurrentListing_C089,0))),\"MC\")","v":"MC"},{"$f":"IFERROR(IF(INDEX(Ttl_C089,MATCH(G194,CurrentListing_C089,0))=\"\",\"No Data\",INDEX(Ttl_C089,MATCH(G194,CurrentListing_C089,0))),\"MC\")","v":"MC"},{"$f":"IFERROR(IF(INDEX(Ttl_C089,MATCH(H194,CurrentListing_C089,0))=\"\",\"No Data\",INDEX(Ttl_C089,MATCH(H194,CurrentListing_C089,0))),\"MC\")","v":"MC"},null,"3AUTHN","4AUTHN","AGE05NOTKAUTHN",null,"Home",{"$f":"IFERROR(IF(INDEX(Ttl_C089,MATCH(U194,CurrentListing_C089,0))=\"\",\"No Data\",INDEX(Ttl_C089,MATCH(U194,CurrentListing_C089,0))),\"MC\")","v":"MC"},{"$f":"IFERROR(IF(INDEX(Ttl_C089,MATCH(V194,CurrentListing_C089,0))=\"\",\"No Data\",INDEX(Ttl_C089,MATCH(V194,CurrentListing_C089,0))),\"MC\")","v":"MC"},{"$f":"IFERROR(IF(INDEX(Ttl_C089,MATCH(W194,CurrentListing_C089,0))=\"\",\"No Data\",INDEX(Ttl_C089,MATCH(W194,CurrentListing_C089,0))),\"MC\")","v":"MC"},{"$f":"IFERROR(IF(INDEX(Ttl_C089,MATCH(X194,CurrentListing_C089,0))=\"\",\"No Data\",INDEX(Ttl_C089,MATCH(X194,CurrentListing_C089,0))),\"MC\")","v":"MC"},{"$f":"IFERROR(IF(INDEX(Ttl_C089,MATCH(Y194,CurrentListing_C089,0))=\"\",\"No Data\",INDEX(Ttl_C089,MATCH(Y194,CurrentListing_C089,0))),\"MC\")","v":"MC"},{"$f":"IFERROR(IF(INDEX(Ttl_C089,MATCH(Z194,CurrentListing_C089,0))=\"\",\"No Data\",INDEX(Ttl_C089,MATCH(Z194,CurrentListing_C089,0))),\"MC\")","v":"MC"},{"$f":"IFERROR(IF(INDEX(Ttl_C089,MATCH(AA194,CurrentListing_C089,0))=\"\",\"No Data\",INDEX(Ttl_C089,MATCH(AA194,CurrentListing_C089,0))),\"MC\")","v":"MC"},null,{"$f":"SUM(K194:Q194)","v":0},"AM7Y","HI7AUTHN","AM7AUTHN","AS7AUTHN","BL7AUTHN","PI7AUTHN","WH7AUTHN","MU7AUTHN"]
[">10% Other Loc.","MC","MC","MC",null,"3AUTREC10YOTHLOCN","4AUTREC10YOTHLOCN","AGE05NOTKAUTREC10YOTHLOCN",null,">10% Other Loc.","MC","MC","MC","MC","MC","MC","MC",null,{"$f":"SUM(K195:Q195)","v":0},"AS7Y","HI7AUTREC10YOTHLOCN","AM7AUTREC10YOTHLOCN","AS7AUTREC10YOTHLOCN","BL7AUTREC10YOTHLOCN","PI7AUTREC10YOTHLOCN","WH7AUTREC10YOTHLOCN","MU7AUTREC10YOTHLOCN"]
["Separate Class","MC","MC","MC",null,"3AUTSCN","4AUTSCN","AGE05NOTKAUTSCN",null,"Separate Class","MC","MC","MC","MC","MC","MC","MC",null,0,"BL7Y","HI7AUTSCN","AM7AUTSCN","AS7AUTSCN","BL7AUTSCN","PI7AUTSCN","WH7AUTSCN","MU7AUTSCN"]
[">10% RegClass","MC","MC","MC",null,"3AUTREC10YSVCSN","4AUTREC10YSVCSN","AGE05NOTKAUTREC10YSVCSN",null,">10% RegClass","MC","MC","MC","MC","MC","MC","MC",null,0,"HI7Y","HI7AUTREC10YSVCSN","AM7AUTREC10YSVCSN","AS7AUTREC10YSVCSN","BL7AUTREC10YSVCSN","PI7AUTREC10YSVCSN","WH7AUTREC10YSVCSN","MU7AUTREC10YSVCSN"]
["<10% RegClass","MC","MC","MC",null,"3AUTREC09YSVCSN","4AUTREC09YSVCSN","AGE05NOTKAUTREC09YSVCSN",null,"<10% RegClass","MC","MC","MC","MC","MC","MC","MC",null,0,"MU7Y","HI7AUTREC09YSVCSN","AM7AUTREC09YSVCSN","AS7AUTREC09YSVCSN","BL7AUTREC09YSVCSN","PI7AUTREC09YSVCSN","WH7AUTREC09YSVCSN","MU7AUTREC09YSVCSN"]
["<10% Other Loc.","MC","MC","MC",null,"3AUTREC09YOTHLOCN","4AUTREC09YOTHLOCN","AGE05NOTKAUTREC09YOTHLOCN",null,"<10% Other Loc.","MC","MC","MC","MC","MC","MC","MC",null,0,"PI7Y","HI7AUTREC09YOTHLOCN","AM7AUTREC09YOTHLOCN","AS7AUTREC09YOTHLOCN","BL7AUTREC09YOTHLOCN","PI7AUTREC09YOTHLOCN","WH7AUTREC09YOTHLOCN","MU7AUTREC09YOTHLOCN"]
["Resid Facil","MC","MC","MC",null,"3AUTRFN","4AUTRFN","AGE05NOTKAUTRFN",null,"Resid Facil","MC","MC","MC","MC","MC","MC","MC",null,0,"WH7Y","HI7AUTRFN","AM7AUTRFN","AS7AUTRFN","BL7AUTRFN","PI7AUTRFN","WH7AUTRFN","MU7AUTRFN"]
["Service Prov Loc","MC","MC","MC",null,"3AUTSPLN","4AUTSPLN","AGE05NOTKAUTSPLN",null,"Service Prov Loc","MC","MC","MC","MC","MC","MC","MC",null,0,null,"HI7AUTSPLN","AM7AUTSPLN","AS7AUTSPLN","BL7AUTSPLN","PI7AUTSPLN","WH7AUTSPLN","MU7AUTSPLN"]
["Separate school","MC","MC","MC",null,"3AUTSSN","4AUTSSN","AGE05NOTKAUTSSN",null,"Separate school","MC","MC","MC","MC","MC","MC","MC",null,0,null,"HI7AUTSSN","AM7AUTSSN","AS7AUTSSN","BL7AUTSSN","PI7AUTSSN","WH7AUTSSN","MU7AUTSSN"]
["Total",{"$f":"SUM(B194:B202)","v":0},{"$f":"SUM(C194:C202)","v":0},{"$f":"SUM(D194:D202)","v":0},null,null,null,null,null,"Total",{"$f":"SUM(K194:K202)","v":0},{"$f":"SUM(L194:L202)","v":0},{"$f":"SUM(M194:M202)","v":0},{"$f":"SUM(N194:N202)","v":0},{"$f":"SUM(O194:O202)","v":0},{"$f":"SUM(P194:P202)","v":0},{"$f":"SUM(Q194:Q202)","v":0},null,0]
[]
["Traumatic Brain Injury (TBI)",null,null,null,null,null,null,null,null,"Traumatic Brain Injury (TBI)"]
[null,"Age 3","Age 4","Age 5",null,"Age 3","Age 4","Age 5",null,null,"Hispanic/\nLatino","American Indian or Alaskan Native","Asian","Black or African American","Native Hawaiian or Other Pacific Islander","White","Two or more races",null,"Row Total",null,"Hispanic/\nLatino","American Indian or Alaskan Native","Asian","Black or African American","Native Hawaiian or Other Pacific Islander","White","Two or more races"]
["Ed. Environment",null,null,null,null,null,null,null,null,"Ed. Env."]
["Home",{"$f":"IFERROR(IF(INDEX(Ttl_C089,MATCH(F208,CurrentListing_C089,0))=\"\",\"No Data\",INDEX(Ttl_C089,MATCH(F208,CurrentListing_C089,0))),\"MC\")","v":"MC"},{"$f":"IFERROR(IF(INDEX(Ttl_C089,MATCH(G208,CurrentListing_C089,0))=\"\",\"No Data\",INDEX(Ttl_C089,MATCH(G208,CurrentListing_C089,0))),\"MC\")","v":"MC"},{"$f":"IFERROR(IF(INDEX(Ttl_C089,MATCH(H208,CurrentListing_C089,0))=\"\",\"No Data\",INDEX(Ttl_C089,MATCH(H208,CurrentListing_C089,0))),\"MC\")","v":"MC"},null,"3TBIHN","4TBIHN","AGE05NOTKTBIHN",null,"Home",{"$f":"IFERROR(IF(INDEX(Ttl_C089,MATCH(U208,CurrentListing_C089,0))=\"\",\"No Data\",INDEX(Ttl_C089,MATCH(U208,CurrentListing_C089,0))),\"MC\")","v":"MC"},{"$f":"IFERROR(IF(INDEX(Ttl_C089,MATCH(V208,CurrentListing_C089,0))=\"\",\"No Data\",INDEX(Ttl_C089,MATCH(V208,CurrentListing_C089,0))),\"MC\")","v":"MC"},{"$f":"IFERROR(IF(INDEX(Ttl_C089,MATCH(W208,CurrentListing_C089,0))=\"\",\"No Data\",INDEX(Ttl_C089,MATCH(W208,CurrentListing_C089,0))),\"MC\")","v":"MC"},{"$f":"IFERROR(IF(INDEX(Ttl_C089,MATCH(X208,CurrentListing_C089,0))=\"\",\"No Data\",INDEX(Ttl_C089,MATCH(X208,CurrentListing_C089,0))),\"MC\")","v":"MC"},{"$f":"IFERROR(IF(INDEX(Ttl_C089,MATCH(Y208,CurrentListing_C089,0))=\"\",\"No Data\",INDEX(Ttl_C089,MATCH(Y208,CurrentListing_C089,0))),\"MC\")","v":"MC"},{"$f":"IFERROR(IF(INDEX(Ttl_C089,MATCH(Z208,CurrentListing_C089,0))=\"\",\"No Data\",INDEX(Ttl_C089,MATCH(Z208,CurrentListing_C089,0))),\"MC\")","v":"MC"},{"$f":"IFERROR(IF(INDEX(Ttl_C089,MATCH(AA208,CurrentListing_C089,0))=\"\",\"No Data\",INDEX(Ttl_C089,MATCH(AA208,CurrentListing_C089,0))),\"MC\")","v":"MC"},null,{"$f":"SUM(K208:Q208)","v":0},"AM7Y","HI7TBIHN","AM7TBIHN","AS7TBIHN","BL7TBIHN","PI7TBIHN","WH7TBIHN","MU7TBIHN"]
[">10% Other Loc.","MC","MC","MC",null,"3TBIREC10YOTHLOCN","4TBIREC10YOTHLOCN","AGE05NOTKTBIREC10YOTHLOCN",null,">10% Other Loc.","MC","MC","MC","MC","MC","MC","MC",null,{"$f":"SUM(K209:Q209)","v":0},"AS7Y","HI7TBIREC10YOTHLOCN","AM7TBIREC10YOTHLOCN","AS7TBIREC10YOTHLOCN","BL7TBIREC10YOTHLOCN","PI7TBIREC10YOTHLOCN","WH7TBIREC10YOTHLOCN","MU7TBIREC10YOTHLOCN"]
["Separate Class","MC","MC","MC",null,"3TBISCN","4TBISCN","AGE05NOTKTBISCN",null,"Separate Class","MC","MC","MC","MC","MC","MC","MC",null,0,"BL7Y","HI7TBISCN","AM7TBISCN","AS7TBISCN","BL7TBISCN","PI7TBISCN","WH7TBISCN","MU7TBISCN"]
[">10% RegClass","MC","MC","MC",null,"3TBIREC10YSVCSN","4TBIREC10YSVCSN","AGE05NOTKTBIREC10YSVCSN",null,">10% RegClass","MC","MC","MC","MC","MC","MC","MC",null,0,"HI7Y","HI7TBIREC10YSVCSN","AM7TBIREC10YSVCSN","AS7TBIREC10YSVCSN","BL7TBIREC10YSVCSN","PI7TBIREC10YSVCSN","WH7TBIREC10YSVCSN","MU7TBIREC10YSVCSN"]
["<10% RegClass","MC","MC","MC",null,"3TBIREC09YSVCSN","4TBIREC09YSVCSN","AGE05NOTKTBIREC09YSVCSN",null,"<10% RegClass","MC","MC","MC","MC","MC","MC","MC",null,0,"MU7Y","HI7TBIREC09YSVCSN","AM7TBIREC09YSVCSN","AS7TBIREC09YSVCSN","BL7TBIREC09YSVCSN","PI7TBIREC09YSVCSN","WH7TBIREC09YSVCSN","MU7TBIREC09YSVCSN"]
["<10% Other Loc.","MC","MC","MC",null,"3TBIREC09YOTHLOCN","4TBIREC09YOTHLOCN","AGE05NOTKTBIREC09YOTHLOCN",null,"<10% Other Loc.","MC","MC","MC","MC","MC","MC","MC",null,0,"PI7Y","HI7TBIREC09YOTHLOCN","AM7TBIREC09YOTHLOCN","AS7TBIREC09YOTHLOCN","BL7TBIREC09YOTHLOCN","PI7TBIREC09YOTHLOCN","WH7TBIREC09YOTHLOCN","MU7TBIREC09YOTHLOCN"]
["Resid Facil","MC","MC","MC",null,"3TBIRFN","4TBIRFN","AGE05NOTKTBIRFN",null,"Resid Facil","MC","MC","MC","MC","MC","MC","MC",null,0,"WH7Y","HI7TBIRFN","AM7TBIRFN","AS7TBIRFN","BL7TBIRFN","PI7TBIRFN","WH7TBIRFN","MU7TBIRFN"]
["Service Prov Loc","MC","MC","MC",null,"3TBISPLN","4TBISPLN","AGE05NOTKTBISPLN",null,"Service Prov Loc","MC","MC","MC","MC","MC","MC","MC",null,0,null,"HI7TBISPLN","AM7TBISPLN","AS7TBISPLN","BL7TBISPLN","PI7TBISPLN","WH7TBISPLN","MU7TBISPLN"]
["Separate school","MC","MC","MC",null,"3TBISSN","4TBISSN","AGE05NOTKTBISSN",null,"Separate school","MC","MC","MC","MC","MC","MC","MC",null,0,null,"HI7TBISSN","AM7TBISSN","AS7TBISSN","BL7TBISSN","PI7TBISSN","WH7TBISSN","MU7TBISSN"]
["Total",{"$f":"SUM(B208:B216)","v":0},{"$f":"SUM(C208:C216)","v":0},{"$f":"SUM(D208:D216)","v":0},null,null,null,null,null,"Total",{"$f":"SUM(K208:K216)","v":0},{"$f":"SUM(L208:L216)","v":0},{"$f":"SUM(M208:M216)","v":0},{"$f":"SUM(N208:N216)","v":0},{"$f":"SUM(O208:O216)","v":0},{"$f":"SUM(P208:P216)","v":0},{"$f":"SUM(Q208:Q216)","v":0},null,0]
[]
["Developmental Delay1 (DD)",null,null,null,null,null,null,null,null,"Developmental Delay1 (DD)"]
[null,"Age 3","Age 4","Age 5",null,"Age 3","Age 4","Age 5",null,null,"Hispanic/\nLatino","American Indian or Alaskan Native","Asian","Black or African American","Native Hawaiian or Other Pacific Islander","White","Two or more races",null,"Row Total",null,"Hispanic/\nLatino","American Indian or Alaskan Native","Asian","Black or African American","Native Hawaiian or Other Pacific Islander","White","Two or more races"]
["Ed. Environment",null,null,null,null,null,null,null,null,"Ed. Env."]
["Home",{"$f":"IFERROR(IF(INDEX(Ttl_C089,MATCH(F222,CurrentListing_C089,0))=\"\",\"No Data\",INDEX(Ttl_C089,MATCH(F222,CurrentListing_C089,0))),\"MC\")","v":"MC"},{"$f":"IFERROR(IF(INDEX(Ttl_C089,MATCH(G222,CurrentListing_C089,0))=\"\",\"No Data\",INDEX(Ttl_C089,MATCH(G222,CurrentListing_C089,0))),\"MC\")","v":"MC"},{"$f":"IFERROR(IF(INDEX(Ttl_C089,MATCH(H222,CurrentListing_C089,0))=\"\",\"No Data\",INDEX(Ttl_C089,MATCH(H222,CurrentListing_C089,0))),\"MC\")","v":"MC"},null,"3DDHN","4DDHN","AGE05NOTKDDHN",null,"Home",{"$f":"IFERROR(IF(INDEX(Ttl_C089,MATCH(U222,CurrentListing_C089,0))=\"\",\"No Data\",INDEX(Ttl_C089,MATCH(U222,CurrentListing_C089,0))),\"MC\")","v":"MC"},{"$f":"IFERROR(IF(INDEX(Ttl_C089,MATCH(V222,CurrentListing_C089,0))=\"\",\"No Data\",INDEX(Ttl_C089,MATCH(V222,CurrentListing_C089,0))),\"MC\")","v":"MC"},{"$f":"IFERROR(IF(INDEX(Ttl_C089,MATCH(W222,CurrentListing_C089,0))=\"\",\"No Data\",INDEX(Ttl_C089,MATCH(W222,CurrentListing_C089,0))),\"MC\")","v":"MC"},{"$f":"IFERROR(IF(INDEX(Ttl_C089,MATCH(X222,CurrentListing_C089,0))=\"\",\"No Data\",INDEX(Ttl_C089,MATCH(X222,CurrentListing_C089,0))),\"MC\")","v":"MC"},{"$f":"IFERROR(IF(INDEX(Ttl_C089,MATCH(Y222,CurrentListing_C089,0))=\"\",\"No Data\",INDEX(Ttl_C089,MATCH(Y222,CurrentListing_C089,0))),\"MC\")","v":"MC"},{"$f":"IFERROR(IF(INDEX(Ttl_C089,MATCH(Z222,CurrentListing_C089,0))=\"\",\"No Data\",INDEX(Ttl_C089,MATCH(Z222,CurrentListing_C089,0))),\"MC\")","v":"MC"},{"$f":"IFERROR(IF(INDEX(Ttl_C089,MATCH(AA222,CurrentListing_C089,0))=\"\",\"No Data\",INDEX(Ttl_C089,MATCH(AA222,CurrentListing_C089,0))),\"MC\")","v":"MC"},null,{"$f":"SUM(K222:Q222)","v":0},"AM7Y","HI7DDHN","AM7DDHN","AS7DDHN","BL7DDHN","PI7DDHN","WH7DDHN","MU7DDHN"]
[">10% Other Loc.","MC","MC","MC",null,"3DDREC10YOTHLOCN","4DDREC10YOTHLOCN","AGE05NOTKDDREC10YOTHLOCN",null,">10% Other Loc.","MC","MC","MC","MC","MC","MC","MC",null,{"$f":"SUM(K223:Q223)","v":0},"AS7Y","HI7DDREC10YOTHLOCN","AM7DDREC10YOTHLOCN","AS7DDREC10YOTHLOCN","BL7DDREC10YOTHLOCN","PI7DDREC10YOTHLOCN","WH7DDREC10YOTHLOCN","MU7DDREC10YOTHLOCN"]
["Separate Class","MC","MC","MC",null,"3DDSCN","4DDSCN","AGE05NOTKDDSCN",null,"Separate Class","MC","MC","MC","MC","MC","MC","MC",null,0,"BL7Y","HI7DDSCN","AM7DDSCN","AS7DDSCN","BL7DDSCN","PI7DDSCN","WH7DDSCN","MU7DDSCN"]
[">10% RegClass","MC","MC","MC",null,"3DDREC10YSVCSN","4DDREC10YSVCSN","AGE05NOTKDDREC10YSVCSN",null,">10% RegClass","MC","MC","MC","MC","MC","MC","MC",null,0,"HI7Y","HI7DDREC10YSVCSN","AM7DDREC10YSVCSN","AS7DDREC10YSVCSN","BL7DDREC10YSVCSN","PI7DDREC10YSVCSN","WH7DDREC10YSVCSN","MU7DDREC10YSVCSN"]
["<10% RegClass","MC","MC","MC",null,"3DDREC09YSVCSN","4DDREC09YSVCSN","AGE05NOTKDDREC09YSVCSN",null,"<10% RegClass","MC","MC","MC","MC","MC","MC","MC",null,0,"MU7Y","HI7DDREC09YSVCSN","AM7DDREC09YSVCSN","AS7DDREC09YSVCSN","BL7DDREC09YSVCSN","PI7DDREC09YSVCSN","WH7DDREC09YSVCSN","MU7DDREC09YSVCSN"]
["<10% Other Loc.","MC","MC","MC",null,"3DDREC09YOTHLOCN","4DDREC09YOTHLOCN","AGE05NOTKDDREC09YOTHLOCN",null,"<10% Other Loc.","MC","MC","MC","MC","MC","MC","MC",null,0,"PI7Y","HI7DDREC09YOTHLOCN","AM7DDREC09YOTHLOCN","AS7DDREC09YOTHLOCN","BL7DDREC09YOTHLOCN","PI7DDREC09YOTHLOCN","WH7DDREC09YOTHLOCN","MU7DDREC09YOTHLOCN"]
["Resid Facil","MC","MC","MC",null,"3DDRFN","4DDRFN","AGE05NOTKDDRFN",null,"Resid Facil","MC","MC","MC","MC","MC","MC","MC",null,0,"WH7Y","HI7DDRFN","AM7DDRFN","AS7DDRFN","BL7DDRFN","PI7DDRFN","WH7DDRFN","MU7DDRFN"]
["Service Prov Loc","MC","MC","MC",null,"3DDSPLN","4DDSPLN","AGE05NOTKDDSPLN",null,"Service Prov Loc","MC","MC","MC","MC","MC","MC","MC",null,0,null,"HI7DDSPLN","AM7DDSPLN","AS7DDSPLN","BL7DDSPLN","PI7DDSPLN","WH7DDSPLN","MU7DDSPLN"]
["Separate school","MC","MC","MC",null,"3DDSSN","4DDSSN","AGE05NOTKDDSSN",null,"Separate school","MC","MC","MC","MC","MC","MC","MC",null,0,null,"HI7DDSSN","AM7DDSSN","AS7DDSSN","BL7DDSSN","PI7DDSSN","WH7DDSSN","MU7DDSSN"]
["Total",{"$f":"SUM(B222:B230)","v":0},{"$f":"SUM(C222:C230)","v":0},{"$f":"SUM(D222:D230)","v":0},null,null,null,null,null,"Total",{"$f":"SUM(K222:K230)","v":0},{"$f":"SUM(L222:L230)","v":0},{"$f":"SUM(M222:M230)","v":0},{"$f":"SUM(N222:N230)","v":0},{"$f":"SUM(O222:O230)","v":0},{"$f":"SUM(P222:P230)","v":0},{"$f":"SUM(Q222:Q230)","v":0},null,0]